{"text_format":"1","workbook":"xlsx","n_sheets":13,"sheets":["Registration","Aussie Round","Accuracy","MTA","Trick Catch","Fast Catch","Endurance","Master Score Sheet","Advanced Score Sheet","Intermediate Score Sheet","Beginner Score Sheet","Senior Score Sheet","Junior Score Sheet"],"not_rendered":{"charts":0,"images":1,"macros":1,"external_links":0,"defined_names":0,"comments":0,"pivot_tables":0},"unopened":[],"bounds":{"document_bytes":16777216,"sheet_cells":100000,"rows_first":2000,"rows_last":500,"rows_between":2000,"halvings":0,"cell_chars":16384,"cell_head_chars":4096},"cells_cut":0,"cells_raw":0,"read":"whole","date_system":"1900"}

{"sheet":"Registration","index":0,"n_rows":101,"n_cols":11,"rows_kept":101,"cut":false,"hidden":false,"merged":[]}
[null,"Name","Division","Junior",null,null,null,null,"Instructions:",null,"Alternate Instructions:"]
[null,null,null,null,{"$f":"IF(COUNTBLANK(C2)=1,\"\",IF(C2=\"B\",\"N\",IF(C2=\"I\",\"O\",IF(C2=\"A\",\"S\",C2))))","v":""},null,{"$f":"IF(COUNTBLANK(B2)=1,\"\",RAND())","v":""},null,"Enter B for Beginner",null,"Enter N for Novice"]
[null,null,null,null,{"$f":"IF(COUNTBLANK(C3)=1,\"\",IF(C3=\"B\",\"N\",IF(C3=\"I\",\"O\",IF(C3=\"A\",\"S\",C3))))","v":""},null,{"$f":"IF(COUNTBLANK(B3)=1,\"\",RAND())","v":""},null,"Enter I for Intermediate",null,"Enter O for Open"]
[null,null,null,null,"",null,"",null,"Enter A for Advanced",null,"Enter S for Sport"]
[null,null,null,null,"",null,"",null,"Enter SR for Senior Division (exclusive of BIA divisions)"]
[null,null,null,null,"",null,"",null,"Enter J in Junior Column for Junior Division"]
[null,null,null,null,"",null,"",null,"If there are no Divisions, leave blank."]
[null,null,null,null,"",null,"",null,"Click on the USBA logo below to randomize the order."]
[null,null,null,null,"",null,"",null,"(Do not re-randomize after scores are entered on the event sheets.)"]
[null,null,null,null,"",null,"",null,"This spreadsheet is no longer limited to ties of less than 6 throwers"]
[null,null,null,null,"",null,"",null,"Number of Throwers:",{"$f":"COUNTA(B2:B101)","v":0}]
[null,null,null,null,"",null,""]
[null,null,null,null,"",null,""]
[null,null,null,null,"",null,""]
[null,null,null,null,"",null,""]
[null,null,null,null,"",null,""]
[null,null,null,null,"",null,""]
[null,null,null,null,"",null,""]
[null,null,null,null,"",null,""]
[null,null,null,null,"",null,""]
[null,null,null,null,"",null,""]
[null,null,null,null,"",null,""]
[null,null,null,null,"",null,""]
[null,null,null,null,"",null,""]
[null,null,null,null,"",null,""]
[null,null,null,null,"",null,""]
[null,null,null,null,"",null,""]
["",null,null,null,"",null,""]
["",null,null,null,"",null,""]
["",null,null,null,"",null,""]
["",null,null,null,"",null,""]
["",null,null,null,"",null,""]
["",null,null,null,"",null,""]
["",null,null,null,"",null,""]
["",null,null,null,"",null,""]
["",null,null,null,"",null,""]
["",null,null,null,"",null,""]
["",null,null,null,"",null,""]
["",null,null,null,"",null,""]
["",null,null,null,"",null,""]
["",null,null,null,"",null,""]
["",null,null,null,"",null,""]
["",null,null,null,"",null,""]
["",null,null,null,"",null,""]
["",null,null,null,"",null,""]
["",null,null,null,"",null,""]
["",null,null,null,"",null,""]
["",null,null,null,"",null,""]
["",null,null,null,"",null,""]
["",null,null,null,"",null,""]
["",null,null,null,"",null,""]
["",null,null,null,"",null,""]
["",null,null,null,"",null,""]
["",null,null,null,"",null,""]
["",null,null,null,"",null,""]
["",null,null,null,"",null,""]
["",null,null,null,"",null,""]
["",null,null,null,"",null,""]
["",null,null,null,"",null,""]
["",null,null,null,"",null,""]
["",null,null,null,"",null,""]
["",null,null,null,"",null,""]
["",null,null,null,"",null,""]
["",null,null,null,"",null,""]
["",null,null,null,"",null,""]
["",null,null,null,"",null,""]
["",null,null,null,{"$f":"IF(COUNTBLANK(C67)=1,\"\",IF(C67=\"B\",\"N\",IF(C67=\"I\",\"O\",IF(C67=\"A\",\"S\",C67))))","v":""},null,{"$f":"IF(COUNTBLANK(B67)=1,\"\",RAND())","v":""}]
["",null,null,null,"",null,""]
["",null,null,null,"",null,""]
["",null,null,null,"",null,""]
["",null,null,null,"",null,""]
["",null,null,null,"",null,""]
["",null,null,null,"",null,""]
["",null,null,null,"",null,""]
["",null,null,null,"",null,""]
["",null,null,null,"",null,""]
["",null,null,null,"",null,""]
["",null,null,null,"",null,""]
["",null,null,null,"",null,""]
["",null,null,null,"",null,""]
["",null,null,null,"",null,""]
["",null,null,null,"",null,""]
["",null,null,null,"",null,""]
["",null,null,null,"",null,""]
["",null,null,null,"",null,""]
["",null,null,null,"",null,""]
["",null,null,null,"",null,""]
["",null,null,null,"",null,""]
["",null,null,null,"",null,""]
["",null,null,null,"",null,""]
["",null,null,null,"",null,""]
["",null,null,null,"",null,""]
["",null,null,null,"",null,""]
["",null,null,null,"",null,""]
["",null,null,null,"",null,""]
["",null,null,null,"",null,""]
["",null,null,null,"",null,""]
["",null,null,null,"",null,""]
["",null,null,null,"",null,""]
["",null,null,null,"",null,""]
["",null,null,null,"",null,""]

{"sheet":"Aussie Round","index":1,"n_rows":102,"n_cols":35,"rows_kept":102,"cut":false,"hidden":false,"merged":[[0,17,0,20],[0,1,0,4],[0,5,0,8],[0,9,0,12],[0,13,0,16]]}
[{"$f":"Registration!B1","v":"Name"},"1rst Throw",null,null,null,"2nd Throw",null,null,null,"3rdThrow",null,null,null,"4th Throw",null,null,null,"Fifth Throw",null,null,null,"Total","Place","Points",null,"Points","Total","Name",null,"SA","OI","NB","JW","Division","Category"]
[null,"Range","Catch","Accuracy","Sub-Total","Range","Catch","Accuracy","Sub-Total","Range","Catch","Accuracy","Sub-Total","Range","Catch","Accuracy","Sub-Total","Range","Catch","Accuracy","Sub-Total"]
[{"$f":"IF(COUNTBLANK(Registration!B2)=1,\"\",Registration!B2)","v":""},null,null,null,{"$f":"IF(OR(COUNTBLANK($A3)=1,COUNTBLANK(B3:D3)=3),\"\",SUM(B3:D3))","v":""},null,null,null,{"$f":"IF(OR(COUNTBLANK($A3)=1,COUNTBLANK(F3:H3)=3),\"\",SUM(F3:H3))","v":""},null,null,null,{"$f":"IF(OR(COUNTBLANK($A3)=1,COUNTBLANK(J3:L3)=3),\"\",SUM(J3:L3))","v":""},null,null,null,{"$f":"IF(OR(COUNTBLANK($A3)=1,COUNTBLANK(N3:P3)=3),\"\",SUM(N3:P3))","v":""},null,null,null,{"$f":"IF(OR(COUNTBLANK($A3)=1,COUNTBLANK(R3:T3)=3),\"\",SUM(R3:T3))","v":""},{"$f":"IF(OR(COUNTBLANK($A3)=1,AND(COUNTBLANK(E3)=1,COUNTBLANK(I3)=1,COUNTBLANK(M3)=1,COUNTBLANK(Q3)=1,COUNTBLANK(U3)=1)),\"\",SUM(U3,Q3,M3,I3,E3))","v":""},{"$f":"IF(OR(COUNTBLANK($A3)=1,COUNTBLANK(V3)=1),\"\",RANK(V3,$V$3:$V$102,0))","v":""},{"$f":"IF(OR(COUNTBLANK($A3)=1,COUNTBLANK(V3)=1),\"\",placingpoints(W3,COUNTIF(W$3:W$102,\"=\"&W3)))","v":""},null,null,null,null,null,{"$f":"IF(COUNTBLANK(AB3)=1,\"\",IF(OR(AH3=LEFT(AD$1,1),AH3=RIGHT(AD$1,1)),COUNTIF(AH$2:AH3,LEFT(AD$1,1))+COUNTIF(AH$2:AH3,RIGHT(AD$1,1)),\"\"))","v":""},{"$f":"IF(COUNTBLANK(AB3)=1,\"\",IF(OR(AH3=LEFT(AE$1,1),AH3=RIGHT(AE$1,1)),COUNTIF(AH$2:AH3,LEFT(AE$1,1))+COUNTIF(AH$2:AH3,RIGHT(AE$1,1)),\"\"))","v":""},{"$f":"IF(COUNTBLANK(AB3)=1,\"\",IF(OR(AH3=LEFT(AF$1,1),AH3=RIGHT(AF$1,1)),COUNTIF(AH$2:AH3,LEFT(AF$1,1))+COUNTIF(AH$2:AH3,RIGHT(AF$1,1)),\"\"))","v":""},{"$f":"IF(COUNTBLANK(AB3)=1,\"\",IF(OR(AI3=LEFT(AG$1,1),AI3=RIGHT(AG$1,1)),COUNTIF(AI$2:AI3,LEFT(AG$1,1))+COUNTIF(AI$2:AI3,RIGHT(AG$1,1)),\"\"))","v":""},{"$f":"IF(COUNTBLANK(AB3)=1,\"\",INDEX(Registration!$C$2:$C$101,MATCH(AB3,Registration!$B$2:$B$101,0)))","v":""},{"$f":"IF(COUNTBLANK(AB3)=1,\"\",IF(COUNTBLANK(INDEX(Registration!$D$2:$D$101,MATCH(AB3,Registration!$B$2:$B$101,0)))=1,\"\",INDEX(Registration!$D$2:$D$101,MATCH(AB3,Registration!$B$2:$B$101,0))))","v":""}]
[{"$f":"IF(COUNTBLANK(Registration!B3)=1,\"\",Registration!B3)","v":""},null,null,null,"",null,null,null,"",null,null,null,"",null,null,null,"",null,null,null,"","",{"$f":"IF(OR(COUNTBLANK($A4)=1,COUNTBLANK(V4)=1),\"\",RANK(V4,$V$3:$V$102,0))","v":""},{"$f":"IF(OR(COUNTBLANK($A4)=1,COUNTBLANK(V4)=1),\"\",placingpoints(W4,COUNTIF(W$3:W$102,\"=\"&W4)))","v":""},null,null,null,null,null,{"$f":"IF(COUNTBLANK(AB4)=1,\"\",IF(OR(AH4=LEFT(AD$1,1),AH4=RIGHT(AD$1,1)),COUNTIF(AH$2:AH4,LEFT(AD$1,1))+COUNTIF(AH$2:AH4,RIGHT(AD$1,1)),\"\"))","v":""},{"$f":"IF(COUNTBLANK(AB4)=1,\"\",IF(OR(AH4=LEFT(AE$1,1),AH4=RIGHT(AE$1,1)),COUNTIF(AH$2:AH4,LEFT(AE$1,1))+COUNTIF(AH$2:AH4,RIGHT(AE$1,1)),\"\"))","v":""},{"$f":"IF(COUNTBLANK(AB4)=1,\"\",IF(OR(AH4=LEFT(AF$1,1),AH4=RIGHT(AF$1,1)),COUNTIF(AH$2:AH4,LEFT(AF$1,1))+COUNTIF(AH$2:AH4,RIGHT(AF$1,1)),\"\"))","v":""},{"$f":"IF(COUNTBLANK(AB4)=1,\"\",IF(OR(AI4=LEFT(AG$1,1),AI4=RIGHT(AG$1,1)),COUNTIF(AI$2:AI4,LEFT(AG$1,1))+COUNTIF(AI$2:AI4,RIGHT(AG$1,1)),\"\"))","v":""},{"$f":"IF(COUNTBLANK(AB4)=1,\"\",INDEX(Registration!$C$2:$C$101,MATCH(AB4,Registration!$B$2:$B$101,0)))","v":""},{"$f":"IF(COUNTBLANK(AB4)=1,\"\",IF(COUNTBLANK(INDEX(Registration!$D$2:$D$101,MATCH(AB4,Registration!$B$2:$B$101,0)))=1,\"\",INDEX(Registration!$D$2:$D$101,MATCH(AB4,Registration!$B$2:$B$101,0))))","v":""}]
[{"$f":"IF(COUNTBLANK(Registration!B4)=1,\"\",Registration!B4)","v":""},null,null,null,"",null,null,null,"",null,null,null,"",null,null,null,"",null,null,null,"","","","",null,null,null,null,null,{"$f":"IF(COUNTBLANK(AB5)=1,\"\",IF(OR(AH5=LEFT(AD$1,1),AH5=RIGHT(AD$1,1)),COUNTIF(AH$2:AH5,LEFT(AD$1,1))+COUNTIF(AH$2:AH5,RIGHT(AD$1,1)),\"\"))","v":""},{"$f":"IF(COUNTBLANK(AB5)=1,\"\",IF(OR(AH5=LEFT(AE$1,1),AH5=RIGHT(AE$1,1)),COUNTIF(AH$2:AH5,LEFT(AE$1,1))+COUNTIF(AH$2:AH5,RIGHT(AE$1,1)),\"\"))","v":""},{"$f":"IF(COUNTBLANK(AB5)=1,\"\",IF(OR(AH5=LEFT(AF$1,1),AH5=RIGHT(AF$1,1)),COUNTIF(AH$2:AH5,LEFT(AF$1,1))+COUNTIF(AH$2:AH5,RIGHT(AF$1,1)),\"\"))","v":""},{"$f":"IF(COUNTBLANK(AB5)=1,\"\",IF(OR(AI5=LEFT(AG$1,1),AI5=RIGHT(AG$1,1)),COUNTIF(AI$2:AI5,LEFT(AG$1,1))+COUNTIF(AI$2:AI5,RIGHT(AG$1,1)),\"\"))","v":""},{"$f":"IF(COUNTBLANK(AB5)=1,\"\",INDEX(Registration!$C$2:$C$101,MATCH(AB5,Registration!$B$2:$B$101,0)))","v":""},{"$f":"IF(COUNTBLANK(AB5)=1,\"\",IF(COUNTBLANK(INDEX(Registration!$D$2:$D$101,MATCH(AB5,Registration!$B$2:$B$101,0)))=1,\"\",INDEX(Registration!$D$2:$D$101,MATCH(AB5,Registration!$B$2:$B$101,0))))","v":""}]
[{"$f":"IF(COUNTBLANK(Registration!B5)=1,\"\",Registration!B5)","v":""},null,null,null,"",null,null,null,"",null,null,null,"",null,null,null,"",null,null,null,"","","","",null,null,null,null,null,{"$f":"IF(COUNTBLANK(AB6)=1,\"\",IF(OR(AH6=LEFT(AD$1,1),AH6=RIGHT(AD$1,1)),COUNTIF(AH$2:AH6,LEFT(AD$1,1))+COUNTIF(AH$2:AH6,RIGHT(AD$1,1)),\"\"))","v":""},{"$f":"IF(COUNTBLANK(AB6)=1,\"\",IF(OR(AH6=LEFT(AE$1,1),AH6=RIGHT(AE$1,1)),COUNTIF(AH$2:AH6,LEFT(AE$1,1))+COUNTIF(AH$2:AH6,RIGHT(AE$1,1)),\"\"))","v":""},{"$f":"IF(COUNTBLANK(AB6)=1,\"\",IF(OR(AH6=LEFT(AF$1,1),AH6=RIGHT(AF$1,1)),COUNTIF(AH$2:AH6,LEFT(AF$1,1))+COUNTIF(AH$2:AH6,RIGHT(AF$1,1)),\"\"))","v":""},{"$f":"IF(COUNTBLANK(AB6)=1,\"\",IF(OR(AI6=LEFT(AG$1,1),AI6=RIGHT(AG$1,1)),COUNTIF(AI$2:AI6,LEFT(AG$1,1))+COUNTIF(AI$2:AI6,RIGHT(AG$1,1)),\"\"))","v":""},{"$f":"IF(COUNTBLANK(AB6)=1,\"\",INDEX(Registration!$C$2:$C$101,MATCH(AB6,Registration!$B$2:$B$101,0)))","v":""},{"$f":"IF(COUNTBLANK(AB6)=1,\"\",IF(COUNTBLANK(INDEX(Registration!$D$2:$D$101,MATCH(AB6,Registration!$B$2:$B$101,0)))=1,\"\",INDEX(Registration!$D$2:$D$101,MATCH(AB6,Registration!$B$2:$B$101,0))))","v":""}]
[{"$f":"IF(COUNTBLANK(Registration!B6)=1,\"\",Registration!B6)","v":""},null,null,null,"",null,null,null,"",null,null,null,"",null,null,null,"",null,null,null,"","","","",null,null,null,null,null,{"$f":"IF(COUNTBLANK(AB7)=1,\"\",IF(OR(AH7=LEFT(AD$1,1),AH7=RIGHT(AD$1,1)),COUNTIF(AH$2:AH7,LEFT(AD$1,1))+COUNTIF(AH$2:AH7,RIGHT(AD$1,1)),\"\"))","v":""},{"$f":"IF(COUNTBLANK(AB7)=1,\"\",IF(OR(AH7=LEFT(AE$1,1),AH7=RIGHT(AE$1,1)),COUNTIF(AH$2:AH7,LEFT(AE$1,1))+COUNTIF(AH$2:AH7,RIGHT(AE$1,1)),\"\"))","v":""},{"$f":"IF(COUNTBLANK(AB7)=1,\"\",IF(OR(AH7=LEFT(AF$1,1),AH7=RIGHT(AF$1,1)),COUNTIF(AH$2:AH7,LEFT(AF$1,1))+COUNTIF(AH$2:AH7,RIGHT(AF$1,1)),\"\"))","v":""},{"$f":"IF(COUNTBLANK(AB7)=1,\"\",IF(OR(AI7=LEFT(AG$1,1),AI7=RIGHT(AG$1,1)),COUNTIF(AI$2:AI7,LEFT(AG$1,1))+COUNTIF(AI$2:AI7,RIGHT(AG$1,1)),\"\"))","v":""},{"$f":"IF(COUNTBLANK(AB7)=1,\"\",INDEX(Registration!$C$2:$C$101,MATCH(AB7,Registration!$B$2:$B$101,0)))","v":""},{"$f":"IF(COUNTBLANK(AB7)=1,\"\",IF(COUNTBLANK(INDEX(Registration!$D$2:$D$101,MATCH(AB7,Registration!$B$2:$B$101,0)))=1,\"\",INDEX(Registration!$D$2:$D$101,MATCH(AB7,Registration!$B$2:$B$101,0))))","v":""}]
[{"$f":"IF(COUNTBLANK(Registration!B7)=1,\"\",Registration!B7)","v":""},null,null,null,"",null,null,null,"",null,null,null,"",null,null,null,"",null,null,null,"","","","",null,null,null,null,null,{"$f":"IF(COUNTBLANK(AB8)=1,\"\",IF(OR(AH8=LEFT(AD$1,1),AH8=RIGHT(AD$1,1)),COUNTIF(AH$2:AH8,LEFT(AD$1,1))+COUNTIF(AH$2:AH8,RIGHT(AD$1,1)),\"\"))","v":""},{"$f":"IF(COUNTBLANK(AB8)=1,\"\",IF(OR(AH8=LEFT(AE$1,1),AH8=RIGHT(AE$1,1)),COUNTIF(AH$2:AH8,LEFT(AE$1,1))+COUNTIF(AH$2:AH8,RIGHT(AE$1,1)),\"\"))","v":""},{"$f":"IF(COUNTBLANK(AB8)=1,\"\",IF(OR(AH8=LEFT(AF$1,1),AH8=RIGHT(AF$1,1)),COUNTIF(AH$2:AH8,LEFT(AF$1,1))+COUNTIF(AH$2:AH8,RIGHT(AF$1,1)),\"\"))","v":""},{"$f":"IF(COUNTBLANK(AB8)=1,\"\",IF(OR(AI8=LEFT(AG$1,1),AI8=RIGHT(AG$1,1)),COUNTIF(AI$2:AI8,LEFT(AG$1,1))+COUNTIF(AI$2:AI8,RIGHT(AG$1,1)),\"\"))","v":""},{"$f":"IF(COUNTBLANK(AB8)=1,\"\",INDEX(Registration!$C$2:$C$101,MATCH(AB8,Registration!$B$2:$B$101,0)))","v":""},{"$f":"IF(COUNTBLANK(AB8)=1,\"\",IF(COUNTBLANK(INDEX(Registration!$D$2:$D$101,MATCH(AB8,Registration!$B$2:$B$101,0)))=1,\"\",INDEX(Registration!$D$2:$D$101,MATCH(AB8,Registration!$B$2:$B$101,0))))","v":""}]
[{"$f":"IF(COUNTBLANK(Registration!B8)=1,\"\",Registration!B8)","v":""},null,null,null,{"$f":"IF(OR(COUNTBLANK($A9)=1,COUNTBLANK(B9:D9)=3),\"\",SUM(B9:D9))","v":""},null,null,null,{"$f":"IF(OR(COUNTBLANK($A9)=1,COUNTBLANK(F9:H9)=3),\"\",SUM(F9:H9))","v":""},null,null,null,{"$f":"IF(OR(COUNTBLANK($A9)=1,COUNTBLANK(J9:L9)=3),\"\",SUM(J9:L9))","v":""},null,null,null,{"$f":"IF(OR(COUNTBLANK($A9)=1,COUNTBLANK(N9:P9)=3),\"\",SUM(N9:P9))","v":""},null,null,null,{"$f":"IF(OR(COUNTBLANK($A9)=1,COUNTBLANK(R9:T9)=3),\"\",SUM(R9:T9))","v":""},"","","",null,null,null,null,null,{"$f":"IF(COUNTBLANK(AB9)=1,\"\",IF(OR(AH9=LEFT(AD$1,1),AH9=RIGHT(AD$1,1)),COUNTIF(AH$2:AH9,LEFT(AD$1,1))+COUNTIF(AH$2:AH9,RIGHT(AD$1,1)),\"\"))","v":""},{"$f":"IF(COUNTBLANK(AB9)=1,\"\",IF(OR(AH9=LEFT(AE$1,1),AH9=RIGHT(AE$1,1)),COUNTIF(AH$2:AH9,LEFT(AE$1,1))+COUNTIF(AH$2:AH9,RIGHT(AE$1,1)),\"\"))","v":""},{"$f":"IF(COUNTBLANK(AB9)=1,\"\",IF(OR(AH9=LEFT(AF$1,1),AH9=RIGHT(AF$1,1)),COUNTIF(AH$2:AH9,LEFT(AF$1,1))+COUNTIF(AH$2:AH9,RIGHT(AF$1,1)),\"\"))","v":""},{"$f":"IF(COUNTBLANK(AB9)=1,\"\",IF(OR(AI9=LEFT(AG$1,1),AI9=RIGHT(AG$1,1)),COUNTIF(AI$2:AI9,LEFT(AG$1,1))+COUNTIF(AI$2:AI9,RIGHT(AG$1,1)),\"\"))","v":""},{"$f":"IF(COUNTBLANK(AB9)=1,\"\",INDEX(Registration!$C$2:$C$101,MATCH(AB9,Registration!$B$2:$B$101,0)))","v":""},{"$f":"IF(COUNTBLANK(AB9)=1,\"\",IF(COUNTBLANK(INDEX(Registration!$D$2:$D$101,MATCH(AB9,Registration!$B$2:$B$101,0)))=1,\"\",INDEX(Registration!$D$2:$D$101,MATCH(AB9,Registration!$B$2:$B$101,0))))","v":""}]
[{"$f":"IF(COUNTBLANK(Registration!B9)=1,\"\",Registration!B9)","v":""},null,null,null,"",null,null,null,"",null,null,null,"",null,null,null,"",null,null,null,"","","","",null,null,null,null,null,{"$f":"IF(COUNTBLANK(AB10)=1,\"\",IF(OR(AH10=LEFT(AD$1,1),AH10=RIGHT(AD$1,1)),COUNTIF(AH$2:AH10,LEFT(AD$1,1))+COUNTIF(AH$2:AH10,RIGHT(AD$1,1)),\"\"))","v":""},{"$f":"IF(COUNTBLANK(AB10)=1,\"\",IF(OR(AH10=LEFT(AE$1,1),AH10=RIGHT(AE$1,1)),COUNTIF(AH$2:AH10,LEFT(AE$1,1))+COUNTIF(AH$2:AH10,RIGHT(AE$1,1)),\"\"))","v":""},{"$f":"IF(COUNTBLANK(AB10)=1,\"\",IF(OR(AH10=LEFT(AF$1,1),AH10=RIGHT(AF$1,1)),COUNTIF(AH$2:AH10,LEFT(AF$1,1))+COUNTIF(AH$2:AH10,RIGHT(AF$1,1)),\"\"))","v":""},{"$f":"IF(COUNTBLANK(AB10)=1,\"\",IF(OR(AI10=LEFT(AG$1,1),AI10=RIGHT(AG$1,1)),COUNTIF(AI$2:AI10,LEFT(AG$1,1))+COUNTIF(AI$2:AI10,RIGHT(AG$1,1)),\"\"))","v":""},{"$f":"IF(COUNTBLANK(AB10)=1,\"\",INDEX(Registration!$C$2:$C$101,MATCH(AB10,Registration!$B$2:$B$101,0)))","v":""},{"$f":"IF(COUNTBLANK(AB10)=1,\"\",IF(COUNTBLANK(INDEX(Registration!$D$2:$D$101,MATCH(AB10,Registration!$B$2:$B$101,0)))=1,\"\",INDEX(Registration!$D$2:$D$101,MATCH(AB10,Registration!$B$2:$B$101,0))))","v":""}]
[{"$f":"IF(COUNTBLANK(Registration!B10)=1,\"\",Registration!B10)","v":""},null,null,null,"",null,null,null,"",null,null,null,"",null,null,null,"",null,null,null,"","","","",null,null,null,null,null,{"$f":"IF(COUNTBLANK(AB11)=1,\"\",IF(OR(AH11=LEFT(AD$1,1),AH11=RIGHT(AD$1,1)),COUNTIF(AH$2:AH11,LEFT(AD$1,1))+COUNTIF(AH$2:AH11,RIGHT(AD$1,1)),\"\"))","v":""},{"$f":"IF(COUNTBLANK(AB11)=1,\"\",IF(OR(AH11=LEFT(AE$1,1),AH11=RIGHT(AE$1,1)),COUNTIF(AH$2:AH11,LEFT(AE$1,1))+COUNTIF(AH$2:AH11,RIGHT(AE$1,1)),\"\"))","v":""},{"$f":"IF(COUNTBLANK(AB11)=1,\"\",IF(OR(AH11=LEFT(AF$1,1),AH11=RIGHT(AF$1,1)),COUNTIF(AH$2:AH11,LEFT(AF$1,1))+COUNTIF(AH$2:AH11,RIGHT(AF$1,1)),\"\"))","v":""},{"$f":"IF(COUNTBLANK(AB11)=1,\"\",IF(OR(AI11=LEFT(AG$1,1),AI11=RIGHT(AG$1,1)),COUNTIF(AI$2:AI11,LEFT(AG$1,1))+COUNTIF(AI$2:AI11,RIGHT(AG$1,1)),\"\"))","v":""},{"$f":"IF(COUNTBLANK(AB11)=1,\"\",INDEX(Registration!$C$2:$C$101,MATCH(AB11,Registration!$B$2:$B$101,0)))","v":""},{"$f":"IF(COUNTBLANK(AB11)=1,\"\",IF(COUNTBLANK(INDEX(Registration!$D$2:$D$101,MATCH(AB11,Registration!$B$2:$B$101,0)))=1,\"\",INDEX(Registration!$D$2:$D$101,MATCH(AB11,Registration!$B$2:$B$101,0))))","v":""}]
[{"$f":"IF(COUNTBLANK(Registration!B11)=1,\"\",Registration!B11)","v":""},null,null,null,{"$f":"IF(OR(COUNTBLANK($A12)=1,COUNTBLANK(B12:D12)=3),\"\",SUM(B12:D12))","v":""},null,null,null,{"$f":"IF(OR(COUNTBLANK($A12)=1,COUNTBLANK(F12:H12)=3),\"\",SUM(F12:H12))","v":""},null,null,null,{"$f":"IF(OR(COUNTBLANK($A12)=1,COUNTBLANK(J12:L12)=3),\"\",SUM(J12:L12))","v":""},null,null,null,{"$f":"IF(OR(COUNTBLANK($A12)=1,COUNTBLANK(N12:P12)=3),\"\",SUM(N12:P12))","v":""},null,null,null,{"$f":"IF(OR(COUNTBLANK($A12)=1,COUNTBLANK(R12:T12)=3),\"\",SUM(R12:T12))","v":""},"","","",null,null,null,null,null,{"$f":"IF(COUNTBLANK(AB12)=1,\"\",IF(OR(AH12=LEFT(AD$1,1),AH12=RIGHT(AD$1,1)),COUNTIF(AH$2:AH12,LEFT(AD$1,1))+COUNTIF(AH$2:AH12,RIGHT(AD$1,1)),\"\"))","v":""},{"$f":"IF(COUNTBLANK(AB12)=1,\"\",IF(OR(AH12=LEFT(AE$1,1),AH12=RIGHT(AE$1,1)),COUNTIF(AH$2:AH12,LEFT(AE$1,1))+COUNTIF(AH$2:AH12,RIGHT(AE$1,1)),\"\"))","v":""},{"$f":"IF(COUNTBLANK(AB12)=1,\"\",IF(OR(AH12=LEFT(AF$1,1),AH12=RIGHT(AF$1,1)),COUNTIF(AH$2:AH12,LEFT(AF$1,1))+COUNTIF(AH$2:AH12,RIGHT(AF$1,1)),\"\"))","v":""},{"$f":"IF(COUNTBLANK(AB12)=1,\"\",IF(OR(AI12=LEFT(AG$1,1),AI12=RIGHT(AG$1,1)),COUNTIF(AI$2:AI12,LEFT(AG$1,1))+COUNTIF(AI$2:AI12,RIGHT(AG$1,1)),\"\"))","v":""},{"$f":"IF(COUNTBLANK(AB12)=1,\"\",INDEX(Registration!$C$2:$C$101,MATCH(AB12,Registration!$B$2:$B$101,0)))","v":""},{"$f":"IF(COUNTBLANK(AB12)=1,\"\",IF(COUNTBLANK(INDEX(Registration!$D$2:$D$101,MATCH(AB12,Registration!$B$2:$B$101,0)))=1,\"\",INDEX(Registration!$D$2:$D$101,MATCH(AB12,Registration!$B$2:$B$101,0))))","v":""}]
[{"$f":"IF(COUNTBLANK(Registration!B12)=1,\"\",Registration!B12)","v":""},null,null,null,"",null,null,null,"",null,null,null,"",null,null,null,"",null,null,null,"","","","",null,null,null,null,null,{"$f":"IF(COUNTBLANK(AB13)=1,\"\",IF(OR(AH13=LEFT(AD$1,1),AH13=RIGHT(AD$1,1)),COUNTIF(AH$2:AH13,LEFT(AD$1,1))+COUNTIF(AH$2:AH13,RIGHT(AD$1,1)),\"\"))","v":""},{"$f":"IF(COUNTBLANK(AB13)=1,\"\",IF(OR(AH13=LEFT(AE$1,1),AH13=RIGHT(AE$1,1)),COUNTIF(AH$2:AH13,LEFT(AE$1,1))+COUNTIF(AH$2:AH13,RIGHT(AE$1,1)),\"\"))","v":""},{"$f":"IF(COUNTBLANK(AB13)=1,\"\",IF(OR(AH13=LEFT(AF$1,1),AH13=RIGHT(AF$1,1)),COUNTIF(AH$2:AH13,LEFT(AF$1,1))+COUNTIF(AH$2:AH13,RIGHT(AF$1,1)),\"\"))","v":""},{"$f":"IF(COUNTBLANK(AB13)=1,\"\",IF(OR(AI13=LEFT(AG$1,1),AI13=RIGHT(AG$1,1)),COUNTIF(AI$2:AI13,LEFT(AG$1,1))+COUNTIF(AI$2:AI13,RIGHT(AG$1,1)),\"\"))","v":""},{"$f":"IF(COUNTBLANK(AB13)=1,\"\",INDEX(Registration!$C$2:$C$101,MATCH(AB13,Registration!$B$2:$B$101,0)))","v":""},{"$f":"IF(COUNTBLANK(AB13)=1,\"\",IF(COUNTBLANK(INDEX(Registration!$D$2:$D$101,MATCH(AB13,Registration!$B$2:$B$101,0)))=1,\"\",INDEX(Registration!$D$2:$D$101,MATCH(AB13,Registration!$B$2:$B$101,0))))","v":""}]
[{"$f":"IF(COUNTBLANK(Registration!B13)=1,\"\",Registration!B13)","v":""},null,null,null,{"$f":"IF(OR(COUNTBLANK($A14)=1,COUNTBLANK(B14:D14)=3),\"\",SUM(B14:D14))","v":""},null,null,null,{"$f":"IF(OR(COUNTBLANK($A14)=1,COUNTBLANK(F14:H14)=3),\"\",SUM(F14:H14))","v":""},null,null,null,{"$f":"IF(OR(COUNTBLANK($A14)=1,COUNTBLANK(J14:L14)=3),\"\",SUM(J14:L14))","v":""},null,null,null,{"$f":"IF(OR(COUNTBLANK($A14)=1,COUNTBLANK(N14:P14)=3),\"\",SUM(N14:P14))","v":""},null,null,null,{"$f":"IF(OR(COUNTBLANK($A14)=1,COUNTBLANK(R14:T14)=3),\"\",SUM(R14:T14))","v":""},"","","",null,null,null,null,null,{"$f":"IF(COUNTBLANK(AB14)=1,\"\",IF(OR(AH14=LEFT(AD$1,1),AH14=RIGHT(AD$1,1)),COUNTIF(AH$2:AH14,LEFT(AD$1,1))+COUNTIF(AH$2:AH14,RIGHT(AD$1,1)),\"\"))","v":""},{"$f":"IF(COUNTBLANK(AB14)=1,\"\",IF(OR(AH14=LEFT(AE$1,1),AH14=RIGHT(AE$1,1)),COUNTIF(AH$2:AH14,LEFT(AE$1,1))+COUNTIF(AH$2:AH14,RIGHT(AE$1,1)),\"\"))","v":""},{"$f":"IF(COUNTBLANK(AB14)=1,\"\",IF(OR(AH14=LEFT(AF$1,1),AH14=RIGHT(AF$1,1)),COUNTIF(AH$2:AH14,LEFT(AF$1,1))+COUNTIF(AH$2:AH14,RIGHT(AF$1,1)),\"\"))","v":""},{"$f":"IF(COUNTBLANK(AB14)=1,\"\",IF(OR(AI14=LEFT(AG$1,1),AI14=RIGHT(AG$1,1)),COUNTIF(AI$2:AI14,LEFT(AG$1,1))+COUNTIF(AI$2:AI14,RIGHT(AG$1,1)),\"\"))","v":""},{"$f":"IF(COUNTBLANK(AB14)=1,\"\",INDEX(Registration!$C$2:$C$101,MATCH(AB14,Registration!$B$2:$B$101,0)))","v":""},{"$f":"IF(COUNTBLANK(AB14)=1,\"\",IF(COUNTBLANK(INDEX(Registration!$D$2:$D$101,MATCH(AB14,Registration!$B$2:$B$101,0)))=1,\"\",INDEX(Registration!$D$2:$D$101,MATCH(AB14,Registration!$B$2:$B$101,0))))","v":""}]
[{"$f":"IF(COUNTBLANK(Registration!B14)=1,\"\",Registration!B14)","v":""},null,null,null,"",null,null,null,"",null,null,null,"",null,null,null,"",null,null,null,"",{"$f":"IF(OR(COUNTBLANK($A15)=1,AND(COUNTBLANK(E15)=1,COUNTBLANK(I15)=1,COUNTBLANK(M15)=1,COUNTBLANK(Q15)=1,COUNTBLANK(U15)=1)),\"\",SUM(U15,Q15,M15,I15,E15))","v":""},"","",null,null,null,null,null,{"$f":"IF(COUNTBLANK(AB15)=1,\"\",IF(OR(AH15=LEFT(AD$1,1),AH15=RIGHT(AD$1,1)),COUNTIF(AH$2:AH15,LEFT(AD$1,1))+COUNTIF(AH$2:AH15,RIGHT(AD$1,1)),\"\"))","v":""},{"$f":"IF(COUNTBLANK(AB15)=1,\"\",IF(OR(AH15=LEFT(AE$1,1),AH15=RIGHT(AE$1,1)),COUNTIF(AH$2:AH15,LEFT(AE$1,1))+COUNTIF(AH$2:AH15,RIGHT(AE$1,1)),\"\"))","v":""},{"$f":"IF(COUNTBLANK(AB15)=1,\"\",IF(OR(AH15=LEFT(AF$1,1),AH15=RIGHT(AF$1,1)),COUNTIF(AH$2:AH15,LEFT(AF$1,1))+COUNTIF(AH$2:AH15,RIGHT(AF$1,1)),\"\"))","v":""},{"$f":"IF(COUNTBLANK(AB15)=1,\"\",IF(OR(AI15=LEFT(AG$1,1),AI15=RIGHT(AG$1,1)),COUNTIF(AI$2:AI15,LEFT(AG$1,1))+COUNTIF(AI$2:AI15,RIGHT(AG$1,1)),\"\"))","v":""},{"$f":"IF(COUNTBLANK(AB15)=1,\"\",INDEX(Registration!$C$2:$C$101,MATCH(AB15,Registration!$B$2:$B$101,0)))","v":""},{"$f":"IF(COUNTBLANK(AB15)=1,\"\",IF(COUNTBLANK(INDEX(Registration!$D$2:$D$101,MATCH(AB15,Registration!$B$2:$B$101,0)))=1,\"\",INDEX(Registration!$D$2:$D$101,MATCH(AB15,Registration!$B$2:$B$101,0))))","v":""}]
[{"$f":"IF(COUNTBLANK(Registration!B15)=1,\"\",Registration!B15)","v":""},null,null,null,"",null,null,null,"",null,null,null,"",null,null,null,"",null,null,null,"","","","",null,null,null,null,null,{"$f":"IF(COUNTBLANK(AB16)=1,\"\",IF(OR(AH16=LEFT(AD$1,1),AH16=RIGHT(AD$1,1)),COUNTIF(AH$2:AH16,LEFT(AD$1,1))+COUNTIF(AH$2:AH16,RIGHT(AD$1,1)),\"\"))","v":""},{"$f":"IF(COUNTBLANK(AB16)=1,\"\",IF(OR(AH16=LEFT(AE$1,1),AH16=RIGHT(AE$1,1)),COUNTIF(AH$2:AH16,LEFT(AE$1,1))+COUNTIF(AH$2:AH16,RIGHT(AE$1,1)),\"\"))","v":""},{"$f":"IF(COUNTBLANK(AB16)=1,\"\",IF(OR(AH16=LEFT(AF$1,1),AH16=RIGHT(AF$1,1)),COUNTIF(AH$2:AH16,LEFT(AF$1,1))+COUNTIF(AH$2:AH16,RIGHT(AF$1,1)),\"\"))","v":""},{"$f":"IF(COUNTBLANK(AB16)=1,\"\",IF(OR(AI16=LEFT(AG$1,1),AI16=RIGHT(AG$1,1)),COUNTIF(AI$2:AI16,LEFT(AG$1,1))+COUNTIF(AI$2:AI16,RIGHT(AG$1,1)),\"\"))","v":""},{"$f":"IF(COUNTBLANK(AB16)=1,\"\",INDEX(Registration!$C$2:$C$101,MATCH(AB16,Registration!$B$2:$B$101,0)))","v":""},{"$f":"IF(COUNTBLANK(AB16)=1,\"\",IF(COUNTBLANK(INDEX(Registration!$D$2:$D$101,MATCH(AB16,Registration!$B$2:$B$101,0)))=1,\"\",INDEX(Registration!$D$2:$D$101,MATCH(AB16,Registration!$B$2:$B$101,0))))","v":""}]
[{"$f":"IF(COUNTBLANK(Registration!B16)=1,\"\",Registration!B16)","v":""},null,null,null,{"$f":"IF(OR(COUNTBLANK($A17)=1,COUNTBLANK(B17:D17)=3),\"\",SUM(B17:D17))","v":""},null,null,null,{"$f":"IF(OR(COUNTBLANK($A17)=1,COUNTBLANK(F17:H17)=3),\"\",SUM(F17:H17))","v":""},null,null,null,{"$f":"IF(OR(COUNTBLANK($A17)=1,COUNTBLANK(J17:L17)=3),\"\",SUM(J17:L17))","v":""},null,null,null,{"$f":"IF(OR(COUNTBLANK($A17)=1,COUNTBLANK(N17:P17)=3),\"\",SUM(N17:P17))","v":""},null,null,null,{"$f":"IF(OR(COUNTBLANK($A17)=1,COUNTBLANK(R17:T17)=3),\"\",SUM(R17:T17))","v":""},"","","",null,null,null,null,null,{"$f":"IF(COUNTBLANK(AB17)=1,\"\",IF(OR(AH17=LEFT(AD$1,1),AH17=RIGHT(AD$1,1)),COUNTIF(AH$2:AH17,LEFT(AD$1,1))+COUNTIF(AH$2:AH17,RIGHT(AD$1,1)),\"\"))","v":""},{"$f":"IF(COUNTBLANK(AB17)=1,\"\",IF(OR(AH17=LEFT(AE$1,1),AH17=RIGHT(AE$1,1)),COUNTIF(AH$2:AH17,LEFT(AE$1,1))+COUNTIF(AH$2:AH17,RIGHT(AE$1,1)),\"\"))","v":""},{"$f":"IF(COUNTBLANK(AB17)=1,\"\",IF(OR(AH17=LEFT(AF$1,1),AH17=RIGHT(AF$1,1)),COUNTIF(AH$2:AH17,LEFT(AF$1,1))+COUNTIF(AH$2:AH17,RIGHT(AF$1,1)),\"\"))","v":""},{"$f":"IF(COUNTBLANK(AB17)=1,\"\",IF(OR(AI17=LEFT(AG$1,1),AI17=RIGHT(AG$1,1)),COUNTIF(AI$2:AI17,LEFT(AG$1,1))+COUNTIF(AI$2:AI17,RIGHT(AG$1,1)),\"\"))","v":""},{"$f":"IF(COUNTBLANK(AB17)=1,\"\",INDEX(Registration!$C$2:$C$101,MATCH(AB17,Registration!$B$2:$B$101,0)))","v":""},{"$f":"IF(COUNTBLANK(AB17)=1,\"\",IF(COUNTBLANK(INDEX(Registration!$D$2:$D$101,MATCH(AB17,Registration!$B$2:$B$101,0)))=1,\"\",INDEX(Registration!$D$2:$D$101,MATCH(AB17,Registration!$B$2:$B$101,0))))","v":""}]
[{"$f":"IF(COUNTBLANK(Registration!B17)=1,\"\",Registration!B17)","v":""},null,null,null,{"$f":"IF(OR(COUNTBLANK($A18)=1,COUNTBLANK(B18:D18)=3),\"\",SUM(B18:D18))","v":""},null,null,null,{"$f":"IF(OR(COUNTBLANK($A18)=1,COUNTBLANK(F18:H18)=3),\"\",SUM(F18:H18))","v":""},null,null,null,{"$f":"IF(OR(COUNTBLANK($A18)=1,COUNTBLANK(J18:L18)=3),\"\",SUM(J18:L18))","v":""},null,null,null,{"$f":"IF(OR(COUNTBLANK($A18)=1,COUNTBLANK(N18:P18)=3),\"\",SUM(N18:P18))","v":""},null,null,null,{"$f":"IF(OR(COUNTBLANK($A18)=1,COUNTBLANK(R18:T18)=3),\"\",SUM(R18:T18))","v":""},"","","",null,null,null,null,null,{"$f":"IF(COUNTBLANK(AB18)=1,\"\",IF(OR(AH18=LEFT(AD$1,1),AH18=RIGHT(AD$1,1)),COUNTIF(AH$2:AH18,LEFT(AD$1,1))+COUNTIF(AH$2:AH18,RIGHT(AD$1,1)),\"\"))","v":""},{"$f":"IF(COUNTBLANK(AB18)=1,\"\",IF(OR(AH18=LEFT(AE$1,1),AH18=RIGHT(AE$1,1)),COUNTIF(AH$2:AH18,LEFT(AE$1,1))+COUNTIF(AH$2:AH18,RIGHT(AE$1,1)),\"\"))","v":""},{"$f":"IF(COUNTBLANK(AB18)=1,\"\",IF(OR(AH18=LEFT(AF$1,1),AH18=RIGHT(AF$1,1)),COUNTIF(AH$2:AH18,LEFT(AF$1,1))+COUNTIF(AH$2:AH18,RIGHT(AF$1,1)),\"\"))","v":""},{"$f":"IF(COUNTBLANK(AB18)=1,\"\",IF(OR(AI18=LEFT(AG$1,1),AI18=RIGHT(AG$1,1)),COUNTIF(AI$2:AI18,LEFT(AG$1,1))+COUNTIF(AI$2:AI18,RIGHT(AG$1,1)),\"\"))","v":""},{"$f":"IF(COUNTBLANK(AB18)=1,\"\",INDEX(Registration!$C$2:$C$101,MATCH(AB18,Registration!$B$2:$B$101,0)))","v":""},{"$f":"IF(COUNTBLANK(AB18)=1,\"\",IF(COUNTBLANK(INDEX(Registration!$D$2:$D$101,MATCH(AB18,Registration!$B$2:$B$101,0)))=1,\"\",INDEX(Registration!$D$2:$D$101,MATCH(AB18,Registration!$B$2:$B$101,0))))","v":""}]
[{"$f":"IF(COUNTBLANK(Registration!B18)=1,\"\",Registration!B18)","v":""},null,null,null,"",null,null,null,"",null,null,null,"",null,null,null,"",null,null,null,"","","","",null,null,null,null,null,{"$f":"IF(COUNTBLANK(AB19)=1,\"\",IF(OR(AH19=LEFT(AD$1,1),AH19=RIGHT(AD$1,1)),COUNTIF(AH$2:AH19,LEFT(AD$1,1))+COUNTIF(AH$2:AH19,RIGHT(AD$1,1)),\"\"))","v":""},{"$f":"IF(COUNTBLANK(AB19)=1,\"\",IF(OR(AH19=LEFT(AE$1,1),AH19=RIGHT(AE$1,1)),COUNTIF(AH$2:AH19,LEFT(AE$1,1))+COUNTIF(AH$2:AH19,RIGHT(AE$1,1)),\"\"))","v":""},{"$f":"IF(COUNTBLANK(AB19)=1,\"\",IF(OR(AH19=LEFT(AF$1,1),AH19=RIGHT(AF$1,1)),COUNTIF(AH$2:AH19,LEFT(AF$1,1))+COUNTIF(AH$2:AH19,RIGHT(AF$1,1)),\"\"))","v":""},{"$f":"IF(COUNTBLANK(AB19)=1,\"\",IF(OR(AI19=LEFT(AG$1,1),AI19=RIGHT(AG$1,1)),COUNTIF(AI$2:AI19,LEFT(AG$1,1))+COUNTIF(AI$2:AI19,RIGHT(AG$1,1)),\"\"))","v":""},{"$f":"IF(COUNTBLANK(AB19)=1,\"\",INDEX(Registration!$C$2:$C$101,MATCH(AB19,Registration!$B$2:$B$101,0)))","v":""},{"$f":"IF(COUNTBLANK(AB19)=1,\"\",IF(COUNTBLANK(INDEX(Registration!$D$2:$D$101,MATCH(AB19,Registration!$B$2:$B$101,0)))=1,\"\",INDEX(Registration!$D$2:$D$101,MATCH(AB19,Registration!$B$2:$B$101,0))))","v":""}]
[{"$f":"IF(COUNTBLANK(Registration!B19)=1,\"\",Registration!B19)","v":""},null,null,null,"",null,null,null,"",null,null,null,"",null,null,null,"",null,null,null,"","","","",null,null,null,null,null,{"$f":"IF(COUNTBLANK(AB20)=1,\"\",IF(OR(AH20=LEFT(AD$1,1),AH20=RIGHT(AD$1,1)),COUNTIF(AH$2:AH20,LEFT(AD$1,1))+COUNTIF(AH$2:AH20,RIGHT(AD$1,1)),\"\"))","v":""},{"$f":"IF(COUNTBLANK(AB20)=1,\"\",IF(OR(AH20=LEFT(AE$1,1),AH20=RIGHT(AE$1,1)),COUNTIF(AH$2:AH20,LEFT(AE$1,1))+COUNTIF(AH$2:AH20,RIGHT(AE$1,1)),\"\"))","v":""},{"$f":"IF(COUNTBLANK(AB20)=1,\"\",IF(OR(AH20=LEFT(AF$1,1),AH20=RIGHT(AF$1,1)),COUNTIF(AH$2:AH20,LEFT(AF$1,1))+COUNTIF(AH$2:AH20,RIGHT(AF$1,1)),\"\"))","v":""},{"$f":"IF(COUNTBLANK(AB20)=1,\"\",IF(OR(AI20=LEFT(AG$1,1),AI20=RIGHT(AG$1,1)),COUNTIF(AI$2:AI20,LEFT(AG$1,1))+COUNTIF(AI$2:AI20,RIGHT(AG$1,1)),\"\"))","v":""},{"$f":"IF(COUNTBLANK(AB20)=1,\"\",INDEX(Registration!$C$2:$C$101,MATCH(AB20,Registration!$B$2:$B$101,0)))","v":""},{"$f":"IF(COUNTBLANK(AB20)=1,\"\",IF(COUNTBLANK(INDEX(Registration!$D$2:$D$101,MATCH(AB20,Registration!$B$2:$B$101,0)))=1,\"\",INDEX(Registration!$D$2:$D$101,MATCH(AB20,Registration!$B$2:$B$101,0))))","v":""}]
[{"$f":"IF(COUNTBLANK(Registration!B20)=1,\"\",Registration!B20)","v":""},null,null,null,"",null,null,null,"",null,null,null,"",null,null,null,"",null,null,null,"","","","",null,null,null,null,null,{"$f":"IF(COUNTBLANK(AB21)=1,\"\",IF(OR(AH21=LEFT(AD$1,1),AH21=RIGHT(AD$1,1)),COUNTIF(AH$2:AH21,LEFT(AD$1,1))+COUNTIF(AH$2:AH21,RIGHT(AD$1,1)),\"\"))","v":""},{"$f":"IF(COUNTBLANK(AB21)=1,\"\",IF(OR(AH21=LEFT(AE$1,1),AH21=RIGHT(AE$1,1)),COUNTIF(AH$2:AH21,LEFT(AE$1,1))+COUNTIF(AH$2:AH21,RIGHT(AE$1,1)),\"\"))","v":""},{"$f":"IF(COUNTBLANK(AB21)=1,\"\",IF(OR(AH21=LEFT(AF$1,1),AH21=RIGHT(AF$1,1)),COUNTIF(AH$2:AH21,LEFT(AF$1,1))+COUNTIF(AH$2:AH21,RIGHT(AF$1,1)),\"\"))","v":""},{"$f":"IF(COUNTBLANK(AB21)=1,\"\",IF(OR(AI21=LEFT(AG$1,1),AI21=RIGHT(AG$1,1)),COUNTIF(AI$2:AI21,LEFT(AG$1,1))+COUNTIF(AI$2:AI21,RIGHT(AG$1,1)),\"\"))","v":""},{"$f":"IF(COUNTBLANK(AB21)=1,\"\",INDEX(Registration!$C$2:$C$101,MATCH(AB21,Registration!$B$2:$B$101,0)))","v":""},{"$f":"IF(COUNTBLANK(AB21)=1,\"\",IF(COUNTBLANK(INDEX(Registration!$D$2:$D$101,MATCH(AB21,Registration!$B$2:$B$101,0)))=1,\"\",INDEX(Registration!$D$2:$D$101,MATCH(AB21,Registration!$B$2:$B$101,0))))","v":""}]
[{"$f":"IF(COUNTBLANK(Registration!B21)=1,\"\",Registration!B21)","v":""},null,null,null,"",null,null,null,"",null,null,null,"",null,null,null,"",null,null,null,"","","","",null,null,null,null,null,{"$f":"IF(COUNTBLANK(AB22)=1,\"\",IF(OR(AH22=LEFT(AD$1,1),AH22=RIGHT(AD$1,1)),COUNTIF(AH$2:AH22,LEFT(AD$1,1))+COUNTIF(AH$2:AH22,RIGHT(AD$1,1)),\"\"))","v":""},{"$f":"IF(COUNTBLANK(AB22)=1,\"\",IF(OR(AH22=LEFT(AE$1,1),AH22=RIGHT(AE$1,1)),COUNTIF(AH$2:AH22,LEFT(AE$1,1))+COUNTIF(AH$2:AH22,RIGHT(AE$1,1)),\"\"))","v":""},{"$f":"IF(COUNTBLANK(AB22)=1,\"\",IF(OR(AH22=LEFT(AF$1,1),AH22=RIGHT(AF$1,1)),COUNTIF(AH$2:AH22,LEFT(AF$1,1))+COUNTIF(AH$2:AH22,RIGHT(AF$1,1)),\"\"))","v":""},{"$f":"IF(COUNTBLANK(AB22)=1,\"\",IF(OR(AI22=LEFT(AG$1,1),AI22=RIGHT(AG$1,1)),COUNTIF(AI$2:AI22,LEFT(AG$1,1))+COUNTIF(AI$2:AI22,RIGHT(AG$1,1)),\"\"))","v":""},{"$f":"IF(COUNTBLANK(AB22)=1,\"\",INDEX(Registration!$C$2:$C$101,MATCH(AB22,Registration!$B$2:$B$101,0)))","v":""},{"$f":"IF(COUNTBLANK(AB22)=1,\"\",IF(COUNTBLANK(INDEX(Registration!$D$2:$D$101,MATCH(AB22,Registration!$B$2:$B$101,0)))=1,\"\",INDEX(Registration!$D$2:$D$101,MATCH(AB22,Registration!$B$2:$B$101,0))))","v":""}]
[{"$f":"IF(COUNTBLANK(Registration!B22)=1,\"\",Registration!B22)","v":""},null,null,null,"",null,null,null,"",null,null,null,"",null,null,null,"",null,null,null,"","","","",null,null,null,null,null,{"$f":"IF(COUNTBLANK(AB23)=1,\"\",IF(OR(AH23=LEFT(AD$1,1),AH23=RIGHT(AD$1,1)),COUNTIF(AH$2:AH23,LEFT(AD$1,1))+COUNTIF(AH$2:AH23,RIGHT(AD$1,1)),\"\"))","v":""},{"$f":"IF(COUNTBLANK(AB23)=1,\"\",IF(OR(AH23=LEFT(AE$1,1),AH23=RIGHT(AE$1,1)),COUNTIF(AH$2:AH23,LEFT(AE$1,1))+COUNTIF(AH$2:AH23,RIGHT(AE$1,1)),\"\"))","v":""},{"$f":"IF(COUNTBLANK(AB23)=1,\"\",IF(OR(AH23=LEFT(AF$1,1),AH23=RIGHT(AF$1,1)),COUNTIF(AH$2:AH23,LEFT(AF$1,1))+COUNTIF(AH$2:AH23,RIGHT(AF$1,1)),\"\"))","v":""},{"$f":"IF(COUNTBLANK(AB23)=1,\"\",IF(OR(AI23=LEFT(AG$1,1),AI23=RIGHT(AG$1,1)),COUNTIF(AI$2:AI23,LEFT(AG$1,1))+COUNTIF(AI$2:AI23,RIGHT(AG$1,1)),\"\"))","v":""},{"$f":"IF(COUNTBLANK(AB23)=1,\"\",INDEX(Registration!$C$2:$C$101,MATCH(AB23,Registration!$B$2:$B$101,0)))","v":""},{"$f":"IF(COUNTBLANK(AB23)=1,\"\",IF(COUNTBLANK(INDEX(Registration!$D$2:$D$101,MATCH(AB23,Registration!$B$2:$B$101,0)))=1,\"\",INDEX(Registration!$D$2:$D$101,MATCH(AB23,Registration!$B$2:$B$101,0))))","v":""}]
[{"$f":"IF(COUNTBLANK(Registration!B23)=1,\"\",Registration!B23)","v":""},null,null,null,{"$f":"IF(OR(COUNTBLANK($A24)=1,COUNTBLANK(B24:D24)=3),\"\",SUM(B24:D24))","v":""},null,null,null,{"$f":"IF(OR(COUNTBLANK($A24)=1,COUNTBLANK(F24:H24)=3),\"\",SUM(F24:H24))","v":""},null,null,null,{"$f":"IF(OR(COUNTBLANK($A24)=1,COUNTBLANK(J24:L24)=3),\"\",SUM(J24:L24))","v":""},null,null,null,{"$f":"IF(OR(COUNTBLANK($A24)=1,COUNTBLANK(N24:P24)=3),\"\",SUM(N24:P24))","v":""},null,null,null,{"$f":"IF(OR(COUNTBLANK($A24)=1,COUNTBLANK(R24:T24)=3),\"\",SUM(R24:T24))","v":""},"","","",null,null,null,null,null,{"$f":"IF(COUNTBLANK(AB24)=1,\"\",IF(OR(AH24=LEFT(AD$1,1),AH24=RIGHT(AD$1,1)),COUNTIF(AH$2:AH24,LEFT(AD$1,1))+COUNTIF(AH$2:AH24,RIGHT(AD$1,1)),\"\"))","v":""},{"$f":"IF(COUNTBLANK(AB24)=1,\"\",IF(OR(AH24=LEFT(AE$1,1),AH24=RIGHT(AE$1,1)),COUNTIF(AH$2:AH24,LEFT(AE$1,1))+COUNTIF(AH$2:AH24,RIGHT(AE$1,1)),\"\"))","v":""},{"$f":"IF(COUNTBLANK(AB24)=1,\"\",IF(OR(AH24=LEFT(AF$1,1),AH24=RIGHT(AF$1,1)),COUNTIF(AH$2:AH24,LEFT(AF$1,1))+COUNTIF(AH$2:AH24,RIGHT(AF$1,1)),\"\"))","v":""},{"$f":"IF(COUNTBLANK(AB24)=1,\"\",IF(OR(AI24=LEFT(AG$1,1),AI24=RIGHT(AG$1,1)),COUNTIF(AI$2:AI24,LEFT(AG$1,1))+COUNTIF(AI$2:AI24,RIGHT(AG$1,1)),\"\"))","v":""},{"$f":"IF(COUNTBLANK(AB24)=1,\"\",INDEX(Registration!$C$2:$C$101,MATCH(AB24,Registration!$B$2:$B$101,0)))","v":""},{"$f":"IF(COUNTBLANK(AB24)=1,\"\",IF(COUNTBLANK(INDEX(Registration!$D$2:$D$101,MATCH(AB24,Registration!$B$2:$B$101,0)))=1,\"\",INDEX(Registration!$D$2:$D$101,MATCH(AB24,Registration!$B$2:$B$101,0))))","v":""}]
[{"$f":"IF(COUNTBLANK(Registration!B24)=1,\"\",Registration!B24)","v":""},null,null,null,"",null,null,null,"",null,null,null,"",null,null,null,"",null,null,null,"","","","",null,null,null,null,null,{"$f":"IF(COUNTBLANK(AB25)=1,\"\",IF(OR(AH25=LEFT(AD$1,1),AH25=RIGHT(AD$1,1)),COUNTIF(AH$2:AH25,LEFT(AD$1,1))+COUNTIF(AH$2:AH25,RIGHT(AD$1,1)),\"\"))","v":""},{"$f":"IF(COUNTBLANK(AB25)=1,\"\",IF(OR(AH25=LEFT(AE$1,1),AH25=RIGHT(AE$1,1)),COUNTIF(AH$2:AH25,LEFT(AE$1,1))+COUNTIF(AH$2:AH25,RIGHT(AE$1,1)),\"\"))","v":""},{"$f":"IF(COUNTBLANK(AB25)=1,\"\",IF(OR(AH25=LEFT(AF$1,1),AH25=RIGHT(AF$1,1)),COUNTIF(AH$2:AH25,LEFT(AF$1,1))+COUNTIF(AH$2:AH25,RIGHT(AF$1,1)),\"\"))","v":""},{"$f":"IF(COUNTBLANK(AB25)=1,\"\",IF(OR(AI25=LEFT(AG$1,1),AI25=RIGHT(AG$1,1)),COUNTIF(AI$2:AI25,LEFT(AG$1,1))+COUNTIF(AI$2:AI25,RIGHT(AG$1,1)),\"\"))","v":""},{"$f":"IF(COUNTBLANK(AB25)=1,\"\",INDEX(Registration!$C$2:$C$101,MATCH(AB25,Registration!$B$2:$B$101,0)))","v":""},{"$f":"IF(COUNTBLANK(AB25)=1,\"\",IF(COUNTBLANK(INDEX(Registration!$D$2:$D$101,MATCH(AB25,Registration!$B$2:$B$101,0)))=1,\"\",INDEX(Registration!$D$2:$D$101,MATCH(AB25,Registration!$B$2:$B$101,0))))","v":""}]
[{"$f":"IF(COUNTBLANK(Registration!B25)=1,\"\",Registration!B25)","v":""},null,null,null,{"$f":"IF(OR(COUNTBLANK($A26)=1,COUNTBLANK(B26:D26)=3),\"\",SUM(B26:D26))","v":""},null,null,null,{"$f":"IF(OR(COUNTBLANK($A26)=1,COUNTBLANK(F26:H26)=3),\"\",SUM(F26:H26))","v":""},null,null,null,{"$f":"IF(OR(COUNTBLANK($A26)=1,COUNTBLANK(J26:L26)=3),\"\",SUM(J26:L26))","v":""},null,null,null,{"$f":"IF(OR(COUNTBLANK($A26)=1,COUNTBLANK(N26:P26)=3),\"\",SUM(N26:P26))","v":""},null,null,null,{"$f":"IF(OR(COUNTBLANK($A26)=1,COUNTBLANK(R26:T26)=3),\"\",SUM(R26:T26))","v":""},"","","",null,null,null,null,null,{"$f":"IF(COUNTBLANK(AB26)=1,\"\",IF(OR(AH26=LEFT(AD$1,1),AH26=RIGHT(AD$1,1)),COUNTIF(AH$2:AH26,LEFT(AD$1,1))+COUNTIF(AH$2:AH26,RIGHT(AD$1,1)),\"\"))","v":""},{"$f":"IF(COUNTBLANK(AB26)=1,\"\",IF(OR(AH26=LEFT(AE$1,1),AH26=RIGHT(AE$1,1)),COUNTIF(AH$2:AH26,LEFT(AE$1,1))+COUNTIF(AH$2:AH26,RIGHT(AE$1,1)),\"\"))","v":""},{"$f":"IF(COUNTBLANK(AB26)=1,\"\",IF(OR(AH26=LEFT(AF$1,1),AH26=RIGHT(AF$1,1)),COUNTIF(AH$2:AH26,LEFT(AF$1,1))+COUNTIF(AH$2:AH26,RIGHT(AF$1,1)),\"\"))","v":""},{"$f":"IF(COUNTBLANK(AB26)=1,\"\",IF(OR(AI26=LEFT(AG$1,1),AI26=RIGHT(AG$1,1)),COUNTIF(AI$2:AI26,LEFT(AG$1,1))+COUNTIF(AI$2:AI26,RIGHT(AG$1,1)),\"\"))","v":""},{"$f":"IF(COUNTBLANK(AB26)=1,\"\",INDEX(Registration!$C$2:$C$101,MATCH(AB26,Registration!$B$2:$B$101,0)))","v":""},{"$f":"IF(COUNTBLANK(AB26)=1,\"\",IF(COUNTBLANK(INDEX(Registration!$D$2:$D$101,MATCH(AB26,Registration!$B$2:$B$101,0)))=1,\"\",INDEX(Registration!$D$2:$D$101,MATCH(AB26,Registration!$B$2:$B$101,0))))","v":""}]
[{"$f":"IF(COUNTBLANK(Registration!B26)=1,\"\",Registration!B26)","v":""},null,null,null,{"$f":"IF(OR(COUNTBLANK($A27)=1,COUNTBLANK(B27:D27)=3),\"\",SUM(B27:D27))","v":""},null,null,null,{"$f":"IF(OR(COUNTBLANK($A27)=1,COUNTBLANK(F27:H27)=3),\"\",SUM(F27:H27))","v":""},null,null,null,{"$f":"IF(OR(COUNTBLANK($A27)=1,COUNTBLANK(J27:L27)=3),\"\",SUM(J27:L27))","v":""},null,null,null,{"$f":"IF(OR(COUNTBLANK($A27)=1,COUNTBLANK(N27:P27)=3),\"\",SUM(N27:P27))","v":""},null,null,null,{"$f":"IF(OR(COUNTBLANK($A27)=1,COUNTBLANK(R27:T27)=3),\"\",SUM(R27:T27))","v":""},"","","",null,null,null,null,null,{"$f":"IF(COUNTBLANK(AB27)=1,\"\",IF(OR(AH27=LEFT(AD$1,1),AH27=RIGHT(AD$1,1)),COUNTIF(AH$2:AH27,LEFT(AD$1,1))+COUNTIF(AH$2:AH27,RIGHT(AD$1,1)),\"\"))","v":""},{"$f":"IF(COUNTBLANK(AB27)=1,\"\",IF(OR(AH27=LEFT(AE$1,1),AH27=RIGHT(AE$1,1)),COUNTIF(AH$2:AH27,LEFT(AE$1,1))+COUNTIF(AH$2:AH27,RIGHT(AE$1,1)),\"\"))","v":""},{"$f":"IF(COUNTBLANK(AB27)=1,\"\",IF(OR(AH27=LEFT(AF$1,1),AH27=RIGHT(AF$1,1)),COUNTIF(AH$2:AH27,LEFT(AF$1,1))+COUNTIF(AH$2:AH27,RIGHT(AF$1,1)),\"\"))","v":""},{"$f":"IF(COUNTBLANK(AB27)=1,\"\",IF(OR(AI27=LEFT(AG$1,1),AI27=RIGHT(AG$1,1)),COUNTIF(AI$2:AI27,LEFT(AG$1,1))+COUNTIF(AI$2:AI27,RIGHT(AG$1,1)),\"\"))","v":""},{"$f":"IF(COUNTBLANK(AB27)=1,\"\",INDEX(Registration!$C$2:$C$101,MATCH(AB27,Registration!$B$2:$B$101,0)))","v":""},{"$f":"IF(COUNTBLANK(AB27)=1,\"\",IF(COUNTBLANK(INDEX(Registration!$D$2:$D$101,MATCH(AB27,Registration!$B$2:$B$101,0)))=1,\"\",INDEX(Registration!$D$2:$D$101,MATCH(AB27,Registration!$B$2:$B$101,0))))","v":""}]
[{"$f":"IF(COUNTBLANK(Registration!B27)=1,\"\",Registration!B27)","v":""},null,null,null,"",null,null,null,"",null,null,null,"",null,null,null,"",null,null,null,"","","","",null,null,null,null,null,{"$f":"IF(COUNTBLANK(AB28)=1,\"\",IF(OR(AH28=LEFT(AD$1,1),AH28=RIGHT(AD$1,1)),COUNTIF(AH$2:AH28,LEFT(AD$1,1))+COUNTIF(AH$2:AH28,RIGHT(AD$1,1)),\"\"))","v":""},{"$f":"IF(COUNTBLANK(AB28)=1,\"\",IF(OR(AH28=LEFT(AE$1,1),AH28=RIGHT(AE$1,1)),COUNTIF(AH$2:AH28,LEFT(AE$1,1))+COUNTIF(AH$2:AH28,RIGHT(AE$1,1)),\"\"))","v":""},{"$f":"IF(COUNTBLANK(AB28)=1,\"\",IF(OR(AH28=LEFT(AF$1,1),AH28=RIGHT(AF$1,1)),COUNTIF(AH$2:AH28,LEFT(AF$1,1))+COUNTIF(AH$2:AH28,RIGHT(AF$1,1)),\"\"))","v":""},{"$f":"IF(COUNTBLANK(AB28)=1,\"\",IF(OR(AI28=LEFT(AG$1,1),AI28=RIGHT(AG$1,1)),COUNTIF(AI$2:AI28,LEFT(AG$1,1))+COUNTIF(AI$2:AI28,RIGHT(AG$1,1)),\"\"))","v":""},{"$f":"IF(COUNTBLANK(AB28)=1,\"\",INDEX(Registration!$C$2:$C$101,MATCH(AB28,Registration!$B$2:$B$101,0)))","v":""},{"$f":"IF(COUNTBLANK(AB28)=1,\"\",IF(COUNTBLANK(INDEX(Registration!$D$2:$D$101,MATCH(AB28,Registration!$B$2:$B$101,0)))=1,\"\",INDEX(Registration!$D$2:$D$101,MATCH(AB28,Registration!$B$2:$B$101,0))))","v":""}]
[{"$f":"IF(COUNTBLANK(Registration!B28)=1,\"\",Registration!B28)","v":""},null,null,null,"",null,null,null,"",null,null,null,"",null,null,null,"",null,null,null,"","","","",null,"","","",null,{"$f":"IF(COUNTBLANK(AB29)=1,\"\",IF(OR(AH29=LEFT(AD$1,1),AH29=RIGHT(AD$1,1)),COUNTIF(AH$2:AH29,LEFT(AD$1,1))+COUNTIF(AH$2:AH29,RIGHT(AD$1,1)),\"\"))","v":""},{"$f":"IF(COUNTBLANK(AB29)=1,\"\",IF(OR(AH29=LEFT(AE$1,1),AH29=RIGHT(AE$1,1)),COUNTIF(AH$2:AH29,LEFT(AE$1,1))+COUNTIF(AH$2:AH29,RIGHT(AE$1,1)),\"\"))","v":""},{"$f":"IF(COUNTBLANK(AB29)=1,\"\",IF(OR(AH29=LEFT(AF$1,1),AH29=RIGHT(AF$1,1)),COUNTIF(AH$2:AH29,LEFT(AF$1,1))+COUNTIF(AH$2:AH29,RIGHT(AF$1,1)),\"\"))","v":""},{"$f":"IF(COUNTBLANK(AB29)=1,\"\",IF(OR(AI29=LEFT(AG$1,1),AI29=RIGHT(AG$1,1)),COUNTIF(AI$2:AI29,LEFT(AG$1,1))+COUNTIF(AI$2:AI29,RIGHT(AG$1,1)),\"\"))","v":""},{"$f":"IF(COUNTBLANK(AB29)=1,\"\",INDEX(Registration!$C$2:$C$101,MATCH(AB29,Registration!$B$2:$B$101,0)))","v":""},{"$f":"IF(COUNTBLANK(AB29)=1,\"\",IF(COUNTBLANK(INDEX(Registration!$D$2:$D$101,MATCH(AB29,Registration!$B$2:$B$101,0)))=1,\"\",INDEX(Registration!$D$2:$D$101,MATCH(AB29,Registration!$B$2:$B$101,0))))","v":""}]
[{"$f":"IF(COUNTBLANK(Registration!B29)=1,\"\",Registration!B29)","v":""},null,null,null,"",null,null,null,"",null,null,null,"",null,null,null,"",null,null,null,"","","","",null,"","","",null,{"$f":"IF(COUNTBLANK(AB30)=1,\"\",IF(OR(AH30=LEFT(AD$1,1),AH30=RIGHT(AD$1,1)),COUNTIF(AH$2:AH30,LEFT(AD$1,1))+COUNTIF(AH$2:AH30,RIGHT(AD$1,1)),\"\"))","v":""},{"$f":"IF(COUNTBLANK(AB30)=1,\"\",IF(OR(AH30=LEFT(AE$1,1),AH30=RIGHT(AE$1,1)),COUNTIF(AH$2:AH30,LEFT(AE$1,1))+COUNTIF(AH$2:AH30,RIGHT(AE$1,1)),\"\"))","v":""},{"$f":"IF(COUNTBLANK(AB30)=1,\"\",IF(OR(AH30=LEFT(AF$1,1),AH30=RIGHT(AF$1,1)),COUNTIF(AH$2:AH30,LEFT(AF$1,1))+COUNTIF(AH$2:AH30,RIGHT(AF$1,1)),\"\"))","v":""},{"$f":"IF(COUNTBLANK(AB30)=1,\"\",IF(OR(AI30=LEFT(AG$1,1),AI30=RIGHT(AG$1,1)),COUNTIF(AI$2:AI30,LEFT(AG$1,1))+COUNTIF(AI$2:AI30,RIGHT(AG$1,1)),\"\"))","v":""},{"$f":"IF(COUNTBLANK(AB30)=1,\"\",INDEX(Registration!$C$2:$C$101,MATCH(AB30,Registration!$B$2:$B$101,0)))","v":""},{"$f":"IF(COUNTBLANK(AB30)=1,\"\",IF(COUNTBLANK(INDEX(Registration!$D$2:$D$101,MATCH(AB30,Registration!$B$2:$B$101,0)))=1,\"\",INDEX(Registration!$D$2:$D$101,MATCH(AB30,Registration!$B$2:$B$101,0))))","v":""}]
[{"$f":"IF(COUNTBLANK(Registration!B30)=1,\"\",Registration!B30)","v":""},null,null,null,"",null,null,null,"",null,null,null,"",null,null,null,"",null,null,null,"","","","",null,"","","",null,{"$f":"IF(COUNTBLANK(AB31)=1,\"\",IF(OR(AH31=LEFT(AD$1,1),AH31=RIGHT(AD$1,1)),COUNTIF(AH$2:AH31,LEFT(AD$1,1))+COUNTIF(AH$2:AH31,RIGHT(AD$1,1)),\"\"))","v":""},{"$f":"IF(COUNTBLANK(AB31)=1,\"\",IF(OR(AH31=LEFT(AE$1,1),AH31=RIGHT(AE$1,1)),COUNTIF(AH$2:AH31,LEFT(AE$1,1))+COUNTIF(AH$2:AH31,RIGHT(AE$1,1)),\"\"))","v":""},{"$f":"IF(COUNTBLANK(AB31)=1,\"\",IF(OR(AH31=LEFT(AF$1,1),AH31=RIGHT(AF$1,1)),COUNTIF(AH$2:AH31,LEFT(AF$1,1))+COUNTIF(AH$2:AH31,RIGHT(AF$1,1)),\"\"))","v":""},{"$f":"IF(COUNTBLANK(AB31)=1,\"\",IF(OR(AI31=LEFT(AG$1,1),AI31=RIGHT(AG$1,1)),COUNTIF(AI$2:AI31,LEFT(AG$1,1))+COUNTIF(AI$2:AI31,RIGHT(AG$1,1)),\"\"))","v":""},{"$f":"IF(COUNTBLANK(AB31)=1,\"\",INDEX(Registration!$C$2:$C$101,MATCH(AB31,Registration!$B$2:$B$101,0)))","v":""},{"$f":"IF(COUNTBLANK(AB31)=1,\"\",IF(COUNTBLANK(INDEX(Registration!$D$2:$D$101,MATCH(AB31,Registration!$B$2:$B$101,0)))=1,\"\",INDEX(Registration!$D$2:$D$101,MATCH(AB31,Registration!$B$2:$B$101,0))))","v":""}]
[{"$f":"IF(COUNTBLANK(Registration!B31)=1,\"\",Registration!B31)","v":""},null,null,null,"",null,null,null,"",null,null,null,"",null,null,null,"",null,null,null,"","","","",null,"","","",null,{"$f":"IF(COUNTBLANK(AB32)=1,\"\",IF(OR(AH32=LEFT(AD$1,1),AH32=RIGHT(AD$1,1)),COUNTIF(AH$2:AH32,LEFT(AD$1,1))+COUNTIF(AH$2:AH32,RIGHT(AD$1,1)),\"\"))","v":""},{"$f":"IF(COUNTBLANK(AB32)=1,\"\",IF(OR(AH32=LEFT(AE$1,1),AH32=RIGHT(AE$1,1)),COUNTIF(AH$2:AH32,LEFT(AE$1,1))+COUNTIF(AH$2:AH32,RIGHT(AE$1,1)),\"\"))","v":""},{"$f":"IF(COUNTBLANK(AB32)=1,\"\",IF(OR(AH32=LEFT(AF$1,1),AH32=RIGHT(AF$1,1)),COUNTIF(AH$2:AH32,LEFT(AF$1,1))+COUNTIF(AH$2:AH32,RIGHT(AF$1,1)),\"\"))","v":""},{"$f":"IF(COUNTBLANK(AB32)=1,\"\",IF(OR(AI32=LEFT(AG$1,1),AI32=RIGHT(AG$1,1)),COUNTIF(AI$2:AI32,LEFT(AG$1,1))+COUNTIF(AI$2:AI32,RIGHT(AG$1,1)),\"\"))","v":""},{"$f":"IF(COUNTBLANK(AB32)=1,\"\",INDEX(Registration!$C$2:$C$101,MATCH(AB32,Registration!$B$2:$B$101,0)))","v":""},{"$f":"IF(COUNTBLANK(AB32)=1,\"\",IF(COUNTBLANK(INDEX(Registration!$D$2:$D$101,MATCH(AB32,Registration!$B$2:$B$101,0)))=1,\"\",INDEX(Registration!$D$2:$D$101,MATCH(AB32,Registration!$B$2:$B$101,0))))","v":""}]
[{"$f":"IF(COUNTBLANK(Registration!B32)=1,\"\",Registration!B32)","v":""},null,null,null,"",null,null,null,"",null,null,null,"",null,null,null,"",null,null,null,"","","","",null,"","","",null,{"$f":"IF(COUNTBLANK(AB33)=1,\"\",IF(OR(AH33=LEFT(AD$1,1),AH33=RIGHT(AD$1,1)),COUNTIF(AH$2:AH33,LEFT(AD$1,1))+COUNTIF(AH$2:AH33,RIGHT(AD$1,1)),\"\"))","v":""},{"$f":"IF(COUNTBLANK(AB33)=1,\"\",IF(OR(AH33=LEFT(AE$1,1),AH33=RIGHT(AE$1,1)),COUNTIF(AH$2:AH33,LEFT(AE$1,1))+COUNTIF(AH$2:AH33,RIGHT(AE$1,1)),\"\"))","v":""},{"$f":"IF(COUNTBLANK(AB33)=1,\"\",IF(OR(AH33=LEFT(AF$1,1),AH33=RIGHT(AF$1,1)),COUNTIF(AH$2:AH33,LEFT(AF$1,1))+COUNTIF(AH$2:AH33,RIGHT(AF$1,1)),\"\"))","v":""},{"$f":"IF(COUNTBLANK(AB33)=1,\"\",IF(OR(AI33=LEFT(AG$1,1),AI33=RIGHT(AG$1,1)),COUNTIF(AI$2:AI33,LEFT(AG$1,1))+COUNTIF(AI$2:AI33,RIGHT(AG$1,1)),\"\"))","v":""},{"$f":"IF(COUNTBLANK(AB33)=1,\"\",INDEX(Registration!$C$2:$C$101,MATCH(AB33,Registration!$B$2:$B$101,0)))","v":""},{"$f":"IF(COUNTBLANK(AB33)=1,\"\",IF(COUNTBLANK(INDEX(Registration!$D$2:$D$101,MATCH(AB33,Registration!$B$2:$B$101,0)))=1,\"\",INDEX(Registration!$D$2:$D$101,MATCH(AB33,Registration!$B$2:$B$101,0))))","v":""}]
[{"$f":"IF(COUNTBLANK(Registration!B33)=1,\"\",Registration!B33)","v":""},null,null,null,"",null,null,null,"",null,null,null,"",null,null,null,"",null,null,null,"","","","",null,"","","",null,{"$f":"IF(COUNTBLANK(AB34)=1,\"\",IF(OR(AH34=LEFT(AD$1,1),AH34=RIGHT(AD$1,1)),COUNTIF(AH$2:AH34,LEFT(AD$1,1))+COUNTIF(AH$2:AH34,RIGHT(AD$1,1)),\"\"))","v":""},{"$f":"IF(COUNTBLANK(AB34)=1,\"\",IF(OR(AH34=LEFT(AE$1,1),AH34=RIGHT(AE$1,1)),COUNTIF(AH$2:AH34,LEFT(AE$1,1))+COUNTIF(AH$2:AH34,RIGHT(AE$1,1)),\"\"))","v":""},{"$f":"IF(COUNTBLANK(AB34)=1,\"\",IF(OR(AH34=LEFT(AF$1,1),AH34=RIGHT(AF$1,1)),COUNTIF(AH$2:AH34,LEFT(AF$1,1))+COUNTIF(AH$2:AH34,RIGHT(AF$1,1)),\"\"))","v":""},{"$f":"IF(COUNTBLANK(AB34)=1,\"\",IF(OR(AI34=LEFT(AG$1,1),AI34=RIGHT(AG$1,1)),COUNTIF(AI$2:AI34,LEFT(AG$1,1))+COUNTIF(AI$2:AI34,RIGHT(AG$1,1)),\"\"))","v":""},{"$f":"IF(COUNTBLANK(AB34)=1,\"\",INDEX(Registration!$C$2:$C$101,MATCH(AB34,Registration!$B$2:$B$101,0)))","v":""},{"$f":"IF(COUNTBLANK(AB34)=1,\"\",IF(COUNTBLANK(INDEX(Registration!$D$2:$D$101,MATCH(AB34,Registration!$B$2:$B$101,0)))=1,\"\",INDEX(Registration!$D$2:$D$101,MATCH(AB34,Registration!$B$2:$B$101,0))))","v":""}]
[{"$f":"IF(COUNTBLANK(Registration!B34)=1,\"\",Registration!B34)","v":""},null,null,null,"",null,null,null,"",null,null,null,"",null,null,null,"",null,null,null,"","","","",null,"","","",null,{"$f":"IF(COUNTBLANK(AB35)=1,\"\",IF(OR(AH35=LEFT(AD$1,1),AH35=RIGHT(AD$1,1)),COUNTIF(AH$2:AH35,LEFT(AD$1,1))+COUNTIF(AH$2:AH35,RIGHT(AD$1,1)),\"\"))","v":""},{"$f":"IF(COUNTBLANK(AB35)=1,\"\",IF(OR(AH35=LEFT(AE$1,1),AH35=RIGHT(AE$1,1)),COUNTIF(AH$2:AH35,LEFT(AE$1,1))+COUNTIF(AH$2:AH35,RIGHT(AE$1,1)),\"\"))","v":""},{"$f":"IF(COUNTBLANK(AB35)=1,\"\",IF(OR(AH35=LEFT(AF$1,1),AH35=RIGHT(AF$1,1)),COUNTIF(AH$2:AH35,LEFT(AF$1,1))+COUNTIF(AH$2:AH35,RIGHT(AF$1,1)),\"\"))","v":""},{"$f":"IF(COUNTBLANK(AB35)=1,\"\",IF(OR(AI35=LEFT(AG$1,1),AI35=RIGHT(AG$1,1)),COUNTIF(AI$2:AI35,LEFT(AG$1,1))+COUNTIF(AI$2:AI35,RIGHT(AG$1,1)),\"\"))","v":""},{"$f":"IF(COUNTBLANK(AB35)=1,\"\",INDEX(Registration!$C$2:$C$101,MATCH(AB35,Registration!$B$2:$B$101,0)))","v":""},{"$f":"IF(COUNTBLANK(AB35)=1,\"\",IF(COUNTBLANK(INDEX(Registration!$D$2:$D$101,MATCH(AB35,Registration!$B$2:$B$101,0)))=1,\"\",INDEX(Registration!$D$2:$D$101,MATCH(AB35,Registration!$B$2:$B$101,0))))","v":""}]
[{"$f":"IF(COUNTBLANK(Registration!B35)=1,\"\",Registration!B35)","v":""},null,null,null,"",null,null,null,"",null,null,null,"",null,null,null,"",null,null,null,"","","","",null,"","","",null,{"$f":"IF(COUNTBLANK(AB36)=1,\"\",IF(OR(AH36=LEFT(AD$1,1),AH36=RIGHT(AD$1,1)),COUNTIF(AH$2:AH36,LEFT(AD$1,1))+COUNTIF(AH$2:AH36,RIGHT(AD$1,1)),\"\"))","v":""},{"$f":"IF(COUNTBLANK(AB36)=1,\"\",IF(OR(AH36=LEFT(AE$1,1),AH36=RIGHT(AE$1,1)),COUNTIF(AH$2:AH36,LEFT(AE$1,1))+COUNTIF(AH$2:AH36,RIGHT(AE$1,1)),\"\"))","v":""},{"$f":"IF(COUNTBLANK(AB36)=1,\"\",IF(OR(AH36=LEFT(AF$1,1),AH36=RIGHT(AF$1,1)),COUNTIF(AH$2:AH36,LEFT(AF$1,1))+COUNTIF(AH$2:AH36,RIGHT(AF$1,1)),\"\"))","v":""},{"$f":"IF(COUNTBLANK(AB36)=1,\"\",IF(OR(AI36=LEFT(AG$1,1),AI36=RIGHT(AG$1,1)),COUNTIF(AI$2:AI36,LEFT(AG$1,1))+COUNTIF(AI$2:AI36,RIGHT(AG$1,1)),\"\"))","v":""},{"$f":"IF(COUNTBLANK(AB36)=1,\"\",INDEX(Registration!$C$2:$C$101,MATCH(AB36,Registration!$B$2:$B$101,0)))","v":""},{"$f":"IF(COUNTBLANK(AB36)=1,\"\",IF(COUNTBLANK(INDEX(Registration!$D$2:$D$101,MATCH(AB36,Registration!$B$2:$B$101,0)))=1,\"\",INDEX(Registration!$D$2:$D$101,MATCH(AB36,Registration!$B$2:$B$101,0))))","v":""}]
[{"$f":"IF(COUNTBLANK(Registration!B36)=1,\"\",Registration!B36)","v":""},null,null,null,"",null,null,null,"",null,null,null,"",null,null,null,"",null,null,null,"","","","",null,"","","",null,{"$f":"IF(COUNTBLANK(AB37)=1,\"\",IF(OR(AH37=LEFT(AD$1,1),AH37=RIGHT(AD$1,1)),COUNTIF(AH$2:AH37,LEFT(AD$1,1))+COUNTIF(AH$2:AH37,RIGHT(AD$1,1)),\"\"))","v":""},{"$f":"IF(COUNTBLANK(AB37)=1,\"\",IF(OR(AH37=LEFT(AE$1,1),AH37=RIGHT(AE$1,1)),COUNTIF(AH$2:AH37,LEFT(AE$1,1))+COUNTIF(AH$2:AH37,RIGHT(AE$1,1)),\"\"))","v":""},{"$f":"IF(COUNTBLANK(AB37)=1,\"\",IF(OR(AH37=LEFT(AF$1,1),AH37=RIGHT(AF$1,1)),COUNTIF(AH$2:AH37,LEFT(AF$1,1))+COUNTIF(AH$2:AH37,RIGHT(AF$1,1)),\"\"))","v":""},{"$f":"IF(COUNTBLANK(AB37)=1,\"\",IF(OR(AI37=LEFT(AG$1,1),AI37=RIGHT(AG$1,1)),COUNTIF(AI$2:AI37,LEFT(AG$1,1))+COUNTIF(AI$2:AI37,RIGHT(AG$1,1)),\"\"))","v":""},{"$f":"IF(COUNTBLANK(AB37)=1,\"\",INDEX(Registration!$C$2:$C$101,MATCH(AB37,Registration!$B$2:$B$101,0)))","v":""},{"$f":"IF(COUNTBLANK(AB37)=1,\"\",IF(COUNTBLANK(INDEX(Registration!$D$2:$D$101,MATCH(AB37,Registration!$B$2:$B$101,0)))=1,\"\",INDEX(Registration!$D$2:$D$101,MATCH(AB37,Registration!$B$2:$B$101,0))))","v":""}]
[{"$f":"IF(COUNTBLANK(Registration!B37)=1,\"\",Registration!B37)","v":""},null,null,null,"",null,null,null,"",null,null,null,"",null,null,null,"",null,null,null,"","","","",null,"","","",null,{"$f":"IF(COUNTBLANK(AB38)=1,\"\",IF(OR(AH38=LEFT(AD$1,1),AH38=RIGHT(AD$1,1)),COUNTIF(AH$2:AH38,LEFT(AD$1,1))+COUNTIF(AH$2:AH38,RIGHT(AD$1,1)),\"\"))","v":""},{"$f":"IF(COUNTBLANK(AB38)=1,\"\",IF(OR(AH38=LEFT(AE$1,1),AH38=RIGHT(AE$1,1)),COUNTIF(AH$2:AH38,LEFT(AE$1,1))+COUNTIF(AH$2:AH38,RIGHT(AE$1,1)),\"\"))","v":""},{"$f":"IF(COUNTBLANK(AB38)=1,\"\",IF(OR(AH38=LEFT(AF$1,1),AH38=RIGHT(AF$1,1)),COUNTIF(AH$2:AH38,LEFT(AF$1,1))+COUNTIF(AH$2:AH38,RIGHT(AF$1,1)),\"\"))","v":""},{"$f":"IF(COUNTBLANK(AB38)=1,\"\",IF(OR(AI38=LEFT(AG$1,1),AI38=RIGHT(AG$1,1)),COUNTIF(AI$2:AI38,LEFT(AG$1,1))+COUNTIF(AI$2:AI38,RIGHT(AG$1,1)),\"\"))","v":""},{"$f":"IF(COUNTBLANK(AB38)=1,\"\",INDEX(Registration!$C$2:$C$101,MATCH(AB38,Registration!$B$2:$B$101,0)))","v":""},{"$f":"IF(COUNTBLANK(AB38)=1,\"\",IF(COUNTBLANK(INDEX(Registration!$D$2:$D$101,MATCH(AB38,Registration!$B$2:$B$101,0)))=1,\"\",INDEX(Registration!$D$2:$D$101,MATCH(AB38,Registration!$B$2:$B$101,0))))","v":""}]
[{"$f":"IF(COUNTBLANK(Registration!B38)=1,\"\",Registration!B38)","v":""},null,null,null,"",null,null,null,"",null,null,null,"",null,null,null,"",null,null,null,"","","","",null,"","","",null,{"$f":"IF(COUNTBLANK(AB39)=1,\"\",IF(OR(AH39=LEFT(AD$1,1),AH39=RIGHT(AD$1,1)),COUNTIF(AH$2:AH39,LEFT(AD$1,1))+COUNTIF(AH$2:AH39,RIGHT(AD$1,1)),\"\"))","v":""},{"$f":"IF(COUNTBLANK(AB39)=1,\"\",IF(OR(AH39=LEFT(AE$1,1),AH39=RIGHT(AE$1,1)),COUNTIF(AH$2:AH39,LEFT(AE$1,1))+COUNTIF(AH$2:AH39,RIGHT(AE$1,1)),\"\"))","v":""},{"$f":"IF(COUNTBLANK(AB39)=1,\"\",IF(OR(AH39=LEFT(AF$1,1),AH39=RIGHT(AF$1,1)),COUNTIF(AH$2:AH39,LEFT(AF$1,1))+COUNTIF(AH$2:AH39,RIGHT(AF$1,1)),\"\"))","v":""},{"$f":"IF(COUNTBLANK(AB39)=1,\"\",IF(OR(AI39=LEFT(AG$1,1),AI39=RIGHT(AG$1,1)),COUNTIF(AI$2:AI39,LEFT(AG$1,1))+COUNTIF(AI$2:AI39,RIGHT(AG$1,1)),\"\"))","v":""},{"$f":"IF(COUNTBLANK(AB39)=1,\"\",INDEX(Registration!$C$2:$C$101,MATCH(AB39,Registration!$B$2:$B$101,0)))","v":""},{"$f":"IF(COUNTBLANK(AB39)=1,\"\",IF(COUNTBLANK(INDEX(Registration!$D$2:$D$101,MATCH(AB39,Registration!$B$2:$B$101,0)))=1,\"\",INDEX(Registration!$D$2:$D$101,MATCH(AB39,Registration!$B$2:$B$101,0))))","v":""}]
[{"$f":"IF(COUNTBLANK(Registration!B39)=1,\"\",Registration!B39)","v":""},null,null,null,"",null,null,null,"",null,null,null,"",null,null,null,"",null,null,null,"","","","",null,"","","",null,{"$f":"IF(COUNTBLANK(AB40)=1,\"\",IF(OR(AH40=LEFT(AD$1,1),AH40=RIGHT(AD$1,1)),COUNTIF(AH$2:AH40,LEFT(AD$1,1))+COUNTIF(AH$2:AH40,RIGHT(AD$1,1)),\"\"))","v":""},{"$f":"IF(COUNTBLANK(AB40)=1,\"\",IF(OR(AH40=LEFT(AE$1,1),AH40=RIGHT(AE$1,1)),COUNTIF(AH$2:AH40,LEFT(AE$1,1))+COUNTIF(AH$2:AH40,RIGHT(AE$1,1)),\"\"))","v":""},{"$f":"IF(COUNTBLANK(AB40)=1,\"\",IF(OR(AH40=LEFT(AF$1,1),AH40=RIGHT(AF$1,1)),COUNTIF(AH$2:AH40,LEFT(AF$1,1))+COUNTIF(AH$2:AH40,RIGHT(AF$1,1)),\"\"))","v":""},{"$f":"IF(COUNTBLANK(AB40)=1,\"\",IF(OR(AI40=LEFT(AG$1,1),AI40=RIGHT(AG$1,1)),COUNTIF(AI$2:AI40,LEFT(AG$1,1))+COUNTIF(AI$2:AI40,RIGHT(AG$1,1)),\"\"))","v":""},{"$f":"IF(COUNTBLANK(AB40)=1,\"\",INDEX(Registration!$C$2:$C$101,MATCH(AB40,Registration!$B$2:$B$101,0)))","v":""},{"$f":"IF(COUNTBLANK(AB40)=1,\"\",IF(COUNTBLANK(INDEX(Registration!$D$2:$D$101,MATCH(AB40,Registration!$B$2:$B$101,0)))=1,\"\",INDEX(Registration!$D$2:$D$101,MATCH(AB40,Registration!$B$2:$B$101,0))))","v":""}]
[{"$f":"IF(COUNTBLANK(Registration!B40)=1,\"\",Registration!B40)","v":""},null,null,null,"",null,null,null,"",null,null,null,"",null,null,null,"",null,null,null,"","","","",null,"","","",null,{"$f":"IF(COUNTBLANK(AB41)=1,\"\",IF(OR(AH41=LEFT(AD$1,1),AH41=RIGHT(AD$1,1)),COUNTIF(AH$2:AH41,LEFT(AD$1,1))+COUNTIF(AH$2:AH41,RIGHT(AD$1,1)),\"\"))","v":""},{"$f":"IF(COUNTBLANK(AB41)=1,\"\",IF(OR(AH41=LEFT(AE$1,1),AH41=RIGHT(AE$1,1)),COUNTIF(AH$2:AH41,LEFT(AE$1,1))+COUNTIF(AH$2:AH41,RIGHT(AE$1,1)),\"\"))","v":""},{"$f":"IF(COUNTBLANK(AB41)=1,\"\",IF(OR(AH41=LEFT(AF$1,1),AH41=RIGHT(AF$1,1)),COUNTIF(AH$2:AH41,LEFT(AF$1,1))+COUNTIF(AH$2:AH41,RIGHT(AF$1,1)),\"\"))","v":""},{"$f":"IF(COUNTBLANK(AB41)=1,\"\",IF(OR(AI41=LEFT(AG$1,1),AI41=RIGHT(AG$1,1)),COUNTIF(AI$2:AI41,LEFT(AG$1,1))+COUNTIF(AI$2:AI41,RIGHT(AG$1,1)),\"\"))","v":""},{"$f":"IF(COUNTBLANK(AB41)=1,\"\",INDEX(Registration!$C$2:$C$101,MATCH(AB41,Registration!$B$2:$B$101,0)))","v":""},{"$f":"IF(COUNTBLANK(AB41)=1,\"\",IF(COUNTBLANK(INDEX(Registration!$D$2:$D$101,MATCH(AB41,Registration!$B$2:$B$101,0)))=1,\"\",INDEX(Registration!$D$2:$D$101,MATCH(AB41,Registration!$B$2:$B$101,0))))","v":""}]
[{"$f":"IF(COUNTBLANK(Registration!B41)=1,\"\",Registration!B41)","v":""},null,null,null,"",null,null,null,"",null,null,null,"",null,null,null,"",null,null,null,"","","","",null,"","","",null,{"$f":"IF(COUNTBLANK(AB42)=1,\"\",IF(OR(AH42=LEFT(AD$1,1),AH42=RIGHT(AD$1,1)),COUNTIF(AH$2:AH42,LEFT(AD$1,1))+COUNTIF(AH$2:AH42,RIGHT(AD$1,1)),\"\"))","v":""},{"$f":"IF(COUNTBLANK(AB42)=1,\"\",IF(OR(AH42=LEFT(AE$1,1),AH42=RIGHT(AE$1,1)),COUNTIF(AH$2:AH42,LEFT(AE$1,1))+COUNTIF(AH$2:AH42,RIGHT(AE$1,1)),\"\"))","v":""},{"$f":"IF(COUNTBLANK(AB42)=1,\"\",IF(OR(AH42=LEFT(AF$1,1),AH42=RIGHT(AF$1,1)),COUNTIF(AH$2:AH42,LEFT(AF$1,1))+COUNTIF(AH$2:AH42,RIGHT(AF$1,1)),\"\"))","v":""},{"$f":"IF(COUNTBLANK(AB42)=1,\"\",IF(OR(AI42=LEFT(AG$1,1),AI42=RIGHT(AG$1,1)),COUNTIF(AI$2:AI42,LEFT(AG$1,1))+COUNTIF(AI$2:AI42,RIGHT(AG$1,1)),\"\"))","v":""},{"$f":"IF(COUNTBLANK(AB42)=1,\"\",INDEX(Registration!$C$2:$C$101,MATCH(AB42,Registration!$B$2:$B$101,0)))","v":""},{"$f":"IF(COUNTBLANK(AB42)=1,\"\",IF(COUNTBLANK(INDEX(Registration!$D$2:$D$101,MATCH(AB42,Registration!$B$2:$B$101,0)))=1,\"\",INDEX(Registration!$D$2:$D$101,MATCH(AB42,Registration!$B$2:$B$101,0))))","v":""}]
[{"$f":"IF(COUNTBLANK(Registration!B42)=1,\"\",Registration!B42)","v":""},null,null,null,"",null,null,null,"",null,null,null,"",null,null,null,"",null,null,null,"","","","",null,"","","",null,{"$f":"IF(COUNTBLANK(AB43)=1,\"\",IF(OR(AH43=LEFT(AD$1,1),AH43=RIGHT(AD$1,1)),COUNTIF(AH$2:AH43,LEFT(AD$1,1))+COUNTIF(AH$2:AH43,RIGHT(AD$1,1)),\"\"))","v":""},{"$f":"IF(COUNTBLANK(AB43)=1,\"\",IF(OR(AH43=LEFT(AE$1,1),AH43=RIGHT(AE$1,1)),COUNTIF(AH$2:AH43,LEFT(AE$1,1))+COUNTIF(AH$2:AH43,RIGHT(AE$1,1)),\"\"))","v":""},{"$f":"IF(COUNTBLANK(AB43)=1,\"\",IF(OR(AH43=LEFT(AF$1,1),AH43=RIGHT(AF$1,1)),COUNTIF(AH$2:AH43,LEFT(AF$1,1))+COUNTIF(AH$2:AH43,RIGHT(AF$1,1)),\"\"))","v":""},{"$f":"IF(COUNTBLANK(AB43)=1,\"\",IF(OR(AI43=LEFT(AG$1,1),AI43=RIGHT(AG$1,1)),COUNTIF(AI$2:AI43,LEFT(AG$1,1))+COUNTIF(AI$2:AI43,RIGHT(AG$1,1)),\"\"))","v":""},{"$f":"IF(COUNTBLANK(AB43)=1,\"\",INDEX(Registration!$C$2:$C$101,MATCH(AB43,Registration!$B$2:$B$101,0)))","v":""},{"$f":"IF(COUNTBLANK(AB43)=1,\"\",IF(COUNTBLANK(INDEX(Registration!$D$2:$D$101,MATCH(AB43,Registration!$B$2:$B$101,0)))=1,\"\",INDEX(Registration!$D$2:$D$101,MATCH(AB43,Registration!$B$2:$B$101,0))))","v":""}]
[{"$f":"IF(COUNTBLANK(Registration!B43)=1,\"\",Registration!B43)","v":""},null,null,null,"",null,null,null,"",null,null,null,"",null,null,null,"",null,null,null,"","","","",null,"","","",null,{"$f":"IF(COUNTBLANK(AB44)=1,\"\",IF(OR(AH44=LEFT(AD$1,1),AH44=RIGHT(AD$1,1)),COUNTIF(AH$2:AH44,LEFT(AD$1,1))+COUNTIF(AH$2:AH44,RIGHT(AD$1,1)),\"\"))","v":""},{"$f":"IF(COUNTBLANK(AB44)=1,\"\",IF(OR(AH44=LEFT(AE$1,1),AH44=RIGHT(AE$1,1)),COUNTIF(AH$2:AH44,LEFT(AE$1,1))+COUNTIF(AH$2:AH44,RIGHT(AE$1,1)),\"\"))","v":""},{"$f":"IF(COUNTBLANK(AB44)=1,\"\",IF(OR(AH44=LEFT(AF$1,1),AH44=RIGHT(AF$1,1)),COUNTIF(AH$2:AH44,LEFT(AF$1,1))+COUNTIF(AH$2:AH44,RIGHT(AF$1,1)),\"\"))","v":""},{"$f":"IF(COUNTBLANK(AB44)=1,\"\",IF(OR(AI44=LEFT(AG$1,1),AI44=RIGHT(AG$1,1)),COUNTIF(AI$2:AI44,LEFT(AG$1,1))+COUNTIF(AI$2:AI44,RIGHT(AG$1,1)),\"\"))","v":""},{"$f":"IF(COUNTBLANK(AB44)=1,\"\",INDEX(Registration!$C$2:$C$101,MATCH(AB44,Registration!$B$2:$B$101,0)))","v":""},{"$f":"IF(COUNTBLANK(AB44)=1,\"\",IF(COUNTBLANK(INDEX(Registration!$D$2:$D$101,MATCH(AB44,Registration!$B$2:$B$101,0)))=1,\"\",INDEX(Registration!$D$2:$D$101,MATCH(AB44,Registration!$B$2:$B$101,0))))","v":""}]
[{"$f":"IF(COUNTBLANK(Registration!B44)=1,\"\",Registration!B44)","v":""},null,null,null,"",null,null,null,"",null,null,null,"",null,null,null,"",null,null,null,"","","","",null,"","","",null,{"$f":"IF(COUNTBLANK(AB45)=1,\"\",IF(OR(AH45=LEFT(AD$1,1),AH45=RIGHT(AD$1,1)),COUNTIF(AH$2:AH45,LEFT(AD$1,1))+COUNTIF(AH$2:AH45,RIGHT(AD$1,1)),\"\"))","v":""},{"$f":"IF(COUNTBLANK(AB45)=1,\"\",IF(OR(AH45=LEFT(AE$1,1),AH45=RIGHT(AE$1,1)),COUNTIF(AH$2:AH45,LEFT(AE$1,1))+COUNTIF(AH$2:AH45,RIGHT(AE$1,1)),\"\"))","v":""},{"$f":"IF(COUNTBLANK(AB45)=1,\"\",IF(OR(AH45=LEFT(AF$1,1),AH45=RIGHT(AF$1,1)),COUNTIF(AH$2:AH45,LEFT(AF$1,1))+COUNTIF(AH$2:AH45,RIGHT(AF$1,1)),\"\"))","v":""},{"$f":"IF(COUNTBLANK(AB45)=1,\"\",IF(OR(AI45=LEFT(AG$1,1),AI45=RIGHT(AG$1,1)),COUNTIF(AI$2:AI45,LEFT(AG$1,1))+COUNTIF(AI$2:AI45,RIGHT(AG$1,1)),\"\"))","v":""},{"$f":"IF(COUNTBLANK(AB45)=1,\"\",INDEX(Registration!$C$2:$C$101,MATCH(AB45,Registration!$B$2:$B$101,0)))","v":""},{"$f":"IF(COUNTBLANK(AB45)=1,\"\",IF(COUNTBLANK(INDEX(Registration!$D$2:$D$101,MATCH(AB45,Registration!$B$2:$B$101,0)))=1,\"\",INDEX(Registration!$D$2:$D$101,MATCH(AB45,Registration!$B$2:$B$101,0))))","v":""}]
[{"$f":"IF(COUNTBLANK(Registration!B45)=1,\"\",Registration!B45)","v":""},null,null,null,"",null,null,null,"",null,null,null,"",null,null,null,"",null,null,null,"","","","",null,"","","",null,{"$f":"IF(COUNTBLANK(AB46)=1,\"\",IF(OR(AH46=LEFT(AD$1,1),AH46=RIGHT(AD$1,1)),COUNTIF(AH$2:AH46,LEFT(AD$1,1))+COUNTIF(AH$2:AH46,RIGHT(AD$1,1)),\"\"))","v":""},{"$f":"IF(COUNTBLANK(AB46)=1,\"\",IF(OR(AH46=LEFT(AE$1,1),AH46=RIGHT(AE$1,1)),COUNTIF(AH$2:AH46,LEFT(AE$1,1))+COUNTIF(AH$2:AH46,RIGHT(AE$1,1)),\"\"))","v":""},{"$f":"IF(COUNTBLANK(AB46)=1,\"\",IF(OR(AH46=LEFT(AF$1,1),AH46=RIGHT(AF$1,1)),COUNTIF(AH$2:AH46,LEFT(AF$1,1))+COUNTIF(AH$2:AH46,RIGHT(AF$1,1)),\"\"))","v":""},{"$f":"IF(COUNTBLANK(AB46)=1,\"\",IF(OR(AI46=LEFT(AG$1,1),AI46=RIGHT(AG$1,1)),COUNTIF(AI$2:AI46,LEFT(AG$1,1))+COUNTIF(AI$2:AI46,RIGHT(AG$1,1)),\"\"))","v":""},{"$f":"IF(COUNTBLANK(AB46)=1,\"\",INDEX(Registration!$C$2:$C$101,MATCH(AB46,Registration!$B$2:$B$101,0)))","v":""},{"$f":"IF(COUNTBLANK(AB46)=1,\"\",IF(COUNTBLANK(INDEX(Registration!$D$2:$D$101,MATCH(AB46,Registration!$B$2:$B$101,0)))=1,\"\",INDEX(Registration!$D$2:$D$101,MATCH(AB46,Registration!$B$2:$B$101,0))))","v":""}]
[{"$f":"IF(COUNTBLANK(Registration!B46)=1,\"\",Registration!B46)","v":""},null,null,null,"",null,null,null,"",null,null,null,"",null,null,null,"",null,null,null,"","","","",null,"","","",null,{"$f":"IF(COUNTBLANK(AB47)=1,\"\",IF(OR(AH47=LEFT(AD$1,1),AH47=RIGHT(AD$1,1)),COUNTIF(AH$2:AH47,LEFT(AD$1,1))+COUNTIF(AH$2:AH47,RIGHT(AD$1,1)),\"\"))","v":""},{"$f":"IF(COUNTBLANK(AB47)=1,\"\",IF(OR(AH47=LEFT(AE$1,1),AH47=RIGHT(AE$1,1)),COUNTIF(AH$2:AH47,LEFT(AE$1,1))+COUNTIF(AH$2:AH47,RIGHT(AE$1,1)),\"\"))","v":""},{"$f":"IF(COUNTBLANK(AB47)=1,\"\",IF(OR(AH47=LEFT(AF$1,1),AH47=RIGHT(AF$1,1)),COUNTIF(AH$2:AH47,LEFT(AF$1,1))+COUNTIF(AH$2:AH47,RIGHT(AF$1,1)),\"\"))","v":""},{"$f":"IF(COUNTBLANK(AB47)=1,\"\",IF(OR(AI47=LEFT(AG$1,1),AI47=RIGHT(AG$1,1)),COUNTIF(AI$2:AI47,LEFT(AG$1,1))+COUNTIF(AI$2:AI47,RIGHT(AG$1,1)),\"\"))","v":""},{"$f":"IF(COUNTBLANK(AB47)=1,\"\",INDEX(Registration!$C$2:$C$101,MATCH(AB47,Registration!$B$2:$B$101,0)))","v":""},{"$f":"IF(COUNTBLANK(AB47)=1,\"\",IF(COUNTBLANK(INDEX(Registration!$D$2:$D$101,MATCH(AB47,Registration!$B$2:$B$101,0)))=1,\"\",INDEX(Registration!$D$2:$D$101,MATCH(AB47,Registration!$B$2:$B$101,0))))","v":""}]
[{"$f":"IF(COUNTBLANK(Registration!B47)=1,\"\",Registration!B47)","v":""},null,null,null,"",null,null,null,"",null,null,null,"",null,null,null,"",null,null,null,"","","","",null,"","","",null,{"$f":"IF(COUNTBLANK(AB48)=1,\"\",IF(OR(AH48=LEFT(AD$1,1),AH48=RIGHT(AD$1,1)),COUNTIF(AH$2:AH48,LEFT(AD$1,1))+COUNTIF(AH$2:AH48,RIGHT(AD$1,1)),\"\"))","v":""},{"$f":"IF(COUNTBLANK(AB48)=1,\"\",IF(OR(AH48=LEFT(AE$1,1),AH48=RIGHT(AE$1,1)),COUNTIF(AH$2:AH48,LEFT(AE$1,1))+COUNTIF(AH$2:AH48,RIGHT(AE$1,1)),\"\"))","v":""},{"$f":"IF(COUNTBLANK(AB48)=1,\"\",IF(OR(AH48=LEFT(AF$1,1),AH48=RIGHT(AF$1,1)),COUNTIF(AH$2:AH48,LEFT(AF$1,1))+COUNTIF(AH$2:AH48,RIGHT(AF$1,1)),\"\"))","v":""},{"$f":"IF(COUNTBLANK(AB48)=1,\"\",IF(OR(AI48=LEFT(AG$1,1),AI48=RIGHT(AG$1,1)),COUNTIF(AI$2:AI48,LEFT(AG$1,1))+COUNTIF(AI$2:AI48,RIGHT(AG$1,1)),\"\"))","v":""},{"$f":"IF(COUNTBLANK(AB48)=1,\"\",INDEX(Registration!$C$2:$C$101,MATCH(AB48,Registration!$B$2:$B$101,0)))","v":""},{"$f":"IF(COUNTBLANK(AB48)=1,\"\",IF(COUNTBLANK(INDEX(Registration!$D$2:$D$101,MATCH(AB48,Registration!$B$2:$B$101,0)))=1,\"\",INDEX(Registration!$D$2:$D$101,MATCH(AB48,Registration!$B$2:$B$101,0))))","v":""}]
[{"$f":"IF(COUNTBLANK(Registration!B48)=1,\"\",Registration!B48)","v":""},null,null,null,"",null,null,null,"",null,null,null,"",null,null,null,"",null,null,null,"","","","",null,"","","",null,{"$f":"IF(COUNTBLANK(AB49)=1,\"\",IF(OR(AH49=LEFT(AD$1,1),AH49=RIGHT(AD$1,1)),COUNTIF(AH$2:AH49,LEFT(AD$1,1))+COUNTIF(AH$2:AH49,RIGHT(AD$1,1)),\"\"))","v":""},{"$f":"IF(COUNTBLANK(AB49)=1,\"\",IF(OR(AH49=LEFT(AE$1,1),AH49=RIGHT(AE$1,1)),COUNTIF(AH$2:AH49,LEFT(AE$1,1))+COUNTIF(AH$2:AH49,RIGHT(AE$1,1)),\"\"))","v":""},{"$f":"IF(COUNTBLANK(AB49)=1,\"\",IF(OR(AH49=LEFT(AF$1,1),AH49=RIGHT(AF$1,1)),COUNTIF(AH$2:AH49,LEFT(AF$1,1))+COUNTIF(AH$2:AH49,RIGHT(AF$1,1)),\"\"))","v":""},{"$f":"IF(COUNTBLANK(AB49)=1,\"\",IF(OR(AI49=LEFT(AG$1,1),AI49=RIGHT(AG$1,1)),COUNTIF(AI$2:AI49,LEFT(AG$1,1))+COUNTIF(AI$2:AI49,RIGHT(AG$1,1)),\"\"))","v":""},{"$f":"IF(COUNTBLANK(AB49)=1,\"\",INDEX(Registration!$C$2:$C$101,MATCH(AB49,Registration!$B$2:$B$101,0)))","v":""},{"$f":"IF(COUNTBLANK(AB49)=1,\"\",IF(COUNTBLANK(INDEX(Registration!$D$2:$D$101,MATCH(AB49,Registration!$B$2:$B$101,0)))=1,\"\",INDEX(Registration!$D$2:$D$101,MATCH(AB49,Registration!$B$2:$B$101,0))))","v":""}]
[{"$f":"IF(COUNTBLANK(Registration!B49)=1,\"\",Registration!B49)","v":""},null,null,null,"",null,null,null,"",null,null,null,"",null,null,null,"",null,null,null,"","","","",null,"","","",null,{"$f":"IF(COUNTBLANK(AB50)=1,\"\",IF(OR(AH50=LEFT(AD$1,1),AH50=RIGHT(AD$1,1)),COUNTIF(AH$2:AH50,LEFT(AD$1,1))+COUNTIF(AH$2:AH50,RIGHT(AD$1,1)),\"\"))","v":""},{"$f":"IF(COUNTBLANK(AB50)=1,\"\",IF(OR(AH50=LEFT(AE$1,1),AH50=RIGHT(AE$1,1)),COUNTIF(AH$2:AH50,LEFT(AE$1,1))+COUNTIF(AH$2:AH50,RIGHT(AE$1,1)),\"\"))","v":""},{"$f":"IF(COUNTBLANK(AB50)=1,\"\",IF(OR(AH50=LEFT(AF$1,1),AH50=RIGHT(AF$1,1)),COUNTIF(AH$2:AH50,LEFT(AF$1,1))+COUNTIF(AH$2:AH50,RIGHT(AF$1,1)),\"\"))","v":""},{"$f":"IF(COUNTBLANK(AB50)=1,\"\",IF(OR(AI50=LEFT(AG$1,1),AI50=RIGHT(AG$1,1)),COUNTIF(AI$2:AI50,LEFT(AG$1,1))+COUNTIF(AI$2:AI50,RIGHT(AG$1,1)),\"\"))","v":""},{"$f":"IF(COUNTBLANK(AB50)=1,\"\",INDEX(Registration!$C$2:$C$101,MATCH(AB50,Registration!$B$2:$B$101,0)))","v":""},{"$f":"IF(COUNTBLANK(AB50)=1,\"\",IF(COUNTBLANK(INDEX(Registration!$D$2:$D$101,MATCH(AB50,Registration!$B$2:$B$101,0)))=1,\"\",INDEX(Registration!$D$2:$D$101,MATCH(AB50,Registration!$B$2:$B$101,0))))","v":""}]
[{"$f":"IF(COUNTBLANK(Registration!B50)=1,\"\",Registration!B50)","v":""},null,null,null,"",null,null,null,"",null,null,null,"",null,null,null,"",null,null,null,"","","","",null,"","","",null,{"$f":"IF(COUNTBLANK(AB51)=1,\"\",IF(OR(AH51=LEFT(AD$1,1),AH51=RIGHT(AD$1,1)),COUNTIF(AH$2:AH51,LEFT(AD$1,1))+COUNTIF(AH$2:AH51,RIGHT(AD$1,1)),\"\"))","v":""},{"$f":"IF(COUNTBLANK(AB51)=1,\"\",IF(OR(AH51=LEFT(AE$1,1),AH51=RIGHT(AE$1,1)),COUNTIF(AH$2:AH51,LEFT(AE$1,1))+COUNTIF(AH$2:AH51,RIGHT(AE$1,1)),\"\"))","v":""},{"$f":"IF(COUNTBLANK(AB51)=1,\"\",IF(OR(AH51=LEFT(AF$1,1),AH51=RIGHT(AF$1,1)),COUNTIF(AH$2:AH51,LEFT(AF$1,1))+COUNTIF(AH$2:AH51,RIGHT(AF$1,1)),\"\"))","v":""},{"$f":"IF(COUNTBLANK(AB51)=1,\"\",IF(OR(AI51=LEFT(AG$1,1),AI51=RIGHT(AG$1,1)),COUNTIF(AI$2:AI51,LEFT(AG$1,1))+COUNTIF(AI$2:AI51,RIGHT(AG$1,1)),\"\"))","v":""},{"$f":"IF(COUNTBLANK(AB51)=1,\"\",INDEX(Registration!$C$2:$C$101,MATCH(AB51,Registration!$B$2:$B$101,0)))","v":""},{"$f":"IF(COUNTBLANK(AB51)=1,\"\",IF(COUNTBLANK(INDEX(Registration!$D$2:$D$101,MATCH(AB51,Registration!$B$2:$B$101,0)))=1,\"\",INDEX(Registration!$D$2:$D$101,MATCH(AB51,Registration!$B$2:$B$101,0))))","v":""}]
[{"$f":"IF(COUNTBLANK(Registration!B51)=1,\"\",Registration!B51)","v":""},null,null,null,"",null,null,null,"",null,null,null,"",null,null,null,"",null,null,null,"","","","",null,"","","",null,{"$f":"IF(COUNTBLANK(AB52)=1,\"\",IF(OR(AH52=LEFT(AD$1,1),AH52=RIGHT(AD$1,1)),COUNTIF(AH$2:AH52,LEFT(AD$1,1))+COUNTIF(AH$2:AH52,RIGHT(AD$1,1)),\"\"))","v":""},{"$f":"IF(COUNTBLANK(AB52)=1,\"\",IF(OR(AH52=LEFT(AE$1,1),AH52=RIGHT(AE$1,1)),COUNTIF(AH$2:AH52,LEFT(AE$1,1))+COUNTIF(AH$2:AH52,RIGHT(AE$1,1)),\"\"))","v":""},{"$f":"IF(COUNTBLANK(AB52)=1,\"\",IF(OR(AH52=LEFT(AF$1,1),AH52=RIGHT(AF$1,1)),COUNTIF(AH$2:AH52,LEFT(AF$1,1))+COUNTIF(AH$2:AH52,RIGHT(AF$1,1)),\"\"))","v":""},{"$f":"IF(COUNTBLANK(AB52)=1,\"\",IF(OR(AI52=LEFT(AG$1,1),AI52=RIGHT(AG$1,1)),COUNTIF(AI$2:AI52,LEFT(AG$1,1))+COUNTIF(AI$2:AI52,RIGHT(AG$1,1)),\"\"))","v":""},{"$f":"IF(COUNTBLANK(AB52)=1,\"\",INDEX(Registration!$C$2:$C$101,MATCH(AB52,Registration!$B$2:$B$101,0)))","v":""},{"$f":"IF(COUNTBLANK(AB52)=1,\"\",IF(COUNTBLANK(INDEX(Registration!$D$2:$D$101,MATCH(AB52,Registration!$B$2:$B$101,0)))=1,\"\",INDEX(Registration!$D$2:$D$101,MATCH(AB52,Registration!$B$2:$B$101,0))))","v":""}]
[{"$f":"IF(COUNTBLANK(Registration!B52)=1,\"\",Registration!B52)","v":""},null,null,null,"",null,null,null,"",null,null,null,"",null,null,null,"",null,null,null,"","","","",null,"","","",null,{"$f":"IF(COUNTBLANK(AB53)=1,\"\",IF(OR(AH53=LEFT(AD$1,1),AH53=RIGHT(AD$1,1)),COUNTIF(AH$2:AH53,LEFT(AD$1,1))+COUNTIF(AH$2:AH53,RIGHT(AD$1,1)),\"\"))","v":""},{"$f":"IF(COUNTBLANK(AB53)=1,\"\",IF(OR(AH53=LEFT(AE$1,1),AH53=RIGHT(AE$1,1)),COUNTIF(AH$2:AH53,LEFT(AE$1,1))+COUNTIF(AH$2:AH53,RIGHT(AE$1,1)),\"\"))","v":""},{"$f":"IF(COUNTBLANK(AB53)=1,\"\",IF(OR(AH53=LEFT(AF$1,1),AH53=RIGHT(AF$1,1)),COUNTIF(AH$2:AH53,LEFT(AF$1,1))+COUNTIF(AH$2:AH53,RIGHT(AF$1,1)),\"\"))","v":""},{"$f":"IF(COUNTBLANK(AB53)=1,\"\",IF(OR(AI53=LEFT(AG$1,1),AI53=RIGHT(AG$1,1)),COUNTIF(AI$2:AI53,LEFT(AG$1,1))+COUNTIF(AI$2:AI53,RIGHT(AG$1,1)),\"\"))","v":""},{"$f":"IF(COUNTBLANK(AB53)=1,\"\",INDEX(Registration!$C$2:$C$101,MATCH(AB53,Registration!$B$2:$B$101,0)))","v":""},{"$f":"IF(COUNTBLANK(AB53)=1,\"\",IF(COUNTBLANK(INDEX(Registration!$D$2:$D$101,MATCH(AB53,Registration!$B$2:$B$101,0)))=1,\"\",INDEX(Registration!$D$2:$D$101,MATCH(AB53,Registration!$B$2:$B$101,0))))","v":""}]
[{"$f":"IF(COUNTBLANK(Registration!B53)=1,\"\",Registration!B53)","v":""},null,null,null,"",null,null,null,"",null,null,null,"",null,null,null,"",null,null,null,"","","","",null,"","","",null,{"$f":"IF(COUNTBLANK(AB54)=1,\"\",IF(OR(AH54=LEFT(AD$1,1),AH54=RIGHT(AD$1,1)),COUNTIF(AH$2:AH54,LEFT(AD$1,1))+COUNTIF(AH$2:AH54,RIGHT(AD$1,1)),\"\"))","v":""},{"$f":"IF(COUNTBLANK(AB54)=1,\"\",IF(OR(AH54=LEFT(AE$1,1),AH54=RIGHT(AE$1,1)),COUNTIF(AH$2:AH54,LEFT(AE$1,1))+COUNTIF(AH$2:AH54,RIGHT(AE$1,1)),\"\"))","v":""},{"$f":"IF(COUNTBLANK(AB54)=1,\"\",IF(OR(AH54=LEFT(AF$1,1),AH54=RIGHT(AF$1,1)),COUNTIF(AH$2:AH54,LEFT(AF$1,1))+COUNTIF(AH$2:AH54,RIGHT(AF$1,1)),\"\"))","v":""},{"$f":"IF(COUNTBLANK(AB54)=1,\"\",IF(OR(AI54=LEFT(AG$1,1),AI54=RIGHT(AG$1,1)),COUNTIF(AI$2:AI54,LEFT(AG$1,1))+COUNTIF(AI$2:AI54,RIGHT(AG$1,1)),\"\"))","v":""},{"$f":"IF(COUNTBLANK(AB54)=1,\"\",INDEX(Registration!$C$2:$C$101,MATCH(AB54,Registration!$B$2:$B$101,0)))","v":""},{"$f":"IF(COUNTBLANK(AB54)=1,\"\",IF(COUNTBLANK(INDEX(Registration!$D$2:$D$101,MATCH(AB54,Registration!$B$2:$B$101,0)))=1,\"\",INDEX(Registration!$D$2:$D$101,MATCH(AB54,Registration!$B$2:$B$101,0))))","v":""}]
[{"$f":"IF(COUNTBLANK(Registration!B54)=1,\"\",Registration!B54)","v":""},null,null,null,"",null,null,null,"",null,null,null,"",null,null,null,"",null,null,null,"","","","",null,"","","",null,{"$f":"IF(COUNTBLANK(AB55)=1,\"\",IF(OR(AH55=LEFT(AD$1,1),AH55=RIGHT(AD$1,1)),COUNTIF(AH$2:AH55,LEFT(AD$1,1))+COUNTIF(AH$2:AH55,RIGHT(AD$1,1)),\"\"))","v":""},{"$f":"IF(COUNTBLANK(AB55)=1,\"\",IF(OR(AH55=LEFT(AE$1,1),AH55=RIGHT(AE$1,1)),COUNTIF(AH$2:AH55,LEFT(AE$1,1))+COUNTIF(AH$2:AH55,RIGHT(AE$1,1)),\"\"))","v":""},{"$f":"IF(COUNTBLANK(AB55)=1,\"\",IF(OR(AH55=LEFT(AF$1,1),AH55=RIGHT(AF$1,1)),COUNTIF(AH$2:AH55,LEFT(AF$1,1))+COUNTIF(AH$2:AH55,RIGHT(AF$1,1)),\"\"))","v":""},{"$f":"IF(COUNTBLANK(AB55)=1,\"\",IF(OR(AI55=LEFT(AG$1,1),AI55=RIGHT(AG$1,1)),COUNTIF(AI$2:AI55,LEFT(AG$1,1))+COUNTIF(AI$2:AI55,RIGHT(AG$1,1)),\"\"))","v":""},{"$f":"IF(COUNTBLANK(AB55)=1,\"\",INDEX(Registration!$C$2:$C$101,MATCH(AB55,Registration!$B$2:$B$101,0)))","v":""},{"$f":"IF(COUNTBLANK(AB55)=1,\"\",IF(COUNTBLANK(INDEX(Registration!$D$2:$D$101,MATCH(AB55,Registration!$B$2:$B$101,0)))=1,\"\",INDEX(Registration!$D$2:$D$101,MATCH(AB55,Registration!$B$2:$B$101,0))))","v":""}]
[{"$f":"IF(COUNTBLANK(Registration!B55)=1,\"\",Registration!B55)","v":""},null,null,null,"",null,null,null,"",null,null,null,"",null,null,null,"",null,null,null,"","","","",null,"","","",null,{"$f":"IF(COUNTBLANK(AB56)=1,\"\",IF(OR(AH56=LEFT(AD$1,1),AH56=RIGHT(AD$1,1)),COUNTIF(AH$2:AH56,LEFT(AD$1,1))+COUNTIF(AH$2:AH56,RIGHT(AD$1,1)),\"\"))","v":""},{"$f":"IF(COUNTBLANK(AB56)=1,\"\",IF(OR(AH56=LEFT(AE$1,1),AH56=RIGHT(AE$1,1)),COUNTIF(AH$2:AH56,LEFT(AE$1,1))+COUNTIF(AH$2:AH56,RIGHT(AE$1,1)),\"\"))","v":""},{"$f":"IF(COUNTBLANK(AB56)=1,\"\",IF(OR(AH56=LEFT(AF$1,1),AH56=RIGHT(AF$1,1)),COUNTIF(AH$2:AH56,LEFT(AF$1,1))+COUNTIF(AH$2:AH56,RIGHT(AF$1,1)),\"\"))","v":""},{"$f":"IF(COUNTBLANK(AB56)=1,\"\",IF(OR(AI56=LEFT(AG$1,1),AI56=RIGHT(AG$1,1)),COUNTIF(AI$2:AI56,LEFT(AG$1,1))+COUNTIF(AI$2:AI56,RIGHT(AG$1,1)),\"\"))","v":""},{"$f":"IF(COUNTBLANK(AB56)=1,\"\",INDEX(Registration!$C$2:$C$101,MATCH(AB56,Registration!$B$2:$B$101,0)))","v":""},{"$f":"IF(COUNTBLANK(AB56)=1,\"\",IF(COUNTBLANK(INDEX(Registration!$D$2:$D$101,MATCH(AB56,Registration!$B$2:$B$101,0)))=1,\"\",INDEX(Registration!$D$2:$D$101,MATCH(AB56,Registration!$B$2:$B$101,0))))","v":""}]
[{"$f":"IF(COUNTBLANK(Registration!B56)=1,\"\",Registration!B56)","v":""},null,null,null,"",null,null,null,"",null,null,null,"",null,null,null,"",null,null,null,"","","","",null,"","","",null,{"$f":"IF(COUNTBLANK(AB57)=1,\"\",IF(OR(AH57=LEFT(AD$1,1),AH57=RIGHT(AD$1,1)),COUNTIF(AH$2:AH57,LEFT(AD$1,1))+COUNTIF(AH$2:AH57,RIGHT(AD$1,1)),\"\"))","v":""},{"$f":"IF(COUNTBLANK(AB57)=1,\"\",IF(OR(AH57=LEFT(AE$1,1),AH57=RIGHT(AE$1,1)),COUNTIF(AH$2:AH57,LEFT(AE$1,1))+COUNTIF(AH$2:AH57,RIGHT(AE$1,1)),\"\"))","v":""},{"$f":"IF(COUNTBLANK(AB57)=1,\"\",IF(OR(AH57=LEFT(AF$1,1),AH57=RIGHT(AF$1,1)),COUNTIF(AH$2:AH57,LEFT(AF$1,1))+COUNTIF(AH$2:AH57,RIGHT(AF$1,1)),\"\"))","v":""},{"$f":"IF(COUNTBLANK(AB57)=1,\"\",IF(OR(AI57=LEFT(AG$1,1),AI57=RIGHT(AG$1,1)),COUNTIF(AI$2:AI57,LEFT(AG$1,1))+COUNTIF(AI$2:AI57,RIGHT(AG$1,1)),\"\"))","v":""},{"$f":"IF(COUNTBLANK(AB57)=1,\"\",INDEX(Registration!$C$2:$C$101,MATCH(AB57,Registration!$B$2:$B$101,0)))","v":""},{"$f":"IF(COUNTBLANK(AB57)=1,\"\",IF(COUNTBLANK(INDEX(Registration!$D$2:$D$101,MATCH(AB57,Registration!$B$2:$B$101,0)))=1,\"\",INDEX(Registration!$D$2:$D$101,MATCH(AB57,Registration!$B$2:$B$101,0))))","v":""}]
[{"$f":"IF(COUNTBLANK(Registration!B57)=1,\"\",Registration!B57)","v":""},null,null,null,"",null,null,null,"",null,null,null,"",null,null,null,"",null,null,null,"","","","",null,"","","",null,{"$f":"IF(COUNTBLANK(AB58)=1,\"\",IF(OR(AH58=LEFT(AD$1,1),AH58=RIGHT(AD$1,1)),COUNTIF(AH$2:AH58,LEFT(AD$1,1))+COUNTIF(AH$2:AH58,RIGHT(AD$1,1)),\"\"))","v":""},{"$f":"IF(COUNTBLANK(AB58)=1,\"\",IF(OR(AH58=LEFT(AE$1,1),AH58=RIGHT(AE$1,1)),COUNTIF(AH$2:AH58,LEFT(AE$1,1))+COUNTIF(AH$2:AH58,RIGHT(AE$1,1)),\"\"))","v":""},{"$f":"IF(COUNTBLANK(AB58)=1,\"\",IF(OR(AH58=LEFT(AF$1,1),AH58=RIGHT(AF$1,1)),COUNTIF(AH$2:AH58,LEFT(AF$1,1))+COUNTIF(AH$2:AH58,RIGHT(AF$1,1)),\"\"))","v":""},{"$f":"IF(COUNTBLANK(AB58)=1,\"\",IF(OR(AI58=LEFT(AG$1,1),AI58=RIGHT(AG$1,1)),COUNTIF(AI$2:AI58,LEFT(AG$1,1))+COUNTIF(AI$2:AI58,RIGHT(AG$1,1)),\"\"))","v":""},{"$f":"IF(COUNTBLANK(AB58)=1,\"\",INDEX(Registration!$C$2:$C$101,MATCH(AB58,Registration!$B$2:$B$101,0)))","v":""},{"$f":"IF(COUNTBLANK(AB58)=1,\"\",IF(COUNTBLANK(INDEX(Registration!$D$2:$D$101,MATCH(AB58,Registration!$B$2:$B$101,0)))=1,\"\",INDEX(Registration!$D$2:$D$101,MATCH(AB58,Registration!$B$2:$B$101,0))))","v":""}]
[{"$f":"IF(COUNTBLANK(Registration!B58)=1,\"\",Registration!B58)","v":""},null,null,null,"",null,null,null,"",null,null,null,"",null,null,null,"",null,null,null,"","","","",null,"","","",null,{"$f":"IF(COUNTBLANK(AB59)=1,\"\",IF(OR(AH59=LEFT(AD$1,1),AH59=RIGHT(AD$1,1)),COUNTIF(AH$2:AH59,LEFT(AD$1,1))+COUNTIF(AH$2:AH59,RIGHT(AD$1,1)),\"\"))","v":""},{"$f":"IF(COUNTBLANK(AB59)=1,\"\",IF(OR(AH59=LEFT(AE$1,1),AH59=RIGHT(AE$1,1)),COUNTIF(AH$2:AH59,LEFT(AE$1,1))+COUNTIF(AH$2:AH59,RIGHT(AE$1,1)),\"\"))","v":""},{"$f":"IF(COUNTBLANK(AB59)=1,\"\",IF(OR(AH59=LEFT(AF$1,1),AH59=RIGHT(AF$1,1)),COUNTIF(AH$2:AH59,LEFT(AF$1,1))+COUNTIF(AH$2:AH59,RIGHT(AF$1,1)),\"\"))","v":""},{"$f":"IF(COUNTBLANK(AB59)=1,\"\",IF(OR(AI59=LEFT(AG$1,1),AI59=RIGHT(AG$1,1)),COUNTIF(AI$2:AI59,LEFT(AG$1,1))+COUNTIF(AI$2:AI59,RIGHT(AG$1,1)),\"\"))","v":""},{"$f":"IF(COUNTBLANK(AB59)=1,\"\",INDEX(Registration!$C$2:$C$101,MATCH(AB59,Registration!$B$2:$B$101,0)))","v":""},{"$f":"IF(COUNTBLANK(AB59)=1,\"\",IF(COUNTBLANK(INDEX(Registration!$D$2:$D$101,MATCH(AB59,Registration!$B$2:$B$101,0)))=1,\"\",INDEX(Registration!$D$2:$D$101,MATCH(AB59,Registration!$B$2:$B$101,0))))","v":""}]
[{"$f":"IF(COUNTBLANK(Registration!B59)=1,\"\",Registration!B59)","v":""},null,null,null,"",null,null,null,"",null,null,null,"",null,null,null,"",null,null,null,"","","","",null,"","","",null,{"$f":"IF(COUNTBLANK(AB60)=1,\"\",IF(OR(AH60=LEFT(AD$1,1),AH60=RIGHT(AD$1,1)),COUNTIF(AH$2:AH60,LEFT(AD$1,1))+COUNTIF(AH$2:AH60,RIGHT(AD$1,1)),\"\"))","v":""},{"$f":"IF(COUNTBLANK(AB60)=1,\"\",IF(OR(AH60=LEFT(AE$1,1),AH60=RIGHT(AE$1,1)),COUNTIF(AH$2:AH60,LEFT(AE$1,1))+COUNTIF(AH$2:AH60,RIGHT(AE$1,1)),\"\"))","v":""},{"$f":"IF(COUNTBLANK(AB60)=1,\"\",IF(OR(AH60=LEFT(AF$1,1),AH60=RIGHT(AF$1,1)),COUNTIF(AH$2:AH60,LEFT(AF$1,1))+COUNTIF(AH$2:AH60,RIGHT(AF$1,1)),\"\"))","v":""},{"$f":"IF(COUNTBLANK(AB60)=1,\"\",IF(OR(AI60=LEFT(AG$1,1),AI60=RIGHT(AG$1,1)),COUNTIF(AI$2:AI60,LEFT(AG$1,1))+COUNTIF(AI$2:AI60,RIGHT(AG$1,1)),\"\"))","v":""},{"$f":"IF(COUNTBLANK(AB60)=1,\"\",INDEX(Registration!$C$2:$C$101,MATCH(AB60,Registration!$B$2:$B$101,0)))","v":""},{"$f":"IF(COUNTBLANK(AB60)=1,\"\",IF(COUNTBLANK(INDEX(Registration!$D$2:$D$101,MATCH(AB60,Registration!$B$2:$B$101,0)))=1,\"\",INDEX(Registration!$D$2:$D$101,MATCH(AB60,Registration!$B$2:$B$101,0))))","v":""}]
[{"$f":"IF(COUNTBLANK(Registration!B60)=1,\"\",Registration!B60)","v":""},null,null,null,"",null,null,null,"",null,null,null,"",null,null,null,"",null,null,null,"","","","",null,"","","",null,{"$f":"IF(COUNTBLANK(AB61)=1,\"\",IF(OR(AH61=LEFT(AD$1,1),AH61=RIGHT(AD$1,1)),COUNTIF(AH$2:AH61,LEFT(AD$1,1))+COUNTIF(AH$2:AH61,RIGHT(AD$1,1)),\"\"))","v":""},{"$f":"IF(COUNTBLANK(AB61)=1,\"\",IF(OR(AH61=LEFT(AE$1,1),AH61=RIGHT(AE$1,1)),COUNTIF(AH$2:AH61,LEFT(AE$1,1))+COUNTIF(AH$2:AH61,RIGHT(AE$1,1)),\"\"))","v":""},{"$f":"IF(COUNTBLANK(AB61)=1,\"\",IF(OR(AH61=LEFT(AF$1,1),AH61=RIGHT(AF$1,1)),COUNTIF(AH$2:AH61,LEFT(AF$1,1))+COUNTIF(AH$2:AH61,RIGHT(AF$1,1)),\"\"))","v":""},{"$f":"IF(COUNTBLANK(AB61)=1,\"\",IF(OR(AI61=LEFT(AG$1,1),AI61=RIGHT(AG$1,1)),COUNTIF(AI$2:AI61,LEFT(AG$1,1))+COUNTIF(AI$2:AI61,RIGHT(AG$1,1)),\"\"))","v":""},{"$f":"IF(COUNTBLANK(AB61)=1,\"\",INDEX(Registration!$C$2:$C$101,MATCH(AB61,Registration!$B$2:$B$101,0)))","v":""},{"$f":"IF(COUNTBLANK(AB61)=1,\"\",IF(COUNTBLANK(INDEX(Registration!$D$2:$D$101,MATCH(AB61,Registration!$B$2:$B$101,0)))=1,\"\",INDEX(Registration!$D$2:$D$101,MATCH(AB61,Registration!$B$2:$B$101,0))))","v":""}]
[{"$f":"IF(COUNTBLANK(Registration!B61)=1,\"\",Registration!B61)","v":""},null,null,null,"",null,null,null,"",null,null,null,"",null,null,null,"",null,null,null,"","","","",null,"","","",null,{"$f":"IF(COUNTBLANK(AB62)=1,\"\",IF(OR(AH62=LEFT(AD$1,1),AH62=RIGHT(AD$1,1)),COUNTIF(AH$2:AH62,LEFT(AD$1,1))+COUNTIF(AH$2:AH62,RIGHT(AD$1,1)),\"\"))","v":""},{"$f":"IF(COUNTBLANK(AB62)=1,\"\",IF(OR(AH62=LEFT(AE$1,1),AH62=RIGHT(AE$1,1)),COUNTIF(AH$2:AH62,LEFT(AE$1,1))+COUNTIF(AH$2:AH62,RIGHT(AE$1,1)),\"\"))","v":""},{"$f":"IF(COUNTBLANK(AB62)=1,\"\",IF(OR(AH62=LEFT(AF$1,1),AH62=RIGHT(AF$1,1)),COUNTIF(AH$2:AH62,LEFT(AF$1,1))+COUNTIF(AH$2:AH62,RIGHT(AF$1,1)),\"\"))","v":""},{"$f":"IF(COUNTBLANK(AB62)=1,\"\",IF(OR(AI62=LEFT(AG$1,1),AI62=RIGHT(AG$1,1)),COUNTIF(AI$2:AI62,LEFT(AG$1,1))+COUNTIF(AI$2:AI62,RIGHT(AG$1,1)),\"\"))","v":""},{"$f":"IF(COUNTBLANK(AB62)=1,\"\",INDEX(Registration!$C$2:$C$101,MATCH(AB62,Registration!$B$2:$B$101,0)))","v":""},{"$f":"IF(COUNTBLANK(AB62)=1,\"\",IF(COUNTBLANK(INDEX(Registration!$D$2:$D$101,MATCH(AB62,Registration!$B$2:$B$101,0)))=1,\"\",INDEX(Registration!$D$2:$D$101,MATCH(AB62,Registration!$B$2:$B$101,0))))","v":""}]
[{"$f":"IF(COUNTBLANK(Registration!B62)=1,\"\",Registration!B62)","v":""},null,null,null,"",null,null,null,"",null,null,null,"",null,null,null,"",null,null,null,"","","","",null,"","","",null,{"$f":"IF(COUNTBLANK(AB63)=1,\"\",IF(OR(AH63=LEFT(AD$1,1),AH63=RIGHT(AD$1,1)),COUNTIF(AH$2:AH63,LEFT(AD$1,1))+COUNTIF(AH$2:AH63,RIGHT(AD$1,1)),\"\"))","v":""},{"$f":"IF(COUNTBLANK(AB63)=1,\"\",IF(OR(AH63=LEFT(AE$1,1),AH63=RIGHT(AE$1,1)),COUNTIF(AH$2:AH63,LEFT(AE$1,1))+COUNTIF(AH$2:AH63,RIGHT(AE$1,1)),\"\"))","v":""},{"$f":"IF(COUNTBLANK(AB63)=1,\"\",IF(OR(AH63=LEFT(AF$1,1),AH63=RIGHT(AF$1,1)),COUNTIF(AH$2:AH63,LEFT(AF$1,1))+COUNTIF(AH$2:AH63,RIGHT(AF$1,1)),\"\"))","v":""},{"$f":"IF(COUNTBLANK(AB63)=1,\"\",IF(OR(AI63=LEFT(AG$1,1),AI63=RIGHT(AG$1,1)),COUNTIF(AI$2:AI63,LEFT(AG$1,1))+COUNTIF(AI$2:AI63,RIGHT(AG$1,1)),\"\"))","v":""},{"$f":"IF(COUNTBLANK(AB63)=1,\"\",INDEX(Registration!$C$2:$C$101,MATCH(AB63,Registration!$B$2:$B$101,0)))","v":""},{"$f":"IF(COUNTBLANK(AB63)=1,\"\",IF(COUNTBLANK(INDEX(Registration!$D$2:$D$101,MATCH(AB63,Registration!$B$2:$B$101,0)))=1,\"\",INDEX(Registration!$D$2:$D$101,MATCH(AB63,Registration!$B$2:$B$101,0))))","v":""}]
[{"$f":"IF(COUNTBLANK(Registration!B63)=1,\"\",Registration!B63)","v":""},null,null,null,"",null,null,null,"",null,null,null,"",null,null,null,"",null,null,null,"","","","",null,"","","",null,{"$f":"IF(COUNTBLANK(AB64)=1,\"\",IF(OR(AH64=LEFT(AD$1,1),AH64=RIGHT(AD$1,1)),COUNTIF(AH$2:AH64,LEFT(AD$1,1))+COUNTIF(AH$2:AH64,RIGHT(AD$1,1)),\"\"))","v":""},{"$f":"IF(COUNTBLANK(AB64)=1,\"\",IF(OR(AH64=LEFT(AE$1,1),AH64=RIGHT(AE$1,1)),COUNTIF(AH$2:AH64,LEFT(AE$1,1))+COUNTIF(AH$2:AH64,RIGHT(AE$1,1)),\"\"))","v":""},{"$f":"IF(COUNTBLANK(AB64)=1,\"\",IF(OR(AH64=LEFT(AF$1,1),AH64=RIGHT(AF$1,1)),COUNTIF(AH$2:AH64,LEFT(AF$1,1))+COUNTIF(AH$2:AH64,RIGHT(AF$1,1)),\"\"))","v":""},{"$f":"IF(COUNTBLANK(AB64)=1,\"\",IF(OR(AI64=LEFT(AG$1,1),AI64=RIGHT(AG$1,1)),COUNTIF(AI$2:AI64,LEFT(AG$1,1))+COUNTIF(AI$2:AI64,RIGHT(AG$1,1)),\"\"))","v":""},{"$f":"IF(COUNTBLANK(AB64)=1,\"\",INDEX(Registration!$C$2:$C$101,MATCH(AB64,Registration!$B$2:$B$101,0)))","v":""},{"$f":"IF(COUNTBLANK(AB64)=1,\"\",IF(COUNTBLANK(INDEX(Registration!$D$2:$D$101,MATCH(AB64,Registration!$B$2:$B$101,0)))=1,\"\",INDEX(Registration!$D$2:$D$101,MATCH(AB64,Registration!$B$2:$B$101,0))))","v":""}]
[{"$f":"IF(COUNTBLANK(Registration!B64)=1,\"\",Registration!B64)","v":""},null,null,null,"",null,null,null,"",null,null,null,"",null,null,null,"",null,null,null,"","","","",null,"","","",null,{"$f":"IF(COUNTBLANK(AB65)=1,\"\",IF(OR(AH65=LEFT(AD$1,1),AH65=RIGHT(AD$1,1)),COUNTIF(AH$2:AH65,LEFT(AD$1,1))+COUNTIF(AH$2:AH65,RIGHT(AD$1,1)),\"\"))","v":""},{"$f":"IF(COUNTBLANK(AB65)=1,\"\",IF(OR(AH65=LEFT(AE$1,1),AH65=RIGHT(AE$1,1)),COUNTIF(AH$2:AH65,LEFT(AE$1,1))+COUNTIF(AH$2:AH65,RIGHT(AE$1,1)),\"\"))","v":""},{"$f":"IF(COUNTBLANK(AB65)=1,\"\",IF(OR(AH65=LEFT(AF$1,1),AH65=RIGHT(AF$1,1)),COUNTIF(AH$2:AH65,LEFT(AF$1,1))+COUNTIF(AH$2:AH65,RIGHT(AF$1,1)),\"\"))","v":""},{"$f":"IF(COUNTBLANK(AB65)=1,\"\",IF(OR(AI65=LEFT(AG$1,1),AI65=RIGHT(AG$1,1)),COUNTIF(AI$2:AI65,LEFT(AG$1,1))+COUNTIF(AI$2:AI65,RIGHT(AG$1,1)),\"\"))","v":""},{"$f":"IF(COUNTBLANK(AB65)=1,\"\",INDEX(Registration!$C$2:$C$101,MATCH(AB65,Registration!$B$2:$B$101,0)))","v":""},{"$f":"IF(COUNTBLANK(AB65)=1,\"\",IF(COUNTBLANK(INDEX(Registration!$D$2:$D$101,MATCH(AB65,Registration!$B$2:$B$101,0)))=1,\"\",INDEX(Registration!$D$2:$D$101,MATCH(AB65,Registration!$B$2:$B$101,0))))","v":""}]
[{"$f":"IF(COUNTBLANK(Registration!B65)=1,\"\",Registration!B65)","v":""},null,null,null,"",null,null,null,"",null,null,null,"",null,null,null,"",null,null,null,"","","","",null,"","","",null,{"$f":"IF(COUNTBLANK(AB66)=1,\"\",IF(OR(AH66=LEFT(AD$1,1),AH66=RIGHT(AD$1,1)),COUNTIF(AH$2:AH66,LEFT(AD$1,1))+COUNTIF(AH$2:AH66,RIGHT(AD$1,1)),\"\"))","v":""},{"$f":"IF(COUNTBLANK(AB66)=1,\"\",IF(OR(AH66=LEFT(AE$1,1),AH66=RIGHT(AE$1,1)),COUNTIF(AH$2:AH66,LEFT(AE$1,1))+COUNTIF(AH$2:AH66,RIGHT(AE$1,1)),\"\"))","v":""},{"$f":"IF(COUNTBLANK(AB66)=1,\"\",IF(OR(AH66=LEFT(AF$1,1),AH66=RIGHT(AF$1,1)),COUNTIF(AH$2:AH66,LEFT(AF$1,1))+COUNTIF(AH$2:AH66,RIGHT(AF$1,1)),\"\"))","v":""},{"$f":"IF(COUNTBLANK(AB66)=1,\"\",IF(OR(AI66=LEFT(AG$1,1),AI66=RIGHT(AG$1,1)),COUNTIF(AI$2:AI66,LEFT(AG$1,1))+COUNTIF(AI$2:AI66,RIGHT(AG$1,1)),\"\"))","v":""},{"$f":"IF(COUNTBLANK(AB66)=1,\"\",INDEX(Registration!$C$2:$C$101,MATCH(AB66,Registration!$B$2:$B$101,0)))","v":""},{"$f":"IF(COUNTBLANK(AB66)=1,\"\",IF(COUNTBLANK(INDEX(Registration!$D$2:$D$101,MATCH(AB66,Registration!$B$2:$B$101,0)))=1,\"\",INDEX(Registration!$D$2:$D$101,MATCH(AB66,Registration!$B$2:$B$101,0))))","v":""}]
[{"$f":"IF(COUNTBLANK(Registration!B66)=1,\"\",Registration!B66)","v":""},null,null,null,"",null,null,null,"",null,null,null,"",null,null,null,"",null,null,null,"","","","",null,"","","",null,{"$f":"IF(COUNTBLANK(AB67)=1,\"\",IF(OR(AH67=LEFT(AD$1,1),AH67=RIGHT(AD$1,1)),COUNTIF(AH$2:AH67,LEFT(AD$1,1))+COUNTIF(AH$2:AH67,RIGHT(AD$1,1)),\"\"))","v":""},{"$f":"IF(COUNTBLANK(AB67)=1,\"\",IF(OR(AH67=LEFT(AE$1,1),AH67=RIGHT(AE$1,1)),COUNTIF(AH$2:AH67,LEFT(AE$1,1))+COUNTIF(AH$2:AH67,RIGHT(AE$1,1)),\"\"))","v":""},{"$f":"IF(COUNTBLANK(AB67)=1,\"\",IF(OR(AH67=LEFT(AF$1,1),AH67=RIGHT(AF$1,1)),COUNTIF(AH$2:AH67,LEFT(AF$1,1))+COUNTIF(AH$2:AH67,RIGHT(AF$1,1)),\"\"))","v":""},{"$f":"IF(COUNTBLANK(AB67)=1,\"\",IF(OR(AI67=LEFT(AG$1,1),AI67=RIGHT(AG$1,1)),COUNTIF(AI$2:AI67,LEFT(AG$1,1))+COUNTIF(AI$2:AI67,RIGHT(AG$1,1)),\"\"))","v":""},{"$f":"IF(COUNTBLANK(AB67)=1,\"\",INDEX(Registration!$C$2:$C$101,MATCH(AB67,Registration!$B$2:$B$101,0)))","v":""},{"$f":"IF(COUNTBLANK(AB67)=1,\"\",IF(COUNTBLANK(INDEX(Registration!$D$2:$D$101,MATCH(AB67,Registration!$B$2:$B$101,0)))=1,\"\",INDEX(Registration!$D$2:$D$101,MATCH(AB67,Registration!$B$2:$B$101,0))))","v":""}]
[{"$f":"IF(COUNTBLANK(Registration!B67)=1,\"\",Registration!B67)","v":""},null,null,null,{"$f":"IF(OR(COUNTBLANK($A68)=1,COUNTBLANK(B68:D68)=3),\"\",SUM(B68:D68))","v":""},null,null,null,{"$f":"IF(OR(COUNTBLANK($A68)=1,COUNTBLANK(F68:H68)=3),\"\",SUM(F68:H68))","v":""},null,null,null,{"$f":"IF(OR(COUNTBLANK($A68)=1,COUNTBLANK(J68:L68)=3),\"\",SUM(J68:L68))","v":""},null,null,null,{"$f":"IF(OR(COUNTBLANK($A68)=1,COUNTBLANK(N68:P68)=3),\"\",SUM(N68:P68))","v":""},null,null,null,{"$f":"IF(OR(COUNTBLANK($A68)=1,COUNTBLANK(R68:T68)=3),\"\",SUM(R68:T68))","v":""},"",{"$f":"IF(OR(COUNTBLANK($A68)=1,COUNTBLANK(V68)=1),\"\",RANK(V68,$V$3:$V$102,0))","v":""},{"$f":"IF(OR(COUNTBLANK($A68)=1,COUNTBLANK(V68)=1),\"\",placingpoints(W68,COUNTIF(W$3:W$102,\"=\"&W68)))","v":""},null,"","","",null,{"$f":"IF(COUNTBLANK(AB68)=1,\"\",IF(OR(AH68=LEFT(AD$1,1),AH68=RIGHT(AD$1,1)),COUNTIF(AH$2:AH68,LEFT(AD$1,1))+COUNTIF(AH$2:AH68,RIGHT(AD$1,1)),\"\"))","v":""},{"$f":"IF(COUNTBLANK(AB68)=1,\"\",IF(OR(AH68=LEFT(AE$1,1),AH68=RIGHT(AE$1,1)),COUNTIF(AH$2:AH68,LEFT(AE$1,1))+COUNTIF(AH$2:AH68,RIGHT(AE$1,1)),\"\"))","v":""},{"$f":"IF(COUNTBLANK(AB68)=1,\"\",IF(OR(AH68=LEFT(AF$1,1),AH68=RIGHT(AF$1,1)),COUNTIF(AH$2:AH68,LEFT(AF$1,1))+COUNTIF(AH$2:AH68,RIGHT(AF$1,1)),\"\"))","v":""},{"$f":"IF(COUNTBLANK(AB68)=1,\"\",IF(OR(AI68=LEFT(AG$1,1),AI68=RIGHT(AG$1,1)),COUNTIF(AI$2:AI68,LEFT(AG$1,1))+COUNTIF(AI$2:AI68,RIGHT(AG$1,1)),\"\"))","v":""},{"$f":"IF(COUNTBLANK(AB68)=1,\"\",INDEX(Registration!$C$2:$C$101,MATCH(AB68,Registration!$B$2:$B$101,0)))","v":""},{"$f":"IF(COUNTBLANK(AB68)=1,\"\",IF(COUNTBLANK(INDEX(Registration!$D$2:$D$101,MATCH(AB68,Registration!$B$2:$B$101,0)))=1,\"\",INDEX(Registration!$D$2:$D$101,MATCH(AB68,Registration!$B$2:$B$101,0))))","v":""}]
[{"$f":"IF(COUNTBLANK(Registration!B68)=1,\"\",Registration!B68)","v":""},null,null,null,"",null,null,null,"",null,null,null,"",null,null,null,"",null,null,null,"","","","",null,"","","",null,{"$f":"IF(COUNTBLANK(AB69)=1,\"\",IF(OR(AH69=LEFT(AD$1,1),AH69=RIGHT(AD$1,1)),COUNTIF(AH$2:AH69,LEFT(AD$1,1))+COUNTIF(AH$2:AH69,RIGHT(AD$1,1)),\"\"))","v":""},{"$f":"IF(COUNTBLANK(AB69)=1,\"\",IF(OR(AH69=LEFT(AE$1,1),AH69=RIGHT(AE$1,1)),COUNTIF(AH$2:AH69,LEFT(AE$1,1))+COUNTIF(AH$2:AH69,RIGHT(AE$1,1)),\"\"))","v":""},{"$f":"IF(COUNTBLANK(AB69)=1,\"\",IF(OR(AH69=LEFT(AF$1,1),AH69=RIGHT(AF$1,1)),COUNTIF(AH$2:AH69,LEFT(AF$1,1))+COUNTIF(AH$2:AH69,RIGHT(AF$1,1)),\"\"))","v":""},{"$f":"IF(COUNTBLANK(AB69)=1,\"\",IF(OR(AI69=LEFT(AG$1,1),AI69=RIGHT(AG$1,1)),COUNTIF(AI$2:AI69,LEFT(AG$1,1))+COUNTIF(AI$2:AI69,RIGHT(AG$1,1)),\"\"))","v":""},{"$f":"IF(COUNTBLANK(AB69)=1,\"\",INDEX(Registration!$C$2:$C$101,MATCH(AB69,Registration!$B$2:$B$101,0)))","v":""},{"$f":"IF(COUNTBLANK(AB69)=1,\"\",IF(COUNTBLANK(INDEX(Registration!$D$2:$D$101,MATCH(AB69,Registration!$B$2:$B$101,0)))=1,\"\",INDEX(Registration!$D$2:$D$101,MATCH(AB69,Registration!$B$2:$B$101,0))))","v":""}]
[{"$f":"IF(COUNTBLANK(Registration!B69)=1,\"\",Registration!B69)","v":""},null,null,null,"",null,null,null,"",null,null,null,"",null,null,null,"",null,null,null,"","","","",null,"","","",null,{"$f":"IF(COUNTBLANK(AB70)=1,\"\",IF(OR(AH70=LEFT(AD$1,1),AH70=RIGHT(AD$1,1)),COUNTIF(AH$2:AH70,LEFT(AD$1,1))+COUNTIF(AH$2:AH70,RIGHT(AD$1,1)),\"\"))","v":""},{"$f":"IF(COUNTBLANK(AB70)=1,\"\",IF(OR(AH70=LEFT(AE$1,1),AH70=RIGHT(AE$1,1)),COUNTIF(AH$2:AH70,LEFT(AE$1,1))+COUNTIF(AH$2:AH70,RIGHT(AE$1,1)),\"\"))","v":""},{"$f":"IF(COUNTBLANK(AB70)=1,\"\",IF(OR(AH70=LEFT(AF$1,1),AH70=RIGHT(AF$1,1)),COUNTIF(AH$2:AH70,LEFT(AF$1,1))+COUNTIF(AH$2:AH70,RIGHT(AF$1,1)),\"\"))","v":""},{"$f":"IF(COUNTBLANK(AB70)=1,\"\",IF(OR(AI70=LEFT(AG$1,1),AI70=RIGHT(AG$1,1)),COUNTIF(AI$2:AI70,LEFT(AG$1,1))+COUNTIF(AI$2:AI70,RIGHT(AG$1,1)),\"\"))","v":""},{"$f":"IF(COUNTBLANK(AB70)=1,\"\",INDEX(Registration!$C$2:$C$101,MATCH(AB70,Registration!$B$2:$B$101,0)))","v":""},{"$f":"IF(COUNTBLANK(AB70)=1,\"\",IF(COUNTBLANK(INDEX(Registration!$D$2:$D$101,MATCH(AB70,Registration!$B$2:$B$101,0)))=1,\"\",INDEX(Registration!$D$2:$D$101,MATCH(AB70,Registration!$B$2:$B$101,0))))","v":""}]
[{"$f":"IF(COUNTBLANK(Registration!B70)=1,\"\",Registration!B70)","v":""},null,null,null,"",null,null,null,"",null,null,null,"",null,null,null,"",null,null,null,"","","","",null,"","","",null,{"$f":"IF(COUNTBLANK(AB71)=1,\"\",IF(OR(AH71=LEFT(AD$1,1),AH71=RIGHT(AD$1,1)),COUNTIF(AH$2:AH71,LEFT(AD$1,1))+COUNTIF(AH$2:AH71,RIGHT(AD$1,1)),\"\"))","v":""},{"$f":"IF(COUNTBLANK(AB71)=1,\"\",IF(OR(AH71=LEFT(AE$1,1),AH71=RIGHT(AE$1,1)),COUNTIF(AH$2:AH71,LEFT(AE$1,1))+COUNTIF(AH$2:AH71,RIGHT(AE$1,1)),\"\"))","v":""},{"$f":"IF(COUNTBLANK(AB71)=1,\"\",IF(OR(AH71=LEFT(AF$1,1),AH71=RIGHT(AF$1,1)),COUNTIF(AH$2:AH71,LEFT(AF$1,1))+COUNTIF(AH$2:AH71,RIGHT(AF$1,1)),\"\"))","v":""},{"$f":"IF(COUNTBLANK(AB71)=1,\"\",IF(OR(AI71=LEFT(AG$1,1),AI71=RIGHT(AG$1,1)),COUNTIF(AI$2:AI71,LEFT(AG$1,1))+COUNTIF(AI$2:AI71,RIGHT(AG$1,1)),\"\"))","v":""},{"$f":"IF(COUNTBLANK(AB71)=1,\"\",INDEX(Registration!$C$2:$C$101,MATCH(AB71,Registration!$B$2:$B$101,0)))","v":""},{"$f":"IF(COUNTBLANK(AB71)=1,\"\",IF(COUNTBLANK(INDEX(Registration!$D$2:$D$101,MATCH(AB71,Registration!$B$2:$B$101,0)))=1,\"\",INDEX(Registration!$D$2:$D$101,MATCH(AB71,Registration!$B$2:$B$101,0))))","v":""}]
[{"$f":"IF(COUNTBLANK(Registration!B71)=1,\"\",Registration!B71)","v":""},null,null,null,"",null,null,null,"",null,null,null,"",null,null,null,"",null,null,null,"","","","",null,"","","",null,{"$f":"IF(COUNTBLANK(AB72)=1,\"\",IF(OR(AH72=LEFT(AD$1,1),AH72=RIGHT(AD$1,1)),COUNTIF(AH$2:AH72,LEFT(AD$1,1))+COUNTIF(AH$2:AH72,RIGHT(AD$1,1)),\"\"))","v":""},{"$f":"IF(COUNTBLANK(AB72)=1,\"\",IF(OR(AH72=LEFT(AE$1,1),AH72=RIGHT(AE$1,1)),COUNTIF(AH$2:AH72,LEFT(AE$1,1))+COUNTIF(AH$2:AH72,RIGHT(AE$1,1)),\"\"))","v":""},{"$f":"IF(COUNTBLANK(AB72)=1,\"\",IF(OR(AH72=LEFT(AF$1,1),AH72=RIGHT(AF$1,1)),COUNTIF(AH$2:AH72,LEFT(AF$1,1))+COUNTIF(AH$2:AH72,RIGHT(AF$1,1)),\"\"))","v":""},{"$f":"IF(COUNTBLANK(AB72)=1,\"\",IF(OR(AI72=LEFT(AG$1,1),AI72=RIGHT(AG$1,1)),COUNTIF(AI$2:AI72,LEFT(AG$1,1))+COUNTIF(AI$2:AI72,RIGHT(AG$1,1)),\"\"))","v":""},{"$f":"IF(COUNTBLANK(AB72)=1,\"\",INDEX(Registration!$C$2:$C$101,MATCH(AB72,Registration!$B$2:$B$101,0)))","v":""},{"$f":"IF(COUNTBLANK(AB72)=1,\"\",IF(COUNTBLANK(INDEX(Registration!$D$2:$D$101,MATCH(AB72,Registration!$B$2:$B$101,0)))=1,\"\",INDEX(Registration!$D$2:$D$101,MATCH(AB72,Registration!$B$2:$B$101,0))))","v":""}]
[{"$f":"IF(COUNTBLANK(Registration!B72)=1,\"\",Registration!B72)","v":""},null,null,null,"",null,null,null,"",null,null,null,"",null,null,null,"",null,null,null,"","","","",null,"","","",null,{"$f":"IF(COUNTBLANK(AB73)=1,\"\",IF(OR(AH73=LEFT(AD$1,1),AH73=RIGHT(AD$1,1)),COUNTIF(AH$2:AH73,LEFT(AD$1,1))+COUNTIF(AH$2:AH73,RIGHT(AD$1,1)),\"\"))","v":""},{"$f":"IF(COUNTBLANK(AB73)=1,\"\",IF(OR(AH73=LEFT(AE$1,1),AH73=RIGHT(AE$1,1)),COUNTIF(AH$2:AH73,LEFT(AE$1,1))+COUNTIF(AH$2:AH73,RIGHT(AE$1,1)),\"\"))","v":""},{"$f":"IF(COUNTBLANK(AB73)=1,\"\",IF(OR(AH73=LEFT(AF$1,1),AH73=RIGHT(AF$1,1)),COUNTIF(AH$2:AH73,LEFT(AF$1,1))+COUNTIF(AH$2:AH73,RIGHT(AF$1,1)),\"\"))","v":""},{"$f":"IF(COUNTBLANK(AB73)=1,\"\",IF(OR(AI73=LEFT(AG$1,1),AI73=RIGHT(AG$1,1)),COUNTIF(AI$2:AI73,LEFT(AG$1,1))+COUNTIF(AI$2:AI73,RIGHT(AG$1,1)),\"\"))","v":""},{"$f":"IF(COUNTBLANK(AB73)=1,\"\",INDEX(Registration!$C$2:$C$101,MATCH(AB73,Registration!$B$2:$B$101,0)))","v":""},{"$f":"IF(COUNTBLANK(AB73)=1,\"\",IF(COUNTBLANK(INDEX(Registration!$D$2:$D$101,MATCH(AB73,Registration!$B$2:$B$101,0)))=1,\"\",INDEX(Registration!$D$2:$D$101,MATCH(AB73,Registration!$B$2:$B$101,0))))","v":""}]
[{"$f":"IF(COUNTBLANK(Registration!B73)=1,\"\",Registration!B73)","v":""},null,null,null,"",null,null,null,"",null,null,null,"",null,null,null,"",null,null,null,"","","","",null,"","","",null,{"$f":"IF(COUNTBLANK(AB74)=1,\"\",IF(OR(AH74=LEFT(AD$1,1),AH74=RIGHT(AD$1,1)),COUNTIF(AH$2:AH74,LEFT(AD$1,1))+COUNTIF(AH$2:AH74,RIGHT(AD$1,1)),\"\"))","v":""},{"$f":"IF(COUNTBLANK(AB74)=1,\"\",IF(OR(AH74=LEFT(AE$1,1),AH74=RIGHT(AE$1,1)),COUNTIF(AH$2:AH74,LEFT(AE$1,1))+COUNTIF(AH$2:AH74,RIGHT(AE$1,1)),\"\"))","v":""},{"$f":"IF(COUNTBLANK(AB74)=1,\"\",IF(OR(AH74=LEFT(AF$1,1),AH74=RIGHT(AF$1,1)),COUNTIF(AH$2:AH74,LEFT(AF$1,1))+COUNTIF(AH$2:AH74,RIGHT(AF$1,1)),\"\"))","v":""},{"$f":"IF(COUNTBLANK(AB74)=1,\"\",IF(OR(AI74=LEFT(AG$1,1),AI74=RIGHT(AG$1,1)),COUNTIF(AI$2:AI74,LEFT(AG$1,1))+COUNTIF(AI$2:AI74,RIGHT(AG$1,1)),\"\"))","v":""},{"$f":"IF(COUNTBLANK(AB74)=1,\"\",INDEX(Registration!$C$2:$C$101,MATCH(AB74,Registration!$B$2:$B$101,0)))","v":""},{"$f":"IF(COUNTBLANK(AB74)=1,\"\",IF(COUNTBLANK(INDEX(Registration!$D$2:$D$101,MATCH(AB74,Registration!$B$2:$B$101,0)))=1,\"\",INDEX(Registration!$D$2:$D$101,MATCH(AB74,Registration!$B$2:$B$101,0))))","v":""}]
[{"$f":"IF(COUNTBLANK(Registration!B74)=1,\"\",Registration!B74)","v":""},null,null,null,"",null,null,null,"",null,null,null,"",null,null,null,"",null,null,null,"","","","",null,"","","",null,{"$f":"IF(COUNTBLANK(AB75)=1,\"\",IF(OR(AH75=LEFT(AD$1,1),AH75=RIGHT(AD$1,1)),COUNTIF(AH$2:AH75,LEFT(AD$1,1))+COUNTIF(AH$2:AH75,RIGHT(AD$1,1)),\"\"))","v":""},{"$f":"IF(COUNTBLANK(AB75)=1,\"\",IF(OR(AH75=LEFT(AE$1,1),AH75=RIGHT(AE$1,1)),COUNTIF(AH$2:AH75,LEFT(AE$1,1))+COUNTIF(AH$2:AH75,RIGHT(AE$1,1)),\"\"))","v":""},{"$f":"IF(COUNTBLANK(AB75)=1,\"\",IF(OR(AH75=LEFT(AF$1,1),AH75=RIGHT(AF$1,1)),COUNTIF(AH$2:AH75,LEFT(AF$1,1))+COUNTIF(AH$2:AH75,RIGHT(AF$1,1)),\"\"))","v":""},{"$f":"IF(COUNTBLANK(AB75)=1,\"\",IF(OR(AI75=LEFT(AG$1,1),AI75=RIGHT(AG$1,1)),COUNTIF(AI$2:AI75,LEFT(AG$1,1))+COUNTIF(AI$2:AI75,RIGHT(AG$1,1)),\"\"))","v":""},{"$f":"IF(COUNTBLANK(AB75)=1,\"\",INDEX(Registration!$C$2:$C$101,MATCH(AB75,Registration!$B$2:$B$101,0)))","v":""},{"$f":"IF(COUNTBLANK(AB75)=1,\"\",IF(COUNTBLANK(INDEX(Registration!$D$2:$D$101,MATCH(AB75,Registration!$B$2:$B$101,0)))=1,\"\",INDEX(Registration!$D$2:$D$101,MATCH(AB75,Registration!$B$2:$B$101,0))))","v":""}]
[{"$f":"IF(COUNTBLANK(Registration!B75)=1,\"\",Registration!B75)","v":""},null,null,null,"",null,null,null,"",null,null,null,"",null,null,null,"",null,null,null,"","","","",null,"","","",null,{"$f":"IF(COUNTBLANK(AB76)=1,\"\",IF(OR(AH76=LEFT(AD$1,1),AH76=RIGHT(AD$1,1)),COUNTIF(AH$2:AH76,LEFT(AD$1,1))+COUNTIF(AH$2:AH76,RIGHT(AD$1,1)),\"\"))","v":""},{"$f":"IF(COUNTBLANK(AB76)=1,\"\",IF(OR(AH76=LEFT(AE$1,1),AH76=RIGHT(AE$1,1)),COUNTIF(AH$2:AH76,LEFT(AE$1,1))+COUNTIF(AH$2:AH76,RIGHT(AE$1,1)),\"\"))","v":""},{"$f":"IF(COUNTBLANK(AB76)=1,\"\",IF(OR(AH76=LEFT(AF$1,1),AH76=RIGHT(AF$1,1)),COUNTIF(AH$2:AH76,LEFT(AF$1,1))+COUNTIF(AH$2:AH76,RIGHT(AF$1,1)),\"\"))","v":""},{"$f":"IF(COUNTBLANK(AB76)=1,\"\",IF(OR(AI76=LEFT(AG$1,1),AI76=RIGHT(AG$1,1)),COUNTIF(AI$2:AI76,LEFT(AG$1,1))+COUNTIF(AI$2:AI76,RIGHT(AG$1,1)),\"\"))","v":""},{"$f":"IF(COUNTBLANK(AB76)=1,\"\",INDEX(Registration!$C$2:$C$101,MATCH(AB76,Registration!$B$2:$B$101,0)))","v":""},{"$f":"IF(COUNTBLANK(AB76)=1,\"\",IF(COUNTBLANK(INDEX(Registration!$D$2:$D$101,MATCH(AB76,Registration!$B$2:$B$101,0)))=1,\"\",INDEX(Registration!$D$2:$D$101,MATCH(AB76,Registration!$B$2:$B$101,0))))","v":""}]
[{"$f":"IF(COUNTBLANK(Registration!B76)=1,\"\",Registration!B76)","v":""},null,null,null,"",null,null,null,"",null,null,null,"",null,null,null,"",null,null,null,"","","","",null,"","","",null,{"$f":"IF(COUNTBLANK(AB77)=1,\"\",IF(OR(AH77=LEFT(AD$1,1),AH77=RIGHT(AD$1,1)),COUNTIF(AH$2:AH77,LEFT(AD$1,1))+COUNTIF(AH$2:AH77,RIGHT(AD$1,1)),\"\"))","v":""},{"$f":"IF(COUNTBLANK(AB77)=1,\"\",IF(OR(AH77=LEFT(AE$1,1),AH77=RIGHT(AE$1,1)),COUNTIF(AH$2:AH77,LEFT(AE$1,1))+COUNTIF(AH$2:AH77,RIGHT(AE$1,1)),\"\"))","v":""},{"$f":"IF(COUNTBLANK(AB77)=1,\"\",IF(OR(AH77=LEFT(AF$1,1),AH77=RIGHT(AF$1,1)),COUNTIF(AH$2:AH77,LEFT(AF$1,1))+COUNTIF(AH$2:AH77,RIGHT(AF$1,1)),\"\"))","v":""},{"$f":"IF(COUNTBLANK(AB77)=1,\"\",IF(OR(AI77=LEFT(AG$1,1),AI77=RIGHT(AG$1,1)),COUNTIF(AI$2:AI77,LEFT(AG$1,1))+COUNTIF(AI$2:AI77,RIGHT(AG$1,1)),\"\"))","v":""},{"$f":"IF(COUNTBLANK(AB77)=1,\"\",INDEX(Registration!$C$2:$C$101,MATCH(AB77,Registration!$B$2:$B$101,0)))","v":""},{"$f":"IF(COUNTBLANK(AB77)=1,\"\",IF(COUNTBLANK(INDEX(Registration!$D$2:$D$101,MATCH(AB77,Registration!$B$2:$B$101,0)))=1,\"\",INDEX(Registration!$D$2:$D$101,MATCH(AB77,Registration!$B$2:$B$101,0))))","v":""}]
[{"$f":"IF(COUNTBLANK(Registration!B77)=1,\"\",Registration!B77)","v":""},null,null,null,"",null,null,null,"",null,null,null,"",null,null,null,"",null,null,null,"","","","",null,"","","",null,{"$f":"IF(COUNTBLANK(AB78)=1,\"\",IF(OR(AH78=LEFT(AD$1,1),AH78=RIGHT(AD$1,1)),COUNTIF(AH$2:AH78,LEFT(AD$1,1))+COUNTIF(AH$2:AH78,RIGHT(AD$1,1)),\"\"))","v":""},{"$f":"IF(COUNTBLANK(AB78)=1,\"\",IF(OR(AH78=LEFT(AE$1,1),AH78=RIGHT(AE$1,1)),COUNTIF(AH$2:AH78,LEFT(AE$1,1))+COUNTIF(AH$2:AH78,RIGHT(AE$1,1)),\"\"))","v":""},{"$f":"IF(COUNTBLANK(AB78)=1,\"\",IF(OR(AH78=LEFT(AF$1,1),AH78=RIGHT(AF$1,1)),COUNTIF(AH$2:AH78,LEFT(AF$1,1))+COUNTIF(AH$2:AH78,RIGHT(AF$1,1)),\"\"))","v":""},{"$f":"IF(COUNTBLANK(AB78)=1,\"\",IF(OR(AI78=LEFT(AG$1,1),AI78=RIGHT(AG$1,1)),COUNTIF(AI$2:AI78,LEFT(AG$1,1))+COUNTIF(AI$2:AI78,RIGHT(AG$1,1)),\"\"))","v":""},{"$f":"IF(COUNTBLANK(AB78)=1,\"\",INDEX(Registration!$C$2:$C$101,MATCH(AB78,Registration!$B$2:$B$101,0)))","v":""},{"$f":"IF(COUNTBLANK(AB78)=1,\"\",IF(COUNTBLANK(INDEX(Registration!$D$2:$D$101,MATCH(AB78,Registration!$B$2:$B$101,0)))=1,\"\",INDEX(Registration!$D$2:$D$101,MATCH(AB78,Registration!$B$2:$B$101,0))))","v":""}]
[{"$f":"IF(COUNTBLANK(Registration!B78)=1,\"\",Registration!B78)","v":""},null,null,null,"",null,null,null,"",null,null,null,"",null,null,null,"",null,null,null,"",{"$f":"IF(OR(COUNTBLANK($A79)=1,AND(COUNTBLANK(E79)=1,COUNTBLANK(I79)=1,COUNTBLANK(M79)=1,COUNTBLANK(Q79)=1,COUNTBLANK(U79)=1)),\"\",SUM(U79,Q79,M79,I79,E79))","v":""},"","",null,"","","",null,{"$f":"IF(COUNTBLANK(AB79)=1,\"\",IF(OR(AH79=LEFT(AD$1,1),AH79=RIGHT(AD$1,1)),COUNTIF(AH$2:AH79,LEFT(AD$1,1))+COUNTIF(AH$2:AH79,RIGHT(AD$1,1)),\"\"))","v":""},{"$f":"IF(COUNTBLANK(AB79)=1,\"\",IF(OR(AH79=LEFT(AE$1,1),AH79=RIGHT(AE$1,1)),COUNTIF(AH$2:AH79,LEFT(AE$1,1))+COUNTIF(AH$2:AH79,RIGHT(AE$1,1)),\"\"))","v":""},{"$f":"IF(COUNTBLANK(AB79)=1,\"\",IF(OR(AH79=LEFT(AF$1,1),AH79=RIGHT(AF$1,1)),COUNTIF(AH$2:AH79,LEFT(AF$1,1))+COUNTIF(AH$2:AH79,RIGHT(AF$1,1)),\"\"))","v":""},{"$f":"IF(COUNTBLANK(AB79)=1,\"\",IF(OR(AI79=LEFT(AG$1,1),AI79=RIGHT(AG$1,1)),COUNTIF(AI$2:AI79,LEFT(AG$1,1))+COUNTIF(AI$2:AI79,RIGHT(AG$1,1)),\"\"))","v":""},{"$f":"IF(COUNTBLANK(AB79)=1,\"\",INDEX(Registration!$C$2:$C$101,MATCH(AB79,Registration!$B$2:$B$101,0)))","v":""},{"$f":"IF(COUNTBLANK(AB79)=1,\"\",IF(COUNTBLANK(INDEX(Registration!$D$2:$D$101,MATCH(AB79,Registration!$B$2:$B$101,0)))=1,\"\",INDEX(Registration!$D$2:$D$101,MATCH(AB79,Registration!$B$2:$B$101,0))))","v":""}]
[{"$f":"IF(COUNTBLANK(Registration!B79)=1,\"\",Registration!B79)","v":""},null,null,null,"",null,null,null,"",null,null,null,"",null,null,null,"",null,null,null,"","","","",null,"","","",null,{"$f":"IF(COUNTBLANK(AB80)=1,\"\",IF(OR(AH80=LEFT(AD$1,1),AH80=RIGHT(AD$1,1)),COUNTIF(AH$2:AH80,LEFT(AD$1,1))+COUNTIF(AH$2:AH80,RIGHT(AD$1,1)),\"\"))","v":""},{"$f":"IF(COUNTBLANK(AB80)=1,\"\",IF(OR(AH80=LEFT(AE$1,1),AH80=RIGHT(AE$1,1)),COUNTIF(AH$2:AH80,LEFT(AE$1,1))+COUNTIF(AH$2:AH80,RIGHT(AE$1,1)),\"\"))","v":""},{"$f":"IF(COUNTBLANK(AB80)=1,\"\",IF(OR(AH80=LEFT(AF$1,1),AH80=RIGHT(AF$1,1)),COUNTIF(AH$2:AH80,LEFT(AF$1,1))+COUNTIF(AH$2:AH80,RIGHT(AF$1,1)),\"\"))","v":""},{"$f":"IF(COUNTBLANK(AB80)=1,\"\",IF(OR(AI80=LEFT(AG$1,1),AI80=RIGHT(AG$1,1)),COUNTIF(AI$2:AI80,LEFT(AG$1,1))+COUNTIF(AI$2:AI80,RIGHT(AG$1,1)),\"\"))","v":""},{"$f":"IF(COUNTBLANK(AB80)=1,\"\",INDEX(Registration!$C$2:$C$101,MATCH(AB80,Registration!$B$2:$B$101,0)))","v":""},{"$f":"IF(COUNTBLANK(AB80)=1,\"\",IF(COUNTBLANK(INDEX(Registration!$D$2:$D$101,MATCH(AB80,Registration!$B$2:$B$101,0)))=1,\"\",INDEX(Registration!$D$2:$D$101,MATCH(AB80,Registration!$B$2:$B$101,0))))","v":""}]
[{"$f":"IF(COUNTBLANK(Registration!B80)=1,\"\",Registration!B80)","v":""},null,null,null,"",null,null,null,"",null,null,null,"",null,null,null,"",null,null,null,"","","","",null,"","","",null,{"$f":"IF(COUNTBLANK(AB81)=1,\"\",IF(OR(AH81=LEFT(AD$1,1),AH81=RIGHT(AD$1,1)),COUNTIF(AH$2:AH81,LEFT(AD$1,1))+COUNTIF(AH$2:AH81,RIGHT(AD$1,1)),\"\"))","v":""},{"$f":"IF(COUNTBLANK(AB81)=1,\"\",IF(OR(AH81=LEFT(AE$1,1),AH81=RIGHT(AE$1,1)),COUNTIF(AH$2:AH81,LEFT(AE$1,1))+COUNTIF(AH$2:AH81,RIGHT(AE$1,1)),\"\"))","v":""},{"$f":"IF(COUNTBLANK(AB81)=1,\"\",IF(OR(AH81=LEFT(AF$1,1),AH81=RIGHT(AF$1,1)),COUNTIF(AH$2:AH81,LEFT(AF$1,1))+COUNTIF(AH$2:AH81,RIGHT(AF$1,1)),\"\"))","v":""},{"$f":"IF(COUNTBLANK(AB81)=1,\"\",IF(OR(AI81=LEFT(AG$1,1),AI81=RIGHT(AG$1,1)),COUNTIF(AI$2:AI81,LEFT(AG$1,1))+COUNTIF(AI$2:AI81,RIGHT(AG$1,1)),\"\"))","v":""},{"$f":"IF(COUNTBLANK(AB81)=1,\"\",INDEX(Registration!$C$2:$C$101,MATCH(AB81,Registration!$B$2:$B$101,0)))","v":""},{"$f":"IF(COUNTBLANK(AB81)=1,\"\",IF(COUNTBLANK(INDEX(Registration!$D$2:$D$101,MATCH(AB81,Registration!$B$2:$B$101,0)))=1,\"\",INDEX(Registration!$D$2:$D$101,MATCH(AB81,Registration!$B$2:$B$101,0))))","v":""}]
[{"$f":"IF(COUNTBLANK(Registration!B81)=1,\"\",Registration!B81)","v":""},null,null,null,"",null,null,null,"",null,null,null,"",null,null,null,"",null,null,null,"","","","",null,"","","",null,{"$f":"IF(COUNTBLANK(AB82)=1,\"\",IF(OR(AH82=LEFT(AD$1,1),AH82=RIGHT(AD$1,1)),COUNTIF(AH$2:AH82,LEFT(AD$1,1))+COUNTIF(AH$2:AH82,RIGHT(AD$1,1)),\"\"))","v":""},{"$f":"IF(COUNTBLANK(AB82)=1,\"\",IF(OR(AH82=LEFT(AE$1,1),AH82=RIGHT(AE$1,1)),COUNTIF(AH$2:AH82,LEFT(AE$1,1))+COUNTIF(AH$2:AH82,RIGHT(AE$1,1)),\"\"))","v":""},{"$f":"IF(COUNTBLANK(AB82)=1,\"\",IF(OR(AH82=LEFT(AF$1,1),AH82=RIGHT(AF$1,1)),COUNTIF(AH$2:AH82,LEFT(AF$1,1))+COUNTIF(AH$2:AH82,RIGHT(AF$1,1)),\"\"))","v":""},{"$f":"IF(COUNTBLANK(AB82)=1,\"\",IF(OR(AI82=LEFT(AG$1,1),AI82=RIGHT(AG$1,1)),COUNTIF(AI$2:AI82,LEFT(AG$1,1))+COUNTIF(AI$2:AI82,RIGHT(AG$1,1)),\"\"))","v":""},{"$f":"IF(COUNTBLANK(AB82)=1,\"\",INDEX(Registration!$C$2:$C$101,MATCH(AB82,Registration!$B$2:$B$101,0)))","v":""},{"$f":"IF(COUNTBLANK(AB82)=1,\"\",IF(COUNTBLANK(INDEX(Registration!$D$2:$D$101,MATCH(AB82,Registration!$B$2:$B$101,0)))=1,\"\",INDEX(Registration!$D$2:$D$101,MATCH(AB82,Registration!$B$2:$B$101,0))))","v":""}]
[{"$f":"IF(COUNTBLANK(Registration!B82)=1,\"\",Registration!B82)","v":""},null,null,null,"",null,null,null,"",null,null,null,"",null,null,null,"",null,null,null,"","","","",null,"","","",null,{"$f":"IF(COUNTBLANK(AB83)=1,\"\",IF(OR(AH83=LEFT(AD$1,1),AH83=RIGHT(AD$1,1)),COUNTIF(AH$2:AH83,LEFT(AD$1,1))+COUNTIF(AH$2:AH83,RIGHT(AD$1,1)),\"\"))","v":""},{"$f":"IF(COUNTBLANK(AB83)=1,\"\",IF(OR(AH83=LEFT(AE$1,1),AH83=RIGHT(AE$1,1)),COUNTIF(AH$2:AH83,LEFT(AE$1,1))+COUNTIF(AH$2:AH83,RIGHT(AE$1,1)),\"\"))","v":""},{"$f":"IF(COUNTBLANK(AB83)=1,\"\",IF(OR(AH83=LEFT(AF$1,1),AH83=RIGHT(AF$1,1)),COUNTIF(AH$2:AH83,LEFT(AF$1,1))+COUNTIF(AH$2:AH83,RIGHT(AF$1,1)),\"\"))","v":""},{"$f":"IF(COUNTBLANK(AB83)=1,\"\",IF(OR(AI83=LEFT(AG$1,1),AI83=RIGHT(AG$1,1)),COUNTIF(AI$2:AI83,LEFT(AG$1,1))+COUNTIF(AI$2:AI83,RIGHT(AG$1,1)),\"\"))","v":""},{"$f":"IF(COUNTBLANK(AB83)=1,\"\",INDEX(Registration!$C$2:$C$101,MATCH(AB83,Registration!$B$2:$B$101,0)))","v":""},{"$f":"IF(COUNTBLANK(AB83)=1,\"\",IF(COUNTBLANK(INDEX(Registration!$D$2:$D$101,MATCH(AB83,Registration!$B$2:$B$101,0)))=1,\"\",INDEX(Registration!$D$2:$D$101,MATCH(AB83,Registration!$B$2:$B$101,0))))","v":""}]
[{"$f":"IF(COUNTBLANK(Registration!B83)=1,\"\",Registration!B83)","v":""},null,null,null,"",null,null,null,"",null,null,null,"",null,null,null,"",null,null,null,"","","","",null,"","","",null,{"$f":"IF(COUNTBLANK(AB84)=1,\"\",IF(OR(AH84=LEFT(AD$1,1),AH84=RIGHT(AD$1,1)),COUNTIF(AH$2:AH84,LEFT(AD$1,1))+COUNTIF(AH$2:AH84,RIGHT(AD$1,1)),\"\"))","v":""},{"$f":"IF(COUNTBLANK(AB84)=1,\"\",IF(OR(AH84=LEFT(AE$1,1),AH84=RIGHT(AE$1,1)),COUNTIF(AH$2:AH84,LEFT(AE$1,1))+COUNTIF(AH$2:AH84,RIGHT(AE$1,1)),\"\"))","v":""},{"$f":"IF(COUNTBLANK(AB84)=1,\"\",IF(OR(AH84=LEFT(AF$1,1),AH84=RIGHT(AF$1,1)),COUNTIF(AH$2:AH84,LEFT(AF$1,1))+COUNTIF(AH$2:AH84,RIGHT(AF$1,1)),\"\"))","v":""},{"$f":"IF(COUNTBLANK(AB84)=1,\"\",IF(OR(AI84=LEFT(AG$1,1),AI84=RIGHT(AG$1,1)),COUNTIF(AI$2:AI84,LEFT(AG$1,1))+COUNTIF(AI$2:AI84,RIGHT(AG$1,1)),\"\"))","v":""},{"$f":"IF(COUNTBLANK(AB84)=1,\"\",INDEX(Registration!$C$2:$C$101,MATCH(AB84,Registration!$B$2:$B$101,0)))","v":""},{"$f":"IF(COUNTBLANK(AB84)=1,\"\",IF(COUNTBLANK(INDEX(Registration!$D$2:$D$101,MATCH(AB84,Registration!$B$2:$B$101,0)))=1,\"\",INDEX(Registration!$D$2:$D$101,MATCH(AB84,Registration!$B$2:$B$101,0))))","v":""}]
[{"$f":"IF(COUNTBLANK(Registration!B84)=1,\"\",Registration!B84)","v":""},null,null,null,"",null,null,null,"",null,null,null,"",null,null,null,"",null,null,null,"","","","",null,"","","",null,{"$f":"IF(COUNTBLANK(AB85)=1,\"\",IF(OR(AH85=LEFT(AD$1,1),AH85=RIGHT(AD$1,1)),COUNTIF(AH$2:AH85,LEFT(AD$1,1))+COUNTIF(AH$2:AH85,RIGHT(AD$1,1)),\"\"))","v":""},{"$f":"IF(COUNTBLANK(AB85)=1,\"\",IF(OR(AH85=LEFT(AE$1,1),AH85=RIGHT(AE$1,1)),COUNTIF(AH$2:AH85,LEFT(AE$1,1))+COUNTIF(AH$2:AH85,RIGHT(AE$1,1)),\"\"))","v":""},{"$f":"IF(COUNTBLANK(AB85)=1,\"\",IF(OR(AH85=LEFT(AF$1,1),AH85=RIGHT(AF$1,1)),COUNTIF(AH$2:AH85,LEFT(AF$1,1))+COUNTIF(AH$2:AH85,RIGHT(AF$1,1)),\"\"))","v":""},{"$f":"IF(COUNTBLANK(AB85)=1,\"\",IF(OR(AI85=LEFT(AG$1,1),AI85=RIGHT(AG$1,1)),COUNTIF(AI$2:AI85,LEFT(AG$1,1))+COUNTIF(AI$2:AI85,RIGHT(AG$1,1)),\"\"))","v":""},{"$f":"IF(COUNTBLANK(AB85)=1,\"\",INDEX(Registration!$C$2:$C$101,MATCH(AB85,Registration!$B$2:$B$101,0)))","v":""},{"$f":"IF(COUNTBLANK(AB85)=1,\"\",IF(COUNTBLANK(INDEX(Registration!$D$2:$D$101,MATCH(AB85,Registration!$B$2:$B$101,0)))=1,\"\",INDEX(Registration!$D$2:$D$101,MATCH(AB85,Registration!$B$2:$B$101,0))))","v":""}]
[{"$f":"IF(COUNTBLANK(Registration!B85)=1,\"\",Registration!B85)","v":""},null,null,null,"",null,null,null,"",null,null,null,"",null,null,null,"",null,null,null,"","","","",null,"","","",null,{"$f":"IF(COUNTBLANK(AB86)=1,\"\",IF(OR(AH86=LEFT(AD$1,1),AH86=RIGHT(AD$1,1)),COUNTIF(AH$2:AH86,LEFT(AD$1,1))+COUNTIF(AH$2:AH86,RIGHT(AD$1,1)),\"\"))","v":""},{"$f":"IF(COUNTBLANK(AB86)=1,\"\",IF(OR(AH86=LEFT(AE$1,1),AH86=RIGHT(AE$1,1)),COUNTIF(AH$2:AH86,LEFT(AE$1,1))+COUNTIF(AH$2:AH86,RIGHT(AE$1,1)),\"\"))","v":""},{"$f":"IF(COUNTBLANK(AB86)=1,\"\",IF(OR(AH86=LEFT(AF$1,1),AH86=RIGHT(AF$1,1)),COUNTIF(AH$2:AH86,LEFT(AF$1,1))+COUNTIF(AH$2:AH86,RIGHT(AF$1,1)),\"\"))","v":""},{"$f":"IF(COUNTBLANK(AB86)=1,\"\",IF(OR(AI86=LEFT(AG$1,1),AI86=RIGHT(AG$1,1)),COUNTIF(AI$2:AI86,LEFT(AG$1,1))+COUNTIF(AI$2:AI86,RIGHT(AG$1,1)),\"\"))","v":""},{"$f":"IF(COUNTBLANK(AB86)=1,\"\",INDEX(Registration!$C$2:$C$101,MATCH(AB86,Registration!$B$2:$B$101,0)))","v":""},{"$f":"IF(COUNTBLANK(AB86)=1,\"\",IF(COUNTBLANK(INDEX(Registration!$D$2:$D$101,MATCH(AB86,Registration!$B$2:$B$101,0)))=1,\"\",INDEX(Registration!$D$2:$D$101,MATCH(AB86,Registration!$B$2:$B$101,0))))","v":""}]
[{"$f":"IF(COUNTBLANK(Registration!B86)=1,\"\",Registration!B86)","v":""},null,null,null,"",null,null,null,"",null,null,null,"",null,null,null,"",null,null,null,"","","","",null,"","","",null,{"$f":"IF(COUNTBLANK(AB87)=1,\"\",IF(OR(AH87=LEFT(AD$1,1),AH87=RIGHT(AD$1,1)),COUNTIF(AH$2:AH87,LEFT(AD$1,1))+COUNTIF(AH$2:AH87,RIGHT(AD$1,1)),\"\"))","v":""},{"$f":"IF(COUNTBLANK(AB87)=1,\"\",IF(OR(AH87=LEFT(AE$1,1),AH87=RIGHT(AE$1,1)),COUNTIF(AH$2:AH87,LEFT(AE$1,1))+COUNTIF(AH$2:AH87,RIGHT(AE$1,1)),\"\"))","v":""},{"$f":"IF(COUNTBLANK(AB87)=1,\"\",IF(OR(AH87=LEFT(AF$1,1),AH87=RIGHT(AF$1,1)),COUNTIF(AH$2:AH87,LEFT(AF$1,1))+COUNTIF(AH$2:AH87,RIGHT(AF$1,1)),\"\"))","v":""},{"$f":"IF(COUNTBLANK(AB87)=1,\"\",IF(OR(AI87=LEFT(AG$1,1),AI87=RIGHT(AG$1,1)),COUNTIF(AI$2:AI87,LEFT(AG$1,1))+COUNTIF(AI$2:AI87,RIGHT(AG$1,1)),\"\"))","v":""},{"$f":"IF(COUNTBLANK(AB87)=1,\"\",INDEX(Registration!$C$2:$C$101,MATCH(AB87,Registration!$B$2:$B$101,0)))","v":""},{"$f":"IF(COUNTBLANK(AB87)=1,\"\",IF(COUNTBLANK(INDEX(Registration!$D$2:$D$101,MATCH(AB87,Registration!$B$2:$B$101,0)))=1,\"\",INDEX(Registration!$D$2:$D$101,MATCH(AB87,Registration!$B$2:$B$101,0))))","v":""}]
[{"$f":"IF(COUNTBLANK(Registration!B87)=1,\"\",Registration!B87)","v":""},null,null,null,"",null,null,null,"",null,null,null,"",null,null,null,"",null,null,null,"","","","",null,"","","",null,{"$f":"IF(COUNTBLANK(AB88)=1,\"\",IF(OR(AH88=LEFT(AD$1,1),AH88=RIGHT(AD$1,1)),COUNTIF(AH$2:AH88,LEFT(AD$1,1))+COUNTIF(AH$2:AH88,RIGHT(AD$1,1)),\"\"))","v":""},{"$f":"IF(COUNTBLANK(AB88)=1,\"\",IF(OR(AH88=LEFT(AE$1,1),AH88=RIGHT(AE$1,1)),COUNTIF(AH$2:AH88,LEFT(AE$1,1))+COUNTIF(AH$2:AH88,RIGHT(AE$1,1)),\"\"))","v":""},{"$f":"IF(COUNTBLANK(AB88)=1,\"\",IF(OR(AH88=LEFT(AF$1,1),AH88=RIGHT(AF$1,1)),COUNTIF(AH$2:AH88,LEFT(AF$1,1))+COUNTIF(AH$2:AH88,RIGHT(AF$1,1)),\"\"))","v":""},{"$f":"IF(COUNTBLANK(AB88)=1,\"\",IF(OR(AI88=LEFT(AG$1,1),AI88=RIGHT(AG$1,1)),COUNTIF(AI$2:AI88,LEFT(AG$1,1))+COUNTIF(AI$2:AI88,RIGHT(AG$1,1)),\"\"))","v":""},{"$f":"IF(COUNTBLANK(AB88)=1,\"\",INDEX(Registration!$C$2:$C$101,MATCH(AB88,Registration!$B$2:$B$101,0)))","v":""},{"$f":"IF(COUNTBLANK(AB88)=1,\"\",IF(COUNTBLANK(INDEX(Registration!$D$2:$D$101,MATCH(AB88,Registration!$B$2:$B$101,0)))=1,\"\",INDEX(Registration!$D$2:$D$101,MATCH(AB88,Registration!$B$2:$B$101,0))))","v":""}]
[{"$f":"IF(COUNTBLANK(Registration!B88)=1,\"\",Registration!B88)","v":""},null,null,null,"",null,null,null,"",null,null,null,"",null,null,null,"",null,null,null,"","","","",null,"","","",null,{"$f":"IF(COUNTBLANK(AB89)=1,\"\",IF(OR(AH89=LEFT(AD$1,1),AH89=RIGHT(AD$1,1)),COUNTIF(AH$2:AH89,LEFT(AD$1,1))+COUNTIF(AH$2:AH89,RIGHT(AD$1,1)),\"\"))","v":""},{"$f":"IF(COUNTBLANK(AB89)=1,\"\",IF(OR(AH89=LEFT(AE$1,1),AH89=RIGHT(AE$1,1)),COUNTIF(AH$2:AH89,LEFT(AE$1,1))+COUNTIF(AH$2:AH89,RIGHT(AE$1,1)),\"\"))","v":""},{"$f":"IF(COUNTBLANK(AB89)=1,\"\",IF(OR(AH89=LEFT(AF$1,1),AH89=RIGHT(AF$1,1)),COUNTIF(AH$2:AH89,LEFT(AF$1,1))+COUNTIF(AH$2:AH89,RIGHT(AF$1,1)),\"\"))","v":""},{"$f":"IF(COUNTBLANK(AB89)=1,\"\",IF(OR(AI89=LEFT(AG$1,1),AI89=RIGHT(AG$1,1)),COUNTIF(AI$2:AI89,LEFT(AG$1,1))+COUNTIF(AI$2:AI89,RIGHT(AG$1,1)),\"\"))","v":""},{"$f":"IF(COUNTBLANK(AB89)=1,\"\",INDEX(Registration!$C$2:$C$101,MATCH(AB89,Registration!$B$2:$B$101,0)))","v":""},{"$f":"IF(COUNTBLANK(AB89)=1,\"\",IF(COUNTBLANK(INDEX(Registration!$D$2:$D$101,MATCH(AB89,Registration!$B$2:$B$101,0)))=1,\"\",INDEX(Registration!$D$2:$D$101,MATCH(AB89,Registration!$B$2:$B$101,0))))","v":""}]
[{"$f":"IF(COUNTBLANK(Registration!B89)=1,\"\",Registration!B89)","v":""},null,null,null,"",null,null,null,"",null,null,null,"",null,null,null,"",null,null,null,"","","","",null,"","","",null,{"$f":"IF(COUNTBLANK(AB90)=1,\"\",IF(OR(AH90=LEFT(AD$1,1),AH90=RIGHT(AD$1,1)),COUNTIF(AH$2:AH90,LEFT(AD$1,1))+COUNTIF(AH$2:AH90,RIGHT(AD$1,1)),\"\"))","v":""},{"$f":"IF(COUNTBLANK(AB90)=1,\"\",IF(OR(AH90=LEFT(AE$1,1),AH90=RIGHT(AE$1,1)),COUNTIF(AH$2:AH90,LEFT(AE$1,1))+COUNTIF(AH$2:AH90,RIGHT(AE$1,1)),\"\"))","v":""},{"$f":"IF(COUNTBLANK(AB90)=1,\"\",IF(OR(AH90=LEFT(AF$1,1),AH90=RIGHT(AF$1,1)),COUNTIF(AH$2:AH90,LEFT(AF$1,1))+COUNTIF(AH$2:AH90,RIGHT(AF$1,1)),\"\"))","v":""},{"$f":"IF(COUNTBLANK(AB90)=1,\"\",IF(OR(AI90=LEFT(AG$1,1),AI90=RIGHT(AG$1,1)),COUNTIF(AI$2:AI90,LEFT(AG$1,1))+COUNTIF(AI$2:AI90,RIGHT(AG$1,1)),\"\"))","v":""},{"$f":"IF(COUNTBLANK(AB90)=1,\"\",INDEX(Registration!$C$2:$C$101,MATCH(AB90,Registration!$B$2:$B$101,0)))","v":""},{"$f":"IF(COUNTBLANK(AB90)=1,\"\",IF(COUNTBLANK(INDEX(Registration!$D$2:$D$101,MATCH(AB90,Registration!$B$2:$B$101,0)))=1,\"\",INDEX(Registration!$D$2:$D$101,MATCH(AB90,Registration!$B$2:$B$101,0))))","v":""}]
[{"$f":"IF(COUNTBLANK(Registration!B90)=1,\"\",Registration!B90)","v":""},null,null,null,"",null,null,null,"",null,null,null,"",null,null,null,"",null,null,null,"","","","",null,"","","",null,{"$f":"IF(COUNTBLANK(AB91)=1,\"\",IF(OR(AH91=LEFT(AD$1,1),AH91=RIGHT(AD$1,1)),COUNTIF(AH$2:AH91,LEFT(AD$1,1))+COUNTIF(AH$2:AH91,RIGHT(AD$1,1)),\"\"))","v":""},{"$f":"IF(COUNTBLANK(AB91)=1,\"\",IF(OR(AH91=LEFT(AE$1,1),AH91=RIGHT(AE$1,1)),COUNTIF(AH$2:AH91,LEFT(AE$1,1))+COUNTIF(AH$2:AH91,RIGHT(AE$1,1)),\"\"))","v":""},{"$f":"IF(COUNTBLANK(AB91)=1,\"\",IF(OR(AH91=LEFT(AF$1,1),AH91=RIGHT(AF$1,1)),COUNTIF(AH$2:AH91,LEFT(AF$1,1))+COUNTIF(AH$2:AH91,RIGHT(AF$1,1)),\"\"))","v":""},{"$f":"IF(COUNTBLANK(AB91)=1,\"\",IF(OR(AI91=LEFT(AG$1,1),AI91=RIGHT(AG$1,1)),COUNTIF(AI$2:AI91,LEFT(AG$1,1))+COUNTIF(AI$2:AI91,RIGHT(AG$1,1)),\"\"))","v":""},{"$f":"IF(COUNTBLANK(AB91)=1,\"\",INDEX(Registration!$C$2:$C$101,MATCH(AB91,Registration!$B$2:$B$101,0)))","v":""},{"$f":"IF(COUNTBLANK(AB91)=1,\"\",IF(COUNTBLANK(INDEX(Registration!$D$2:$D$101,MATCH(AB91,Registration!$B$2:$B$101,0)))=1,\"\",INDEX(Registration!$D$2:$D$101,MATCH(AB91,Registration!$B$2:$B$101,0))))","v":""}]
[{"$f":"IF(COUNTBLANK(Registration!B91)=1,\"\",Registration!B91)","v":""},null,null,null,"",null,null,null,"",null,null,null,"",null,null,null,"",null,null,null,"","","","",null,"","","",null,{"$f":"IF(COUNTBLANK(AB92)=1,\"\",IF(OR(AH92=LEFT(AD$1,1),AH92=RIGHT(AD$1,1)),COUNTIF(AH$2:AH92,LEFT(AD$1,1))+COUNTIF(AH$2:AH92,RIGHT(AD$1,1)),\"\"))","v":""},{"$f":"IF(COUNTBLANK(AB92)=1,\"\",IF(OR(AH92=LEFT(AE$1,1),AH92=RIGHT(AE$1,1)),COUNTIF(AH$2:AH92,LEFT(AE$1,1))+COUNTIF(AH$2:AH92,RIGHT(AE$1,1)),\"\"))","v":""},{"$f":"IF(COUNTBLANK(AB92)=1,\"\",IF(OR(AH92=LEFT(AF$1,1),AH92=RIGHT(AF$1,1)),COUNTIF(AH$2:AH92,LEFT(AF$1,1))+COUNTIF(AH$2:AH92,RIGHT(AF$1,1)),\"\"))","v":""},{"$f":"IF(COUNTBLANK(AB92)=1,\"\",IF(OR(AI92=LEFT(AG$1,1),AI92=RIGHT(AG$1,1)),COUNTIF(AI$2:AI92,LEFT(AG$1,1))+COUNTIF(AI$2:AI92,RIGHT(AG$1,1)),\"\"))","v":""},{"$f":"IF(COUNTBLANK(AB92)=1,\"\",INDEX(Registration!$C$2:$C$101,MATCH(AB92,Registration!$B$2:$B$101,0)))","v":""},{"$f":"IF(COUNTBLANK(AB92)=1,\"\",IF(COUNTBLANK(INDEX(Registration!$D$2:$D$101,MATCH(AB92,Registration!$B$2:$B$101,0)))=1,\"\",INDEX(Registration!$D$2:$D$101,MATCH(AB92,Registration!$B$2:$B$101,0))))","v":""}]
[{"$f":"IF(COUNTBLANK(Registration!B92)=1,\"\",Registration!B92)","v":""},null,null,null,"",null,null,null,"",null,null,null,"",null,null,null,"",null,null,null,"","","","",null,"","","",null,{"$f":"IF(COUNTBLANK(AB93)=1,\"\",IF(OR(AH93=LEFT(AD$1,1),AH93=RIGHT(AD$1,1)),COUNTIF(AH$2:AH93,LEFT(AD$1,1))+COUNTIF(AH$2:AH93,RIGHT(AD$1,1)),\"\"))","v":""},{"$f":"IF(COUNTBLANK(AB93)=1,\"\",IF(OR(AH93=LEFT(AE$1,1),AH93=RIGHT(AE$1,1)),COUNTIF(AH$2:AH93,LEFT(AE$1,1))+COUNTIF(AH$2:AH93,RIGHT(AE$1,1)),\"\"))","v":""},{"$f":"IF(COUNTBLANK(AB93)=1,\"\",IF(OR(AH93=LEFT(AF$1,1),AH93=RIGHT(AF$1,1)),COUNTIF(AH$2:AH93,LEFT(AF$1,1))+COUNTIF(AH$2:AH93,RIGHT(AF$1,1)),\"\"))","v":""},{"$f":"IF(COUNTBLANK(AB93)=1,\"\",IF(OR(AI93=LEFT(AG$1,1),AI93=RIGHT(AG$1,1)),COUNTIF(AI$2:AI93,LEFT(AG$1,1))+COUNTIF(AI$2:AI93,RIGHT(AG$1,1)),\"\"))","v":""},{"$f":"IF(COUNTBLANK(AB93)=1,\"\",INDEX(Registration!$C$2:$C$101,MATCH(AB93,Registration!$B$2:$B$101,0)))","v":""},{"$f":"IF(COUNTBLANK(AB93)=1,\"\",IF(COUNTBLANK(INDEX(Registration!$D$2:$D$101,MATCH(AB93,Registration!$B$2:$B$101,0)))=1,\"\",INDEX(Registration!$D$2:$D$101,MATCH(AB93,Registration!$B$2:$B$101,0))))","v":""}]
[{"$f":"IF(COUNTBLANK(Registration!B93)=1,\"\",Registration!B93)","v":""},null,null,null,"",null,null,null,"",null,null,null,"",null,null,null,"",null,null,null,"","","","",null,"","","",null,{"$f":"IF(COUNTBLANK(AB94)=1,\"\",IF(OR(AH94=LEFT(AD$1,1),AH94=RIGHT(AD$1,1)),COUNTIF(AH$2:AH94,LEFT(AD$1,1))+COUNTIF(AH$2:AH94,RIGHT(AD$1,1)),\"\"))","v":""},{"$f":"IF(COUNTBLANK(AB94)=1,\"\",IF(OR(AH94=LEFT(AE$1,1),AH94=RIGHT(AE$1,1)),COUNTIF(AH$2:AH94,LEFT(AE$1,1))+COUNTIF(AH$2:AH94,RIGHT(AE$1,1)),\"\"))","v":""},{"$f":"IF(COUNTBLANK(AB94)=1,\"\",IF(OR(AH94=LEFT(AF$1,1),AH94=RIGHT(AF$1,1)),COUNTIF(AH$2:AH94,LEFT(AF$1,1))+COUNTIF(AH$2:AH94,RIGHT(AF$1,1)),\"\"))","v":""},{"$f":"IF(COUNTBLANK(AB94)=1,\"\",IF(OR(AI94=LEFT(AG$1,1),AI94=RIGHT(AG$1,1)),COUNTIF(AI$2:AI94,LEFT(AG$1,1))+COUNTIF(AI$2:AI94,RIGHT(AG$1,1)),\"\"))","v":""},{"$f":"IF(COUNTBLANK(AB94)=1,\"\",INDEX(Registration!$C$2:$C$101,MATCH(AB94,Registration!$B$2:$B$101,0)))","v":""},{"$f":"IF(COUNTBLANK(AB94)=1,\"\",IF(COUNTBLANK(INDEX(Registration!$D$2:$D$101,MATCH(AB94,Registration!$B$2:$B$101,0)))=1,\"\",INDEX(Registration!$D$2:$D$101,MATCH(AB94,Registration!$B$2:$B$101,0))))","v":""}]
[{"$f":"IF(COUNTBLANK(Registration!B94)=1,\"\",Registration!B94)","v":""},null,null,null,"",null,null,null,"",null,null,null,"",null,null,null,"",null,null,null,"","","","",null,"","","",null,{"$f":"IF(COUNTBLANK(AB95)=1,\"\",IF(OR(AH95=LEFT(AD$1,1),AH95=RIGHT(AD$1,1)),COUNTIF(AH$2:AH95,LEFT(AD$1,1))+COUNTIF(AH$2:AH95,RIGHT(AD$1,1)),\"\"))","v":""},{"$f":"IF(COUNTBLANK(AB95)=1,\"\",IF(OR(AH95=LEFT(AE$1,1),AH95=RIGHT(AE$1,1)),COUNTIF(AH$2:AH95,LEFT(AE$1,1))+COUNTIF(AH$2:AH95,RIGHT(AE$1,1)),\"\"))","v":""},{"$f":"IF(COUNTBLANK(AB95)=1,\"\",IF(OR(AH95=LEFT(AF$1,1),AH95=RIGHT(AF$1,1)),COUNTIF(AH$2:AH95,LEFT(AF$1,1))+COUNTIF(AH$2:AH95,RIGHT(AF$1,1)),\"\"))","v":""},{"$f":"IF(COUNTBLANK(AB95)=1,\"\",IF(OR(AI95=LEFT(AG$1,1),AI95=RIGHT(AG$1,1)),COUNTIF(AI$2:AI95,LEFT(AG$1,1))+COUNTIF(AI$2:AI95,RIGHT(AG$1,1)),\"\"))","v":""},{"$f":"IF(COUNTBLANK(AB95)=1,\"\",INDEX(Registration!$C$2:$C$101,MATCH(AB95,Registration!$B$2:$B$101,0)))","v":""},{"$f":"IF(COUNTBLANK(AB95)=1,\"\",IF(COUNTBLANK(INDEX(Registration!$D$2:$D$101,MATCH(AB95,Registration!$B$2:$B$101,0)))=1,\"\",INDEX(Registration!$D$2:$D$101,MATCH(AB95,Registration!$B$2:$B$101,0))))","v":""}]
[{"$f":"IF(COUNTBLANK(Registration!B95)=1,\"\",Registration!B95)","v":""},null,null,null,"",null,null,null,"",null,null,null,"",null,null,null,"",null,null,null,"","","","",null,"","","",null,{"$f":"IF(COUNTBLANK(AB96)=1,\"\",IF(OR(AH96=LEFT(AD$1,1),AH96=RIGHT(AD$1,1)),COUNTIF(AH$2:AH96,LEFT(AD$1,1))+COUNTIF(AH$2:AH96,RIGHT(AD$1,1)),\"\"))","v":""},{"$f":"IF(COUNTBLANK(AB96)=1,\"\",IF(OR(AH96=LEFT(AE$1,1),AH96=RIGHT(AE$1,1)),COUNTIF(AH$2:AH96,LEFT(AE$1,1))+COUNTIF(AH$2:AH96,RIGHT(AE$1,1)),\"\"))","v":""},{"$f":"IF(COUNTBLANK(AB96)=1,\"\",IF(OR(AH96=LEFT(AF$1,1),AH96=RIGHT(AF$1,1)),COUNTIF(AH$2:AH96,LEFT(AF$1,1))+COUNTIF(AH$2:AH96,RIGHT(AF$1,1)),\"\"))","v":""},{"$f":"IF(COUNTBLANK(AB96)=1,\"\",IF(OR(AI96=LEFT(AG$1,1),AI96=RIGHT(AG$1,1)),COUNTIF(AI$2:AI96,LEFT(AG$1,1))+COUNTIF(AI$2:AI96,RIGHT(AG$1,1)),\"\"))","v":""},{"$f":"IF(COUNTBLANK(AB96)=1,\"\",INDEX(Registration!$C$2:$C$101,MATCH(AB96,Registration!$B$2:$B$101,0)))","v":""},{"$f":"IF(COUNTBLANK(AB96)=1,\"\",IF(COUNTBLANK(INDEX(Registration!$D$2:$D$101,MATCH(AB96,Registration!$B$2:$B$101,0)))=1,\"\",INDEX(Registration!$D$2:$D$101,MATCH(AB96,Registration!$B$2:$B$101,0))))","v":""}]
[{"$f":"IF(COUNTBLANK(Registration!B96)=1,\"\",Registration!B96)","v":""},null,null,null,"",null,null,null,"",null,null,null,"",null,null,null,"",null,null,null,"","","","",null,"","","",null,{"$f":"IF(COUNTBLANK(AB97)=1,\"\",IF(OR(AH97=LEFT(AD$1,1),AH97=RIGHT(AD$1,1)),COUNTIF(AH$2:AH97,LEFT(AD$1,1))+COUNTIF(AH$2:AH97,RIGHT(AD$1,1)),\"\"))","v":""},{"$f":"IF(COUNTBLANK(AB97)=1,\"\",IF(OR(AH97=LEFT(AE$1,1),AH97=RIGHT(AE$1,1)),COUNTIF(AH$2:AH97,LEFT(AE$1,1))+COUNTIF(AH$2:AH97,RIGHT(AE$1,1)),\"\"))","v":""},{"$f":"IF(COUNTBLANK(AB97)=1,\"\",IF(OR(AH97=LEFT(AF$1,1),AH97=RIGHT(AF$1,1)),COUNTIF(AH$2:AH97,LEFT(AF$1,1))+COUNTIF(AH$2:AH97,RIGHT(AF$1,1)),\"\"))","v":""},{"$f":"IF(COUNTBLANK(AB97)=1,\"\",IF(OR(AI97=LEFT(AG$1,1),AI97=RIGHT(AG$1,1)),COUNTIF(AI$2:AI97,LEFT(AG$1,1))+COUNTIF(AI$2:AI97,RIGHT(AG$1,1)),\"\"))","v":""},{"$f":"IF(COUNTBLANK(AB97)=1,\"\",INDEX(Registration!$C$2:$C$101,MATCH(AB97,Registration!$B$2:$B$101,0)))","v":""},{"$f":"IF(COUNTBLANK(AB97)=1,\"\",IF(COUNTBLANK(INDEX(Registration!$D$2:$D$101,MATCH(AB97,Registration!$B$2:$B$101,0)))=1,\"\",INDEX(Registration!$D$2:$D$101,MATCH(AB97,Registration!$B$2:$B$101,0))))","v":""}]
[{"$f":"IF(COUNTBLANK(Registration!B97)=1,\"\",Registration!B97)","v":""},null,null,null,"",null,null,null,"",null,null,null,"",null,null,null,"",null,null,null,"","","","",null,"","","",null,{"$f":"IF(COUNTBLANK(AB98)=1,\"\",IF(OR(AH98=LEFT(AD$1,1),AH98=RIGHT(AD$1,1)),COUNTIF(AH$2:AH98,LEFT(AD$1,1))+COUNTIF(AH$2:AH98,RIGHT(AD$1,1)),\"\"))","v":""},{"$f":"IF(COUNTBLANK(AB98)=1,\"\",IF(OR(AH98=LEFT(AE$1,1),AH98=RIGHT(AE$1,1)),COUNTIF(AH$2:AH98,LEFT(AE$1,1))+COUNTIF(AH$2:AH98,RIGHT(AE$1,1)),\"\"))","v":""},{"$f":"IF(COUNTBLANK(AB98)=1,\"\",IF(OR(AH98=LEFT(AF$1,1),AH98=RIGHT(AF$1,1)),COUNTIF(AH$2:AH98,LEFT(AF$1,1))+COUNTIF(AH$2:AH98,RIGHT(AF$1,1)),\"\"))","v":""},{"$f":"IF(COUNTBLANK(AB98)=1,\"\",IF(OR(AI98=LEFT(AG$1,1),AI98=RIGHT(AG$1,1)),COUNTIF(AI$2:AI98,LEFT(AG$1,1))+COUNTIF(AI$2:AI98,RIGHT(AG$1,1)),\"\"))","v":""},{"$f":"IF(COUNTBLANK(AB98)=1,\"\",INDEX(Registration!$C$2:$C$101,MATCH(AB98,Registration!$B$2:$B$101,0)))","v":""},{"$f":"IF(COUNTBLANK(AB98)=1,\"\",IF(COUNTBLANK(INDEX(Registration!$D$2:$D$101,MATCH(AB98,Registration!$B$2:$B$101,0)))=1,\"\",INDEX(Registration!$D$2:$D$101,MATCH(AB98,Registration!$B$2:$B$101,0))))","v":""}]
[{"$f":"IF(COUNTBLANK(Registration!B98)=1,\"\",Registration!B98)","v":""},null,null,null,"",null,null,null,"",null,null,null,"",null,null,null,"",null,null,null,"","","","",null,"","","",null,{"$f":"IF(COUNTBLANK(AB99)=1,\"\",IF(OR(AH99=LEFT(AD$1,1),AH99=RIGHT(AD$1,1)),COUNTIF(AH$2:AH99,LEFT(AD$1,1))+COUNTIF(AH$2:AH99,RIGHT(AD$1,1)),\"\"))","v":""},{"$f":"IF(COUNTBLANK(AB99)=1,\"\",IF(OR(AH99=LEFT(AE$1,1),AH99=RIGHT(AE$1,1)),COUNTIF(AH$2:AH99,LEFT(AE$1,1))+COUNTIF(AH$2:AH99,RIGHT(AE$1,1)),\"\"))","v":""},{"$f":"IF(COUNTBLANK(AB99)=1,\"\",IF(OR(AH99=LEFT(AF$1,1),AH99=RIGHT(AF$1,1)),COUNTIF(AH$2:AH99,LEFT(AF$1,1))+COUNTIF(AH$2:AH99,RIGHT(AF$1,1)),\"\"))","v":""},{"$f":"IF(COUNTBLANK(AB99)=1,\"\",IF(OR(AI99=LEFT(AG$1,1),AI99=RIGHT(AG$1,1)),COUNTIF(AI$2:AI99,LEFT(AG$1,1))+COUNTIF(AI$2:AI99,RIGHT(AG$1,1)),\"\"))","v":""},{"$f":"IF(COUNTBLANK(AB99)=1,\"\",INDEX(Registration!$C$2:$C$101,MATCH(AB99,Registration!$B$2:$B$101,0)))","v":""},{"$f":"IF(COUNTBLANK(AB99)=1,\"\",IF(COUNTBLANK(INDEX(Registration!$D$2:$D$101,MATCH(AB99,Registration!$B$2:$B$101,0)))=1,\"\",INDEX(Registration!$D$2:$D$101,MATCH(AB99,Registration!$B$2:$B$101,0))))","v":""}]
[{"$f":"IF(COUNTBLANK(Registration!B99)=1,\"\",Registration!B99)","v":""},null,null,null,{"$f":"IF(OR(COUNTBLANK($A100)=1,COUNTBLANK(B100:D100)=3),\"\",SUM(B100:D100))","v":""},null,null,null,{"$f":"IF(OR(COUNTBLANK($A100)=1,COUNTBLANK(F100:H100)=3),\"\",SUM(F100:H100))","v":""},null,null,null,{"$f":"IF(OR(COUNTBLANK($A100)=1,COUNTBLANK(J100:L100)=3),\"\",SUM(J100:L100))","v":""},null,null,null,{"$f":"IF(OR(COUNTBLANK($A100)=1,COUNTBLANK(N100:P100)=3),\"\",SUM(N100:P100))","v":""},null,null,null,{"$f":"IF(OR(COUNTBLANK($A100)=1,COUNTBLANK(R100:T100)=3),\"\",SUM(R100:T100))","v":""},"","","",null,"","","",null,{"$f":"IF(COUNTBLANK(AB100)=1,\"\",IF(OR(AH100=LEFT(AD$1,1),AH100=RIGHT(AD$1,1)),COUNTIF(AH$2:AH100,LEFT(AD$1,1))+COUNTIF(AH$2:AH100,RIGHT(AD$1,1)),\"\"))","v":""},{"$f":"IF(COUNTBLANK(AB100)=1,\"\",IF(OR(AH100=LEFT(AE$1,1),AH100=RIGHT(AE$1,1)),COUNTIF(AH$2:AH100,LEFT(AE$1,1))+COUNTIF(AH$2:AH100,RIGHT(AE$1,1)),\"\"))","v":""},{"$f":"IF(COUNTBLANK(AB100)=1,\"\",IF(OR(AH100=LEFT(AF$1,1),AH100=RIGHT(AF$1,1)),COUNTIF(AH$2:AH100,LEFT(AF$1,1))+COUNTIF(AH$2:AH100,RIGHT(AF$1,1)),\"\"))","v":""},{"$f":"IF(COUNTBLANK(AB100)=1,\"\",IF(OR(AI100=LEFT(AG$1,1),AI100=RIGHT(AG$1,1)),COUNTIF(AI$2:AI100,LEFT(AG$1,1))+COUNTIF(AI$2:AI100,RIGHT(AG$1,1)),\"\"))","v":""},{"$f":"IF(COUNTBLANK(AB100)=1,\"\",INDEX(Registration!$C$2:$C$101,MATCH(AB100,Registration!$B$2:$B$101,0)))","v":""},{"$f":"IF(COUNTBLANK(AB100)=1,\"\",IF(COUNTBLANK(INDEX(Registration!$D$2:$D$101,MATCH(AB100,Registration!$B$2:$B$101,0)))=1,\"\",INDEX(Registration!$D$2:$D$101,MATCH(AB100,Registration!$B$2:$B$101,0))))","v":""}]
[{"$f":"IF(COUNTBLANK(Registration!B100)=1,\"\",Registration!B100)","v":""},null,null,null,{"$f":"IF(OR(COUNTBLANK($A101)=1,COUNTBLANK(B101:D101)=3),\"\",SUM(B101:D101))","v":""},null,null,null,{"$f":"IF(OR(COUNTBLANK($A101)=1,COUNTBLANK(F101:H101)=3),\"\",SUM(F101:H101))","v":""},null,null,null,{"$f":"IF(OR(COUNTBLANK($A101)=1,COUNTBLANK(J101:L101)=3),\"\",SUM(J101:L101))","v":""},null,null,null,{"$f":"IF(OR(COUNTBLANK($A101)=1,COUNTBLANK(N101:P101)=3),\"\",SUM(N101:P101))","v":""},null,null,null,{"$f":"IF(OR(COUNTBLANK($A101)=1,COUNTBLANK(R101:T101)=3),\"\",SUM(R101:T101))","v":""},"","","",null,"","","",null,{"$f":"IF(COUNTBLANK(AB101)=1,\"\",IF(OR(AH101=LEFT(AD$1,1),AH101=RIGHT(AD$1,1)),COUNTIF(AH$2:AH101,LEFT(AD$1,1))+COUNTIF(AH$2:AH101,RIGHT(AD$1,1)),\"\"))","v":""},{"$f":"IF(COUNTBLANK(AB101)=1,\"\",IF(OR(AH101=LEFT(AE$1,1),AH101=RIGHT(AE$1,1)),COUNTIF(AH$2:AH101,LEFT(AE$1,1))+COUNTIF(AH$2:AH101,RIGHT(AE$1,1)),\"\"))","v":""},{"$f":"IF(COUNTBLANK(AB101)=1,\"\",IF(OR(AH101=LEFT(AF$1,1),AH101=RIGHT(AF$1,1)),COUNTIF(AH$2:AH101,LEFT(AF$1,1))+COUNTIF(AH$2:AH101,RIGHT(AF$1,1)),\"\"))","v":""},{"$f":"IF(COUNTBLANK(AB101)=1,\"\",IF(OR(AI101=LEFT(AG$1,1),AI101=RIGHT(AG$1,1)),COUNTIF(AI$2:AI101,LEFT(AG$1,1))+COUNTIF(AI$2:AI101,RIGHT(AG$1,1)),\"\"))","v":""},{"$f":"IF(COUNTBLANK(AB101)=1,\"\",INDEX(Registration!$C$2:$C$101,MATCH(AB101,Registration!$B$2:$B$101,0)))","v":""},{"$f":"IF(COUNTBLANK(AB101)=1,\"\",IF(COUNTBLANK(INDEX(Registration!$D$2:$D$101,MATCH(AB101,Registration!$B$2:$B$101,0)))=1,\"\",INDEX(Registration!$D$2:$D$101,MATCH(AB101,Registration!$B$2:$B$101,0))))","v":""}]
[{"$f":"IF(COUNTBLANK(Registration!B101)=1,\"\",Registration!B101)","v":""},null,null,null,{"$f":"IF(OR(COUNTBLANK($A102)=1,COUNTBLANK(B102:D102)=3),\"\",SUM(B102:D102))","v":""},null,null,null,{"$f":"IF(OR(COUNTBLANK($A102)=1,COUNTBLANK(F102:H102)=3),\"\",SUM(F102:H102))","v":""},null,null,null,{"$f":"IF(OR(COUNTBLANK($A102)=1,COUNTBLANK(J102:L102)=3),\"\",SUM(J102:L102))","v":""},null,null,null,{"$f":"IF(OR(COUNTBLANK($A102)=1,COUNTBLANK(N102:P102)=3),\"\",SUM(N102:P102))","v":""},null,null,null,{"$f":"IF(OR(COUNTBLANK($A102)=1,COUNTBLANK(R102:T102)=3),\"\",SUM(R102:T102))","v":""},"","","",null,"","",""]

{"sheet":"Accuracy","index":2,"n_rows":101,"n_cols":25,"rows_kept":101,"cut":false,"hidden":false,"merged":[]}
[{"$f":"Registration!B1","v":"Name"},"1rst Throw","2nd Throw","3rd Throw","4th Throw","5th Throw","6th Throw","7th Throw","8th Throw","9th Throw","10th Throw","Total","Place","Points",null,"Points","Total","Name",null,"SA","OI","NB","JW","Division","Category"]
[{"$f":"IF(COUNTBLANK(Registration!B2)=1,\"\",Registration!B2)","v":""},null,null,null,null,null,null,null,null,null,null,{"$f":"IF(OR(COUNTBLANK($A2)=1,COUNTBLANK(B2:K2)=10),\"\",SUM(B2:K2))","v":""},{"$f":"IF(OR(COUNTBLANK($A2)=1,COUNTBLANK(L2)=1),\"\",RANK(L2,$L$2:$L$101,0))","v":""},{"$f":"IF(OR(COUNTBLANK($A2)=1,COUNTBLANK(L2)=1),\"\",placingpoints(M2,COUNTIF(M$2:M$101,\"=\"&M2)))","v":""},null,null,null,null,null,{"$f":"IF(COUNTBLANK(R2)=1,\"\",IF(OR(X2=LEFT(T$1,1),X2=RIGHT(T$1,1)),COUNTIF(X$2:X2,LEFT(T$1,1))+COUNTIF(X$2:X2,RIGHT(T$1,1)),\"\"))","v":""},{"$f":"IF(COUNTBLANK(R2)=1,\"\",IF(OR(X2=LEFT(U$1,1),X2=RIGHT(U$1,1)),COUNTIF(X$2:X2,LEFT(U$1,1))+COUNTIF(X$2:X2,RIGHT(U$1,1)),\"\"))","v":""},{"$f":"IF(COUNTBLANK(R2)=1,\"\",IF(OR(X2=LEFT(V$1,1),X2=RIGHT(V$1,1)),COUNTIF(X$2:X2,LEFT(V$1,1))+COUNTIF(X$2:X2,RIGHT(V$1,1)),\"\"))","v":""},{"$f":"IF(COUNTBLANK(R2)=1,\"\",IF(OR(Y2=LEFT(W$1,1),Y2=RIGHT(W$1,1)),COUNTIF(Y$2:Y2,LEFT(W$1,1))+COUNTIF(Y$2:Y2,RIGHT(W$1,1)),\"\"))","v":""},{"$f":"IF(COUNTBLANK(R2)=1,\"\",INDEX(Registration!$C$2:$C$101,MATCH(R2,Registration!$B$2:$B$101,0)))","v":""},{"$f":"IF(COUNTBLANK(R2)=1,\"\",IF(COUNTBLANK(INDEX(Registration!$D$2:$D$101,MATCH(R2,Registration!$B$2:$B$101,0)))=1,\"\",INDEX(Registration!$D$2:$D$101,MATCH(R2,Registration!$B$2:$B$101,0))))","v":""}]
[{"$f":"IF(COUNTBLANK(Registration!B3)=1,\"\",Registration!B3)","v":""},null,null,null,null,null,null,null,null,null,null,{"$f":"IF(OR(COUNTBLANK($A3)=1,COUNTBLANK(B3:K3)=10),\"\",SUM(B3:K3))","v":""},{"$f":"IF(OR(COUNTBLANK($A3)=1,COUNTBLANK(L3)=1),\"\",RANK(L3,$L$2:$L$101,0))","v":""},{"$f":"IF(OR(COUNTBLANK($A3)=1,COUNTBLANK(L3)=1),\"\",placingpoints(M3,COUNTIF(M$2:M$101,\"=\"&M3)))","v":""},null,null,null,null,null,{"$f":"IF(COUNTBLANK(R3)=1,\"\",IF(OR(X3=LEFT(T$1,1),X3=RIGHT(T$1,1)),COUNTIF(X$2:X3,LEFT(T$1,1))+COUNTIF(X$2:X3,RIGHT(T$1,1)),\"\"))","v":""},{"$f":"IF(COUNTBLANK(R3)=1,\"\",IF(OR(X3=LEFT(U$1,1),X3=RIGHT(U$1,1)),COUNTIF(X$2:X3,LEFT(U$1,1))+COUNTIF(X$2:X3,RIGHT(U$1,1)),\"\"))","v":""},{"$f":"IF(COUNTBLANK(R3)=1,\"\",IF(OR(X3=LEFT(V$1,1),X3=RIGHT(V$1,1)),COUNTIF(X$2:X3,LEFT(V$1,1))+COUNTIF(X$2:X3,RIGHT(V$1,1)),\"\"))","v":""},{"$f":"IF(COUNTBLANK(R3)=1,\"\",IF(OR(Y3=LEFT(W$1,1),Y3=RIGHT(W$1,1)),COUNTIF(Y$2:Y3,LEFT(W$1,1))+COUNTIF(Y$2:Y3,RIGHT(W$1,1)),\"\"))","v":""},{"$f":"IF(COUNTBLANK(R3)=1,\"\",INDEX(Registration!$C$2:$C$101,MATCH(R3,Registration!$B$2:$B$101,0)))","v":""},{"$f":"IF(COUNTBLANK(R3)=1,\"\",IF(COUNTBLANK(INDEX(Registration!$D$2:$D$101,MATCH(R3,Registration!$B$2:$B$101,0)))=1,\"\",INDEX(Registration!$D$2:$D$101,MATCH(R3,Registration!$B$2:$B$101,0))))","v":""}]
[{"$f":"IF(COUNTBLANK(Registration!B4)=1,\"\",Registration!B4)","v":""},null,null,null,null,null,null,null,null,null,null,"","","",null,null,null,null,null,{"$f":"IF(COUNTBLANK(R4)=1,\"\",IF(OR(X4=LEFT(T$1,1),X4=RIGHT(T$1,1)),COUNTIF(X$2:X4,LEFT(T$1,1))+COUNTIF(X$2:X4,RIGHT(T$1,1)),\"\"))","v":""},{"$f":"IF(COUNTBLANK(R4)=1,\"\",IF(OR(X4=LEFT(U$1,1),X4=RIGHT(U$1,1)),COUNTIF(X$2:X4,LEFT(U$1,1))+COUNTIF(X$2:X4,RIGHT(U$1,1)),\"\"))","v":""},{"$f":"IF(COUNTBLANK(R4)=1,\"\",IF(OR(X4=LEFT(V$1,1),X4=RIGHT(V$1,1)),COUNTIF(X$2:X4,LEFT(V$1,1))+COUNTIF(X$2:X4,RIGHT(V$1,1)),\"\"))","v":""},{"$f":"IF(COUNTBLANK(R4)=1,\"\",IF(OR(Y4=LEFT(W$1,1),Y4=RIGHT(W$1,1)),COUNTIF(Y$2:Y4,LEFT(W$1,1))+COUNTIF(Y$2:Y4,RIGHT(W$1,1)),\"\"))","v":""},{"$f":"IF(COUNTBLANK(R4)=1,\"\",INDEX(Registration!$C$2:$C$101,MATCH(R4,Registration!$B$2:$B$101,0)))","v":""},{"$f":"IF(COUNTBLANK(R4)=1,\"\",IF(COUNTBLANK(INDEX(Registration!$D$2:$D$101,MATCH(R4,Registration!$B$2:$B$101,0)))=1,\"\",INDEX(Registration!$D$2:$D$101,MATCH(R4,Registration!$B$2:$B$101,0))))","v":""}]
[{"$f":"IF(COUNTBLANK(Registration!B5)=1,\"\",Registration!B5)","v":""},null,null,null,null,null,null,null,null,null,null,"","","",null,null,null,null,null,{"$f":"IF(COUNTBLANK(R5)=1,\"\",IF(OR(X5=LEFT(T$1,1),X5=RIGHT(T$1,1)),COUNTIF(X$2:X5,LEFT(T$1,1))+COUNTIF(X$2:X5,RIGHT(T$1,1)),\"\"))","v":""},{"$f":"IF(COUNTBLANK(R5)=1,\"\",IF(OR(X5=LEFT(U$1,1),X5=RIGHT(U$1,1)),COUNTIF(X$2:X5,LEFT(U$1,1))+COUNTIF(X$2:X5,RIGHT(U$1,1)),\"\"))","v":""},{"$f":"IF(COUNTBLANK(R5)=1,\"\",IF(OR(X5=LEFT(V$1,1),X5=RIGHT(V$1,1)),COUNTIF(X$2:X5,LEFT(V$1,1))+COUNTIF(X$2:X5,RIGHT(V$1,1)),\"\"))","v":""},{"$f":"IF(COUNTBLANK(R5)=1,\"\",IF(OR(Y5=LEFT(W$1,1),Y5=RIGHT(W$1,1)),COUNTIF(Y$2:Y5,LEFT(W$1,1))+COUNTIF(Y$2:Y5,RIGHT(W$1,1)),\"\"))","v":""},{"$f":"IF(COUNTBLANK(R5)=1,\"\",INDEX(Registration!$C$2:$C$101,MATCH(R5,Registration!$B$2:$B$101,0)))","v":""},{"$f":"IF(COUNTBLANK(R5)=1,\"\",IF(COUNTBLANK(INDEX(Registration!$D$2:$D$101,MATCH(R5,Registration!$B$2:$B$101,0)))=1,\"\",INDEX(Registration!$D$2:$D$101,MATCH(R5,Registration!$B$2:$B$101,0))))","v":""}]
[{"$f":"IF(COUNTBLANK(Registration!B6)=1,\"\",Registration!B6)","v":""},null,null,null,null,null,null,null,null,null,null,"","","",null,null,null,null,null,{"$f":"IF(COUNTBLANK(R6)=1,\"\",IF(OR(X6=LEFT(T$1,1),X6=RIGHT(T$1,1)),COUNTIF(X$2:X6,LEFT(T$1,1))+COUNTIF(X$2:X6,RIGHT(T$1,1)),\"\"))","v":""},{"$f":"IF(COUNTBLANK(R6)=1,\"\",IF(OR(X6=LEFT(U$1,1),X6=RIGHT(U$1,1)),COUNTIF(X$2:X6,LEFT(U$1,1))+COUNTIF(X$2:X6,RIGHT(U$1,1)),\"\"))","v":""},{"$f":"IF(COUNTBLANK(R6)=1,\"\",IF(OR(X6=LEFT(V$1,1),X6=RIGHT(V$1,1)),COUNTIF(X$2:X6,LEFT(V$1,1))+COUNTIF(X$2:X6,RIGHT(V$1,1)),\"\"))","v":""},{"$f":"IF(COUNTBLANK(R6)=1,\"\",IF(OR(Y6=LEFT(W$1,1),Y6=RIGHT(W$1,1)),COUNTIF(Y$2:Y6,LEFT(W$1,1))+COUNTIF(Y$2:Y6,RIGHT(W$1,1)),\"\"))","v":""},{"$f":"IF(COUNTBLANK(R6)=1,\"\",INDEX(Registration!$C$2:$C$101,MATCH(R6,Registration!$B$2:$B$101,0)))","v":""},{"$f":"IF(COUNTBLANK(R6)=1,\"\",IF(COUNTBLANK(INDEX(Registration!$D$2:$D$101,MATCH(R6,Registration!$B$2:$B$101,0)))=1,\"\",INDEX(Registration!$D$2:$D$101,MATCH(R6,Registration!$B$2:$B$101,0))))","v":""}]
[{"$f":"IF(COUNTBLANK(Registration!B7)=1,\"\",Registration!B7)","v":""},null,null,null,null,null,null,null,null,null,null,"","","",null,null,null,null,null,{"$f":"IF(COUNTBLANK(R7)=1,\"\",IF(OR(X7=LEFT(T$1,1),X7=RIGHT(T$1,1)),COUNTIF(X$2:X7,LEFT(T$1,1))+COUNTIF(X$2:X7,RIGHT(T$1,1)),\"\"))","v":""},{"$f":"IF(COUNTBLANK(R7)=1,\"\",IF(OR(X7=LEFT(U$1,1),X7=RIGHT(U$1,1)),COUNTIF(X$2:X7,LEFT(U$1,1))+COUNTIF(X$2:X7,RIGHT(U$1,1)),\"\"))","v":""},{"$f":"IF(COUNTBLANK(R7)=1,\"\",IF(OR(X7=LEFT(V$1,1),X7=RIGHT(V$1,1)),COUNTIF(X$2:X7,LEFT(V$1,1))+COUNTIF(X$2:X7,RIGHT(V$1,1)),\"\"))","v":""},{"$f":"IF(COUNTBLANK(R7)=1,\"\",IF(OR(Y7=LEFT(W$1,1),Y7=RIGHT(W$1,1)),COUNTIF(Y$2:Y7,LEFT(W$1,1))+COUNTIF(Y$2:Y7,RIGHT(W$1,1)),\"\"))","v":""},{"$f":"IF(COUNTBLANK(R7)=1,\"\",INDEX(Registration!$C$2:$C$101,MATCH(R7,Registration!$B$2:$B$101,0)))","v":""},{"$f":"IF(COUNTBLANK(R7)=1,\"\",IF(COUNTBLANK(INDEX(Registration!$D$2:$D$101,MATCH(R7,Registration!$B$2:$B$101,0)))=1,\"\",INDEX(Registration!$D$2:$D$101,MATCH(R7,Registration!$B$2:$B$101,0))))","v":""}]
[{"$f":"IF(COUNTBLANK(Registration!B8)=1,\"\",Registration!B8)","v":""},null,null,null,null,null,null,null,null,null,null,"","","",null,null,null,null,null,{"$f":"IF(COUNTBLANK(R8)=1,\"\",IF(OR(X8=LEFT(T$1,1),X8=RIGHT(T$1,1)),COUNTIF(X$2:X8,LEFT(T$1,1))+COUNTIF(X$2:X8,RIGHT(T$1,1)),\"\"))","v":""},{"$f":"IF(COUNTBLANK(R8)=1,\"\",IF(OR(X8=LEFT(U$1,1),X8=RIGHT(U$1,1)),COUNTIF(X$2:X8,LEFT(U$1,1))+COUNTIF(X$2:X8,RIGHT(U$1,1)),\"\"))","v":""},{"$f":"IF(COUNTBLANK(R8)=1,\"\",IF(OR(X8=LEFT(V$1,1),X8=RIGHT(V$1,1)),COUNTIF(X$2:X8,LEFT(V$1,1))+COUNTIF(X$2:X8,RIGHT(V$1,1)),\"\"))","v":""},{"$f":"IF(COUNTBLANK(R8)=1,\"\",IF(OR(Y8=LEFT(W$1,1),Y8=RIGHT(W$1,1)),COUNTIF(Y$2:Y8,LEFT(W$1,1))+COUNTIF(Y$2:Y8,RIGHT(W$1,1)),\"\"))","v":""},{"$f":"IF(COUNTBLANK(R8)=1,\"\",INDEX(Registration!$C$2:$C$101,MATCH(R8,Registration!$B$2:$B$101,0)))","v":""},{"$f":"IF(COUNTBLANK(R8)=1,\"\",IF(COUNTBLANK(INDEX(Registration!$D$2:$D$101,MATCH(R8,Registration!$B$2:$B$101,0)))=1,\"\",INDEX(Registration!$D$2:$D$101,MATCH(R8,Registration!$B$2:$B$101,0))))","v":""}]
[{"$f":"IF(COUNTBLANK(Registration!B9)=1,\"\",Registration!B9)","v":""},null,null,null,null,null,null,null,null,null,null,{"$f":"IF(OR(COUNTBLANK($A9)=1,COUNTBLANK(B9:K9)=10),\"\",SUM(B9:K9))","v":""},"","",null,null,null,null,null,{"$f":"IF(COUNTBLANK(R9)=1,\"\",IF(OR(X9=LEFT(T$1,1),X9=RIGHT(T$1,1)),COUNTIF(X$2:X9,LEFT(T$1,1))+COUNTIF(X$2:X9,RIGHT(T$1,1)),\"\"))","v":""},{"$f":"IF(COUNTBLANK(R9)=1,\"\",IF(OR(X9=LEFT(U$1,1),X9=RIGHT(U$1,1)),COUNTIF(X$2:X9,LEFT(U$1,1))+COUNTIF(X$2:X9,RIGHT(U$1,1)),\"\"))","v":""},{"$f":"IF(COUNTBLANK(R9)=1,\"\",IF(OR(X9=LEFT(V$1,1),X9=RIGHT(V$1,1)),COUNTIF(X$2:X9,LEFT(V$1,1))+COUNTIF(X$2:X9,RIGHT(V$1,1)),\"\"))","v":""},{"$f":"IF(COUNTBLANK(R9)=1,\"\",IF(OR(Y9=LEFT(W$1,1),Y9=RIGHT(W$1,1)),COUNTIF(Y$2:Y9,LEFT(W$1,1))+COUNTIF(Y$2:Y9,RIGHT(W$1,1)),\"\"))","v":""},{"$f":"IF(COUNTBLANK(R9)=1,\"\",INDEX(Registration!$C$2:$C$101,MATCH(R9,Registration!$B$2:$B$101,0)))","v":""},{"$f":"IF(COUNTBLANK(R9)=1,\"\",IF(COUNTBLANK(INDEX(Registration!$D$2:$D$101,MATCH(R9,Registration!$B$2:$B$101,0)))=1,\"\",INDEX(Registration!$D$2:$D$101,MATCH(R9,Registration!$B$2:$B$101,0))))","v":""}]
[{"$f":"IF(COUNTBLANK(Registration!B10)=1,\"\",Registration!B10)","v":""},null,null,null,null,null,null,null,null,null,null,"","","",null,null,null,null,null,{"$f":"IF(COUNTBLANK(R10)=1,\"\",IF(OR(X10=LEFT(T$1,1),X10=RIGHT(T$1,1)),COUNTIF(X$2:X10,LEFT(T$1,1))+COUNTIF(X$2:X10,RIGHT(T$1,1)),\"\"))","v":""},{"$f":"IF(COUNTBLANK(R10)=1,\"\",IF(OR(X10=LEFT(U$1,1),X10=RIGHT(U$1,1)),COUNTIF(X$2:X10,LEFT(U$1,1))+COUNTIF(X$2:X10,RIGHT(U$1,1)),\"\"))","v":""},{"$f":"IF(COUNTBLANK(R10)=1,\"\",IF(OR(X10=LEFT(V$1,1),X10=RIGHT(V$1,1)),COUNTIF(X$2:X10,LEFT(V$1,1))+COUNTIF(X$2:X10,RIGHT(V$1,1)),\"\"))","v":""},{"$f":"IF(COUNTBLANK(R10)=1,\"\",IF(OR(Y10=LEFT(W$1,1),Y10=RIGHT(W$1,1)),COUNTIF(Y$2:Y10,LEFT(W$1,1))+COUNTIF(Y$2:Y10,RIGHT(W$1,1)),\"\"))","v":""},{"$f":"IF(COUNTBLANK(R10)=1,\"\",INDEX(Registration!$C$2:$C$101,MATCH(R10,Registration!$B$2:$B$101,0)))","v":""},{"$f":"IF(COUNTBLANK(R10)=1,\"\",IF(COUNTBLANK(INDEX(Registration!$D$2:$D$101,MATCH(R10,Registration!$B$2:$B$101,0)))=1,\"\",INDEX(Registration!$D$2:$D$101,MATCH(R10,Registration!$B$2:$B$101,0))))","v":""}]
[{"$f":"IF(COUNTBLANK(Registration!B11)=1,\"\",Registration!B11)","v":""},null,null,null,null,null,null,null,null,null,null,"","","",null,null,null,null,null,{"$f":"IF(COUNTBLANK(R11)=1,\"\",IF(OR(X11=LEFT(T$1,1),X11=RIGHT(T$1,1)),COUNTIF(X$2:X11,LEFT(T$1,1))+COUNTIF(X$2:X11,RIGHT(T$1,1)),\"\"))","v":""},{"$f":"IF(COUNTBLANK(R11)=1,\"\",IF(OR(X11=LEFT(U$1,1),X11=RIGHT(U$1,1)),COUNTIF(X$2:X11,LEFT(U$1,1))+COUNTIF(X$2:X11,RIGHT(U$1,1)),\"\"))","v":""},{"$f":"IF(COUNTBLANK(R11)=1,\"\",IF(OR(X11=LEFT(V$1,1),X11=RIGHT(V$1,1)),COUNTIF(X$2:X11,LEFT(V$1,1))+COUNTIF(X$2:X11,RIGHT(V$1,1)),\"\"))","v":""},{"$f":"IF(COUNTBLANK(R11)=1,\"\",IF(OR(Y11=LEFT(W$1,1),Y11=RIGHT(W$1,1)),COUNTIF(Y$2:Y11,LEFT(W$1,1))+COUNTIF(Y$2:Y11,RIGHT(W$1,1)),\"\"))","v":""},{"$f":"IF(COUNTBLANK(R11)=1,\"\",INDEX(Registration!$C$2:$C$101,MATCH(R11,Registration!$B$2:$B$101,0)))","v":""},{"$f":"IF(COUNTBLANK(R11)=1,\"\",IF(COUNTBLANK(INDEX(Registration!$D$2:$D$101,MATCH(R11,Registration!$B$2:$B$101,0)))=1,\"\",INDEX(Registration!$D$2:$D$101,MATCH(R11,Registration!$B$2:$B$101,0))))","v":""}]
[{"$f":"IF(COUNTBLANK(Registration!B12)=1,\"\",Registration!B12)","v":""},null,null,null,null,null,null,null,null,null,null,"","","",null,null,null,null,null,{"$f":"IF(COUNTBLANK(R12)=1,\"\",IF(OR(X12=LEFT(T$1,1),X12=RIGHT(T$1,1)),COUNTIF(X$2:X12,LEFT(T$1,1))+COUNTIF(X$2:X12,RIGHT(T$1,1)),\"\"))","v":""},{"$f":"IF(COUNTBLANK(R12)=1,\"\",IF(OR(X12=LEFT(U$1,1),X12=RIGHT(U$1,1)),COUNTIF(X$2:X12,LEFT(U$1,1))+COUNTIF(X$2:X12,RIGHT(U$1,1)),\"\"))","v":""},{"$f":"IF(COUNTBLANK(R12)=1,\"\",IF(OR(X12=LEFT(V$1,1),X12=RIGHT(V$1,1)),COUNTIF(X$2:X12,LEFT(V$1,1))+COUNTIF(X$2:X12,RIGHT(V$1,1)),\"\"))","v":""},{"$f":"IF(COUNTBLANK(R12)=1,\"\",IF(OR(Y12=LEFT(W$1,1),Y12=RIGHT(W$1,1)),COUNTIF(Y$2:Y12,LEFT(W$1,1))+COUNTIF(Y$2:Y12,RIGHT(W$1,1)),\"\"))","v":""},{"$f":"IF(COUNTBLANK(R12)=1,\"\",INDEX(Registration!$C$2:$C$101,MATCH(R12,Registration!$B$2:$B$101,0)))","v":""},{"$f":"IF(COUNTBLANK(R12)=1,\"\",IF(COUNTBLANK(INDEX(Registration!$D$2:$D$101,MATCH(R12,Registration!$B$2:$B$101,0)))=1,\"\",INDEX(Registration!$D$2:$D$101,MATCH(R12,Registration!$B$2:$B$101,0))))","v":""}]
[{"$f":"IF(COUNTBLANK(Registration!B13)=1,\"\",Registration!B13)","v":""},null,null,null,null,null,null,null,null,null,null,"","","",null,null,null,null,null,{"$f":"IF(COUNTBLANK(R13)=1,\"\",IF(OR(X13=LEFT(T$1,1),X13=RIGHT(T$1,1)),COUNTIF(X$2:X13,LEFT(T$1,1))+COUNTIF(X$2:X13,RIGHT(T$1,1)),\"\"))","v":""},{"$f":"IF(COUNTBLANK(R13)=1,\"\",IF(OR(X13=LEFT(U$1,1),X13=RIGHT(U$1,1)),COUNTIF(X$2:X13,LEFT(U$1,1))+COUNTIF(X$2:X13,RIGHT(U$1,1)),\"\"))","v":""},{"$f":"IF(COUNTBLANK(R13)=1,\"\",IF(OR(X13=LEFT(V$1,1),X13=RIGHT(V$1,1)),COUNTIF(X$2:X13,LEFT(V$1,1))+COUNTIF(X$2:X13,RIGHT(V$1,1)),\"\"))","v":""},{"$f":"IF(COUNTBLANK(R13)=1,\"\",IF(OR(Y13=LEFT(W$1,1),Y13=RIGHT(W$1,1)),COUNTIF(Y$2:Y13,LEFT(W$1,1))+COUNTIF(Y$2:Y13,RIGHT(W$1,1)),\"\"))","v":""},{"$f":"IF(COUNTBLANK(R13)=1,\"\",INDEX(Registration!$C$2:$C$101,MATCH(R13,Registration!$B$2:$B$101,0)))","v":""},{"$f":"IF(COUNTBLANK(R13)=1,\"\",IF(COUNTBLANK(INDEX(Registration!$D$2:$D$101,MATCH(R13,Registration!$B$2:$B$101,0)))=1,\"\",INDEX(Registration!$D$2:$D$101,MATCH(R13,Registration!$B$2:$B$101,0))))","v":""}]
[{"$f":"IF(COUNTBLANK(Registration!B14)=1,\"\",Registration!B14)","v":""},null,null,null,null,null,null,null,null,null,null,"","","",null,null,null,null,null,{"$f":"IF(COUNTBLANK(R14)=1,\"\",IF(OR(X14=LEFT(T$1,1),X14=RIGHT(T$1,1)),COUNTIF(X$2:X14,LEFT(T$1,1))+COUNTIF(X$2:X14,RIGHT(T$1,1)),\"\"))","v":""},{"$f":"IF(COUNTBLANK(R14)=1,\"\",IF(OR(X14=LEFT(U$1,1),X14=RIGHT(U$1,1)),COUNTIF(X$2:X14,LEFT(U$1,1))+COUNTIF(X$2:X14,RIGHT(U$1,1)),\"\"))","v":""},{"$f":"IF(COUNTBLANK(R14)=1,\"\",IF(OR(X14=LEFT(V$1,1),X14=RIGHT(V$1,1)),COUNTIF(X$2:X14,LEFT(V$1,1))+COUNTIF(X$2:X14,RIGHT(V$1,1)),\"\"))","v":""},{"$f":"IF(COUNTBLANK(R14)=1,\"\",IF(OR(Y14=LEFT(W$1,1),Y14=RIGHT(W$1,1)),COUNTIF(Y$2:Y14,LEFT(W$1,1))+COUNTIF(Y$2:Y14,RIGHT(W$1,1)),\"\"))","v":""},{"$f":"IF(COUNTBLANK(R14)=1,\"\",INDEX(Registration!$C$2:$C$101,MATCH(R14,Registration!$B$2:$B$101,0)))","v":""},{"$f":"IF(COUNTBLANK(R14)=1,\"\",IF(COUNTBLANK(INDEX(Registration!$D$2:$D$101,MATCH(R14,Registration!$B$2:$B$101,0)))=1,\"\",INDEX(Registration!$D$2:$D$101,MATCH(R14,Registration!$B$2:$B$101,0))))","v":""}]
[{"$f":"IF(COUNTBLANK(Registration!B15)=1,\"\",Registration!B15)","v":""},null,null,null,null,null,null,null,null,null,null,"","","",null,null,null,null,null,{"$f":"IF(COUNTBLANK(R15)=1,\"\",IF(OR(X15=LEFT(T$1,1),X15=RIGHT(T$1,1)),COUNTIF(X$2:X15,LEFT(T$1,1))+COUNTIF(X$2:X15,RIGHT(T$1,1)),\"\"))","v":""},{"$f":"IF(COUNTBLANK(R15)=1,\"\",IF(OR(X15=LEFT(U$1,1),X15=RIGHT(U$1,1)),COUNTIF(X$2:X15,LEFT(U$1,1))+COUNTIF(X$2:X15,RIGHT(U$1,1)),\"\"))","v":""},{"$f":"IF(COUNTBLANK(R15)=1,\"\",IF(OR(X15=LEFT(V$1,1),X15=RIGHT(V$1,1)),COUNTIF(X$2:X15,LEFT(V$1,1))+COUNTIF(X$2:X15,RIGHT(V$1,1)),\"\"))","v":""},{"$f":"IF(COUNTBLANK(R15)=1,\"\",IF(OR(Y15=LEFT(W$1,1),Y15=RIGHT(W$1,1)),COUNTIF(Y$2:Y15,LEFT(W$1,1))+COUNTIF(Y$2:Y15,RIGHT(W$1,1)),\"\"))","v":""},{"$f":"IF(COUNTBLANK(R15)=1,\"\",INDEX(Registration!$C$2:$C$101,MATCH(R15,Registration!$B$2:$B$101,0)))","v":""},{"$f":"IF(COUNTBLANK(R15)=1,\"\",IF(COUNTBLANK(INDEX(Registration!$D$2:$D$101,MATCH(R15,Registration!$B$2:$B$101,0)))=1,\"\",INDEX(Registration!$D$2:$D$101,MATCH(R15,Registration!$B$2:$B$101,0))))","v":""}]
[{"$f":"IF(COUNTBLANK(Registration!B16)=1,\"\",Registration!B16)","v":""},null,null,null,null,null,null,null,null,null,null,"","","",null,null,null,null,null,{"$f":"IF(COUNTBLANK(R16)=1,\"\",IF(OR(X16=LEFT(T$1,1),X16=RIGHT(T$1,1)),COUNTIF(X$2:X16,LEFT(T$1,1))+COUNTIF(X$2:X16,RIGHT(T$1,1)),\"\"))","v":""},{"$f":"IF(COUNTBLANK(R16)=1,\"\",IF(OR(X16=LEFT(U$1,1),X16=RIGHT(U$1,1)),COUNTIF(X$2:X16,LEFT(U$1,1))+COUNTIF(X$2:X16,RIGHT(U$1,1)),\"\"))","v":""},{"$f":"IF(COUNTBLANK(R16)=1,\"\",IF(OR(X16=LEFT(V$1,1),X16=RIGHT(V$1,1)),COUNTIF(X$2:X16,LEFT(V$1,1))+COUNTIF(X$2:X16,RIGHT(V$1,1)),\"\"))","v":""},{"$f":"IF(COUNTBLANK(R16)=1,\"\",IF(OR(Y16=LEFT(W$1,1),Y16=RIGHT(W$1,1)),COUNTIF(Y$2:Y16,LEFT(W$1,1))+COUNTIF(Y$2:Y16,RIGHT(W$1,1)),\"\"))","v":""},{"$f":"IF(COUNTBLANK(R16)=1,\"\",INDEX(Registration!$C$2:$C$101,MATCH(R16,Registration!$B$2:$B$101,0)))","v":""},{"$f":"IF(COUNTBLANK(R16)=1,\"\",IF(COUNTBLANK(INDEX(Registration!$D$2:$D$101,MATCH(R16,Registration!$B$2:$B$101,0)))=1,\"\",INDEX(Registration!$D$2:$D$101,MATCH(R16,Registration!$B$2:$B$101,0))))","v":""}]
[{"$f":"IF(COUNTBLANK(Registration!B17)=1,\"\",Registration!B17)","v":""},null,null,null,null,null,null,null,null,null,null,"","","",null,null,null,null,null,{"$f":"IF(COUNTBLANK(R17)=1,\"\",IF(OR(X17=LEFT(T$1,1),X17=RIGHT(T$1,1)),COUNTIF(X$2:X17,LEFT(T$1,1))+COUNTIF(X$2:X17,RIGHT(T$1,1)),\"\"))","v":""},{"$f":"IF(COUNTBLANK(R17)=1,\"\",IF(OR(X17=LEFT(U$1,1),X17=RIGHT(U$1,1)),COUNTIF(X$2:X17,LEFT(U$1,1))+COUNTIF(X$2:X17,RIGHT(U$1,1)),\"\"))","v":""},{"$f":"IF(COUNTBLANK(R17)=1,\"\",IF(OR(X17=LEFT(V$1,1),X17=RIGHT(V$1,1)),COUNTIF(X$2:X17,LEFT(V$1,1))+COUNTIF(X$2:X17,RIGHT(V$1,1)),\"\"))","v":""},{"$f":"IF(COUNTBLANK(R17)=1,\"\",IF(OR(Y17=LEFT(W$1,1),Y17=RIGHT(W$1,1)),COUNTIF(Y$2:Y17,LEFT(W$1,1))+COUNTIF(Y$2:Y17,RIGHT(W$1,1)),\"\"))","v":""},{"$f":"IF(COUNTBLANK(R17)=1,\"\",INDEX(Registration!$C$2:$C$101,MATCH(R17,Registration!$B$2:$B$101,0)))","v":""},{"$f":"IF(COUNTBLANK(R17)=1,\"\",IF(COUNTBLANK(INDEX(Registration!$D$2:$D$101,MATCH(R17,Registration!$B$2:$B$101,0)))=1,\"\",INDEX(Registration!$D$2:$D$101,MATCH(R17,Registration!$B$2:$B$101,0))))","v":""}]
[{"$f":"IF(COUNTBLANK(Registration!B18)=1,\"\",Registration!B18)","v":""},null,null,null,null,null,null,null,null,null,null,"","","",null,null,null,null,null,{"$f":"IF(COUNTBLANK(R18)=1,\"\",IF(OR(X18=LEFT(T$1,1),X18=RIGHT(T$1,1)),COUNTIF(X$2:X18,LEFT(T$1,1))+COUNTIF(X$2:X18,RIGHT(T$1,1)),\"\"))","v":""},{"$f":"IF(COUNTBLANK(R18)=1,\"\",IF(OR(X18=LEFT(U$1,1),X18=RIGHT(U$1,1)),COUNTIF(X$2:X18,LEFT(U$1,1))+COUNTIF(X$2:X18,RIGHT(U$1,1)),\"\"))","v":""},{"$f":"IF(COUNTBLANK(R18)=1,\"\",IF(OR(X18=LEFT(V$1,1),X18=RIGHT(V$1,1)),COUNTIF(X$2:X18,LEFT(V$1,1))+COUNTIF(X$2:X18,RIGHT(V$1,1)),\"\"))","v":""},{"$f":"IF(COUNTBLANK(R18)=1,\"\",IF(OR(Y18=LEFT(W$1,1),Y18=RIGHT(W$1,1)),COUNTIF(Y$2:Y18,LEFT(W$1,1))+COUNTIF(Y$2:Y18,RIGHT(W$1,1)),\"\"))","v":""},{"$f":"IF(COUNTBLANK(R18)=1,\"\",INDEX(Registration!$C$2:$C$101,MATCH(R18,Registration!$B$2:$B$101,0)))","v":""},{"$f":"IF(COUNTBLANK(R18)=1,\"\",IF(COUNTBLANK(INDEX(Registration!$D$2:$D$101,MATCH(R18,Registration!$B$2:$B$101,0)))=1,\"\",INDEX(Registration!$D$2:$D$101,MATCH(R18,Registration!$B$2:$B$101,0))))","v":""}]
[{"$f":"IF(COUNTBLANK(Registration!B19)=1,\"\",Registration!B19)","v":""},null,null,null,null,null,null,null,null,null,null,"","","",null,null,null,null,null,{"$f":"IF(COUNTBLANK(R19)=1,\"\",IF(OR(X19=LEFT(T$1,1),X19=RIGHT(T$1,1)),COUNTIF(X$2:X19,LEFT(T$1,1))+COUNTIF(X$2:X19,RIGHT(T$1,1)),\"\"))","v":""},{"$f":"IF(COUNTBLANK(R19)=1,\"\",IF(OR(X19=LEFT(U$1,1),X19=RIGHT(U$1,1)),COUNTIF(X$2:X19,LEFT(U$1,1))+COUNTIF(X$2:X19,RIGHT(U$1,1)),\"\"))","v":""},{"$f":"IF(COUNTBLANK(R19)=1,\"\",IF(OR(X19=LEFT(V$1,1),X19=RIGHT(V$1,1)),COUNTIF(X$2:X19,LEFT(V$1,1))+COUNTIF(X$2:X19,RIGHT(V$1,1)),\"\"))","v":""},{"$f":"IF(COUNTBLANK(R19)=1,\"\",IF(OR(Y19=LEFT(W$1,1),Y19=RIGHT(W$1,1)),COUNTIF(Y$2:Y19,LEFT(W$1,1))+COUNTIF(Y$2:Y19,RIGHT(W$1,1)),\"\"))","v":""},{"$f":"IF(COUNTBLANK(R19)=1,\"\",INDEX(Registration!$C$2:$C$101,MATCH(R19,Registration!$B$2:$B$101,0)))","v":""},{"$f":"IF(COUNTBLANK(R19)=1,\"\",IF(COUNTBLANK(INDEX(Registration!$D$2:$D$101,MATCH(R19,Registration!$B$2:$B$101,0)))=1,\"\",INDEX(Registration!$D$2:$D$101,MATCH(R19,Registration!$B$2:$B$101,0))))","v":""}]
[{"$f":"IF(COUNTBLANK(Registration!B20)=1,\"\",Registration!B20)","v":""},null,null,null,null,null,null,null,null,null,null,"","","",null,null,null,null,null,{"$f":"IF(COUNTBLANK(R20)=1,\"\",IF(OR(X20=LEFT(T$1,1),X20=RIGHT(T$1,1)),COUNTIF(X$2:X20,LEFT(T$1,1))+COUNTIF(X$2:X20,RIGHT(T$1,1)),\"\"))","v":""},{"$f":"IF(COUNTBLANK(R20)=1,\"\",IF(OR(X20=LEFT(U$1,1),X20=RIGHT(U$1,1)),COUNTIF(X$2:X20,LEFT(U$1,1))+COUNTIF(X$2:X20,RIGHT(U$1,1)),\"\"))","v":""},{"$f":"IF(COUNTBLANK(R20)=1,\"\",IF(OR(X20=LEFT(V$1,1),X20=RIGHT(V$1,1)),COUNTIF(X$2:X20,LEFT(V$1,1))+COUNTIF(X$2:X20,RIGHT(V$1,1)),\"\"))","v":""},{"$f":"IF(COUNTBLANK(R20)=1,\"\",IF(OR(Y20=LEFT(W$1,1),Y20=RIGHT(W$1,1)),COUNTIF(Y$2:Y20,LEFT(W$1,1))+COUNTIF(Y$2:Y20,RIGHT(W$1,1)),\"\"))","v":""},{"$f":"IF(COUNTBLANK(R20)=1,\"\",INDEX(Registration!$C$2:$C$101,MATCH(R20,Registration!$B$2:$B$101,0)))","v":""},{"$f":"IF(COUNTBLANK(R20)=1,\"\",IF(COUNTBLANK(INDEX(Registration!$D$2:$D$101,MATCH(R20,Registration!$B$2:$B$101,0)))=1,\"\",INDEX(Registration!$D$2:$D$101,MATCH(R20,Registration!$B$2:$B$101,0))))","v":""}]
[{"$f":"IF(COUNTBLANK(Registration!B21)=1,\"\",Registration!B21)","v":""},null,null,null,null,null,null,null,null,null,null,"","","",null,null,null,null,null,{"$f":"IF(COUNTBLANK(R21)=1,\"\",IF(OR(X21=LEFT(T$1,1),X21=RIGHT(T$1,1)),COUNTIF(X$2:X21,LEFT(T$1,1))+COUNTIF(X$2:X21,RIGHT(T$1,1)),\"\"))","v":""},{"$f":"IF(COUNTBLANK(R21)=1,\"\",IF(OR(X21=LEFT(U$1,1),X21=RIGHT(U$1,1)),COUNTIF(X$2:X21,LEFT(U$1,1))+COUNTIF(X$2:X21,RIGHT(U$1,1)),\"\"))","v":""},{"$f":"IF(COUNTBLANK(R21)=1,\"\",IF(OR(X21=LEFT(V$1,1),X21=RIGHT(V$1,1)),COUNTIF(X$2:X21,LEFT(V$1,1))+COUNTIF(X$2:X21,RIGHT(V$1,1)),\"\"))","v":""},{"$f":"IF(COUNTBLANK(R21)=1,\"\",IF(OR(Y21=LEFT(W$1,1),Y21=RIGHT(W$1,1)),COUNTIF(Y$2:Y21,LEFT(W$1,1))+COUNTIF(Y$2:Y21,RIGHT(W$1,1)),\"\"))","v":""},{"$f":"IF(COUNTBLANK(R21)=1,\"\",INDEX(Registration!$C$2:$C$101,MATCH(R21,Registration!$B$2:$B$101,0)))","v":""},{"$f":"IF(COUNTBLANK(R21)=1,\"\",IF(COUNTBLANK(INDEX(Registration!$D$2:$D$101,MATCH(R21,Registration!$B$2:$B$101,0)))=1,\"\",INDEX(Registration!$D$2:$D$101,MATCH(R21,Registration!$B$2:$B$101,0))))","v":""}]
[{"$f":"IF(COUNTBLANK(Registration!B22)=1,\"\",Registration!B22)","v":""},null,null,null,null,null,null,null,null,null,null,"","","",null,null,null,null,null,{"$f":"IF(COUNTBLANK(R22)=1,\"\",IF(OR(X22=LEFT(T$1,1),X22=RIGHT(T$1,1)),COUNTIF(X$2:X22,LEFT(T$1,1))+COUNTIF(X$2:X22,RIGHT(T$1,1)),\"\"))","v":""},{"$f":"IF(COUNTBLANK(R22)=1,\"\",IF(OR(X22=LEFT(U$1,1),X22=RIGHT(U$1,1)),COUNTIF(X$2:X22,LEFT(U$1,1))+COUNTIF(X$2:X22,RIGHT(U$1,1)),\"\"))","v":""},{"$f":"IF(COUNTBLANK(R22)=1,\"\",IF(OR(X22=LEFT(V$1,1),X22=RIGHT(V$1,1)),COUNTIF(X$2:X22,LEFT(V$1,1))+COUNTIF(X$2:X22,RIGHT(V$1,1)),\"\"))","v":""},{"$f":"IF(COUNTBLANK(R22)=1,\"\",IF(OR(Y22=LEFT(W$1,1),Y22=RIGHT(W$1,1)),COUNTIF(Y$2:Y22,LEFT(W$1,1))+COUNTIF(Y$2:Y22,RIGHT(W$1,1)),\"\"))","v":""},{"$f":"IF(COUNTBLANK(R22)=1,\"\",INDEX(Registration!$C$2:$C$101,MATCH(R22,Registration!$B$2:$B$101,0)))","v":""},{"$f":"IF(COUNTBLANK(R22)=1,\"\",IF(COUNTBLANK(INDEX(Registration!$D$2:$D$101,MATCH(R22,Registration!$B$2:$B$101,0)))=1,\"\",INDEX(Registration!$D$2:$D$101,MATCH(R22,Registration!$B$2:$B$101,0))))","v":""}]
[{"$f":"IF(COUNTBLANK(Registration!B23)=1,\"\",Registration!B23)","v":""},null,null,null,null,null,null,null,null,null,null,"","","",null,null,null,null,null,{"$f":"IF(COUNTBLANK(R23)=1,\"\",IF(OR(X23=LEFT(T$1,1),X23=RIGHT(T$1,1)),COUNTIF(X$2:X23,LEFT(T$1,1))+COUNTIF(X$2:X23,RIGHT(T$1,1)),\"\"))","v":""},{"$f":"IF(COUNTBLANK(R23)=1,\"\",IF(OR(X23=LEFT(U$1,1),X23=RIGHT(U$1,1)),COUNTIF(X$2:X23,LEFT(U$1,1))+COUNTIF(X$2:X23,RIGHT(U$1,1)),\"\"))","v":""},{"$f":"IF(COUNTBLANK(R23)=1,\"\",IF(OR(X23=LEFT(V$1,1),X23=RIGHT(V$1,1)),COUNTIF(X$2:X23,LEFT(V$1,1))+COUNTIF(X$2:X23,RIGHT(V$1,1)),\"\"))","v":""},{"$f":"IF(COUNTBLANK(R23)=1,\"\",IF(OR(Y23=LEFT(W$1,1),Y23=RIGHT(W$1,1)),COUNTIF(Y$2:Y23,LEFT(W$1,1))+COUNTIF(Y$2:Y23,RIGHT(W$1,1)),\"\"))","v":""},{"$f":"IF(COUNTBLANK(R23)=1,\"\",INDEX(Registration!$C$2:$C$101,MATCH(R23,Registration!$B$2:$B$101,0)))","v":""},{"$f":"IF(COUNTBLANK(R23)=1,\"\",IF(COUNTBLANK(INDEX(Registration!$D$2:$D$101,MATCH(R23,Registration!$B$2:$B$101,0)))=1,\"\",INDEX(Registration!$D$2:$D$101,MATCH(R23,Registration!$B$2:$B$101,0))))","v":""}]
[{"$f":"IF(COUNTBLANK(Registration!B24)=1,\"\",Registration!B24)","v":""},null,null,null,null,null,null,null,null,null,null,"","","",null,null,null,null,null,{"$f":"IF(COUNTBLANK(R24)=1,\"\",IF(OR(X24=LEFT(T$1,1),X24=RIGHT(T$1,1)),COUNTIF(X$2:X24,LEFT(T$1,1))+COUNTIF(X$2:X24,RIGHT(T$1,1)),\"\"))","v":""},{"$f":"IF(COUNTBLANK(R24)=1,\"\",IF(OR(X24=LEFT(U$1,1),X24=RIGHT(U$1,1)),COUNTIF(X$2:X24,LEFT(U$1,1))+COUNTIF(X$2:X24,RIGHT(U$1,1)),\"\"))","v":""},{"$f":"IF(COUNTBLANK(R24)=1,\"\",IF(OR(X24=LEFT(V$1,1),X24=RIGHT(V$1,1)),COUNTIF(X$2:X24,LEFT(V$1,1))+COUNTIF(X$2:X24,RIGHT(V$1,1)),\"\"))","v":""},{"$f":"IF(COUNTBLANK(R24)=1,\"\",IF(OR(Y24=LEFT(W$1,1),Y24=RIGHT(W$1,1)),COUNTIF(Y$2:Y24,LEFT(W$1,1))+COUNTIF(Y$2:Y24,RIGHT(W$1,1)),\"\"))","v":""},{"$f":"IF(COUNTBLANK(R24)=1,\"\",INDEX(Registration!$C$2:$C$101,MATCH(R24,Registration!$B$2:$B$101,0)))","v":""},{"$f":"IF(COUNTBLANK(R24)=1,\"\",IF(COUNTBLANK(INDEX(Registration!$D$2:$D$101,MATCH(R24,Registration!$B$2:$B$101,0)))=1,\"\",INDEX(Registration!$D$2:$D$101,MATCH(R24,Registration!$B$2:$B$101,0))))","v":""}]
[{"$f":"IF(COUNTBLANK(Registration!B25)=1,\"\",Registration!B25)","v":""},null,null,null,null,null,null,null,null,null,null,"","","",null,null,null,null,null,{"$f":"IF(COUNTBLANK(R25)=1,\"\",IF(OR(X25=LEFT(T$1,1),X25=RIGHT(T$1,1)),COUNTIF(X$2:X25,LEFT(T$1,1))+COUNTIF(X$2:X25,RIGHT(T$1,1)),\"\"))","v":""},{"$f":"IF(COUNTBLANK(R25)=1,\"\",IF(OR(X25=LEFT(U$1,1),X25=RIGHT(U$1,1)),COUNTIF(X$2:X25,LEFT(U$1,1))+COUNTIF(X$2:X25,RIGHT(U$1,1)),\"\"))","v":""},{"$f":"IF(COUNTBLANK(R25)=1,\"\",IF(OR(X25=LEFT(V$1,1),X25=RIGHT(V$1,1)),COUNTIF(X$2:X25,LEFT(V$1,1))+COUNTIF(X$2:X25,RIGHT(V$1,1)),\"\"))","v":""},{"$f":"IF(COUNTBLANK(R25)=1,\"\",IF(OR(Y25=LEFT(W$1,1),Y25=RIGHT(W$1,1)),COUNTIF(Y$2:Y25,LEFT(W$1,1))+COUNTIF(Y$2:Y25,RIGHT(W$1,1)),\"\"))","v":""},{"$f":"IF(COUNTBLANK(R25)=1,\"\",INDEX(Registration!$C$2:$C$101,MATCH(R25,Registration!$B$2:$B$101,0)))","v":""},{"$f":"IF(COUNTBLANK(R25)=1,\"\",IF(COUNTBLANK(INDEX(Registration!$D$2:$D$101,MATCH(R25,Registration!$B$2:$B$101,0)))=1,\"\",INDEX(Registration!$D$2:$D$101,MATCH(R25,Registration!$B$2:$B$101,0))))","v":""}]
[{"$f":"IF(COUNTBLANK(Registration!B26)=1,\"\",Registration!B26)","v":""},null,null,null,null,null,null,null,null,null,null,"","","",null,null,null,null,null,{"$f":"IF(COUNTBLANK(R26)=1,\"\",IF(OR(X26=LEFT(T$1,1),X26=RIGHT(T$1,1)),COUNTIF(X$2:X26,LEFT(T$1,1))+COUNTIF(X$2:X26,RIGHT(T$1,1)),\"\"))","v":""},{"$f":"IF(COUNTBLANK(R26)=1,\"\",IF(OR(X26=LEFT(U$1,1),X26=RIGHT(U$1,1)),COUNTIF(X$2:X26,LEFT(U$1,1))+COUNTIF(X$2:X26,RIGHT(U$1,1)),\"\"))","v":""},{"$f":"IF(COUNTBLANK(R26)=1,\"\",IF(OR(X26=LEFT(V$1,1),X26=RIGHT(V$1,1)),COUNTIF(X$2:X26,LEFT(V$1,1))+COUNTIF(X$2:X26,RIGHT(V$1,1)),\"\"))","v":""},{"$f":"IF(COUNTBLANK(R26)=1,\"\",IF(OR(Y26=LEFT(W$1,1),Y26=RIGHT(W$1,1)),COUNTIF(Y$2:Y26,LEFT(W$1,1))+COUNTIF(Y$2:Y26,RIGHT(W$1,1)),\"\"))","v":""},{"$f":"IF(COUNTBLANK(R26)=1,\"\",INDEX(Registration!$C$2:$C$101,MATCH(R26,Registration!$B$2:$B$101,0)))","v":""},{"$f":"IF(COUNTBLANK(R26)=1,\"\",IF(COUNTBLANK(INDEX(Registration!$D$2:$D$101,MATCH(R26,Registration!$B$2:$B$101,0)))=1,\"\",INDEX(Registration!$D$2:$D$101,MATCH(R26,Registration!$B$2:$B$101,0))))","v":""}]
[{"$f":"IF(COUNTBLANK(Registration!B27)=1,\"\",Registration!B27)","v":""},null,null,null,null,null,null,null,null,null,null,"","","",null,null,null,null,null,{"$f":"IF(COUNTBLANK(R27)=1,\"\",IF(OR(X27=LEFT(T$1,1),X27=RIGHT(T$1,1)),COUNTIF(X$2:X27,LEFT(T$1,1))+COUNTIF(X$2:X27,RIGHT(T$1,1)),\"\"))","v":""},{"$f":"IF(COUNTBLANK(R27)=1,\"\",IF(OR(X27=LEFT(U$1,1),X27=RIGHT(U$1,1)),COUNTIF(X$2:X27,LEFT(U$1,1))+COUNTIF(X$2:X27,RIGHT(U$1,1)),\"\"))","v":""},{"$f":"IF(COUNTBLANK(R27)=1,\"\",IF(OR(X27=LEFT(V$1,1),X27=RIGHT(V$1,1)),COUNTIF(X$2:X27,LEFT(V$1,1))+COUNTIF(X$2:X27,RIGHT(V$1,1)),\"\"))","v":""},{"$f":"IF(COUNTBLANK(R27)=1,\"\",IF(OR(Y27=LEFT(W$1,1),Y27=RIGHT(W$1,1)),COUNTIF(Y$2:Y27,LEFT(W$1,1))+COUNTIF(Y$2:Y27,RIGHT(W$1,1)),\"\"))","v":""},{"$f":"IF(COUNTBLANK(R27)=1,\"\",INDEX(Registration!$C$2:$C$101,MATCH(R27,Registration!$B$2:$B$101,0)))","v":""},{"$f":"IF(COUNTBLANK(R27)=1,\"\",IF(COUNTBLANK(INDEX(Registration!$D$2:$D$101,MATCH(R27,Registration!$B$2:$B$101,0)))=1,\"\",INDEX(Registration!$D$2:$D$101,MATCH(R27,Registration!$B$2:$B$101,0))))","v":""}]
[{"$f":"IF(COUNTBLANK(Registration!B28)=1,\"\",Registration!B28)","v":""},null,null,null,null,null,null,null,null,null,null,"","","",null,"","","",null,{"$f":"IF(COUNTBLANK(R28)=1,\"\",IF(OR(X28=LEFT(T$1,1),X28=RIGHT(T$1,1)),COUNTIF(X$2:X28,LEFT(T$1,1))+COUNTIF(X$2:X28,RIGHT(T$1,1)),\"\"))","v":""},{"$f":"IF(COUNTBLANK(R28)=1,\"\",IF(OR(X28=LEFT(U$1,1),X28=RIGHT(U$1,1)),COUNTIF(X$2:X28,LEFT(U$1,1))+COUNTIF(X$2:X28,RIGHT(U$1,1)),\"\"))","v":""},{"$f":"IF(COUNTBLANK(R28)=1,\"\",IF(OR(X28=LEFT(V$1,1),X28=RIGHT(V$1,1)),COUNTIF(X$2:X28,LEFT(V$1,1))+COUNTIF(X$2:X28,RIGHT(V$1,1)),\"\"))","v":""},{"$f":"IF(COUNTBLANK(R28)=1,\"\",IF(OR(Y28=LEFT(W$1,1),Y28=RIGHT(W$1,1)),COUNTIF(Y$2:Y28,LEFT(W$1,1))+COUNTIF(Y$2:Y28,RIGHT(W$1,1)),\"\"))","v":""},{"$f":"IF(COUNTBLANK(R28)=1,\"\",INDEX(Registration!$C$2:$C$101,MATCH(R28,Registration!$B$2:$B$101,0)))","v":""},{"$f":"IF(COUNTBLANK(R28)=1,\"\",IF(COUNTBLANK(INDEX(Registration!$D$2:$D$101,MATCH(R28,Registration!$B$2:$B$101,0)))=1,\"\",INDEX(Registration!$D$2:$D$101,MATCH(R28,Registration!$B$2:$B$101,0))))","v":""}]
[{"$f":"IF(COUNTBLANK(Registration!B29)=1,\"\",Registration!B29)","v":""},null,null,null,null,null,null,null,null,null,null,"","","",null,"","","",null,{"$f":"IF(COUNTBLANK(R29)=1,\"\",IF(OR(X29=LEFT(T$1,1),X29=RIGHT(T$1,1)),COUNTIF(X$2:X29,LEFT(T$1,1))+COUNTIF(X$2:X29,RIGHT(T$1,1)),\"\"))","v":""},{"$f":"IF(COUNTBLANK(R29)=1,\"\",IF(OR(X29=LEFT(U$1,1),X29=RIGHT(U$1,1)),COUNTIF(X$2:X29,LEFT(U$1,1))+COUNTIF(X$2:X29,RIGHT(U$1,1)),\"\"))","v":""},{"$f":"IF(COUNTBLANK(R29)=1,\"\",IF(OR(X29=LEFT(V$1,1),X29=RIGHT(V$1,1)),COUNTIF(X$2:X29,LEFT(V$1,1))+COUNTIF(X$2:X29,RIGHT(V$1,1)),\"\"))","v":""},{"$f":"IF(COUNTBLANK(R29)=1,\"\",IF(OR(Y29=LEFT(W$1,1),Y29=RIGHT(W$1,1)),COUNTIF(Y$2:Y29,LEFT(W$1,1))+COUNTIF(Y$2:Y29,RIGHT(W$1,1)),\"\"))","v":""},{"$f":"IF(COUNTBLANK(R29)=1,\"\",INDEX(Registration!$C$2:$C$101,MATCH(R29,Registration!$B$2:$B$101,0)))","v":""},{"$f":"IF(COUNTBLANK(R29)=1,\"\",IF(COUNTBLANK(INDEX(Registration!$D$2:$D$101,MATCH(R29,Registration!$B$2:$B$101,0)))=1,\"\",INDEX(Registration!$D$2:$D$101,MATCH(R29,Registration!$B$2:$B$101,0))))","v":""}]
[{"$f":"IF(COUNTBLANK(Registration!B30)=1,\"\",Registration!B30)","v":""},null,null,null,null,null,null,null,null,null,null,"","","",null,"","","",null,{"$f":"IF(COUNTBLANK(R30)=1,\"\",IF(OR(X30=LEFT(T$1,1),X30=RIGHT(T$1,1)),COUNTIF(X$2:X30,LEFT(T$1,1))+COUNTIF(X$2:X30,RIGHT(T$1,1)),\"\"))","v":""},{"$f":"IF(COUNTBLANK(R30)=1,\"\",IF(OR(X30=LEFT(U$1,1),X30=RIGHT(U$1,1)),COUNTIF(X$2:X30,LEFT(U$1,1))+COUNTIF(X$2:X30,RIGHT(U$1,1)),\"\"))","v":""},{"$f":"IF(COUNTBLANK(R30)=1,\"\",IF(OR(X30=LEFT(V$1,1),X30=RIGHT(V$1,1)),COUNTIF(X$2:X30,LEFT(V$1,1))+COUNTIF(X$2:X30,RIGHT(V$1,1)),\"\"))","v":""},{"$f":"IF(COUNTBLANK(R30)=1,\"\",IF(OR(Y30=LEFT(W$1,1),Y30=RIGHT(W$1,1)),COUNTIF(Y$2:Y30,LEFT(W$1,1))+COUNTIF(Y$2:Y30,RIGHT(W$1,1)),\"\"))","v":""},{"$f":"IF(COUNTBLANK(R30)=1,\"\",INDEX(Registration!$C$2:$C$101,MATCH(R30,Registration!$B$2:$B$101,0)))","v":""},{"$f":"IF(COUNTBLANK(R30)=1,\"\",IF(COUNTBLANK(INDEX(Registration!$D$2:$D$101,MATCH(R30,Registration!$B$2:$B$101,0)))=1,\"\",INDEX(Registration!$D$2:$D$101,MATCH(R30,Registration!$B$2:$B$101,0))))","v":""}]
[{"$f":"IF(COUNTBLANK(Registration!B31)=1,\"\",Registration!B31)","v":""},null,null,null,null,null,null,null,null,null,null,"","","",null,"","","",null,{"$f":"IF(COUNTBLANK(R31)=1,\"\",IF(OR(X31=LEFT(T$1,1),X31=RIGHT(T$1,1)),COUNTIF(X$2:X31,LEFT(T$1,1))+COUNTIF(X$2:X31,RIGHT(T$1,1)),\"\"))","v":""},{"$f":"IF(COUNTBLANK(R31)=1,\"\",IF(OR(X31=LEFT(U$1,1),X31=RIGHT(U$1,1)),COUNTIF(X$2:X31,LEFT(U$1,1))+COUNTIF(X$2:X31,RIGHT(U$1,1)),\"\"))","v":""},{"$f":"IF(COUNTBLANK(R31)=1,\"\",IF(OR(X31=LEFT(V$1,1),X31=RIGHT(V$1,1)),COUNTIF(X$2:X31,LEFT(V$1,1))+COUNTIF(X$2:X31,RIGHT(V$1,1)),\"\"))","v":""},{"$f":"IF(COUNTBLANK(R31)=1,\"\",IF(OR(Y31=LEFT(W$1,1),Y31=RIGHT(W$1,1)),COUNTIF(Y$2:Y31,LEFT(W$1,1))+COUNTIF(Y$2:Y31,RIGHT(W$1,1)),\"\"))","v":""},{"$f":"IF(COUNTBLANK(R31)=1,\"\",INDEX(Registration!$C$2:$C$101,MATCH(R31,Registration!$B$2:$B$101,0)))","v":""},{"$f":"IF(COUNTBLANK(R31)=1,\"\",IF(COUNTBLANK(INDEX(Registration!$D$2:$D$101,MATCH(R31,Registration!$B$2:$B$101,0)))=1,\"\",INDEX(Registration!$D$2:$D$101,MATCH(R31,Registration!$B$2:$B$101,0))))","v":""}]
[{"$f":"IF(COUNTBLANK(Registration!B32)=1,\"\",Registration!B32)","v":""},null,null,null,null,null,null,null,null,null,null,"","","",null,"","","",null,{"$f":"IF(COUNTBLANK(R32)=1,\"\",IF(OR(X32=LEFT(T$1,1),X32=RIGHT(T$1,1)),COUNTIF(X$2:X32,LEFT(T$1,1))+COUNTIF(X$2:X32,RIGHT(T$1,1)),\"\"))","v":""},{"$f":"IF(COUNTBLANK(R32)=1,\"\",IF(OR(X32=LEFT(U$1,1),X32=RIGHT(U$1,1)),COUNTIF(X$2:X32,LEFT(U$1,1))+COUNTIF(X$2:X32,RIGHT(U$1,1)),\"\"))","v":""},{"$f":"IF(COUNTBLANK(R32)=1,\"\",IF(OR(X32=LEFT(V$1,1),X32=RIGHT(V$1,1)),COUNTIF(X$2:X32,LEFT(V$1,1))+COUNTIF(X$2:X32,RIGHT(V$1,1)),\"\"))","v":""},{"$f":"IF(COUNTBLANK(R32)=1,\"\",IF(OR(Y32=LEFT(W$1,1),Y32=RIGHT(W$1,1)),COUNTIF(Y$2:Y32,LEFT(W$1,1))+COUNTIF(Y$2:Y32,RIGHT(W$1,1)),\"\"))","v":""},{"$f":"IF(COUNTBLANK(R32)=1,\"\",INDEX(Registration!$C$2:$C$101,MATCH(R32,Registration!$B$2:$B$101,0)))","v":""},{"$f":"IF(COUNTBLANK(R32)=1,\"\",IF(COUNTBLANK(INDEX(Registration!$D$2:$D$101,MATCH(R32,Registration!$B$2:$B$101,0)))=1,\"\",INDEX(Registration!$D$2:$D$101,MATCH(R32,Registration!$B$2:$B$101,0))))","v":""}]
[{"$f":"IF(COUNTBLANK(Registration!B33)=1,\"\",Registration!B33)","v":""},null,null,null,null,null,null,null,null,null,null,"","","",null,"","","",null,{"$f":"IF(COUNTBLANK(R33)=1,\"\",IF(OR(X33=LEFT(T$1,1),X33=RIGHT(T$1,1)),COUNTIF(X$2:X33,LEFT(T$1,1))+COUNTIF(X$2:X33,RIGHT(T$1,1)),\"\"))","v":""},{"$f":"IF(COUNTBLANK(R33)=1,\"\",IF(OR(X33=LEFT(U$1,1),X33=RIGHT(U$1,1)),COUNTIF(X$2:X33,LEFT(U$1,1))+COUNTIF(X$2:X33,RIGHT(U$1,1)),\"\"))","v":""},{"$f":"IF(COUNTBLANK(R33)=1,\"\",IF(OR(X33=LEFT(V$1,1),X33=RIGHT(V$1,1)),COUNTIF(X$2:X33,LEFT(V$1,1))+COUNTIF(X$2:X33,RIGHT(V$1,1)),\"\"))","v":""},{"$f":"IF(COUNTBLANK(R33)=1,\"\",IF(OR(Y33=LEFT(W$1,1),Y33=RIGHT(W$1,1)),COUNTIF(Y$2:Y33,LEFT(W$1,1))+COUNTIF(Y$2:Y33,RIGHT(W$1,1)),\"\"))","v":""},{"$f":"IF(COUNTBLANK(R33)=1,\"\",INDEX(Registration!$C$2:$C$101,MATCH(R33,Registration!$B$2:$B$101,0)))","v":""},{"$f":"IF(COUNTBLANK(R33)=1,\"\",IF(COUNTBLANK(INDEX(Registration!$D$2:$D$101,MATCH(R33,Registration!$B$2:$B$101,0)))=1,\"\",INDEX(Registration!$D$2:$D$101,MATCH(R33,Registration!$B$2:$B$101,0))))","v":""}]
[{"$f":"IF(COUNTBLANK(Registration!B34)=1,\"\",Registration!B34)","v":""},null,null,null,null,null,null,null,null,null,null,"","","",null,"","","",null,{"$f":"IF(COUNTBLANK(R34)=1,\"\",IF(OR(X34=LEFT(T$1,1),X34=RIGHT(T$1,1)),COUNTIF(X$2:X34,LEFT(T$1,1))+COUNTIF(X$2:X34,RIGHT(T$1,1)),\"\"))","v":""},{"$f":"IF(COUNTBLANK(R34)=1,\"\",IF(OR(X34=LEFT(U$1,1),X34=RIGHT(U$1,1)),COUNTIF(X$2:X34,LEFT(U$1,1))+COUNTIF(X$2:X34,RIGHT(U$1,1)),\"\"))","v":""},{"$f":"IF(COUNTBLANK(R34)=1,\"\",IF(OR(X34=LEFT(V$1,1),X34=RIGHT(V$1,1)),COUNTIF(X$2:X34,LEFT(V$1,1))+COUNTIF(X$2:X34,RIGHT(V$1,1)),\"\"))","v":""},{"$f":"IF(COUNTBLANK(R34)=1,\"\",IF(OR(Y34=LEFT(W$1,1),Y34=RIGHT(W$1,1)),COUNTIF(Y$2:Y34,LEFT(W$1,1))+COUNTIF(Y$2:Y34,RIGHT(W$1,1)),\"\"))","v":""},{"$f":"IF(COUNTBLANK(R34)=1,\"\",INDEX(Registration!$C$2:$C$101,MATCH(R34,Registration!$B$2:$B$101,0)))","v":""},{"$f":"IF(COUNTBLANK(R34)=1,\"\",IF(COUNTBLANK(INDEX(Registration!$D$2:$D$101,MATCH(R34,Registration!$B$2:$B$101,0)))=1,\"\",INDEX(Registration!$D$2:$D$101,MATCH(R34,Registration!$B$2:$B$101,0))))","v":""}]
[{"$f":"IF(COUNTBLANK(Registration!B35)=1,\"\",Registration!B35)","v":""},null,null,null,null,null,null,null,null,null,null,"","","",null,"","","",null,{"$f":"IF(COUNTBLANK(R35)=1,\"\",IF(OR(X35=LEFT(T$1,1),X35=RIGHT(T$1,1)),COUNTIF(X$2:X35,LEFT(T$1,1))+COUNTIF(X$2:X35,RIGHT(T$1,1)),\"\"))","v":""},{"$f":"IF(COUNTBLANK(R35)=1,\"\",IF(OR(X35=LEFT(U$1,1),X35=RIGHT(U$1,1)),COUNTIF(X$2:X35,LEFT(U$1,1))+COUNTIF(X$2:X35,RIGHT(U$1,1)),\"\"))","v":""},{"$f":"IF(COUNTBLANK(R35)=1,\"\",IF(OR(X35=LEFT(V$1,1),X35=RIGHT(V$1,1)),COUNTIF(X$2:X35,LEFT(V$1,1))+COUNTIF(X$2:X35,RIGHT(V$1,1)),\"\"))","v":""},{"$f":"IF(COUNTBLANK(R35)=1,\"\",IF(OR(Y35=LEFT(W$1,1),Y35=RIGHT(W$1,1)),COUNTIF(Y$2:Y35,LEFT(W$1,1))+COUNTIF(Y$2:Y35,RIGHT(W$1,1)),\"\"))","v":""},{"$f":"IF(COUNTBLANK(R35)=1,\"\",INDEX(Registration!$C$2:$C$101,MATCH(R35,Registration!$B$2:$B$101,0)))","v":""},{"$f":"IF(COUNTBLANK(R35)=1,\"\",IF(COUNTBLANK(INDEX(Registration!$D$2:$D$101,MATCH(R35,Registration!$B$2:$B$101,0)))=1,\"\",INDEX(Registration!$D$2:$D$101,MATCH(R35,Registration!$B$2:$B$101,0))))","v":""}]
[{"$f":"IF(COUNTBLANK(Registration!B36)=1,\"\",Registration!B36)","v":""},null,null,null,null,null,null,null,null,null,null,"","","",null,"","","",null,{"$f":"IF(COUNTBLANK(R36)=1,\"\",IF(OR(X36=LEFT(T$1,1),X36=RIGHT(T$1,1)),COUNTIF(X$2:X36,LEFT(T$1,1))+COUNTIF(X$2:X36,RIGHT(T$1,1)),\"\"))","v":""},{"$f":"IF(COUNTBLANK(R36)=1,\"\",IF(OR(X36=LEFT(U$1,1),X36=RIGHT(U$1,1)),COUNTIF(X$2:X36,LEFT(U$1,1))+COUNTIF(X$2:X36,RIGHT(U$1,1)),\"\"))","v":""},{"$f":"IF(COUNTBLANK(R36)=1,\"\",IF(OR(X36=LEFT(V$1,1),X36=RIGHT(V$1,1)),COUNTIF(X$2:X36,LEFT(V$1,1))+COUNTIF(X$2:X36,RIGHT(V$1,1)),\"\"))","v":""},{"$f":"IF(COUNTBLANK(R36)=1,\"\",IF(OR(Y36=LEFT(W$1,1),Y36=RIGHT(W$1,1)),COUNTIF(Y$2:Y36,LEFT(W$1,1))+COUNTIF(Y$2:Y36,RIGHT(W$1,1)),\"\"))","v":""},{"$f":"IF(COUNTBLANK(R36)=1,\"\",INDEX(Registration!$C$2:$C$101,MATCH(R36,Registration!$B$2:$B$101,0)))","v":""},{"$f":"IF(COUNTBLANK(R36)=1,\"\",IF(COUNTBLANK(INDEX(Registration!$D$2:$D$101,MATCH(R36,Registration!$B$2:$B$101,0)))=1,\"\",INDEX(Registration!$D$2:$D$101,MATCH(R36,Registration!$B$2:$B$101,0))))","v":""}]
[{"$f":"IF(COUNTBLANK(Registration!B37)=1,\"\",Registration!B37)","v":""},null,null,null,null,null,null,null,null,null,null,"","","",null,"","","",null,{"$f":"IF(COUNTBLANK(R37)=1,\"\",IF(OR(X37=LEFT(T$1,1),X37=RIGHT(T$1,1)),COUNTIF(X$2:X37,LEFT(T$1,1))+COUNTIF(X$2:X37,RIGHT(T$1,1)),\"\"))","v":""},{"$f":"IF(COUNTBLANK(R37)=1,\"\",IF(OR(X37=LEFT(U$1,1),X37=RIGHT(U$1,1)),COUNTIF(X$2:X37,LEFT(U$1,1))+COUNTIF(X$2:X37,RIGHT(U$1,1)),\"\"))","v":""},{"$f":"IF(COUNTBLANK(R37)=1,\"\",IF(OR(X37=LEFT(V$1,1),X37=RIGHT(V$1,1)),COUNTIF(X$2:X37,LEFT(V$1,1))+COUNTIF(X$2:X37,RIGHT(V$1,1)),\"\"))","v":""},{"$f":"IF(COUNTBLANK(R37)=1,\"\",IF(OR(Y37=LEFT(W$1,1),Y37=RIGHT(W$1,1)),COUNTIF(Y$2:Y37,LEFT(W$1,1))+COUNTIF(Y$2:Y37,RIGHT(W$1,1)),\"\"))","v":""},{"$f":"IF(COUNTBLANK(R37)=1,\"\",INDEX(Registration!$C$2:$C$101,MATCH(R37,Registration!$B$2:$B$101,0)))","v":""},{"$f":"IF(COUNTBLANK(R37)=1,\"\",IF(COUNTBLANK(INDEX(Registration!$D$2:$D$101,MATCH(R37,Registration!$B$2:$B$101,0)))=1,\"\",INDEX(Registration!$D$2:$D$101,MATCH(R37,Registration!$B$2:$B$101,0))))","v":""}]
[{"$f":"IF(COUNTBLANK(Registration!B38)=1,\"\",Registration!B38)","v":""},null,null,null,null,null,null,null,null,null,null,"","","",null,"","","",null,{"$f":"IF(COUNTBLANK(R38)=1,\"\",IF(OR(X38=LEFT(T$1,1),X38=RIGHT(T$1,1)),COUNTIF(X$2:X38,LEFT(T$1,1))+COUNTIF(X$2:X38,RIGHT(T$1,1)),\"\"))","v":""},{"$f":"IF(COUNTBLANK(R38)=1,\"\",IF(OR(X38=LEFT(U$1,1),X38=RIGHT(U$1,1)),COUNTIF(X$2:X38,LEFT(U$1,1))+COUNTIF(X$2:X38,RIGHT(U$1,1)),\"\"))","v":""},{"$f":"IF(COUNTBLANK(R38)=1,\"\",IF(OR(X38=LEFT(V$1,1),X38=RIGHT(V$1,1)),COUNTIF(X$2:X38,LEFT(V$1,1))+COUNTIF(X$2:X38,RIGHT(V$1,1)),\"\"))","v":""},{"$f":"IF(COUNTBLANK(R38)=1,\"\",IF(OR(Y38=LEFT(W$1,1),Y38=RIGHT(W$1,1)),COUNTIF(Y$2:Y38,LEFT(W$1,1))+COUNTIF(Y$2:Y38,RIGHT(W$1,1)),\"\"))","v":""},{"$f":"IF(COUNTBLANK(R38)=1,\"\",INDEX(Registration!$C$2:$C$101,MATCH(R38,Registration!$B$2:$B$101,0)))","v":""},{"$f":"IF(COUNTBLANK(R38)=1,\"\",IF(COUNTBLANK(INDEX(Registration!$D$2:$D$101,MATCH(R38,Registration!$B$2:$B$101,0)))=1,\"\",INDEX(Registration!$D$2:$D$101,MATCH(R38,Registration!$B$2:$B$101,0))))","v":""}]
[{"$f":"IF(COUNTBLANK(Registration!B39)=1,\"\",Registration!B39)","v":""},null,null,null,null,null,null,null,null,null,null,"","","",null,"","","",null,{"$f":"IF(COUNTBLANK(R39)=1,\"\",IF(OR(X39=LEFT(T$1,1),X39=RIGHT(T$1,1)),COUNTIF(X$2:X39,LEFT(T$1,1))+COUNTIF(X$2:X39,RIGHT(T$1,1)),\"\"))","v":""},{"$f":"IF(COUNTBLANK(R39)=1,\"\",IF(OR(X39=LEFT(U$1,1),X39=RIGHT(U$1,1)),COUNTIF(X$2:X39,LEFT(U$1,1))+COUNTIF(X$2:X39,RIGHT(U$1,1)),\"\"))","v":""},{"$f":"IF(COUNTBLANK(R39)=1,\"\",IF(OR(X39=LEFT(V$1,1),X39=RIGHT(V$1,1)),COUNTIF(X$2:X39,LEFT(V$1,1))+COUNTIF(X$2:X39,RIGHT(V$1,1)),\"\"))","v":""},{"$f":"IF(COUNTBLANK(R39)=1,\"\",IF(OR(Y39=LEFT(W$1,1),Y39=RIGHT(W$1,1)),COUNTIF(Y$2:Y39,LEFT(W$1,1))+COUNTIF(Y$2:Y39,RIGHT(W$1,1)),\"\"))","v":""},{"$f":"IF(COUNTBLANK(R39)=1,\"\",INDEX(Registration!$C$2:$C$101,MATCH(R39,Registration!$B$2:$B$101,0)))","v":""},{"$f":"IF(COUNTBLANK(R39)=1,\"\",IF(COUNTBLANK(INDEX(Registration!$D$2:$D$101,MATCH(R39,Registration!$B$2:$B$101,0)))=1,\"\",INDEX(Registration!$D$2:$D$101,MATCH(R39,Registration!$B$2:$B$101,0))))","v":""}]
[{"$f":"IF(COUNTBLANK(Registration!B40)=1,\"\",Registration!B40)","v":""},null,null,null,null,null,null,null,null,null,null,"","","",null,"","","",null,{"$f":"IF(COUNTBLANK(R40)=1,\"\",IF(OR(X40=LEFT(T$1,1),X40=RIGHT(T$1,1)),COUNTIF(X$2:X40,LEFT(T$1,1))+COUNTIF(X$2:X40,RIGHT(T$1,1)),\"\"))","v":""},{"$f":"IF(COUNTBLANK(R40)=1,\"\",IF(OR(X40=LEFT(U$1,1),X40=RIGHT(U$1,1)),COUNTIF(X$2:X40,LEFT(U$1,1))+COUNTIF(X$2:X40,RIGHT(U$1,1)),\"\"))","v":""},{"$f":"IF(COUNTBLANK(R40)=1,\"\",IF(OR(X40=LEFT(V$1,1),X40=RIGHT(V$1,1)),COUNTIF(X$2:X40,LEFT(V$1,1))+COUNTIF(X$2:X40,RIGHT(V$1,1)),\"\"))","v":""},{"$f":"IF(COUNTBLANK(R40)=1,\"\",IF(OR(Y40=LEFT(W$1,1),Y40=RIGHT(W$1,1)),COUNTIF(Y$2:Y40,LEFT(W$1,1))+COUNTIF(Y$2:Y40,RIGHT(W$1,1)),\"\"))","v":""},{"$f":"IF(COUNTBLANK(R40)=1,\"\",INDEX(Registration!$C$2:$C$101,MATCH(R40,Registration!$B$2:$B$101,0)))","v":""},{"$f":"IF(COUNTBLANK(R40)=1,\"\",IF(COUNTBLANK(INDEX(Registration!$D$2:$D$101,MATCH(R40,Registration!$B$2:$B$101,0)))=1,\"\",INDEX(Registration!$D$2:$D$101,MATCH(R40,Registration!$B$2:$B$101,0))))","v":""}]
[{"$f":"IF(COUNTBLANK(Registration!B41)=1,\"\",Registration!B41)","v":""},null,null,null,null,null,null,null,null,null,null,"","","",null,"","","",null,{"$f":"IF(COUNTBLANK(R41)=1,\"\",IF(OR(X41=LEFT(T$1,1),X41=RIGHT(T$1,1)),COUNTIF(X$2:X41,LEFT(T$1,1))+COUNTIF(X$2:X41,RIGHT(T$1,1)),\"\"))","v":""},{"$f":"IF(COUNTBLANK(R41)=1,\"\",IF(OR(X41=LEFT(U$1,1),X41=RIGHT(U$1,1)),COUNTIF(X$2:X41,LEFT(U$1,1))+COUNTIF(X$2:X41,RIGHT(U$1,1)),\"\"))","v":""},{"$f":"IF(COUNTBLANK(R41)=1,\"\",IF(OR(X41=LEFT(V$1,1),X41=RIGHT(V$1,1)),COUNTIF(X$2:X41,LEFT(V$1,1))+COUNTIF(X$2:X41,RIGHT(V$1,1)),\"\"))","v":""},{"$f":"IF(COUNTBLANK(R41)=1,\"\",IF(OR(Y41=LEFT(W$1,1),Y41=RIGHT(W$1,1)),COUNTIF(Y$2:Y41,LEFT(W$1,1))+COUNTIF(Y$2:Y41,RIGHT(W$1,1)),\"\"))","v":""},{"$f":"IF(COUNTBLANK(R41)=1,\"\",INDEX(Registration!$C$2:$C$101,MATCH(R41,Registration!$B$2:$B$101,0)))","v":""},{"$f":"IF(COUNTBLANK(R41)=1,\"\",IF(COUNTBLANK(INDEX(Registration!$D$2:$D$101,MATCH(R41,Registration!$B$2:$B$101,0)))=1,\"\",INDEX(Registration!$D$2:$D$101,MATCH(R41,Registration!$B$2:$B$101,0))))","v":""}]
[{"$f":"IF(COUNTBLANK(Registration!B42)=1,\"\",Registration!B42)","v":""},null,null,null,null,null,null,null,null,null,null,"","","",null,"","","",null,{"$f":"IF(COUNTBLANK(R42)=1,\"\",IF(OR(X42=LEFT(T$1,1),X42=RIGHT(T$1,1)),COUNTIF(X$2:X42,LEFT(T$1,1))+COUNTIF(X$2:X42,RIGHT(T$1,1)),\"\"))","v":""},{"$f":"IF(COUNTBLANK(R42)=1,\"\",IF(OR(X42=LEFT(U$1,1),X42=RIGHT(U$1,1)),COUNTIF(X$2:X42,LEFT(U$1,1))+COUNTIF(X$2:X42,RIGHT(U$1,1)),\"\"))","v":""},{"$f":"IF(COUNTBLANK(R42)=1,\"\",IF(OR(X42=LEFT(V$1,1),X42=RIGHT(V$1,1)),COUNTIF(X$2:X42,LEFT(V$1,1))+COUNTIF(X$2:X42,RIGHT(V$1,1)),\"\"))","v":""},{"$f":"IF(COUNTBLANK(R42)=1,\"\",IF(OR(Y42=LEFT(W$1,1),Y42=RIGHT(W$1,1)),COUNTIF(Y$2:Y42,LEFT(W$1,1))+COUNTIF(Y$2:Y42,RIGHT(W$1,1)),\"\"))","v":""},{"$f":"IF(COUNTBLANK(R42)=1,\"\",INDEX(Registration!$C$2:$C$101,MATCH(R42,Registration!$B$2:$B$101,0)))","v":""},{"$f":"IF(COUNTBLANK(R42)=1,\"\",IF(COUNTBLANK(INDEX(Registration!$D$2:$D$101,MATCH(R42,Registration!$B$2:$B$101,0)))=1,\"\",INDEX(Registration!$D$2:$D$101,MATCH(R42,Registration!$B$2:$B$101,0))))","v":""}]
[{"$f":"IF(COUNTBLANK(Registration!B43)=1,\"\",Registration!B43)","v":""},null,null,null,null,null,null,null,null,null,null,"","","",null,"","","",null,{"$f":"IF(COUNTBLANK(R43)=1,\"\",IF(OR(X43=LEFT(T$1,1),X43=RIGHT(T$1,1)),COUNTIF(X$2:X43,LEFT(T$1,1))+COUNTIF(X$2:X43,RIGHT(T$1,1)),\"\"))","v":""},{"$f":"IF(COUNTBLANK(R43)=1,\"\",IF(OR(X43=LEFT(U$1,1),X43=RIGHT(U$1,1)),COUNTIF(X$2:X43,LEFT(U$1,1))+COUNTIF(X$2:X43,RIGHT(U$1,1)),\"\"))","v":""},{"$f":"IF(COUNTBLANK(R43)=1,\"\",IF(OR(X43=LEFT(V$1,1),X43=RIGHT(V$1,1)),COUNTIF(X$2:X43,LEFT(V$1,1))+COUNTIF(X$2:X43,RIGHT(V$1,1)),\"\"))","v":""},{"$f":"IF(COUNTBLANK(R43)=1,\"\",IF(OR(Y43=LEFT(W$1,1),Y43=RIGHT(W$1,1)),COUNTIF(Y$2:Y43,LEFT(W$1,1))+COUNTIF(Y$2:Y43,RIGHT(W$1,1)),\"\"))","v":""},{"$f":"IF(COUNTBLANK(R43)=1,\"\",INDEX(Registration!$C$2:$C$101,MATCH(R43,Registration!$B$2:$B$101,0)))","v":""},{"$f":"IF(COUNTBLANK(R43)=1,\"\",IF(COUNTBLANK(INDEX(Registration!$D$2:$D$101,MATCH(R43,Registration!$B$2:$B$101,0)))=1,\"\",INDEX(Registration!$D$2:$D$101,MATCH(R43,Registration!$B$2:$B$101,0))))","v":""}]
[{"$f":"IF(COUNTBLANK(Registration!B44)=1,\"\",Registration!B44)","v":""},null,null,null,null,null,null,null,null,null,null,"","","",null,"","","",null,{"$f":"IF(COUNTBLANK(R44)=1,\"\",IF(OR(X44=LEFT(T$1,1),X44=RIGHT(T$1,1)),COUNTIF(X$2:X44,LEFT(T$1,1))+COUNTIF(X$2:X44,RIGHT(T$1,1)),\"\"))","v":""},{"$f":"IF(COUNTBLANK(R44)=1,\"\",IF(OR(X44=LEFT(U$1,1),X44=RIGHT(U$1,1)),COUNTIF(X$2:X44,LEFT(U$1,1))+COUNTIF(X$2:X44,RIGHT(U$1,1)),\"\"))","v":""},{"$f":"IF(COUNTBLANK(R44)=1,\"\",IF(OR(X44=LEFT(V$1,1),X44=RIGHT(V$1,1)),COUNTIF(X$2:X44,LEFT(V$1,1))+COUNTIF(X$2:X44,RIGHT(V$1,1)),\"\"))","v":""},{"$f":"IF(COUNTBLANK(R44)=1,\"\",IF(OR(Y44=LEFT(W$1,1),Y44=RIGHT(W$1,1)),COUNTIF(Y$2:Y44,LEFT(W$1,1))+COUNTIF(Y$2:Y44,RIGHT(W$1,1)),\"\"))","v":""},{"$f":"IF(COUNTBLANK(R44)=1,\"\",INDEX(Registration!$C$2:$C$101,MATCH(R44,Registration!$B$2:$B$101,0)))","v":""},{"$f":"IF(COUNTBLANK(R44)=1,\"\",IF(COUNTBLANK(INDEX(Registration!$D$2:$D$101,MATCH(R44,Registration!$B$2:$B$101,0)))=1,\"\",INDEX(Registration!$D$2:$D$101,MATCH(R44,Registration!$B$2:$B$101,0))))","v":""}]
[{"$f":"IF(COUNTBLANK(Registration!B45)=1,\"\",Registration!B45)","v":""},null,null,null,null,null,null,null,null,null,null,"","","",null,"","","",null,{"$f":"IF(COUNTBLANK(R45)=1,\"\",IF(OR(X45=LEFT(T$1,1),X45=RIGHT(T$1,1)),COUNTIF(X$2:X45,LEFT(T$1,1))+COUNTIF(X$2:X45,RIGHT(T$1,1)),\"\"))","v":""},{"$f":"IF(COUNTBLANK(R45)=1,\"\",IF(OR(X45=LEFT(U$1,1),X45=RIGHT(U$1,1)),COUNTIF(X$2:X45,LEFT(U$1,1))+COUNTIF(X$2:X45,RIGHT(U$1,1)),\"\"))","v":""},{"$f":"IF(COUNTBLANK(R45)=1,\"\",IF(OR(X45=LEFT(V$1,1),X45=RIGHT(V$1,1)),COUNTIF(X$2:X45,LEFT(V$1,1))+COUNTIF(X$2:X45,RIGHT(V$1,1)),\"\"))","v":""},{"$f":"IF(COUNTBLANK(R45)=1,\"\",IF(OR(Y45=LEFT(W$1,1),Y45=RIGHT(W$1,1)),COUNTIF(Y$2:Y45,LEFT(W$1,1))+COUNTIF(Y$2:Y45,RIGHT(W$1,1)),\"\"))","v":""},{"$f":"IF(COUNTBLANK(R45)=1,\"\",INDEX(Registration!$C$2:$C$101,MATCH(R45,Registration!$B$2:$B$101,0)))","v":""},{"$f":"IF(COUNTBLANK(R45)=1,\"\",IF(COUNTBLANK(INDEX(Registration!$D$2:$D$101,MATCH(R45,Registration!$B$2:$B$101,0)))=1,\"\",INDEX(Registration!$D$2:$D$101,MATCH(R45,Registration!$B$2:$B$101,0))))","v":""}]
[{"$f":"IF(COUNTBLANK(Registration!B46)=1,\"\",Registration!B46)","v":""},null,null,null,null,null,null,null,null,null,null,"","","",null,"","","",null,{"$f":"IF(COUNTBLANK(R46)=1,\"\",IF(OR(X46=LEFT(T$1,1),X46=RIGHT(T$1,1)),COUNTIF(X$2:X46,LEFT(T$1,1))+COUNTIF(X$2:X46,RIGHT(T$1,1)),\"\"))","v":""},{"$f":"IF(COUNTBLANK(R46)=1,\"\",IF(OR(X46=LEFT(U$1,1),X46=RIGHT(U$1,1)),COUNTIF(X$2:X46,LEFT(U$1,1))+COUNTIF(X$2:X46,RIGHT(U$1,1)),\"\"))","v":""},{"$f":"IF(COUNTBLANK(R46)=1,\"\",IF(OR(X46=LEFT(V$1,1),X46=RIGHT(V$1,1)),COUNTIF(X$2:X46,LEFT(V$1,1))+COUNTIF(X$2:X46,RIGHT(V$1,1)),\"\"))","v":""},{"$f":"IF(COUNTBLANK(R46)=1,\"\",IF(OR(Y46=LEFT(W$1,1),Y46=RIGHT(W$1,1)),COUNTIF(Y$2:Y46,LEFT(W$1,1))+COUNTIF(Y$2:Y46,RIGHT(W$1,1)),\"\"))","v":""},{"$f":"IF(COUNTBLANK(R46)=1,\"\",INDEX(Registration!$C$2:$C$101,MATCH(R46,Registration!$B$2:$B$101,0)))","v":""},{"$f":"IF(COUNTBLANK(R46)=1,\"\",IF(COUNTBLANK(INDEX(Registration!$D$2:$D$101,MATCH(R46,Registration!$B$2:$B$101,0)))=1,\"\",INDEX(Registration!$D$2:$D$101,MATCH(R46,Registration!$B$2:$B$101,0))))","v":""}]
[{"$f":"IF(COUNTBLANK(Registration!B47)=1,\"\",Registration!B47)","v":""},null,null,null,null,null,null,null,null,null,null,"","","",null,"","","",null,{"$f":"IF(COUNTBLANK(R47)=1,\"\",IF(OR(X47=LEFT(T$1,1),X47=RIGHT(T$1,1)),COUNTIF(X$2:X47,LEFT(T$1,1))+COUNTIF(X$2:X47,RIGHT(T$1,1)),\"\"))","v":""},{"$f":"IF(COUNTBLANK(R47)=1,\"\",IF(OR(X47=LEFT(U$1,1),X47=RIGHT(U$1,1)),COUNTIF(X$2:X47,LEFT(U$1,1))+COUNTIF(X$2:X47,RIGHT(U$1,1)),\"\"))","v":""},{"$f":"IF(COUNTBLANK(R47)=1,\"\",IF(OR(X47=LEFT(V$1,1),X47=RIGHT(V$1,1)),COUNTIF(X$2:X47,LEFT(V$1,1))+COUNTIF(X$2:X47,RIGHT(V$1,1)),\"\"))","v":""},{"$f":"IF(COUNTBLANK(R47)=1,\"\",IF(OR(Y47=LEFT(W$1,1),Y47=RIGHT(W$1,1)),COUNTIF(Y$2:Y47,LEFT(W$1,1))+COUNTIF(Y$2:Y47,RIGHT(W$1,1)),\"\"))","v":""},{"$f":"IF(COUNTBLANK(R47)=1,\"\",INDEX(Registration!$C$2:$C$101,MATCH(R47,Registration!$B$2:$B$101,0)))","v":""},{"$f":"IF(COUNTBLANK(R47)=1,\"\",IF(COUNTBLANK(INDEX(Registration!$D$2:$D$101,MATCH(R47,Registration!$B$2:$B$101,0)))=1,\"\",INDEX(Registration!$D$2:$D$101,MATCH(R47,Registration!$B$2:$B$101,0))))","v":""}]
[{"$f":"IF(COUNTBLANK(Registration!B48)=1,\"\",Registration!B48)","v":""},null,null,null,null,null,null,null,null,null,null,"","","",null,"","","",null,{"$f":"IF(COUNTBLANK(R48)=1,\"\",IF(OR(X48=LEFT(T$1,1),X48=RIGHT(T$1,1)),COUNTIF(X$2:X48,LEFT(T$1,1))+COUNTIF(X$2:X48,RIGHT(T$1,1)),\"\"))","v":""},{"$f":"IF(COUNTBLANK(R48)=1,\"\",IF(OR(X48=LEFT(U$1,1),X48=RIGHT(U$1,1)),COUNTIF(X$2:X48,LEFT(U$1,1))+COUNTIF(X$2:X48,RIGHT(U$1,1)),\"\"))","v":""},{"$f":"IF(COUNTBLANK(R48)=1,\"\",IF(OR(X48=LEFT(V$1,1),X48=RIGHT(V$1,1)),COUNTIF(X$2:X48,LEFT(V$1,1))+COUNTIF(X$2:X48,RIGHT(V$1,1)),\"\"))","v":""},{"$f":"IF(COUNTBLANK(R48)=1,\"\",IF(OR(Y48=LEFT(W$1,1),Y48=RIGHT(W$1,1)),COUNTIF(Y$2:Y48,LEFT(W$1,1))+COUNTIF(Y$2:Y48,RIGHT(W$1,1)),\"\"))","v":""},{"$f":"IF(COUNTBLANK(R48)=1,\"\",INDEX(Registration!$C$2:$C$101,MATCH(R48,Registration!$B$2:$B$101,0)))","v":""},{"$f":"IF(COUNTBLANK(R48)=1,\"\",IF(COUNTBLANK(INDEX(Registration!$D$2:$D$101,MATCH(R48,Registration!$B$2:$B$101,0)))=1,\"\",INDEX(Registration!$D$2:$D$101,MATCH(R48,Registration!$B$2:$B$101,0))))","v":""}]
[{"$f":"IF(COUNTBLANK(Registration!B49)=1,\"\",Registration!B49)","v":""},null,null,null,null,null,null,null,null,null,null,"","","",null,"","","",null,{"$f":"IF(COUNTBLANK(R49)=1,\"\",IF(OR(X49=LEFT(T$1,1),X49=RIGHT(T$1,1)),COUNTIF(X$2:X49,LEFT(T$1,1))+COUNTIF(X$2:X49,RIGHT(T$1,1)),\"\"))","v":""},{"$f":"IF(COUNTBLANK(R49)=1,\"\",IF(OR(X49=LEFT(U$1,1),X49=RIGHT(U$1,1)),COUNTIF(X$2:X49,LEFT(U$1,1))+COUNTIF(X$2:X49,RIGHT(U$1,1)),\"\"))","v":""},{"$f":"IF(COUNTBLANK(R49)=1,\"\",IF(OR(X49=LEFT(V$1,1),X49=RIGHT(V$1,1)),COUNTIF(X$2:X49,LEFT(V$1,1))+COUNTIF(X$2:X49,RIGHT(V$1,1)),\"\"))","v":""},{"$f":"IF(COUNTBLANK(R49)=1,\"\",IF(OR(Y49=LEFT(W$1,1),Y49=RIGHT(W$1,1)),COUNTIF(Y$2:Y49,LEFT(W$1,1))+COUNTIF(Y$2:Y49,RIGHT(W$1,1)),\"\"))","v":""},{"$f":"IF(COUNTBLANK(R49)=1,\"\",INDEX(Registration!$C$2:$C$101,MATCH(R49,Registration!$B$2:$B$101,0)))","v":""},{"$f":"IF(COUNTBLANK(R49)=1,\"\",IF(COUNTBLANK(INDEX(Registration!$D$2:$D$101,MATCH(R49,Registration!$B$2:$B$101,0)))=1,\"\",INDEX(Registration!$D$2:$D$101,MATCH(R49,Registration!$B$2:$B$101,0))))","v":""}]
[{"$f":"IF(COUNTBLANK(Registration!B50)=1,\"\",Registration!B50)","v":""},null,null,null,null,null,null,null,null,null,null,"","","",null,"","","",null,{"$f":"IF(COUNTBLANK(R50)=1,\"\",IF(OR(X50=LEFT(T$1,1),X50=RIGHT(T$1,1)),COUNTIF(X$2:X50,LEFT(T$1,1))+COUNTIF(X$2:X50,RIGHT(T$1,1)),\"\"))","v":""},{"$f":"IF(COUNTBLANK(R50)=1,\"\",IF(OR(X50=LEFT(U$1,1),X50=RIGHT(U$1,1)),COUNTIF(X$2:X50,LEFT(U$1,1))+COUNTIF(X$2:X50,RIGHT(U$1,1)),\"\"))","v":""},{"$f":"IF(COUNTBLANK(R50)=1,\"\",IF(OR(X50=LEFT(V$1,1),X50=RIGHT(V$1,1)),COUNTIF(X$2:X50,LEFT(V$1,1))+COUNTIF(X$2:X50,RIGHT(V$1,1)),\"\"))","v":""},{"$f":"IF(COUNTBLANK(R50)=1,\"\",IF(OR(Y50=LEFT(W$1,1),Y50=RIGHT(W$1,1)),COUNTIF(Y$2:Y50,LEFT(W$1,1))+COUNTIF(Y$2:Y50,RIGHT(W$1,1)),\"\"))","v":""},{"$f":"IF(COUNTBLANK(R50)=1,\"\",INDEX(Registration!$C$2:$C$101,MATCH(R50,Registration!$B$2:$B$101,0)))","v":""},{"$f":"IF(COUNTBLANK(R50)=1,\"\",IF(COUNTBLANK(INDEX(Registration!$D$2:$D$101,MATCH(R50,Registration!$B$2:$B$101,0)))=1,\"\",INDEX(Registration!$D$2:$D$101,MATCH(R50,Registration!$B$2:$B$101,0))))","v":""}]
[{"$f":"IF(COUNTBLANK(Registration!B51)=1,\"\",Registration!B51)","v":""},null,null,null,null,null,null,null,null,null,null,"","","",null,"","","",null,{"$f":"IF(COUNTBLANK(R51)=1,\"\",IF(OR(X51=LEFT(T$1,1),X51=RIGHT(T$1,1)),COUNTIF(X$2:X51,LEFT(T$1,1))+COUNTIF(X$2:X51,RIGHT(T$1,1)),\"\"))","v":""},{"$f":"IF(COUNTBLANK(R51)=1,\"\",IF(OR(X51=LEFT(U$1,1),X51=RIGHT(U$1,1)),COUNTIF(X$2:X51,LEFT(U$1,1))+COUNTIF(X$2:X51,RIGHT(U$1,1)),\"\"))","v":""},{"$f":"IF(COUNTBLANK(R51)=1,\"\",IF(OR(X51=LEFT(V$1,1),X51=RIGHT(V$1,1)),COUNTIF(X$2:X51,LEFT(V$1,1))+COUNTIF(X$2:X51,RIGHT(V$1,1)),\"\"))","v":""},{"$f":"IF(COUNTBLANK(R51)=1,\"\",IF(OR(Y51=LEFT(W$1,1),Y51=RIGHT(W$1,1)),COUNTIF(Y$2:Y51,LEFT(W$1,1))+COUNTIF(Y$2:Y51,RIGHT(W$1,1)),\"\"))","v":""},{"$f":"IF(COUNTBLANK(R51)=1,\"\",INDEX(Registration!$C$2:$C$101,MATCH(R51,Registration!$B$2:$B$101,0)))","v":""},{"$f":"IF(COUNTBLANK(R51)=1,\"\",IF(COUNTBLANK(INDEX(Registration!$D$2:$D$101,MATCH(R51,Registration!$B$2:$B$101,0)))=1,\"\",INDEX(Registration!$D$2:$D$101,MATCH(R51,Registration!$B$2:$B$101,0))))","v":""}]
[{"$f":"IF(COUNTBLANK(Registration!B52)=1,\"\",Registration!B52)","v":""},null,null,null,null,null,null,null,null,null,null,"","","",null,"","","",null,{"$f":"IF(COUNTBLANK(R52)=1,\"\",IF(OR(X52=LEFT(T$1,1),X52=RIGHT(T$1,1)),COUNTIF(X$2:X52,LEFT(T$1,1))+COUNTIF(X$2:X52,RIGHT(T$1,1)),\"\"))","v":""},{"$f":"IF(COUNTBLANK(R52)=1,\"\",IF(OR(X52=LEFT(U$1,1),X52=RIGHT(U$1,1)),COUNTIF(X$2:X52,LEFT(U$1,1))+COUNTIF(X$2:X52,RIGHT(U$1,1)),\"\"))","v":""},{"$f":"IF(COUNTBLANK(R52)=1,\"\",IF(OR(X52=LEFT(V$1,1),X52=RIGHT(V$1,1)),COUNTIF(X$2:X52,LEFT(V$1,1))+COUNTIF(X$2:X52,RIGHT(V$1,1)),\"\"))","v":""},{"$f":"IF(COUNTBLANK(R52)=1,\"\",IF(OR(Y52=LEFT(W$1,1),Y52=RIGHT(W$1,1)),COUNTIF(Y$2:Y52,LEFT(W$1,1))+COUNTIF(Y$2:Y52,RIGHT(W$1,1)),\"\"))","v":""},{"$f":"IF(COUNTBLANK(R52)=1,\"\",INDEX(Registration!$C$2:$C$101,MATCH(R52,Registration!$B$2:$B$101,0)))","v":""},{"$f":"IF(COUNTBLANK(R52)=1,\"\",IF(COUNTBLANK(INDEX(Registration!$D$2:$D$101,MATCH(R52,Registration!$B$2:$B$101,0)))=1,\"\",INDEX(Registration!$D$2:$D$101,MATCH(R52,Registration!$B$2:$B$101,0))))","v":""}]
[{"$f":"IF(COUNTBLANK(Registration!B53)=1,\"\",Registration!B53)","v":""},null,null,null,null,null,null,null,null,null,null,"","","",null,"","","",null,{"$f":"IF(COUNTBLANK(R53)=1,\"\",IF(OR(X53=LEFT(T$1,1),X53=RIGHT(T$1,1)),COUNTIF(X$2:X53,LEFT(T$1,1))+COUNTIF(X$2:X53,RIGHT(T$1,1)),\"\"))","v":""},{"$f":"IF(COUNTBLANK(R53)=1,\"\",IF(OR(X53=LEFT(U$1,1),X53=RIGHT(U$1,1)),COUNTIF(X$2:X53,LEFT(U$1,1))+COUNTIF(X$2:X53,RIGHT(U$1,1)),\"\"))","v":""},{"$f":"IF(COUNTBLANK(R53)=1,\"\",IF(OR(X53=LEFT(V$1,1),X53=RIGHT(V$1,1)),COUNTIF(X$2:X53,LEFT(V$1,1))+COUNTIF(X$2:X53,RIGHT(V$1,1)),\"\"))","v":""},{"$f":"IF(COUNTBLANK(R53)=1,\"\",IF(OR(Y53=LEFT(W$1,1),Y53=RIGHT(W$1,1)),COUNTIF(Y$2:Y53,LEFT(W$1,1))+COUNTIF(Y$2:Y53,RIGHT(W$1,1)),\"\"))","v":""},{"$f":"IF(COUNTBLANK(R53)=1,\"\",INDEX(Registration!$C$2:$C$101,MATCH(R53,Registration!$B$2:$B$101,0)))","v":""},{"$f":"IF(COUNTBLANK(R53)=1,\"\",IF(COUNTBLANK(INDEX(Registration!$D$2:$D$101,MATCH(R53,Registration!$B$2:$B$101,0)))=1,\"\",INDEX(Registration!$D$2:$D$101,MATCH(R53,Registration!$B$2:$B$101,0))))","v":""}]
[{"$f":"IF(COUNTBLANK(Registration!B54)=1,\"\",Registration!B54)","v":""},null,null,null,null,null,null,null,null,null,null,"","","",null,"","","",null,{"$f":"IF(COUNTBLANK(R54)=1,\"\",IF(OR(X54=LEFT(T$1,1),X54=RIGHT(T$1,1)),COUNTIF(X$2:X54,LEFT(T$1,1))+COUNTIF(X$2:X54,RIGHT(T$1,1)),\"\"))","v":""},{"$f":"IF(COUNTBLANK(R54)=1,\"\",IF(OR(X54=LEFT(U$1,1),X54=RIGHT(U$1,1)),COUNTIF(X$2:X54,LEFT(U$1,1))+COUNTIF(X$2:X54,RIGHT(U$1,1)),\"\"))","v":""},{"$f":"IF(COUNTBLANK(R54)=1,\"\",IF(OR(X54=LEFT(V$1,1),X54=RIGHT(V$1,1)),COUNTIF(X$2:X54,LEFT(V$1,1))+COUNTIF(X$2:X54,RIGHT(V$1,1)),\"\"))","v":""},{"$f":"IF(COUNTBLANK(R54)=1,\"\",IF(OR(Y54=LEFT(W$1,1),Y54=RIGHT(W$1,1)),COUNTIF(Y$2:Y54,LEFT(W$1,1))+COUNTIF(Y$2:Y54,RIGHT(W$1,1)),\"\"))","v":""},{"$f":"IF(COUNTBLANK(R54)=1,\"\",INDEX(Registration!$C$2:$C$101,MATCH(R54,Registration!$B$2:$B$101,0)))","v":""},{"$f":"IF(COUNTBLANK(R54)=1,\"\",IF(COUNTBLANK(INDEX(Registration!$D$2:$D$101,MATCH(R54,Registration!$B$2:$B$101,0)))=1,\"\",INDEX(Registration!$D$2:$D$101,MATCH(R54,Registration!$B$2:$B$101,0))))","v":""}]
[{"$f":"IF(COUNTBLANK(Registration!B55)=1,\"\",Registration!B55)","v":""},null,null,null,null,null,null,null,null,null,null,"","","",null,"","","",null,{"$f":"IF(COUNTBLANK(R55)=1,\"\",IF(OR(X55=LEFT(T$1,1),X55=RIGHT(T$1,1)),COUNTIF(X$2:X55,LEFT(T$1,1))+COUNTIF(X$2:X55,RIGHT(T$1,1)),\"\"))","v":""},{"$f":"IF(COUNTBLANK(R55)=1,\"\",IF(OR(X55=LEFT(U$1,1),X55=RIGHT(U$1,1)),COUNTIF(X$2:X55,LEFT(U$1,1))+COUNTIF(X$2:X55,RIGHT(U$1,1)),\"\"))","v":""},{"$f":"IF(COUNTBLANK(R55)=1,\"\",IF(OR(X55=LEFT(V$1,1),X55=RIGHT(V$1,1)),COUNTIF(X$2:X55,LEFT(V$1,1))+COUNTIF(X$2:X55,RIGHT(V$1,1)),\"\"))","v":""},{"$f":"IF(COUNTBLANK(R55)=1,\"\",IF(OR(Y55=LEFT(W$1,1),Y55=RIGHT(W$1,1)),COUNTIF(Y$2:Y55,LEFT(W$1,1))+COUNTIF(Y$2:Y55,RIGHT(W$1,1)),\"\"))","v":""},{"$f":"IF(COUNTBLANK(R55)=1,\"\",INDEX(Registration!$C$2:$C$101,MATCH(R55,Registration!$B$2:$B$101,0)))","v":""},{"$f":"IF(COUNTBLANK(R55)=1,\"\",IF(COUNTBLANK(INDEX(Registration!$D$2:$D$101,MATCH(R55,Registration!$B$2:$B$101,0)))=1,\"\",INDEX(Registration!$D$2:$D$101,MATCH(R55,Registration!$B$2:$B$101,0))))","v":""}]
[{"$f":"IF(COUNTBLANK(Registration!B56)=1,\"\",Registration!B56)","v":""},null,null,null,null,null,null,null,null,null,null,"","","",null,"","","",null,{"$f":"IF(COUNTBLANK(R56)=1,\"\",IF(OR(X56=LEFT(T$1,1),X56=RIGHT(T$1,1)),COUNTIF(X$2:X56,LEFT(T$1,1))+COUNTIF(X$2:X56,RIGHT(T$1,1)),\"\"))","v":""},{"$f":"IF(COUNTBLANK(R56)=1,\"\",IF(OR(X56=LEFT(U$1,1),X56=RIGHT(U$1,1)),COUNTIF(X$2:X56,LEFT(U$1,1))+COUNTIF(X$2:X56,RIGHT(U$1,1)),\"\"))","v":""},{"$f":"IF(COUNTBLANK(R56)=1,\"\",IF(OR(X56=LEFT(V$1,1),X56=RIGHT(V$1,1)),COUNTIF(X$2:X56,LEFT(V$1,1))+COUNTIF(X$2:X56,RIGHT(V$1,1)),\"\"))","v":""},{"$f":"IF(COUNTBLANK(R56)=1,\"\",IF(OR(Y56=LEFT(W$1,1),Y56=RIGHT(W$1,1)),COUNTIF(Y$2:Y56,LEFT(W$1,1))+COUNTIF(Y$2:Y56,RIGHT(W$1,1)),\"\"))","v":""},{"$f":"IF(COUNTBLANK(R56)=1,\"\",INDEX(Registration!$C$2:$C$101,MATCH(R56,Registration!$B$2:$B$101,0)))","v":""},{"$f":"IF(COUNTBLANK(R56)=1,\"\",IF(COUNTBLANK(INDEX(Registration!$D$2:$D$101,MATCH(R56,Registration!$B$2:$B$101,0)))=1,\"\",INDEX(Registration!$D$2:$D$101,MATCH(R56,Registration!$B$2:$B$101,0))))","v":""}]
[{"$f":"IF(COUNTBLANK(Registration!B57)=1,\"\",Registration!B57)","v":""},null,null,null,null,null,null,null,null,null,null,"","","",null,"","","",null,{"$f":"IF(COUNTBLANK(R57)=1,\"\",IF(OR(X57=LEFT(T$1,1),X57=RIGHT(T$1,1)),COUNTIF(X$2:X57,LEFT(T$1,1))+COUNTIF(X$2:X57,RIGHT(T$1,1)),\"\"))","v":""},{"$f":"IF(COUNTBLANK(R57)=1,\"\",IF(OR(X57=LEFT(U$1,1),X57=RIGHT(U$1,1)),COUNTIF(X$2:X57,LEFT(U$1,1))+COUNTIF(X$2:X57,RIGHT(U$1,1)),\"\"))","v":""},{"$f":"IF(COUNTBLANK(R57)=1,\"\",IF(OR(X57=LEFT(V$1,1),X57=RIGHT(V$1,1)),COUNTIF(X$2:X57,LEFT(V$1,1))+COUNTIF(X$2:X57,RIGHT(V$1,1)),\"\"))","v":""},{"$f":"IF(COUNTBLANK(R57)=1,\"\",IF(OR(Y57=LEFT(W$1,1),Y57=RIGHT(W$1,1)),COUNTIF(Y$2:Y57,LEFT(W$1,1))+COUNTIF(Y$2:Y57,RIGHT(W$1,1)),\"\"))","v":""},{"$f":"IF(COUNTBLANK(R57)=1,\"\",INDEX(Registration!$C$2:$C$101,MATCH(R57,Registration!$B$2:$B$101,0)))","v":""},{"$f":"IF(COUNTBLANK(R57)=1,\"\",IF(COUNTBLANK(INDEX(Registration!$D$2:$D$101,MATCH(R57,Registration!$B$2:$B$101,0)))=1,\"\",INDEX(Registration!$D$2:$D$101,MATCH(R57,Registration!$B$2:$B$101,0))))","v":""}]
[{"$f":"IF(COUNTBLANK(Registration!B58)=1,\"\",Registration!B58)","v":""},null,null,null,null,null,null,null,null,null,null,"","","",null,"","","",null,{"$f":"IF(COUNTBLANK(R58)=1,\"\",IF(OR(X58=LEFT(T$1,1),X58=RIGHT(T$1,1)),COUNTIF(X$2:X58,LEFT(T$1,1))+COUNTIF(X$2:X58,RIGHT(T$1,1)),\"\"))","v":""},{"$f":"IF(COUNTBLANK(R58)=1,\"\",IF(OR(X58=LEFT(U$1,1),X58=RIGHT(U$1,1)),COUNTIF(X$2:X58,LEFT(U$1,1))+COUNTIF(X$2:X58,RIGHT(U$1,1)),\"\"))","v":""},{"$f":"IF(COUNTBLANK(R58)=1,\"\",IF(OR(X58=LEFT(V$1,1),X58=RIGHT(V$1,1)),COUNTIF(X$2:X58,LEFT(V$1,1))+COUNTIF(X$2:X58,RIGHT(V$1,1)),\"\"))","v":""},{"$f":"IF(COUNTBLANK(R58)=1,\"\",IF(OR(Y58=LEFT(W$1,1),Y58=RIGHT(W$1,1)),COUNTIF(Y$2:Y58,LEFT(W$1,1))+COUNTIF(Y$2:Y58,RIGHT(W$1,1)),\"\"))","v":""},{"$f":"IF(COUNTBLANK(R58)=1,\"\",INDEX(Registration!$C$2:$C$101,MATCH(R58,Registration!$B$2:$B$101,0)))","v":""},{"$f":"IF(COUNTBLANK(R58)=1,\"\",IF(COUNTBLANK(INDEX(Registration!$D$2:$D$101,MATCH(R58,Registration!$B$2:$B$101,0)))=1,\"\",INDEX(Registration!$D$2:$D$101,MATCH(R58,Registration!$B$2:$B$101,0))))","v":""}]
[{"$f":"IF(COUNTBLANK(Registration!B59)=1,\"\",Registration!B59)","v":""},null,null,null,null,null,null,null,null,null,null,"","","",null,"","","",null,{"$f":"IF(COUNTBLANK(R59)=1,\"\",IF(OR(X59=LEFT(T$1,1),X59=RIGHT(T$1,1)),COUNTIF(X$2:X59,LEFT(T$1,1))+COUNTIF(X$2:X59,RIGHT(T$1,1)),\"\"))","v":""},{"$f":"IF(COUNTBLANK(R59)=1,\"\",IF(OR(X59=LEFT(U$1,1),X59=RIGHT(U$1,1)),COUNTIF(X$2:X59,LEFT(U$1,1))+COUNTIF(X$2:X59,RIGHT(U$1,1)),\"\"))","v":""},{"$f":"IF(COUNTBLANK(R59)=1,\"\",IF(OR(X59=LEFT(V$1,1),X59=RIGHT(V$1,1)),COUNTIF(X$2:X59,LEFT(V$1,1))+COUNTIF(X$2:X59,RIGHT(V$1,1)),\"\"))","v":""},{"$f":"IF(COUNTBLANK(R59)=1,\"\",IF(OR(Y59=LEFT(W$1,1),Y59=RIGHT(W$1,1)),COUNTIF(Y$2:Y59,LEFT(W$1,1))+COUNTIF(Y$2:Y59,RIGHT(W$1,1)),\"\"))","v":""},{"$f":"IF(COUNTBLANK(R59)=1,\"\",INDEX(Registration!$C$2:$C$101,MATCH(R59,Registration!$B$2:$B$101,0)))","v":""},{"$f":"IF(COUNTBLANK(R59)=1,\"\",IF(COUNTBLANK(INDEX(Registration!$D$2:$D$101,MATCH(R59,Registration!$B$2:$B$101,0)))=1,\"\",INDEX(Registration!$D$2:$D$101,MATCH(R59,Registration!$B$2:$B$101,0))))","v":""}]
[{"$f":"IF(COUNTBLANK(Registration!B60)=1,\"\",Registration!B60)","v":""},null,null,null,null,null,null,null,null,null,null,"","","",null,"","","",null,{"$f":"IF(COUNTBLANK(R60)=1,\"\",IF(OR(X60=LEFT(T$1,1),X60=RIGHT(T$1,1)),COUNTIF(X$2:X60,LEFT(T$1,1))+COUNTIF(X$2:X60,RIGHT(T$1,1)),\"\"))","v":""},{"$f":"IF(COUNTBLANK(R60)=1,\"\",IF(OR(X60=LEFT(U$1,1),X60=RIGHT(U$1,1)),COUNTIF(X$2:X60,LEFT(U$1,1))+COUNTIF(X$2:X60,RIGHT(U$1,1)),\"\"))","v":""},{"$f":"IF(COUNTBLANK(R60)=1,\"\",IF(OR(X60=LEFT(V$1,1),X60=RIGHT(V$1,1)),COUNTIF(X$2:X60,LEFT(V$1,1))+COUNTIF(X$2:X60,RIGHT(V$1,1)),\"\"))","v":""},{"$f":"IF(COUNTBLANK(R60)=1,\"\",IF(OR(Y60=LEFT(W$1,1),Y60=RIGHT(W$1,1)),COUNTIF(Y$2:Y60,LEFT(W$1,1))+COUNTIF(Y$2:Y60,RIGHT(W$1,1)),\"\"))","v":""},{"$f":"IF(COUNTBLANK(R60)=1,\"\",INDEX(Registration!$C$2:$C$101,MATCH(R60,Registration!$B$2:$B$101,0)))","v":""},{"$f":"IF(COUNTBLANK(R60)=1,\"\",IF(COUNTBLANK(INDEX(Registration!$D$2:$D$101,MATCH(R60,Registration!$B$2:$B$101,0)))=1,\"\",INDEX(Registration!$D$2:$D$101,MATCH(R60,Registration!$B$2:$B$101,0))))","v":""}]
[{"$f":"IF(COUNTBLANK(Registration!B61)=1,\"\",Registration!B61)","v":""},null,null,null,null,null,null,null,null,null,null,"","","",null,"","","",null,{"$f":"IF(COUNTBLANK(R61)=1,\"\",IF(OR(X61=LEFT(T$1,1),X61=RIGHT(T$1,1)),COUNTIF(X$2:X61,LEFT(T$1,1))+COUNTIF(X$2:X61,RIGHT(T$1,1)),\"\"))","v":""},{"$f":"IF(COUNTBLANK(R61)=1,\"\",IF(OR(X61=LEFT(U$1,1),X61=RIGHT(U$1,1)),COUNTIF(X$2:X61,LEFT(U$1,1))+COUNTIF(X$2:X61,RIGHT(U$1,1)),\"\"))","v":""},{"$f":"IF(COUNTBLANK(R61)=1,\"\",IF(OR(X61=LEFT(V$1,1),X61=RIGHT(V$1,1)),COUNTIF(X$2:X61,LEFT(V$1,1))+COUNTIF(X$2:X61,RIGHT(V$1,1)),\"\"))","v":""},{"$f":"IF(COUNTBLANK(R61)=1,\"\",IF(OR(Y61=LEFT(W$1,1),Y61=RIGHT(W$1,1)),COUNTIF(Y$2:Y61,LEFT(W$1,1))+COUNTIF(Y$2:Y61,RIGHT(W$1,1)),\"\"))","v":""},{"$f":"IF(COUNTBLANK(R61)=1,\"\",INDEX(Registration!$C$2:$C$101,MATCH(R61,Registration!$B$2:$B$101,0)))","v":""},{"$f":"IF(COUNTBLANK(R61)=1,\"\",IF(COUNTBLANK(INDEX(Registration!$D$2:$D$101,MATCH(R61,Registration!$B$2:$B$101,0)))=1,\"\",INDEX(Registration!$D$2:$D$101,MATCH(R61,Registration!$B$2:$B$101,0))))","v":""}]
[{"$f":"IF(COUNTBLANK(Registration!B62)=1,\"\",Registration!B62)","v":""},null,null,null,null,null,null,null,null,null,null,"","","",null,"","","",null,{"$f":"IF(COUNTBLANK(R62)=1,\"\",IF(OR(X62=LEFT(T$1,1),X62=RIGHT(T$1,1)),COUNTIF(X$2:X62,LEFT(T$1,1))+COUNTIF(X$2:X62,RIGHT(T$1,1)),\"\"))","v":""},{"$f":"IF(COUNTBLANK(R62)=1,\"\",IF(OR(X62=LEFT(U$1,1),X62=RIGHT(U$1,1)),COUNTIF(X$2:X62,LEFT(U$1,1))+COUNTIF(X$2:X62,RIGHT(U$1,1)),\"\"))","v":""},{"$f":"IF(COUNTBLANK(R62)=1,\"\",IF(OR(X62=LEFT(V$1,1),X62=RIGHT(V$1,1)),COUNTIF(X$2:X62,LEFT(V$1,1))+COUNTIF(X$2:X62,RIGHT(V$1,1)),\"\"))","v":""},{"$f":"IF(COUNTBLANK(R62)=1,\"\",IF(OR(Y62=LEFT(W$1,1),Y62=RIGHT(W$1,1)),COUNTIF(Y$2:Y62,LEFT(W$1,1))+COUNTIF(Y$2:Y62,RIGHT(W$1,1)),\"\"))","v":""},{"$f":"IF(COUNTBLANK(R62)=1,\"\",INDEX(Registration!$C$2:$C$101,MATCH(R62,Registration!$B$2:$B$101,0)))","v":""},{"$f":"IF(COUNTBLANK(R62)=1,\"\",IF(COUNTBLANK(INDEX(Registration!$D$2:$D$101,MATCH(R62,Registration!$B$2:$B$101,0)))=1,\"\",INDEX(Registration!$D$2:$D$101,MATCH(R62,Registration!$B$2:$B$101,0))))","v":""}]
[{"$f":"IF(COUNTBLANK(Registration!B63)=1,\"\",Registration!B63)","v":""},null,null,null,null,null,null,null,null,null,null,"","","",null,"","","",null,{"$f":"IF(COUNTBLANK(R63)=1,\"\",IF(OR(X63=LEFT(T$1,1),X63=RIGHT(T$1,1)),COUNTIF(X$2:X63,LEFT(T$1,1))+COUNTIF(X$2:X63,RIGHT(T$1,1)),\"\"))","v":""},{"$f":"IF(COUNTBLANK(R63)=1,\"\",IF(OR(X63=LEFT(U$1,1),X63=RIGHT(U$1,1)),COUNTIF(X$2:X63,LEFT(U$1,1))+COUNTIF(X$2:X63,RIGHT(U$1,1)),\"\"))","v":""},{"$f":"IF(COUNTBLANK(R63)=1,\"\",IF(OR(X63=LEFT(V$1,1),X63=RIGHT(V$1,1)),COUNTIF(X$2:X63,LEFT(V$1,1))+COUNTIF(X$2:X63,RIGHT(V$1,1)),\"\"))","v":""},{"$f":"IF(COUNTBLANK(R63)=1,\"\",IF(OR(Y63=LEFT(W$1,1),Y63=RIGHT(W$1,1)),COUNTIF(Y$2:Y63,LEFT(W$1,1))+COUNTIF(Y$2:Y63,RIGHT(W$1,1)),\"\"))","v":""},{"$f":"IF(COUNTBLANK(R63)=1,\"\",INDEX(Registration!$C$2:$C$101,MATCH(R63,Registration!$B$2:$B$101,0)))","v":""},{"$f":"IF(COUNTBLANK(R63)=1,\"\",IF(COUNTBLANK(INDEX(Registration!$D$2:$D$101,MATCH(R63,Registration!$B$2:$B$101,0)))=1,\"\",INDEX(Registration!$D$2:$D$101,MATCH(R63,Registration!$B$2:$B$101,0))))","v":""}]
[{"$f":"IF(COUNTBLANK(Registration!B64)=1,\"\",Registration!B64)","v":""},null,null,null,null,null,null,null,null,null,null,"","","",null,"","","",null,{"$f":"IF(COUNTBLANK(R64)=1,\"\",IF(OR(X64=LEFT(T$1,1),X64=RIGHT(T$1,1)),COUNTIF(X$2:X64,LEFT(T$1,1))+COUNTIF(X$2:X64,RIGHT(T$1,1)),\"\"))","v":""},{"$f":"IF(COUNTBLANK(R64)=1,\"\",IF(OR(X64=LEFT(U$1,1),X64=RIGHT(U$1,1)),COUNTIF(X$2:X64,LEFT(U$1,1))+COUNTIF(X$2:X64,RIGHT(U$1,1)),\"\"))","v":""},{"$f":"IF(COUNTBLANK(R64)=1,\"\",IF(OR(X64=LEFT(V$1,1),X64=RIGHT(V$1,1)),COUNTIF(X$2:X64,LEFT(V$1,1))+COUNTIF(X$2:X64,RIGHT(V$1,1)),\"\"))","v":""},{"$f":"IF(COUNTBLANK(R64)=1,\"\",IF(OR(Y64=LEFT(W$1,1),Y64=RIGHT(W$1,1)),COUNTIF(Y$2:Y64,LEFT(W$1,1))+COUNTIF(Y$2:Y64,RIGHT(W$1,1)),\"\"))","v":""},{"$f":"IF(COUNTBLANK(R64)=1,\"\",INDEX(Registration!$C$2:$C$101,MATCH(R64,Registration!$B$2:$B$101,0)))","v":""},{"$f":"IF(COUNTBLANK(R64)=1,\"\",IF(COUNTBLANK(INDEX(Registration!$D$2:$D$101,MATCH(R64,Registration!$B$2:$B$101,0)))=1,\"\",INDEX(Registration!$D$2:$D$101,MATCH(R64,Registration!$B$2:$B$101,0))))","v":""}]
[{"$f":"IF(COUNTBLANK(Registration!B65)=1,\"\",Registration!B65)","v":""},null,null,null,null,null,null,null,null,null,null,"","","",null,"","","",null,{"$f":"IF(COUNTBLANK(R65)=1,\"\",IF(OR(X65=LEFT(T$1,1),X65=RIGHT(T$1,1)),COUNTIF(X$2:X65,LEFT(T$1,1))+COUNTIF(X$2:X65,RIGHT(T$1,1)),\"\"))","v":""},{"$f":"IF(COUNTBLANK(R65)=1,\"\",IF(OR(X65=LEFT(U$1,1),X65=RIGHT(U$1,1)),COUNTIF(X$2:X65,LEFT(U$1,1))+COUNTIF(X$2:X65,RIGHT(U$1,1)),\"\"))","v":""},{"$f":"IF(COUNTBLANK(R65)=1,\"\",IF(OR(X65=LEFT(V$1,1),X65=RIGHT(V$1,1)),COUNTIF(X$2:X65,LEFT(V$1,1))+COUNTIF(X$2:X65,RIGHT(V$1,1)),\"\"))","v":""},{"$f":"IF(COUNTBLANK(R65)=1,\"\",IF(OR(Y65=LEFT(W$1,1),Y65=RIGHT(W$1,1)),COUNTIF(Y$2:Y65,LEFT(W$1,1))+COUNTIF(Y$2:Y65,RIGHT(W$1,1)),\"\"))","v":""},{"$f":"IF(COUNTBLANK(R65)=1,\"\",INDEX(Registration!$C$2:$C$101,MATCH(R65,Registration!$B$2:$B$101,0)))","v":""},{"$f":"IF(COUNTBLANK(R65)=1,\"\",IF(COUNTBLANK(INDEX(Registration!$D$2:$D$101,MATCH(R65,Registration!$B$2:$B$101,0)))=1,\"\",INDEX(Registration!$D$2:$D$101,MATCH(R65,Registration!$B$2:$B$101,0))))","v":""}]
[{"$f":"IF(COUNTBLANK(Registration!B66)=1,\"\",Registration!B66)","v":""},null,null,null,null,null,null,null,null,null,null,"","","",null,"","","",null,{"$f":"IF(COUNTBLANK(R66)=1,\"\",IF(OR(X66=LEFT(T$1,1),X66=RIGHT(T$1,1)),COUNTIF(X$2:X66,LEFT(T$1,1))+COUNTIF(X$2:X66,RIGHT(T$1,1)),\"\"))","v":""},{"$f":"IF(COUNTBLANK(R66)=1,\"\",IF(OR(X66=LEFT(U$1,1),X66=RIGHT(U$1,1)),COUNTIF(X$2:X66,LEFT(U$1,1))+COUNTIF(X$2:X66,RIGHT(U$1,1)),\"\"))","v":""},{"$f":"IF(COUNTBLANK(R66)=1,\"\",IF(OR(X66=LEFT(V$1,1),X66=RIGHT(V$1,1)),COUNTIF(X$2:X66,LEFT(V$1,1))+COUNTIF(X$2:X66,RIGHT(V$1,1)),\"\"))","v":""},{"$f":"IF(COUNTBLANK(R66)=1,\"\",IF(OR(Y66=LEFT(W$1,1),Y66=RIGHT(W$1,1)),COUNTIF(Y$2:Y66,LEFT(W$1,1))+COUNTIF(Y$2:Y66,RIGHT(W$1,1)),\"\"))","v":""},{"$f":"IF(COUNTBLANK(R66)=1,\"\",INDEX(Registration!$C$2:$C$101,MATCH(R66,Registration!$B$2:$B$101,0)))","v":""},{"$f":"IF(COUNTBLANK(R66)=1,\"\",IF(COUNTBLANK(INDEX(Registration!$D$2:$D$101,MATCH(R66,Registration!$B$2:$B$101,0)))=1,\"\",INDEX(Registration!$D$2:$D$101,MATCH(R66,Registration!$B$2:$B$101,0))))","v":""}]
[{"$f":"IF(COUNTBLANK(Registration!B67)=1,\"\",Registration!B67)","v":""},null,null,null,null,null,null,null,null,null,null,"",{"$f":"IF(OR(COUNTBLANK($A67)=1,COUNTBLANK(L67)=1),\"\",RANK(L67,$L$2:$L$101,0))","v":""},{"$f":"IF(OR(COUNTBLANK($A67)=1,COUNTBLANK(L67)=1),\"\",placingpoints(M67,COUNTIF(M$2:M$101,\"=\"&M67)))","v":""},null,"","","",null,{"$f":"IF(COUNTBLANK(R67)=1,\"\",IF(OR(X67=LEFT(T$1,1),X67=RIGHT(T$1,1)),COUNTIF(X$2:X67,LEFT(T$1,1))+COUNTIF(X$2:X67,RIGHT(T$1,1)),\"\"))","v":""},{"$f":"IF(COUNTBLANK(R67)=1,\"\",IF(OR(X67=LEFT(U$1,1),X67=RIGHT(U$1,1)),COUNTIF(X$2:X67,LEFT(U$1,1))+COUNTIF(X$2:X67,RIGHT(U$1,1)),\"\"))","v":""},{"$f":"IF(COUNTBLANK(R67)=1,\"\",IF(OR(X67=LEFT(V$1,1),X67=RIGHT(V$1,1)),COUNTIF(X$2:X67,LEFT(V$1,1))+COUNTIF(X$2:X67,RIGHT(V$1,1)),\"\"))","v":""},{"$f":"IF(COUNTBLANK(R67)=1,\"\",IF(OR(Y67=LEFT(W$1,1),Y67=RIGHT(W$1,1)),COUNTIF(Y$2:Y67,LEFT(W$1,1))+COUNTIF(Y$2:Y67,RIGHT(W$1,1)),\"\"))","v":""},{"$f":"IF(COUNTBLANK(R67)=1,\"\",INDEX(Registration!$C$2:$C$101,MATCH(R67,Registration!$B$2:$B$101,0)))","v":""},{"$f":"IF(COUNTBLANK(R67)=1,\"\",IF(COUNTBLANK(INDEX(Registration!$D$2:$D$101,MATCH(R67,Registration!$B$2:$B$101,0)))=1,\"\",INDEX(Registration!$D$2:$D$101,MATCH(R67,Registration!$B$2:$B$101,0))))","v":""}]
[{"$f":"IF(COUNTBLANK(Registration!B68)=1,\"\",Registration!B68)","v":""},null,null,null,null,null,null,null,null,null,null,"","","",null,"","","",null,{"$f":"IF(COUNTBLANK(R68)=1,\"\",IF(OR(X68=LEFT(T$1,1),X68=RIGHT(T$1,1)),COUNTIF(X$2:X68,LEFT(T$1,1))+COUNTIF(X$2:X68,RIGHT(T$1,1)),\"\"))","v":""},{"$f":"IF(COUNTBLANK(R68)=1,\"\",IF(OR(X68=LEFT(U$1,1),X68=RIGHT(U$1,1)),COUNTIF(X$2:X68,LEFT(U$1,1))+COUNTIF(X$2:X68,RIGHT(U$1,1)),\"\"))","v":""},{"$f":"IF(COUNTBLANK(R68)=1,\"\",IF(OR(X68=LEFT(V$1,1),X68=RIGHT(V$1,1)),COUNTIF(X$2:X68,LEFT(V$1,1))+COUNTIF(X$2:X68,RIGHT(V$1,1)),\"\"))","v":""},{"$f":"IF(COUNTBLANK(R68)=1,\"\",IF(OR(Y68=LEFT(W$1,1),Y68=RIGHT(W$1,1)),COUNTIF(Y$2:Y68,LEFT(W$1,1))+COUNTIF(Y$2:Y68,RIGHT(W$1,1)),\"\"))","v":""},{"$f":"IF(COUNTBLANK(R68)=1,\"\",INDEX(Registration!$C$2:$C$101,MATCH(R68,Registration!$B$2:$B$101,0)))","v":""},{"$f":"IF(COUNTBLANK(R68)=1,\"\",IF(COUNTBLANK(INDEX(Registration!$D$2:$D$101,MATCH(R68,Registration!$B$2:$B$101,0)))=1,\"\",INDEX(Registration!$D$2:$D$101,MATCH(R68,Registration!$B$2:$B$101,0))))","v":""}]
[{"$f":"IF(COUNTBLANK(Registration!B69)=1,\"\",Registration!B69)","v":""},null,null,null,null,null,null,null,null,null,null,"","","",null,"","","",null,{"$f":"IF(COUNTBLANK(R69)=1,\"\",IF(OR(X69=LEFT(T$1,1),X69=RIGHT(T$1,1)),COUNTIF(X$2:X69,LEFT(T$1,1))+COUNTIF(X$2:X69,RIGHT(T$1,1)),\"\"))","v":""},{"$f":"IF(COUNTBLANK(R69)=1,\"\",IF(OR(X69=LEFT(U$1,1),X69=RIGHT(U$1,1)),COUNTIF(X$2:X69,LEFT(U$1,1))+COUNTIF(X$2:X69,RIGHT(U$1,1)),\"\"))","v":""},{"$f":"IF(COUNTBLANK(R69)=1,\"\",IF(OR(X69=LEFT(V$1,1),X69=RIGHT(V$1,1)),COUNTIF(X$2:X69,LEFT(V$1,1))+COUNTIF(X$2:X69,RIGHT(V$1,1)),\"\"))","v":""},{"$f":"IF(COUNTBLANK(R69)=1,\"\",IF(OR(Y69=LEFT(W$1,1),Y69=RIGHT(W$1,1)),COUNTIF(Y$2:Y69,LEFT(W$1,1))+COUNTIF(Y$2:Y69,RIGHT(W$1,1)),\"\"))","v":""},{"$f":"IF(COUNTBLANK(R69)=1,\"\",INDEX(Registration!$C$2:$C$101,MATCH(R69,Registration!$B$2:$B$101,0)))","v":""},{"$f":"IF(COUNTBLANK(R69)=1,\"\",IF(COUNTBLANK(INDEX(Registration!$D$2:$D$101,MATCH(R69,Registration!$B$2:$B$101,0)))=1,\"\",INDEX(Registration!$D$2:$D$101,MATCH(R69,Registration!$B$2:$B$101,0))))","v":""}]
[{"$f":"IF(COUNTBLANK(Registration!B70)=1,\"\",Registration!B70)","v":""},null,null,null,null,null,null,null,null,null,null,"","","",null,"","","",null,{"$f":"IF(COUNTBLANK(R70)=1,\"\",IF(OR(X70=LEFT(T$1,1),X70=RIGHT(T$1,1)),COUNTIF(X$2:X70,LEFT(T$1,1))+COUNTIF(X$2:X70,RIGHT(T$1,1)),\"\"))","v":""},{"$f":"IF(COUNTBLANK(R70)=1,\"\",IF(OR(X70=LEFT(U$1,1),X70=RIGHT(U$1,1)),COUNTIF(X$2:X70,LEFT(U$1,1))+COUNTIF(X$2:X70,RIGHT(U$1,1)),\"\"))","v":""},{"$f":"IF(COUNTBLANK(R70)=1,\"\",IF(OR(X70=LEFT(V$1,1),X70=RIGHT(V$1,1)),COUNTIF(X$2:X70,LEFT(V$1,1))+COUNTIF(X$2:X70,RIGHT(V$1,1)),\"\"))","v":""},{"$f":"IF(COUNTBLANK(R70)=1,\"\",IF(OR(Y70=LEFT(W$1,1),Y70=RIGHT(W$1,1)),COUNTIF(Y$2:Y70,LEFT(W$1,1))+COUNTIF(Y$2:Y70,RIGHT(W$1,1)),\"\"))","v":""},{"$f":"IF(COUNTBLANK(R70)=1,\"\",INDEX(Registration!$C$2:$C$101,MATCH(R70,Registration!$B$2:$B$101,0)))","v":""},{"$f":"IF(COUNTBLANK(R70)=1,\"\",IF(COUNTBLANK(INDEX(Registration!$D$2:$D$101,MATCH(R70,Registration!$B$2:$B$101,0)))=1,\"\",INDEX(Registration!$D$2:$D$101,MATCH(R70,Registration!$B$2:$B$101,0))))","v":""}]
[{"$f":"IF(COUNTBLANK(Registration!B71)=1,\"\",Registration!B71)","v":""},null,null,null,null,null,null,null,null,null,null,"","","",null,"","","",null,{"$f":"IF(COUNTBLANK(R71)=1,\"\",IF(OR(X71=LEFT(T$1,1),X71=RIGHT(T$1,1)),COUNTIF(X$2:X71,LEFT(T$1,1))+COUNTIF(X$2:X71,RIGHT(T$1,1)),\"\"))","v":""},{"$f":"IF(COUNTBLANK(R71)=1,\"\",IF(OR(X71=LEFT(U$1,1),X71=RIGHT(U$1,1)),COUNTIF(X$2:X71,LEFT(U$1,1))+COUNTIF(X$2:X71,RIGHT(U$1,1)),\"\"))","v":""},{"$f":"IF(COUNTBLANK(R71)=1,\"\",IF(OR(X71=LEFT(V$1,1),X71=RIGHT(V$1,1)),COUNTIF(X$2:X71,LEFT(V$1,1))+COUNTIF(X$2:X71,RIGHT(V$1,1)),\"\"))","v":""},{"$f":"IF(COUNTBLANK(R71)=1,\"\",IF(OR(Y71=LEFT(W$1,1),Y71=RIGHT(W$1,1)),COUNTIF(Y$2:Y71,LEFT(W$1,1))+COUNTIF(Y$2:Y71,RIGHT(W$1,1)),\"\"))","v":""},{"$f":"IF(COUNTBLANK(R71)=1,\"\",INDEX(Registration!$C$2:$C$101,MATCH(R71,Registration!$B$2:$B$101,0)))","v":""},{"$f":"IF(COUNTBLANK(R71)=1,\"\",IF(COUNTBLANK(INDEX(Registration!$D$2:$D$101,MATCH(R71,Registration!$B$2:$B$101,0)))=1,\"\",INDEX(Registration!$D$2:$D$101,MATCH(R71,Registration!$B$2:$B$101,0))))","v":""}]
[{"$f":"IF(COUNTBLANK(Registration!B72)=1,\"\",Registration!B72)","v":""},null,null,null,null,null,null,null,null,null,null,"","","",null,"","","",null,{"$f":"IF(COUNTBLANK(R72)=1,\"\",IF(OR(X72=LEFT(T$1,1),X72=RIGHT(T$1,1)),COUNTIF(X$2:X72,LEFT(T$1,1))+COUNTIF(X$2:X72,RIGHT(T$1,1)),\"\"))","v":""},{"$f":"IF(COUNTBLANK(R72)=1,\"\",IF(OR(X72=LEFT(U$1,1),X72=RIGHT(U$1,1)),COUNTIF(X$2:X72,LEFT(U$1,1))+COUNTIF(X$2:X72,RIGHT(U$1,1)),\"\"))","v":""},{"$f":"IF(COUNTBLANK(R72)=1,\"\",IF(OR(X72=LEFT(V$1,1),X72=RIGHT(V$1,1)),COUNTIF(X$2:X72,LEFT(V$1,1))+COUNTIF(X$2:X72,RIGHT(V$1,1)),\"\"))","v":""},{"$f":"IF(COUNTBLANK(R72)=1,\"\",IF(OR(Y72=LEFT(W$1,1),Y72=RIGHT(W$1,1)),COUNTIF(Y$2:Y72,LEFT(W$1,1))+COUNTIF(Y$2:Y72,RIGHT(W$1,1)),\"\"))","v":""},{"$f":"IF(COUNTBLANK(R72)=1,\"\",INDEX(Registration!$C$2:$C$101,MATCH(R72,Registration!$B$2:$B$101,0)))","v":""},{"$f":"IF(COUNTBLANK(R72)=1,\"\",IF(COUNTBLANK(INDEX(Registration!$D$2:$D$101,MATCH(R72,Registration!$B$2:$B$101,0)))=1,\"\",INDEX(Registration!$D$2:$D$101,MATCH(R72,Registration!$B$2:$B$101,0))))","v":""}]
[{"$f":"IF(COUNTBLANK(Registration!B73)=1,\"\",Registration!B73)","v":""},null,null,null,null,null,null,null,null,null,null,{"$f":"IF(OR(COUNTBLANK($A73)=1,COUNTBLANK(B73:K73)=10),\"\",SUM(B73:K73))","v":""},"","",null,"","","",null,{"$f":"IF(COUNTBLANK(R73)=1,\"\",IF(OR(X73=LEFT(T$1,1),X73=RIGHT(T$1,1)),COUNTIF(X$2:X73,LEFT(T$1,1))+COUNTIF(X$2:X73,RIGHT(T$1,1)),\"\"))","v":""},{"$f":"IF(COUNTBLANK(R73)=1,\"\",IF(OR(X73=LEFT(U$1,1),X73=RIGHT(U$1,1)),COUNTIF(X$2:X73,LEFT(U$1,1))+COUNTIF(X$2:X73,RIGHT(U$1,1)),\"\"))","v":""},{"$f":"IF(COUNTBLANK(R73)=1,\"\",IF(OR(X73=LEFT(V$1,1),X73=RIGHT(V$1,1)),COUNTIF(X$2:X73,LEFT(V$1,1))+COUNTIF(X$2:X73,RIGHT(V$1,1)),\"\"))","v":""},{"$f":"IF(COUNTBLANK(R73)=1,\"\",IF(OR(Y73=LEFT(W$1,1),Y73=RIGHT(W$1,1)),COUNTIF(Y$2:Y73,LEFT(W$1,1))+COUNTIF(Y$2:Y73,RIGHT(W$1,1)),\"\"))","v":""},{"$f":"IF(COUNTBLANK(R73)=1,\"\",INDEX(Registration!$C$2:$C$101,MATCH(R73,Registration!$B$2:$B$101,0)))","v":""},{"$f":"IF(COUNTBLANK(R73)=1,\"\",IF(COUNTBLANK(INDEX(Registration!$D$2:$D$101,MATCH(R73,Registration!$B$2:$B$101,0)))=1,\"\",INDEX(Registration!$D$2:$D$101,MATCH(R73,Registration!$B$2:$B$101,0))))","v":""}]
[{"$f":"IF(COUNTBLANK(Registration!B74)=1,\"\",Registration!B74)","v":""},null,null,null,null,null,null,null,null,null,null,"","","",null,"","","",null,{"$f":"IF(COUNTBLANK(R74)=1,\"\",IF(OR(X74=LEFT(T$1,1),X74=RIGHT(T$1,1)),COUNTIF(X$2:X74,LEFT(T$1,1))+COUNTIF(X$2:X74,RIGHT(T$1,1)),\"\"))","v":""},{"$f":"IF(COUNTBLANK(R74)=1,\"\",IF(OR(X74=LEFT(U$1,1),X74=RIGHT(U$1,1)),COUNTIF(X$2:X74,LEFT(U$1,1))+COUNTIF(X$2:X74,RIGHT(U$1,1)),\"\"))","v":""},{"$f":"IF(COUNTBLANK(R74)=1,\"\",IF(OR(X74=LEFT(V$1,1),X74=RIGHT(V$1,1)),COUNTIF(X$2:X74,LEFT(V$1,1))+COUNTIF(X$2:X74,RIGHT(V$1,1)),\"\"))","v":""},{"$f":"IF(COUNTBLANK(R74)=1,\"\",IF(OR(Y74=LEFT(W$1,1),Y74=RIGHT(W$1,1)),COUNTIF(Y$2:Y74,LEFT(W$1,1))+COUNTIF(Y$2:Y74,RIGHT(W$1,1)),\"\"))","v":""},{"$f":"IF(COUNTBLANK(R74)=1,\"\",INDEX(Registration!$C$2:$C$101,MATCH(R74,Registration!$B$2:$B$101,0)))","v":""},{"$f":"IF(COUNTBLANK(R74)=1,\"\",IF(COUNTBLANK(INDEX(Registration!$D$2:$D$101,MATCH(R74,Registration!$B$2:$B$101,0)))=1,\"\",INDEX(Registration!$D$2:$D$101,MATCH(R74,Registration!$B$2:$B$101,0))))","v":""}]
[{"$f":"IF(COUNTBLANK(Registration!B75)=1,\"\",Registration!B75)","v":""},null,null,null,null,null,null,null,null,null,null,"","","",null,"","","",null,{"$f":"IF(COUNTBLANK(R75)=1,\"\",IF(OR(X75=LEFT(T$1,1),X75=RIGHT(T$1,1)),COUNTIF(X$2:X75,LEFT(T$1,1))+COUNTIF(X$2:X75,RIGHT(T$1,1)),\"\"))","v":""},{"$f":"IF(COUNTBLANK(R75)=1,\"\",IF(OR(X75=LEFT(U$1,1),X75=RIGHT(U$1,1)),COUNTIF(X$2:X75,LEFT(U$1,1))+COUNTIF(X$2:X75,RIGHT(U$1,1)),\"\"))","v":""},{"$f":"IF(COUNTBLANK(R75)=1,\"\",IF(OR(X75=LEFT(V$1,1),X75=RIGHT(V$1,1)),COUNTIF(X$2:X75,LEFT(V$1,1))+COUNTIF(X$2:X75,RIGHT(V$1,1)),\"\"))","v":""},{"$f":"IF(COUNTBLANK(R75)=1,\"\",IF(OR(Y75=LEFT(W$1,1),Y75=RIGHT(W$1,1)),COUNTIF(Y$2:Y75,LEFT(W$1,1))+COUNTIF(Y$2:Y75,RIGHT(W$1,1)),\"\"))","v":""},{"$f":"IF(COUNTBLANK(R75)=1,\"\",INDEX(Registration!$C$2:$C$101,MATCH(R75,Registration!$B$2:$B$101,0)))","v":""},{"$f":"IF(COUNTBLANK(R75)=1,\"\",IF(COUNTBLANK(INDEX(Registration!$D$2:$D$101,MATCH(R75,Registration!$B$2:$B$101,0)))=1,\"\",INDEX(Registration!$D$2:$D$101,MATCH(R75,Registration!$B$2:$B$101,0))))","v":""}]
[{"$f":"IF(COUNTBLANK(Registration!B76)=1,\"\",Registration!B76)","v":""},null,null,null,null,null,null,null,null,null,null,"","","",null,"","","",null,{"$f":"IF(COUNTBLANK(R76)=1,\"\",IF(OR(X76=LEFT(T$1,1),X76=RIGHT(T$1,1)),COUNTIF(X$2:X76,LEFT(T$1,1))+COUNTIF(X$2:X76,RIGHT(T$1,1)),\"\"))","v":""},{"$f":"IF(COUNTBLANK(R76)=1,\"\",IF(OR(X76=LEFT(U$1,1),X76=RIGHT(U$1,1)),COUNTIF(X$2:X76,LEFT(U$1,1))+COUNTIF(X$2:X76,RIGHT(U$1,1)),\"\"))","v":""},{"$f":"IF(COUNTBLANK(R76)=1,\"\",IF(OR(X76=LEFT(V$1,1),X76=RIGHT(V$1,1)),COUNTIF(X$2:X76,LEFT(V$1,1))+COUNTIF(X$2:X76,RIGHT(V$1,1)),\"\"))","v":""},{"$f":"IF(COUNTBLANK(R76)=1,\"\",IF(OR(Y76=LEFT(W$1,1),Y76=RIGHT(W$1,1)),COUNTIF(Y$2:Y76,LEFT(W$1,1))+COUNTIF(Y$2:Y76,RIGHT(W$1,1)),\"\"))","v":""},{"$f":"IF(COUNTBLANK(R76)=1,\"\",INDEX(Registration!$C$2:$C$101,MATCH(R76,Registration!$B$2:$B$101,0)))","v":""},{"$f":"IF(COUNTBLANK(R76)=1,\"\",IF(COUNTBLANK(INDEX(Registration!$D$2:$D$101,MATCH(R76,Registration!$B$2:$B$101,0)))=1,\"\",INDEX(Registration!$D$2:$D$101,MATCH(R76,Registration!$B$2:$B$101,0))))","v":""}]
[{"$f":"IF(COUNTBLANK(Registration!B77)=1,\"\",Registration!B77)","v":""},null,null,null,null,null,null,null,null,null,null,"","","",null,"","","",null,{"$f":"IF(COUNTBLANK(R77)=1,\"\",IF(OR(X77=LEFT(T$1,1),X77=RIGHT(T$1,1)),COUNTIF(X$2:X77,LEFT(T$1,1))+COUNTIF(X$2:X77,RIGHT(T$1,1)),\"\"))","v":""},{"$f":"IF(COUNTBLANK(R77)=1,\"\",IF(OR(X77=LEFT(U$1,1),X77=RIGHT(U$1,1)),COUNTIF(X$2:X77,LEFT(U$1,1))+COUNTIF(X$2:X77,RIGHT(U$1,1)),\"\"))","v":""},{"$f":"IF(COUNTBLANK(R77)=1,\"\",IF(OR(X77=LEFT(V$1,1),X77=RIGHT(V$1,1)),COUNTIF(X$2:X77,LEFT(V$1,1))+COUNTIF(X$2:X77,RIGHT(V$1,1)),\"\"))","v":""},{"$f":"IF(COUNTBLANK(R77)=1,\"\",IF(OR(Y77=LEFT(W$1,1),Y77=RIGHT(W$1,1)),COUNTIF(Y$2:Y77,LEFT(W$1,1))+COUNTIF(Y$2:Y77,RIGHT(W$1,1)),\"\"))","v":""},{"$f":"IF(COUNTBLANK(R77)=1,\"\",INDEX(Registration!$C$2:$C$101,MATCH(R77,Registration!$B$2:$B$101,0)))","v":""},{"$f":"IF(COUNTBLANK(R77)=1,\"\",IF(COUNTBLANK(INDEX(Registration!$D$2:$D$101,MATCH(R77,Registration!$B$2:$B$101,0)))=1,\"\",INDEX(Registration!$D$2:$D$101,MATCH(R77,Registration!$B$2:$B$101,0))))","v":""}]
[{"$f":"IF(COUNTBLANK(Registration!B78)=1,\"\",Registration!B78)","v":""},null,null,null,null,null,null,null,null,null,null,"","","",null,"","","",null,{"$f":"IF(COUNTBLANK(R78)=1,\"\",IF(OR(X78=LEFT(T$1,1),X78=RIGHT(T$1,1)),COUNTIF(X$2:X78,LEFT(T$1,1))+COUNTIF(X$2:X78,RIGHT(T$1,1)),\"\"))","v":""},{"$f":"IF(COUNTBLANK(R78)=1,\"\",IF(OR(X78=LEFT(U$1,1),X78=RIGHT(U$1,1)),COUNTIF(X$2:X78,LEFT(U$1,1))+COUNTIF(X$2:X78,RIGHT(U$1,1)),\"\"))","v":""},{"$f":"IF(COUNTBLANK(R78)=1,\"\",IF(OR(X78=LEFT(V$1,1),X78=RIGHT(V$1,1)),COUNTIF(X$2:X78,LEFT(V$1,1))+COUNTIF(X$2:X78,RIGHT(V$1,1)),\"\"))","v":""},{"$f":"IF(COUNTBLANK(R78)=1,\"\",IF(OR(Y78=LEFT(W$1,1),Y78=RIGHT(W$1,1)),COUNTIF(Y$2:Y78,LEFT(W$1,1))+COUNTIF(Y$2:Y78,RIGHT(W$1,1)),\"\"))","v":""},{"$f":"IF(COUNTBLANK(R78)=1,\"\",INDEX(Registration!$C$2:$C$101,MATCH(R78,Registration!$B$2:$B$101,0)))","v":""},{"$f":"IF(COUNTBLANK(R78)=1,\"\",IF(COUNTBLANK(INDEX(Registration!$D$2:$D$101,MATCH(R78,Registration!$B$2:$B$101,0)))=1,\"\",INDEX(Registration!$D$2:$D$101,MATCH(R78,Registration!$B$2:$B$101,0))))","v":""}]
[{"$f":"IF(COUNTBLANK(Registration!B79)=1,\"\",Registration!B79)","v":""},null,null,null,null,null,null,null,null,null,null,"","","",null,"","","",null,{"$f":"IF(COUNTBLANK(R79)=1,\"\",IF(OR(X79=LEFT(T$1,1),X79=RIGHT(T$1,1)),COUNTIF(X$2:X79,LEFT(T$1,1))+COUNTIF(X$2:X79,RIGHT(T$1,1)),\"\"))","v":""},{"$f":"IF(COUNTBLANK(R79)=1,\"\",IF(OR(X79=LEFT(U$1,1),X79=RIGHT(U$1,1)),COUNTIF(X$2:X79,LEFT(U$1,1))+COUNTIF(X$2:X79,RIGHT(U$1,1)),\"\"))","v":""},{"$f":"IF(COUNTBLANK(R79)=1,\"\",IF(OR(X79=LEFT(V$1,1),X79=RIGHT(V$1,1)),COUNTIF(X$2:X79,LEFT(V$1,1))+COUNTIF(X$2:X79,RIGHT(V$1,1)),\"\"))","v":""},{"$f":"IF(COUNTBLANK(R79)=1,\"\",IF(OR(Y79=LEFT(W$1,1),Y79=RIGHT(W$1,1)),COUNTIF(Y$2:Y79,LEFT(W$1,1))+COUNTIF(Y$2:Y79,RIGHT(W$1,1)),\"\"))","v":""},{"$f":"IF(COUNTBLANK(R79)=1,\"\",INDEX(Registration!$C$2:$C$101,MATCH(R79,Registration!$B$2:$B$101,0)))","v":""},{"$f":"IF(COUNTBLANK(R79)=1,\"\",IF(COUNTBLANK(INDEX(Registration!$D$2:$D$101,MATCH(R79,Registration!$B$2:$B$101,0)))=1,\"\",INDEX(Registration!$D$2:$D$101,MATCH(R79,Registration!$B$2:$B$101,0))))","v":""}]
[{"$f":"IF(COUNTBLANK(Registration!B80)=1,\"\",Registration!B80)","v":""},null,null,null,null,null,null,null,null,null,null,"","","",null,"","","",null,{"$f":"IF(COUNTBLANK(R80)=1,\"\",IF(OR(X80=LEFT(T$1,1),X80=RIGHT(T$1,1)),COUNTIF(X$2:X80,LEFT(T$1,1))+COUNTIF(X$2:X80,RIGHT(T$1,1)),\"\"))","v":""},{"$f":"IF(COUNTBLANK(R80)=1,\"\",IF(OR(X80=LEFT(U$1,1),X80=RIGHT(U$1,1)),COUNTIF(X$2:X80,LEFT(U$1,1))+COUNTIF(X$2:X80,RIGHT(U$1,1)),\"\"))","v":""},{"$f":"IF(COUNTBLANK(R80)=1,\"\",IF(OR(X80=LEFT(V$1,1),X80=RIGHT(V$1,1)),COUNTIF(X$2:X80,LEFT(V$1,1))+COUNTIF(X$2:X80,RIGHT(V$1,1)),\"\"))","v":""},{"$f":"IF(COUNTBLANK(R80)=1,\"\",IF(OR(Y80=LEFT(W$1,1),Y80=RIGHT(W$1,1)),COUNTIF(Y$2:Y80,LEFT(W$1,1))+COUNTIF(Y$2:Y80,RIGHT(W$1,1)),\"\"))","v":""},{"$f":"IF(COUNTBLANK(R80)=1,\"\",INDEX(Registration!$C$2:$C$101,MATCH(R80,Registration!$B$2:$B$101,0)))","v":""},{"$f":"IF(COUNTBLANK(R80)=1,\"\",IF(COUNTBLANK(INDEX(Registration!$D$2:$D$101,MATCH(R80,Registration!$B$2:$B$101,0)))=1,\"\",INDEX(Registration!$D$2:$D$101,MATCH(R80,Registration!$B$2:$B$101,0))))","v":""}]
[{"$f":"IF(COUNTBLANK(Registration!B81)=1,\"\",Registration!B81)","v":""},null,null,null,null,null,null,null,null,null,null,"","","",null,"","","",null,{"$f":"IF(COUNTBLANK(R81)=1,\"\",IF(OR(X81=LEFT(T$1,1),X81=RIGHT(T$1,1)),COUNTIF(X$2:X81,LEFT(T$1,1))+COUNTIF(X$2:X81,RIGHT(T$1,1)),\"\"))","v":""},{"$f":"IF(COUNTBLANK(R81)=1,\"\",IF(OR(X81=LEFT(U$1,1),X81=RIGHT(U$1,1)),COUNTIF(X$2:X81,LEFT(U$1,1))+COUNTIF(X$2:X81,RIGHT(U$1,1)),\"\"))","v":""},{"$f":"IF(COUNTBLANK(R81)=1,\"\",IF(OR(X81=LEFT(V$1,1),X81=RIGHT(V$1,1)),COUNTIF(X$2:X81,LEFT(V$1,1))+COUNTIF(X$2:X81,RIGHT(V$1,1)),\"\"))","v":""},{"$f":"IF(COUNTBLANK(R81)=1,\"\",IF(OR(Y81=LEFT(W$1,1),Y81=RIGHT(W$1,1)),COUNTIF(Y$2:Y81,LEFT(W$1,1))+COUNTIF(Y$2:Y81,RIGHT(W$1,1)),\"\"))","v":""},{"$f":"IF(COUNTBLANK(R81)=1,\"\",INDEX(Registration!$C$2:$C$101,MATCH(R81,Registration!$B$2:$B$101,0)))","v":""},{"$f":"IF(COUNTBLANK(R81)=1,\"\",IF(COUNTBLANK(INDEX(Registration!$D$2:$D$101,MATCH(R81,Registration!$B$2:$B$101,0)))=1,\"\",INDEX(Registration!$D$2:$D$101,MATCH(R81,Registration!$B$2:$B$101,0))))","v":""}]
[{"$f":"IF(COUNTBLANK(Registration!B82)=1,\"\",Registration!B82)","v":""},null,null,null,null,null,null,null,null,null,null,"","","",null,"","","",null,{"$f":"IF(COUNTBLANK(R82)=1,\"\",IF(OR(X82=LEFT(T$1,1),X82=RIGHT(T$1,1)),COUNTIF(X$2:X82,LEFT(T$1,1))+COUNTIF(X$2:X82,RIGHT(T$1,1)),\"\"))","v":""},{"$f":"IF(COUNTBLANK(R82)=1,\"\",IF(OR(X82=LEFT(U$1,1),X82=RIGHT(U$1,1)),COUNTIF(X$2:X82,LEFT(U$1,1))+COUNTIF(X$2:X82,RIGHT(U$1,1)),\"\"))","v":""},{"$f":"IF(COUNTBLANK(R82)=1,\"\",IF(OR(X82=LEFT(V$1,1),X82=RIGHT(V$1,1)),COUNTIF(X$2:X82,LEFT(V$1,1))+COUNTIF(X$2:X82,RIGHT(V$1,1)),\"\"))","v":""},{"$f":"IF(COUNTBLANK(R82)=1,\"\",IF(OR(Y82=LEFT(W$1,1),Y82=RIGHT(W$1,1)),COUNTIF(Y$2:Y82,LEFT(W$1,1))+COUNTIF(Y$2:Y82,RIGHT(W$1,1)),\"\"))","v":""},{"$f":"IF(COUNTBLANK(R82)=1,\"\",INDEX(Registration!$C$2:$C$101,MATCH(R82,Registration!$B$2:$B$101,0)))","v":""},{"$f":"IF(COUNTBLANK(R82)=1,\"\",IF(COUNTBLANK(INDEX(Registration!$D$2:$D$101,MATCH(R82,Registration!$B$2:$B$101,0)))=1,\"\",INDEX(Registration!$D$2:$D$101,MATCH(R82,Registration!$B$2:$B$101,0))))","v":""}]
[{"$f":"IF(COUNTBLANK(Registration!B83)=1,\"\",Registration!B83)","v":""},null,null,null,null,null,null,null,null,null,null,"","","",null,"","","",null,{"$f":"IF(COUNTBLANK(R83)=1,\"\",IF(OR(X83=LEFT(T$1,1),X83=RIGHT(T$1,1)),COUNTIF(X$2:X83,LEFT(T$1,1))+COUNTIF(X$2:X83,RIGHT(T$1,1)),\"\"))","v":""},{"$f":"IF(COUNTBLANK(R83)=1,\"\",IF(OR(X83=LEFT(U$1,1),X83=RIGHT(U$1,1)),COUNTIF(X$2:X83,LEFT(U$1,1))+COUNTIF(X$2:X83,RIGHT(U$1,1)),\"\"))","v":""},{"$f":"IF(COUNTBLANK(R83)=1,\"\",IF(OR(X83=LEFT(V$1,1),X83=RIGHT(V$1,1)),COUNTIF(X$2:X83,LEFT(V$1,1))+COUNTIF(X$2:X83,RIGHT(V$1,1)),\"\"))","v":""},{"$f":"IF(COUNTBLANK(R83)=1,\"\",IF(OR(Y83=LEFT(W$1,1),Y83=RIGHT(W$1,1)),COUNTIF(Y$2:Y83,LEFT(W$1,1))+COUNTIF(Y$2:Y83,RIGHT(W$1,1)),\"\"))","v":""},{"$f":"IF(COUNTBLANK(R83)=1,\"\",INDEX(Registration!$C$2:$C$101,MATCH(R83,Registration!$B$2:$B$101,0)))","v":""},{"$f":"IF(COUNTBLANK(R83)=1,\"\",IF(COUNTBLANK(INDEX(Registration!$D$2:$D$101,MATCH(R83,Registration!$B$2:$B$101,0)))=1,\"\",INDEX(Registration!$D$2:$D$101,MATCH(R83,Registration!$B$2:$B$101,0))))","v":""}]
[{"$f":"IF(COUNTBLANK(Registration!B84)=1,\"\",Registration!B84)","v":""},null,null,null,null,null,null,null,null,null,null,"","","",null,"","","",null,{"$f":"IF(COUNTBLANK(R84)=1,\"\",IF(OR(X84=LEFT(T$1,1),X84=RIGHT(T$1,1)),COUNTIF(X$2:X84,LEFT(T$1,1))+COUNTIF(X$2:X84,RIGHT(T$1,1)),\"\"))","v":""},{"$f":"IF(COUNTBLANK(R84)=1,\"\",IF(OR(X84=LEFT(U$1,1),X84=RIGHT(U$1,1)),COUNTIF(X$2:X84,LEFT(U$1,1))+COUNTIF(X$2:X84,RIGHT(U$1,1)),\"\"))","v":""},{"$f":"IF(COUNTBLANK(R84)=1,\"\",IF(OR(X84=LEFT(V$1,1),X84=RIGHT(V$1,1)),COUNTIF(X$2:X84,LEFT(V$1,1))+COUNTIF(X$2:X84,RIGHT(V$1,1)),\"\"))","v":""},{"$f":"IF(COUNTBLANK(R84)=1,\"\",IF(OR(Y84=LEFT(W$1,1),Y84=RIGHT(W$1,1)),COUNTIF(Y$2:Y84,LEFT(W$1,1))+COUNTIF(Y$2:Y84,RIGHT(W$1,1)),\"\"))","v":""},{"$f":"IF(COUNTBLANK(R84)=1,\"\",INDEX(Registration!$C$2:$C$101,MATCH(R84,Registration!$B$2:$B$101,0)))","v":""},{"$f":"IF(COUNTBLANK(R84)=1,\"\",IF(COUNTBLANK(INDEX(Registration!$D$2:$D$101,MATCH(R84,Registration!$B$2:$B$101,0)))=1,\"\",INDEX(Registration!$D$2:$D$101,MATCH(R84,Registration!$B$2:$B$101,0))))","v":""}]
[{"$f":"IF(COUNTBLANK(Registration!B85)=1,\"\",Registration!B85)","v":""},null,null,null,null,null,null,null,null,null,null,"","","",null,"","","",null,{"$f":"IF(COUNTBLANK(R85)=1,\"\",IF(OR(X85=LEFT(T$1,1),X85=RIGHT(T$1,1)),COUNTIF(X$2:X85,LEFT(T$1,1))+COUNTIF(X$2:X85,RIGHT(T$1,1)),\"\"))","v":""},{"$f":"IF(COUNTBLANK(R85)=1,\"\",IF(OR(X85=LEFT(U$1,1),X85=RIGHT(U$1,1)),COUNTIF(X$2:X85,LEFT(U$1,1))+COUNTIF(X$2:X85,RIGHT(U$1,1)),\"\"))","v":""},{"$f":"IF(COUNTBLANK(R85)=1,\"\",IF(OR(X85=LEFT(V$1,1),X85=RIGHT(V$1,1)),COUNTIF(X$2:X85,LEFT(V$1,1))+COUNTIF(X$2:X85,RIGHT(V$1,1)),\"\"))","v":""},{"$f":"IF(COUNTBLANK(R85)=1,\"\",IF(OR(Y85=LEFT(W$1,1),Y85=RIGHT(W$1,1)),COUNTIF(Y$2:Y85,LEFT(W$1,1))+COUNTIF(Y$2:Y85,RIGHT(W$1,1)),\"\"))","v":""},{"$f":"IF(COUNTBLANK(R85)=1,\"\",INDEX(Registration!$C$2:$C$101,MATCH(R85,Registration!$B$2:$B$101,0)))","v":""},{"$f":"IF(COUNTBLANK(R85)=1,\"\",IF(COUNTBLANK(INDEX(Registration!$D$2:$D$101,MATCH(R85,Registration!$B$2:$B$101,0)))=1,\"\",INDEX(Registration!$D$2:$D$101,MATCH(R85,Registration!$B$2:$B$101,0))))","v":""}]
[{"$f":"IF(COUNTBLANK(Registration!B86)=1,\"\",Registration!B86)","v":""},null,null,null,null,null,null,null,null,null,null,"","","",null,"","","",null,{"$f":"IF(COUNTBLANK(R86)=1,\"\",IF(OR(X86=LEFT(T$1,1),X86=RIGHT(T$1,1)),COUNTIF(X$2:X86,LEFT(T$1,1))+COUNTIF(X$2:X86,RIGHT(T$1,1)),\"\"))","v":""},{"$f":"IF(COUNTBLANK(R86)=1,\"\",IF(OR(X86=LEFT(U$1,1),X86=RIGHT(U$1,1)),COUNTIF(X$2:X86,LEFT(U$1,1))+COUNTIF(X$2:X86,RIGHT(U$1,1)),\"\"))","v":""},{"$f":"IF(COUNTBLANK(R86)=1,\"\",IF(OR(X86=LEFT(V$1,1),X86=RIGHT(V$1,1)),COUNTIF(X$2:X86,LEFT(V$1,1))+COUNTIF(X$2:X86,RIGHT(V$1,1)),\"\"))","v":""},{"$f":"IF(COUNTBLANK(R86)=1,\"\",IF(OR(Y86=LEFT(W$1,1),Y86=RIGHT(W$1,1)),COUNTIF(Y$2:Y86,LEFT(W$1,1))+COUNTIF(Y$2:Y86,RIGHT(W$1,1)),\"\"))","v":""},{"$f":"IF(COUNTBLANK(R86)=1,\"\",INDEX(Registration!$C$2:$C$101,MATCH(R86,Registration!$B$2:$B$101,0)))","v":""},{"$f":"IF(COUNTBLANK(R86)=1,\"\",IF(COUNTBLANK(INDEX(Registration!$D$2:$D$101,MATCH(R86,Registration!$B$2:$B$101,0)))=1,\"\",INDEX(Registration!$D$2:$D$101,MATCH(R86,Registration!$B$2:$B$101,0))))","v":""}]
[{"$f":"IF(COUNTBLANK(Registration!B87)=1,\"\",Registration!B87)","v":""},null,null,null,null,null,null,null,null,null,null,"","","",null,"","","",null,{"$f":"IF(COUNTBLANK(R87)=1,\"\",IF(OR(X87=LEFT(T$1,1),X87=RIGHT(T$1,1)),COUNTIF(X$2:X87,LEFT(T$1,1))+COUNTIF(X$2:X87,RIGHT(T$1,1)),\"\"))","v":""},{"$f":"IF(COUNTBLANK(R87)=1,\"\",IF(OR(X87=LEFT(U$1,1),X87=RIGHT(U$1,1)),COUNTIF(X$2:X87,LEFT(U$1,1))+COUNTIF(X$2:X87,RIGHT(U$1,1)),\"\"))","v":""},{"$f":"IF(COUNTBLANK(R87)=1,\"\",IF(OR(X87=LEFT(V$1,1),X87=RIGHT(V$1,1)),COUNTIF(X$2:X87,LEFT(V$1,1))+COUNTIF(X$2:X87,RIGHT(V$1,1)),\"\"))","v":""},{"$f":"IF(COUNTBLANK(R87)=1,\"\",IF(OR(Y87=LEFT(W$1,1),Y87=RIGHT(W$1,1)),COUNTIF(Y$2:Y87,LEFT(W$1,1))+COUNTIF(Y$2:Y87,RIGHT(W$1,1)),\"\"))","v":""},{"$f":"IF(COUNTBLANK(R87)=1,\"\",INDEX(Registration!$C$2:$C$101,MATCH(R87,Registration!$B$2:$B$101,0)))","v":""},{"$f":"IF(COUNTBLANK(R87)=1,\"\",IF(COUNTBLANK(INDEX(Registration!$D$2:$D$101,MATCH(R87,Registration!$B$2:$B$101,0)))=1,\"\",INDEX(Registration!$D$2:$D$101,MATCH(R87,Registration!$B$2:$B$101,0))))","v":""}]
[{"$f":"IF(COUNTBLANK(Registration!B88)=1,\"\",Registration!B88)","v":""},null,null,null,null,null,null,null,null,null,null,"","","",null,"","","",null,{"$f":"IF(COUNTBLANK(R88)=1,\"\",IF(OR(X88=LEFT(T$1,1),X88=RIGHT(T$1,1)),COUNTIF(X$2:X88,LEFT(T$1,1))+COUNTIF(X$2:X88,RIGHT(T$1,1)),\"\"))","v":""},{"$f":"IF(COUNTBLANK(R88)=1,\"\",IF(OR(X88=LEFT(U$1,1),X88=RIGHT(U$1,1)),COUNTIF(X$2:X88,LEFT(U$1,1))+COUNTIF(X$2:X88,RIGHT(U$1,1)),\"\"))","v":""},{"$f":"IF(COUNTBLANK(R88)=1,\"\",IF(OR(X88=LEFT(V$1,1),X88=RIGHT(V$1,1)),COUNTIF(X$2:X88,LEFT(V$1,1))+COUNTIF(X$2:X88,RIGHT(V$1,1)),\"\"))","v":""},{"$f":"IF(COUNTBLANK(R88)=1,\"\",IF(OR(Y88=LEFT(W$1,1),Y88=RIGHT(W$1,1)),COUNTIF(Y$2:Y88,LEFT(W$1,1))+COUNTIF(Y$2:Y88,RIGHT(W$1,1)),\"\"))","v":""},{"$f":"IF(COUNTBLANK(R88)=1,\"\",INDEX(Registration!$C$2:$C$101,MATCH(R88,Registration!$B$2:$B$101,0)))","v":""},{"$f":"IF(COUNTBLANK(R88)=1,\"\",IF(COUNTBLANK(INDEX(Registration!$D$2:$D$101,MATCH(R88,Registration!$B$2:$B$101,0)))=1,\"\",INDEX(Registration!$D$2:$D$101,MATCH(R88,Registration!$B$2:$B$101,0))))","v":""}]
[{"$f":"IF(COUNTBLANK(Registration!B89)=1,\"\",Registration!B89)","v":""},null,null,null,null,null,null,null,null,null,null,"","","",null,"","","",null,{"$f":"IF(COUNTBLANK(R89)=1,\"\",IF(OR(X89=LEFT(T$1,1),X89=RIGHT(T$1,1)),COUNTIF(X$2:X89,LEFT(T$1,1))+COUNTIF(X$2:X89,RIGHT(T$1,1)),\"\"))","v":""},{"$f":"IF(COUNTBLANK(R89)=1,\"\",IF(OR(X89=LEFT(U$1,1),X89=RIGHT(U$1,1)),COUNTIF(X$2:X89,LEFT(U$1,1))+COUNTIF(X$2:X89,RIGHT(U$1,1)),\"\"))","v":""},{"$f":"IF(COUNTBLANK(R89)=1,\"\",IF(OR(X89=LEFT(V$1,1),X89=RIGHT(V$1,1)),COUNTIF(X$2:X89,LEFT(V$1,1))+COUNTIF(X$2:X89,RIGHT(V$1,1)),\"\"))","v":""},{"$f":"IF(COUNTBLANK(R89)=1,\"\",IF(OR(Y89=LEFT(W$1,1),Y89=RIGHT(W$1,1)),COUNTIF(Y$2:Y89,LEFT(W$1,1))+COUNTIF(Y$2:Y89,RIGHT(W$1,1)),\"\"))","v":""},{"$f":"IF(COUNTBLANK(R89)=1,\"\",INDEX(Registration!$C$2:$C$101,MATCH(R89,Registration!$B$2:$B$101,0)))","v":""},{"$f":"IF(COUNTBLANK(R89)=1,\"\",IF(COUNTBLANK(INDEX(Registration!$D$2:$D$101,MATCH(R89,Registration!$B$2:$B$101,0)))=1,\"\",INDEX(Registration!$D$2:$D$101,MATCH(R89,Registration!$B$2:$B$101,0))))","v":""}]
[{"$f":"IF(COUNTBLANK(Registration!B90)=1,\"\",Registration!B90)","v":""},null,null,null,null,null,null,null,null,null,null,"","","",null,"","","",null,{"$f":"IF(COUNTBLANK(R90)=1,\"\",IF(OR(X90=LEFT(T$1,1),X90=RIGHT(T$1,1)),COUNTIF(X$2:X90,LEFT(T$1,1))+COUNTIF(X$2:X90,RIGHT(T$1,1)),\"\"))","v":""},{"$f":"IF(COUNTBLANK(R90)=1,\"\",IF(OR(X90=LEFT(U$1,1),X90=RIGHT(U$1,1)),COUNTIF(X$2:X90,LEFT(U$1,1))+COUNTIF(X$2:X90,RIGHT(U$1,1)),\"\"))","v":""},{"$f":"IF(COUNTBLANK(R90)=1,\"\",IF(OR(X90=LEFT(V$1,1),X90=RIGHT(V$1,1)),COUNTIF(X$2:X90,LEFT(V$1,1))+COUNTIF(X$2:X90,RIGHT(V$1,1)),\"\"))","v":""},{"$f":"IF(COUNTBLANK(R90)=1,\"\",IF(OR(Y90=LEFT(W$1,1),Y90=RIGHT(W$1,1)),COUNTIF(Y$2:Y90,LEFT(W$1,1))+COUNTIF(Y$2:Y90,RIGHT(W$1,1)),\"\"))","v":""},{"$f":"IF(COUNTBLANK(R90)=1,\"\",INDEX(Registration!$C$2:$C$101,MATCH(R90,Registration!$B$2:$B$101,0)))","v":""},{"$f":"IF(COUNTBLANK(R90)=1,\"\",IF(COUNTBLANK(INDEX(Registration!$D$2:$D$101,MATCH(R90,Registration!$B$2:$B$101,0)))=1,\"\",INDEX(Registration!$D$2:$D$101,MATCH(R90,Registration!$B$2:$B$101,0))))","v":""}]
[{"$f":"IF(COUNTBLANK(Registration!B91)=1,\"\",Registration!B91)","v":""},null,null,null,null,null,null,null,null,null,null,"","","",null,"","","",null,{"$f":"IF(COUNTBLANK(R91)=1,\"\",IF(OR(X91=LEFT(T$1,1),X91=RIGHT(T$1,1)),COUNTIF(X$2:X91,LEFT(T$1,1))+COUNTIF(X$2:X91,RIGHT(T$1,1)),\"\"))","v":""},{"$f":"IF(COUNTBLANK(R91)=1,\"\",IF(OR(X91=LEFT(U$1,1),X91=RIGHT(U$1,1)),COUNTIF(X$2:X91,LEFT(U$1,1))+COUNTIF(X$2:X91,RIGHT(U$1,1)),\"\"))","v":""},{"$f":"IF(COUNTBLANK(R91)=1,\"\",IF(OR(X91=LEFT(V$1,1),X91=RIGHT(V$1,1)),COUNTIF(X$2:X91,LEFT(V$1,1))+COUNTIF(X$2:X91,RIGHT(V$1,1)),\"\"))","v":""},{"$f":"IF(COUNTBLANK(R91)=1,\"\",IF(OR(Y91=LEFT(W$1,1),Y91=RIGHT(W$1,1)),COUNTIF(Y$2:Y91,LEFT(W$1,1))+COUNTIF(Y$2:Y91,RIGHT(W$1,1)),\"\"))","v":""},{"$f":"IF(COUNTBLANK(R91)=1,\"\",INDEX(Registration!$C$2:$C$101,MATCH(R91,Registration!$B$2:$B$101,0)))","v":""},{"$f":"IF(COUNTBLANK(R91)=1,\"\",IF(COUNTBLANK(INDEX(Registration!$D$2:$D$101,MATCH(R91,Registration!$B$2:$B$101,0)))=1,\"\",INDEX(Registration!$D$2:$D$101,MATCH(R91,Registration!$B$2:$B$101,0))))","v":""}]
[{"$f":"IF(COUNTBLANK(Registration!B92)=1,\"\",Registration!B92)","v":""},null,null,null,null,null,null,null,null,null,null,"","","",null,"","","",null,{"$f":"IF(COUNTBLANK(R92)=1,\"\",IF(OR(X92=LEFT(T$1,1),X92=RIGHT(T$1,1)),COUNTIF(X$2:X92,LEFT(T$1,1))+COUNTIF(X$2:X92,RIGHT(T$1,1)),\"\"))","v":""},{"$f":"IF(COUNTBLANK(R92)=1,\"\",IF(OR(X92=LEFT(U$1,1),X92=RIGHT(U$1,1)),COUNTIF(X$2:X92,LEFT(U$1,1))+COUNTIF(X$2:X92,RIGHT(U$1,1)),\"\"))","v":""},{"$f":"IF(COUNTBLANK(R92)=1,\"\",IF(OR(X92=LEFT(V$1,1),X92=RIGHT(V$1,1)),COUNTIF(X$2:X92,LEFT(V$1,1))+COUNTIF(X$2:X92,RIGHT(V$1,1)),\"\"))","v":""},{"$f":"IF(COUNTBLANK(R92)=1,\"\",IF(OR(Y92=LEFT(W$1,1),Y92=RIGHT(W$1,1)),COUNTIF(Y$2:Y92,LEFT(W$1,1))+COUNTIF(Y$2:Y92,RIGHT(W$1,1)),\"\"))","v":""},{"$f":"IF(COUNTBLANK(R92)=1,\"\",INDEX(Registration!$C$2:$C$101,MATCH(R92,Registration!$B$2:$B$101,0)))","v":""},{"$f":"IF(COUNTBLANK(R92)=1,\"\",IF(COUNTBLANK(INDEX(Registration!$D$2:$D$101,MATCH(R92,Registration!$B$2:$B$101,0)))=1,\"\",INDEX(Registration!$D$2:$D$101,MATCH(R92,Registration!$B$2:$B$101,0))))","v":""}]
[{"$f":"IF(COUNTBLANK(Registration!B93)=1,\"\",Registration!B93)","v":""},null,null,null,null,null,null,null,null,null,null,"","","",null,"","","",null,{"$f":"IF(COUNTBLANK(R93)=1,\"\",IF(OR(X93=LEFT(T$1,1),X93=RIGHT(T$1,1)),COUNTIF(X$2:X93,LEFT(T$1,1))+COUNTIF(X$2:X93,RIGHT(T$1,1)),\"\"))","v":""},{"$f":"IF(COUNTBLANK(R93)=1,\"\",IF(OR(X93=LEFT(U$1,1),X93=RIGHT(U$1,1)),COUNTIF(X$2:X93,LEFT(U$1,1))+COUNTIF(X$2:X93,RIGHT(U$1,1)),\"\"))","v":""},{"$f":"IF(COUNTBLANK(R93)=1,\"\",IF(OR(X93=LEFT(V$1,1),X93=RIGHT(V$1,1)),COUNTIF(X$2:X93,LEFT(V$1,1))+COUNTIF(X$2:X93,RIGHT(V$1,1)),\"\"))","v":""},{"$f":"IF(COUNTBLANK(R93)=1,\"\",IF(OR(Y93=LEFT(W$1,1),Y93=RIGHT(W$1,1)),COUNTIF(Y$2:Y93,LEFT(W$1,1))+COUNTIF(Y$2:Y93,RIGHT(W$1,1)),\"\"))","v":""},{"$f":"IF(COUNTBLANK(R93)=1,\"\",INDEX(Registration!$C$2:$C$101,MATCH(R93,Registration!$B$2:$B$101,0)))","v":""},{"$f":"IF(COUNTBLANK(R93)=1,\"\",IF(COUNTBLANK(INDEX(Registration!$D$2:$D$101,MATCH(R93,Registration!$B$2:$B$101,0)))=1,\"\",INDEX(Registration!$D$2:$D$101,MATCH(R93,Registration!$B$2:$B$101,0))))","v":""}]
[{"$f":"IF(COUNTBLANK(Registration!B94)=1,\"\",Registration!B94)","v":""},null,null,null,null,null,null,null,null,null,null,"","","",null,"","","",null,{"$f":"IF(COUNTBLANK(R94)=1,\"\",IF(OR(X94=LEFT(T$1,1),X94=RIGHT(T$1,1)),COUNTIF(X$2:X94,LEFT(T$1,1))+COUNTIF(X$2:X94,RIGHT(T$1,1)),\"\"))","v":""},{"$f":"IF(COUNTBLANK(R94)=1,\"\",IF(OR(X94=LEFT(U$1,1),X94=RIGHT(U$1,1)),COUNTIF(X$2:X94,LEFT(U$1,1))+COUNTIF(X$2:X94,RIGHT(U$1,1)),\"\"))","v":""},{"$f":"IF(COUNTBLANK(R94)=1,\"\",IF(OR(X94=LEFT(V$1,1),X94=RIGHT(V$1,1)),COUNTIF(X$2:X94,LEFT(V$1,1))+COUNTIF(X$2:X94,RIGHT(V$1,1)),\"\"))","v":""},{"$f":"IF(COUNTBLANK(R94)=1,\"\",IF(OR(Y94=LEFT(W$1,1),Y94=RIGHT(W$1,1)),COUNTIF(Y$2:Y94,LEFT(W$1,1))+COUNTIF(Y$2:Y94,RIGHT(W$1,1)),\"\"))","v":""},{"$f":"IF(COUNTBLANK(R94)=1,\"\",INDEX(Registration!$C$2:$C$101,MATCH(R94,Registration!$B$2:$B$101,0)))","v":""},{"$f":"IF(COUNTBLANK(R94)=1,\"\",IF(COUNTBLANK(INDEX(Registration!$D$2:$D$101,MATCH(R94,Registration!$B$2:$B$101,0)))=1,\"\",INDEX(Registration!$D$2:$D$101,MATCH(R94,Registration!$B$2:$B$101,0))))","v":""}]
[{"$f":"IF(COUNTBLANK(Registration!B95)=1,\"\",Registration!B95)","v":""},null,null,null,null,null,null,null,null,null,null,"","","",null,"","","",null,{"$f":"IF(COUNTBLANK(R95)=1,\"\",IF(OR(X95=LEFT(T$1,1),X95=RIGHT(T$1,1)),COUNTIF(X$2:X95,LEFT(T$1,1))+COUNTIF(X$2:X95,RIGHT(T$1,1)),\"\"))","v":""},{"$f":"IF(COUNTBLANK(R95)=1,\"\",IF(OR(X95=LEFT(U$1,1),X95=RIGHT(U$1,1)),COUNTIF(X$2:X95,LEFT(U$1,1))+COUNTIF(X$2:X95,RIGHT(U$1,1)),\"\"))","v":""},{"$f":"IF(COUNTBLANK(R95)=1,\"\",IF(OR(X95=LEFT(V$1,1),X95=RIGHT(V$1,1)),COUNTIF(X$2:X95,LEFT(V$1,1))+COUNTIF(X$2:X95,RIGHT(V$1,1)),\"\"))","v":""},{"$f":"IF(COUNTBLANK(R95)=1,\"\",IF(OR(Y95=LEFT(W$1,1),Y95=RIGHT(W$1,1)),COUNTIF(Y$2:Y95,LEFT(W$1,1))+COUNTIF(Y$2:Y95,RIGHT(W$1,1)),\"\"))","v":""},{"$f":"IF(COUNTBLANK(R95)=1,\"\",INDEX(Registration!$C$2:$C$101,MATCH(R95,Registration!$B$2:$B$101,0)))","v":""},{"$f":"IF(COUNTBLANK(R95)=1,\"\",IF(COUNTBLANK(INDEX(Registration!$D$2:$D$101,MATCH(R95,Registration!$B$2:$B$101,0)))=1,\"\",INDEX(Registration!$D$2:$D$101,MATCH(R95,Registration!$B$2:$B$101,0))))","v":""}]
[{"$f":"IF(COUNTBLANK(Registration!B96)=1,\"\",Registration!B96)","v":""},null,null,null,null,null,null,null,null,null,null,"","","",null,"","","",null,{"$f":"IF(COUNTBLANK(R96)=1,\"\",IF(OR(X96=LEFT(T$1,1),X96=RIGHT(T$1,1)),COUNTIF(X$2:X96,LEFT(T$1,1))+COUNTIF(X$2:X96,RIGHT(T$1,1)),\"\"))","v":""},{"$f":"IF(COUNTBLANK(R96)=1,\"\",IF(OR(X96=LEFT(U$1,1),X96=RIGHT(U$1,1)),COUNTIF(X$2:X96,LEFT(U$1,1))+COUNTIF(X$2:X96,RIGHT(U$1,1)),\"\"))","v":""},{"$f":"IF(COUNTBLANK(R96)=1,\"\",IF(OR(X96=LEFT(V$1,1),X96=RIGHT(V$1,1)),COUNTIF(X$2:X96,LEFT(V$1,1))+COUNTIF(X$2:X96,RIGHT(V$1,1)),\"\"))","v":""},{"$f":"IF(COUNTBLANK(R96)=1,\"\",IF(OR(Y96=LEFT(W$1,1),Y96=RIGHT(W$1,1)),COUNTIF(Y$2:Y96,LEFT(W$1,1))+COUNTIF(Y$2:Y96,RIGHT(W$1,1)),\"\"))","v":""},{"$f":"IF(COUNTBLANK(R96)=1,\"\",INDEX(Registration!$C$2:$C$101,MATCH(R96,Registration!$B$2:$B$101,0)))","v":""},{"$f":"IF(COUNTBLANK(R96)=1,\"\",IF(COUNTBLANK(INDEX(Registration!$D$2:$D$101,MATCH(R96,Registration!$B$2:$B$101,0)))=1,\"\",INDEX(Registration!$D$2:$D$101,MATCH(R96,Registration!$B$2:$B$101,0))))","v":""}]
[{"$f":"IF(COUNTBLANK(Registration!B97)=1,\"\",Registration!B97)","v":""},null,null,null,null,null,null,null,null,null,null,"","","",null,"","","",null,{"$f":"IF(COUNTBLANK(R97)=1,\"\",IF(OR(X97=LEFT(T$1,1),X97=RIGHT(T$1,1)),COUNTIF(X$2:X97,LEFT(T$1,1))+COUNTIF(X$2:X97,RIGHT(T$1,1)),\"\"))","v":""},{"$f":"IF(COUNTBLANK(R97)=1,\"\",IF(OR(X97=LEFT(U$1,1),X97=RIGHT(U$1,1)),COUNTIF(X$2:X97,LEFT(U$1,1))+COUNTIF(X$2:X97,RIGHT(U$1,1)),\"\"))","v":""},{"$f":"IF(COUNTBLANK(R97)=1,\"\",IF(OR(X97=LEFT(V$1,1),X97=RIGHT(V$1,1)),COUNTIF(X$2:X97,LEFT(V$1,1))+COUNTIF(X$2:X97,RIGHT(V$1,1)),\"\"))","v":""},{"$f":"IF(COUNTBLANK(R97)=1,\"\",IF(OR(Y97=LEFT(W$1,1),Y97=RIGHT(W$1,1)),COUNTIF(Y$2:Y97,LEFT(W$1,1))+COUNTIF(Y$2:Y97,RIGHT(W$1,1)),\"\"))","v":""},{"$f":"IF(COUNTBLANK(R97)=1,\"\",INDEX(Registration!$C$2:$C$101,MATCH(R97,Registration!$B$2:$B$101,0)))","v":""},{"$f":"IF(COUNTBLANK(R97)=1,\"\",IF(COUNTBLANK(INDEX(Registration!$D$2:$D$101,MATCH(R97,Registration!$B$2:$B$101,0)))=1,\"\",INDEX(Registration!$D$2:$D$101,MATCH(R97,Registration!$B$2:$B$101,0))))","v":""}]
[{"$f":"IF(COUNTBLANK(Registration!B98)=1,\"\",Registration!B98)","v":""},null,null,null,null,null,null,null,null,null,null,"","","",null,"","","",null,{"$f":"IF(COUNTBLANK(R98)=1,\"\",IF(OR(X98=LEFT(T$1,1),X98=RIGHT(T$1,1)),COUNTIF(X$2:X98,LEFT(T$1,1))+COUNTIF(X$2:X98,RIGHT(T$1,1)),\"\"))","v":""},{"$f":"IF(COUNTBLANK(R98)=1,\"\",IF(OR(X98=LEFT(U$1,1),X98=RIGHT(U$1,1)),COUNTIF(X$2:X98,LEFT(U$1,1))+COUNTIF(X$2:X98,RIGHT(U$1,1)),\"\"))","v":""},{"$f":"IF(COUNTBLANK(R98)=1,\"\",IF(OR(X98=LEFT(V$1,1),X98=RIGHT(V$1,1)),COUNTIF(X$2:X98,LEFT(V$1,1))+COUNTIF(X$2:X98,RIGHT(V$1,1)),\"\"))","v":""},{"$f":"IF(COUNTBLANK(R98)=1,\"\",IF(OR(Y98=LEFT(W$1,1),Y98=RIGHT(W$1,1)),COUNTIF(Y$2:Y98,LEFT(W$1,1))+COUNTIF(Y$2:Y98,RIGHT(W$1,1)),\"\"))","v":""},{"$f":"IF(COUNTBLANK(R98)=1,\"\",INDEX(Registration!$C$2:$C$101,MATCH(R98,Registration!$B$2:$B$101,0)))","v":""},{"$f":"IF(COUNTBLANK(R98)=1,\"\",IF(COUNTBLANK(INDEX(Registration!$D$2:$D$101,MATCH(R98,Registration!$B$2:$B$101,0)))=1,\"\",INDEX(Registration!$D$2:$D$101,MATCH(R98,Registration!$B$2:$B$101,0))))","v":""}]
[{"$f":"IF(COUNTBLANK(Registration!B99)=1,\"\",Registration!B99)","v":""},null,null,null,null,null,null,null,null,null,null,"","","",null,"","","",null,{"$f":"IF(COUNTBLANK(R99)=1,\"\",IF(OR(X99=LEFT(T$1,1),X99=RIGHT(T$1,1)),COUNTIF(X$2:X99,LEFT(T$1,1))+COUNTIF(X$2:X99,RIGHT(T$1,1)),\"\"))","v":""},{"$f":"IF(COUNTBLANK(R99)=1,\"\",IF(OR(X99=LEFT(U$1,1),X99=RIGHT(U$1,1)),COUNTIF(X$2:X99,LEFT(U$1,1))+COUNTIF(X$2:X99,RIGHT(U$1,1)),\"\"))","v":""},{"$f":"IF(COUNTBLANK(R99)=1,\"\",IF(OR(X99=LEFT(V$1,1),X99=RIGHT(V$1,1)),COUNTIF(X$2:X99,LEFT(V$1,1))+COUNTIF(X$2:X99,RIGHT(V$1,1)),\"\"))","v":""},{"$f":"IF(COUNTBLANK(R99)=1,\"\",IF(OR(Y99=LEFT(W$1,1),Y99=RIGHT(W$1,1)),COUNTIF(Y$2:Y99,LEFT(W$1,1))+COUNTIF(Y$2:Y99,RIGHT(W$1,1)),\"\"))","v":""},{"$f":"IF(COUNTBLANK(R99)=1,\"\",INDEX(Registration!$C$2:$C$101,MATCH(R99,Registration!$B$2:$B$101,0)))","v":""},{"$f":"IF(COUNTBLANK(R99)=1,\"\",IF(COUNTBLANK(INDEX(Registration!$D$2:$D$101,MATCH(R99,Registration!$B$2:$B$101,0)))=1,\"\",INDEX(Registration!$D$2:$D$101,MATCH(R99,Registration!$B$2:$B$101,0))))","v":""}]
[{"$f":"IF(COUNTBLANK(Registration!B100)=1,\"\",Registration!B100)","v":""},null,null,null,null,null,null,null,null,null,null,"","","",null,"","","",null,{"$f":"IF(COUNTBLANK(R100)=1,\"\",IF(OR(X100=LEFT(T$1,1),X100=RIGHT(T$1,1)),COUNTIF(X$2:X100,LEFT(T$1,1))+COUNTIF(X$2:X100,RIGHT(T$1,1)),\"\"))","v":""},{"$f":"IF(COUNTBLANK(R100)=1,\"\",IF(OR(X100=LEFT(U$1,1),X100=RIGHT(U$1,1)),COUNTIF(X$2:X100,LEFT(U$1,1))+COUNTIF(X$2:X100,RIGHT(U$1,1)),\"\"))","v":""},{"$f":"IF(COUNTBLANK(R100)=1,\"\",IF(OR(X100=LEFT(V$1,1),X100=RIGHT(V$1,1)),COUNTIF(X$2:X100,LEFT(V$1,1))+COUNTIF(X$2:X100,RIGHT(V$1,1)),\"\"))","v":""},{"$f":"IF(COUNTBLANK(R100)=1,\"\",IF(OR(Y100=LEFT(W$1,1),Y100=RIGHT(W$1,1)),COUNTIF(Y$2:Y100,LEFT(W$1,1))+COUNTIF(Y$2:Y100,RIGHT(W$1,1)),\"\"))","v":""},{"$f":"IF(COUNTBLANK(R100)=1,\"\",INDEX(Registration!$C$2:$C$101,MATCH(R100,Registration!$B$2:$B$101,0)))","v":""},{"$f":"IF(COUNTBLANK(R100)=1,\"\",IF(COUNTBLANK(INDEX(Registration!$D$2:$D$101,MATCH(R100,Registration!$B$2:$B$101,0)))=1,\"\",INDEX(Registration!$D$2:$D$101,MATCH(R100,Registration!$B$2:$B$101,0))))","v":""}]
[{"$f":"IF(COUNTBLANK(Registration!B101)=1,\"\",Registration!B101)","v":""},null,null,null,null,null,null,null,null,null,null,"","","",null,"","","",null,{"$f":"IF(COUNTBLANK(R101)=1,\"\",IF(OR(X101=LEFT(T$1,1),X101=RIGHT(T$1,1)),COUNTIF(X$2:X101,LEFT(T$1,1))+COUNTIF(X$2:X101,RIGHT(T$1,1)),\"\"))","v":""},{"$f":"IF(COUNTBLANK(R101)=1,\"\",IF(OR(X101=LEFT(U$1,1),X101=RIGHT(U$1,1)),COUNTIF(X$2:X101,LEFT(U$1,1))+COUNTIF(X$2:X101,RIGHT(U$1,1)),\"\"))","v":""},{"$f":"IF(COUNTBLANK(R101)=1,\"\",IF(OR(X101=LEFT(V$1,1),X101=RIGHT(V$1,1)),COUNTIF(X$2:X101,LEFT(V$1,1))+COUNTIF(X$2:X101,RIGHT(V$1,1)),\"\"))","v":""},{"$f":"IF(COUNTBLANK(R101)=1,\"\",IF(OR(Y101=LEFT(W$1,1),Y101=RIGHT(W$1,1)),COUNTIF(Y$2:Y101,LEFT(W$1,1))+COUNTIF(Y$2:Y101,RIGHT(W$1,1)),\"\"))","v":""},{"$f":"IF(COUNTBLANK(R101)=1,\"\",INDEX(Registration!$C$2:$C$101,MATCH(R101,Registration!$B$2:$B$101,0)))","v":""},{"$f":"IF(COUNTBLANK(R101)=1,\"\",IF(COUNTBLANK(INDEX(Registration!$D$2:$D$101,MATCH(R101,Registration!$B$2:$B$101,0)))=1,\"\",INDEX(Registration!$D$2:$D$101,MATCH(R101,Registration!$B$2:$B$101,0))))","v":""}]

{"sheet":"MTA","index":3,"n_rows":101,"n_cols":20,"rows_kept":101,"cut":false,"hidden":false,"merged":[]}
[{"$f":"Registration!B1","v":"Name"},"1rst Throw","2nd Throw","3rd Throw","4th Throw","5th Throw","Total","Place","Points",null,"Points","Total","Name",null,"SA","OI","NB","JW","Division","Category"]
[{"$f":"IF(COUNTBLANK(Registration!B2)=1,\"\",Registration!B2)","v":""},null,null,null,null,null,{"$f":"IF(OR(COUNTBLANK($A2)=1,COUNTBLANK(B2:F2)=5),\"\",IF(OR(B2<0,C2<0,D2<0,E2<0,F2<0),-1,MAX(B2+C2+D2, B2+C2+E2, B2+C2+F2, B2+D2+E2, B2+D2+F2, B2+E2+F2, C2+D2+E2, C2+D2+F2,C2+E2+F2, D2+E2+F2)))","v":""},{"$f":"IF(OR(COUNTBLANK($A2)=1,COUNTBLANK(G2)=1),\"\",RANK(G2,$G$2:$G$101,0))","v":""},{"$f":"IF(OR(COUNTBLANK($A2)=1,COUNTBLANK(G2)=1),\"\",placingpoints(H2,COUNTIF(H$2:H$101,\"=\"&H2)))","v":""},null,null,null,null,null,{"$f":"IF(COUNTBLANK(M2)=1,\"\",IF(OR(S2=LEFT(O$1,1),S2=RIGHT(O$1,1)),COUNTIF(S$2:S2,LEFT(O$1,1))+COUNTIF(S$2:S2,RIGHT(O$1,1)),\"\"))","v":""},{"$f":"IF(COUNTBLANK(M2)=1,\"\",IF(OR(S2=LEFT(P$1,1),S2=RIGHT(P$1,1)),COUNTIF(S$2:S2,LEFT(P$1,1))+COUNTIF(S$2:S2,RIGHT(P$1,1)),\"\"))","v":""},{"$f":"IF(COUNTBLANK(M2)=1,\"\",IF(OR(S2=LEFT(Q$1,1),S2=RIGHT(Q$1,1)),COUNTIF(S$2:S2,LEFT(Q$1,1))+COUNTIF(S$2:S2,RIGHT(Q$1,1)),\"\"))","v":""},{"$f":"IF(COUNTBLANK(M2)=1,\"\",IF(OR(T2=LEFT(R$1,1),T2=RIGHT(R$1,1)),COUNTIF(T$2:T2,LEFT(R$1,1))+COUNTIF(T$2:T2,RIGHT(R$1,1)),\"\"))","v":""},{"$f":"IF(COUNTBLANK(M2)=1,\"\",INDEX(Registration!$C$2:$C$101,MATCH(M2,Registration!$B$2:$B$101,0)))","v":""},{"$f":"IF(COUNTBLANK(M2)=1,\"\",IF(COUNTBLANK(INDEX(Registration!$D$2:$D$101,MATCH(M2,Registration!$B$2:$B$101,0)))=1,\"\",INDEX(Registration!$D$2:$D$101,MATCH(M2,Registration!$B$2:$B$101,0))))","v":""}]
[{"$f":"IF(COUNTBLANK(Registration!B3)=1,\"\",Registration!B3)","v":""},null,null,null,null,null,{"$f":"IF(OR(COUNTBLANK($A3)=1,COUNTBLANK(B3:F3)=5),\"\",IF(OR(B3<0,C3<0,D3<0,E3<0,F3<0),-1,MAX(B3+C3+D3, B3+C3+E3, B3+C3+F3, B3+D3+E3, B3+D3+F3, B3+E3+F3, C3+D3+E3, C3+D3+F3,C3+E3+F3, D3+E3+F3)))","v":""},"","",null,null,null,null,null,{"$f":"IF(COUNTBLANK(M3)=1,\"\",IF(OR(S3=LEFT(O$1,1),S3=RIGHT(O$1,1)),COUNTIF(S$2:S3,LEFT(O$1,1))+COUNTIF(S$2:S3,RIGHT(O$1,1)),\"\"))","v":""},{"$f":"IF(COUNTBLANK(M3)=1,\"\",IF(OR(S3=LEFT(P$1,1),S3=RIGHT(P$1,1)),COUNTIF(S$2:S3,LEFT(P$1,1))+COUNTIF(S$2:S3,RIGHT(P$1,1)),\"\"))","v":""},{"$f":"IF(COUNTBLANK(M3)=1,\"\",IF(OR(S3=LEFT(Q$1,1),S3=RIGHT(Q$1,1)),COUNTIF(S$2:S3,LEFT(Q$1,1))+COUNTIF(S$2:S3,RIGHT(Q$1,1)),\"\"))","v":""},{"$f":"IF(COUNTBLANK(M3)=1,\"\",IF(OR(T3=LEFT(R$1,1),T3=RIGHT(R$1,1)),COUNTIF(T$2:T3,LEFT(R$1,1))+COUNTIF(T$2:T3,RIGHT(R$1,1)),\"\"))","v":""},{"$f":"IF(COUNTBLANK(M3)=1,\"\",INDEX(Registration!$C$2:$C$101,MATCH(M3,Registration!$B$2:$B$101,0)))","v":""},{"$f":"IF(COUNTBLANK(M3)=1,\"\",IF(COUNTBLANK(INDEX(Registration!$D$2:$D$101,MATCH(M3,Registration!$B$2:$B$101,0)))=1,\"\",INDEX(Registration!$D$2:$D$101,MATCH(M3,Registration!$B$2:$B$101,0))))","v":""}]
[{"$f":"IF(COUNTBLANK(Registration!B4)=1,\"\",Registration!B4)","v":""},null,null,null,null,null,"","","",null,null,null,null,null,{"$f":"IF(COUNTBLANK(M4)=1,\"\",IF(OR(S4=LEFT(O$1,1),S4=RIGHT(O$1,1)),COUNTIF(S$2:S4,LEFT(O$1,1))+COUNTIF(S$2:S4,RIGHT(O$1,1)),\"\"))","v":""},{"$f":"IF(COUNTBLANK(M4)=1,\"\",IF(OR(S4=LEFT(P$1,1),S4=RIGHT(P$1,1)),COUNTIF(S$2:S4,LEFT(P$1,1))+COUNTIF(S$2:S4,RIGHT(P$1,1)),\"\"))","v":""},{"$f":"IF(COUNTBLANK(M4)=1,\"\",IF(OR(S4=LEFT(Q$1,1),S4=RIGHT(Q$1,1)),COUNTIF(S$2:S4,LEFT(Q$1,1))+COUNTIF(S$2:S4,RIGHT(Q$1,1)),\"\"))","v":""},{"$f":"IF(COUNTBLANK(M4)=1,\"\",IF(OR(T4=LEFT(R$1,1),T4=RIGHT(R$1,1)),COUNTIF(T$2:T4,LEFT(R$1,1))+COUNTIF(T$2:T4,RIGHT(R$1,1)),\"\"))","v":""},{"$f":"IF(COUNTBLANK(M4)=1,\"\",INDEX(Registration!$C$2:$C$101,MATCH(M4,Registration!$B$2:$B$101,0)))","v":""},{"$f":"IF(COUNTBLANK(M4)=1,\"\",IF(COUNTBLANK(INDEX(Registration!$D$2:$D$101,MATCH(M4,Registration!$B$2:$B$101,0)))=1,\"\",INDEX(Registration!$D$2:$D$101,MATCH(M4,Registration!$B$2:$B$101,0))))","v":""}]
[{"$f":"IF(COUNTBLANK(Registration!B5)=1,\"\",Registration!B5)","v":""},null,null,null,null,null,"","","",null,null,null,null,null,{"$f":"IF(COUNTBLANK(M5)=1,\"\",IF(OR(S5=LEFT(O$1,1),S5=RIGHT(O$1,1)),COUNTIF(S$2:S5,LEFT(O$1,1))+COUNTIF(S$2:S5,RIGHT(O$1,1)),\"\"))","v":""},{"$f":"IF(COUNTBLANK(M5)=1,\"\",IF(OR(S5=LEFT(P$1,1),S5=RIGHT(P$1,1)),COUNTIF(S$2:S5,LEFT(P$1,1))+COUNTIF(S$2:S5,RIGHT(P$1,1)),\"\"))","v":""},{"$f":"IF(COUNTBLANK(M5)=1,\"\",IF(OR(S5=LEFT(Q$1,1),S5=RIGHT(Q$1,1)),COUNTIF(S$2:S5,LEFT(Q$1,1))+COUNTIF(S$2:S5,RIGHT(Q$1,1)),\"\"))","v":""},{"$f":"IF(COUNTBLANK(M5)=1,\"\",IF(OR(T5=LEFT(R$1,1),T5=RIGHT(R$1,1)),COUNTIF(T$2:T5,LEFT(R$1,1))+COUNTIF(T$2:T5,RIGHT(R$1,1)),\"\"))","v":""},{"$f":"IF(COUNTBLANK(M5)=1,\"\",INDEX(Registration!$C$2:$C$101,MATCH(M5,Registration!$B$2:$B$101,0)))","v":""},{"$f":"IF(COUNTBLANK(M5)=1,\"\",IF(COUNTBLANK(INDEX(Registration!$D$2:$D$101,MATCH(M5,Registration!$B$2:$B$101,0)))=1,\"\",INDEX(Registration!$D$2:$D$101,MATCH(M5,Registration!$B$2:$B$101,0))))","v":""}]
[{"$f":"IF(COUNTBLANK(Registration!B6)=1,\"\",Registration!B6)","v":""},null,null,null,null,null,"","","",null,null,null,null,null,{"$f":"IF(COUNTBLANK(M6)=1,\"\",IF(OR(S6=LEFT(O$1,1),S6=RIGHT(O$1,1)),COUNTIF(S$2:S6,LEFT(O$1,1))+COUNTIF(S$2:S6,RIGHT(O$1,1)),\"\"))","v":""},{"$f":"IF(COUNTBLANK(M6)=1,\"\",IF(OR(S6=LEFT(P$1,1),S6=RIGHT(P$1,1)),COUNTIF(S$2:S6,LEFT(P$1,1))+COUNTIF(S$2:S6,RIGHT(P$1,1)),\"\"))","v":""},{"$f":"IF(COUNTBLANK(M6)=1,\"\",IF(OR(S6=LEFT(Q$1,1),S6=RIGHT(Q$1,1)),COUNTIF(S$2:S6,LEFT(Q$1,1))+COUNTIF(S$2:S6,RIGHT(Q$1,1)),\"\"))","v":""},{"$f":"IF(COUNTBLANK(M6)=1,\"\",IF(OR(T6=LEFT(R$1,1),T6=RIGHT(R$1,1)),COUNTIF(T$2:T6,LEFT(R$1,1))+COUNTIF(T$2:T6,RIGHT(R$1,1)),\"\"))","v":""},{"$f":"IF(COUNTBLANK(M6)=1,\"\",INDEX(Registration!$C$2:$C$101,MATCH(M6,Registration!$B$2:$B$101,0)))","v":""},{"$f":"IF(COUNTBLANK(M6)=1,\"\",IF(COUNTBLANK(INDEX(Registration!$D$2:$D$101,MATCH(M6,Registration!$B$2:$B$101,0)))=1,\"\",INDEX(Registration!$D$2:$D$101,MATCH(M6,Registration!$B$2:$B$101,0))))","v":""}]
[{"$f":"IF(COUNTBLANK(Registration!B7)=1,\"\",Registration!B7)","v":""},null,null,null,null,null,"","","",null,null,null,null,null,{"$f":"IF(COUNTBLANK(M7)=1,\"\",IF(OR(S7=LEFT(O$1,1),S7=RIGHT(O$1,1)),COUNTIF(S$2:S7,LEFT(O$1,1))+COUNTIF(S$2:S7,RIGHT(O$1,1)),\"\"))","v":""},{"$f":"IF(COUNTBLANK(M7)=1,\"\",IF(OR(S7=LEFT(P$1,1),S7=RIGHT(P$1,1)),COUNTIF(S$2:S7,LEFT(P$1,1))+COUNTIF(S$2:S7,RIGHT(P$1,1)),\"\"))","v":""},{"$f":"IF(COUNTBLANK(M7)=1,\"\",IF(OR(S7=LEFT(Q$1,1),S7=RIGHT(Q$1,1)),COUNTIF(S$2:S7,LEFT(Q$1,1))+COUNTIF(S$2:S7,RIGHT(Q$1,1)),\"\"))","v":""},{"$f":"IF(COUNTBLANK(M7)=1,\"\",IF(OR(T7=LEFT(R$1,1),T7=RIGHT(R$1,1)),COUNTIF(T$2:T7,LEFT(R$1,1))+COUNTIF(T$2:T7,RIGHT(R$1,1)),\"\"))","v":""},{"$f":"IF(COUNTBLANK(M7)=1,\"\",INDEX(Registration!$C$2:$C$101,MATCH(M7,Registration!$B$2:$B$101,0)))","v":""},{"$f":"IF(COUNTBLANK(M7)=1,\"\",IF(COUNTBLANK(INDEX(Registration!$D$2:$D$101,MATCH(M7,Registration!$B$2:$B$101,0)))=1,\"\",INDEX(Registration!$D$2:$D$101,MATCH(M7,Registration!$B$2:$B$101,0))))","v":""}]
[{"$f":"IF(COUNTBLANK(Registration!B8)=1,\"\",Registration!B8)","v":""},null,null,null,null,null,"","","",null,null,null,null,null,{"$f":"IF(COUNTBLANK(M8)=1,\"\",IF(OR(S8=LEFT(O$1,1),S8=RIGHT(O$1,1)),COUNTIF(S$2:S8,LEFT(O$1,1))+COUNTIF(S$2:S8,RIGHT(O$1,1)),\"\"))","v":""},{"$f":"IF(COUNTBLANK(M8)=1,\"\",IF(OR(S8=LEFT(P$1,1),S8=RIGHT(P$1,1)),COUNTIF(S$2:S8,LEFT(P$1,1))+COUNTIF(S$2:S8,RIGHT(P$1,1)),\"\"))","v":""},{"$f":"IF(COUNTBLANK(M8)=1,\"\",IF(OR(S8=LEFT(Q$1,1),S8=RIGHT(Q$1,1)),COUNTIF(S$2:S8,LEFT(Q$1,1))+COUNTIF(S$2:S8,RIGHT(Q$1,1)),\"\"))","v":""},{"$f":"IF(COUNTBLANK(M8)=1,\"\",IF(OR(T8=LEFT(R$1,1),T8=RIGHT(R$1,1)),COUNTIF(T$2:T8,LEFT(R$1,1))+COUNTIF(T$2:T8,RIGHT(R$1,1)),\"\"))","v":""},{"$f":"IF(COUNTBLANK(M8)=1,\"\",INDEX(Registration!$C$2:$C$101,MATCH(M8,Registration!$B$2:$B$101,0)))","v":""},{"$f":"IF(COUNTBLANK(M8)=1,\"\",IF(COUNTBLANK(INDEX(Registration!$D$2:$D$101,MATCH(M8,Registration!$B$2:$B$101,0)))=1,\"\",INDEX(Registration!$D$2:$D$101,MATCH(M8,Registration!$B$2:$B$101,0))))","v":""}]
[{"$f":"IF(COUNTBLANK(Registration!B9)=1,\"\",Registration!B9)","v":""},null,null,null,null,null,"","","",null,null,null,null,null,{"$f":"IF(COUNTBLANK(M9)=1,\"\",IF(OR(S9=LEFT(O$1,1),S9=RIGHT(O$1,1)),COUNTIF(S$2:S9,LEFT(O$1,1))+COUNTIF(S$2:S9,RIGHT(O$1,1)),\"\"))","v":""},{"$f":"IF(COUNTBLANK(M9)=1,\"\",IF(OR(S9=LEFT(P$1,1),S9=RIGHT(P$1,1)),COUNTIF(S$2:S9,LEFT(P$1,1))+COUNTIF(S$2:S9,RIGHT(P$1,1)),\"\"))","v":""},{"$f":"IF(COUNTBLANK(M9)=1,\"\",IF(OR(S9=LEFT(Q$1,1),S9=RIGHT(Q$1,1)),COUNTIF(S$2:S9,LEFT(Q$1,1))+COUNTIF(S$2:S9,RIGHT(Q$1,1)),\"\"))","v":""},{"$f":"IF(COUNTBLANK(M9)=1,\"\",IF(OR(T9=LEFT(R$1,1),T9=RIGHT(R$1,1)),COUNTIF(T$2:T9,LEFT(R$1,1))+COUNTIF(T$2:T9,RIGHT(R$1,1)),\"\"))","v":""},{"$f":"IF(COUNTBLANK(M9)=1,\"\",INDEX(Registration!$C$2:$C$101,MATCH(M9,Registration!$B$2:$B$101,0)))","v":""},{"$f":"IF(COUNTBLANK(M9)=1,\"\",IF(COUNTBLANK(INDEX(Registration!$D$2:$D$101,MATCH(M9,Registration!$B$2:$B$101,0)))=1,\"\",INDEX(Registration!$D$2:$D$101,MATCH(M9,Registration!$B$2:$B$101,0))))","v":""}]
[{"$f":"IF(COUNTBLANK(Registration!B10)=1,\"\",Registration!B10)","v":""},null,null,null,null,null,"","","",null,null,null,null,null,{"$f":"IF(COUNTBLANK(M10)=1,\"\",IF(OR(S10=LEFT(O$1,1),S10=RIGHT(O$1,1)),COUNTIF(S$2:S10,LEFT(O$1,1))+COUNTIF(S$2:S10,RIGHT(O$1,1)),\"\"))","v":""},{"$f":"IF(COUNTBLANK(M10)=1,\"\",IF(OR(S10=LEFT(P$1,1),S10=RIGHT(P$1,1)),COUNTIF(S$2:S10,LEFT(P$1,1))+COUNTIF(S$2:S10,RIGHT(P$1,1)),\"\"))","v":""},{"$f":"IF(COUNTBLANK(M10)=1,\"\",IF(OR(S10=LEFT(Q$1,1),S10=RIGHT(Q$1,1)),COUNTIF(S$2:S10,LEFT(Q$1,1))+COUNTIF(S$2:S10,RIGHT(Q$1,1)),\"\"))","v":""},{"$f":"IF(COUNTBLANK(M10)=1,\"\",IF(OR(T10=LEFT(R$1,1),T10=RIGHT(R$1,1)),COUNTIF(T$2:T10,LEFT(R$1,1))+COUNTIF(T$2:T10,RIGHT(R$1,1)),\"\"))","v":""},{"$f":"IF(COUNTBLANK(M10)=1,\"\",INDEX(Registration!$C$2:$C$101,MATCH(M10,Registration!$B$2:$B$101,0)))","v":""},{"$f":"IF(COUNTBLANK(M10)=1,\"\",IF(COUNTBLANK(INDEX(Registration!$D$2:$D$101,MATCH(M10,Registration!$B$2:$B$101,0)))=1,\"\",INDEX(Registration!$D$2:$D$101,MATCH(M10,Registration!$B$2:$B$101,0))))","v":""}]
[{"$f":"IF(COUNTBLANK(Registration!B11)=1,\"\",Registration!B11)","v":""},null,null,null,null,null,"",{"$f":"IF(OR(COUNTBLANK($A11)=1,COUNTBLANK(G11)=1),\"\",RANK(G11,$G$2:$G$101,0))","v":""},{"$f":"IF(OR(COUNTBLANK($A11)=1,COUNTBLANK(G11)=1),\"\",placingpoints(H11,COUNTIF(H$2:H$101,\"=\"&H11)))","v":""},null,null,null,null,null,{"$f":"IF(COUNTBLANK(M11)=1,\"\",IF(OR(S11=LEFT(O$1,1),S11=RIGHT(O$1,1)),COUNTIF(S$2:S11,LEFT(O$1,1))+COUNTIF(S$2:S11,RIGHT(O$1,1)),\"\"))","v":""},{"$f":"IF(COUNTBLANK(M11)=1,\"\",IF(OR(S11=LEFT(P$1,1),S11=RIGHT(P$1,1)),COUNTIF(S$2:S11,LEFT(P$1,1))+COUNTIF(S$2:S11,RIGHT(P$1,1)),\"\"))","v":""},{"$f":"IF(COUNTBLANK(M11)=1,\"\",IF(OR(S11=LEFT(Q$1,1),S11=RIGHT(Q$1,1)),COUNTIF(S$2:S11,LEFT(Q$1,1))+COUNTIF(S$2:S11,RIGHT(Q$1,1)),\"\"))","v":""},{"$f":"IF(COUNTBLANK(M11)=1,\"\",IF(OR(T11=LEFT(R$1,1),T11=RIGHT(R$1,1)),COUNTIF(T$2:T11,LEFT(R$1,1))+COUNTIF(T$2:T11,RIGHT(R$1,1)),\"\"))","v":""},{"$f":"IF(COUNTBLANK(M11)=1,\"\",INDEX(Registration!$C$2:$C$101,MATCH(M11,Registration!$B$2:$B$101,0)))","v":""},{"$f":"IF(COUNTBLANK(M11)=1,\"\",IF(COUNTBLANK(INDEX(Registration!$D$2:$D$101,MATCH(M11,Registration!$B$2:$B$101,0)))=1,\"\",INDEX(Registration!$D$2:$D$101,MATCH(M11,Registration!$B$2:$B$101,0))))","v":""}]
[{"$f":"IF(COUNTBLANK(Registration!B12)=1,\"\",Registration!B12)","v":""},null,null,null,null,null,"","","",null,null,null,null,null,{"$f":"IF(COUNTBLANK(M12)=1,\"\",IF(OR(S12=LEFT(O$1,1),S12=RIGHT(O$1,1)),COUNTIF(S$2:S12,LEFT(O$1,1))+COUNTIF(S$2:S12,RIGHT(O$1,1)),\"\"))","v":""},{"$f":"IF(COUNTBLANK(M12)=1,\"\",IF(OR(S12=LEFT(P$1,1),S12=RIGHT(P$1,1)),COUNTIF(S$2:S12,LEFT(P$1,1))+COUNTIF(S$2:S12,RIGHT(P$1,1)),\"\"))","v":""},{"$f":"IF(COUNTBLANK(M12)=1,\"\",IF(OR(S12=LEFT(Q$1,1),S12=RIGHT(Q$1,1)),COUNTIF(S$2:S12,LEFT(Q$1,1))+COUNTIF(S$2:S12,RIGHT(Q$1,1)),\"\"))","v":""},{"$f":"IF(COUNTBLANK(M12)=1,\"\",IF(OR(T12=LEFT(R$1,1),T12=RIGHT(R$1,1)),COUNTIF(T$2:T12,LEFT(R$1,1))+COUNTIF(T$2:T12,RIGHT(R$1,1)),\"\"))","v":""},{"$f":"IF(COUNTBLANK(M12)=1,\"\",INDEX(Registration!$C$2:$C$101,MATCH(M12,Registration!$B$2:$B$101,0)))","v":""},{"$f":"IF(COUNTBLANK(M12)=1,\"\",IF(COUNTBLANK(INDEX(Registration!$D$2:$D$101,MATCH(M12,Registration!$B$2:$B$101,0)))=1,\"\",INDEX(Registration!$D$2:$D$101,MATCH(M12,Registration!$B$2:$B$101,0))))","v":""}]
[{"$f":"IF(COUNTBLANK(Registration!B13)=1,\"\",Registration!B13)","v":""},null,null,null,null,null,"","","",null,null,null,null,null,{"$f":"IF(COUNTBLANK(M13)=1,\"\",IF(OR(S13=LEFT(O$1,1),S13=RIGHT(O$1,1)),COUNTIF(S$2:S13,LEFT(O$1,1))+COUNTIF(S$2:S13,RIGHT(O$1,1)),\"\"))","v":""},{"$f":"IF(COUNTBLANK(M13)=1,\"\",IF(OR(S13=LEFT(P$1,1),S13=RIGHT(P$1,1)),COUNTIF(S$2:S13,LEFT(P$1,1))+COUNTIF(S$2:S13,RIGHT(P$1,1)),\"\"))","v":""},{"$f":"IF(COUNTBLANK(M13)=1,\"\",IF(OR(S13=LEFT(Q$1,1),S13=RIGHT(Q$1,1)),COUNTIF(S$2:S13,LEFT(Q$1,1))+COUNTIF(S$2:S13,RIGHT(Q$1,1)),\"\"))","v":""},{"$f":"IF(COUNTBLANK(M13)=1,\"\",IF(OR(T13=LEFT(R$1,1),T13=RIGHT(R$1,1)),COUNTIF(T$2:T13,LEFT(R$1,1))+COUNTIF(T$2:T13,RIGHT(R$1,1)),\"\"))","v":""},{"$f":"IF(COUNTBLANK(M13)=1,\"\",INDEX(Registration!$C$2:$C$101,MATCH(M13,Registration!$B$2:$B$101,0)))","v":""},{"$f":"IF(COUNTBLANK(M13)=1,\"\",IF(COUNTBLANK(INDEX(Registration!$D$2:$D$101,MATCH(M13,Registration!$B$2:$B$101,0)))=1,\"\",INDEX(Registration!$D$2:$D$101,MATCH(M13,Registration!$B$2:$B$101,0))))","v":""}]
[{"$f":"IF(COUNTBLANK(Registration!B14)=1,\"\",Registration!B14)","v":""},null,null,null,null,null,"","","",null,null,null,null,null,{"$f":"IF(COUNTBLANK(M14)=1,\"\",IF(OR(S14=LEFT(O$1,1),S14=RIGHT(O$1,1)),COUNTIF(S$2:S14,LEFT(O$1,1))+COUNTIF(S$2:S14,RIGHT(O$1,1)),\"\"))","v":""},{"$f":"IF(COUNTBLANK(M14)=1,\"\",IF(OR(S14=LEFT(P$1,1),S14=RIGHT(P$1,1)),COUNTIF(S$2:S14,LEFT(P$1,1))+COUNTIF(S$2:S14,RIGHT(P$1,1)),\"\"))","v":""},{"$f":"IF(COUNTBLANK(M14)=1,\"\",IF(OR(S14=LEFT(Q$1,1),S14=RIGHT(Q$1,1)),COUNTIF(S$2:S14,LEFT(Q$1,1))+COUNTIF(S$2:S14,RIGHT(Q$1,1)),\"\"))","v":""},{"$f":"IF(COUNTBLANK(M14)=1,\"\",IF(OR(T14=LEFT(R$1,1),T14=RIGHT(R$1,1)),COUNTIF(T$2:T14,LEFT(R$1,1))+COUNTIF(T$2:T14,RIGHT(R$1,1)),\"\"))","v":""},{"$f":"IF(COUNTBLANK(M14)=1,\"\",INDEX(Registration!$C$2:$C$101,MATCH(M14,Registration!$B$2:$B$101,0)))","v":""},{"$f":"IF(COUNTBLANK(M14)=1,\"\",IF(COUNTBLANK(INDEX(Registration!$D$2:$D$101,MATCH(M14,Registration!$B$2:$B$101,0)))=1,\"\",INDEX(Registration!$D$2:$D$101,MATCH(M14,Registration!$B$2:$B$101,0))))","v":""}]
[{"$f":"IF(COUNTBLANK(Registration!B15)=1,\"\",Registration!B15)","v":""},null,null,null,null,null,"","","",null,null,null,null,null,{"$f":"IF(COUNTBLANK(M15)=1,\"\",IF(OR(S15=LEFT(O$1,1),S15=RIGHT(O$1,1)),COUNTIF(S$2:S15,LEFT(O$1,1))+COUNTIF(S$2:S15,RIGHT(O$1,1)),\"\"))","v":""},{"$f":"IF(COUNTBLANK(M15)=1,\"\",IF(OR(S15=LEFT(P$1,1),S15=RIGHT(P$1,1)),COUNTIF(S$2:S15,LEFT(P$1,1))+COUNTIF(S$2:S15,RIGHT(P$1,1)),\"\"))","v":""},{"$f":"IF(COUNTBLANK(M15)=1,\"\",IF(OR(S15=LEFT(Q$1,1),S15=RIGHT(Q$1,1)),COUNTIF(S$2:S15,LEFT(Q$1,1))+COUNTIF(S$2:S15,RIGHT(Q$1,1)),\"\"))","v":""},{"$f":"IF(COUNTBLANK(M15)=1,\"\",IF(OR(T15=LEFT(R$1,1),T15=RIGHT(R$1,1)),COUNTIF(T$2:T15,LEFT(R$1,1))+COUNTIF(T$2:T15,RIGHT(R$1,1)),\"\"))","v":""},{"$f":"IF(COUNTBLANK(M15)=1,\"\",INDEX(Registration!$C$2:$C$101,MATCH(M15,Registration!$B$2:$B$101,0)))","v":""},{"$f":"IF(COUNTBLANK(M15)=1,\"\",IF(COUNTBLANK(INDEX(Registration!$D$2:$D$101,MATCH(M15,Registration!$B$2:$B$101,0)))=1,\"\",INDEX(Registration!$D$2:$D$101,MATCH(M15,Registration!$B$2:$B$101,0))))","v":""}]
[{"$f":"IF(COUNTBLANK(Registration!B16)=1,\"\",Registration!B16)","v":""},null,null,null,null,null,"","","",null,null,null,null,null,{"$f":"IF(COUNTBLANK(M16)=1,\"\",IF(OR(S16=LEFT(O$1,1),S16=RIGHT(O$1,1)),COUNTIF(S$2:S16,LEFT(O$1,1))+COUNTIF(S$2:S16,RIGHT(O$1,1)),\"\"))","v":""},{"$f":"IF(COUNTBLANK(M16)=1,\"\",IF(OR(S16=LEFT(P$1,1),S16=RIGHT(P$1,1)),COUNTIF(S$2:S16,LEFT(P$1,1))+COUNTIF(S$2:S16,RIGHT(P$1,1)),\"\"))","v":""},{"$f":"IF(COUNTBLANK(M16)=1,\"\",IF(OR(S16=LEFT(Q$1,1),S16=RIGHT(Q$1,1)),COUNTIF(S$2:S16,LEFT(Q$1,1))+COUNTIF(S$2:S16,RIGHT(Q$1,1)),\"\"))","v":""},{"$f":"IF(COUNTBLANK(M16)=1,\"\",IF(OR(T16=LEFT(R$1,1),T16=RIGHT(R$1,1)),COUNTIF(T$2:T16,LEFT(R$1,1))+COUNTIF(T$2:T16,RIGHT(R$1,1)),\"\"))","v":""},{"$f":"IF(COUNTBLANK(M16)=1,\"\",INDEX(Registration!$C$2:$C$101,MATCH(M16,Registration!$B$2:$B$101,0)))","v":""},{"$f":"IF(COUNTBLANK(M16)=1,\"\",IF(COUNTBLANK(INDEX(Registration!$D$2:$D$101,MATCH(M16,Registration!$B$2:$B$101,0)))=1,\"\",INDEX(Registration!$D$2:$D$101,MATCH(M16,Registration!$B$2:$B$101,0))))","v":""}]
[{"$f":"IF(COUNTBLANK(Registration!B17)=1,\"\",Registration!B17)","v":""},null,null,null,null,null,"","","",null,null,null,null,null,{"$f":"IF(COUNTBLANK(M17)=1,\"\",IF(OR(S17=LEFT(O$1,1),S17=RIGHT(O$1,1)),COUNTIF(S$2:S17,LEFT(O$1,1))+COUNTIF(S$2:S17,RIGHT(O$1,1)),\"\"))","v":""},{"$f":"IF(COUNTBLANK(M17)=1,\"\",IF(OR(S17=LEFT(P$1,1),S17=RIGHT(P$1,1)),COUNTIF(S$2:S17,LEFT(P$1,1))+COUNTIF(S$2:S17,RIGHT(P$1,1)),\"\"))","v":""},{"$f":"IF(COUNTBLANK(M17)=1,\"\",IF(OR(S17=LEFT(Q$1,1),S17=RIGHT(Q$1,1)),COUNTIF(S$2:S17,LEFT(Q$1,1))+COUNTIF(S$2:S17,RIGHT(Q$1,1)),\"\"))","v":""},{"$f":"IF(COUNTBLANK(M17)=1,\"\",IF(OR(T17=LEFT(R$1,1),T17=RIGHT(R$1,1)),COUNTIF(T$2:T17,LEFT(R$1,1))+COUNTIF(T$2:T17,RIGHT(R$1,1)),\"\"))","v":""},{"$f":"IF(COUNTBLANK(M17)=1,\"\",INDEX(Registration!$C$2:$C$101,MATCH(M17,Registration!$B$2:$B$101,0)))","v":""},{"$f":"IF(COUNTBLANK(M17)=1,\"\",IF(COUNTBLANK(INDEX(Registration!$D$2:$D$101,MATCH(M17,Registration!$B$2:$B$101,0)))=1,\"\",INDEX(Registration!$D$2:$D$101,MATCH(M17,Registration!$B$2:$B$101,0))))","v":""}]
[{"$f":"IF(COUNTBLANK(Registration!B18)=1,\"\",Registration!B18)","v":""},null,null,null,null,null,"","","",null,null,null,null,null,{"$f":"IF(COUNTBLANK(M18)=1,\"\",IF(OR(S18=LEFT(O$1,1),S18=RIGHT(O$1,1)),COUNTIF(S$2:S18,LEFT(O$1,1))+COUNTIF(S$2:S18,RIGHT(O$1,1)),\"\"))","v":""},{"$f":"IF(COUNTBLANK(M18)=1,\"\",IF(OR(S18=LEFT(P$1,1),S18=RIGHT(P$1,1)),COUNTIF(S$2:S18,LEFT(P$1,1))+COUNTIF(S$2:S18,RIGHT(P$1,1)),\"\"))","v":""},{"$f":"IF(COUNTBLANK(M18)=1,\"\",IF(OR(S18=LEFT(Q$1,1),S18=RIGHT(Q$1,1)),COUNTIF(S$2:S18,LEFT(Q$1,1))+COUNTIF(S$2:S18,RIGHT(Q$1,1)),\"\"))","v":""},{"$f":"IF(COUNTBLANK(M18)=1,\"\",IF(OR(T18=LEFT(R$1,1),T18=RIGHT(R$1,1)),COUNTIF(T$2:T18,LEFT(R$1,1))+COUNTIF(T$2:T18,RIGHT(R$1,1)),\"\"))","v":""},{"$f":"IF(COUNTBLANK(M18)=1,\"\",INDEX(Registration!$C$2:$C$101,MATCH(M18,Registration!$B$2:$B$101,0)))","v":""},{"$f":"IF(COUNTBLANK(M18)=1,\"\",IF(COUNTBLANK(INDEX(Registration!$D$2:$D$101,MATCH(M18,Registration!$B$2:$B$101,0)))=1,\"\",INDEX(Registration!$D$2:$D$101,MATCH(M18,Registration!$B$2:$B$101,0))))","v":""}]
[{"$f":"IF(COUNTBLANK(Registration!B19)=1,\"\",Registration!B19)","v":""},null,null,null,null,null,"","","",null,null,null,null,null,{"$f":"IF(COUNTBLANK(M19)=1,\"\",IF(OR(S19=LEFT(O$1,1),S19=RIGHT(O$1,1)),COUNTIF(S$2:S19,LEFT(O$1,1))+COUNTIF(S$2:S19,RIGHT(O$1,1)),\"\"))","v":""},{"$f":"IF(COUNTBLANK(M19)=1,\"\",IF(OR(S19=LEFT(P$1,1),S19=RIGHT(P$1,1)),COUNTIF(S$2:S19,LEFT(P$1,1))+COUNTIF(S$2:S19,RIGHT(P$1,1)),\"\"))","v":""},{"$f":"IF(COUNTBLANK(M19)=1,\"\",IF(OR(S19=LEFT(Q$1,1),S19=RIGHT(Q$1,1)),COUNTIF(S$2:S19,LEFT(Q$1,1))+COUNTIF(S$2:S19,RIGHT(Q$1,1)),\"\"))","v":""},{"$f":"IF(COUNTBLANK(M19)=1,\"\",IF(OR(T19=LEFT(R$1,1),T19=RIGHT(R$1,1)),COUNTIF(T$2:T19,LEFT(R$1,1))+COUNTIF(T$2:T19,RIGHT(R$1,1)),\"\"))","v":""},{"$f":"IF(COUNTBLANK(M19)=1,\"\",INDEX(Registration!$C$2:$C$101,MATCH(M19,Registration!$B$2:$B$101,0)))","v":""},{"$f":"IF(COUNTBLANK(M19)=1,\"\",IF(COUNTBLANK(INDEX(Registration!$D$2:$D$101,MATCH(M19,Registration!$B$2:$B$101,0)))=1,\"\",INDEX(Registration!$D$2:$D$101,MATCH(M19,Registration!$B$2:$B$101,0))))","v":""}]
[{"$f":"IF(COUNTBLANK(Registration!B20)=1,\"\",Registration!B20)","v":""},null,null,null,null,null,"","","",null,null,null,null,null,{"$f":"IF(COUNTBLANK(M20)=1,\"\",IF(OR(S20=LEFT(O$1,1),S20=RIGHT(O$1,1)),COUNTIF(S$2:S20,LEFT(O$1,1))+COUNTIF(S$2:S20,RIGHT(O$1,1)),\"\"))","v":""},{"$f":"IF(COUNTBLANK(M20)=1,\"\",IF(OR(S20=LEFT(P$1,1),S20=RIGHT(P$1,1)),COUNTIF(S$2:S20,LEFT(P$1,1))+COUNTIF(S$2:S20,RIGHT(P$1,1)),\"\"))","v":""},{"$f":"IF(COUNTBLANK(M20)=1,\"\",IF(OR(S20=LEFT(Q$1,1),S20=RIGHT(Q$1,1)),COUNTIF(S$2:S20,LEFT(Q$1,1))+COUNTIF(S$2:S20,RIGHT(Q$1,1)),\"\"))","v":""},{"$f":"IF(COUNTBLANK(M20)=1,\"\",IF(OR(T20=LEFT(R$1,1),T20=RIGHT(R$1,1)),COUNTIF(T$2:T20,LEFT(R$1,1))+COUNTIF(T$2:T20,RIGHT(R$1,1)),\"\"))","v":""},{"$f":"IF(COUNTBLANK(M20)=1,\"\",INDEX(Registration!$C$2:$C$101,MATCH(M20,Registration!$B$2:$B$101,0)))","v":""},{"$f":"IF(COUNTBLANK(M20)=1,\"\",IF(COUNTBLANK(INDEX(Registration!$D$2:$D$101,MATCH(M20,Registration!$B$2:$B$101,0)))=1,\"\",INDEX(Registration!$D$2:$D$101,MATCH(M20,Registration!$B$2:$B$101,0))))","v":""}]
[{"$f":"IF(COUNTBLANK(Registration!B21)=1,\"\",Registration!B21)","v":""},null,null,null,null,null,"","","",null,null,null,null,null,{"$f":"IF(COUNTBLANK(M21)=1,\"\",IF(OR(S21=LEFT(O$1,1),S21=RIGHT(O$1,1)),COUNTIF(S$2:S21,LEFT(O$1,1))+COUNTIF(S$2:S21,RIGHT(O$1,1)),\"\"))","v":""},{"$f":"IF(COUNTBLANK(M21)=1,\"\",IF(OR(S21=LEFT(P$1,1),S21=RIGHT(P$1,1)),COUNTIF(S$2:S21,LEFT(P$1,1))+COUNTIF(S$2:S21,RIGHT(P$1,1)),\"\"))","v":""},{"$f":"IF(COUNTBLANK(M21)=1,\"\",IF(OR(S21=LEFT(Q$1,1),S21=RIGHT(Q$1,1)),COUNTIF(S$2:S21,LEFT(Q$1,1))+COUNTIF(S$2:S21,RIGHT(Q$1,1)),\"\"))","v":""},{"$f":"IF(COUNTBLANK(M21)=1,\"\",IF(OR(T21=LEFT(R$1,1),T21=RIGHT(R$1,1)),COUNTIF(T$2:T21,LEFT(R$1,1))+COUNTIF(T$2:T21,RIGHT(R$1,1)),\"\"))","v":""},{"$f":"IF(COUNTBLANK(M21)=1,\"\",INDEX(Registration!$C$2:$C$101,MATCH(M21,Registration!$B$2:$B$101,0)))","v":""},{"$f":"IF(COUNTBLANK(M21)=1,\"\",IF(COUNTBLANK(INDEX(Registration!$D$2:$D$101,MATCH(M21,Registration!$B$2:$B$101,0)))=1,\"\",INDEX(Registration!$D$2:$D$101,MATCH(M21,Registration!$B$2:$B$101,0))))","v":""}]
[{"$f":"IF(COUNTBLANK(Registration!B22)=1,\"\",Registration!B22)","v":""},null,null,null,null,null,"","","",null,null,null,null,null,{"$f":"IF(COUNTBLANK(M22)=1,\"\",IF(OR(S22=LEFT(O$1,1),S22=RIGHT(O$1,1)),COUNTIF(S$2:S22,LEFT(O$1,1))+COUNTIF(S$2:S22,RIGHT(O$1,1)),\"\"))","v":""},{"$f":"IF(COUNTBLANK(M22)=1,\"\",IF(OR(S22=LEFT(P$1,1),S22=RIGHT(P$1,1)),COUNTIF(S$2:S22,LEFT(P$1,1))+COUNTIF(S$2:S22,RIGHT(P$1,1)),\"\"))","v":""},{"$f":"IF(COUNTBLANK(M22)=1,\"\",IF(OR(S22=LEFT(Q$1,1),S22=RIGHT(Q$1,1)),COUNTIF(S$2:S22,LEFT(Q$1,1))+COUNTIF(S$2:S22,RIGHT(Q$1,1)),\"\"))","v":""},{"$f":"IF(COUNTBLANK(M22)=1,\"\",IF(OR(T22=LEFT(R$1,1),T22=RIGHT(R$1,1)),COUNTIF(T$2:T22,LEFT(R$1,1))+COUNTIF(T$2:T22,RIGHT(R$1,1)),\"\"))","v":""},{"$f":"IF(COUNTBLANK(M22)=1,\"\",INDEX(Registration!$C$2:$C$101,MATCH(M22,Registration!$B$2:$B$101,0)))","v":""},{"$f":"IF(COUNTBLANK(M22)=1,\"\",IF(COUNTBLANK(INDEX(Registration!$D$2:$D$101,MATCH(M22,Registration!$B$2:$B$101,0)))=1,\"\",INDEX(Registration!$D$2:$D$101,MATCH(M22,Registration!$B$2:$B$101,0))))","v":""}]
[{"$f":"IF(COUNTBLANK(Registration!B23)=1,\"\",Registration!B23)","v":""},null,null,null,null,null,"","","",null,null,null,null,null,{"$f":"IF(COUNTBLANK(M23)=1,\"\",IF(OR(S23=LEFT(O$1,1),S23=RIGHT(O$1,1)),COUNTIF(S$2:S23,LEFT(O$1,1))+COUNTIF(S$2:S23,RIGHT(O$1,1)),\"\"))","v":""},{"$f":"IF(COUNTBLANK(M23)=1,\"\",IF(OR(S23=LEFT(P$1,1),S23=RIGHT(P$1,1)),COUNTIF(S$2:S23,LEFT(P$1,1))+COUNTIF(S$2:S23,RIGHT(P$1,1)),\"\"))","v":""},{"$f":"IF(COUNTBLANK(M23)=1,\"\",IF(OR(S23=LEFT(Q$1,1),S23=RIGHT(Q$1,1)),COUNTIF(S$2:S23,LEFT(Q$1,1))+COUNTIF(S$2:S23,RIGHT(Q$1,1)),\"\"))","v":""},{"$f":"IF(COUNTBLANK(M23)=1,\"\",IF(OR(T23=LEFT(R$1,1),T23=RIGHT(R$1,1)),COUNTIF(T$2:T23,LEFT(R$1,1))+COUNTIF(T$2:T23,RIGHT(R$1,1)),\"\"))","v":""},{"$f":"IF(COUNTBLANK(M23)=1,\"\",INDEX(Registration!$C$2:$C$101,MATCH(M23,Registration!$B$2:$B$101,0)))","v":""},{"$f":"IF(COUNTBLANK(M23)=1,\"\",IF(COUNTBLANK(INDEX(Registration!$D$2:$D$101,MATCH(M23,Registration!$B$2:$B$101,0)))=1,\"\",INDEX(Registration!$D$2:$D$101,MATCH(M23,Registration!$B$2:$B$101,0))))","v":""}]
[{"$f":"IF(COUNTBLANK(Registration!B24)=1,\"\",Registration!B24)","v":""},null,null,null,null,null,"","","",null,null,null,null,null,{"$f":"IF(COUNTBLANK(M24)=1,\"\",IF(OR(S24=LEFT(O$1,1),S24=RIGHT(O$1,1)),COUNTIF(S$2:S24,LEFT(O$1,1))+COUNTIF(S$2:S24,RIGHT(O$1,1)),\"\"))","v":""},{"$f":"IF(COUNTBLANK(M24)=1,\"\",IF(OR(S24=LEFT(P$1,1),S24=RIGHT(P$1,1)),COUNTIF(S$2:S24,LEFT(P$1,1))+COUNTIF(S$2:S24,RIGHT(P$1,1)),\"\"))","v":""},{"$f":"IF(COUNTBLANK(M24)=1,\"\",IF(OR(S24=LEFT(Q$1,1),S24=RIGHT(Q$1,1)),COUNTIF(S$2:S24,LEFT(Q$1,1))+COUNTIF(S$2:S24,RIGHT(Q$1,1)),\"\"))","v":""},{"$f":"IF(COUNTBLANK(M24)=1,\"\",IF(OR(T24=LEFT(R$1,1),T24=RIGHT(R$1,1)),COUNTIF(T$2:T24,LEFT(R$1,1))+COUNTIF(T$2:T24,RIGHT(R$1,1)),\"\"))","v":""},{"$f":"IF(COUNTBLANK(M24)=1,\"\",INDEX(Registration!$C$2:$C$101,MATCH(M24,Registration!$B$2:$B$101,0)))","v":""},{"$f":"IF(COUNTBLANK(M24)=1,\"\",IF(COUNTBLANK(INDEX(Registration!$D$2:$D$101,MATCH(M24,Registration!$B$2:$B$101,0)))=1,\"\",INDEX(Registration!$D$2:$D$101,MATCH(M24,Registration!$B$2:$B$101,0))))","v":""}]
[{"$f":"IF(COUNTBLANK(Registration!B25)=1,\"\",Registration!B25)","v":""},null,null,null,null,null,"","","",null,null,null,null,null,{"$f":"IF(COUNTBLANK(M25)=1,\"\",IF(OR(S25=LEFT(O$1,1),S25=RIGHT(O$1,1)),COUNTIF(S$2:S25,LEFT(O$1,1))+COUNTIF(S$2:S25,RIGHT(O$1,1)),\"\"))","v":""},{"$f":"IF(COUNTBLANK(M25)=1,\"\",IF(OR(S25=LEFT(P$1,1),S25=RIGHT(P$1,1)),COUNTIF(S$2:S25,LEFT(P$1,1))+COUNTIF(S$2:S25,RIGHT(P$1,1)),\"\"))","v":""},{"$f":"IF(COUNTBLANK(M25)=1,\"\",IF(OR(S25=LEFT(Q$1,1),S25=RIGHT(Q$1,1)),COUNTIF(S$2:S25,LEFT(Q$1,1))+COUNTIF(S$2:S25,RIGHT(Q$1,1)),\"\"))","v":""},{"$f":"IF(COUNTBLANK(M25)=1,\"\",IF(OR(T25=LEFT(R$1,1),T25=RIGHT(R$1,1)),COUNTIF(T$2:T25,LEFT(R$1,1))+COUNTIF(T$2:T25,RIGHT(R$1,1)),\"\"))","v":""},{"$f":"IF(COUNTBLANK(M25)=1,\"\",INDEX(Registration!$C$2:$C$101,MATCH(M25,Registration!$B$2:$B$101,0)))","v":""},{"$f":"IF(COUNTBLANK(M25)=1,\"\",IF(COUNTBLANK(INDEX(Registration!$D$2:$D$101,MATCH(M25,Registration!$B$2:$B$101,0)))=1,\"\",INDEX(Registration!$D$2:$D$101,MATCH(M25,Registration!$B$2:$B$101,0))))","v":""}]
[{"$f":"IF(COUNTBLANK(Registration!B26)=1,\"\",Registration!B26)","v":""},null,null,null,null,null,"","","",null,null,null,null,null,{"$f":"IF(COUNTBLANK(M26)=1,\"\",IF(OR(S26=LEFT(O$1,1),S26=RIGHT(O$1,1)),COUNTIF(S$2:S26,LEFT(O$1,1))+COUNTIF(S$2:S26,RIGHT(O$1,1)),\"\"))","v":""},{"$f":"IF(COUNTBLANK(M26)=1,\"\",IF(OR(S26=LEFT(P$1,1),S26=RIGHT(P$1,1)),COUNTIF(S$2:S26,LEFT(P$1,1))+COUNTIF(S$2:S26,RIGHT(P$1,1)),\"\"))","v":""},{"$f":"IF(COUNTBLANK(M26)=1,\"\",IF(OR(S26=LEFT(Q$1,1),S26=RIGHT(Q$1,1)),COUNTIF(S$2:S26,LEFT(Q$1,1))+COUNTIF(S$2:S26,RIGHT(Q$1,1)),\"\"))","v":""},{"$f":"IF(COUNTBLANK(M26)=1,\"\",IF(OR(T26=LEFT(R$1,1),T26=RIGHT(R$1,1)),COUNTIF(T$2:T26,LEFT(R$1,1))+COUNTIF(T$2:T26,RIGHT(R$1,1)),\"\"))","v":""},{"$f":"IF(COUNTBLANK(M26)=1,\"\",INDEX(Registration!$C$2:$C$101,MATCH(M26,Registration!$B$2:$B$101,0)))","v":""},{"$f":"IF(COUNTBLANK(M26)=1,\"\",IF(COUNTBLANK(INDEX(Registration!$D$2:$D$101,MATCH(M26,Registration!$B$2:$B$101,0)))=1,\"\",INDEX(Registration!$D$2:$D$101,MATCH(M26,Registration!$B$2:$B$101,0))))","v":""}]
[{"$f":"IF(COUNTBLANK(Registration!B27)=1,\"\",Registration!B27)","v":""},null,null,null,null,null,"","","",null,null,null,null,null,{"$f":"IF(COUNTBLANK(M27)=1,\"\",IF(OR(S27=LEFT(O$1,1),S27=RIGHT(O$1,1)),COUNTIF(S$2:S27,LEFT(O$1,1))+COUNTIF(S$2:S27,RIGHT(O$1,1)),\"\"))","v":""},{"$f":"IF(COUNTBLANK(M27)=1,\"\",IF(OR(S27=LEFT(P$1,1),S27=RIGHT(P$1,1)),COUNTIF(S$2:S27,LEFT(P$1,1))+COUNTIF(S$2:S27,RIGHT(P$1,1)),\"\"))","v":""},{"$f":"IF(COUNTBLANK(M27)=1,\"\",IF(OR(S27=LEFT(Q$1,1),S27=RIGHT(Q$1,1)),COUNTIF(S$2:S27,LEFT(Q$1,1))+COUNTIF(S$2:S27,RIGHT(Q$1,1)),\"\"))","v":""},{"$f":"IF(COUNTBLANK(M27)=1,\"\",IF(OR(T27=LEFT(R$1,1),T27=RIGHT(R$1,1)),COUNTIF(T$2:T27,LEFT(R$1,1))+COUNTIF(T$2:T27,RIGHT(R$1,1)),\"\"))","v":""},{"$f":"IF(COUNTBLANK(M27)=1,\"\",INDEX(Registration!$C$2:$C$101,MATCH(M27,Registration!$B$2:$B$101,0)))","v":""},{"$f":"IF(COUNTBLANK(M27)=1,\"\",IF(COUNTBLANK(INDEX(Registration!$D$2:$D$101,MATCH(M27,Registration!$B$2:$B$101,0)))=1,\"\",INDEX(Registration!$D$2:$D$101,MATCH(M27,Registration!$B$2:$B$101,0))))","v":""}]
[{"$f":"IF(COUNTBLANK(Registration!B28)=1,\"\",Registration!B28)","v":""},null,null,null,null,null,"","","",null,null,null,null,null,{"$f":"IF(COUNTBLANK(M28)=1,\"\",IF(OR(S28=LEFT(O$1,1),S28=RIGHT(O$1,1)),COUNTIF(S$2:S28,LEFT(O$1,1))+COUNTIF(S$2:S28,RIGHT(O$1,1)),\"\"))","v":""},{"$f":"IF(COUNTBLANK(M28)=1,\"\",IF(OR(S28=LEFT(P$1,1),S28=RIGHT(P$1,1)),COUNTIF(S$2:S28,LEFT(P$1,1))+COUNTIF(S$2:S28,RIGHT(P$1,1)),\"\"))","v":""},{"$f":"IF(COUNTBLANK(M28)=1,\"\",IF(OR(S28=LEFT(Q$1,1),S28=RIGHT(Q$1,1)),COUNTIF(S$2:S28,LEFT(Q$1,1))+COUNTIF(S$2:S28,RIGHT(Q$1,1)),\"\"))","v":""},{"$f":"IF(COUNTBLANK(M28)=1,\"\",IF(OR(T28=LEFT(R$1,1),T28=RIGHT(R$1,1)),COUNTIF(T$2:T28,LEFT(R$1,1))+COUNTIF(T$2:T28,RIGHT(R$1,1)),\"\"))","v":""},{"$f":"IF(COUNTBLANK(M28)=1,\"\",INDEX(Registration!$C$2:$C$101,MATCH(M28,Registration!$B$2:$B$101,0)))","v":""},{"$f":"IF(COUNTBLANK(M28)=1,\"\",IF(COUNTBLANK(INDEX(Registration!$D$2:$D$101,MATCH(M28,Registration!$B$2:$B$101,0)))=1,\"\",INDEX(Registration!$D$2:$D$101,MATCH(M28,Registration!$B$2:$B$101,0))))","v":""}]
[{"$f":"IF(COUNTBLANK(Registration!B29)=1,\"\",Registration!B29)","v":""},null,null,null,null,null,"","","",null,"","","",null,{"$f":"IF(COUNTBLANK(M29)=1,\"\",IF(OR(S29=LEFT(O$1,1),S29=RIGHT(O$1,1)),COUNTIF(S$2:S29,LEFT(O$1,1))+COUNTIF(S$2:S29,RIGHT(O$1,1)),\"\"))","v":""},{"$f":"IF(COUNTBLANK(M29)=1,\"\",IF(OR(S29=LEFT(P$1,1),S29=RIGHT(P$1,1)),COUNTIF(S$2:S29,LEFT(P$1,1))+COUNTIF(S$2:S29,RIGHT(P$1,1)),\"\"))","v":""},{"$f":"IF(COUNTBLANK(M29)=1,\"\",IF(OR(S29=LEFT(Q$1,1),S29=RIGHT(Q$1,1)),COUNTIF(S$2:S29,LEFT(Q$1,1))+COUNTIF(S$2:S29,RIGHT(Q$1,1)),\"\"))","v":""},{"$f":"IF(COUNTBLANK(M29)=1,\"\",IF(OR(T29=LEFT(R$1,1),T29=RIGHT(R$1,1)),COUNTIF(T$2:T29,LEFT(R$1,1))+COUNTIF(T$2:T29,RIGHT(R$1,1)),\"\"))","v":""},{"$f":"IF(COUNTBLANK(M29)=1,\"\",INDEX(Registration!$C$2:$C$101,MATCH(M29,Registration!$B$2:$B$101,0)))","v":""},{"$f":"IF(COUNTBLANK(M29)=1,\"\",IF(COUNTBLANK(INDEX(Registration!$D$2:$D$101,MATCH(M29,Registration!$B$2:$B$101,0)))=1,\"\",INDEX(Registration!$D$2:$D$101,MATCH(M29,Registration!$B$2:$B$101,0))))","v":""}]
[{"$f":"IF(COUNTBLANK(Registration!B30)=1,\"\",Registration!B30)","v":""},null,null,null,null,null,"","","",null,"","","",null,{"$f":"IF(COUNTBLANK(M30)=1,\"\",IF(OR(S30=LEFT(O$1,1),S30=RIGHT(O$1,1)),COUNTIF(S$2:S30,LEFT(O$1,1))+COUNTIF(S$2:S30,RIGHT(O$1,1)),\"\"))","v":""},{"$f":"IF(COUNTBLANK(M30)=1,\"\",IF(OR(S30=LEFT(P$1,1),S30=RIGHT(P$1,1)),COUNTIF(S$2:S30,LEFT(P$1,1))+COUNTIF(S$2:S30,RIGHT(P$1,1)),\"\"))","v":""},{"$f":"IF(COUNTBLANK(M30)=1,\"\",IF(OR(S30=LEFT(Q$1,1),S30=RIGHT(Q$1,1)),COUNTIF(S$2:S30,LEFT(Q$1,1))+COUNTIF(S$2:S30,RIGHT(Q$1,1)),\"\"))","v":""},{"$f":"IF(COUNTBLANK(M30)=1,\"\",IF(OR(T30=LEFT(R$1,1),T30=RIGHT(R$1,1)),COUNTIF(T$2:T30,LEFT(R$1,1))+COUNTIF(T$2:T30,RIGHT(R$1,1)),\"\"))","v":""},{"$f":"IF(COUNTBLANK(M30)=1,\"\",INDEX(Registration!$C$2:$C$101,MATCH(M30,Registration!$B$2:$B$101,0)))","v":""},{"$f":"IF(COUNTBLANK(M30)=1,\"\",IF(COUNTBLANK(INDEX(Registration!$D$2:$D$101,MATCH(M30,Registration!$B$2:$B$101,0)))=1,\"\",INDEX(Registration!$D$2:$D$101,MATCH(M30,Registration!$B$2:$B$101,0))))","v":""}]
[{"$f":"IF(COUNTBLANK(Registration!B31)=1,\"\",Registration!B31)","v":""},null,null,null,null,null,"","","",null,"","","",null,{"$f":"IF(COUNTBLANK(M31)=1,\"\",IF(OR(S31=LEFT(O$1,1),S31=RIGHT(O$1,1)),COUNTIF(S$2:S31,LEFT(O$1,1))+COUNTIF(S$2:S31,RIGHT(O$1,1)),\"\"))","v":""},{"$f":"IF(COUNTBLANK(M31)=1,\"\",IF(OR(S31=LEFT(P$1,1),S31=RIGHT(P$1,1)),COUNTIF(S$2:S31,LEFT(P$1,1))+COUNTIF(S$2:S31,RIGHT(P$1,1)),\"\"))","v":""},{"$f":"IF(COUNTBLANK(M31)=1,\"\",IF(OR(S31=LEFT(Q$1,1),S31=RIGHT(Q$1,1)),COUNTIF(S$2:S31,LEFT(Q$1,1))+COUNTIF(S$2:S31,RIGHT(Q$1,1)),\"\"))","v":""},{"$f":"IF(COUNTBLANK(M31)=1,\"\",IF(OR(T31=LEFT(R$1,1),T31=RIGHT(R$1,1)),COUNTIF(T$2:T31,LEFT(R$1,1))+COUNTIF(T$2:T31,RIGHT(R$1,1)),\"\"))","v":""},{"$f":"IF(COUNTBLANK(M31)=1,\"\",INDEX(Registration!$C$2:$C$101,MATCH(M31,Registration!$B$2:$B$101,0)))","v":""},{"$f":"IF(COUNTBLANK(M31)=1,\"\",IF(COUNTBLANK(INDEX(Registration!$D$2:$D$101,MATCH(M31,Registration!$B$2:$B$101,0)))=1,\"\",INDEX(Registration!$D$2:$D$101,MATCH(M31,Registration!$B$2:$B$101,0))))","v":""}]
[{"$f":"IF(COUNTBLANK(Registration!B32)=1,\"\",Registration!B32)","v":""},null,null,null,null,null,"","","",null,"","","",null,{"$f":"IF(COUNTBLANK(M32)=1,\"\",IF(OR(S32=LEFT(O$1,1),S32=RIGHT(O$1,1)),COUNTIF(S$2:S32,LEFT(O$1,1))+COUNTIF(S$2:S32,RIGHT(O$1,1)),\"\"))","v":""},{"$f":"IF(COUNTBLANK(M32)=1,\"\",IF(OR(S32=LEFT(P$1,1),S32=RIGHT(P$1,1)),COUNTIF(S$2:S32,LEFT(P$1,1))+COUNTIF(S$2:S32,RIGHT(P$1,1)),\"\"))","v":""},{"$f":"IF(COUNTBLANK(M32)=1,\"\",IF(OR(S32=LEFT(Q$1,1),S32=RIGHT(Q$1,1)),COUNTIF(S$2:S32,LEFT(Q$1,1))+COUNTIF(S$2:S32,RIGHT(Q$1,1)),\"\"))","v":""},{"$f":"IF(COUNTBLANK(M32)=1,\"\",IF(OR(T32=LEFT(R$1,1),T32=RIGHT(R$1,1)),COUNTIF(T$2:T32,LEFT(R$1,1))+COUNTIF(T$2:T32,RIGHT(R$1,1)),\"\"))","v":""},{"$f":"IF(COUNTBLANK(M32)=1,\"\",INDEX(Registration!$C$2:$C$101,MATCH(M32,Registration!$B$2:$B$101,0)))","v":""},{"$f":"IF(COUNTBLANK(M32)=1,\"\",IF(COUNTBLANK(INDEX(Registration!$D$2:$D$101,MATCH(M32,Registration!$B$2:$B$101,0)))=1,\"\",INDEX(Registration!$D$2:$D$101,MATCH(M32,Registration!$B$2:$B$101,0))))","v":""}]
[{"$f":"IF(COUNTBLANK(Registration!B33)=1,\"\",Registration!B33)","v":""},null,null,null,null,null,"","","",null,"","","",null,{"$f":"IF(COUNTBLANK(M33)=1,\"\",IF(OR(S33=LEFT(O$1,1),S33=RIGHT(O$1,1)),COUNTIF(S$2:S33,LEFT(O$1,1))+COUNTIF(S$2:S33,RIGHT(O$1,1)),\"\"))","v":""},{"$f":"IF(COUNTBLANK(M33)=1,\"\",IF(OR(S33=LEFT(P$1,1),S33=RIGHT(P$1,1)),COUNTIF(S$2:S33,LEFT(P$1,1))+COUNTIF(S$2:S33,RIGHT(P$1,1)),\"\"))","v":""},{"$f":"IF(COUNTBLANK(M33)=1,\"\",IF(OR(S33=LEFT(Q$1,1),S33=RIGHT(Q$1,1)),COUNTIF(S$2:S33,LEFT(Q$1,1))+COUNTIF(S$2:S33,RIGHT(Q$1,1)),\"\"))","v":""},{"$f":"IF(COUNTBLANK(M33)=1,\"\",IF(OR(T33=LEFT(R$1,1),T33=RIGHT(R$1,1)),COUNTIF(T$2:T33,LEFT(R$1,1))+COUNTIF(T$2:T33,RIGHT(R$1,1)),\"\"))","v":""},{"$f":"IF(COUNTBLANK(M33)=1,\"\",INDEX(Registration!$C$2:$C$101,MATCH(M33,Registration!$B$2:$B$101,0)))","v":""},{"$f":"IF(COUNTBLANK(M33)=1,\"\",IF(COUNTBLANK(INDEX(Registration!$D$2:$D$101,MATCH(M33,Registration!$B$2:$B$101,0)))=1,\"\",INDEX(Registration!$D$2:$D$101,MATCH(M33,Registration!$B$2:$B$101,0))))","v":""}]
[{"$f":"IF(COUNTBLANK(Registration!B34)=1,\"\",Registration!B34)","v":""},null,null,null,null,null,"","","",null,"","","",null,{"$f":"IF(COUNTBLANK(M34)=1,\"\",IF(OR(S34=LEFT(O$1,1),S34=RIGHT(O$1,1)),COUNTIF(S$2:S34,LEFT(O$1,1))+COUNTIF(S$2:S34,RIGHT(O$1,1)),\"\"))","v":""},{"$f":"IF(COUNTBLANK(M34)=1,\"\",IF(OR(S34=LEFT(P$1,1),S34=RIGHT(P$1,1)),COUNTIF(S$2:S34,LEFT(P$1,1))+COUNTIF(S$2:S34,RIGHT(P$1,1)),\"\"))","v":""},{"$f":"IF(COUNTBLANK(M34)=1,\"\",IF(OR(S34=LEFT(Q$1,1),S34=RIGHT(Q$1,1)),COUNTIF(S$2:S34,LEFT(Q$1,1))+COUNTIF(S$2:S34,RIGHT(Q$1,1)),\"\"))","v":""},{"$f":"IF(COUNTBLANK(M34)=1,\"\",IF(OR(T34=LEFT(R$1,1),T34=RIGHT(R$1,1)),COUNTIF(T$2:T34,LEFT(R$1,1))+COUNTIF(T$2:T34,RIGHT(R$1,1)),\"\"))","v":""},{"$f":"IF(COUNTBLANK(M34)=1,\"\",INDEX(Registration!$C$2:$C$101,MATCH(M34,Registration!$B$2:$B$101,0)))","v":""},{"$f":"IF(COUNTBLANK(M34)=1,\"\",IF(COUNTBLANK(INDEX(Registration!$D$2:$D$101,MATCH(M34,Registration!$B$2:$B$101,0)))=1,\"\",INDEX(Registration!$D$2:$D$101,MATCH(M34,Registration!$B$2:$B$101,0))))","v":""}]
[{"$f":"IF(COUNTBLANK(Registration!B35)=1,\"\",Registration!B35)","v":""},null,null,null,null,null,"","","",null,"","","",null,{"$f":"IF(COUNTBLANK(M35)=1,\"\",IF(OR(S35=LEFT(O$1,1),S35=RIGHT(O$1,1)),COUNTIF(S$2:S35,LEFT(O$1,1))+COUNTIF(S$2:S35,RIGHT(O$1,1)),\"\"))","v":""},{"$f":"IF(COUNTBLANK(M35)=1,\"\",IF(OR(S35=LEFT(P$1,1),S35=RIGHT(P$1,1)),COUNTIF(S$2:S35,LEFT(P$1,1))+COUNTIF(S$2:S35,RIGHT(P$1,1)),\"\"))","v":""},{"$f":"IF(COUNTBLANK(M35)=1,\"\",IF(OR(S35=LEFT(Q$1,1),S35=RIGHT(Q$1,1)),COUNTIF(S$2:S35,LEFT(Q$1,1))+COUNTIF(S$2:S35,RIGHT(Q$1,1)),\"\"))","v":""},{"$f":"IF(COUNTBLANK(M35)=1,\"\",IF(OR(T35=LEFT(R$1,1),T35=RIGHT(R$1,1)),COUNTIF(T$2:T35,LEFT(R$1,1))+COUNTIF(T$2:T35,RIGHT(R$1,1)),\"\"))","v":""},{"$f":"IF(COUNTBLANK(M35)=1,\"\",INDEX(Registration!$C$2:$C$101,MATCH(M35,Registration!$B$2:$B$101,0)))","v":""},{"$f":"IF(COUNTBLANK(M35)=1,\"\",IF(COUNTBLANK(INDEX(Registration!$D$2:$D$101,MATCH(M35,Registration!$B$2:$B$101,0)))=1,\"\",INDEX(Registration!$D$2:$D$101,MATCH(M35,Registration!$B$2:$B$101,0))))","v":""}]
[{"$f":"IF(COUNTBLANK(Registration!B36)=1,\"\",Registration!B36)","v":""},null,null,null,null,null,"","","",null,"","","",null,{"$f":"IF(COUNTBLANK(M36)=1,\"\",IF(OR(S36=LEFT(O$1,1),S36=RIGHT(O$1,1)),COUNTIF(S$2:S36,LEFT(O$1,1))+COUNTIF(S$2:S36,RIGHT(O$1,1)),\"\"))","v":""},{"$f":"IF(COUNTBLANK(M36)=1,\"\",IF(OR(S36=LEFT(P$1,1),S36=RIGHT(P$1,1)),COUNTIF(S$2:S36,LEFT(P$1,1))+COUNTIF(S$2:S36,RIGHT(P$1,1)),\"\"))","v":""},{"$f":"IF(COUNTBLANK(M36)=1,\"\",IF(OR(S36=LEFT(Q$1,1),S36=RIGHT(Q$1,1)),COUNTIF(S$2:S36,LEFT(Q$1,1))+COUNTIF(S$2:S36,RIGHT(Q$1,1)),\"\"))","v":""},{"$f":"IF(COUNTBLANK(M36)=1,\"\",IF(OR(T36=LEFT(R$1,1),T36=RIGHT(R$1,1)),COUNTIF(T$2:T36,LEFT(R$1,1))+COUNTIF(T$2:T36,RIGHT(R$1,1)),\"\"))","v":""},{"$f":"IF(COUNTBLANK(M36)=1,\"\",INDEX(Registration!$C$2:$C$101,MATCH(M36,Registration!$B$2:$B$101,0)))","v":""},{"$f":"IF(COUNTBLANK(M36)=1,\"\",IF(COUNTBLANK(INDEX(Registration!$D$2:$D$101,MATCH(M36,Registration!$B$2:$B$101,0)))=1,\"\",INDEX(Registration!$D$2:$D$101,MATCH(M36,Registration!$B$2:$B$101,0))))","v":""}]
[{"$f":"IF(COUNTBLANK(Registration!B37)=1,\"\",Registration!B37)","v":""},null,null,null,null,null,"","","",null,"","","",null,{"$f":"IF(COUNTBLANK(M37)=1,\"\",IF(OR(S37=LEFT(O$1,1),S37=RIGHT(O$1,1)),COUNTIF(S$2:S37,LEFT(O$1,1))+COUNTIF(S$2:S37,RIGHT(O$1,1)),\"\"))","v":""},{"$f":"IF(COUNTBLANK(M37)=1,\"\",IF(OR(S37=LEFT(P$1,1),S37=RIGHT(P$1,1)),COUNTIF(S$2:S37,LEFT(P$1,1))+COUNTIF(S$2:S37,RIGHT(P$1,1)),\"\"))","v":""},{"$f":"IF(COUNTBLANK(M37)=1,\"\",IF(OR(S37=LEFT(Q$1,1),S37=RIGHT(Q$1,1)),COUNTIF(S$2:S37,LEFT(Q$1,1))+COUNTIF(S$2:S37,RIGHT(Q$1,1)),\"\"))","v":""},{"$f":"IF(COUNTBLANK(M37)=1,\"\",IF(OR(T37=LEFT(R$1,1),T37=RIGHT(R$1,1)),COUNTIF(T$2:T37,LEFT(R$1,1))+COUNTIF(T$2:T37,RIGHT(R$1,1)),\"\"))","v":""},{"$f":"IF(COUNTBLANK(M37)=1,\"\",INDEX(Registration!$C$2:$C$101,MATCH(M37,Registration!$B$2:$B$101,0)))","v":""},{"$f":"IF(COUNTBLANK(M37)=1,\"\",IF(COUNTBLANK(INDEX(Registration!$D$2:$D$101,MATCH(M37,Registration!$B$2:$B$101,0)))=1,\"\",INDEX(Registration!$D$2:$D$101,MATCH(M37,Registration!$B$2:$B$101,0))))","v":""}]
[{"$f":"IF(COUNTBLANK(Registration!B38)=1,\"\",Registration!B38)","v":""},null,null,null,null,null,"","","",null,"","","",null,{"$f":"IF(COUNTBLANK(M38)=1,\"\",IF(OR(S38=LEFT(O$1,1),S38=RIGHT(O$1,1)),COUNTIF(S$2:S38,LEFT(O$1,1))+COUNTIF(S$2:S38,RIGHT(O$1,1)),\"\"))","v":""},{"$f":"IF(COUNTBLANK(M38)=1,\"\",IF(OR(S38=LEFT(P$1,1),S38=RIGHT(P$1,1)),COUNTIF(S$2:S38,LEFT(P$1,1))+COUNTIF(S$2:S38,RIGHT(P$1,1)),\"\"))","v":""},{"$f":"IF(COUNTBLANK(M38)=1,\"\",IF(OR(S38=LEFT(Q$1,1),S38=RIGHT(Q$1,1)),COUNTIF(S$2:S38,LEFT(Q$1,1))+COUNTIF(S$2:S38,RIGHT(Q$1,1)),\"\"))","v":""},{"$f":"IF(COUNTBLANK(M38)=1,\"\",IF(OR(T38=LEFT(R$1,1),T38=RIGHT(R$1,1)),COUNTIF(T$2:T38,LEFT(R$1,1))+COUNTIF(T$2:T38,RIGHT(R$1,1)),\"\"))","v":""},{"$f":"IF(COUNTBLANK(M38)=1,\"\",INDEX(Registration!$C$2:$C$101,MATCH(M38,Registration!$B$2:$B$101,0)))","v":""},{"$f":"IF(COUNTBLANK(M38)=1,\"\",IF(COUNTBLANK(INDEX(Registration!$D$2:$D$101,MATCH(M38,Registration!$B$2:$B$101,0)))=1,\"\",INDEX(Registration!$D$2:$D$101,MATCH(M38,Registration!$B$2:$B$101,0))))","v":""}]
[{"$f":"IF(COUNTBLANK(Registration!B39)=1,\"\",Registration!B39)","v":""},null,null,null,null,null,"","","",null,"","","",null,{"$f":"IF(COUNTBLANK(M39)=1,\"\",IF(OR(S39=LEFT(O$1,1),S39=RIGHT(O$1,1)),COUNTIF(S$2:S39,LEFT(O$1,1))+COUNTIF(S$2:S39,RIGHT(O$1,1)),\"\"))","v":""},{"$f":"IF(COUNTBLANK(M39)=1,\"\",IF(OR(S39=LEFT(P$1,1),S39=RIGHT(P$1,1)),COUNTIF(S$2:S39,LEFT(P$1,1))+COUNTIF(S$2:S39,RIGHT(P$1,1)),\"\"))","v":""},{"$f":"IF(COUNTBLANK(M39)=1,\"\",IF(OR(S39=LEFT(Q$1,1),S39=RIGHT(Q$1,1)),COUNTIF(S$2:S39,LEFT(Q$1,1))+COUNTIF(S$2:S39,RIGHT(Q$1,1)),\"\"))","v":""},{"$f":"IF(COUNTBLANK(M39)=1,\"\",IF(OR(T39=LEFT(R$1,1),T39=RIGHT(R$1,1)),COUNTIF(T$2:T39,LEFT(R$1,1))+COUNTIF(T$2:T39,RIGHT(R$1,1)),\"\"))","v":""},{"$f":"IF(COUNTBLANK(M39)=1,\"\",INDEX(Registration!$C$2:$C$101,MATCH(M39,Registration!$B$2:$B$101,0)))","v":""},{"$f":"IF(COUNTBLANK(M39)=1,\"\",IF(COUNTBLANK(INDEX(Registration!$D$2:$D$101,MATCH(M39,Registration!$B$2:$B$101,0)))=1,\"\",INDEX(Registration!$D$2:$D$101,MATCH(M39,Registration!$B$2:$B$101,0))))","v":""}]
[{"$f":"IF(COUNTBLANK(Registration!B40)=1,\"\",Registration!B40)","v":""},null,null,null,null,null,"","","",null,"","","",null,{"$f":"IF(COUNTBLANK(M40)=1,\"\",IF(OR(S40=LEFT(O$1,1),S40=RIGHT(O$1,1)),COUNTIF(S$2:S40,LEFT(O$1,1))+COUNTIF(S$2:S40,RIGHT(O$1,1)),\"\"))","v":""},{"$f":"IF(COUNTBLANK(M40)=1,\"\",IF(OR(S40=LEFT(P$1,1),S40=RIGHT(P$1,1)),COUNTIF(S$2:S40,LEFT(P$1,1))+COUNTIF(S$2:S40,RIGHT(P$1,1)),\"\"))","v":""},{"$f":"IF(COUNTBLANK(M40)=1,\"\",IF(OR(S40=LEFT(Q$1,1),S40=RIGHT(Q$1,1)),COUNTIF(S$2:S40,LEFT(Q$1,1))+COUNTIF(S$2:S40,RIGHT(Q$1,1)),\"\"))","v":""},{"$f":"IF(COUNTBLANK(M40)=1,\"\",IF(OR(T40=LEFT(R$1,1),T40=RIGHT(R$1,1)),COUNTIF(T$2:T40,LEFT(R$1,1))+COUNTIF(T$2:T40,RIGHT(R$1,1)),\"\"))","v":""},{"$f":"IF(COUNTBLANK(M40)=1,\"\",INDEX(Registration!$C$2:$C$101,MATCH(M40,Registration!$B$2:$B$101,0)))","v":""},{"$f":"IF(COUNTBLANK(M40)=1,\"\",IF(COUNTBLANK(INDEX(Registration!$D$2:$D$101,MATCH(M40,Registration!$B$2:$B$101,0)))=1,\"\",INDEX(Registration!$D$2:$D$101,MATCH(M40,Registration!$B$2:$B$101,0))))","v":""}]
[{"$f":"IF(COUNTBLANK(Registration!B41)=1,\"\",Registration!B41)","v":""},null,null,null,null,null,"","","",null,"","","",null,{"$f":"IF(COUNTBLANK(M41)=1,\"\",IF(OR(S41=LEFT(O$1,1),S41=RIGHT(O$1,1)),COUNTIF(S$2:S41,LEFT(O$1,1))+COUNTIF(S$2:S41,RIGHT(O$1,1)),\"\"))","v":""},{"$f":"IF(COUNTBLANK(M41)=1,\"\",IF(OR(S41=LEFT(P$1,1),S41=RIGHT(P$1,1)),COUNTIF(S$2:S41,LEFT(P$1,1))+COUNTIF(S$2:S41,RIGHT(P$1,1)),\"\"))","v":""},{"$f":"IF(COUNTBLANK(M41)=1,\"\",IF(OR(S41=LEFT(Q$1,1),S41=RIGHT(Q$1,1)),COUNTIF(S$2:S41,LEFT(Q$1,1))+COUNTIF(S$2:S41,RIGHT(Q$1,1)),\"\"))","v":""},{"$f":"IF(COUNTBLANK(M41)=1,\"\",IF(OR(T41=LEFT(R$1,1),T41=RIGHT(R$1,1)),COUNTIF(T$2:T41,LEFT(R$1,1))+COUNTIF(T$2:T41,RIGHT(R$1,1)),\"\"))","v":""},{"$f":"IF(COUNTBLANK(M41)=1,\"\",INDEX(Registration!$C$2:$C$101,MATCH(M41,Registration!$B$2:$B$101,0)))","v":""},{"$f":"IF(COUNTBLANK(M41)=1,\"\",IF(COUNTBLANK(INDEX(Registration!$D$2:$D$101,MATCH(M41,Registration!$B$2:$B$101,0)))=1,\"\",INDEX(Registration!$D$2:$D$101,MATCH(M41,Registration!$B$2:$B$101,0))))","v":""}]
[{"$f":"IF(COUNTBLANK(Registration!B42)=1,\"\",Registration!B42)","v":""},null,null,null,null,null,"","","",null,"","","",null,{"$f":"IF(COUNTBLANK(M42)=1,\"\",IF(OR(S42=LEFT(O$1,1),S42=RIGHT(O$1,1)),COUNTIF(S$2:S42,LEFT(O$1,1))+COUNTIF(S$2:S42,RIGHT(O$1,1)),\"\"))","v":""},{"$f":"IF(COUNTBLANK(M42)=1,\"\",IF(OR(S42=LEFT(P$1,1),S42=RIGHT(P$1,1)),COUNTIF(S$2:S42,LEFT(P$1,1))+COUNTIF(S$2:S42,RIGHT(P$1,1)),\"\"))","v":""},{"$f":"IF(COUNTBLANK(M42)=1,\"\",IF(OR(S42=LEFT(Q$1,1),S42=RIGHT(Q$1,1)),COUNTIF(S$2:S42,LEFT(Q$1,1))+COUNTIF(S$2:S42,RIGHT(Q$1,1)),\"\"))","v":""},{"$f":"IF(COUNTBLANK(M42)=1,\"\",IF(OR(T42=LEFT(R$1,1),T42=RIGHT(R$1,1)),COUNTIF(T$2:T42,LEFT(R$1,1))+COUNTIF(T$2:T42,RIGHT(R$1,1)),\"\"))","v":""},{"$f":"IF(COUNTBLANK(M42)=1,\"\",INDEX(Registration!$C$2:$C$101,MATCH(M42,Registration!$B$2:$B$101,0)))","v":""},{"$f":"IF(COUNTBLANK(M42)=1,\"\",IF(COUNTBLANK(INDEX(Registration!$D$2:$D$101,MATCH(M42,Registration!$B$2:$B$101,0)))=1,\"\",INDEX(Registration!$D$2:$D$101,MATCH(M42,Registration!$B$2:$B$101,0))))","v":""}]
[{"$f":"IF(COUNTBLANK(Registration!B43)=1,\"\",Registration!B43)","v":""},null,null,null,null,null,"","","",null,"","","",null,{"$f":"IF(COUNTBLANK(M43)=1,\"\",IF(OR(S43=LEFT(O$1,1),S43=RIGHT(O$1,1)),COUNTIF(S$2:S43,LEFT(O$1,1))+COUNTIF(S$2:S43,RIGHT(O$1,1)),\"\"))","v":""},{"$f":"IF(COUNTBLANK(M43)=1,\"\",IF(OR(S43=LEFT(P$1,1),S43=RIGHT(P$1,1)),COUNTIF(S$2:S43,LEFT(P$1,1))+COUNTIF(S$2:S43,RIGHT(P$1,1)),\"\"))","v":""},{"$f":"IF(COUNTBLANK(M43)=1,\"\",IF(OR(S43=LEFT(Q$1,1),S43=RIGHT(Q$1,1)),COUNTIF(S$2:S43,LEFT(Q$1,1))+COUNTIF(S$2:S43,RIGHT(Q$1,1)),\"\"))","v":""},{"$f":"IF(COUNTBLANK(M43)=1,\"\",IF(OR(T43=LEFT(R$1,1),T43=RIGHT(R$1,1)),COUNTIF(T$2:T43,LEFT(R$1,1))+COUNTIF(T$2:T43,RIGHT(R$1,1)),\"\"))","v":""},{"$f":"IF(COUNTBLANK(M43)=1,\"\",INDEX(Registration!$C$2:$C$101,MATCH(M43,Registration!$B$2:$B$101,0)))","v":""},{"$f":"IF(COUNTBLANK(M43)=1,\"\",IF(COUNTBLANK(INDEX(Registration!$D$2:$D$101,MATCH(M43,Registration!$B$2:$B$101,0)))=1,\"\",INDEX(Registration!$D$2:$D$101,MATCH(M43,Registration!$B$2:$B$101,0))))","v":""}]
[{"$f":"IF(COUNTBLANK(Registration!B44)=1,\"\",Registration!B44)","v":""},null,null,null,null,null,"","","",null,"","","",null,{"$f":"IF(COUNTBLANK(M44)=1,\"\",IF(OR(S44=LEFT(O$1,1),S44=RIGHT(O$1,1)),COUNTIF(S$2:S44,LEFT(O$1,1))+COUNTIF(S$2:S44,RIGHT(O$1,1)),\"\"))","v":""},{"$f":"IF(COUNTBLANK(M44)=1,\"\",IF(OR(S44=LEFT(P$1,1),S44=RIGHT(P$1,1)),COUNTIF(S$2:S44,LEFT(P$1,1))+COUNTIF(S$2:S44,RIGHT(P$1,1)),\"\"))","v":""},{"$f":"IF(COUNTBLANK(M44)=1,\"\",IF(OR(S44=LEFT(Q$1,1),S44=RIGHT(Q$1,1)),COUNTIF(S$2:S44,LEFT(Q$1,1))+COUNTIF(S$2:S44,RIGHT(Q$1,1)),\"\"))","v":""},{"$f":"IF(COUNTBLANK(M44)=1,\"\",IF(OR(T44=LEFT(R$1,1),T44=RIGHT(R$1,1)),COUNTIF(T$2:T44,LEFT(R$1,1))+COUNTIF(T$2:T44,RIGHT(R$1,1)),\"\"))","v":""},{"$f":"IF(COUNTBLANK(M44)=1,\"\",INDEX(Registration!$C$2:$C$101,MATCH(M44,Registration!$B$2:$B$101,0)))","v":""},{"$f":"IF(COUNTBLANK(M44)=1,\"\",IF(COUNTBLANK(INDEX(Registration!$D$2:$D$101,MATCH(M44,Registration!$B$2:$B$101,0)))=1,\"\",INDEX(Registration!$D$2:$D$101,MATCH(M44,Registration!$B$2:$B$101,0))))","v":""}]
[{"$f":"IF(COUNTBLANK(Registration!B45)=1,\"\",Registration!B45)","v":""},null,null,null,null,null,"","","",null,"","","",null,{"$f":"IF(COUNTBLANK(M45)=1,\"\",IF(OR(S45=LEFT(O$1,1),S45=RIGHT(O$1,1)),COUNTIF(S$2:S45,LEFT(O$1,1))+COUNTIF(S$2:S45,RIGHT(O$1,1)),\"\"))","v":""},{"$f":"IF(COUNTBLANK(M45)=1,\"\",IF(OR(S45=LEFT(P$1,1),S45=RIGHT(P$1,1)),COUNTIF(S$2:S45,LEFT(P$1,1))+COUNTIF(S$2:S45,RIGHT(P$1,1)),\"\"))","v":""},{"$f":"IF(COUNTBLANK(M45)=1,\"\",IF(OR(S45=LEFT(Q$1,1),S45=RIGHT(Q$1,1)),COUNTIF(S$2:S45,LEFT(Q$1,1))+COUNTIF(S$2:S45,RIGHT(Q$1,1)),\"\"))","v":""},{"$f":"IF(COUNTBLANK(M45)=1,\"\",IF(OR(T45=LEFT(R$1,1),T45=RIGHT(R$1,1)),COUNTIF(T$2:T45,LEFT(R$1,1))+COUNTIF(T$2:T45,RIGHT(R$1,1)),\"\"))","v":""},{"$f":"IF(COUNTBLANK(M45)=1,\"\",INDEX(Registration!$C$2:$C$101,MATCH(M45,Registration!$B$2:$B$101,0)))","v":""},{"$f":"IF(COUNTBLANK(M45)=1,\"\",IF(COUNTBLANK(INDEX(Registration!$D$2:$D$101,MATCH(M45,Registration!$B$2:$B$101,0)))=1,\"\",INDEX(Registration!$D$2:$D$101,MATCH(M45,Registration!$B$2:$B$101,0))))","v":""}]
[{"$f":"IF(COUNTBLANK(Registration!B46)=1,\"\",Registration!B46)","v":""},null,null,null,null,null,"","","",null,"","","",null,{"$f":"IF(COUNTBLANK(M46)=1,\"\",IF(OR(S46=LEFT(O$1,1),S46=RIGHT(O$1,1)),COUNTIF(S$2:S46,LEFT(O$1,1))+COUNTIF(S$2:S46,RIGHT(O$1,1)),\"\"))","v":""},{"$f":"IF(COUNTBLANK(M46)=1,\"\",IF(OR(S46=LEFT(P$1,1),S46=RIGHT(P$1,1)),COUNTIF(S$2:S46,LEFT(P$1,1))+COUNTIF(S$2:S46,RIGHT(P$1,1)),\"\"))","v":""},{"$f":"IF(COUNTBLANK(M46)=1,\"\",IF(OR(S46=LEFT(Q$1,1),S46=RIGHT(Q$1,1)),COUNTIF(S$2:S46,LEFT(Q$1,1))+COUNTIF(S$2:S46,RIGHT(Q$1,1)),\"\"))","v":""},{"$f":"IF(COUNTBLANK(M46)=1,\"\",IF(OR(T46=LEFT(R$1,1),T46=RIGHT(R$1,1)),COUNTIF(T$2:T46,LEFT(R$1,1))+COUNTIF(T$2:T46,RIGHT(R$1,1)),\"\"))","v":""},{"$f":"IF(COUNTBLANK(M46)=1,\"\",INDEX(Registration!$C$2:$C$101,MATCH(M46,Registration!$B$2:$B$101,0)))","v":""},{"$f":"IF(COUNTBLANK(M46)=1,\"\",IF(COUNTBLANK(INDEX(Registration!$D$2:$D$101,MATCH(M46,Registration!$B$2:$B$101,0)))=1,\"\",INDEX(Registration!$D$2:$D$101,MATCH(M46,Registration!$B$2:$B$101,0))))","v":""}]
[{"$f":"IF(COUNTBLANK(Registration!B47)=1,\"\",Registration!B47)","v":""},null,null,null,null,null,"","","",null,"","","",null,{"$f":"IF(COUNTBLANK(M47)=1,\"\",IF(OR(S47=LEFT(O$1,1),S47=RIGHT(O$1,1)),COUNTIF(S$2:S47,LEFT(O$1,1))+COUNTIF(S$2:S47,RIGHT(O$1,1)),\"\"))","v":""},{"$f":"IF(COUNTBLANK(M47)=1,\"\",IF(OR(S47=LEFT(P$1,1),S47=RIGHT(P$1,1)),COUNTIF(S$2:S47,LEFT(P$1,1))+COUNTIF(S$2:S47,RIGHT(P$1,1)),\"\"))","v":""},{"$f":"IF(COUNTBLANK(M47)=1,\"\",IF(OR(S47=LEFT(Q$1,1),S47=RIGHT(Q$1,1)),COUNTIF(S$2:S47,LEFT(Q$1,1))+COUNTIF(S$2:S47,RIGHT(Q$1,1)),\"\"))","v":""},{"$f":"IF(COUNTBLANK(M47)=1,\"\",IF(OR(T47=LEFT(R$1,1),T47=RIGHT(R$1,1)),COUNTIF(T$2:T47,LEFT(R$1,1))+COUNTIF(T$2:T47,RIGHT(R$1,1)),\"\"))","v":""},{"$f":"IF(COUNTBLANK(M47)=1,\"\",INDEX(Registration!$C$2:$C$101,MATCH(M47,Registration!$B$2:$B$101,0)))","v":""},{"$f":"IF(COUNTBLANK(M47)=1,\"\",IF(COUNTBLANK(INDEX(Registration!$D$2:$D$101,MATCH(M47,Registration!$B$2:$B$101,0)))=1,\"\",INDEX(Registration!$D$2:$D$101,MATCH(M47,Registration!$B$2:$B$101,0))))","v":""}]
[{"$f":"IF(COUNTBLANK(Registration!B48)=1,\"\",Registration!B48)","v":""},null,null,null,null,null,"","","",null,"","","",null,{"$f":"IF(COUNTBLANK(M48)=1,\"\",IF(OR(S48=LEFT(O$1,1),S48=RIGHT(O$1,1)),COUNTIF(S$2:S48,LEFT(O$1,1))+COUNTIF(S$2:S48,RIGHT(O$1,1)),\"\"))","v":""},{"$f":"IF(COUNTBLANK(M48)=1,\"\",IF(OR(S48=LEFT(P$1,1),S48=RIGHT(P$1,1)),COUNTIF(S$2:S48,LEFT(P$1,1))+COUNTIF(S$2:S48,RIGHT(P$1,1)),\"\"))","v":""},{"$f":"IF(COUNTBLANK(M48)=1,\"\",IF(OR(S48=LEFT(Q$1,1),S48=RIGHT(Q$1,1)),COUNTIF(S$2:S48,LEFT(Q$1,1))+COUNTIF(S$2:S48,RIGHT(Q$1,1)),\"\"))","v":""},{"$f":"IF(COUNTBLANK(M48)=1,\"\",IF(OR(T48=LEFT(R$1,1),T48=RIGHT(R$1,1)),COUNTIF(T$2:T48,LEFT(R$1,1))+COUNTIF(T$2:T48,RIGHT(R$1,1)),\"\"))","v":""},{"$f":"IF(COUNTBLANK(M48)=1,\"\",INDEX(Registration!$C$2:$C$101,MATCH(M48,Registration!$B$2:$B$101,0)))","v":""},{"$f":"IF(COUNTBLANK(M48)=1,\"\",IF(COUNTBLANK(INDEX(Registration!$D$2:$D$101,MATCH(M48,Registration!$B$2:$B$101,0)))=1,\"\",INDEX(Registration!$D$2:$D$101,MATCH(M48,Registration!$B$2:$B$101,0))))","v":""}]
[{"$f":"IF(COUNTBLANK(Registration!B49)=1,\"\",Registration!B49)","v":""},null,null,null,null,null,"","","",null,"","","",null,{"$f":"IF(COUNTBLANK(M49)=1,\"\",IF(OR(S49=LEFT(O$1,1),S49=RIGHT(O$1,1)),COUNTIF(S$2:S49,LEFT(O$1,1))+COUNTIF(S$2:S49,RIGHT(O$1,1)),\"\"))","v":""},{"$f":"IF(COUNTBLANK(M49)=1,\"\",IF(OR(S49=LEFT(P$1,1),S49=RIGHT(P$1,1)),COUNTIF(S$2:S49,LEFT(P$1,1))+COUNTIF(S$2:S49,RIGHT(P$1,1)),\"\"))","v":""},{"$f":"IF(COUNTBLANK(M49)=1,\"\",IF(OR(S49=LEFT(Q$1,1),S49=RIGHT(Q$1,1)),COUNTIF(S$2:S49,LEFT(Q$1,1))+COUNTIF(S$2:S49,RIGHT(Q$1,1)),\"\"))","v":""},{"$f":"IF(COUNTBLANK(M49)=1,\"\",IF(OR(T49=LEFT(R$1,1),T49=RIGHT(R$1,1)),COUNTIF(T$2:T49,LEFT(R$1,1))+COUNTIF(T$2:T49,RIGHT(R$1,1)),\"\"))","v":""},{"$f":"IF(COUNTBLANK(M49)=1,\"\",INDEX(Registration!$C$2:$C$101,MATCH(M49,Registration!$B$2:$B$101,0)))","v":""},{"$f":"IF(COUNTBLANK(M49)=1,\"\",IF(COUNTBLANK(INDEX(Registration!$D$2:$D$101,MATCH(M49,Registration!$B$2:$B$101,0)))=1,\"\",INDEX(Registration!$D$2:$D$101,MATCH(M49,Registration!$B$2:$B$101,0))))","v":""}]
[{"$f":"IF(COUNTBLANK(Registration!B50)=1,\"\",Registration!B50)","v":""},null,null,null,null,null,"","","",null,"","","",null,{"$f":"IF(COUNTBLANK(M50)=1,\"\",IF(OR(S50=LEFT(O$1,1),S50=RIGHT(O$1,1)),COUNTIF(S$2:S50,LEFT(O$1,1))+COUNTIF(S$2:S50,RIGHT(O$1,1)),\"\"))","v":""},{"$f":"IF(COUNTBLANK(M50)=1,\"\",IF(OR(S50=LEFT(P$1,1),S50=RIGHT(P$1,1)),COUNTIF(S$2:S50,LEFT(P$1,1))+COUNTIF(S$2:S50,RIGHT(P$1,1)),\"\"))","v":""},{"$f":"IF(COUNTBLANK(M50)=1,\"\",IF(OR(S50=LEFT(Q$1,1),S50=RIGHT(Q$1,1)),COUNTIF(S$2:S50,LEFT(Q$1,1))+COUNTIF(S$2:S50,RIGHT(Q$1,1)),\"\"))","v":""},{"$f":"IF(COUNTBLANK(M50)=1,\"\",IF(OR(T50=LEFT(R$1,1),T50=RIGHT(R$1,1)),COUNTIF(T$2:T50,LEFT(R$1,1))+COUNTIF(T$2:T50,RIGHT(R$1,1)),\"\"))","v":""},{"$f":"IF(COUNTBLANK(M50)=1,\"\",INDEX(Registration!$C$2:$C$101,MATCH(M50,Registration!$B$2:$B$101,0)))","v":""},{"$f":"IF(COUNTBLANK(M50)=1,\"\",IF(COUNTBLANK(INDEX(Registration!$D$2:$D$101,MATCH(M50,Registration!$B$2:$B$101,0)))=1,\"\",INDEX(Registration!$D$2:$D$101,MATCH(M50,Registration!$B$2:$B$101,0))))","v":""}]
[{"$f":"IF(COUNTBLANK(Registration!B51)=1,\"\",Registration!B51)","v":""},null,null,null,null,null,"","","",null,"","","",null,{"$f":"IF(COUNTBLANK(M51)=1,\"\",IF(OR(S51=LEFT(O$1,1),S51=RIGHT(O$1,1)),COUNTIF(S$2:S51,LEFT(O$1,1))+COUNTIF(S$2:S51,RIGHT(O$1,1)),\"\"))","v":""},{"$f":"IF(COUNTBLANK(M51)=1,\"\",IF(OR(S51=LEFT(P$1,1),S51=RIGHT(P$1,1)),COUNTIF(S$2:S51,LEFT(P$1,1))+COUNTIF(S$2:S51,RIGHT(P$1,1)),\"\"))","v":""},{"$f":"IF(COUNTBLANK(M51)=1,\"\",IF(OR(S51=LEFT(Q$1,1),S51=RIGHT(Q$1,1)),COUNTIF(S$2:S51,LEFT(Q$1,1))+COUNTIF(S$2:S51,RIGHT(Q$1,1)),\"\"))","v":""},{"$f":"IF(COUNTBLANK(M51)=1,\"\",IF(OR(T51=LEFT(R$1,1),T51=RIGHT(R$1,1)),COUNTIF(T$2:T51,LEFT(R$1,1))+COUNTIF(T$2:T51,RIGHT(R$1,1)),\"\"))","v":""},{"$f":"IF(COUNTBLANK(M51)=1,\"\",INDEX(Registration!$C$2:$C$101,MATCH(M51,Registration!$B$2:$B$101,0)))","v":""},{"$f":"IF(COUNTBLANK(M51)=1,\"\",IF(COUNTBLANK(INDEX(Registration!$D$2:$D$101,MATCH(M51,Registration!$B$2:$B$101,0)))=1,\"\",INDEX(Registration!$D$2:$D$101,MATCH(M51,Registration!$B$2:$B$101,0))))","v":""}]
[{"$f":"IF(COUNTBLANK(Registration!B52)=1,\"\",Registration!B52)","v":""},null,null,null,null,null,"","","",null,"","","",null,{"$f":"IF(COUNTBLANK(M52)=1,\"\",IF(OR(S52=LEFT(O$1,1),S52=RIGHT(O$1,1)),COUNTIF(S$2:S52,LEFT(O$1,1))+COUNTIF(S$2:S52,RIGHT(O$1,1)),\"\"))","v":""},{"$f":"IF(COUNTBLANK(M52)=1,\"\",IF(OR(S52=LEFT(P$1,1),S52=RIGHT(P$1,1)),COUNTIF(S$2:S52,LEFT(P$1,1))+COUNTIF(S$2:S52,RIGHT(P$1,1)),\"\"))","v":""},{"$f":"IF(COUNTBLANK(M52)=1,\"\",IF(OR(S52=LEFT(Q$1,1),S52=RIGHT(Q$1,1)),COUNTIF(S$2:S52,LEFT(Q$1,1))+COUNTIF(S$2:S52,RIGHT(Q$1,1)),\"\"))","v":""},{"$f":"IF(COUNTBLANK(M52)=1,\"\",IF(OR(T52=LEFT(R$1,1),T52=RIGHT(R$1,1)),COUNTIF(T$2:T52,LEFT(R$1,1))+COUNTIF(T$2:T52,RIGHT(R$1,1)),\"\"))","v":""},{"$f":"IF(COUNTBLANK(M52)=1,\"\",INDEX(Registration!$C$2:$C$101,MATCH(M52,Registration!$B$2:$B$101,0)))","v":""},{"$f":"IF(COUNTBLANK(M52)=1,\"\",IF(COUNTBLANK(INDEX(Registration!$D$2:$D$101,MATCH(M52,Registration!$B$2:$B$101,0)))=1,\"\",INDEX(Registration!$D$2:$D$101,MATCH(M52,Registration!$B$2:$B$101,0))))","v":""}]
[{"$f":"IF(COUNTBLANK(Registration!B53)=1,\"\",Registration!B53)","v":""},null,null,null,null,null,"","","",null,"","","",null,{"$f":"IF(COUNTBLANK(M53)=1,\"\",IF(OR(S53=LEFT(O$1,1),S53=RIGHT(O$1,1)),COUNTIF(S$2:S53,LEFT(O$1,1))+COUNTIF(S$2:S53,RIGHT(O$1,1)),\"\"))","v":""},{"$f":"IF(COUNTBLANK(M53)=1,\"\",IF(OR(S53=LEFT(P$1,1),S53=RIGHT(P$1,1)),COUNTIF(S$2:S53,LEFT(P$1,1))+COUNTIF(S$2:S53,RIGHT(P$1,1)),\"\"))","v":""},{"$f":"IF(COUNTBLANK(M53)=1,\"\",IF(OR(S53=LEFT(Q$1,1),S53=RIGHT(Q$1,1)),COUNTIF(S$2:S53,LEFT(Q$1,1))+COUNTIF(S$2:S53,RIGHT(Q$1,1)),\"\"))","v":""},{"$f":"IF(COUNTBLANK(M53)=1,\"\",IF(OR(T53=LEFT(R$1,1),T53=RIGHT(R$1,1)),COUNTIF(T$2:T53,LEFT(R$1,1))+COUNTIF(T$2:T53,RIGHT(R$1,1)),\"\"))","v":""},{"$f":"IF(COUNTBLANK(M53)=1,\"\",INDEX(Registration!$C$2:$C$101,MATCH(M53,Registration!$B$2:$B$101,0)))","v":""},{"$f":"IF(COUNTBLANK(M53)=1,\"\",IF(COUNTBLANK(INDEX(Registration!$D$2:$D$101,MATCH(M53,Registration!$B$2:$B$101,0)))=1,\"\",INDEX(Registration!$D$2:$D$101,MATCH(M53,Registration!$B$2:$B$101,0))))","v":""}]
[{"$f":"IF(COUNTBLANK(Registration!B54)=1,\"\",Registration!B54)","v":""},null,null,null,null,null,"","","",null,"","","",null,{"$f":"IF(COUNTBLANK(M54)=1,\"\",IF(OR(S54=LEFT(O$1,1),S54=RIGHT(O$1,1)),COUNTIF(S$2:S54,LEFT(O$1,1))+COUNTIF(S$2:S54,RIGHT(O$1,1)),\"\"))","v":""},{"$f":"IF(COUNTBLANK(M54)=1,\"\",IF(OR(S54=LEFT(P$1,1),S54=RIGHT(P$1,1)),COUNTIF(S$2:S54,LEFT(P$1,1))+COUNTIF(S$2:S54,RIGHT(P$1,1)),\"\"))","v":""},{"$f":"IF(COUNTBLANK(M54)=1,\"\",IF(OR(S54=LEFT(Q$1,1),S54=RIGHT(Q$1,1)),COUNTIF(S$2:S54,LEFT(Q$1,1))+COUNTIF(S$2:S54,RIGHT(Q$1,1)),\"\"))","v":""},{"$f":"IF(COUNTBLANK(M54)=1,\"\",IF(OR(T54=LEFT(R$1,1),T54=RIGHT(R$1,1)),COUNTIF(T$2:T54,LEFT(R$1,1))+COUNTIF(T$2:T54,RIGHT(R$1,1)),\"\"))","v":""},{"$f":"IF(COUNTBLANK(M54)=1,\"\",INDEX(Registration!$C$2:$C$101,MATCH(M54,Registration!$B$2:$B$101,0)))","v":""},{"$f":"IF(COUNTBLANK(M54)=1,\"\",IF(COUNTBLANK(INDEX(Registration!$D$2:$D$101,MATCH(M54,Registration!$B$2:$B$101,0)))=1,\"\",INDEX(Registration!$D$2:$D$101,MATCH(M54,Registration!$B$2:$B$101,0))))","v":""}]
[{"$f":"IF(COUNTBLANK(Registration!B55)=1,\"\",Registration!B55)","v":""},null,null,null,null,null,"","","",null,"","","",null,{"$f":"IF(COUNTBLANK(M55)=1,\"\",IF(OR(S55=LEFT(O$1,1),S55=RIGHT(O$1,1)),COUNTIF(S$2:S55,LEFT(O$1,1))+COUNTIF(S$2:S55,RIGHT(O$1,1)),\"\"))","v":""},{"$f":"IF(COUNTBLANK(M55)=1,\"\",IF(OR(S55=LEFT(P$1,1),S55=RIGHT(P$1,1)),COUNTIF(S$2:S55,LEFT(P$1,1))+COUNTIF(S$2:S55,RIGHT(P$1,1)),\"\"))","v":""},{"$f":"IF(COUNTBLANK(M55)=1,\"\",IF(OR(S55=LEFT(Q$1,1),S55=RIGHT(Q$1,1)),COUNTIF(S$2:S55,LEFT(Q$1,1))+COUNTIF(S$2:S55,RIGHT(Q$1,1)),\"\"))","v":""},{"$f":"IF(COUNTBLANK(M55)=1,\"\",IF(OR(T55=LEFT(R$1,1),T55=RIGHT(R$1,1)),COUNTIF(T$2:T55,LEFT(R$1,1))+COUNTIF(T$2:T55,RIGHT(R$1,1)),\"\"))","v":""},{"$f":"IF(COUNTBLANK(M55)=1,\"\",INDEX(Registration!$C$2:$C$101,MATCH(M55,Registration!$B$2:$B$101,0)))","v":""},{"$f":"IF(COUNTBLANK(M55)=1,\"\",IF(COUNTBLANK(INDEX(Registration!$D$2:$D$101,MATCH(M55,Registration!$B$2:$B$101,0)))=1,\"\",INDEX(Registration!$D$2:$D$101,MATCH(M55,Registration!$B$2:$B$101,0))))","v":""}]
[{"$f":"IF(COUNTBLANK(Registration!B56)=1,\"\",Registration!B56)","v":""},null,null,null,null,null,"","","",null,"","","",null,{"$f":"IF(COUNTBLANK(M56)=1,\"\",IF(OR(S56=LEFT(O$1,1),S56=RIGHT(O$1,1)),COUNTIF(S$2:S56,LEFT(O$1,1))+COUNTIF(S$2:S56,RIGHT(O$1,1)),\"\"))","v":""},{"$f":"IF(COUNTBLANK(M56)=1,\"\",IF(OR(S56=LEFT(P$1,1),S56=RIGHT(P$1,1)),COUNTIF(S$2:S56,LEFT(P$1,1))+COUNTIF(S$2:S56,RIGHT(P$1,1)),\"\"))","v":""},{"$f":"IF(COUNTBLANK(M56)=1,\"\",IF(OR(S56=LEFT(Q$1,1),S56=RIGHT(Q$1,1)),COUNTIF(S$2:S56,LEFT(Q$1,1))+COUNTIF(S$2:S56,RIGHT(Q$1,1)),\"\"))","v":""},{"$f":"IF(COUNTBLANK(M56)=1,\"\",IF(OR(T56=LEFT(R$1,1),T56=RIGHT(R$1,1)),COUNTIF(T$2:T56,LEFT(R$1,1))+COUNTIF(T$2:T56,RIGHT(R$1,1)),\"\"))","v":""},{"$f":"IF(COUNTBLANK(M56)=1,\"\",INDEX(Registration!$C$2:$C$101,MATCH(M56,Registration!$B$2:$B$101,0)))","v":""},{"$f":"IF(COUNTBLANK(M56)=1,\"\",IF(COUNTBLANK(INDEX(Registration!$D$2:$D$101,MATCH(M56,Registration!$B$2:$B$101,0)))=1,\"\",INDEX(Registration!$D$2:$D$101,MATCH(M56,Registration!$B$2:$B$101,0))))","v":""}]
[{"$f":"IF(COUNTBLANK(Registration!B57)=1,\"\",Registration!B57)","v":""},null,null,null,null,null,"","","",null,"","","",null,{"$f":"IF(COUNTBLANK(M57)=1,\"\",IF(OR(S57=LEFT(O$1,1),S57=RIGHT(O$1,1)),COUNTIF(S$2:S57,LEFT(O$1,1))+COUNTIF(S$2:S57,RIGHT(O$1,1)),\"\"))","v":""},{"$f":"IF(COUNTBLANK(M57)=1,\"\",IF(OR(S57=LEFT(P$1,1),S57=RIGHT(P$1,1)),COUNTIF(S$2:S57,LEFT(P$1,1))+COUNTIF(S$2:S57,RIGHT(P$1,1)),\"\"))","v":""},{"$f":"IF(COUNTBLANK(M57)=1,\"\",IF(OR(S57=LEFT(Q$1,1),S57=RIGHT(Q$1,1)),COUNTIF(S$2:S57,LEFT(Q$1,1))+COUNTIF(S$2:S57,RIGHT(Q$1,1)),\"\"))","v":""},{"$f":"IF(COUNTBLANK(M57)=1,\"\",IF(OR(T57=LEFT(R$1,1),T57=RIGHT(R$1,1)),COUNTIF(T$2:T57,LEFT(R$1,1))+COUNTIF(T$2:T57,RIGHT(R$1,1)),\"\"))","v":""},{"$f":"IF(COUNTBLANK(M57)=1,\"\",INDEX(Registration!$C$2:$C$101,MATCH(M57,Registration!$B$2:$B$101,0)))","v":""},{"$f":"IF(COUNTBLANK(M57)=1,\"\",IF(COUNTBLANK(INDEX(Registration!$D$2:$D$101,MATCH(M57,Registration!$B$2:$B$101,0)))=1,\"\",INDEX(Registration!$D$2:$D$101,MATCH(M57,Registration!$B$2:$B$101,0))))","v":""}]
[{"$f":"IF(COUNTBLANK(Registration!B58)=1,\"\",Registration!B58)","v":""},null,null,null,null,null,"","","",null,"","","",null,{"$f":"IF(COUNTBLANK(M58)=1,\"\",IF(OR(S58=LEFT(O$1,1),S58=RIGHT(O$1,1)),COUNTIF(S$2:S58,LEFT(O$1,1))+COUNTIF(S$2:S58,RIGHT(O$1,1)),\"\"))","v":""},{"$f":"IF(COUNTBLANK(M58)=1,\"\",IF(OR(S58=LEFT(P$1,1),S58=RIGHT(P$1,1)),COUNTIF(S$2:S58,LEFT(P$1,1))+COUNTIF(S$2:S58,RIGHT(P$1,1)),\"\"))","v":""},{"$f":"IF(COUNTBLANK(M58)=1,\"\",IF(OR(S58=LEFT(Q$1,1),S58=RIGHT(Q$1,1)),COUNTIF(S$2:S58,LEFT(Q$1,1))+COUNTIF(S$2:S58,RIGHT(Q$1,1)),\"\"))","v":""},{"$f":"IF(COUNTBLANK(M58)=1,\"\",IF(OR(T58=LEFT(R$1,1),T58=RIGHT(R$1,1)),COUNTIF(T$2:T58,LEFT(R$1,1))+COUNTIF(T$2:T58,RIGHT(R$1,1)),\"\"))","v":""},{"$f":"IF(COUNTBLANK(M58)=1,\"\",INDEX(Registration!$C$2:$C$101,MATCH(M58,Registration!$B$2:$B$101,0)))","v":""},{"$f":"IF(COUNTBLANK(M58)=1,\"\",IF(COUNTBLANK(INDEX(Registration!$D$2:$D$101,MATCH(M58,Registration!$B$2:$B$101,0)))=1,\"\",INDEX(Registration!$D$2:$D$101,MATCH(M58,Registration!$B$2:$B$101,0))))","v":""}]
[{"$f":"IF(COUNTBLANK(Registration!B59)=1,\"\",Registration!B59)","v":""},null,null,null,null,null,"","","",null,"","","",null,{"$f":"IF(COUNTBLANK(M59)=1,\"\",IF(OR(S59=LEFT(O$1,1),S59=RIGHT(O$1,1)),COUNTIF(S$2:S59,LEFT(O$1,1))+COUNTIF(S$2:S59,RIGHT(O$1,1)),\"\"))","v":""},{"$f":"IF(COUNTBLANK(M59)=1,\"\",IF(OR(S59=LEFT(P$1,1),S59=RIGHT(P$1,1)),COUNTIF(S$2:S59,LEFT(P$1,1))+COUNTIF(S$2:S59,RIGHT(P$1,1)),\"\"))","v":""},{"$f":"IF(COUNTBLANK(M59)=1,\"\",IF(OR(S59=LEFT(Q$1,1),S59=RIGHT(Q$1,1)),COUNTIF(S$2:S59,LEFT(Q$1,1))+COUNTIF(S$2:S59,RIGHT(Q$1,1)),\"\"))","v":""},{"$f":"IF(COUNTBLANK(M59)=1,\"\",IF(OR(T59=LEFT(R$1,1),T59=RIGHT(R$1,1)),COUNTIF(T$2:T59,LEFT(R$1,1))+COUNTIF(T$2:T59,RIGHT(R$1,1)),\"\"))","v":""},{"$f":"IF(COUNTBLANK(M59)=1,\"\",INDEX(Registration!$C$2:$C$101,MATCH(M59,Registration!$B$2:$B$101,0)))","v":""},{"$f":"IF(COUNTBLANK(M59)=1,\"\",IF(COUNTBLANK(INDEX(Registration!$D$2:$D$101,MATCH(M59,Registration!$B$2:$B$101,0)))=1,\"\",INDEX(Registration!$D$2:$D$101,MATCH(M59,Registration!$B$2:$B$101,0))))","v":""}]
[{"$f":"IF(COUNTBLANK(Registration!B60)=1,\"\",Registration!B60)","v":""},null,null,null,null,null,"","","",null,"","","",null,{"$f":"IF(COUNTBLANK(M60)=1,\"\",IF(OR(S60=LEFT(O$1,1),S60=RIGHT(O$1,1)),COUNTIF(S$2:S60,LEFT(O$1,1))+COUNTIF(S$2:S60,RIGHT(O$1,1)),\"\"))","v":""},{"$f":"IF(COUNTBLANK(M60)=1,\"\",IF(OR(S60=LEFT(P$1,1),S60=RIGHT(P$1,1)),COUNTIF(S$2:S60,LEFT(P$1,1))+COUNTIF(S$2:S60,RIGHT(P$1,1)),\"\"))","v":""},{"$f":"IF(COUNTBLANK(M60)=1,\"\",IF(OR(S60=LEFT(Q$1,1),S60=RIGHT(Q$1,1)),COUNTIF(S$2:S60,LEFT(Q$1,1))+COUNTIF(S$2:S60,RIGHT(Q$1,1)),\"\"))","v":""},{"$f":"IF(COUNTBLANK(M60)=1,\"\",IF(OR(T60=LEFT(R$1,1),T60=RIGHT(R$1,1)),COUNTIF(T$2:T60,LEFT(R$1,1))+COUNTIF(T$2:T60,RIGHT(R$1,1)),\"\"))","v":""},{"$f":"IF(COUNTBLANK(M60)=1,\"\",INDEX(Registration!$C$2:$C$101,MATCH(M60,Registration!$B$2:$B$101,0)))","v":""},{"$f":"IF(COUNTBLANK(M60)=1,\"\",IF(COUNTBLANK(INDEX(Registration!$D$2:$D$101,MATCH(M60,Registration!$B$2:$B$101,0)))=1,\"\",INDEX(Registration!$D$2:$D$101,MATCH(M60,Registration!$B$2:$B$101,0))))","v":""}]
[{"$f":"IF(COUNTBLANK(Registration!B61)=1,\"\",Registration!B61)","v":""},null,null,null,null,null,"","","",null,"","","",null,{"$f":"IF(COUNTBLANK(M61)=1,\"\",IF(OR(S61=LEFT(O$1,1),S61=RIGHT(O$1,1)),COUNTIF(S$2:S61,LEFT(O$1,1))+COUNTIF(S$2:S61,RIGHT(O$1,1)),\"\"))","v":""},{"$f":"IF(COUNTBLANK(M61)=1,\"\",IF(OR(S61=LEFT(P$1,1),S61=RIGHT(P$1,1)),COUNTIF(S$2:S61,LEFT(P$1,1))+COUNTIF(S$2:S61,RIGHT(P$1,1)),\"\"))","v":""},{"$f":"IF(COUNTBLANK(M61)=1,\"\",IF(OR(S61=LEFT(Q$1,1),S61=RIGHT(Q$1,1)),COUNTIF(S$2:S61,LEFT(Q$1,1))+COUNTIF(S$2:S61,RIGHT(Q$1,1)),\"\"))","v":""},{"$f":"IF(COUNTBLANK(M61)=1,\"\",IF(OR(T61=LEFT(R$1,1),T61=RIGHT(R$1,1)),COUNTIF(T$2:T61,LEFT(R$1,1))+COUNTIF(T$2:T61,RIGHT(R$1,1)),\"\"))","v":""},{"$f":"IF(COUNTBLANK(M61)=1,\"\",INDEX(Registration!$C$2:$C$101,MATCH(M61,Registration!$B$2:$B$101,0)))","v":""},{"$f":"IF(COUNTBLANK(M61)=1,\"\",IF(COUNTBLANK(INDEX(Registration!$D$2:$D$101,MATCH(M61,Registration!$B$2:$B$101,0)))=1,\"\",INDEX(Registration!$D$2:$D$101,MATCH(M61,Registration!$B$2:$B$101,0))))","v":""}]
[{"$f":"IF(COUNTBLANK(Registration!B62)=1,\"\",Registration!B62)","v":""},null,null,null,null,null,"","","",null,"","","",null,{"$f":"IF(COUNTBLANK(M62)=1,\"\",IF(OR(S62=LEFT(O$1,1),S62=RIGHT(O$1,1)),COUNTIF(S$2:S62,LEFT(O$1,1))+COUNTIF(S$2:S62,RIGHT(O$1,1)),\"\"))","v":""},{"$f":"IF(COUNTBLANK(M62)=1,\"\",IF(OR(S62=LEFT(P$1,1),S62=RIGHT(P$1,1)),COUNTIF(S$2:S62,LEFT(P$1,1))+COUNTIF(S$2:S62,RIGHT(P$1,1)),\"\"))","v":""},{"$f":"IF(COUNTBLANK(M62)=1,\"\",IF(OR(S62=LEFT(Q$1,1),S62=RIGHT(Q$1,1)),COUNTIF(S$2:S62,LEFT(Q$1,1))+COUNTIF(S$2:S62,RIGHT(Q$1,1)),\"\"))","v":""},{"$f":"IF(COUNTBLANK(M62)=1,\"\",IF(OR(T62=LEFT(R$1,1),T62=RIGHT(R$1,1)),COUNTIF(T$2:T62,LEFT(R$1,1))+COUNTIF(T$2:T62,RIGHT(R$1,1)),\"\"))","v":""},{"$f":"IF(COUNTBLANK(M62)=1,\"\",INDEX(Registration!$C$2:$C$101,MATCH(M62,Registration!$B$2:$B$101,0)))","v":""},{"$f":"IF(COUNTBLANK(M62)=1,\"\",IF(COUNTBLANK(INDEX(Registration!$D$2:$D$101,MATCH(M62,Registration!$B$2:$B$101,0)))=1,\"\",INDEX(Registration!$D$2:$D$101,MATCH(M62,Registration!$B$2:$B$101,0))))","v":""}]
[{"$f":"IF(COUNTBLANK(Registration!B63)=1,\"\",Registration!B63)","v":""},null,null,null,null,null,"","","",null,"","","",null,{"$f":"IF(COUNTBLANK(M63)=1,\"\",IF(OR(S63=LEFT(O$1,1),S63=RIGHT(O$1,1)),COUNTIF(S$2:S63,LEFT(O$1,1))+COUNTIF(S$2:S63,RIGHT(O$1,1)),\"\"))","v":""},{"$f":"IF(COUNTBLANK(M63)=1,\"\",IF(OR(S63=LEFT(P$1,1),S63=RIGHT(P$1,1)),COUNTIF(S$2:S63,LEFT(P$1,1))+COUNTIF(S$2:S63,RIGHT(P$1,1)),\"\"))","v":""},{"$f":"IF(COUNTBLANK(M63)=1,\"\",IF(OR(S63=LEFT(Q$1,1),S63=RIGHT(Q$1,1)),COUNTIF(S$2:S63,LEFT(Q$1,1))+COUNTIF(S$2:S63,RIGHT(Q$1,1)),\"\"))","v":""},{"$f":"IF(COUNTBLANK(M63)=1,\"\",IF(OR(T63=LEFT(R$1,1),T63=RIGHT(R$1,1)),COUNTIF(T$2:T63,LEFT(R$1,1))+COUNTIF(T$2:T63,RIGHT(R$1,1)),\"\"))","v":""},{"$f":"IF(COUNTBLANK(M63)=1,\"\",INDEX(Registration!$C$2:$C$101,MATCH(M63,Registration!$B$2:$B$101,0)))","v":""},{"$f":"IF(COUNTBLANK(M63)=1,\"\",IF(COUNTBLANK(INDEX(Registration!$D$2:$D$101,MATCH(M63,Registration!$B$2:$B$101,0)))=1,\"\",INDEX(Registration!$D$2:$D$101,MATCH(M63,Registration!$B$2:$B$101,0))))","v":""}]
[{"$f":"IF(COUNTBLANK(Registration!B64)=1,\"\",Registration!B64)","v":""},null,null,null,null,null,"","","",null,"","","",null,{"$f":"IF(COUNTBLANK(M64)=1,\"\",IF(OR(S64=LEFT(O$1,1),S64=RIGHT(O$1,1)),COUNTIF(S$2:S64,LEFT(O$1,1))+COUNTIF(S$2:S64,RIGHT(O$1,1)),\"\"))","v":""},{"$f":"IF(COUNTBLANK(M64)=1,\"\",IF(OR(S64=LEFT(P$1,1),S64=RIGHT(P$1,1)),COUNTIF(S$2:S64,LEFT(P$1,1))+COUNTIF(S$2:S64,RIGHT(P$1,1)),\"\"))","v":""},{"$f":"IF(COUNTBLANK(M64)=1,\"\",IF(OR(S64=LEFT(Q$1,1),S64=RIGHT(Q$1,1)),COUNTIF(S$2:S64,LEFT(Q$1,1))+COUNTIF(S$2:S64,RIGHT(Q$1,1)),\"\"))","v":""},{"$f":"IF(COUNTBLANK(M64)=1,\"\",IF(OR(T64=LEFT(R$1,1),T64=RIGHT(R$1,1)),COUNTIF(T$2:T64,LEFT(R$1,1))+COUNTIF(T$2:T64,RIGHT(R$1,1)),\"\"))","v":""},{"$f":"IF(COUNTBLANK(M64)=1,\"\",INDEX(Registration!$C$2:$C$101,MATCH(M64,Registration!$B$2:$B$101,0)))","v":""},{"$f":"IF(COUNTBLANK(M64)=1,\"\",IF(COUNTBLANK(INDEX(Registration!$D$2:$D$101,MATCH(M64,Registration!$B$2:$B$101,0)))=1,\"\",INDEX(Registration!$D$2:$D$101,MATCH(M64,Registration!$B$2:$B$101,0))))","v":""}]
[{"$f":"IF(COUNTBLANK(Registration!B65)=1,\"\",Registration!B65)","v":""},null,null,null,null,null,"","","",null,"","","",null,{"$f":"IF(COUNTBLANK(M65)=1,\"\",IF(OR(S65=LEFT(O$1,1),S65=RIGHT(O$1,1)),COUNTIF(S$2:S65,LEFT(O$1,1))+COUNTIF(S$2:S65,RIGHT(O$1,1)),\"\"))","v":""},{"$f":"IF(COUNTBLANK(M65)=1,\"\",IF(OR(S65=LEFT(P$1,1),S65=RIGHT(P$1,1)),COUNTIF(S$2:S65,LEFT(P$1,1))+COUNTIF(S$2:S65,RIGHT(P$1,1)),\"\"))","v":""},{"$f":"IF(COUNTBLANK(M65)=1,\"\",IF(OR(S65=LEFT(Q$1,1),S65=RIGHT(Q$1,1)),COUNTIF(S$2:S65,LEFT(Q$1,1))+COUNTIF(S$2:S65,RIGHT(Q$1,1)),\"\"))","v":""},{"$f":"IF(COUNTBLANK(M65)=1,\"\",IF(OR(T65=LEFT(R$1,1),T65=RIGHT(R$1,1)),COUNTIF(T$2:T65,LEFT(R$1,1))+COUNTIF(T$2:T65,RIGHT(R$1,1)),\"\"))","v":""},{"$f":"IF(COUNTBLANK(M65)=1,\"\",INDEX(Registration!$C$2:$C$101,MATCH(M65,Registration!$B$2:$B$101,0)))","v":""},{"$f":"IF(COUNTBLANK(M65)=1,\"\",IF(COUNTBLANK(INDEX(Registration!$D$2:$D$101,MATCH(M65,Registration!$B$2:$B$101,0)))=1,\"\",INDEX(Registration!$D$2:$D$101,MATCH(M65,Registration!$B$2:$B$101,0))))","v":""}]
[{"$f":"IF(COUNTBLANK(Registration!B66)=1,\"\",Registration!B66)","v":""},null,null,null,null,null,"","","",null,"","","",null,{"$f":"IF(COUNTBLANK(M66)=1,\"\",IF(OR(S66=LEFT(O$1,1),S66=RIGHT(O$1,1)),COUNTIF(S$2:S66,LEFT(O$1,1))+COUNTIF(S$2:S66,RIGHT(O$1,1)),\"\"))","v":""},{"$f":"IF(COUNTBLANK(M66)=1,\"\",IF(OR(S66=LEFT(P$1,1),S66=RIGHT(P$1,1)),COUNTIF(S$2:S66,LEFT(P$1,1))+COUNTIF(S$2:S66,RIGHT(P$1,1)),\"\"))","v":""},{"$f":"IF(COUNTBLANK(M66)=1,\"\",IF(OR(S66=LEFT(Q$1,1),S66=RIGHT(Q$1,1)),COUNTIF(S$2:S66,LEFT(Q$1,1))+COUNTIF(S$2:S66,RIGHT(Q$1,1)),\"\"))","v":""},{"$f":"IF(COUNTBLANK(M66)=1,\"\",IF(OR(T66=LEFT(R$1,1),T66=RIGHT(R$1,1)),COUNTIF(T$2:T66,LEFT(R$1,1))+COUNTIF(T$2:T66,RIGHT(R$1,1)),\"\"))","v":""},{"$f":"IF(COUNTBLANK(M66)=1,\"\",INDEX(Registration!$C$2:$C$101,MATCH(M66,Registration!$B$2:$B$101,0)))","v":""},{"$f":"IF(COUNTBLANK(M66)=1,\"\",IF(COUNTBLANK(INDEX(Registration!$D$2:$D$101,MATCH(M66,Registration!$B$2:$B$101,0)))=1,\"\",INDEX(Registration!$D$2:$D$101,MATCH(M66,Registration!$B$2:$B$101,0))))","v":""}]
[{"$f":"IF(COUNTBLANK(Registration!B67)=1,\"\",Registration!B67)","v":""},null,null,null,null,null,{"$f":"IF(OR(COUNTBLANK($A67)=1,COUNTBLANK(B67:F67)=5),\"\",IF(OR(B67<0,C67<0,D67<0,E67<0,F67<0),-1,MAX(B67+C67+D67, B67+C67+E67, B67+C67+F67, B67+D67+E67, B67+D67+F67, B67+E67+F67, C67+D67+E67, C67+D67+F67,C67+E67+F67, D67+E67+F67)))","v":""},"","",null,"","","",null,{"$f":"IF(COUNTBLANK(M67)=1,\"\",IF(OR(S67=LEFT(O$1,1),S67=RIGHT(O$1,1)),COUNTIF(S$2:S67,LEFT(O$1,1))+COUNTIF(S$2:S67,RIGHT(O$1,1)),\"\"))","v":""},{"$f":"IF(COUNTBLANK(M67)=1,\"\",IF(OR(S67=LEFT(P$1,1),S67=RIGHT(P$1,1)),COUNTIF(S$2:S67,LEFT(P$1,1))+COUNTIF(S$2:S67,RIGHT(P$1,1)),\"\"))","v":""},{"$f":"IF(COUNTBLANK(M67)=1,\"\",IF(OR(S67=LEFT(Q$1,1),S67=RIGHT(Q$1,1)),COUNTIF(S$2:S67,LEFT(Q$1,1))+COUNTIF(S$2:S67,RIGHT(Q$1,1)),\"\"))","v":""},{"$f":"IF(COUNTBLANK(M67)=1,\"\",IF(OR(T67=LEFT(R$1,1),T67=RIGHT(R$1,1)),COUNTIF(T$2:T67,LEFT(R$1,1))+COUNTIF(T$2:T67,RIGHT(R$1,1)),\"\"))","v":""},{"$f":"IF(COUNTBLANK(M67)=1,\"\",INDEX(Registration!$C$2:$C$101,MATCH(M67,Registration!$B$2:$B$101,0)))","v":""},{"$f":"IF(COUNTBLANK(M67)=1,\"\",IF(COUNTBLANK(INDEX(Registration!$D$2:$D$101,MATCH(M67,Registration!$B$2:$B$101,0)))=1,\"\",INDEX(Registration!$D$2:$D$101,MATCH(M67,Registration!$B$2:$B$101,0))))","v":""}]
[{"$f":"IF(COUNTBLANK(Registration!B68)=1,\"\",Registration!B68)","v":""},null,null,null,null,null,"","","",null,"","","",null,{"$f":"IF(COUNTBLANK(M68)=1,\"\",IF(OR(S68=LEFT(O$1,1),S68=RIGHT(O$1,1)),COUNTIF(S$2:S68,LEFT(O$1,1))+COUNTIF(S$2:S68,RIGHT(O$1,1)),\"\"))","v":""},{"$f":"IF(COUNTBLANK(M68)=1,\"\",IF(OR(S68=LEFT(P$1,1),S68=RIGHT(P$1,1)),COUNTIF(S$2:S68,LEFT(P$1,1))+COUNTIF(S$2:S68,RIGHT(P$1,1)),\"\"))","v":""},{"$f":"IF(COUNTBLANK(M68)=1,\"\",IF(OR(S68=LEFT(Q$1,1),S68=RIGHT(Q$1,1)),COUNTIF(S$2:S68,LEFT(Q$1,1))+COUNTIF(S$2:S68,RIGHT(Q$1,1)),\"\"))","v":""},{"$f":"IF(COUNTBLANK(M68)=1,\"\",IF(OR(T68=LEFT(R$1,1),T68=RIGHT(R$1,1)),COUNTIF(T$2:T68,LEFT(R$1,1))+COUNTIF(T$2:T68,RIGHT(R$1,1)),\"\"))","v":""},{"$f":"IF(COUNTBLANK(M68)=1,\"\",INDEX(Registration!$C$2:$C$101,MATCH(M68,Registration!$B$2:$B$101,0)))","v":""},{"$f":"IF(COUNTBLANK(M68)=1,\"\",IF(COUNTBLANK(INDEX(Registration!$D$2:$D$101,MATCH(M68,Registration!$B$2:$B$101,0)))=1,\"\",INDEX(Registration!$D$2:$D$101,MATCH(M68,Registration!$B$2:$B$101,0))))","v":""}]
[{"$f":"IF(COUNTBLANK(Registration!B69)=1,\"\",Registration!B69)","v":""},null,null,null,null,null,"","","",null,"","","",null,{"$f":"IF(COUNTBLANK(M69)=1,\"\",IF(OR(S69=LEFT(O$1,1),S69=RIGHT(O$1,1)),COUNTIF(S$2:S69,LEFT(O$1,1))+COUNTIF(S$2:S69,RIGHT(O$1,1)),\"\"))","v":""},{"$f":"IF(COUNTBLANK(M69)=1,\"\",IF(OR(S69=LEFT(P$1,1),S69=RIGHT(P$1,1)),COUNTIF(S$2:S69,LEFT(P$1,1))+COUNTIF(S$2:S69,RIGHT(P$1,1)),\"\"))","v":""},{"$f":"IF(COUNTBLANK(M69)=1,\"\",IF(OR(S69=LEFT(Q$1,1),S69=RIGHT(Q$1,1)),COUNTIF(S$2:S69,LEFT(Q$1,1))+COUNTIF(S$2:S69,RIGHT(Q$1,1)),\"\"))","v":""},{"$f":"IF(COUNTBLANK(M69)=1,\"\",IF(OR(T69=LEFT(R$1,1),T69=RIGHT(R$1,1)),COUNTIF(T$2:T69,LEFT(R$1,1))+COUNTIF(T$2:T69,RIGHT(R$1,1)),\"\"))","v":""},{"$f":"IF(COUNTBLANK(M69)=1,\"\",INDEX(Registration!$C$2:$C$101,MATCH(M69,Registration!$B$2:$B$101,0)))","v":""},{"$f":"IF(COUNTBLANK(M69)=1,\"\",IF(COUNTBLANK(INDEX(Registration!$D$2:$D$101,MATCH(M69,Registration!$B$2:$B$101,0)))=1,\"\",INDEX(Registration!$D$2:$D$101,MATCH(M69,Registration!$B$2:$B$101,0))))","v":""}]
[{"$f":"IF(COUNTBLANK(Registration!B70)=1,\"\",Registration!B70)","v":""},null,null,null,null,null,"","","",null,"","","",null,{"$f":"IF(COUNTBLANK(M70)=1,\"\",IF(OR(S70=LEFT(O$1,1),S70=RIGHT(O$1,1)),COUNTIF(S$2:S70,LEFT(O$1,1))+COUNTIF(S$2:S70,RIGHT(O$1,1)),\"\"))","v":""},{"$f":"IF(COUNTBLANK(M70)=1,\"\",IF(OR(S70=LEFT(P$1,1),S70=RIGHT(P$1,1)),COUNTIF(S$2:S70,LEFT(P$1,1))+COUNTIF(S$2:S70,RIGHT(P$1,1)),\"\"))","v":""},{"$f":"IF(COUNTBLANK(M70)=1,\"\",IF(OR(S70=LEFT(Q$1,1),S70=RIGHT(Q$1,1)),COUNTIF(S$2:S70,LEFT(Q$1,1))+COUNTIF(S$2:S70,RIGHT(Q$1,1)),\"\"))","v":""},{"$f":"IF(COUNTBLANK(M70)=1,\"\",IF(OR(T70=LEFT(R$1,1),T70=RIGHT(R$1,1)),COUNTIF(T$2:T70,LEFT(R$1,1))+COUNTIF(T$2:T70,RIGHT(R$1,1)),\"\"))","v":""},{"$f":"IF(COUNTBLANK(M70)=1,\"\",INDEX(Registration!$C$2:$C$101,MATCH(M70,Registration!$B$2:$B$101,0)))","v":""},{"$f":"IF(COUNTBLANK(M70)=1,\"\",IF(COUNTBLANK(INDEX(Registration!$D$2:$D$101,MATCH(M70,Registration!$B$2:$B$101,0)))=1,\"\",INDEX(Registration!$D$2:$D$101,MATCH(M70,Registration!$B$2:$B$101,0))))","v":""}]
[{"$f":"IF(COUNTBLANK(Registration!B71)=1,\"\",Registration!B71)","v":""},null,null,null,null,null,"","","",null,"","","",null,{"$f":"IF(COUNTBLANK(M71)=1,\"\",IF(OR(S71=LEFT(O$1,1),S71=RIGHT(O$1,1)),COUNTIF(S$2:S71,LEFT(O$1,1))+COUNTIF(S$2:S71,RIGHT(O$1,1)),\"\"))","v":""},{"$f":"IF(COUNTBLANK(M71)=1,\"\",IF(OR(S71=LEFT(P$1,1),S71=RIGHT(P$1,1)),COUNTIF(S$2:S71,LEFT(P$1,1))+COUNTIF(S$2:S71,RIGHT(P$1,1)),\"\"))","v":""},{"$f":"IF(COUNTBLANK(M71)=1,\"\",IF(OR(S71=LEFT(Q$1,1),S71=RIGHT(Q$1,1)),COUNTIF(S$2:S71,LEFT(Q$1,1))+COUNTIF(S$2:S71,RIGHT(Q$1,1)),\"\"))","v":""},{"$f":"IF(COUNTBLANK(M71)=1,\"\",IF(OR(T71=LEFT(R$1,1),T71=RIGHT(R$1,1)),COUNTIF(T$2:T71,LEFT(R$1,1))+COUNTIF(T$2:T71,RIGHT(R$1,1)),\"\"))","v":""},{"$f":"IF(COUNTBLANK(M71)=1,\"\",INDEX(Registration!$C$2:$C$101,MATCH(M71,Registration!$B$2:$B$101,0)))","v":""},{"$f":"IF(COUNTBLANK(M71)=1,\"\",IF(COUNTBLANK(INDEX(Registration!$D$2:$D$101,MATCH(M71,Registration!$B$2:$B$101,0)))=1,\"\",INDEX(Registration!$D$2:$D$101,MATCH(M71,Registration!$B$2:$B$101,0))))","v":""}]
[{"$f":"IF(COUNTBLANK(Registration!B72)=1,\"\",Registration!B72)","v":""},null,null,null,null,null,"","","",null,"","","",null,{"$f":"IF(COUNTBLANK(M72)=1,\"\",IF(OR(S72=LEFT(O$1,1),S72=RIGHT(O$1,1)),COUNTIF(S$2:S72,LEFT(O$1,1))+COUNTIF(S$2:S72,RIGHT(O$1,1)),\"\"))","v":""},{"$f":"IF(COUNTBLANK(M72)=1,\"\",IF(OR(S72=LEFT(P$1,1),S72=RIGHT(P$1,1)),COUNTIF(S$2:S72,LEFT(P$1,1))+COUNTIF(S$2:S72,RIGHT(P$1,1)),\"\"))","v":""},{"$f":"IF(COUNTBLANK(M72)=1,\"\",IF(OR(S72=LEFT(Q$1,1),S72=RIGHT(Q$1,1)),COUNTIF(S$2:S72,LEFT(Q$1,1))+COUNTIF(S$2:S72,RIGHT(Q$1,1)),\"\"))","v":""},{"$f":"IF(COUNTBLANK(M72)=1,\"\",IF(OR(T72=LEFT(R$1,1),T72=RIGHT(R$1,1)),COUNTIF(T$2:T72,LEFT(R$1,1))+COUNTIF(T$2:T72,RIGHT(R$1,1)),\"\"))","v":""},{"$f":"IF(COUNTBLANK(M72)=1,\"\",INDEX(Registration!$C$2:$C$101,MATCH(M72,Registration!$B$2:$B$101,0)))","v":""},{"$f":"IF(COUNTBLANK(M72)=1,\"\",IF(COUNTBLANK(INDEX(Registration!$D$2:$D$101,MATCH(M72,Registration!$B$2:$B$101,0)))=1,\"\",INDEX(Registration!$D$2:$D$101,MATCH(M72,Registration!$B$2:$B$101,0))))","v":""}]
[{"$f":"IF(COUNTBLANK(Registration!B73)=1,\"\",Registration!B73)","v":""},null,null,null,null,null,"","","",null,"","","",null,{"$f":"IF(COUNTBLANK(M73)=1,\"\",IF(OR(S73=LEFT(O$1,1),S73=RIGHT(O$1,1)),COUNTIF(S$2:S73,LEFT(O$1,1))+COUNTIF(S$2:S73,RIGHT(O$1,1)),\"\"))","v":""},{"$f":"IF(COUNTBLANK(M73)=1,\"\",IF(OR(S73=LEFT(P$1,1),S73=RIGHT(P$1,1)),COUNTIF(S$2:S73,LEFT(P$1,1))+COUNTIF(S$2:S73,RIGHT(P$1,1)),\"\"))","v":""},{"$f":"IF(COUNTBLANK(M73)=1,\"\",IF(OR(S73=LEFT(Q$1,1),S73=RIGHT(Q$1,1)),COUNTIF(S$2:S73,LEFT(Q$1,1))+COUNTIF(S$2:S73,RIGHT(Q$1,1)),\"\"))","v":""},{"$f":"IF(COUNTBLANK(M73)=1,\"\",IF(OR(T73=LEFT(R$1,1),T73=RIGHT(R$1,1)),COUNTIF(T$2:T73,LEFT(R$1,1))+COUNTIF(T$2:T73,RIGHT(R$1,1)),\"\"))","v":""},{"$f":"IF(COUNTBLANK(M73)=1,\"\",INDEX(Registration!$C$2:$C$101,MATCH(M73,Registration!$B$2:$B$101,0)))","v":""},{"$f":"IF(COUNTBLANK(M73)=1,\"\",IF(COUNTBLANK(INDEX(Registration!$D$2:$D$101,MATCH(M73,Registration!$B$2:$B$101,0)))=1,\"\",INDEX(Registration!$D$2:$D$101,MATCH(M73,Registration!$B$2:$B$101,0))))","v":""}]
[{"$f":"IF(COUNTBLANK(Registration!B74)=1,\"\",Registration!B74)","v":""},null,null,null,null,null,"","","",null,"","","",null,{"$f":"IF(COUNTBLANK(M74)=1,\"\",IF(OR(S74=LEFT(O$1,1),S74=RIGHT(O$1,1)),COUNTIF(S$2:S74,LEFT(O$1,1))+COUNTIF(S$2:S74,RIGHT(O$1,1)),\"\"))","v":""},{"$f":"IF(COUNTBLANK(M74)=1,\"\",IF(OR(S74=LEFT(P$1,1),S74=RIGHT(P$1,1)),COUNTIF(S$2:S74,LEFT(P$1,1))+COUNTIF(S$2:S74,RIGHT(P$1,1)),\"\"))","v":""},{"$f":"IF(COUNTBLANK(M74)=1,\"\",IF(OR(S74=LEFT(Q$1,1),S74=RIGHT(Q$1,1)),COUNTIF(S$2:S74,LEFT(Q$1,1))+COUNTIF(S$2:S74,RIGHT(Q$1,1)),\"\"))","v":""},{"$f":"IF(COUNTBLANK(M74)=1,\"\",IF(OR(T74=LEFT(R$1,1),T74=RIGHT(R$1,1)),COUNTIF(T$2:T74,LEFT(R$1,1))+COUNTIF(T$2:T74,RIGHT(R$1,1)),\"\"))","v":""},{"$f":"IF(COUNTBLANK(M74)=1,\"\",INDEX(Registration!$C$2:$C$101,MATCH(M74,Registration!$B$2:$B$101,0)))","v":""},{"$f":"IF(COUNTBLANK(M74)=1,\"\",IF(COUNTBLANK(INDEX(Registration!$D$2:$D$101,MATCH(M74,Registration!$B$2:$B$101,0)))=1,\"\",INDEX(Registration!$D$2:$D$101,MATCH(M74,Registration!$B$2:$B$101,0))))","v":""}]
[{"$f":"IF(COUNTBLANK(Registration!B75)=1,\"\",Registration!B75)","v":""},null,null,null,null,null,"",{"$f":"IF(OR(COUNTBLANK($A75)=1,COUNTBLANK(G75)=1),\"\",RANK(G75,$G$2:$G$101,0))","v":""},{"$f":"IF(OR(COUNTBLANK($A75)=1,COUNTBLANK(G75)=1),\"\",placingpoints(H75,COUNTIF(H$2:H$101,\"=\"&H75)))","v":""},null,"","","",null,{"$f":"IF(COUNTBLANK(M75)=1,\"\",IF(OR(S75=LEFT(O$1,1),S75=RIGHT(O$1,1)),COUNTIF(S$2:S75,LEFT(O$1,1))+COUNTIF(S$2:S75,RIGHT(O$1,1)),\"\"))","v":""},{"$f":"IF(COUNTBLANK(M75)=1,\"\",IF(OR(S75=LEFT(P$1,1),S75=RIGHT(P$1,1)),COUNTIF(S$2:S75,LEFT(P$1,1))+COUNTIF(S$2:S75,RIGHT(P$1,1)),\"\"))","v":""},{"$f":"IF(COUNTBLANK(M75)=1,\"\",IF(OR(S75=LEFT(Q$1,1),S75=RIGHT(Q$1,1)),COUNTIF(S$2:S75,LEFT(Q$1,1))+COUNTIF(S$2:S75,RIGHT(Q$1,1)),\"\"))","v":""},{"$f":"IF(COUNTBLANK(M75)=1,\"\",IF(OR(T75=LEFT(R$1,1),T75=RIGHT(R$1,1)),COUNTIF(T$2:T75,LEFT(R$1,1))+COUNTIF(T$2:T75,RIGHT(R$1,1)),\"\"))","v":""},{"$f":"IF(COUNTBLANK(M75)=1,\"\",INDEX(Registration!$C$2:$C$101,MATCH(M75,Registration!$B$2:$B$101,0)))","v":""},{"$f":"IF(COUNTBLANK(M75)=1,\"\",IF(COUNTBLANK(INDEX(Registration!$D$2:$D$101,MATCH(M75,Registration!$B$2:$B$101,0)))=1,\"\",INDEX(Registration!$D$2:$D$101,MATCH(M75,Registration!$B$2:$B$101,0))))","v":""}]
[{"$f":"IF(COUNTBLANK(Registration!B76)=1,\"\",Registration!B76)","v":""},null,null,null,null,null,"","","",null,"","","",null,{"$f":"IF(COUNTBLANK(M76)=1,\"\",IF(OR(S76=LEFT(O$1,1),S76=RIGHT(O$1,1)),COUNTIF(S$2:S76,LEFT(O$1,1))+COUNTIF(S$2:S76,RIGHT(O$1,1)),\"\"))","v":""},{"$f":"IF(COUNTBLANK(M76)=1,\"\",IF(OR(S76=LEFT(P$1,1),S76=RIGHT(P$1,1)),COUNTIF(S$2:S76,LEFT(P$1,1))+COUNTIF(S$2:S76,RIGHT(P$1,1)),\"\"))","v":""},{"$f":"IF(COUNTBLANK(M76)=1,\"\",IF(OR(S76=LEFT(Q$1,1),S76=RIGHT(Q$1,1)),COUNTIF(S$2:S76,LEFT(Q$1,1))+COUNTIF(S$2:S76,RIGHT(Q$1,1)),\"\"))","v":""},{"$f":"IF(COUNTBLANK(M76)=1,\"\",IF(OR(T76=LEFT(R$1,1),T76=RIGHT(R$1,1)),COUNTIF(T$2:T76,LEFT(R$1,1))+COUNTIF(T$2:T76,RIGHT(R$1,1)),\"\"))","v":""},{"$f":"IF(COUNTBLANK(M76)=1,\"\",INDEX(Registration!$C$2:$C$101,MATCH(M76,Registration!$B$2:$B$101,0)))","v":""},{"$f":"IF(COUNTBLANK(M76)=1,\"\",IF(COUNTBLANK(INDEX(Registration!$D$2:$D$101,MATCH(M76,Registration!$B$2:$B$101,0)))=1,\"\",INDEX(Registration!$D$2:$D$101,MATCH(M76,Registration!$B$2:$B$101,0))))","v":""}]
[{"$f":"IF(COUNTBLANK(Registration!B77)=1,\"\",Registration!B77)","v":""},null,null,null,null,null,"","","",null,"","","",null,{"$f":"IF(COUNTBLANK(M77)=1,\"\",IF(OR(S77=LEFT(O$1,1),S77=RIGHT(O$1,1)),COUNTIF(S$2:S77,LEFT(O$1,1))+COUNTIF(S$2:S77,RIGHT(O$1,1)),\"\"))","v":""},{"$f":"IF(COUNTBLANK(M77)=1,\"\",IF(OR(S77=LEFT(P$1,1),S77=RIGHT(P$1,1)),COUNTIF(S$2:S77,LEFT(P$1,1))+COUNTIF(S$2:S77,RIGHT(P$1,1)),\"\"))","v":""},{"$f":"IF(COUNTBLANK(M77)=1,\"\",IF(OR(S77=LEFT(Q$1,1),S77=RIGHT(Q$1,1)),COUNTIF(S$2:S77,LEFT(Q$1,1))+COUNTIF(S$2:S77,RIGHT(Q$1,1)),\"\"))","v":""},{"$f":"IF(COUNTBLANK(M77)=1,\"\",IF(OR(T77=LEFT(R$1,1),T77=RIGHT(R$1,1)),COUNTIF(T$2:T77,LEFT(R$1,1))+COUNTIF(T$2:T77,RIGHT(R$1,1)),\"\"))","v":""},{"$f":"IF(COUNTBLANK(M77)=1,\"\",INDEX(Registration!$C$2:$C$101,MATCH(M77,Registration!$B$2:$B$101,0)))","v":""},{"$f":"IF(COUNTBLANK(M77)=1,\"\",IF(COUNTBLANK(INDEX(Registration!$D$2:$D$101,MATCH(M77,Registration!$B$2:$B$101,0)))=1,\"\",INDEX(Registration!$D$2:$D$101,MATCH(M77,Registration!$B$2:$B$101,0))))","v":""}]
[{"$f":"IF(COUNTBLANK(Registration!B78)=1,\"\",Registration!B78)","v":""},null,null,null,null,null,"","","",null,"","","",null,{"$f":"IF(COUNTBLANK(M78)=1,\"\",IF(OR(S78=LEFT(O$1,1),S78=RIGHT(O$1,1)),COUNTIF(S$2:S78,LEFT(O$1,1))+COUNTIF(S$2:S78,RIGHT(O$1,1)),\"\"))","v":""},{"$f":"IF(COUNTBLANK(M78)=1,\"\",IF(OR(S78=LEFT(P$1,1),S78=RIGHT(P$1,1)),COUNTIF(S$2:S78,LEFT(P$1,1))+COUNTIF(S$2:S78,RIGHT(P$1,1)),\"\"))","v":""},{"$f":"IF(COUNTBLANK(M78)=1,\"\",IF(OR(S78=LEFT(Q$1,1),S78=RIGHT(Q$1,1)),COUNTIF(S$2:S78,LEFT(Q$1,1))+COUNTIF(S$2:S78,RIGHT(Q$1,1)),\"\"))","v":""},{"$f":"IF(COUNTBLANK(M78)=1,\"\",IF(OR(T78=LEFT(R$1,1),T78=RIGHT(R$1,1)),COUNTIF(T$2:T78,LEFT(R$1,1))+COUNTIF(T$2:T78,RIGHT(R$1,1)),\"\"))","v":""},{"$f":"IF(COUNTBLANK(M78)=1,\"\",INDEX(Registration!$C$2:$C$101,MATCH(M78,Registration!$B$2:$B$101,0)))","v":""},{"$f":"IF(COUNTBLANK(M78)=1,\"\",IF(COUNTBLANK(INDEX(Registration!$D$2:$D$101,MATCH(M78,Registration!$B$2:$B$101,0)))=1,\"\",INDEX(Registration!$D$2:$D$101,MATCH(M78,Registration!$B$2:$B$101,0))))","v":""}]
[{"$f":"IF(COUNTBLANK(Registration!B79)=1,\"\",Registration!B79)","v":""},null,null,null,null,null,"","","",null,"","","",null,{"$f":"IF(COUNTBLANK(M79)=1,\"\",IF(OR(S79=LEFT(O$1,1),S79=RIGHT(O$1,1)),COUNTIF(S$2:S79,LEFT(O$1,1))+COUNTIF(S$2:S79,RIGHT(O$1,1)),\"\"))","v":""},{"$f":"IF(COUNTBLANK(M79)=1,\"\",IF(OR(S79=LEFT(P$1,1),S79=RIGHT(P$1,1)),COUNTIF(S$2:S79,LEFT(P$1,1))+COUNTIF(S$2:S79,RIGHT(P$1,1)),\"\"))","v":""},{"$f":"IF(COUNTBLANK(M79)=1,\"\",IF(OR(S79=LEFT(Q$1,1),S79=RIGHT(Q$1,1)),COUNTIF(S$2:S79,LEFT(Q$1,1))+COUNTIF(S$2:S79,RIGHT(Q$1,1)),\"\"))","v":""},{"$f":"IF(COUNTBLANK(M79)=1,\"\",IF(OR(T79=LEFT(R$1,1),T79=RIGHT(R$1,1)),COUNTIF(T$2:T79,LEFT(R$1,1))+COUNTIF(T$2:T79,RIGHT(R$1,1)),\"\"))","v":""},{"$f":"IF(COUNTBLANK(M79)=1,\"\",INDEX(Registration!$C$2:$C$101,MATCH(M79,Registration!$B$2:$B$101,0)))","v":""},{"$f":"IF(COUNTBLANK(M79)=1,\"\",IF(COUNTBLANK(INDEX(Registration!$D$2:$D$101,MATCH(M79,Registration!$B$2:$B$101,0)))=1,\"\",INDEX(Registration!$D$2:$D$101,MATCH(M79,Registration!$B$2:$B$101,0))))","v":""}]
[{"$f":"IF(COUNTBLANK(Registration!B80)=1,\"\",Registration!B80)","v":""},null,null,null,null,null,"","","",null,"","","",null,{"$f":"IF(COUNTBLANK(M80)=1,\"\",IF(OR(S80=LEFT(O$1,1),S80=RIGHT(O$1,1)),COUNTIF(S$2:S80,LEFT(O$1,1))+COUNTIF(S$2:S80,RIGHT(O$1,1)),\"\"))","v":""},{"$f":"IF(COUNTBLANK(M80)=1,\"\",IF(OR(S80=LEFT(P$1,1),S80=RIGHT(P$1,1)),COUNTIF(S$2:S80,LEFT(P$1,1))+COUNTIF(S$2:S80,RIGHT(P$1,1)),\"\"))","v":""},{"$f":"IF(COUNTBLANK(M80)=1,\"\",IF(OR(S80=LEFT(Q$1,1),S80=RIGHT(Q$1,1)),COUNTIF(S$2:S80,LEFT(Q$1,1))+COUNTIF(S$2:S80,RIGHT(Q$1,1)),\"\"))","v":""},{"$f":"IF(COUNTBLANK(M80)=1,\"\",IF(OR(T80=LEFT(R$1,1),T80=RIGHT(R$1,1)),COUNTIF(T$2:T80,LEFT(R$1,1))+COUNTIF(T$2:T80,RIGHT(R$1,1)),\"\"))","v":""},{"$f":"IF(COUNTBLANK(M80)=1,\"\",INDEX(Registration!$C$2:$C$101,MATCH(M80,Registration!$B$2:$B$101,0)))","v":""},{"$f":"IF(COUNTBLANK(M80)=1,\"\",IF(COUNTBLANK(INDEX(Registration!$D$2:$D$101,MATCH(M80,Registration!$B$2:$B$101,0)))=1,\"\",INDEX(Registration!$D$2:$D$101,MATCH(M80,Registration!$B$2:$B$101,0))))","v":""}]
[{"$f":"IF(COUNTBLANK(Registration!B81)=1,\"\",Registration!B81)","v":""},null,null,null,null,null,"","","",null,"","","",null,{"$f":"IF(COUNTBLANK(M81)=1,\"\",IF(OR(S81=LEFT(O$1,1),S81=RIGHT(O$1,1)),COUNTIF(S$2:S81,LEFT(O$1,1))+COUNTIF(S$2:S81,RIGHT(O$1,1)),\"\"))","v":""},{"$f":"IF(COUNTBLANK(M81)=1,\"\",IF(OR(S81=LEFT(P$1,1),S81=RIGHT(P$1,1)),COUNTIF(S$2:S81,LEFT(P$1,1))+COUNTIF(S$2:S81,RIGHT(P$1,1)),\"\"))","v":""},{"$f":"IF(COUNTBLANK(M81)=1,\"\",IF(OR(S81=LEFT(Q$1,1),S81=RIGHT(Q$1,1)),COUNTIF(S$2:S81,LEFT(Q$1,1))+COUNTIF(S$2:S81,RIGHT(Q$1,1)),\"\"))","v":""},{"$f":"IF(COUNTBLANK(M81)=1,\"\",IF(OR(T81=LEFT(R$1,1),T81=RIGHT(R$1,1)),COUNTIF(T$2:T81,LEFT(R$1,1))+COUNTIF(T$2:T81,RIGHT(R$1,1)),\"\"))","v":""},{"$f":"IF(COUNTBLANK(M81)=1,\"\",INDEX(Registration!$C$2:$C$101,MATCH(M81,Registration!$B$2:$B$101,0)))","v":""},{"$f":"IF(COUNTBLANK(M81)=1,\"\",IF(COUNTBLANK(INDEX(Registration!$D$2:$D$101,MATCH(M81,Registration!$B$2:$B$101,0)))=1,\"\",INDEX(Registration!$D$2:$D$101,MATCH(M81,Registration!$B$2:$B$101,0))))","v":""}]
[{"$f":"IF(COUNTBLANK(Registration!B82)=1,\"\",Registration!B82)","v":""},null,null,null,null,null,"","","",null,"","","",null,{"$f":"IF(COUNTBLANK(M82)=1,\"\",IF(OR(S82=LEFT(O$1,1),S82=RIGHT(O$1,1)),COUNTIF(S$2:S82,LEFT(O$1,1))+COUNTIF(S$2:S82,RIGHT(O$1,1)),\"\"))","v":""},{"$f":"IF(COUNTBLANK(M82)=1,\"\",IF(OR(S82=LEFT(P$1,1),S82=RIGHT(P$1,1)),COUNTIF(S$2:S82,LEFT(P$1,1))+COUNTIF(S$2:S82,RIGHT(P$1,1)),\"\"))","v":""},{"$f":"IF(COUNTBLANK(M82)=1,\"\",IF(OR(S82=LEFT(Q$1,1),S82=RIGHT(Q$1,1)),COUNTIF(S$2:S82,LEFT(Q$1,1))+COUNTIF(S$2:S82,RIGHT(Q$1,1)),\"\"))","v":""},{"$f":"IF(COUNTBLANK(M82)=1,\"\",IF(OR(T82=LEFT(R$1,1),T82=RIGHT(R$1,1)),COUNTIF(T$2:T82,LEFT(R$1,1))+COUNTIF(T$2:T82,RIGHT(R$1,1)),\"\"))","v":""},{"$f":"IF(COUNTBLANK(M82)=1,\"\",INDEX(Registration!$C$2:$C$101,MATCH(M82,Registration!$B$2:$B$101,0)))","v":""},{"$f":"IF(COUNTBLANK(M82)=1,\"\",IF(COUNTBLANK(INDEX(Registration!$D$2:$D$101,MATCH(M82,Registration!$B$2:$B$101,0)))=1,\"\",INDEX(Registration!$D$2:$D$101,MATCH(M82,Registration!$B$2:$B$101,0))))","v":""}]
[{"$f":"IF(COUNTBLANK(Registration!B83)=1,\"\",Registration!B83)","v":""},null,null,null,null,null,"","","",null,"","","",null,{"$f":"IF(COUNTBLANK(M83)=1,\"\",IF(OR(S83=LEFT(O$1,1),S83=RIGHT(O$1,1)),COUNTIF(S$2:S83,LEFT(O$1,1))+COUNTIF(S$2:S83,RIGHT(O$1,1)),\"\"))","v":""},{"$f":"IF(COUNTBLANK(M83)=1,\"\",IF(OR(S83=LEFT(P$1,1),S83=RIGHT(P$1,1)),COUNTIF(S$2:S83,LEFT(P$1,1))+COUNTIF(S$2:S83,RIGHT(P$1,1)),\"\"))","v":""},{"$f":"IF(COUNTBLANK(M83)=1,\"\",IF(OR(S83=LEFT(Q$1,1),S83=RIGHT(Q$1,1)),COUNTIF(S$2:S83,LEFT(Q$1,1))+COUNTIF(S$2:S83,RIGHT(Q$1,1)),\"\"))","v":""},{"$f":"IF(COUNTBLANK(M83)=1,\"\",IF(OR(T83=LEFT(R$1,1),T83=RIGHT(R$1,1)),COUNTIF(T$2:T83,LEFT(R$1,1))+COUNTIF(T$2:T83,RIGHT(R$1,1)),\"\"))","v":""},{"$f":"IF(COUNTBLANK(M83)=1,\"\",INDEX(Registration!$C$2:$C$101,MATCH(M83,Registration!$B$2:$B$101,0)))","v":""},{"$f":"IF(COUNTBLANK(M83)=1,\"\",IF(COUNTBLANK(INDEX(Registration!$D$2:$D$101,MATCH(M83,Registration!$B$2:$B$101,0)))=1,\"\",INDEX(Registration!$D$2:$D$101,MATCH(M83,Registration!$B$2:$B$101,0))))","v":""}]
[{"$f":"IF(COUNTBLANK(Registration!B84)=1,\"\",Registration!B84)","v":""},null,null,null,null,null,"","","",null,"","","",null,{"$f":"IF(COUNTBLANK(M84)=1,\"\",IF(OR(S84=LEFT(O$1,1),S84=RIGHT(O$1,1)),COUNTIF(S$2:S84,LEFT(O$1,1))+COUNTIF(S$2:S84,RIGHT(O$1,1)),\"\"))","v":""},{"$f":"IF(COUNTBLANK(M84)=1,\"\",IF(OR(S84=LEFT(P$1,1),S84=RIGHT(P$1,1)),COUNTIF(S$2:S84,LEFT(P$1,1))+COUNTIF(S$2:S84,RIGHT(P$1,1)),\"\"))","v":""},{"$f":"IF(COUNTBLANK(M84)=1,\"\",IF(OR(S84=LEFT(Q$1,1),S84=RIGHT(Q$1,1)),COUNTIF(S$2:S84,LEFT(Q$1,1))+COUNTIF(S$2:S84,RIGHT(Q$1,1)),\"\"))","v":""},{"$f":"IF(COUNTBLANK(M84)=1,\"\",IF(OR(T84=LEFT(R$1,1),T84=RIGHT(R$1,1)),COUNTIF(T$2:T84,LEFT(R$1,1))+COUNTIF(T$2:T84,RIGHT(R$1,1)),\"\"))","v":""},{"$f":"IF(COUNTBLANK(M84)=1,\"\",INDEX(Registration!$C$2:$C$101,MATCH(M84,Registration!$B$2:$B$101,0)))","v":""},{"$f":"IF(COUNTBLANK(M84)=1,\"\",IF(COUNTBLANK(INDEX(Registration!$D$2:$D$101,MATCH(M84,Registration!$B$2:$B$101,0)))=1,\"\",INDEX(Registration!$D$2:$D$101,MATCH(M84,Registration!$B$2:$B$101,0))))","v":""}]
[{"$f":"IF(COUNTBLANK(Registration!B85)=1,\"\",Registration!B85)","v":""},null,null,null,null,null,"","","",null,"","","",null,{"$f":"IF(COUNTBLANK(M85)=1,\"\",IF(OR(S85=LEFT(O$1,1),S85=RIGHT(O$1,1)),COUNTIF(S$2:S85,LEFT(O$1,1))+COUNTIF(S$2:S85,RIGHT(O$1,1)),\"\"))","v":""},{"$f":"IF(COUNTBLANK(M85)=1,\"\",IF(OR(S85=LEFT(P$1,1),S85=RIGHT(P$1,1)),COUNTIF(S$2:S85,LEFT(P$1,1))+COUNTIF(S$2:S85,RIGHT(P$1,1)),\"\"))","v":""},{"$f":"IF(COUNTBLANK(M85)=1,\"\",IF(OR(S85=LEFT(Q$1,1),S85=RIGHT(Q$1,1)),COUNTIF(S$2:S85,LEFT(Q$1,1))+COUNTIF(S$2:S85,RIGHT(Q$1,1)),\"\"))","v":""},{"$f":"IF(COUNTBLANK(M85)=1,\"\",IF(OR(T85=LEFT(R$1,1),T85=RIGHT(R$1,1)),COUNTIF(T$2:T85,LEFT(R$1,1))+COUNTIF(T$2:T85,RIGHT(R$1,1)),\"\"))","v":""},{"$f":"IF(COUNTBLANK(M85)=1,\"\",INDEX(Registration!$C$2:$C$101,MATCH(M85,Registration!$B$2:$B$101,0)))","v":""},{"$f":"IF(COUNTBLANK(M85)=1,\"\",IF(COUNTBLANK(INDEX(Registration!$D$2:$D$101,MATCH(M85,Registration!$B$2:$B$101,0)))=1,\"\",INDEX(Registration!$D$2:$D$101,MATCH(M85,Registration!$B$2:$B$101,0))))","v":""}]
[{"$f":"IF(COUNTBLANK(Registration!B86)=1,\"\",Registration!B86)","v":""},null,null,null,null,null,"","","",null,"","","",null,{"$f":"IF(COUNTBLANK(M86)=1,\"\",IF(OR(S86=LEFT(O$1,1),S86=RIGHT(O$1,1)),COUNTIF(S$2:S86,LEFT(O$1,1))+COUNTIF(S$2:S86,RIGHT(O$1,1)),\"\"))","v":""},{"$f":"IF(COUNTBLANK(M86)=1,\"\",IF(OR(S86=LEFT(P$1,1),S86=RIGHT(P$1,1)),COUNTIF(S$2:S86,LEFT(P$1,1))+COUNTIF(S$2:S86,RIGHT(P$1,1)),\"\"))","v":""},{"$f":"IF(COUNTBLANK(M86)=1,\"\",IF(OR(S86=LEFT(Q$1,1),S86=RIGHT(Q$1,1)),COUNTIF(S$2:S86,LEFT(Q$1,1))+COUNTIF(S$2:S86,RIGHT(Q$1,1)),\"\"))","v":""},{"$f":"IF(COUNTBLANK(M86)=1,\"\",IF(OR(T86=LEFT(R$1,1),T86=RIGHT(R$1,1)),COUNTIF(T$2:T86,LEFT(R$1,1))+COUNTIF(T$2:T86,RIGHT(R$1,1)),\"\"))","v":""},{"$f":"IF(COUNTBLANK(M86)=1,\"\",INDEX(Registration!$C$2:$C$101,MATCH(M86,Registration!$B$2:$B$101,0)))","v":""},{"$f":"IF(COUNTBLANK(M86)=1,\"\",IF(COUNTBLANK(INDEX(Registration!$D$2:$D$101,MATCH(M86,Registration!$B$2:$B$101,0)))=1,\"\",INDEX(Registration!$D$2:$D$101,MATCH(M86,Registration!$B$2:$B$101,0))))","v":""}]
[{"$f":"IF(COUNTBLANK(Registration!B87)=1,\"\",Registration!B87)","v":""},null,null,null,null,null,"","","",null,"","","",null,{"$f":"IF(COUNTBLANK(M87)=1,\"\",IF(OR(S87=LEFT(O$1,1),S87=RIGHT(O$1,1)),COUNTIF(S$2:S87,LEFT(O$1,1))+COUNTIF(S$2:S87,RIGHT(O$1,1)),\"\"))","v":""},{"$f":"IF(COUNTBLANK(M87)=1,\"\",IF(OR(S87=LEFT(P$1,1),S87=RIGHT(P$1,1)),COUNTIF(S$2:S87,LEFT(P$1,1))+COUNTIF(S$2:S87,RIGHT(P$1,1)),\"\"))","v":""},{"$f":"IF(COUNTBLANK(M87)=1,\"\",IF(OR(S87=LEFT(Q$1,1),S87=RIGHT(Q$1,1)),COUNTIF(S$2:S87,LEFT(Q$1,1))+COUNTIF(S$2:S87,RIGHT(Q$1,1)),\"\"))","v":""},{"$f":"IF(COUNTBLANK(M87)=1,\"\",IF(OR(T87=LEFT(R$1,1),T87=RIGHT(R$1,1)),COUNTIF(T$2:T87,LEFT(R$1,1))+COUNTIF(T$2:T87,RIGHT(R$1,1)),\"\"))","v":""},{"$f":"IF(COUNTBLANK(M87)=1,\"\",INDEX(Registration!$C$2:$C$101,MATCH(M87,Registration!$B$2:$B$101,0)))","v":""},{"$f":"IF(COUNTBLANK(M87)=1,\"\",IF(COUNTBLANK(INDEX(Registration!$D$2:$D$101,MATCH(M87,Registration!$B$2:$B$101,0)))=1,\"\",INDEX(Registration!$D$2:$D$101,MATCH(M87,Registration!$B$2:$B$101,0))))","v":""}]
[{"$f":"IF(COUNTBLANK(Registration!B88)=1,\"\",Registration!B88)","v":""},null,null,null,null,null,"","","",null,"","","",null,{"$f":"IF(COUNTBLANK(M88)=1,\"\",IF(OR(S88=LEFT(O$1,1),S88=RIGHT(O$1,1)),COUNTIF(S$2:S88,LEFT(O$1,1))+COUNTIF(S$2:S88,RIGHT(O$1,1)),\"\"))","v":""},{"$f":"IF(COUNTBLANK(M88)=1,\"\",IF(OR(S88=LEFT(P$1,1),S88=RIGHT(P$1,1)),COUNTIF(S$2:S88,LEFT(P$1,1))+COUNTIF(S$2:S88,RIGHT(P$1,1)),\"\"))","v":""},{"$f":"IF(COUNTBLANK(M88)=1,\"\",IF(OR(S88=LEFT(Q$1,1),S88=RIGHT(Q$1,1)),COUNTIF(S$2:S88,LEFT(Q$1,1))+COUNTIF(S$2:S88,RIGHT(Q$1,1)),\"\"))","v":""},{"$f":"IF(COUNTBLANK(M88)=1,\"\",IF(OR(T88=LEFT(R$1,1),T88=RIGHT(R$1,1)),COUNTIF(T$2:T88,LEFT(R$1,1))+COUNTIF(T$2:T88,RIGHT(R$1,1)),\"\"))","v":""},{"$f":"IF(COUNTBLANK(M88)=1,\"\",INDEX(Registration!$C$2:$C$101,MATCH(M88,Registration!$B$2:$B$101,0)))","v":""},{"$f":"IF(COUNTBLANK(M88)=1,\"\",IF(COUNTBLANK(INDEX(Registration!$D$2:$D$101,MATCH(M88,Registration!$B$2:$B$101,0)))=1,\"\",INDEX(Registration!$D$2:$D$101,MATCH(M88,Registration!$B$2:$B$101,0))))","v":""}]
[{"$f":"IF(COUNTBLANK(Registration!B89)=1,\"\",Registration!B89)","v":""},null,null,null,null,null,"","","",null,"","","",null,{"$f":"IF(COUNTBLANK(M89)=1,\"\",IF(OR(S89=LEFT(O$1,1),S89=RIGHT(O$1,1)),COUNTIF(S$2:S89,LEFT(O$1,1))+COUNTIF(S$2:S89,RIGHT(O$1,1)),\"\"))","v":""},{"$f":"IF(COUNTBLANK(M89)=1,\"\",IF(OR(S89=LEFT(P$1,1),S89=RIGHT(P$1,1)),COUNTIF(S$2:S89,LEFT(P$1,1))+COUNTIF(S$2:S89,RIGHT(P$1,1)),\"\"))","v":""},{"$f":"IF(COUNTBLANK(M89)=1,\"\",IF(OR(S89=LEFT(Q$1,1),S89=RIGHT(Q$1,1)),COUNTIF(S$2:S89,LEFT(Q$1,1))+COUNTIF(S$2:S89,RIGHT(Q$1,1)),\"\"))","v":""},{"$f":"IF(COUNTBLANK(M89)=1,\"\",IF(OR(T89=LEFT(R$1,1),T89=RIGHT(R$1,1)),COUNTIF(T$2:T89,LEFT(R$1,1))+COUNTIF(T$2:T89,RIGHT(R$1,1)),\"\"))","v":""},{"$f":"IF(COUNTBLANK(M89)=1,\"\",INDEX(Registration!$C$2:$C$101,MATCH(M89,Registration!$B$2:$B$101,0)))","v":""},{"$f":"IF(COUNTBLANK(M89)=1,\"\",IF(COUNTBLANK(INDEX(Registration!$D$2:$D$101,MATCH(M89,Registration!$B$2:$B$101,0)))=1,\"\",INDEX(Registration!$D$2:$D$101,MATCH(M89,Registration!$B$2:$B$101,0))))","v":""}]
[{"$f":"IF(COUNTBLANK(Registration!B90)=1,\"\",Registration!B90)","v":""},null,null,null,null,null,"","","",null,"","","",null,{"$f":"IF(COUNTBLANK(M90)=1,\"\",IF(OR(S90=LEFT(O$1,1),S90=RIGHT(O$1,1)),COUNTIF(S$2:S90,LEFT(O$1,1))+COUNTIF(S$2:S90,RIGHT(O$1,1)),\"\"))","v":""},{"$f":"IF(COUNTBLANK(M90)=1,\"\",IF(OR(S90=LEFT(P$1,1),S90=RIGHT(P$1,1)),COUNTIF(S$2:S90,LEFT(P$1,1))+COUNTIF(S$2:S90,RIGHT(P$1,1)),\"\"))","v":""},{"$f":"IF(COUNTBLANK(M90)=1,\"\",IF(OR(S90=LEFT(Q$1,1),S90=RIGHT(Q$1,1)),COUNTIF(S$2:S90,LEFT(Q$1,1))+COUNTIF(S$2:S90,RIGHT(Q$1,1)),\"\"))","v":""},{"$f":"IF(COUNTBLANK(M90)=1,\"\",IF(OR(T90=LEFT(R$1,1),T90=RIGHT(R$1,1)),COUNTIF(T$2:T90,LEFT(R$1,1))+COUNTIF(T$2:T90,RIGHT(R$1,1)),\"\"))","v":""},{"$f":"IF(COUNTBLANK(M90)=1,\"\",INDEX(Registration!$C$2:$C$101,MATCH(M90,Registration!$B$2:$B$101,0)))","v":""},{"$f":"IF(COUNTBLANK(M90)=1,\"\",IF(COUNTBLANK(INDEX(Registration!$D$2:$D$101,MATCH(M90,Registration!$B$2:$B$101,0)))=1,\"\",INDEX(Registration!$D$2:$D$101,MATCH(M90,Registration!$B$2:$B$101,0))))","v":""}]
[{"$f":"IF(COUNTBLANK(Registration!B91)=1,\"\",Registration!B91)","v":""},null,null,null,null,null,"","","",null,"","","",null,{"$f":"IF(COUNTBLANK(M91)=1,\"\",IF(OR(S91=LEFT(O$1,1),S91=RIGHT(O$1,1)),COUNTIF(S$2:S91,LEFT(O$1,1))+COUNTIF(S$2:S91,RIGHT(O$1,1)),\"\"))","v":""},{"$f":"IF(COUNTBLANK(M91)=1,\"\",IF(OR(S91=LEFT(P$1,1),S91=RIGHT(P$1,1)),COUNTIF(S$2:S91,LEFT(P$1,1))+COUNTIF(S$2:S91,RIGHT(P$1,1)),\"\"))","v":""},{"$f":"IF(COUNTBLANK(M91)=1,\"\",IF(OR(S91=LEFT(Q$1,1),S91=RIGHT(Q$1,1)),COUNTIF(S$2:S91,LEFT(Q$1,1))+COUNTIF(S$2:S91,RIGHT(Q$1,1)),\"\"))","v":""},{"$f":"IF(COUNTBLANK(M91)=1,\"\",IF(OR(T91=LEFT(R$1,1),T91=RIGHT(R$1,1)),COUNTIF(T$2:T91,LEFT(R$1,1))+COUNTIF(T$2:T91,RIGHT(R$1,1)),\"\"))","v":""},{"$f":"IF(COUNTBLANK(M91)=1,\"\",INDEX(Registration!$C$2:$C$101,MATCH(M91,Registration!$B$2:$B$101,0)))","v":""},{"$f":"IF(COUNTBLANK(M91)=1,\"\",IF(COUNTBLANK(INDEX(Registration!$D$2:$D$101,MATCH(M91,Registration!$B$2:$B$101,0)))=1,\"\",INDEX(Registration!$D$2:$D$101,MATCH(M91,Registration!$B$2:$B$101,0))))","v":""}]
[{"$f":"IF(COUNTBLANK(Registration!B92)=1,\"\",Registration!B92)","v":""},null,null,null,null,null,"","","",null,"","","",null,{"$f":"IF(COUNTBLANK(M92)=1,\"\",IF(OR(S92=LEFT(O$1,1),S92=RIGHT(O$1,1)),COUNTIF(S$2:S92,LEFT(O$1,1))+COUNTIF(S$2:S92,RIGHT(O$1,1)),\"\"))","v":""},{"$f":"IF(COUNTBLANK(M92)=1,\"\",IF(OR(S92=LEFT(P$1,1),S92=RIGHT(P$1,1)),COUNTIF(S$2:S92,LEFT(P$1,1))+COUNTIF(S$2:S92,RIGHT(P$1,1)),\"\"))","v":""},{"$f":"IF(COUNTBLANK(M92)=1,\"\",IF(OR(S92=LEFT(Q$1,1),S92=RIGHT(Q$1,1)),COUNTIF(S$2:S92,LEFT(Q$1,1))+COUNTIF(S$2:S92,RIGHT(Q$1,1)),\"\"))","v":""},{"$f":"IF(COUNTBLANK(M92)=1,\"\",IF(OR(T92=LEFT(R$1,1),T92=RIGHT(R$1,1)),COUNTIF(T$2:T92,LEFT(R$1,1))+COUNTIF(T$2:T92,RIGHT(R$1,1)),\"\"))","v":""},{"$f":"IF(COUNTBLANK(M92)=1,\"\",INDEX(Registration!$C$2:$C$101,MATCH(M92,Registration!$B$2:$B$101,0)))","v":""},{"$f":"IF(COUNTBLANK(M92)=1,\"\",IF(COUNTBLANK(INDEX(Registration!$D$2:$D$101,MATCH(M92,Registration!$B$2:$B$101,0)))=1,\"\",INDEX(Registration!$D$2:$D$101,MATCH(M92,Registration!$B$2:$B$101,0))))","v":""}]
[{"$f":"IF(COUNTBLANK(Registration!B93)=1,\"\",Registration!B93)","v":""},null,null,null,null,null,"","","",null,"","","",null,{"$f":"IF(COUNTBLANK(M93)=1,\"\",IF(OR(S93=LEFT(O$1,1),S93=RIGHT(O$1,1)),COUNTIF(S$2:S93,LEFT(O$1,1))+COUNTIF(S$2:S93,RIGHT(O$1,1)),\"\"))","v":""},{"$f":"IF(COUNTBLANK(M93)=1,\"\",IF(OR(S93=LEFT(P$1,1),S93=RIGHT(P$1,1)),COUNTIF(S$2:S93,LEFT(P$1,1))+COUNTIF(S$2:S93,RIGHT(P$1,1)),\"\"))","v":""},{"$f":"IF(COUNTBLANK(M93)=1,\"\",IF(OR(S93=LEFT(Q$1,1),S93=RIGHT(Q$1,1)),COUNTIF(S$2:S93,LEFT(Q$1,1))+COUNTIF(S$2:S93,RIGHT(Q$1,1)),\"\"))","v":""},{"$f":"IF(COUNTBLANK(M93)=1,\"\",IF(OR(T93=LEFT(R$1,1),T93=RIGHT(R$1,1)),COUNTIF(T$2:T93,LEFT(R$1,1))+COUNTIF(T$2:T93,RIGHT(R$1,1)),\"\"))","v":""},{"$f":"IF(COUNTBLANK(M93)=1,\"\",INDEX(Registration!$C$2:$C$101,MATCH(M93,Registration!$B$2:$B$101,0)))","v":""},{"$f":"IF(COUNTBLANK(M93)=1,\"\",IF(COUNTBLANK(INDEX(Registration!$D$2:$D$101,MATCH(M93,Registration!$B$2:$B$101,0)))=1,\"\",INDEX(Registration!$D$2:$D$101,MATCH(M93,Registration!$B$2:$B$101,0))))","v":""}]
[{"$f":"IF(COUNTBLANK(Registration!B94)=1,\"\",Registration!B94)","v":""},null,null,null,null,null,"","","",null,"","","",null,{"$f":"IF(COUNTBLANK(M94)=1,\"\",IF(OR(S94=LEFT(O$1,1),S94=RIGHT(O$1,1)),COUNTIF(S$2:S94,LEFT(O$1,1))+COUNTIF(S$2:S94,RIGHT(O$1,1)),\"\"))","v":""},{"$f":"IF(COUNTBLANK(M94)=1,\"\",IF(OR(S94=LEFT(P$1,1),S94=RIGHT(P$1,1)),COUNTIF(S$2:S94,LEFT(P$1,1))+COUNTIF(S$2:S94,RIGHT(P$1,1)),\"\"))","v":""},{"$f":"IF(COUNTBLANK(M94)=1,\"\",IF(OR(S94=LEFT(Q$1,1),S94=RIGHT(Q$1,1)),COUNTIF(S$2:S94,LEFT(Q$1,1))+COUNTIF(S$2:S94,RIGHT(Q$1,1)),\"\"))","v":""},{"$f":"IF(COUNTBLANK(M94)=1,\"\",IF(OR(T94=LEFT(R$1,1),T94=RIGHT(R$1,1)),COUNTIF(T$2:T94,LEFT(R$1,1))+COUNTIF(T$2:T94,RIGHT(R$1,1)),\"\"))","v":""},{"$f":"IF(COUNTBLANK(M94)=1,\"\",INDEX(Registration!$C$2:$C$101,MATCH(M94,Registration!$B$2:$B$101,0)))","v":""},{"$f":"IF(COUNTBLANK(M94)=1,\"\",IF(COUNTBLANK(INDEX(Registration!$D$2:$D$101,MATCH(M94,Registration!$B$2:$B$101,0)))=1,\"\",INDEX(Registration!$D$2:$D$101,MATCH(M94,Registration!$B$2:$B$101,0))))","v":""}]
[{"$f":"IF(COUNTBLANK(Registration!B95)=1,\"\",Registration!B95)","v":""},null,null,null,null,null,"","","",null,"","","",null,{"$f":"IF(COUNTBLANK(M95)=1,\"\",IF(OR(S95=LEFT(O$1,1),S95=RIGHT(O$1,1)),COUNTIF(S$2:S95,LEFT(O$1,1))+COUNTIF(S$2:S95,RIGHT(O$1,1)),\"\"))","v":""},{"$f":"IF(COUNTBLANK(M95)=1,\"\",IF(OR(S95=LEFT(P$1,1),S95=RIGHT(P$1,1)),COUNTIF(S$2:S95,LEFT(P$1,1))+COUNTIF(S$2:S95,RIGHT(P$1,1)),\"\"))","v":""},{"$f":"IF(COUNTBLANK(M95)=1,\"\",IF(OR(S95=LEFT(Q$1,1),S95=RIGHT(Q$1,1)),COUNTIF(S$2:S95,LEFT(Q$1,1))+COUNTIF(S$2:S95,RIGHT(Q$1,1)),\"\"))","v":""},{"$f":"IF(COUNTBLANK(M95)=1,\"\",IF(OR(T95=LEFT(R$1,1),T95=RIGHT(R$1,1)),COUNTIF(T$2:T95,LEFT(R$1,1))+COUNTIF(T$2:T95,RIGHT(R$1,1)),\"\"))","v":""},{"$f":"IF(COUNTBLANK(M95)=1,\"\",INDEX(Registration!$C$2:$C$101,MATCH(M95,Registration!$B$2:$B$101,0)))","v":""},{"$f":"IF(COUNTBLANK(M95)=1,\"\",IF(COUNTBLANK(INDEX(Registration!$D$2:$D$101,MATCH(M95,Registration!$B$2:$B$101,0)))=1,\"\",INDEX(Registration!$D$2:$D$101,MATCH(M95,Registration!$B$2:$B$101,0))))","v":""}]
[{"$f":"IF(COUNTBLANK(Registration!B96)=1,\"\",Registration!B96)","v":""},null,null,null,null,null,"","","",null,"","","",null,{"$f":"IF(COUNTBLANK(M96)=1,\"\",IF(OR(S96=LEFT(O$1,1),S96=RIGHT(O$1,1)),COUNTIF(S$2:S96,LEFT(O$1,1))+COUNTIF(S$2:S96,RIGHT(O$1,1)),\"\"))","v":""},{"$f":"IF(COUNTBLANK(M96)=1,\"\",IF(OR(S96=LEFT(P$1,1),S96=RIGHT(P$1,1)),COUNTIF(S$2:S96,LEFT(P$1,1))+COUNTIF(S$2:S96,RIGHT(P$1,1)),\"\"))","v":""},{"$f":"IF(COUNTBLANK(M96)=1,\"\",IF(OR(S96=LEFT(Q$1,1),S96=RIGHT(Q$1,1)),COUNTIF(S$2:S96,LEFT(Q$1,1))+COUNTIF(S$2:S96,RIGHT(Q$1,1)),\"\"))","v":""},{"$f":"IF(COUNTBLANK(M96)=1,\"\",IF(OR(T96=LEFT(R$1,1),T96=RIGHT(R$1,1)),COUNTIF(T$2:T96,LEFT(R$1,1))+COUNTIF(T$2:T96,RIGHT(R$1,1)),\"\"))","v":""},{"$f":"IF(COUNTBLANK(M96)=1,\"\",INDEX(Registration!$C$2:$C$101,MATCH(M96,Registration!$B$2:$B$101,0)))","v":""},{"$f":"IF(COUNTBLANK(M96)=1,\"\",IF(COUNTBLANK(INDEX(Registration!$D$2:$D$101,MATCH(M96,Registration!$B$2:$B$101,0)))=1,\"\",INDEX(Registration!$D$2:$D$101,MATCH(M96,Registration!$B$2:$B$101,0))))","v":""}]
[{"$f":"IF(COUNTBLANK(Registration!B97)=1,\"\",Registration!B97)","v":""},null,null,null,null,null,"","","",null,"","","",null,{"$f":"IF(COUNTBLANK(M97)=1,\"\",IF(OR(S97=LEFT(O$1,1),S97=RIGHT(O$1,1)),COUNTIF(S$2:S97,LEFT(O$1,1))+COUNTIF(S$2:S97,RIGHT(O$1,1)),\"\"))","v":""},{"$f":"IF(COUNTBLANK(M97)=1,\"\",IF(OR(S97=LEFT(P$1,1),S97=RIGHT(P$1,1)),COUNTIF(S$2:S97,LEFT(P$1,1))+COUNTIF(S$2:S97,RIGHT(P$1,1)),\"\"))","v":""},{"$f":"IF(COUNTBLANK(M97)=1,\"\",IF(OR(S97=LEFT(Q$1,1),S97=RIGHT(Q$1,1)),COUNTIF(S$2:S97,LEFT(Q$1,1))+COUNTIF(S$2:S97,RIGHT(Q$1,1)),\"\"))","v":""},{"$f":"IF(COUNTBLANK(M97)=1,\"\",IF(OR(T97=LEFT(R$1,1),T97=RIGHT(R$1,1)),COUNTIF(T$2:T97,LEFT(R$1,1))+COUNTIF(T$2:T97,RIGHT(R$1,1)),\"\"))","v":""},{"$f":"IF(COUNTBLANK(M97)=1,\"\",INDEX(Registration!$C$2:$C$101,MATCH(M97,Registration!$B$2:$B$101,0)))","v":""},{"$f":"IF(COUNTBLANK(M97)=1,\"\",IF(COUNTBLANK(INDEX(Registration!$D$2:$D$101,MATCH(M97,Registration!$B$2:$B$101,0)))=1,\"\",INDEX(Registration!$D$2:$D$101,MATCH(M97,Registration!$B$2:$B$101,0))))","v":""}]
[{"$f":"IF(COUNTBLANK(Registration!B98)=1,\"\",Registration!B98)","v":""},null,null,null,null,null,"","","",null,"","","",null,{"$f":"IF(COUNTBLANK(M98)=1,\"\",IF(OR(S98=LEFT(O$1,1),S98=RIGHT(O$1,1)),COUNTIF(S$2:S98,LEFT(O$1,1))+COUNTIF(S$2:S98,RIGHT(O$1,1)),\"\"))","v":""},{"$f":"IF(COUNTBLANK(M98)=1,\"\",IF(OR(S98=LEFT(P$1,1),S98=RIGHT(P$1,1)),COUNTIF(S$2:S98,LEFT(P$1,1))+COUNTIF(S$2:S98,RIGHT(P$1,1)),\"\"))","v":""},{"$f":"IF(COUNTBLANK(M98)=1,\"\",IF(OR(S98=LEFT(Q$1,1),S98=RIGHT(Q$1,1)),COUNTIF(S$2:S98,LEFT(Q$1,1))+COUNTIF(S$2:S98,RIGHT(Q$1,1)),\"\"))","v":""},{"$f":"IF(COUNTBLANK(M98)=1,\"\",IF(OR(T98=LEFT(R$1,1),T98=RIGHT(R$1,1)),COUNTIF(T$2:T98,LEFT(R$1,1))+COUNTIF(T$2:T98,RIGHT(R$1,1)),\"\"))","v":""},{"$f":"IF(COUNTBLANK(M98)=1,\"\",INDEX(Registration!$C$2:$C$101,MATCH(M98,Registration!$B$2:$B$101,0)))","v":""},{"$f":"IF(COUNTBLANK(M98)=1,\"\",IF(COUNTBLANK(INDEX(Registration!$D$2:$D$101,MATCH(M98,Registration!$B$2:$B$101,0)))=1,\"\",INDEX(Registration!$D$2:$D$101,MATCH(M98,Registration!$B$2:$B$101,0))))","v":""}]
[{"$f":"IF(COUNTBLANK(Registration!B99)=1,\"\",Registration!B99)","v":""},null,null,null,null,null,"","","",null,"","","",null,{"$f":"IF(COUNTBLANK(M99)=1,\"\",IF(OR(S99=LEFT(O$1,1),S99=RIGHT(O$1,1)),COUNTIF(S$2:S99,LEFT(O$1,1))+COUNTIF(S$2:S99,RIGHT(O$1,1)),\"\"))","v":""},{"$f":"IF(COUNTBLANK(M99)=1,\"\",IF(OR(S99=LEFT(P$1,1),S99=RIGHT(P$1,1)),COUNTIF(S$2:S99,LEFT(P$1,1))+COUNTIF(S$2:S99,RIGHT(P$1,1)),\"\"))","v":""},{"$f":"IF(COUNTBLANK(M99)=1,\"\",IF(OR(S99=LEFT(Q$1,1),S99=RIGHT(Q$1,1)),COUNTIF(S$2:S99,LEFT(Q$1,1))+COUNTIF(S$2:S99,RIGHT(Q$1,1)),\"\"))","v":""},{"$f":"IF(COUNTBLANK(M99)=1,\"\",IF(OR(T99=LEFT(R$1,1),T99=RIGHT(R$1,1)),COUNTIF(T$2:T99,LEFT(R$1,1))+COUNTIF(T$2:T99,RIGHT(R$1,1)),\"\"))","v":""},{"$f":"IF(COUNTBLANK(M99)=1,\"\",INDEX(Registration!$C$2:$C$101,MATCH(M99,Registration!$B$2:$B$101,0)))","v":""},{"$f":"IF(COUNTBLANK(M99)=1,\"\",IF(COUNTBLANK(INDEX(Registration!$D$2:$D$101,MATCH(M99,Registration!$B$2:$B$101,0)))=1,\"\",INDEX(Registration!$D$2:$D$101,MATCH(M99,Registration!$B$2:$B$101,0))))","v":""}]
[{"$f":"IF(COUNTBLANK(Registration!B100)=1,\"\",Registration!B100)","v":""},null,null,null,null,null,"","","",null,"","","",null,{"$f":"IF(COUNTBLANK(M100)=1,\"\",IF(OR(S100=LEFT(O$1,1),S100=RIGHT(O$1,1)),COUNTIF(S$2:S100,LEFT(O$1,1))+COUNTIF(S$2:S100,RIGHT(O$1,1)),\"\"))","v":""},{"$f":"IF(COUNTBLANK(M100)=1,\"\",IF(OR(S100=LEFT(P$1,1),S100=RIGHT(P$1,1)),COUNTIF(S$2:S100,LEFT(P$1,1))+COUNTIF(S$2:S100,RIGHT(P$1,1)),\"\"))","v":""},{"$f":"IF(COUNTBLANK(M100)=1,\"\",IF(OR(S100=LEFT(Q$1,1),S100=RIGHT(Q$1,1)),COUNTIF(S$2:S100,LEFT(Q$1,1))+COUNTIF(S$2:S100,RIGHT(Q$1,1)),\"\"))","v":""},{"$f":"IF(COUNTBLANK(M100)=1,\"\",IF(OR(T100=LEFT(R$1,1),T100=RIGHT(R$1,1)),COUNTIF(T$2:T100,LEFT(R$1,1))+COUNTIF(T$2:T100,RIGHT(R$1,1)),\"\"))","v":""},{"$f":"IF(COUNTBLANK(M100)=1,\"\",INDEX(Registration!$C$2:$C$101,MATCH(M100,Registration!$B$2:$B$101,0)))","v":""},{"$f":"IF(COUNTBLANK(M100)=1,\"\",IF(COUNTBLANK(INDEX(Registration!$D$2:$D$101,MATCH(M100,Registration!$B$2:$B$101,0)))=1,\"\",INDEX(Registration!$D$2:$D$101,MATCH(M100,Registration!$B$2:$B$101,0))))","v":""}]
[{"$f":"IF(COUNTBLANK(Registration!B101)=1,\"\",Registration!B101)","v":""},null,null,null,null,null,"","","",null,"","","",null,{"$f":"IF(COUNTBLANK(M101)=1,\"\",IF(OR(S101=LEFT(O$1,1),S101=RIGHT(O$1,1)),COUNTIF(S$2:S101,LEFT(O$1,1))+COUNTIF(S$2:S101,RIGHT(O$1,1)),\"\"))","v":""},{"$f":"IF(COUNTBLANK(M101)=1,\"\",IF(OR(S101=LEFT(P$1,1),S101=RIGHT(P$1,1)),COUNTIF(S$2:S101,LEFT(P$1,1))+COUNTIF(S$2:S101,RIGHT(P$1,1)),\"\"))","v":""},{"$f":"IF(COUNTBLANK(M101)=1,\"\",IF(OR(S101=LEFT(Q$1,1),S101=RIGHT(Q$1,1)),COUNTIF(S$2:S101,LEFT(Q$1,1))+COUNTIF(S$2:S101,RIGHT(Q$1,1)),\"\"))","v":""},{"$f":"IF(COUNTBLANK(M101)=1,\"\",IF(OR(T101=LEFT(R$1,1),T101=RIGHT(R$1,1)),COUNTIF(T$2:T101,LEFT(R$1,1))+COUNTIF(T$2:T101,RIGHT(R$1,1)),\"\"))","v":""},{"$f":"IF(COUNTBLANK(M101)=1,\"\",INDEX(Registration!$C$2:$C$101,MATCH(M101,Registration!$B$2:$B$101,0)))","v":""},{"$f":"IF(COUNTBLANK(M101)=1,\"\",IF(COUNTBLANK(INDEX(Registration!$D$2:$D$101,MATCH(M101,Registration!$B$2:$B$101,0)))=1,\"\",INDEX(Registration!$D$2:$D$101,MATCH(M101,Registration!$B$2:$B$101,0))))","v":""}]

{"sheet":"Trick Catch","index":4,"n_rows":102,"n_cols":37,"rows_kept":102,"cut":false,"hidden":false,"merged":[]}
[{"$f":"Registration!B1","v":"Name"},"LHC","RHC","2HBB","2HUL","EAG","TUN","1HBB","1HUL","HAC","FC","2HBB","2HUL","LHC","TUN","RHC","HAC","1HBB","1HUL","EAG","FC","Singling Sub-Total","Doubling Sub-Total","Total","Place","Points",null,"Points","Total","Name",null,"SA","OI","NB","JW","Division","Category"]
[null,3,3,4,4,5,5,6,6,7,7,4,4,3,5,3,7,6,6,5,7,50,50,100,null,null,null,null,null,null,null,{"$f":"IF(COUNTBLANK(AD2)=1,\"\",IF(OR(AJ2=LEFT(AF$1,1),AJ2=RIGHT(AF$1,1)),COUNTIF(AJ$2:AJ2,LEFT(AF$1,1))+COUNTIF(AJ$2:AJ2,RIGHT(AF$1,1)),\"\"))","v":""},{"$f":"IF(COUNTBLANK(AD2)=1,\"\",IF(OR(AJ2=LEFT(AG$1,1),AJ2=RIGHT(AG$1,1)),COUNTIF(AJ$2:AJ2,LEFT(AG$1,1))+COUNTIF(AJ$2:AJ2,RIGHT(AG$1,1)),\"\"))","v":""},{"$f":"IF(COUNTBLANK(AD2)=1,\"\",IF(OR(AJ2=LEFT(AH$1,1),AJ2=RIGHT(AH$1,1)),COUNTIF(AJ$2:AJ2,LEFT(AH$1,1))+COUNTIF(AJ$2:AJ2,RIGHT(AH$1,1)),\"\"))","v":""},{"$f":"IF(COUNTBLANK(AD2)=1,\"\",IF(OR(AK2=LEFT(AI$1,1),AK2=RIGHT(AI$1,1)),COUNTIF(AK$2:AK2,LEFT(AI$1,1))+COUNTIF(AK$2:AK2,RIGHT(AI$1,1)),\"\"))","v":""},{"$f":"IF(COUNTBLANK(AD2)=1,\"\",INDEX(Registration!$C$2:$C$101,MATCH(AD2,Registration!$B$2:$B$101,0)))","v":""},{"$f":"IF(COUNTBLANK(AD2)=1,\"\",IF(COUNTBLANK(INDEX(Registration!$D$2:$D$101,MATCH(AD2,Registration!$B$2:$B$101,0)))=1,\"\",INDEX(Registration!$D$2:$D$101,MATCH(AD2,Registration!$B$2:$B$101,0))))","v":""}]
[{"$f":"IF(COUNTBLANK(Registration!B2)=1,\"\",Registration!B2)","v":""},null,null,null,null,null,null,null,null,null,null,null,null,null,null,null,null,null,null,null,null,{"$f":"IF(OR(COUNTBLANK($A3)=1,COUNTBLANK(B3:K3)=10),\"\",SUM($B3:$K3))","v":""},{"$f":"IF(OR(COUNTBLANK($A3)=1,COUNTBLANK(L3:U3)=10),\"\",SUM(L3:U3))","v":""},{"$f":"IF(OR(COUNTBLANK($A3)=1,COUNTBLANK(B3:U3)=20),\"\",SUM(W3,V3))","v":""},{"$f":"IF(OR(COUNTBLANK($A3)=1,COUNTBLANK(B3:U3)=20),\"\",RANK(X3,$X$3:$X$102,0))","v":""},{"$f":"IF(OR(COUNTBLANK($A3)=1,COUNTBLANK(B3:U3)=20),\"\",placingpoints(Y3,COUNTIF(Y$3:Y$102,\"=\"&Y3)))","v":""},null,null,null,null,null,{"$f":"IF(COUNTBLANK(AD3)=1,\"\",IF(OR(AJ3=LEFT(AF$1,1),AJ3=RIGHT(AF$1,1)),COUNTIF(AJ$2:AJ3,LEFT(AF$1,1))+COUNTIF(AJ$2:AJ3,RIGHT(AF$1,1)),\"\"))","v":""},{"$f":"IF(COUNTBLANK(AD3)=1,\"\",IF(OR(AJ3=LEFT(AG$1,1),AJ3=RIGHT(AG$1,1)),COUNTIF(AJ$2:AJ3,LEFT(AG$1,1))+COUNTIF(AJ$2:AJ3,RIGHT(AG$1,1)),\"\"))","v":""},{"$f":"IF(COUNTBLANK(AD3)=1,\"\",IF(OR(AJ3=LEFT(AH$1,1),AJ3=RIGHT(AH$1,1)),COUNTIF(AJ$2:AJ3,LEFT(AH$1,1))+COUNTIF(AJ$2:AJ3,RIGHT(AH$1,1)),\"\"))","v":""},{"$f":"IF(COUNTBLANK(AD3)=1,\"\",IF(OR(AK3=LEFT(AI$1,1),AK3=RIGHT(AI$1,1)),COUNTIF(AK$2:AK3,LEFT(AI$1,1))+COUNTIF(AK$2:AK3,RIGHT(AI$1,1)),\"\"))","v":""},{"$f":"IF(COUNTBLANK(AD3)=1,\"\",INDEX(Registration!$C$2:$C$101,MATCH(AD3,Registration!$B$2:$B$101,0)))","v":""},{"$f":"IF(COUNTBLANK(AD3)=1,\"\",IF(COUNTBLANK(INDEX(Registration!$D$2:$D$101,MATCH(AD3,Registration!$B$2:$B$101,0)))=1,\"\",INDEX(Registration!$D$2:$D$101,MATCH(AD3,Registration!$B$2:$B$101,0))))","v":""}]
[{"$f":"IF(COUNTBLANK(Registration!B3)=1,\"\",Registration!B3)","v":""},null,null,null,null,null,null,null,null,null,null,null,null,null,null,null,null,null,null,null,null,{"$f":"IF(OR(COUNTBLANK($A4)=1,COUNTBLANK(B4:K4)=10),\"\",SUM($B4:$K4))","v":""},{"$f":"IF(OR(COUNTBLANK($A4)=1,COUNTBLANK(L4:U4)=10),\"\",SUM(L4:U4))","v":""},{"$f":"IF(OR(COUNTBLANK($A4)=1,COUNTBLANK(B4:U4)=20),\"\",SUM(W4,V4))","v":""},{"$f":"IF(OR(COUNTBLANK($A4)=1,COUNTBLANK(B4:U4)=20),\"\",RANK(X4,$X$3:$X$102,0))","v":""},{"$f":"IF(OR(COUNTBLANK($A4)=1,COUNTBLANK(B4:U4)=20),\"\",placingpoints(Y4,COUNTIF(Y$3:Y$102,\"=\"&Y4)))","v":""},null,null,null,null,null,{"$f":"IF(COUNTBLANK(AD4)=1,\"\",IF(OR(AJ4=LEFT(AF$1,1),AJ4=RIGHT(AF$1,1)),COUNTIF(AJ$2:AJ4,LEFT(AF$1,1))+COUNTIF(AJ$2:AJ4,RIGHT(AF$1,1)),\"\"))","v":""},{"$f":"IF(COUNTBLANK(AD4)=1,\"\",IF(OR(AJ4=LEFT(AG$1,1),AJ4=RIGHT(AG$1,1)),COUNTIF(AJ$2:AJ4,LEFT(AG$1,1))+COUNTIF(AJ$2:AJ4,RIGHT(AG$1,1)),\"\"))","v":""},{"$f":"IF(COUNTBLANK(AD4)=1,\"\",IF(OR(AJ4=LEFT(AH$1,1),AJ4=RIGHT(AH$1,1)),COUNTIF(AJ$2:AJ4,LEFT(AH$1,1))+COUNTIF(AJ$2:AJ4,RIGHT(AH$1,1)),\"\"))","v":""},{"$f":"IF(COUNTBLANK(AD4)=1,\"\",IF(OR(AK4=LEFT(AI$1,1),AK4=RIGHT(AI$1,1)),COUNTIF(AK$2:AK4,LEFT(AI$1,1))+COUNTIF(AK$2:AK4,RIGHT(AI$1,1)),\"\"))","v":""},{"$f":"IF(COUNTBLANK(AD4)=1,\"\",INDEX(Registration!$C$2:$C$101,MATCH(AD4,Registration!$B$2:$B$101,0)))","v":""},{"$f":"IF(COUNTBLANK(AD4)=1,\"\",IF(COUNTBLANK(INDEX(Registration!$D$2:$D$101,MATCH(AD4,Registration!$B$2:$B$101,0)))=1,\"\",INDEX(Registration!$D$2:$D$101,MATCH(AD4,Registration!$B$2:$B$101,0))))","v":""}]
[{"$f":"IF(COUNTBLANK(Registration!B4)=1,\"\",Registration!B4)","v":""},null,null,null,null,null,null,null,null,null,null,null,null,null,null,null,null,null,null,null,null,"","","","","",null,null,null,null,null,{"$f":"IF(COUNTBLANK(AD5)=1,\"\",IF(OR(AJ5=LEFT(AF$1,1),AJ5=RIGHT(AF$1,1)),COUNTIF(AJ$2:AJ5,LEFT(AF$1,1))+COUNTIF(AJ$2:AJ5,RIGHT(AF$1,1)),\"\"))","v":""},{"$f":"IF(COUNTBLANK(AD5)=1,\"\",IF(OR(AJ5=LEFT(AG$1,1),AJ5=RIGHT(AG$1,1)),COUNTIF(AJ$2:AJ5,LEFT(AG$1,1))+COUNTIF(AJ$2:AJ5,RIGHT(AG$1,1)),\"\"))","v":""},{"$f":"IF(COUNTBLANK(AD5)=1,\"\",IF(OR(AJ5=LEFT(AH$1,1),AJ5=RIGHT(AH$1,1)),COUNTIF(AJ$2:AJ5,LEFT(AH$1,1))+COUNTIF(AJ$2:AJ5,RIGHT(AH$1,1)),\"\"))","v":""},{"$f":"IF(COUNTBLANK(AD5)=1,\"\",IF(OR(AK5=LEFT(AI$1,1),AK5=RIGHT(AI$1,1)),COUNTIF(AK$2:AK5,LEFT(AI$1,1))+COUNTIF(AK$2:AK5,RIGHT(AI$1,1)),\"\"))","v":""},{"$f":"IF(COUNTBLANK(AD5)=1,\"\",INDEX(Registration!$C$2:$C$101,MATCH(AD5,Registration!$B$2:$B$101,0)))","v":""},{"$f":"IF(COUNTBLANK(AD5)=1,\"\",IF(COUNTBLANK(INDEX(Registration!$D$2:$D$101,MATCH(AD5,Registration!$B$2:$B$101,0)))=1,\"\",INDEX(Registration!$D$2:$D$101,MATCH(AD5,Registration!$B$2:$B$101,0))))","v":""}]
[{"$f":"IF(COUNTBLANK(Registration!B5)=1,\"\",Registration!B5)","v":""},null,null,null,null,null,null,null,null,null,null,null,null,null,null,null,null,null,null,null,null,"","","","","",null,null,null,null,null,{"$f":"IF(COUNTBLANK(AD6)=1,\"\",IF(OR(AJ6=LEFT(AF$1,1),AJ6=RIGHT(AF$1,1)),COUNTIF(AJ$2:AJ6,LEFT(AF$1,1))+COUNTIF(AJ$2:AJ6,RIGHT(AF$1,1)),\"\"))","v":""},{"$f":"IF(COUNTBLANK(AD6)=1,\"\",IF(OR(AJ6=LEFT(AG$1,1),AJ6=RIGHT(AG$1,1)),COUNTIF(AJ$2:AJ6,LEFT(AG$1,1))+COUNTIF(AJ$2:AJ6,RIGHT(AG$1,1)),\"\"))","v":""},{"$f":"IF(COUNTBLANK(AD6)=1,\"\",IF(OR(AJ6=LEFT(AH$1,1),AJ6=RIGHT(AH$1,1)),COUNTIF(AJ$2:AJ6,LEFT(AH$1,1))+COUNTIF(AJ$2:AJ6,RIGHT(AH$1,1)),\"\"))","v":""},{"$f":"IF(COUNTBLANK(AD6)=1,\"\",IF(OR(AK6=LEFT(AI$1,1),AK6=RIGHT(AI$1,1)),COUNTIF(AK$2:AK6,LEFT(AI$1,1))+COUNTIF(AK$2:AK6,RIGHT(AI$1,1)),\"\"))","v":""},{"$f":"IF(COUNTBLANK(AD6)=1,\"\",INDEX(Registration!$C$2:$C$101,MATCH(AD6,Registration!$B$2:$B$101,0)))","v":""},{"$f":"IF(COUNTBLANK(AD6)=1,\"\",IF(COUNTBLANK(INDEX(Registration!$D$2:$D$101,MATCH(AD6,Registration!$B$2:$B$101,0)))=1,\"\",INDEX(Registration!$D$2:$D$101,MATCH(AD6,Registration!$B$2:$B$101,0))))","v":""}]
[{"$f":"IF(COUNTBLANK(Registration!B6)=1,\"\",Registration!B6)","v":""},null,null,null,null,null,null,null,null,null,null,null,null,null,null,null,null,null,null,null,null,"","","","","",null,null,null,null,null,{"$f":"IF(COUNTBLANK(AD7)=1,\"\",IF(OR(AJ7=LEFT(AF$1,1),AJ7=RIGHT(AF$1,1)),COUNTIF(AJ$2:AJ7,LEFT(AF$1,1))+COUNTIF(AJ$2:AJ7,RIGHT(AF$1,1)),\"\"))","v":""},{"$f":"IF(COUNTBLANK(AD7)=1,\"\",IF(OR(AJ7=LEFT(AG$1,1),AJ7=RIGHT(AG$1,1)),COUNTIF(AJ$2:AJ7,LEFT(AG$1,1))+COUNTIF(AJ$2:AJ7,RIGHT(AG$1,1)),\"\"))","v":""},{"$f":"IF(COUNTBLANK(AD7)=1,\"\",IF(OR(AJ7=LEFT(AH$1,1),AJ7=RIGHT(AH$1,1)),COUNTIF(AJ$2:AJ7,LEFT(AH$1,1))+COUNTIF(AJ$2:AJ7,RIGHT(AH$1,1)),\"\"))","v":""},{"$f":"IF(COUNTBLANK(AD7)=1,\"\",IF(OR(AK7=LEFT(AI$1,1),AK7=RIGHT(AI$1,1)),COUNTIF(AK$2:AK7,LEFT(AI$1,1))+COUNTIF(AK$2:AK7,RIGHT(AI$1,1)),\"\"))","v":""},{"$f":"IF(COUNTBLANK(AD7)=1,\"\",INDEX(Registration!$C$2:$C$101,MATCH(AD7,Registration!$B$2:$B$101,0)))","v":""},{"$f":"IF(COUNTBLANK(AD7)=1,\"\",IF(COUNTBLANK(INDEX(Registration!$D$2:$D$101,MATCH(AD7,Registration!$B$2:$B$101,0)))=1,\"\",INDEX(Registration!$D$2:$D$101,MATCH(AD7,Registration!$B$2:$B$101,0))))","v":""}]
[{"$f":"IF(COUNTBLANK(Registration!B7)=1,\"\",Registration!B7)","v":""},null,null,null,null,null,null,null,null,null,null,null,null,null,null,null,null,null,null,null,null,"","","","","",null,null,null,null,null,{"$f":"IF(COUNTBLANK(AD8)=1,\"\",IF(OR(AJ8=LEFT(AF$1,1),AJ8=RIGHT(AF$1,1)),COUNTIF(AJ$2:AJ8,LEFT(AF$1,1))+COUNTIF(AJ$2:AJ8,RIGHT(AF$1,1)),\"\"))","v":""},{"$f":"IF(COUNTBLANK(AD8)=1,\"\",IF(OR(AJ8=LEFT(AG$1,1),AJ8=RIGHT(AG$1,1)),COUNTIF(AJ$2:AJ8,LEFT(AG$1,1))+COUNTIF(AJ$2:AJ8,RIGHT(AG$1,1)),\"\"))","v":""},{"$f":"IF(COUNTBLANK(AD8)=1,\"\",IF(OR(AJ8=LEFT(AH$1,1),AJ8=RIGHT(AH$1,1)),COUNTIF(AJ$2:AJ8,LEFT(AH$1,1))+COUNTIF(AJ$2:AJ8,RIGHT(AH$1,1)),\"\"))","v":""},{"$f":"IF(COUNTBLANK(AD8)=1,\"\",IF(OR(AK8=LEFT(AI$1,1),AK8=RIGHT(AI$1,1)),COUNTIF(AK$2:AK8,LEFT(AI$1,1))+COUNTIF(AK$2:AK8,RIGHT(AI$1,1)),\"\"))","v":""},{"$f":"IF(COUNTBLANK(AD8)=1,\"\",INDEX(Registration!$C$2:$C$101,MATCH(AD8,Registration!$B$2:$B$101,0)))","v":""},{"$f":"IF(COUNTBLANK(AD8)=1,\"\",IF(COUNTBLANK(INDEX(Registration!$D$2:$D$101,MATCH(AD8,Registration!$B$2:$B$101,0)))=1,\"\",INDEX(Registration!$D$2:$D$101,MATCH(AD8,Registration!$B$2:$B$101,0))))","v":""}]
[{"$f":"IF(COUNTBLANK(Registration!B8)=1,\"\",Registration!B8)","v":""},null,null,null,null,null,null,null,null,null,null,null,null,null,null,null,null,null,null,null,null,"","","","","",null,null,null,null,null,{"$f":"IF(COUNTBLANK(AD9)=1,\"\",IF(OR(AJ9=LEFT(AF$1,1),AJ9=RIGHT(AF$1,1)),COUNTIF(AJ$2:AJ9,LEFT(AF$1,1))+COUNTIF(AJ$2:AJ9,RIGHT(AF$1,1)),\"\"))","v":""},{"$f":"IF(COUNTBLANK(AD9)=1,\"\",IF(OR(AJ9=LEFT(AG$1,1),AJ9=RIGHT(AG$1,1)),COUNTIF(AJ$2:AJ9,LEFT(AG$1,1))+COUNTIF(AJ$2:AJ9,RIGHT(AG$1,1)),\"\"))","v":""},{"$f":"IF(COUNTBLANK(AD9)=1,\"\",IF(OR(AJ9=LEFT(AH$1,1),AJ9=RIGHT(AH$1,1)),COUNTIF(AJ$2:AJ9,LEFT(AH$1,1))+COUNTIF(AJ$2:AJ9,RIGHT(AH$1,1)),\"\"))","v":""},{"$f":"IF(COUNTBLANK(AD9)=1,\"\",IF(OR(AK9=LEFT(AI$1,1),AK9=RIGHT(AI$1,1)),COUNTIF(AK$2:AK9,LEFT(AI$1,1))+COUNTIF(AK$2:AK9,RIGHT(AI$1,1)),\"\"))","v":""},{"$f":"IF(COUNTBLANK(AD9)=1,\"\",INDEX(Registration!$C$2:$C$101,MATCH(AD9,Registration!$B$2:$B$101,0)))","v":""},{"$f":"IF(COUNTBLANK(AD9)=1,\"\",IF(COUNTBLANK(INDEX(Registration!$D$2:$D$101,MATCH(AD9,Registration!$B$2:$B$101,0)))=1,\"\",INDEX(Registration!$D$2:$D$101,MATCH(AD9,Registration!$B$2:$B$101,0))))","v":""}]
[{"$f":"IF(COUNTBLANK(Registration!B9)=1,\"\",Registration!B9)","v":""},null,null,null,null,null,null,null,null,null,null,null,null,null,null,null,null,null,null,null,null,"","","","","",null,null,null,null,null,{"$f":"IF(COUNTBLANK(AD10)=1,\"\",IF(OR(AJ10=LEFT(AF$1,1),AJ10=RIGHT(AF$1,1)),COUNTIF(AJ$2:AJ10,LEFT(AF$1,1))+COUNTIF(AJ$2:AJ10,RIGHT(AF$1,1)),\"\"))","v":""},{"$f":"IF(COUNTBLANK(AD10)=1,\"\",IF(OR(AJ10=LEFT(AG$1,1),AJ10=RIGHT(AG$1,1)),COUNTIF(AJ$2:AJ10,LEFT(AG$1,1))+COUNTIF(AJ$2:AJ10,RIGHT(AG$1,1)),\"\"))","v":""},{"$f":"IF(COUNTBLANK(AD10)=1,\"\",IF(OR(AJ10=LEFT(AH$1,1),AJ10=RIGHT(AH$1,1)),COUNTIF(AJ$2:AJ10,LEFT(AH$1,1))+COUNTIF(AJ$2:AJ10,RIGHT(AH$1,1)),\"\"))","v":""},{"$f":"IF(COUNTBLANK(AD10)=1,\"\",IF(OR(AK10=LEFT(AI$1,1),AK10=RIGHT(AI$1,1)),COUNTIF(AK$2:AK10,LEFT(AI$1,1))+COUNTIF(AK$2:AK10,RIGHT(AI$1,1)),\"\"))","v":""},{"$f":"IF(COUNTBLANK(AD10)=1,\"\",INDEX(Registration!$C$2:$C$101,MATCH(AD10,Registration!$B$2:$B$101,0)))","v":""},{"$f":"IF(COUNTBLANK(AD10)=1,\"\",IF(COUNTBLANK(INDEX(Registration!$D$2:$D$101,MATCH(AD10,Registration!$B$2:$B$101,0)))=1,\"\",INDEX(Registration!$D$2:$D$101,MATCH(AD10,Registration!$B$2:$B$101,0))))","v":""}]
[{"$f":"IF(COUNTBLANK(Registration!B10)=1,\"\",Registration!B10)","v":""},null,null,null,null,null,null,null,null,null,null,null,null,null,null,null,null,null,null,null,null,"","","","","",null,null,null,null,null,{"$f":"IF(COUNTBLANK(AD11)=1,\"\",IF(OR(AJ11=LEFT(AF$1,1),AJ11=RIGHT(AF$1,1)),COUNTIF(AJ$2:AJ11,LEFT(AF$1,1))+COUNTIF(AJ$2:AJ11,RIGHT(AF$1,1)),\"\"))","v":""},{"$f":"IF(COUNTBLANK(AD11)=1,\"\",IF(OR(AJ11=LEFT(AG$1,1),AJ11=RIGHT(AG$1,1)),COUNTIF(AJ$2:AJ11,LEFT(AG$1,1))+COUNTIF(AJ$2:AJ11,RIGHT(AG$1,1)),\"\"))","v":""},{"$f":"IF(COUNTBLANK(AD11)=1,\"\",IF(OR(AJ11=LEFT(AH$1,1),AJ11=RIGHT(AH$1,1)),COUNTIF(AJ$2:AJ11,LEFT(AH$1,1))+COUNTIF(AJ$2:AJ11,RIGHT(AH$1,1)),\"\"))","v":""},{"$f":"IF(COUNTBLANK(AD11)=1,\"\",IF(OR(AK11=LEFT(AI$1,1),AK11=RIGHT(AI$1,1)),COUNTIF(AK$2:AK11,LEFT(AI$1,1))+COUNTIF(AK$2:AK11,RIGHT(AI$1,1)),\"\"))","v":""},{"$f":"IF(COUNTBLANK(AD11)=1,\"\",INDEX(Registration!$C$2:$C$101,MATCH(AD11,Registration!$B$2:$B$101,0)))","v":""},{"$f":"IF(COUNTBLANK(AD11)=1,\"\",IF(COUNTBLANK(INDEX(Registration!$D$2:$D$101,MATCH(AD11,Registration!$B$2:$B$101,0)))=1,\"\",INDEX(Registration!$D$2:$D$101,MATCH(AD11,Registration!$B$2:$B$101,0))))","v":""}]
[{"$f":"IF(COUNTBLANK(Registration!B11)=1,\"\",Registration!B11)","v":""},null,null,null,null,null,null,null,null,null,null,null,null,null,null,null,null,null,null,null,null,"","","","","",null,null,null,null,null,{"$f":"IF(COUNTBLANK(AD12)=1,\"\",IF(OR(AJ12=LEFT(AF$1,1),AJ12=RIGHT(AF$1,1)),COUNTIF(AJ$2:AJ12,LEFT(AF$1,1))+COUNTIF(AJ$2:AJ12,RIGHT(AF$1,1)),\"\"))","v":""},{"$f":"IF(COUNTBLANK(AD12)=1,\"\",IF(OR(AJ12=LEFT(AG$1,1),AJ12=RIGHT(AG$1,1)),COUNTIF(AJ$2:AJ12,LEFT(AG$1,1))+COUNTIF(AJ$2:AJ12,RIGHT(AG$1,1)),\"\"))","v":""},{"$f":"IF(COUNTBLANK(AD12)=1,\"\",IF(OR(AJ12=LEFT(AH$1,1),AJ12=RIGHT(AH$1,1)),COUNTIF(AJ$2:AJ12,LEFT(AH$1,1))+COUNTIF(AJ$2:AJ12,RIGHT(AH$1,1)),\"\"))","v":""},{"$f":"IF(COUNTBLANK(AD12)=1,\"\",IF(OR(AK12=LEFT(AI$1,1),AK12=RIGHT(AI$1,1)),COUNTIF(AK$2:AK12,LEFT(AI$1,1))+COUNTIF(AK$2:AK12,RIGHT(AI$1,1)),\"\"))","v":""},{"$f":"IF(COUNTBLANK(AD12)=1,\"\",INDEX(Registration!$C$2:$C$101,MATCH(AD12,Registration!$B$2:$B$101,0)))","v":""},{"$f":"IF(COUNTBLANK(AD12)=1,\"\",IF(COUNTBLANK(INDEX(Registration!$D$2:$D$101,MATCH(AD12,Registration!$B$2:$B$101,0)))=1,\"\",INDEX(Registration!$D$2:$D$101,MATCH(AD12,Registration!$B$2:$B$101,0))))","v":""}]
[{"$f":"IF(COUNTBLANK(Registration!B12)=1,\"\",Registration!B12)","v":""},null,null,null,null,null,null,null,null,null,null,null,null,null,null,null,null,null,null,null,null,"","","","","",null,null,null,null,null,{"$f":"IF(COUNTBLANK(AD13)=1,\"\",IF(OR(AJ13=LEFT(AF$1,1),AJ13=RIGHT(AF$1,1)),COUNTIF(AJ$2:AJ13,LEFT(AF$1,1))+COUNTIF(AJ$2:AJ13,RIGHT(AF$1,1)),\"\"))","v":""},{"$f":"IF(COUNTBLANK(AD13)=1,\"\",IF(OR(AJ13=LEFT(AG$1,1),AJ13=RIGHT(AG$1,1)),COUNTIF(AJ$2:AJ13,LEFT(AG$1,1))+COUNTIF(AJ$2:AJ13,RIGHT(AG$1,1)),\"\"))","v":""},{"$f":"IF(COUNTBLANK(AD13)=1,\"\",IF(OR(AJ13=LEFT(AH$1,1),AJ13=RIGHT(AH$1,1)),COUNTIF(AJ$2:AJ13,LEFT(AH$1,1))+COUNTIF(AJ$2:AJ13,RIGHT(AH$1,1)),\"\"))","v":""},{"$f":"IF(COUNTBLANK(AD13)=1,\"\",IF(OR(AK13=LEFT(AI$1,1),AK13=RIGHT(AI$1,1)),COUNTIF(AK$2:AK13,LEFT(AI$1,1))+COUNTIF(AK$2:AK13,RIGHT(AI$1,1)),\"\"))","v":""},{"$f":"IF(COUNTBLANK(AD13)=1,\"\",INDEX(Registration!$C$2:$C$101,MATCH(AD13,Registration!$B$2:$B$101,0)))","v":""},{"$f":"IF(COUNTBLANK(AD13)=1,\"\",IF(COUNTBLANK(INDEX(Registration!$D$2:$D$101,MATCH(AD13,Registration!$B$2:$B$101,0)))=1,\"\",INDEX(Registration!$D$2:$D$101,MATCH(AD13,Registration!$B$2:$B$101,0))))","v":""}]
[{"$f":"IF(COUNTBLANK(Registration!B13)=1,\"\",Registration!B13)","v":""},null,null,null,null,null,null,null,null,null,null,null,null,null,null,null,null,null,null,null,null,"","","","","",null,null,null,null,null,{"$f":"IF(COUNTBLANK(AD14)=1,\"\",IF(OR(AJ14=LEFT(AF$1,1),AJ14=RIGHT(AF$1,1)),COUNTIF(AJ$2:AJ14,LEFT(AF$1,1))+COUNTIF(AJ$2:AJ14,RIGHT(AF$1,1)),\"\"))","v":""},{"$f":"IF(COUNTBLANK(AD14)=1,\"\",IF(OR(AJ14=LEFT(AG$1,1),AJ14=RIGHT(AG$1,1)),COUNTIF(AJ$2:AJ14,LEFT(AG$1,1))+COUNTIF(AJ$2:AJ14,RIGHT(AG$1,1)),\"\"))","v":""},{"$f":"IF(COUNTBLANK(AD14)=1,\"\",IF(OR(AJ14=LEFT(AH$1,1),AJ14=RIGHT(AH$1,1)),COUNTIF(AJ$2:AJ14,LEFT(AH$1,1))+COUNTIF(AJ$2:AJ14,RIGHT(AH$1,1)),\"\"))","v":""},{"$f":"IF(COUNTBLANK(AD14)=1,\"\",IF(OR(AK14=LEFT(AI$1,1),AK14=RIGHT(AI$1,1)),COUNTIF(AK$2:AK14,LEFT(AI$1,1))+COUNTIF(AK$2:AK14,RIGHT(AI$1,1)),\"\"))","v":""},{"$f":"IF(COUNTBLANK(AD14)=1,\"\",INDEX(Registration!$C$2:$C$101,MATCH(AD14,Registration!$B$2:$B$101,0)))","v":""},{"$f":"IF(COUNTBLANK(AD14)=1,\"\",IF(COUNTBLANK(INDEX(Registration!$D$2:$D$101,MATCH(AD14,Registration!$B$2:$B$101,0)))=1,\"\",INDEX(Registration!$D$2:$D$101,MATCH(AD14,Registration!$B$2:$B$101,0))))","v":""}]
[{"$f":"IF(COUNTBLANK(Registration!B14)=1,\"\",Registration!B14)","v":""},null,null,null,null,null,null,null,null,null,null,null,null,null,null,null,null,null,null,null,null,"","","","","",null,null,null,null,null,{"$f":"IF(COUNTBLANK(AD15)=1,\"\",IF(OR(AJ15=LEFT(AF$1,1),AJ15=RIGHT(AF$1,1)),COUNTIF(AJ$2:AJ15,LEFT(AF$1,1))+COUNTIF(AJ$2:AJ15,RIGHT(AF$1,1)),\"\"))","v":""},{"$f":"IF(COUNTBLANK(AD15)=1,\"\",IF(OR(AJ15=LEFT(AG$1,1),AJ15=RIGHT(AG$1,1)),COUNTIF(AJ$2:AJ15,LEFT(AG$1,1))+COUNTIF(AJ$2:AJ15,RIGHT(AG$1,1)),\"\"))","v":""},{"$f":"IF(COUNTBLANK(AD15)=1,\"\",IF(OR(AJ15=LEFT(AH$1,1),AJ15=RIGHT(AH$1,1)),COUNTIF(AJ$2:AJ15,LEFT(AH$1,1))+COUNTIF(AJ$2:AJ15,RIGHT(AH$1,1)),\"\"))","v":""},{"$f":"IF(COUNTBLANK(AD15)=1,\"\",IF(OR(AK15=LEFT(AI$1,1),AK15=RIGHT(AI$1,1)),COUNTIF(AK$2:AK15,LEFT(AI$1,1))+COUNTIF(AK$2:AK15,RIGHT(AI$1,1)),\"\"))","v":""},{"$f":"IF(COUNTBLANK(AD15)=1,\"\",INDEX(Registration!$C$2:$C$101,MATCH(AD15,Registration!$B$2:$B$101,0)))","v":""},{"$f":"IF(COUNTBLANK(AD15)=1,\"\",IF(COUNTBLANK(INDEX(Registration!$D$2:$D$101,MATCH(AD15,Registration!$B$2:$B$101,0)))=1,\"\",INDEX(Registration!$D$2:$D$101,MATCH(AD15,Registration!$B$2:$B$101,0))))","v":""}]
[{"$f":"IF(COUNTBLANK(Registration!B15)=1,\"\",Registration!B15)","v":""},null,null,null,null,null,null,null,null,null,null,null,null,null,null,null,null,null,null,null,null,"","","","","",null,null,null,null,null,{"$f":"IF(COUNTBLANK(AD16)=1,\"\",IF(OR(AJ16=LEFT(AF$1,1),AJ16=RIGHT(AF$1,1)),COUNTIF(AJ$2:AJ16,LEFT(AF$1,1))+COUNTIF(AJ$2:AJ16,RIGHT(AF$1,1)),\"\"))","v":""},{"$f":"IF(COUNTBLANK(AD16)=1,\"\",IF(OR(AJ16=LEFT(AG$1,1),AJ16=RIGHT(AG$1,1)),COUNTIF(AJ$2:AJ16,LEFT(AG$1,1))+COUNTIF(AJ$2:AJ16,RIGHT(AG$1,1)),\"\"))","v":""},{"$f":"IF(COUNTBLANK(AD16)=1,\"\",IF(OR(AJ16=LEFT(AH$1,1),AJ16=RIGHT(AH$1,1)),COUNTIF(AJ$2:AJ16,LEFT(AH$1,1))+COUNTIF(AJ$2:AJ16,RIGHT(AH$1,1)),\"\"))","v":""},{"$f":"IF(COUNTBLANK(AD16)=1,\"\",IF(OR(AK16=LEFT(AI$1,1),AK16=RIGHT(AI$1,1)),COUNTIF(AK$2:AK16,LEFT(AI$1,1))+COUNTIF(AK$2:AK16,RIGHT(AI$1,1)),\"\"))","v":""},{"$f":"IF(COUNTBLANK(AD16)=1,\"\",INDEX(Registration!$C$2:$C$101,MATCH(AD16,Registration!$B$2:$B$101,0)))","v":""},{"$f":"IF(COUNTBLANK(AD16)=1,\"\",IF(COUNTBLANK(INDEX(Registration!$D$2:$D$101,MATCH(AD16,Registration!$B$2:$B$101,0)))=1,\"\",INDEX(Registration!$D$2:$D$101,MATCH(AD16,Registration!$B$2:$B$101,0))))","v":""}]
[{"$f":"IF(COUNTBLANK(Registration!B16)=1,\"\",Registration!B16)","v":""},null,null,null,null,null,null,null,null,null,null,null,null,null,null,null,null,null,null,null,null,"","","","","",null,null,null,null,null,{"$f":"IF(COUNTBLANK(AD17)=1,\"\",IF(OR(AJ17=LEFT(AF$1,1),AJ17=RIGHT(AF$1,1)),COUNTIF(AJ$2:AJ17,LEFT(AF$1,1))+COUNTIF(AJ$2:AJ17,RIGHT(AF$1,1)),\"\"))","v":""},{"$f":"IF(COUNTBLANK(AD17)=1,\"\",IF(OR(AJ17=LEFT(AG$1,1),AJ17=RIGHT(AG$1,1)),COUNTIF(AJ$2:AJ17,LEFT(AG$1,1))+COUNTIF(AJ$2:AJ17,RIGHT(AG$1,1)),\"\"))","v":""},{"$f":"IF(COUNTBLANK(AD17)=1,\"\",IF(OR(AJ17=LEFT(AH$1,1),AJ17=RIGHT(AH$1,1)),COUNTIF(AJ$2:AJ17,LEFT(AH$1,1))+COUNTIF(AJ$2:AJ17,RIGHT(AH$1,1)),\"\"))","v":""},{"$f":"IF(COUNTBLANK(AD17)=1,\"\",IF(OR(AK17=LEFT(AI$1,1),AK17=RIGHT(AI$1,1)),COUNTIF(AK$2:AK17,LEFT(AI$1,1))+COUNTIF(AK$2:AK17,RIGHT(AI$1,1)),\"\"))","v":""},{"$f":"IF(COUNTBLANK(AD17)=1,\"\",INDEX(Registration!$C$2:$C$101,MATCH(AD17,Registration!$B$2:$B$101,0)))","v":""},{"$f":"IF(COUNTBLANK(AD17)=1,\"\",IF(COUNTBLANK(INDEX(Registration!$D$2:$D$101,MATCH(AD17,Registration!$B$2:$B$101,0)))=1,\"\",INDEX(Registration!$D$2:$D$101,MATCH(AD17,Registration!$B$2:$B$101,0))))","v":""}]
[{"$f":"IF(COUNTBLANK(Registration!B17)=1,\"\",Registration!B17)","v":""},null,null,null,null,null,null,null,null,null,null,null,null,null,null,null,null,null,null,null,null,"","","","","",null,null,null,null,null,{"$f":"IF(COUNTBLANK(AD18)=1,\"\",IF(OR(AJ18=LEFT(AF$1,1),AJ18=RIGHT(AF$1,1)),COUNTIF(AJ$2:AJ18,LEFT(AF$1,1))+COUNTIF(AJ$2:AJ18,RIGHT(AF$1,1)),\"\"))","v":""},{"$f":"IF(COUNTBLANK(AD18)=1,\"\",IF(OR(AJ18=LEFT(AG$1,1),AJ18=RIGHT(AG$1,1)),COUNTIF(AJ$2:AJ18,LEFT(AG$1,1))+COUNTIF(AJ$2:AJ18,RIGHT(AG$1,1)),\"\"))","v":""},{"$f":"IF(COUNTBLANK(AD18)=1,\"\",IF(OR(AJ18=LEFT(AH$1,1),AJ18=RIGHT(AH$1,1)),COUNTIF(AJ$2:AJ18,LEFT(AH$1,1))+COUNTIF(AJ$2:AJ18,RIGHT(AH$1,1)),\"\"))","v":""},{"$f":"IF(COUNTBLANK(AD18)=1,\"\",IF(OR(AK18=LEFT(AI$1,1),AK18=RIGHT(AI$1,1)),COUNTIF(AK$2:AK18,LEFT(AI$1,1))+COUNTIF(AK$2:AK18,RIGHT(AI$1,1)),\"\"))","v":""},{"$f":"IF(COUNTBLANK(AD18)=1,\"\",INDEX(Registration!$C$2:$C$101,MATCH(AD18,Registration!$B$2:$B$101,0)))","v":""},{"$f":"IF(COUNTBLANK(AD18)=1,\"\",IF(COUNTBLANK(INDEX(Registration!$D$2:$D$101,MATCH(AD18,Registration!$B$2:$B$101,0)))=1,\"\",INDEX(Registration!$D$2:$D$101,MATCH(AD18,Registration!$B$2:$B$101,0))))","v":""}]
[{"$f":"IF(COUNTBLANK(Registration!B18)=1,\"\",Registration!B18)","v":""},null,null,null,null,null,null,null,null,null,null,null,null,null,null,null,null,null,null,null,null,"","","","","",null,null,null,null,null,{"$f":"IF(COUNTBLANK(AD19)=1,\"\",IF(OR(AJ19=LEFT(AF$1,1),AJ19=RIGHT(AF$1,1)),COUNTIF(AJ$2:AJ19,LEFT(AF$1,1))+COUNTIF(AJ$2:AJ19,RIGHT(AF$1,1)),\"\"))","v":""},{"$f":"IF(COUNTBLANK(AD19)=1,\"\",IF(OR(AJ19=LEFT(AG$1,1),AJ19=RIGHT(AG$1,1)),COUNTIF(AJ$2:AJ19,LEFT(AG$1,1))+COUNTIF(AJ$2:AJ19,RIGHT(AG$1,1)),\"\"))","v":""},{"$f":"IF(COUNTBLANK(AD19)=1,\"\",IF(OR(AJ19=LEFT(AH$1,1),AJ19=RIGHT(AH$1,1)),COUNTIF(AJ$2:AJ19,LEFT(AH$1,1))+COUNTIF(AJ$2:AJ19,RIGHT(AH$1,1)),\"\"))","v":""},{"$f":"IF(COUNTBLANK(AD19)=1,\"\",IF(OR(AK19=LEFT(AI$1,1),AK19=RIGHT(AI$1,1)),COUNTIF(AK$2:AK19,LEFT(AI$1,1))+COUNTIF(AK$2:AK19,RIGHT(AI$1,1)),\"\"))","v":""},{"$f":"IF(COUNTBLANK(AD19)=1,\"\",INDEX(Registration!$C$2:$C$101,MATCH(AD19,Registration!$B$2:$B$101,0)))","v":""},{"$f":"IF(COUNTBLANK(AD19)=1,\"\",IF(COUNTBLANK(INDEX(Registration!$D$2:$D$101,MATCH(AD19,Registration!$B$2:$B$101,0)))=1,\"\",INDEX(Registration!$D$2:$D$101,MATCH(AD19,Registration!$B$2:$B$101,0))))","v":""}]
[{"$f":"IF(COUNTBLANK(Registration!B19)=1,\"\",Registration!B19)","v":""},null,null,null,null,null,null,null,null,null,null,null,null,null,null,null,null,null,null,null,null,"","","","","",null,null,null,null,null,{"$f":"IF(COUNTBLANK(AD20)=1,\"\",IF(OR(AJ20=LEFT(AF$1,1),AJ20=RIGHT(AF$1,1)),COUNTIF(AJ$2:AJ20,LEFT(AF$1,1))+COUNTIF(AJ$2:AJ20,RIGHT(AF$1,1)),\"\"))","v":""},{"$f":"IF(COUNTBLANK(AD20)=1,\"\",IF(OR(AJ20=LEFT(AG$1,1),AJ20=RIGHT(AG$1,1)),COUNTIF(AJ$2:AJ20,LEFT(AG$1,1))+COUNTIF(AJ$2:AJ20,RIGHT(AG$1,1)),\"\"))","v":""},{"$f":"IF(COUNTBLANK(AD20)=1,\"\",IF(OR(AJ20=LEFT(AH$1,1),AJ20=RIGHT(AH$1,1)),COUNTIF(AJ$2:AJ20,LEFT(AH$1,1))+COUNTIF(AJ$2:AJ20,RIGHT(AH$1,1)),\"\"))","v":""},{"$f":"IF(COUNTBLANK(AD20)=1,\"\",IF(OR(AK20=LEFT(AI$1,1),AK20=RIGHT(AI$1,1)),COUNTIF(AK$2:AK20,LEFT(AI$1,1))+COUNTIF(AK$2:AK20,RIGHT(AI$1,1)),\"\"))","v":""},{"$f":"IF(COUNTBLANK(AD20)=1,\"\",INDEX(Registration!$C$2:$C$101,MATCH(AD20,Registration!$B$2:$B$101,0)))","v":""},{"$f":"IF(COUNTBLANK(AD20)=1,\"\",IF(COUNTBLANK(INDEX(Registration!$D$2:$D$101,MATCH(AD20,Registration!$B$2:$B$101,0)))=1,\"\",INDEX(Registration!$D$2:$D$101,MATCH(AD20,Registration!$B$2:$B$101,0))))","v":""}]
[{"$f":"IF(COUNTBLANK(Registration!B20)=1,\"\",Registration!B20)","v":""},null,null,null,null,null,null,null,null,null,null,null,null,null,null,null,null,null,null,null,null,"","","","","",null,null,null,null,null,{"$f":"IF(COUNTBLANK(AD21)=1,\"\",IF(OR(AJ21=LEFT(AF$1,1),AJ21=RIGHT(AF$1,1)),COUNTIF(AJ$2:AJ21,LEFT(AF$1,1))+COUNTIF(AJ$2:AJ21,RIGHT(AF$1,1)),\"\"))","v":""},{"$f":"IF(COUNTBLANK(AD21)=1,\"\",IF(OR(AJ21=LEFT(AG$1,1),AJ21=RIGHT(AG$1,1)),COUNTIF(AJ$2:AJ21,LEFT(AG$1,1))+COUNTIF(AJ$2:AJ21,RIGHT(AG$1,1)),\"\"))","v":""},{"$f":"IF(COUNTBLANK(AD21)=1,\"\",IF(OR(AJ21=LEFT(AH$1,1),AJ21=RIGHT(AH$1,1)),COUNTIF(AJ$2:AJ21,LEFT(AH$1,1))+COUNTIF(AJ$2:AJ21,RIGHT(AH$1,1)),\"\"))","v":""},{"$f":"IF(COUNTBLANK(AD21)=1,\"\",IF(OR(AK21=LEFT(AI$1,1),AK21=RIGHT(AI$1,1)),COUNTIF(AK$2:AK21,LEFT(AI$1,1))+COUNTIF(AK$2:AK21,RIGHT(AI$1,1)),\"\"))","v":""},{"$f":"IF(COUNTBLANK(AD21)=1,\"\",INDEX(Registration!$C$2:$C$101,MATCH(AD21,Registration!$B$2:$B$101,0)))","v":""},{"$f":"IF(COUNTBLANK(AD21)=1,\"\",IF(COUNTBLANK(INDEX(Registration!$D$2:$D$101,MATCH(AD21,Registration!$B$2:$B$101,0)))=1,\"\",INDEX(Registration!$D$2:$D$101,MATCH(AD21,Registration!$B$2:$B$101,0))))","v":""}]
[{"$f":"IF(COUNTBLANK(Registration!B21)=1,\"\",Registration!B21)","v":""},null,null,null,null,null,null,null,null,null,null,null,null,null,null,null,null,null,null,null,null,"","","","","",null,null,null,null,null,{"$f":"IF(COUNTBLANK(AD22)=1,\"\",IF(OR(AJ22=LEFT(AF$1,1),AJ22=RIGHT(AF$1,1)),COUNTIF(AJ$2:AJ22,LEFT(AF$1,1))+COUNTIF(AJ$2:AJ22,RIGHT(AF$1,1)),\"\"))","v":""},{"$f":"IF(COUNTBLANK(AD22)=1,\"\",IF(OR(AJ22=LEFT(AG$1,1),AJ22=RIGHT(AG$1,1)),COUNTIF(AJ$2:AJ22,LEFT(AG$1,1))+COUNTIF(AJ$2:AJ22,RIGHT(AG$1,1)),\"\"))","v":""},{"$f":"IF(COUNTBLANK(AD22)=1,\"\",IF(OR(AJ22=LEFT(AH$1,1),AJ22=RIGHT(AH$1,1)),COUNTIF(AJ$2:AJ22,LEFT(AH$1,1))+COUNTIF(AJ$2:AJ22,RIGHT(AH$1,1)),\"\"))","v":""},{"$f":"IF(COUNTBLANK(AD22)=1,\"\",IF(OR(AK22=LEFT(AI$1,1),AK22=RIGHT(AI$1,1)),COUNTIF(AK$2:AK22,LEFT(AI$1,1))+COUNTIF(AK$2:AK22,RIGHT(AI$1,1)),\"\"))","v":""},{"$f":"IF(COUNTBLANK(AD22)=1,\"\",INDEX(Registration!$C$2:$C$101,MATCH(AD22,Registration!$B$2:$B$101,0)))","v":""},{"$f":"IF(COUNTBLANK(AD22)=1,\"\",IF(COUNTBLANK(INDEX(Registration!$D$2:$D$101,MATCH(AD22,Registration!$B$2:$B$101,0)))=1,\"\",INDEX(Registration!$D$2:$D$101,MATCH(AD22,Registration!$B$2:$B$101,0))))","v":""}]
[{"$f":"IF(COUNTBLANK(Registration!B22)=1,\"\",Registration!B22)","v":""},null,null,null,null,null,null,null,null,null,null,null,null,null,null,null,null,null,null,null,null,"","","","","",null,null,null,null,null,{"$f":"IF(COUNTBLANK(AD23)=1,\"\",IF(OR(AJ23=LEFT(AF$1,1),AJ23=RIGHT(AF$1,1)),COUNTIF(AJ$2:AJ23,LEFT(AF$1,1))+COUNTIF(AJ$2:AJ23,RIGHT(AF$1,1)),\"\"))","v":""},{"$f":"IF(COUNTBLANK(AD23)=1,\"\",IF(OR(AJ23=LEFT(AG$1,1),AJ23=RIGHT(AG$1,1)),COUNTIF(AJ$2:AJ23,LEFT(AG$1,1))+COUNTIF(AJ$2:AJ23,RIGHT(AG$1,1)),\"\"))","v":""},{"$f":"IF(COUNTBLANK(AD23)=1,\"\",IF(OR(AJ23=LEFT(AH$1,1),AJ23=RIGHT(AH$1,1)),COUNTIF(AJ$2:AJ23,LEFT(AH$1,1))+COUNTIF(AJ$2:AJ23,RIGHT(AH$1,1)),\"\"))","v":""},{"$f":"IF(COUNTBLANK(AD23)=1,\"\",IF(OR(AK23=LEFT(AI$1,1),AK23=RIGHT(AI$1,1)),COUNTIF(AK$2:AK23,LEFT(AI$1,1))+COUNTIF(AK$2:AK23,RIGHT(AI$1,1)),\"\"))","v":""},{"$f":"IF(COUNTBLANK(AD23)=1,\"\",INDEX(Registration!$C$2:$C$101,MATCH(AD23,Registration!$B$2:$B$101,0)))","v":""},{"$f":"IF(COUNTBLANK(AD23)=1,\"\",IF(COUNTBLANK(INDEX(Registration!$D$2:$D$101,MATCH(AD23,Registration!$B$2:$B$101,0)))=1,\"\",INDEX(Registration!$D$2:$D$101,MATCH(AD23,Registration!$B$2:$B$101,0))))","v":""}]
[{"$f":"IF(COUNTBLANK(Registration!B23)=1,\"\",Registration!B23)","v":""},null,null,null,null,null,null,null,null,null,null,null,null,null,null,null,null,null,null,null,null,"","","","","",null,null,null,null,null,{"$f":"IF(COUNTBLANK(AD24)=1,\"\",IF(OR(AJ24=LEFT(AF$1,1),AJ24=RIGHT(AF$1,1)),COUNTIF(AJ$2:AJ24,LEFT(AF$1,1))+COUNTIF(AJ$2:AJ24,RIGHT(AF$1,1)),\"\"))","v":""},{"$f":"IF(COUNTBLANK(AD24)=1,\"\",IF(OR(AJ24=LEFT(AG$1,1),AJ24=RIGHT(AG$1,1)),COUNTIF(AJ$2:AJ24,LEFT(AG$1,1))+COUNTIF(AJ$2:AJ24,RIGHT(AG$1,1)),\"\"))","v":""},{"$f":"IF(COUNTBLANK(AD24)=1,\"\",IF(OR(AJ24=LEFT(AH$1,1),AJ24=RIGHT(AH$1,1)),COUNTIF(AJ$2:AJ24,LEFT(AH$1,1))+COUNTIF(AJ$2:AJ24,RIGHT(AH$1,1)),\"\"))","v":""},{"$f":"IF(COUNTBLANK(AD24)=1,\"\",IF(OR(AK24=LEFT(AI$1,1),AK24=RIGHT(AI$1,1)),COUNTIF(AK$2:AK24,LEFT(AI$1,1))+COUNTIF(AK$2:AK24,RIGHT(AI$1,1)),\"\"))","v":""},{"$f":"IF(COUNTBLANK(AD24)=1,\"\",INDEX(Registration!$C$2:$C$101,MATCH(AD24,Registration!$B$2:$B$101,0)))","v":""},{"$f":"IF(COUNTBLANK(AD24)=1,\"\",IF(COUNTBLANK(INDEX(Registration!$D$2:$D$101,MATCH(AD24,Registration!$B$2:$B$101,0)))=1,\"\",INDEX(Registration!$D$2:$D$101,MATCH(AD24,Registration!$B$2:$B$101,0))))","v":""}]
[{"$f":"IF(COUNTBLANK(Registration!B24)=1,\"\",Registration!B24)","v":""},null,null,null,null,null,null,null,null,null,null,null,null,null,null,null,null,null,null,null,null,"","","","","",null,null,null,null,null,{"$f":"IF(COUNTBLANK(AD25)=1,\"\",IF(OR(AJ25=LEFT(AF$1,1),AJ25=RIGHT(AF$1,1)),COUNTIF(AJ$2:AJ25,LEFT(AF$1,1))+COUNTIF(AJ$2:AJ25,RIGHT(AF$1,1)),\"\"))","v":""},{"$f":"IF(COUNTBLANK(AD25)=1,\"\",IF(OR(AJ25=LEFT(AG$1,1),AJ25=RIGHT(AG$1,1)),COUNTIF(AJ$2:AJ25,LEFT(AG$1,1))+COUNTIF(AJ$2:AJ25,RIGHT(AG$1,1)),\"\"))","v":""},{"$f":"IF(COUNTBLANK(AD25)=1,\"\",IF(OR(AJ25=LEFT(AH$1,1),AJ25=RIGHT(AH$1,1)),COUNTIF(AJ$2:AJ25,LEFT(AH$1,1))+COUNTIF(AJ$2:AJ25,RIGHT(AH$1,1)),\"\"))","v":""},{"$f":"IF(COUNTBLANK(AD25)=1,\"\",IF(OR(AK25=LEFT(AI$1,1),AK25=RIGHT(AI$1,1)),COUNTIF(AK$2:AK25,LEFT(AI$1,1))+COUNTIF(AK$2:AK25,RIGHT(AI$1,1)),\"\"))","v":""},{"$f":"IF(COUNTBLANK(AD25)=1,\"\",INDEX(Registration!$C$2:$C$101,MATCH(AD25,Registration!$B$2:$B$101,0)))","v":""},{"$f":"IF(COUNTBLANK(AD25)=1,\"\",IF(COUNTBLANK(INDEX(Registration!$D$2:$D$101,MATCH(AD25,Registration!$B$2:$B$101,0)))=1,\"\",INDEX(Registration!$D$2:$D$101,MATCH(AD25,Registration!$B$2:$B$101,0))))","v":""}]
[{"$f":"IF(COUNTBLANK(Registration!B25)=1,\"\",Registration!B25)","v":""},null,null,null,null,null,null,null,null,null,null,null,null,null,null,null,null,null,null,null,null,"","","","","",null,null,null,null,null,{"$f":"IF(COUNTBLANK(AD26)=1,\"\",IF(OR(AJ26=LEFT(AF$1,1),AJ26=RIGHT(AF$1,1)),COUNTIF(AJ$2:AJ26,LEFT(AF$1,1))+COUNTIF(AJ$2:AJ26,RIGHT(AF$1,1)),\"\"))","v":""},{"$f":"IF(COUNTBLANK(AD26)=1,\"\",IF(OR(AJ26=LEFT(AG$1,1),AJ26=RIGHT(AG$1,1)),COUNTIF(AJ$2:AJ26,LEFT(AG$1,1))+COUNTIF(AJ$2:AJ26,RIGHT(AG$1,1)),\"\"))","v":""},{"$f":"IF(COUNTBLANK(AD26)=1,\"\",IF(OR(AJ26=LEFT(AH$1,1),AJ26=RIGHT(AH$1,1)),COUNTIF(AJ$2:AJ26,LEFT(AH$1,1))+COUNTIF(AJ$2:AJ26,RIGHT(AH$1,1)),\"\"))","v":""},{"$f":"IF(COUNTBLANK(AD26)=1,\"\",IF(OR(AK26=LEFT(AI$1,1),AK26=RIGHT(AI$1,1)),COUNTIF(AK$2:AK26,LEFT(AI$1,1))+COUNTIF(AK$2:AK26,RIGHT(AI$1,1)),\"\"))","v":""},{"$f":"IF(COUNTBLANK(AD26)=1,\"\",INDEX(Registration!$C$2:$C$101,MATCH(AD26,Registration!$B$2:$B$101,0)))","v":""},{"$f":"IF(COUNTBLANK(AD26)=1,\"\",IF(COUNTBLANK(INDEX(Registration!$D$2:$D$101,MATCH(AD26,Registration!$B$2:$B$101,0)))=1,\"\",INDEX(Registration!$D$2:$D$101,MATCH(AD26,Registration!$B$2:$B$101,0))))","v":""}]
[{"$f":"IF(COUNTBLANK(Registration!B26)=1,\"\",Registration!B26)","v":""},null,null,null,null,null,null,null,null,null,null,null,null,null,null,null,null,null,null,null,null,"","","","","",null,null,null,null,null,{"$f":"IF(COUNTBLANK(AD27)=1,\"\",IF(OR(AJ27=LEFT(AF$1,1),AJ27=RIGHT(AF$1,1)),COUNTIF(AJ$2:AJ27,LEFT(AF$1,1))+COUNTIF(AJ$2:AJ27,RIGHT(AF$1,1)),\"\"))","v":""},{"$f":"IF(COUNTBLANK(AD27)=1,\"\",IF(OR(AJ27=LEFT(AG$1,1),AJ27=RIGHT(AG$1,1)),COUNTIF(AJ$2:AJ27,LEFT(AG$1,1))+COUNTIF(AJ$2:AJ27,RIGHT(AG$1,1)),\"\"))","v":""},{"$f":"IF(COUNTBLANK(AD27)=1,\"\",IF(OR(AJ27=LEFT(AH$1,1),AJ27=RIGHT(AH$1,1)),COUNTIF(AJ$2:AJ27,LEFT(AH$1,1))+COUNTIF(AJ$2:AJ27,RIGHT(AH$1,1)),\"\"))","v":""},{"$f":"IF(COUNTBLANK(AD27)=1,\"\",IF(OR(AK27=LEFT(AI$1,1),AK27=RIGHT(AI$1,1)),COUNTIF(AK$2:AK27,LEFT(AI$1,1))+COUNTIF(AK$2:AK27,RIGHT(AI$1,1)),\"\"))","v":""},{"$f":"IF(COUNTBLANK(AD27)=1,\"\",INDEX(Registration!$C$2:$C$101,MATCH(AD27,Registration!$B$2:$B$101,0)))","v":""},{"$f":"IF(COUNTBLANK(AD27)=1,\"\",IF(COUNTBLANK(INDEX(Registration!$D$2:$D$101,MATCH(AD27,Registration!$B$2:$B$101,0)))=1,\"\",INDEX(Registration!$D$2:$D$101,MATCH(AD27,Registration!$B$2:$B$101,0))))","v":""}]
[{"$f":"IF(COUNTBLANK(Registration!B27)=1,\"\",Registration!B27)","v":""},null,null,null,null,null,null,null,null,null,null,null,null,null,null,null,null,null,null,null,null,"","","","","",null,null,null,null,null,{"$f":"IF(COUNTBLANK(AD28)=1,\"\",IF(OR(AJ28=LEFT(AF$1,1),AJ28=RIGHT(AF$1,1)),COUNTIF(AJ$2:AJ28,LEFT(AF$1,1))+COUNTIF(AJ$2:AJ28,RIGHT(AF$1,1)),\"\"))","v":""},{"$f":"IF(COUNTBLANK(AD28)=1,\"\",IF(OR(AJ28=LEFT(AG$1,1),AJ28=RIGHT(AG$1,1)),COUNTIF(AJ$2:AJ28,LEFT(AG$1,1))+COUNTIF(AJ$2:AJ28,RIGHT(AG$1,1)),\"\"))","v":""},{"$f":"IF(COUNTBLANK(AD28)=1,\"\",IF(OR(AJ28=LEFT(AH$1,1),AJ28=RIGHT(AH$1,1)),COUNTIF(AJ$2:AJ28,LEFT(AH$1,1))+COUNTIF(AJ$2:AJ28,RIGHT(AH$1,1)),\"\"))","v":""},{"$f":"IF(COUNTBLANK(AD28)=1,\"\",IF(OR(AK28=LEFT(AI$1,1),AK28=RIGHT(AI$1,1)),COUNTIF(AK$2:AK28,LEFT(AI$1,1))+COUNTIF(AK$2:AK28,RIGHT(AI$1,1)),\"\"))","v":""},{"$f":"IF(COUNTBLANK(AD28)=1,\"\",INDEX(Registration!$C$2:$C$101,MATCH(AD28,Registration!$B$2:$B$101,0)))","v":""},{"$f":"IF(COUNTBLANK(AD28)=1,\"\",IF(COUNTBLANK(INDEX(Registration!$D$2:$D$101,MATCH(AD28,Registration!$B$2:$B$101,0)))=1,\"\",INDEX(Registration!$D$2:$D$101,MATCH(AD28,Registration!$B$2:$B$101,0))))","v":""}]
[{"$f":"IF(COUNTBLANK(Registration!B28)=1,\"\",Registration!B28)","v":""},null,null,null,null,null,null,null,null,null,null,null,null,null,null,null,null,null,null,null,null,"","","","","",null,null,null,null,null,{"$f":"IF(COUNTBLANK(AD29)=1,\"\",IF(OR(AJ29=LEFT(AF$1,1),AJ29=RIGHT(AF$1,1)),COUNTIF(AJ$2:AJ29,LEFT(AF$1,1))+COUNTIF(AJ$2:AJ29,RIGHT(AF$1,1)),\"\"))","v":""},{"$f":"IF(COUNTBLANK(AD29)=1,\"\",IF(OR(AJ29=LEFT(AG$1,1),AJ29=RIGHT(AG$1,1)),COUNTIF(AJ$2:AJ29,LEFT(AG$1,1))+COUNTIF(AJ$2:AJ29,RIGHT(AG$1,1)),\"\"))","v":""},{"$f":"IF(COUNTBLANK(AD29)=1,\"\",IF(OR(AJ29=LEFT(AH$1,1),AJ29=RIGHT(AH$1,1)),COUNTIF(AJ$2:AJ29,LEFT(AH$1,1))+COUNTIF(AJ$2:AJ29,RIGHT(AH$1,1)),\"\"))","v":""},{"$f":"IF(COUNTBLANK(AD29)=1,\"\",IF(OR(AK29=LEFT(AI$1,1),AK29=RIGHT(AI$1,1)),COUNTIF(AK$2:AK29,LEFT(AI$1,1))+COUNTIF(AK$2:AK29,RIGHT(AI$1,1)),\"\"))","v":""},{"$f":"IF(COUNTBLANK(AD29)=1,\"\",INDEX(Registration!$C$2:$C$101,MATCH(AD29,Registration!$B$2:$B$101,0)))","v":""},{"$f":"IF(COUNTBLANK(AD29)=1,\"\",IF(COUNTBLANK(INDEX(Registration!$D$2:$D$101,MATCH(AD29,Registration!$B$2:$B$101,0)))=1,\"\",INDEX(Registration!$D$2:$D$101,MATCH(AD29,Registration!$B$2:$B$101,0))))","v":""}]
[{"$f":"IF(COUNTBLANK(Registration!B29)=1,\"\",Registration!B29)","v":""},null,null,null,null,null,null,null,null,null,null,null,null,null,null,null,null,null,null,null,null,"","","","","",null,null,null,null,null,{"$f":"IF(COUNTBLANK(AD30)=1,\"\",IF(OR(AJ30=LEFT(AF$1,1),AJ30=RIGHT(AF$1,1)),COUNTIF(AJ$2:AJ30,LEFT(AF$1,1))+COUNTIF(AJ$2:AJ30,RIGHT(AF$1,1)),\"\"))","v":""},{"$f":"IF(COUNTBLANK(AD30)=1,\"\",IF(OR(AJ30=LEFT(AG$1,1),AJ30=RIGHT(AG$1,1)),COUNTIF(AJ$2:AJ30,LEFT(AG$1,1))+COUNTIF(AJ$2:AJ30,RIGHT(AG$1,1)),\"\"))","v":""},{"$f":"IF(COUNTBLANK(AD30)=1,\"\",IF(OR(AJ30=LEFT(AH$1,1),AJ30=RIGHT(AH$1,1)),COUNTIF(AJ$2:AJ30,LEFT(AH$1,1))+COUNTIF(AJ$2:AJ30,RIGHT(AH$1,1)),\"\"))","v":""},{"$f":"IF(COUNTBLANK(AD30)=1,\"\",IF(OR(AK30=LEFT(AI$1,1),AK30=RIGHT(AI$1,1)),COUNTIF(AK$2:AK30,LEFT(AI$1,1))+COUNTIF(AK$2:AK30,RIGHT(AI$1,1)),\"\"))","v":""},{"$f":"IF(COUNTBLANK(AD30)=1,\"\",INDEX(Registration!$C$2:$C$101,MATCH(AD30,Registration!$B$2:$B$101,0)))","v":""},{"$f":"IF(COUNTBLANK(AD30)=1,\"\",IF(COUNTBLANK(INDEX(Registration!$D$2:$D$101,MATCH(AD30,Registration!$B$2:$B$101,0)))=1,\"\",INDEX(Registration!$D$2:$D$101,MATCH(AD30,Registration!$B$2:$B$101,0))))","v":""}]
[{"$f":"IF(COUNTBLANK(Registration!B30)=1,\"\",Registration!B30)","v":""},null,null,null,null,null,null,null,null,null,null,null,null,null,null,null,null,null,null,null,null,"","","","","",null,null,null,null,null,{"$f":"IF(COUNTBLANK(AD31)=1,\"\",IF(OR(AJ31=LEFT(AF$1,1),AJ31=RIGHT(AF$1,1)),COUNTIF(AJ$2:AJ31,LEFT(AF$1,1))+COUNTIF(AJ$2:AJ31,RIGHT(AF$1,1)),\"\"))","v":""},{"$f":"IF(COUNTBLANK(AD31)=1,\"\",IF(OR(AJ31=LEFT(AG$1,1),AJ31=RIGHT(AG$1,1)),COUNTIF(AJ$2:AJ31,LEFT(AG$1,1))+COUNTIF(AJ$2:AJ31,RIGHT(AG$1,1)),\"\"))","v":""},{"$f":"IF(COUNTBLANK(AD31)=1,\"\",IF(OR(AJ31=LEFT(AH$1,1),AJ31=RIGHT(AH$1,1)),COUNTIF(AJ$2:AJ31,LEFT(AH$1,1))+COUNTIF(AJ$2:AJ31,RIGHT(AH$1,1)),\"\"))","v":""},{"$f":"IF(COUNTBLANK(AD31)=1,\"\",IF(OR(AK31=LEFT(AI$1,1),AK31=RIGHT(AI$1,1)),COUNTIF(AK$2:AK31,LEFT(AI$1,1))+COUNTIF(AK$2:AK31,RIGHT(AI$1,1)),\"\"))","v":""},{"$f":"IF(COUNTBLANK(AD31)=1,\"\",INDEX(Registration!$C$2:$C$101,MATCH(AD31,Registration!$B$2:$B$101,0)))","v":""},{"$f":"IF(COUNTBLANK(AD31)=1,\"\",IF(COUNTBLANK(INDEX(Registration!$D$2:$D$101,MATCH(AD31,Registration!$B$2:$B$101,0)))=1,\"\",INDEX(Registration!$D$2:$D$101,MATCH(AD31,Registration!$B$2:$B$101,0))))","v":""}]
[{"$f":"IF(COUNTBLANK(Registration!B31)=1,\"\",Registration!B31)","v":""},null,null,null,null,null,null,null,null,null,null,null,null,null,null,null,null,null,null,null,null,"","","","","",null,"","","",null,{"$f":"IF(COUNTBLANK(AD32)=1,\"\",IF(OR(AJ32=LEFT(AF$1,1),AJ32=RIGHT(AF$1,1)),COUNTIF(AJ$2:AJ32,LEFT(AF$1,1))+COUNTIF(AJ$2:AJ32,RIGHT(AF$1,1)),\"\"))","v":""},{"$f":"IF(COUNTBLANK(AD32)=1,\"\",IF(OR(AJ32=LEFT(AG$1,1),AJ32=RIGHT(AG$1,1)),COUNTIF(AJ$2:AJ32,LEFT(AG$1,1))+COUNTIF(AJ$2:AJ32,RIGHT(AG$1,1)),\"\"))","v":""},{"$f":"IF(COUNTBLANK(AD32)=1,\"\",IF(OR(AJ32=LEFT(AH$1,1),AJ32=RIGHT(AH$1,1)),COUNTIF(AJ$2:AJ32,LEFT(AH$1,1))+COUNTIF(AJ$2:AJ32,RIGHT(AH$1,1)),\"\"))","v":""},{"$f":"IF(COUNTBLANK(AD32)=1,\"\",IF(OR(AK32=LEFT(AI$1,1),AK32=RIGHT(AI$1,1)),COUNTIF(AK$2:AK32,LEFT(AI$1,1))+COUNTIF(AK$2:AK32,RIGHT(AI$1,1)),\"\"))","v":""},{"$f":"IF(COUNTBLANK(AD32)=1,\"\",INDEX(Registration!$C$2:$C$101,MATCH(AD32,Registration!$B$2:$B$101,0)))","v":""},{"$f":"IF(COUNTBLANK(AD32)=1,\"\",IF(COUNTBLANK(INDEX(Registration!$D$2:$D$101,MATCH(AD32,Registration!$B$2:$B$101,0)))=1,\"\",INDEX(Registration!$D$2:$D$101,MATCH(AD32,Registration!$B$2:$B$101,0))))","v":""}]
[{"$f":"IF(COUNTBLANK(Registration!B32)=1,\"\",Registration!B32)","v":""},null,null,null,null,null,null,null,null,null,null,null,null,null,null,null,null,null,null,null,null,"","","","","",null,"","","",null,{"$f":"IF(COUNTBLANK(AD33)=1,\"\",IF(OR(AJ33=LEFT(AF$1,1),AJ33=RIGHT(AF$1,1)),COUNTIF(AJ$2:AJ33,LEFT(AF$1,1))+COUNTIF(AJ$2:AJ33,RIGHT(AF$1,1)),\"\"))","v":""},{"$f":"IF(COUNTBLANK(AD33)=1,\"\",IF(OR(AJ33=LEFT(AG$1,1),AJ33=RIGHT(AG$1,1)),COUNTIF(AJ$2:AJ33,LEFT(AG$1,1))+COUNTIF(AJ$2:AJ33,RIGHT(AG$1,1)),\"\"))","v":""},{"$f":"IF(COUNTBLANK(AD33)=1,\"\",IF(OR(AJ33=LEFT(AH$1,1),AJ33=RIGHT(AH$1,1)),COUNTIF(AJ$2:AJ33,LEFT(AH$1,1))+COUNTIF(AJ$2:AJ33,RIGHT(AH$1,1)),\"\"))","v":""},{"$f":"IF(COUNTBLANK(AD33)=1,\"\",IF(OR(AK33=LEFT(AI$1,1),AK33=RIGHT(AI$1,1)),COUNTIF(AK$2:AK33,LEFT(AI$1,1))+COUNTIF(AK$2:AK33,RIGHT(AI$1,1)),\"\"))","v":""},{"$f":"IF(COUNTBLANK(AD33)=1,\"\",INDEX(Registration!$C$2:$C$101,MATCH(AD33,Registration!$B$2:$B$101,0)))","v":""},{"$f":"IF(COUNTBLANK(AD33)=1,\"\",IF(COUNTBLANK(INDEX(Registration!$D$2:$D$101,MATCH(AD33,Registration!$B$2:$B$101,0)))=1,\"\",INDEX(Registration!$D$2:$D$101,MATCH(AD33,Registration!$B$2:$B$101,0))))","v":""}]
[{"$f":"IF(COUNTBLANK(Registration!B33)=1,\"\",Registration!B33)","v":""},null,null,null,null,null,null,null,null,null,null,null,null,null,null,null,null,null,null,null,null,"","","","","",null,"","","",null,{"$f":"IF(COUNTBLANK(AD34)=1,\"\",IF(OR(AJ34=LEFT(AF$1,1),AJ34=RIGHT(AF$1,1)),COUNTIF(AJ$2:AJ34,LEFT(AF$1,1))+COUNTIF(AJ$2:AJ34,RIGHT(AF$1,1)),\"\"))","v":""},{"$f":"IF(COUNTBLANK(AD34)=1,\"\",IF(OR(AJ34=LEFT(AG$1,1),AJ34=RIGHT(AG$1,1)),COUNTIF(AJ$2:AJ34,LEFT(AG$1,1))+COUNTIF(AJ$2:AJ34,RIGHT(AG$1,1)),\"\"))","v":""},{"$f":"IF(COUNTBLANK(AD34)=1,\"\",IF(OR(AJ34=LEFT(AH$1,1),AJ34=RIGHT(AH$1,1)),COUNTIF(AJ$2:AJ34,LEFT(AH$1,1))+COUNTIF(AJ$2:AJ34,RIGHT(AH$1,1)),\"\"))","v":""},{"$f":"IF(COUNTBLANK(AD34)=1,\"\",IF(OR(AK34=LEFT(AI$1,1),AK34=RIGHT(AI$1,1)),COUNTIF(AK$2:AK34,LEFT(AI$1,1))+COUNTIF(AK$2:AK34,RIGHT(AI$1,1)),\"\"))","v":""},{"$f":"IF(COUNTBLANK(AD34)=1,\"\",INDEX(Registration!$C$2:$C$101,MATCH(AD34,Registration!$B$2:$B$101,0)))","v":""},{"$f":"IF(COUNTBLANK(AD34)=1,\"\",IF(COUNTBLANK(INDEX(Registration!$D$2:$D$101,MATCH(AD34,Registration!$B$2:$B$101,0)))=1,\"\",INDEX(Registration!$D$2:$D$101,MATCH(AD34,Registration!$B$2:$B$101,0))))","v":""}]
[{"$f":"IF(COUNTBLANK(Registration!B34)=1,\"\",Registration!B34)","v":""},null,null,null,null,null,null,null,null,null,null,null,null,null,null,null,null,null,null,null,null,"","","","","",null,"","","",null,{"$f":"IF(COUNTBLANK(AD35)=1,\"\",IF(OR(AJ35=LEFT(AF$1,1),AJ35=RIGHT(AF$1,1)),COUNTIF(AJ$2:AJ35,LEFT(AF$1,1))+COUNTIF(AJ$2:AJ35,RIGHT(AF$1,1)),\"\"))","v":""},{"$f":"IF(COUNTBLANK(AD35)=1,\"\",IF(OR(AJ35=LEFT(AG$1,1),AJ35=RIGHT(AG$1,1)),COUNTIF(AJ$2:AJ35,LEFT(AG$1,1))+COUNTIF(AJ$2:AJ35,RIGHT(AG$1,1)),\"\"))","v":""},{"$f":"IF(COUNTBLANK(AD35)=1,\"\",IF(OR(AJ35=LEFT(AH$1,1),AJ35=RIGHT(AH$1,1)),COUNTIF(AJ$2:AJ35,LEFT(AH$1,1))+COUNTIF(AJ$2:AJ35,RIGHT(AH$1,1)),\"\"))","v":""},{"$f":"IF(COUNTBLANK(AD35)=1,\"\",IF(OR(AK35=LEFT(AI$1,1),AK35=RIGHT(AI$1,1)),COUNTIF(AK$2:AK35,LEFT(AI$1,1))+COUNTIF(AK$2:AK35,RIGHT(AI$1,1)),\"\"))","v":""},{"$f":"IF(COUNTBLANK(AD35)=1,\"\",INDEX(Registration!$C$2:$C$101,MATCH(AD35,Registration!$B$2:$B$101,0)))","v":""},{"$f":"IF(COUNTBLANK(AD35)=1,\"\",IF(COUNTBLANK(INDEX(Registration!$D$2:$D$101,MATCH(AD35,Registration!$B$2:$B$101,0)))=1,\"\",INDEX(Registration!$D$2:$D$101,MATCH(AD35,Registration!$B$2:$B$101,0))))","v":""}]
[{"$f":"IF(COUNTBLANK(Registration!B35)=1,\"\",Registration!B35)","v":""},null,null,null,null,null,null,null,null,null,null,null,null,null,null,null,null,null,null,null,null,"","","","","",null,"","","",null,{"$f":"IF(COUNTBLANK(AD36)=1,\"\",IF(OR(AJ36=LEFT(AF$1,1),AJ36=RIGHT(AF$1,1)),COUNTIF(AJ$2:AJ36,LEFT(AF$1,1))+COUNTIF(AJ$2:AJ36,RIGHT(AF$1,1)),\"\"))","v":""},{"$f":"IF(COUNTBLANK(AD36)=1,\"\",IF(OR(AJ36=LEFT(AG$1,1),AJ36=RIGHT(AG$1,1)),COUNTIF(AJ$2:AJ36,LEFT(AG$1,1))+COUNTIF(AJ$2:AJ36,RIGHT(AG$1,1)),\"\"))","v":""},{"$f":"IF(COUNTBLANK(AD36)=1,\"\",IF(OR(AJ36=LEFT(AH$1,1),AJ36=RIGHT(AH$1,1)),COUNTIF(AJ$2:AJ36,LEFT(AH$1,1))+COUNTIF(AJ$2:AJ36,RIGHT(AH$1,1)),\"\"))","v":""},{"$f":"IF(COUNTBLANK(AD36)=1,\"\",IF(OR(AK36=LEFT(AI$1,1),AK36=RIGHT(AI$1,1)),COUNTIF(AK$2:AK36,LEFT(AI$1,1))+COUNTIF(AK$2:AK36,RIGHT(AI$1,1)),\"\"))","v":""},{"$f":"IF(COUNTBLANK(AD36)=1,\"\",INDEX(Registration!$C$2:$C$101,MATCH(AD36,Registration!$B$2:$B$101,0)))","v":""},{"$f":"IF(COUNTBLANK(AD36)=1,\"\",IF(COUNTBLANK(INDEX(Registration!$D$2:$D$101,MATCH(AD36,Registration!$B$2:$B$101,0)))=1,\"\",INDEX(Registration!$D$2:$D$101,MATCH(AD36,Registration!$B$2:$B$101,0))))","v":""}]
[{"$f":"IF(COUNTBLANK(Registration!B36)=1,\"\",Registration!B36)","v":""},null,null,null,null,null,null,null,null,null,null,null,null,null,null,null,null,null,null,null,null,"","","","","",null,"","","",null,{"$f":"IF(COUNTBLANK(AD37)=1,\"\",IF(OR(AJ37=LEFT(AF$1,1),AJ37=RIGHT(AF$1,1)),COUNTIF(AJ$2:AJ37,LEFT(AF$1,1))+COUNTIF(AJ$2:AJ37,RIGHT(AF$1,1)),\"\"))","v":""},{"$f":"IF(COUNTBLANK(AD37)=1,\"\",IF(OR(AJ37=LEFT(AG$1,1),AJ37=RIGHT(AG$1,1)),COUNTIF(AJ$2:AJ37,LEFT(AG$1,1))+COUNTIF(AJ$2:AJ37,RIGHT(AG$1,1)),\"\"))","v":""},{"$f":"IF(COUNTBLANK(AD37)=1,\"\",IF(OR(AJ37=LEFT(AH$1,1),AJ37=RIGHT(AH$1,1)),COUNTIF(AJ$2:AJ37,LEFT(AH$1,1))+COUNTIF(AJ$2:AJ37,RIGHT(AH$1,1)),\"\"))","v":""},{"$f":"IF(COUNTBLANK(AD37)=1,\"\",IF(OR(AK37=LEFT(AI$1,1),AK37=RIGHT(AI$1,1)),COUNTIF(AK$2:AK37,LEFT(AI$1,1))+COUNTIF(AK$2:AK37,RIGHT(AI$1,1)),\"\"))","v":""},{"$f":"IF(COUNTBLANK(AD37)=1,\"\",INDEX(Registration!$C$2:$C$101,MATCH(AD37,Registration!$B$2:$B$101,0)))","v":""},{"$f":"IF(COUNTBLANK(AD37)=1,\"\",IF(COUNTBLANK(INDEX(Registration!$D$2:$D$101,MATCH(AD37,Registration!$B$2:$B$101,0)))=1,\"\",INDEX(Registration!$D$2:$D$101,MATCH(AD37,Registration!$B$2:$B$101,0))))","v":""}]
[{"$f":"IF(COUNTBLANK(Registration!B37)=1,\"\",Registration!B37)","v":""},null,null,null,null,null,null,null,null,null,null,null,null,null,null,null,null,null,null,null,null,"","","","","",null,"","","",null,{"$f":"IF(COUNTBLANK(AD38)=1,\"\",IF(OR(AJ38=LEFT(AF$1,1),AJ38=RIGHT(AF$1,1)),COUNTIF(AJ$2:AJ38,LEFT(AF$1,1))+COUNTIF(AJ$2:AJ38,RIGHT(AF$1,1)),\"\"))","v":""},{"$f":"IF(COUNTBLANK(AD38)=1,\"\",IF(OR(AJ38=LEFT(AG$1,1),AJ38=RIGHT(AG$1,1)),COUNTIF(AJ$2:AJ38,LEFT(AG$1,1))+COUNTIF(AJ$2:AJ38,RIGHT(AG$1,1)),\"\"))","v":""},{"$f":"IF(COUNTBLANK(AD38)=1,\"\",IF(OR(AJ38=LEFT(AH$1,1),AJ38=RIGHT(AH$1,1)),COUNTIF(AJ$2:AJ38,LEFT(AH$1,1))+COUNTIF(AJ$2:AJ38,RIGHT(AH$1,1)),\"\"))","v":""},{"$f":"IF(COUNTBLANK(AD38)=1,\"\",IF(OR(AK38=LEFT(AI$1,1),AK38=RIGHT(AI$1,1)),COUNTIF(AK$2:AK38,LEFT(AI$1,1))+COUNTIF(AK$2:AK38,RIGHT(AI$1,1)),\"\"))","v":""},{"$f":"IF(COUNTBLANK(AD38)=1,\"\",INDEX(Registration!$C$2:$C$101,MATCH(AD38,Registration!$B$2:$B$101,0)))","v":""},{"$f":"IF(COUNTBLANK(AD38)=1,\"\",IF(COUNTBLANK(INDEX(Registration!$D$2:$D$101,MATCH(AD38,Registration!$B$2:$B$101,0)))=1,\"\",INDEX(Registration!$D$2:$D$101,MATCH(AD38,Registration!$B$2:$B$101,0))))","v":""}]
[{"$f":"IF(COUNTBLANK(Registration!B38)=1,\"\",Registration!B38)","v":""},null,null,null,null,null,null,null,null,null,null,null,null,null,null,null,null,null,null,null,null,"","","","","",null,"","","",null,{"$f":"IF(COUNTBLANK(AD39)=1,\"\",IF(OR(AJ39=LEFT(AF$1,1),AJ39=RIGHT(AF$1,1)),COUNTIF(AJ$2:AJ39,LEFT(AF$1,1))+COUNTIF(AJ$2:AJ39,RIGHT(AF$1,1)),\"\"))","v":""},{"$f":"IF(COUNTBLANK(AD39)=1,\"\",IF(OR(AJ39=LEFT(AG$1,1),AJ39=RIGHT(AG$1,1)),COUNTIF(AJ$2:AJ39,LEFT(AG$1,1))+COUNTIF(AJ$2:AJ39,RIGHT(AG$1,1)),\"\"))","v":""},{"$f":"IF(COUNTBLANK(AD39)=1,\"\",IF(OR(AJ39=LEFT(AH$1,1),AJ39=RIGHT(AH$1,1)),COUNTIF(AJ$2:AJ39,LEFT(AH$1,1))+COUNTIF(AJ$2:AJ39,RIGHT(AH$1,1)),\"\"))","v":""},{"$f":"IF(COUNTBLANK(AD39)=1,\"\",IF(OR(AK39=LEFT(AI$1,1),AK39=RIGHT(AI$1,1)),COUNTIF(AK$2:AK39,LEFT(AI$1,1))+COUNTIF(AK$2:AK39,RIGHT(AI$1,1)),\"\"))","v":""},{"$f":"IF(COUNTBLANK(AD39)=1,\"\",INDEX(Registration!$C$2:$C$101,MATCH(AD39,Registration!$B$2:$B$101,0)))","v":""},{"$f":"IF(COUNTBLANK(AD39)=1,\"\",IF(COUNTBLANK(INDEX(Registration!$D$2:$D$101,MATCH(AD39,Registration!$B$2:$B$101,0)))=1,\"\",INDEX(Registration!$D$2:$D$101,MATCH(AD39,Registration!$B$2:$B$101,0))))","v":""}]
[{"$f":"IF(COUNTBLANK(Registration!B39)=1,\"\",Registration!B39)","v":""},null,null,null,null,null,null,null,null,null,null,null,null,null,null,null,null,null,null,null,null,"","","","","",null,"","","",null,{"$f":"IF(COUNTBLANK(AD40)=1,\"\",IF(OR(AJ40=LEFT(AF$1,1),AJ40=RIGHT(AF$1,1)),COUNTIF(AJ$2:AJ40,LEFT(AF$1,1))+COUNTIF(AJ$2:AJ40,RIGHT(AF$1,1)),\"\"))","v":""},{"$f":"IF(COUNTBLANK(AD40)=1,\"\",IF(OR(AJ40=LEFT(AG$1,1),AJ40=RIGHT(AG$1,1)),COUNTIF(AJ$2:AJ40,LEFT(AG$1,1))+COUNTIF(AJ$2:AJ40,RIGHT(AG$1,1)),\"\"))","v":""},{"$f":"IF(COUNTBLANK(AD40)=1,\"\",IF(OR(AJ40=LEFT(AH$1,1),AJ40=RIGHT(AH$1,1)),COUNTIF(AJ$2:AJ40,LEFT(AH$1,1))+COUNTIF(AJ$2:AJ40,RIGHT(AH$1,1)),\"\"))","v":""},{"$f":"IF(COUNTBLANK(AD40)=1,\"\",IF(OR(AK40=LEFT(AI$1,1),AK40=RIGHT(AI$1,1)),COUNTIF(AK$2:AK40,LEFT(AI$1,1))+COUNTIF(AK$2:AK40,RIGHT(AI$1,1)),\"\"))","v":""},{"$f":"IF(COUNTBLANK(AD40)=1,\"\",INDEX(Registration!$C$2:$C$101,MATCH(AD40,Registration!$B$2:$B$101,0)))","v":""},{"$f":"IF(COUNTBLANK(AD40)=1,\"\",IF(COUNTBLANK(INDEX(Registration!$D$2:$D$101,MATCH(AD40,Registration!$B$2:$B$101,0)))=1,\"\",INDEX(Registration!$D$2:$D$101,MATCH(AD40,Registration!$B$2:$B$101,0))))","v":""}]
[{"$f":"IF(COUNTBLANK(Registration!B40)=1,\"\",Registration!B40)","v":""},null,null,null,null,null,null,null,null,null,null,null,null,null,null,null,null,null,null,null,null,"","","","","",null,"","","",null,{"$f":"IF(COUNTBLANK(AD41)=1,\"\",IF(OR(AJ41=LEFT(AF$1,1),AJ41=RIGHT(AF$1,1)),COUNTIF(AJ$2:AJ41,LEFT(AF$1,1))+COUNTIF(AJ$2:AJ41,RIGHT(AF$1,1)),\"\"))","v":""},{"$f":"IF(COUNTBLANK(AD41)=1,\"\",IF(OR(AJ41=LEFT(AG$1,1),AJ41=RIGHT(AG$1,1)),COUNTIF(AJ$2:AJ41,LEFT(AG$1,1))+COUNTIF(AJ$2:AJ41,RIGHT(AG$1,1)),\"\"))","v":""},{"$f":"IF(COUNTBLANK(AD41)=1,\"\",IF(OR(AJ41=LEFT(AH$1,1),AJ41=RIGHT(AH$1,1)),COUNTIF(AJ$2:AJ41,LEFT(AH$1,1))+COUNTIF(AJ$2:AJ41,RIGHT(AH$1,1)),\"\"))","v":""},{"$f":"IF(COUNTBLANK(AD41)=1,\"\",IF(OR(AK41=LEFT(AI$1,1),AK41=RIGHT(AI$1,1)),COUNTIF(AK$2:AK41,LEFT(AI$1,1))+COUNTIF(AK$2:AK41,RIGHT(AI$1,1)),\"\"))","v":""},{"$f":"IF(COUNTBLANK(AD41)=1,\"\",INDEX(Registration!$C$2:$C$101,MATCH(AD41,Registration!$B$2:$B$101,0)))","v":""},{"$f":"IF(COUNTBLANK(AD41)=1,\"\",IF(COUNTBLANK(INDEX(Registration!$D$2:$D$101,MATCH(AD41,Registration!$B$2:$B$101,0)))=1,\"\",INDEX(Registration!$D$2:$D$101,MATCH(AD41,Registration!$B$2:$B$101,0))))","v":""}]
[{"$f":"IF(COUNTBLANK(Registration!B41)=1,\"\",Registration!B41)","v":""},null,null,null,null,null,null,null,null,null,null,null,null,null,null,null,null,null,null,null,null,"","","","","",null,"","","",null,{"$f":"IF(COUNTBLANK(AD42)=1,\"\",IF(OR(AJ42=LEFT(AF$1,1),AJ42=RIGHT(AF$1,1)),COUNTIF(AJ$2:AJ42,LEFT(AF$1,1))+COUNTIF(AJ$2:AJ42,RIGHT(AF$1,1)),\"\"))","v":""},{"$f":"IF(COUNTBLANK(AD42)=1,\"\",IF(OR(AJ42=LEFT(AG$1,1),AJ42=RIGHT(AG$1,1)),COUNTIF(AJ$2:AJ42,LEFT(AG$1,1))+COUNTIF(AJ$2:AJ42,RIGHT(AG$1,1)),\"\"))","v":""},{"$f":"IF(COUNTBLANK(AD42)=1,\"\",IF(OR(AJ42=LEFT(AH$1,1),AJ42=RIGHT(AH$1,1)),COUNTIF(AJ$2:AJ42,LEFT(AH$1,1))+COUNTIF(AJ$2:AJ42,RIGHT(AH$1,1)),\"\"))","v":""},{"$f":"IF(COUNTBLANK(AD42)=1,\"\",IF(OR(AK42=LEFT(AI$1,1),AK42=RIGHT(AI$1,1)),COUNTIF(AK$2:AK42,LEFT(AI$1,1))+COUNTIF(AK$2:AK42,RIGHT(AI$1,1)),\"\"))","v":""},{"$f":"IF(COUNTBLANK(AD42)=1,\"\",INDEX(Registration!$C$2:$C$101,MATCH(AD42,Registration!$B$2:$B$101,0)))","v":""},{"$f":"IF(COUNTBLANK(AD42)=1,\"\",IF(COUNTBLANK(INDEX(Registration!$D$2:$D$101,MATCH(AD42,Registration!$B$2:$B$101,0)))=1,\"\",INDEX(Registration!$D$2:$D$101,MATCH(AD42,Registration!$B$2:$B$101,0))))","v":""}]
[{"$f":"IF(COUNTBLANK(Registration!B42)=1,\"\",Registration!B42)","v":""},null,null,null,null,null,null,null,null,null,null,null,null,null,null,null,null,null,null,null,null,"","","","","",null,"","","",null,{"$f":"IF(COUNTBLANK(AD43)=1,\"\",IF(OR(AJ43=LEFT(AF$1,1),AJ43=RIGHT(AF$1,1)),COUNTIF(AJ$2:AJ43,LEFT(AF$1,1))+COUNTIF(AJ$2:AJ43,RIGHT(AF$1,1)),\"\"))","v":""},{"$f":"IF(COUNTBLANK(AD43)=1,\"\",IF(OR(AJ43=LEFT(AG$1,1),AJ43=RIGHT(AG$1,1)),COUNTIF(AJ$2:AJ43,LEFT(AG$1,1))+COUNTIF(AJ$2:AJ43,RIGHT(AG$1,1)),\"\"))","v":""},{"$f":"IF(COUNTBLANK(AD43)=1,\"\",IF(OR(AJ43=LEFT(AH$1,1),AJ43=RIGHT(AH$1,1)),COUNTIF(AJ$2:AJ43,LEFT(AH$1,1))+COUNTIF(AJ$2:AJ43,RIGHT(AH$1,1)),\"\"))","v":""},{"$f":"IF(COUNTBLANK(AD43)=1,\"\",IF(OR(AK43=LEFT(AI$1,1),AK43=RIGHT(AI$1,1)),COUNTIF(AK$2:AK43,LEFT(AI$1,1))+COUNTIF(AK$2:AK43,RIGHT(AI$1,1)),\"\"))","v":""},{"$f":"IF(COUNTBLANK(AD43)=1,\"\",INDEX(Registration!$C$2:$C$101,MATCH(AD43,Registration!$B$2:$B$101,0)))","v":""},{"$f":"IF(COUNTBLANK(AD43)=1,\"\",IF(COUNTBLANK(INDEX(Registration!$D$2:$D$101,MATCH(AD43,Registration!$B$2:$B$101,0)))=1,\"\",INDEX(Registration!$D$2:$D$101,MATCH(AD43,Registration!$B$2:$B$101,0))))","v":""}]
[{"$f":"IF(COUNTBLANK(Registration!B43)=1,\"\",Registration!B43)","v":""},null,null,null,null,null,null,null,null,null,null,null,null,null,null,null,null,null,null,null,null,"","","","","",null,"","","",null,{"$f":"IF(COUNTBLANK(AD44)=1,\"\",IF(OR(AJ44=LEFT(AF$1,1),AJ44=RIGHT(AF$1,1)),COUNTIF(AJ$2:AJ44,LEFT(AF$1,1))+COUNTIF(AJ$2:AJ44,RIGHT(AF$1,1)),\"\"))","v":""},{"$f":"IF(COUNTBLANK(AD44)=1,\"\",IF(OR(AJ44=LEFT(AG$1,1),AJ44=RIGHT(AG$1,1)),COUNTIF(AJ$2:AJ44,LEFT(AG$1,1))+COUNTIF(AJ$2:AJ44,RIGHT(AG$1,1)),\"\"))","v":""},{"$f":"IF(COUNTBLANK(AD44)=1,\"\",IF(OR(AJ44=LEFT(AH$1,1),AJ44=RIGHT(AH$1,1)),COUNTIF(AJ$2:AJ44,LEFT(AH$1,1))+COUNTIF(AJ$2:AJ44,RIGHT(AH$1,1)),\"\"))","v":""},{"$f":"IF(COUNTBLANK(AD44)=1,\"\",IF(OR(AK44=LEFT(AI$1,1),AK44=RIGHT(AI$1,1)),COUNTIF(AK$2:AK44,LEFT(AI$1,1))+COUNTIF(AK$2:AK44,RIGHT(AI$1,1)),\"\"))","v":""},{"$f":"IF(COUNTBLANK(AD44)=1,\"\",INDEX(Registration!$C$2:$C$101,MATCH(AD44,Registration!$B$2:$B$101,0)))","v":""},{"$f":"IF(COUNTBLANK(AD44)=1,\"\",IF(COUNTBLANK(INDEX(Registration!$D$2:$D$101,MATCH(AD44,Registration!$B$2:$B$101,0)))=1,\"\",INDEX(Registration!$D$2:$D$101,MATCH(AD44,Registration!$B$2:$B$101,0))))","v":""}]
[{"$f":"IF(COUNTBLANK(Registration!B44)=1,\"\",Registration!B44)","v":""},null,null,null,null,null,null,null,null,null,null,null,null,null,null,null,null,null,null,null,null,"","","","","",null,"","","",null,{"$f":"IF(COUNTBLANK(AD45)=1,\"\",IF(OR(AJ45=LEFT(AF$1,1),AJ45=RIGHT(AF$1,1)),COUNTIF(AJ$2:AJ45,LEFT(AF$1,1))+COUNTIF(AJ$2:AJ45,RIGHT(AF$1,1)),\"\"))","v":""},{"$f":"IF(COUNTBLANK(AD45)=1,\"\",IF(OR(AJ45=LEFT(AG$1,1),AJ45=RIGHT(AG$1,1)),COUNTIF(AJ$2:AJ45,LEFT(AG$1,1))+COUNTIF(AJ$2:AJ45,RIGHT(AG$1,1)),\"\"))","v":""},{"$f":"IF(COUNTBLANK(AD45)=1,\"\",IF(OR(AJ45=LEFT(AH$1,1),AJ45=RIGHT(AH$1,1)),COUNTIF(AJ$2:AJ45,LEFT(AH$1,1))+COUNTIF(AJ$2:AJ45,RIGHT(AH$1,1)),\"\"))","v":""},{"$f":"IF(COUNTBLANK(AD45)=1,\"\",IF(OR(AK45=LEFT(AI$1,1),AK45=RIGHT(AI$1,1)),COUNTIF(AK$2:AK45,LEFT(AI$1,1))+COUNTIF(AK$2:AK45,RIGHT(AI$1,1)),\"\"))","v":""},{"$f":"IF(COUNTBLANK(AD45)=1,\"\",INDEX(Registration!$C$2:$C$101,MATCH(AD45,Registration!$B$2:$B$101,0)))","v":""},{"$f":"IF(COUNTBLANK(AD45)=1,\"\",IF(COUNTBLANK(INDEX(Registration!$D$2:$D$101,MATCH(AD45,Registration!$B$2:$B$101,0)))=1,\"\",INDEX(Registration!$D$2:$D$101,MATCH(AD45,Registration!$B$2:$B$101,0))))","v":""}]
[{"$f":"IF(COUNTBLANK(Registration!B45)=1,\"\",Registration!B45)","v":""},null,null,null,null,null,null,null,null,null,null,null,null,null,null,null,null,null,null,null,null,"","","","","",null,"","","",null,{"$f":"IF(COUNTBLANK(AD46)=1,\"\",IF(OR(AJ46=LEFT(AF$1,1),AJ46=RIGHT(AF$1,1)),COUNTIF(AJ$2:AJ46,LEFT(AF$1,1))+COUNTIF(AJ$2:AJ46,RIGHT(AF$1,1)),\"\"))","v":""},{"$f":"IF(COUNTBLANK(AD46)=1,\"\",IF(OR(AJ46=LEFT(AG$1,1),AJ46=RIGHT(AG$1,1)),COUNTIF(AJ$2:AJ46,LEFT(AG$1,1))+COUNTIF(AJ$2:AJ46,RIGHT(AG$1,1)),\"\"))","v":""},{"$f":"IF(COUNTBLANK(AD46)=1,\"\",IF(OR(AJ46=LEFT(AH$1,1),AJ46=RIGHT(AH$1,1)),COUNTIF(AJ$2:AJ46,LEFT(AH$1,1))+COUNTIF(AJ$2:AJ46,RIGHT(AH$1,1)),\"\"))","v":""},{"$f":"IF(COUNTBLANK(AD46)=1,\"\",IF(OR(AK46=LEFT(AI$1,1),AK46=RIGHT(AI$1,1)),COUNTIF(AK$2:AK46,LEFT(AI$1,1))+COUNTIF(AK$2:AK46,RIGHT(AI$1,1)),\"\"))","v":""},{"$f":"IF(COUNTBLANK(AD46)=1,\"\",INDEX(Registration!$C$2:$C$101,MATCH(AD46,Registration!$B$2:$B$101,0)))","v":""},{"$f":"IF(COUNTBLANK(AD46)=1,\"\",IF(COUNTBLANK(INDEX(Registration!$D$2:$D$101,MATCH(AD46,Registration!$B$2:$B$101,0)))=1,\"\",INDEX(Registration!$D$2:$D$101,MATCH(AD46,Registration!$B$2:$B$101,0))))","v":""}]
[{"$f":"IF(COUNTBLANK(Registration!B46)=1,\"\",Registration!B46)","v":""},null,null,null,null,null,null,null,null,null,null,null,null,null,null,null,null,null,null,null,null,"","","","","",null,"","","",null,{"$f":"IF(COUNTBLANK(AD47)=1,\"\",IF(OR(AJ47=LEFT(AF$1,1),AJ47=RIGHT(AF$1,1)),COUNTIF(AJ$2:AJ47,LEFT(AF$1,1))+COUNTIF(AJ$2:AJ47,RIGHT(AF$1,1)),\"\"))","v":""},{"$f":"IF(COUNTBLANK(AD47)=1,\"\",IF(OR(AJ47=LEFT(AG$1,1),AJ47=RIGHT(AG$1,1)),COUNTIF(AJ$2:AJ47,LEFT(AG$1,1))+COUNTIF(AJ$2:AJ47,RIGHT(AG$1,1)),\"\"))","v":""},{"$f":"IF(COUNTBLANK(AD47)=1,\"\",IF(OR(AJ47=LEFT(AH$1,1),AJ47=RIGHT(AH$1,1)),COUNTIF(AJ$2:AJ47,LEFT(AH$1,1))+COUNTIF(AJ$2:AJ47,RIGHT(AH$1,1)),\"\"))","v":""},{"$f":"IF(COUNTBLANK(AD47)=1,\"\",IF(OR(AK47=LEFT(AI$1,1),AK47=RIGHT(AI$1,1)),COUNTIF(AK$2:AK47,LEFT(AI$1,1))+COUNTIF(AK$2:AK47,RIGHT(AI$1,1)),\"\"))","v":""},{"$f":"IF(COUNTBLANK(AD47)=1,\"\",INDEX(Registration!$C$2:$C$101,MATCH(AD47,Registration!$B$2:$B$101,0)))","v":""},{"$f":"IF(COUNTBLANK(AD47)=1,\"\",IF(COUNTBLANK(INDEX(Registration!$D$2:$D$101,MATCH(AD47,Registration!$B$2:$B$101,0)))=1,\"\",INDEX(Registration!$D$2:$D$101,MATCH(AD47,Registration!$B$2:$B$101,0))))","v":""}]
[{"$f":"IF(COUNTBLANK(Registration!B47)=1,\"\",Registration!B47)","v":""},null,null,null,null,null,null,null,null,null,null,null,null,null,null,null,null,null,null,null,null,"","","","","",null,"","","",null,{"$f":"IF(COUNTBLANK(AD48)=1,\"\",IF(OR(AJ48=LEFT(AF$1,1),AJ48=RIGHT(AF$1,1)),COUNTIF(AJ$2:AJ48,LEFT(AF$1,1))+COUNTIF(AJ$2:AJ48,RIGHT(AF$1,1)),\"\"))","v":""},{"$f":"IF(COUNTBLANK(AD48)=1,\"\",IF(OR(AJ48=LEFT(AG$1,1),AJ48=RIGHT(AG$1,1)),COUNTIF(AJ$2:AJ48,LEFT(AG$1,1))+COUNTIF(AJ$2:AJ48,RIGHT(AG$1,1)),\"\"))","v":""},{"$f":"IF(COUNTBLANK(AD48)=1,\"\",IF(OR(AJ48=LEFT(AH$1,1),AJ48=RIGHT(AH$1,1)),COUNTIF(AJ$2:AJ48,LEFT(AH$1,1))+COUNTIF(AJ$2:AJ48,RIGHT(AH$1,1)),\"\"))","v":""},{"$f":"IF(COUNTBLANK(AD48)=1,\"\",IF(OR(AK48=LEFT(AI$1,1),AK48=RIGHT(AI$1,1)),COUNTIF(AK$2:AK48,LEFT(AI$1,1))+COUNTIF(AK$2:AK48,RIGHT(AI$1,1)),\"\"))","v":""},{"$f":"IF(COUNTBLANK(AD48)=1,\"\",INDEX(Registration!$C$2:$C$101,MATCH(AD48,Registration!$B$2:$B$101,0)))","v":""},{"$f":"IF(COUNTBLANK(AD48)=1,\"\",IF(COUNTBLANK(INDEX(Registration!$D$2:$D$101,MATCH(AD48,Registration!$B$2:$B$101,0)))=1,\"\",INDEX(Registration!$D$2:$D$101,MATCH(AD48,Registration!$B$2:$B$101,0))))","v":""}]
[{"$f":"IF(COUNTBLANK(Registration!B48)=1,\"\",Registration!B48)","v":""},null,null,null,null,null,null,null,null,null,null,null,null,null,null,null,null,null,null,null,null,"","","","","",null,"","","",null,{"$f":"IF(COUNTBLANK(AD49)=1,\"\",IF(OR(AJ49=LEFT(AF$1,1),AJ49=RIGHT(AF$1,1)),COUNTIF(AJ$2:AJ49,LEFT(AF$1,1))+COUNTIF(AJ$2:AJ49,RIGHT(AF$1,1)),\"\"))","v":""},{"$f":"IF(COUNTBLANK(AD49)=1,\"\",IF(OR(AJ49=LEFT(AG$1,1),AJ49=RIGHT(AG$1,1)),COUNTIF(AJ$2:AJ49,LEFT(AG$1,1))+COUNTIF(AJ$2:AJ49,RIGHT(AG$1,1)),\"\"))","v":""},{"$f":"IF(COUNTBLANK(AD49)=1,\"\",IF(OR(AJ49=LEFT(AH$1,1),AJ49=RIGHT(AH$1,1)),COUNTIF(AJ$2:AJ49,LEFT(AH$1,1))+COUNTIF(AJ$2:AJ49,RIGHT(AH$1,1)),\"\"))","v":""},{"$f":"IF(COUNTBLANK(AD49)=1,\"\",IF(OR(AK49=LEFT(AI$1,1),AK49=RIGHT(AI$1,1)),COUNTIF(AK$2:AK49,LEFT(AI$1,1))+COUNTIF(AK$2:AK49,RIGHT(AI$1,1)),\"\"))","v":""},{"$f":"IF(COUNTBLANK(AD49)=1,\"\",INDEX(Registration!$C$2:$C$101,MATCH(AD49,Registration!$B$2:$B$101,0)))","v":""},{"$f":"IF(COUNTBLANK(AD49)=1,\"\",IF(COUNTBLANK(INDEX(Registration!$D$2:$D$101,MATCH(AD49,Registration!$B$2:$B$101,0)))=1,\"\",INDEX(Registration!$D$2:$D$101,MATCH(AD49,Registration!$B$2:$B$101,0))))","v":""}]
[{"$f":"IF(COUNTBLANK(Registration!B49)=1,\"\",Registration!B49)","v":""},null,null,null,null,null,null,null,null,null,null,null,null,null,null,null,null,null,null,null,null,"","","","","",null,"","","",null,{"$f":"IF(COUNTBLANK(AD50)=1,\"\",IF(OR(AJ50=LEFT(AF$1,1),AJ50=RIGHT(AF$1,1)),COUNTIF(AJ$2:AJ50,LEFT(AF$1,1))+COUNTIF(AJ$2:AJ50,RIGHT(AF$1,1)),\"\"))","v":""},{"$f":"IF(COUNTBLANK(AD50)=1,\"\",IF(OR(AJ50=LEFT(AG$1,1),AJ50=RIGHT(AG$1,1)),COUNTIF(AJ$2:AJ50,LEFT(AG$1,1))+COUNTIF(AJ$2:AJ50,RIGHT(AG$1,1)),\"\"))","v":""},{"$f":"IF(COUNTBLANK(AD50)=1,\"\",IF(OR(AJ50=LEFT(AH$1,1),AJ50=RIGHT(AH$1,1)),COUNTIF(AJ$2:AJ50,LEFT(AH$1,1))+COUNTIF(AJ$2:AJ50,RIGHT(AH$1,1)),\"\"))","v":""},{"$f":"IF(COUNTBLANK(AD50)=1,\"\",IF(OR(AK50=LEFT(AI$1,1),AK50=RIGHT(AI$1,1)),COUNTIF(AK$2:AK50,LEFT(AI$1,1))+COUNTIF(AK$2:AK50,RIGHT(AI$1,1)),\"\"))","v":""},{"$f":"IF(COUNTBLANK(AD50)=1,\"\",INDEX(Registration!$C$2:$C$101,MATCH(AD50,Registration!$B$2:$B$101,0)))","v":""},{"$f":"IF(COUNTBLANK(AD50)=1,\"\",IF(COUNTBLANK(INDEX(Registration!$D$2:$D$101,MATCH(AD50,Registration!$B$2:$B$101,0)))=1,\"\",INDEX(Registration!$D$2:$D$101,MATCH(AD50,Registration!$B$2:$B$101,0))))","v":""}]
[{"$f":"IF(COUNTBLANK(Registration!B50)=1,\"\",Registration!B50)","v":""},null,null,null,null,null,null,null,null,null,null,null,null,null,null,null,null,null,null,null,null,"","","","","",null,"","","",null,{"$f":"IF(COUNTBLANK(AD51)=1,\"\",IF(OR(AJ51=LEFT(AF$1,1),AJ51=RIGHT(AF$1,1)),COUNTIF(AJ$2:AJ51,LEFT(AF$1,1))+COUNTIF(AJ$2:AJ51,RIGHT(AF$1,1)),\"\"))","v":""},{"$f":"IF(COUNTBLANK(AD51)=1,\"\",IF(OR(AJ51=LEFT(AG$1,1),AJ51=RIGHT(AG$1,1)),COUNTIF(AJ$2:AJ51,LEFT(AG$1,1))+COUNTIF(AJ$2:AJ51,RIGHT(AG$1,1)),\"\"))","v":""},{"$f":"IF(COUNTBLANK(AD51)=1,\"\",IF(OR(AJ51=LEFT(AH$1,1),AJ51=RIGHT(AH$1,1)),COUNTIF(AJ$2:AJ51,LEFT(AH$1,1))+COUNTIF(AJ$2:AJ51,RIGHT(AH$1,1)),\"\"))","v":""},{"$f":"IF(COUNTBLANK(AD51)=1,\"\",IF(OR(AK51=LEFT(AI$1,1),AK51=RIGHT(AI$1,1)),COUNTIF(AK$2:AK51,LEFT(AI$1,1))+COUNTIF(AK$2:AK51,RIGHT(AI$1,1)),\"\"))","v":""},{"$f":"IF(COUNTBLANK(AD51)=1,\"\",INDEX(Registration!$C$2:$C$101,MATCH(AD51,Registration!$B$2:$B$101,0)))","v":""},{"$f":"IF(COUNTBLANK(AD51)=1,\"\",IF(COUNTBLANK(INDEX(Registration!$D$2:$D$101,MATCH(AD51,Registration!$B$2:$B$101,0)))=1,\"\",INDEX(Registration!$D$2:$D$101,MATCH(AD51,Registration!$B$2:$B$101,0))))","v":""}]
[{"$f":"IF(COUNTBLANK(Registration!B51)=1,\"\",Registration!B51)","v":""},null,null,null,null,null,null,null,null,null,null,null,null,null,null,null,null,null,null,null,null,"","","","","",null,"","","",null,{"$f":"IF(COUNTBLANK(AD52)=1,\"\",IF(OR(AJ52=LEFT(AF$1,1),AJ52=RIGHT(AF$1,1)),COUNTIF(AJ$2:AJ52,LEFT(AF$1,1))+COUNTIF(AJ$2:AJ52,RIGHT(AF$1,1)),\"\"))","v":""},{"$f":"IF(COUNTBLANK(AD52)=1,\"\",IF(OR(AJ52=LEFT(AG$1,1),AJ52=RIGHT(AG$1,1)),COUNTIF(AJ$2:AJ52,LEFT(AG$1,1))+COUNTIF(AJ$2:AJ52,RIGHT(AG$1,1)),\"\"))","v":""},{"$f":"IF(COUNTBLANK(AD52)=1,\"\",IF(OR(AJ52=LEFT(AH$1,1),AJ52=RIGHT(AH$1,1)),COUNTIF(AJ$2:AJ52,LEFT(AH$1,1))+COUNTIF(AJ$2:AJ52,RIGHT(AH$1,1)),\"\"))","v":""},{"$f":"IF(COUNTBLANK(AD52)=1,\"\",IF(OR(AK52=LEFT(AI$1,1),AK52=RIGHT(AI$1,1)),COUNTIF(AK$2:AK52,LEFT(AI$1,1))+COUNTIF(AK$2:AK52,RIGHT(AI$1,1)),\"\"))","v":""},{"$f":"IF(COUNTBLANK(AD52)=1,\"\",INDEX(Registration!$C$2:$C$101,MATCH(AD52,Registration!$B$2:$B$101,0)))","v":""},{"$f":"IF(COUNTBLANK(AD52)=1,\"\",IF(COUNTBLANK(INDEX(Registration!$D$2:$D$101,MATCH(AD52,Registration!$B$2:$B$101,0)))=1,\"\",INDEX(Registration!$D$2:$D$101,MATCH(AD52,Registration!$B$2:$B$101,0))))","v":""}]
[{"$f":"IF(COUNTBLANK(Registration!B52)=1,\"\",Registration!B52)","v":""},null,null,null,null,null,null,null,null,null,null,null,null,null,null,null,null,null,null,null,null,"","","","","",null,"","","",null,{"$f":"IF(COUNTBLANK(AD53)=1,\"\",IF(OR(AJ53=LEFT(AF$1,1),AJ53=RIGHT(AF$1,1)),COUNTIF(AJ$2:AJ53,LEFT(AF$1,1))+COUNTIF(AJ$2:AJ53,RIGHT(AF$1,1)),\"\"))","v":""},{"$f":"IF(COUNTBLANK(AD53)=1,\"\",IF(OR(AJ53=LEFT(AG$1,1),AJ53=RIGHT(AG$1,1)),COUNTIF(AJ$2:AJ53,LEFT(AG$1,1))+COUNTIF(AJ$2:AJ53,RIGHT(AG$1,1)),\"\"))","v":""},{"$f":"IF(COUNTBLANK(AD53)=1,\"\",IF(OR(AJ53=LEFT(AH$1,1),AJ53=RIGHT(AH$1,1)),COUNTIF(AJ$2:AJ53,LEFT(AH$1,1))+COUNTIF(AJ$2:AJ53,RIGHT(AH$1,1)),\"\"))","v":""},{"$f":"IF(COUNTBLANK(AD53)=1,\"\",IF(OR(AK53=LEFT(AI$1,1),AK53=RIGHT(AI$1,1)),COUNTIF(AK$2:AK53,LEFT(AI$1,1))+COUNTIF(AK$2:AK53,RIGHT(AI$1,1)),\"\"))","v":""},{"$f":"IF(COUNTBLANK(AD53)=1,\"\",INDEX(Registration!$C$2:$C$101,MATCH(AD53,Registration!$B$2:$B$101,0)))","v":""},{"$f":"IF(COUNTBLANK(AD53)=1,\"\",IF(COUNTBLANK(INDEX(Registration!$D$2:$D$101,MATCH(AD53,Registration!$B$2:$B$101,0)))=1,\"\",INDEX(Registration!$D$2:$D$101,MATCH(AD53,Registration!$B$2:$B$101,0))))","v":""}]
[{"$f":"IF(COUNTBLANK(Registration!B53)=1,\"\",Registration!B53)","v":""},null,null,null,null,null,null,null,null,null,null,null,null,null,null,null,null,null,null,null,null,"","","","","",null,"","","",null,{"$f":"IF(COUNTBLANK(AD54)=1,\"\",IF(OR(AJ54=LEFT(AF$1,1),AJ54=RIGHT(AF$1,1)),COUNTIF(AJ$2:AJ54,LEFT(AF$1,1))+COUNTIF(AJ$2:AJ54,RIGHT(AF$1,1)),\"\"))","v":""},{"$f":"IF(COUNTBLANK(AD54)=1,\"\",IF(OR(AJ54=LEFT(AG$1,1),AJ54=RIGHT(AG$1,1)),COUNTIF(AJ$2:AJ54,LEFT(AG$1,1))+COUNTIF(AJ$2:AJ54,RIGHT(AG$1,1)),\"\"))","v":""},{"$f":"IF(COUNTBLANK(AD54)=1,\"\",IF(OR(AJ54=LEFT(AH$1,1),AJ54=RIGHT(AH$1,1)),COUNTIF(AJ$2:AJ54,LEFT(AH$1,1))+COUNTIF(AJ$2:AJ54,RIGHT(AH$1,1)),\"\"))","v":""},{"$f":"IF(COUNTBLANK(AD54)=1,\"\",IF(OR(AK54=LEFT(AI$1,1),AK54=RIGHT(AI$1,1)),COUNTIF(AK$2:AK54,LEFT(AI$1,1))+COUNTIF(AK$2:AK54,RIGHT(AI$1,1)),\"\"))","v":""},{"$f":"IF(COUNTBLANK(AD54)=1,\"\",INDEX(Registration!$C$2:$C$101,MATCH(AD54,Registration!$B$2:$B$101,0)))","v":""},{"$f":"IF(COUNTBLANK(AD54)=1,\"\",IF(COUNTBLANK(INDEX(Registration!$D$2:$D$101,MATCH(AD54,Registration!$B$2:$B$101,0)))=1,\"\",INDEX(Registration!$D$2:$D$101,MATCH(AD54,Registration!$B$2:$B$101,0))))","v":""}]
[{"$f":"IF(COUNTBLANK(Registration!B54)=1,\"\",Registration!B54)","v":""},null,null,null,null,null,null,null,null,null,null,null,null,null,null,null,null,null,null,null,null,"","","","","",null,"","","",null,{"$f":"IF(COUNTBLANK(AD55)=1,\"\",IF(OR(AJ55=LEFT(AF$1,1),AJ55=RIGHT(AF$1,1)),COUNTIF(AJ$2:AJ55,LEFT(AF$1,1))+COUNTIF(AJ$2:AJ55,RIGHT(AF$1,1)),\"\"))","v":""},{"$f":"IF(COUNTBLANK(AD55)=1,\"\",IF(OR(AJ55=LEFT(AG$1,1),AJ55=RIGHT(AG$1,1)),COUNTIF(AJ$2:AJ55,LEFT(AG$1,1))+COUNTIF(AJ$2:AJ55,RIGHT(AG$1,1)),\"\"))","v":""},{"$f":"IF(COUNTBLANK(AD55)=1,\"\",IF(OR(AJ55=LEFT(AH$1,1),AJ55=RIGHT(AH$1,1)),COUNTIF(AJ$2:AJ55,LEFT(AH$1,1))+COUNTIF(AJ$2:AJ55,RIGHT(AH$1,1)),\"\"))","v":""},{"$f":"IF(COUNTBLANK(AD55)=1,\"\",IF(OR(AK55=LEFT(AI$1,1),AK55=RIGHT(AI$1,1)),COUNTIF(AK$2:AK55,LEFT(AI$1,1))+COUNTIF(AK$2:AK55,RIGHT(AI$1,1)),\"\"))","v":""},{"$f":"IF(COUNTBLANK(AD55)=1,\"\",INDEX(Registration!$C$2:$C$101,MATCH(AD55,Registration!$B$2:$B$101,0)))","v":""},{"$f":"IF(COUNTBLANK(AD55)=1,\"\",IF(COUNTBLANK(INDEX(Registration!$D$2:$D$101,MATCH(AD55,Registration!$B$2:$B$101,0)))=1,\"\",INDEX(Registration!$D$2:$D$101,MATCH(AD55,Registration!$B$2:$B$101,0))))","v":""}]
[{"$f":"IF(COUNTBLANK(Registration!B55)=1,\"\",Registration!B55)","v":""},null,null,null,null,null,null,null,null,null,null,null,null,null,null,null,null,null,null,null,null,"","","","","",null,"","","",null,{"$f":"IF(COUNTBLANK(AD56)=1,\"\",IF(OR(AJ56=LEFT(AF$1,1),AJ56=RIGHT(AF$1,1)),COUNTIF(AJ$2:AJ56,LEFT(AF$1,1))+COUNTIF(AJ$2:AJ56,RIGHT(AF$1,1)),\"\"))","v":""},{"$f":"IF(COUNTBLANK(AD56)=1,\"\",IF(OR(AJ56=LEFT(AG$1,1),AJ56=RIGHT(AG$1,1)),COUNTIF(AJ$2:AJ56,LEFT(AG$1,1))+COUNTIF(AJ$2:AJ56,RIGHT(AG$1,1)),\"\"))","v":""},{"$f":"IF(COUNTBLANK(AD56)=1,\"\",IF(OR(AJ56=LEFT(AH$1,1),AJ56=RIGHT(AH$1,1)),COUNTIF(AJ$2:AJ56,LEFT(AH$1,1))+COUNTIF(AJ$2:AJ56,RIGHT(AH$1,1)),\"\"))","v":""},{"$f":"IF(COUNTBLANK(AD56)=1,\"\",IF(OR(AK56=LEFT(AI$1,1),AK56=RIGHT(AI$1,1)),COUNTIF(AK$2:AK56,LEFT(AI$1,1))+COUNTIF(AK$2:AK56,RIGHT(AI$1,1)),\"\"))","v":""},{"$f":"IF(COUNTBLANK(AD56)=1,\"\",INDEX(Registration!$C$2:$C$101,MATCH(AD56,Registration!$B$2:$B$101,0)))","v":""},{"$f":"IF(COUNTBLANK(AD56)=1,\"\",IF(COUNTBLANK(INDEX(Registration!$D$2:$D$101,MATCH(AD56,Registration!$B$2:$B$101,0)))=1,\"\",INDEX(Registration!$D$2:$D$101,MATCH(AD56,Registration!$B$2:$B$101,0))))","v":""}]
[{"$f":"IF(COUNTBLANK(Registration!B56)=1,\"\",Registration!B56)","v":""},null,null,null,null,null,null,null,null,null,null,null,null,null,null,null,null,null,null,null,null,"","","","","",null,"","","",null,{"$f":"IF(COUNTBLANK(AD57)=1,\"\",IF(OR(AJ57=LEFT(AF$1,1),AJ57=RIGHT(AF$1,1)),COUNTIF(AJ$2:AJ57,LEFT(AF$1,1))+COUNTIF(AJ$2:AJ57,RIGHT(AF$1,1)),\"\"))","v":""},{"$f":"IF(COUNTBLANK(AD57)=1,\"\",IF(OR(AJ57=LEFT(AG$1,1),AJ57=RIGHT(AG$1,1)),COUNTIF(AJ$2:AJ57,LEFT(AG$1,1))+COUNTIF(AJ$2:AJ57,RIGHT(AG$1,1)),\"\"))","v":""},{"$f":"IF(COUNTBLANK(AD57)=1,\"\",IF(OR(AJ57=LEFT(AH$1,1),AJ57=RIGHT(AH$1,1)),COUNTIF(AJ$2:AJ57,LEFT(AH$1,1))+COUNTIF(AJ$2:AJ57,RIGHT(AH$1,1)),\"\"))","v":""},{"$f":"IF(COUNTBLANK(AD57)=1,\"\",IF(OR(AK57=LEFT(AI$1,1),AK57=RIGHT(AI$1,1)),COUNTIF(AK$2:AK57,LEFT(AI$1,1))+COUNTIF(AK$2:AK57,RIGHT(AI$1,1)),\"\"))","v":""},{"$f":"IF(COUNTBLANK(AD57)=1,\"\",INDEX(Registration!$C$2:$C$101,MATCH(AD57,Registration!$B$2:$B$101,0)))","v":""},{"$f":"IF(COUNTBLANK(AD57)=1,\"\",IF(COUNTBLANK(INDEX(Registration!$D$2:$D$101,MATCH(AD57,Registration!$B$2:$B$101,0)))=1,\"\",INDEX(Registration!$D$2:$D$101,MATCH(AD57,Registration!$B$2:$B$101,0))))","v":""}]
[{"$f":"IF(COUNTBLANK(Registration!B57)=1,\"\",Registration!B57)","v":""},null,null,null,null,null,null,null,null,null,null,null,null,null,null,null,null,null,null,null,null,"","","","","",null,"","","",null,{"$f":"IF(COUNTBLANK(AD58)=1,\"\",IF(OR(AJ58=LEFT(AF$1,1),AJ58=RIGHT(AF$1,1)),COUNTIF(AJ$2:AJ58,LEFT(AF$1,1))+COUNTIF(AJ$2:AJ58,RIGHT(AF$1,1)),\"\"))","v":""},{"$f":"IF(COUNTBLANK(AD58)=1,\"\",IF(OR(AJ58=LEFT(AG$1,1),AJ58=RIGHT(AG$1,1)),COUNTIF(AJ$2:AJ58,LEFT(AG$1,1))+COUNTIF(AJ$2:AJ58,RIGHT(AG$1,1)),\"\"))","v":""},{"$f":"IF(COUNTBLANK(AD58)=1,\"\",IF(OR(AJ58=LEFT(AH$1,1),AJ58=RIGHT(AH$1,1)),COUNTIF(AJ$2:AJ58,LEFT(AH$1,1))+COUNTIF(AJ$2:AJ58,RIGHT(AH$1,1)),\"\"))","v":""},{"$f":"IF(COUNTBLANK(AD58)=1,\"\",IF(OR(AK58=LEFT(AI$1,1),AK58=RIGHT(AI$1,1)),COUNTIF(AK$2:AK58,LEFT(AI$1,1))+COUNTIF(AK$2:AK58,RIGHT(AI$1,1)),\"\"))","v":""},{"$f":"IF(COUNTBLANK(AD58)=1,\"\",INDEX(Registration!$C$2:$C$101,MATCH(AD58,Registration!$B$2:$B$101,0)))","v":""},{"$f":"IF(COUNTBLANK(AD58)=1,\"\",IF(COUNTBLANK(INDEX(Registration!$D$2:$D$101,MATCH(AD58,Registration!$B$2:$B$101,0)))=1,\"\",INDEX(Registration!$D$2:$D$101,MATCH(AD58,Registration!$B$2:$B$101,0))))","v":""}]
[{"$f":"IF(COUNTBLANK(Registration!B58)=1,\"\",Registration!B58)","v":""},null,null,null,null,null,null,null,null,null,null,null,null,null,null,null,null,null,null,null,null,"","","","","",null,"","","",null,{"$f":"IF(COUNTBLANK(AD59)=1,\"\",IF(OR(AJ59=LEFT(AF$1,1),AJ59=RIGHT(AF$1,1)),COUNTIF(AJ$2:AJ59,LEFT(AF$1,1))+COUNTIF(AJ$2:AJ59,RIGHT(AF$1,1)),\"\"))","v":""},{"$f":"IF(COUNTBLANK(AD59)=1,\"\",IF(OR(AJ59=LEFT(AG$1,1),AJ59=RIGHT(AG$1,1)),COUNTIF(AJ$2:AJ59,LEFT(AG$1,1))+COUNTIF(AJ$2:AJ59,RIGHT(AG$1,1)),\"\"))","v":""},{"$f":"IF(COUNTBLANK(AD59)=1,\"\",IF(OR(AJ59=LEFT(AH$1,1),AJ59=RIGHT(AH$1,1)),COUNTIF(AJ$2:AJ59,LEFT(AH$1,1))+COUNTIF(AJ$2:AJ59,RIGHT(AH$1,1)),\"\"))","v":""},{"$f":"IF(COUNTBLANK(AD59)=1,\"\",IF(OR(AK59=LEFT(AI$1,1),AK59=RIGHT(AI$1,1)),COUNTIF(AK$2:AK59,LEFT(AI$1,1))+COUNTIF(AK$2:AK59,RIGHT(AI$1,1)),\"\"))","v":""},{"$f":"IF(COUNTBLANK(AD59)=1,\"\",INDEX(Registration!$C$2:$C$101,MATCH(AD59,Registration!$B$2:$B$101,0)))","v":""},{"$f":"IF(COUNTBLANK(AD59)=1,\"\",IF(COUNTBLANK(INDEX(Registration!$D$2:$D$101,MATCH(AD59,Registration!$B$2:$B$101,0)))=1,\"\",INDEX(Registration!$D$2:$D$101,MATCH(AD59,Registration!$B$2:$B$101,0))))","v":""}]
[{"$f":"IF(COUNTBLANK(Registration!B59)=1,\"\",Registration!B59)","v":""},null,null,null,null,null,null,null,null,null,null,null,null,null,null,null,null,null,null,null,null,"","","","","",null,"","","",null,{"$f":"IF(COUNTBLANK(AD60)=1,\"\",IF(OR(AJ60=LEFT(AF$1,1),AJ60=RIGHT(AF$1,1)),COUNTIF(AJ$2:AJ60,LEFT(AF$1,1))+COUNTIF(AJ$2:AJ60,RIGHT(AF$1,1)),\"\"))","v":""},{"$f":"IF(COUNTBLANK(AD60)=1,\"\",IF(OR(AJ60=LEFT(AG$1,1),AJ60=RIGHT(AG$1,1)),COUNTIF(AJ$2:AJ60,LEFT(AG$1,1))+COUNTIF(AJ$2:AJ60,RIGHT(AG$1,1)),\"\"))","v":""},{"$f":"IF(COUNTBLANK(AD60)=1,\"\",IF(OR(AJ60=LEFT(AH$1,1),AJ60=RIGHT(AH$1,1)),COUNTIF(AJ$2:AJ60,LEFT(AH$1,1))+COUNTIF(AJ$2:AJ60,RIGHT(AH$1,1)),\"\"))","v":""},{"$f":"IF(COUNTBLANK(AD60)=1,\"\",IF(OR(AK60=LEFT(AI$1,1),AK60=RIGHT(AI$1,1)),COUNTIF(AK$2:AK60,LEFT(AI$1,1))+COUNTIF(AK$2:AK60,RIGHT(AI$1,1)),\"\"))","v":""},{"$f":"IF(COUNTBLANK(AD60)=1,\"\",INDEX(Registration!$C$2:$C$101,MATCH(AD60,Registration!$B$2:$B$101,0)))","v":""},{"$f":"IF(COUNTBLANK(AD60)=1,\"\",IF(COUNTBLANK(INDEX(Registration!$D$2:$D$101,MATCH(AD60,Registration!$B$2:$B$101,0)))=1,\"\",INDEX(Registration!$D$2:$D$101,MATCH(AD60,Registration!$B$2:$B$101,0))))","v":""}]
[{"$f":"IF(COUNTBLANK(Registration!B60)=1,\"\",Registration!B60)","v":""},null,null,null,null,null,null,null,null,null,null,null,null,null,null,null,null,null,null,null,null,"","","","","",null,"","","",null,{"$f":"IF(COUNTBLANK(AD61)=1,\"\",IF(OR(AJ61=LEFT(AF$1,1),AJ61=RIGHT(AF$1,1)),COUNTIF(AJ$2:AJ61,LEFT(AF$1,1))+COUNTIF(AJ$2:AJ61,RIGHT(AF$1,1)),\"\"))","v":""},{"$f":"IF(COUNTBLANK(AD61)=1,\"\",IF(OR(AJ61=LEFT(AG$1,1),AJ61=RIGHT(AG$1,1)),COUNTIF(AJ$2:AJ61,LEFT(AG$1,1))+COUNTIF(AJ$2:AJ61,RIGHT(AG$1,1)),\"\"))","v":""},{"$f":"IF(COUNTBLANK(AD61)=1,\"\",IF(OR(AJ61=LEFT(AH$1,1),AJ61=RIGHT(AH$1,1)),COUNTIF(AJ$2:AJ61,LEFT(AH$1,1))+COUNTIF(AJ$2:AJ61,RIGHT(AH$1,1)),\"\"))","v":""},{"$f":"IF(COUNTBLANK(AD61)=1,\"\",IF(OR(AK61=LEFT(AI$1,1),AK61=RIGHT(AI$1,1)),COUNTIF(AK$2:AK61,LEFT(AI$1,1))+COUNTIF(AK$2:AK61,RIGHT(AI$1,1)),\"\"))","v":""},{"$f":"IF(COUNTBLANK(AD61)=1,\"\",INDEX(Registration!$C$2:$C$101,MATCH(AD61,Registration!$B$2:$B$101,0)))","v":""},{"$f":"IF(COUNTBLANK(AD61)=1,\"\",IF(COUNTBLANK(INDEX(Registration!$D$2:$D$101,MATCH(AD61,Registration!$B$2:$B$101,0)))=1,\"\",INDEX(Registration!$D$2:$D$101,MATCH(AD61,Registration!$B$2:$B$101,0))))","v":""}]
[{"$f":"IF(COUNTBLANK(Registration!B61)=1,\"\",Registration!B61)","v":""},null,null,null,null,null,null,null,null,null,null,null,null,null,null,null,null,null,null,null,null,"","","","","",null,"","","",null,{"$f":"IF(COUNTBLANK(AD62)=1,\"\",IF(OR(AJ62=LEFT(AF$1,1),AJ62=RIGHT(AF$1,1)),COUNTIF(AJ$2:AJ62,LEFT(AF$1,1))+COUNTIF(AJ$2:AJ62,RIGHT(AF$1,1)),\"\"))","v":""},{"$f":"IF(COUNTBLANK(AD62)=1,\"\",IF(OR(AJ62=LEFT(AG$1,1),AJ62=RIGHT(AG$1,1)),COUNTIF(AJ$2:AJ62,LEFT(AG$1,1))+COUNTIF(AJ$2:AJ62,RIGHT(AG$1,1)),\"\"))","v":""},{"$f":"IF(COUNTBLANK(AD62)=1,\"\",IF(OR(AJ62=LEFT(AH$1,1),AJ62=RIGHT(AH$1,1)),COUNTIF(AJ$2:AJ62,LEFT(AH$1,1))+COUNTIF(AJ$2:AJ62,RIGHT(AH$1,1)),\"\"))","v":""},{"$f":"IF(COUNTBLANK(AD62)=1,\"\",IF(OR(AK62=LEFT(AI$1,1),AK62=RIGHT(AI$1,1)),COUNTIF(AK$2:AK62,LEFT(AI$1,1))+COUNTIF(AK$2:AK62,RIGHT(AI$1,1)),\"\"))","v":""},{"$f":"IF(COUNTBLANK(AD62)=1,\"\",INDEX(Registration!$C$2:$C$101,MATCH(AD62,Registration!$B$2:$B$101,0)))","v":""},{"$f":"IF(COUNTBLANK(AD62)=1,\"\",IF(COUNTBLANK(INDEX(Registration!$D$2:$D$101,MATCH(AD62,Registration!$B$2:$B$101,0)))=1,\"\",INDEX(Registration!$D$2:$D$101,MATCH(AD62,Registration!$B$2:$B$101,0))))","v":""}]
[{"$f":"IF(COUNTBLANK(Registration!B62)=1,\"\",Registration!B62)","v":""},null,null,null,null,null,null,null,null,null,null,null,null,null,null,null,null,null,null,null,null,"","","","","",null,"","","",null,{"$f":"IF(COUNTBLANK(AD63)=1,\"\",IF(OR(AJ63=LEFT(AF$1,1),AJ63=RIGHT(AF$1,1)),COUNTIF(AJ$2:AJ63,LEFT(AF$1,1))+COUNTIF(AJ$2:AJ63,RIGHT(AF$1,1)),\"\"))","v":""},{"$f":"IF(COUNTBLANK(AD63)=1,\"\",IF(OR(AJ63=LEFT(AG$1,1),AJ63=RIGHT(AG$1,1)),COUNTIF(AJ$2:AJ63,LEFT(AG$1,1))+COUNTIF(AJ$2:AJ63,RIGHT(AG$1,1)),\"\"))","v":""},{"$f":"IF(COUNTBLANK(AD63)=1,\"\",IF(OR(AJ63=LEFT(AH$1,1),AJ63=RIGHT(AH$1,1)),COUNTIF(AJ$2:AJ63,LEFT(AH$1,1))+COUNTIF(AJ$2:AJ63,RIGHT(AH$1,1)),\"\"))","v":""},{"$f":"IF(COUNTBLANK(AD63)=1,\"\",IF(OR(AK63=LEFT(AI$1,1),AK63=RIGHT(AI$1,1)),COUNTIF(AK$2:AK63,LEFT(AI$1,1))+COUNTIF(AK$2:AK63,RIGHT(AI$1,1)),\"\"))","v":""},{"$f":"IF(COUNTBLANK(AD63)=1,\"\",INDEX(Registration!$C$2:$C$101,MATCH(AD63,Registration!$B$2:$B$101,0)))","v":""},{"$f":"IF(COUNTBLANK(AD63)=1,\"\",IF(COUNTBLANK(INDEX(Registration!$D$2:$D$101,MATCH(AD63,Registration!$B$2:$B$101,0)))=1,\"\",INDEX(Registration!$D$2:$D$101,MATCH(AD63,Registration!$B$2:$B$101,0))))","v":""}]
[{"$f":"IF(COUNTBLANK(Registration!B63)=1,\"\",Registration!B63)","v":""},null,null,null,null,null,null,null,null,null,null,null,null,null,null,null,null,null,null,null,null,"","","","","",null,"","","",null,{"$f":"IF(COUNTBLANK(AD64)=1,\"\",IF(OR(AJ64=LEFT(AF$1,1),AJ64=RIGHT(AF$1,1)),COUNTIF(AJ$2:AJ64,LEFT(AF$1,1))+COUNTIF(AJ$2:AJ64,RIGHT(AF$1,1)),\"\"))","v":""},{"$f":"IF(COUNTBLANK(AD64)=1,\"\",IF(OR(AJ64=LEFT(AG$1,1),AJ64=RIGHT(AG$1,1)),COUNTIF(AJ$2:AJ64,LEFT(AG$1,1))+COUNTIF(AJ$2:AJ64,RIGHT(AG$1,1)),\"\"))","v":""},{"$f":"IF(COUNTBLANK(AD64)=1,\"\",IF(OR(AJ64=LEFT(AH$1,1),AJ64=RIGHT(AH$1,1)),COUNTIF(AJ$2:AJ64,LEFT(AH$1,1))+COUNTIF(AJ$2:AJ64,RIGHT(AH$1,1)),\"\"))","v":""},{"$f":"IF(COUNTBLANK(AD64)=1,\"\",IF(OR(AK64=LEFT(AI$1,1),AK64=RIGHT(AI$1,1)),COUNTIF(AK$2:AK64,LEFT(AI$1,1))+COUNTIF(AK$2:AK64,RIGHT(AI$1,1)),\"\"))","v":""},{"$f":"IF(COUNTBLANK(AD64)=1,\"\",INDEX(Registration!$C$2:$C$101,MATCH(AD64,Registration!$B$2:$B$101,0)))","v":""},{"$f":"IF(COUNTBLANK(AD64)=1,\"\",IF(COUNTBLANK(INDEX(Registration!$D$2:$D$101,MATCH(AD64,Registration!$B$2:$B$101,0)))=1,\"\",INDEX(Registration!$D$2:$D$101,MATCH(AD64,Registration!$B$2:$B$101,0))))","v":""}]
[{"$f":"IF(COUNTBLANK(Registration!B64)=1,\"\",Registration!B64)","v":""},null,null,null,null,null,null,null,null,null,null,null,null,null,null,null,null,null,null,null,null,"","","","","",null,"","","",null,{"$f":"IF(COUNTBLANK(AD65)=1,\"\",IF(OR(AJ65=LEFT(AF$1,1),AJ65=RIGHT(AF$1,1)),COUNTIF(AJ$2:AJ65,LEFT(AF$1,1))+COUNTIF(AJ$2:AJ65,RIGHT(AF$1,1)),\"\"))","v":""},{"$f":"IF(COUNTBLANK(AD65)=1,\"\",IF(OR(AJ65=LEFT(AG$1,1),AJ65=RIGHT(AG$1,1)),COUNTIF(AJ$2:AJ65,LEFT(AG$1,1))+COUNTIF(AJ$2:AJ65,RIGHT(AG$1,1)),\"\"))","v":""},{"$f":"IF(COUNTBLANK(AD65)=1,\"\",IF(OR(AJ65=LEFT(AH$1,1),AJ65=RIGHT(AH$1,1)),COUNTIF(AJ$2:AJ65,LEFT(AH$1,1))+COUNTIF(AJ$2:AJ65,RIGHT(AH$1,1)),\"\"))","v":""},{"$f":"IF(COUNTBLANK(AD65)=1,\"\",IF(OR(AK65=LEFT(AI$1,1),AK65=RIGHT(AI$1,1)),COUNTIF(AK$2:AK65,LEFT(AI$1,1))+COUNTIF(AK$2:AK65,RIGHT(AI$1,1)),\"\"))","v":""},{"$f":"IF(COUNTBLANK(AD65)=1,\"\",INDEX(Registration!$C$2:$C$101,MATCH(AD65,Registration!$B$2:$B$101,0)))","v":""},{"$f":"IF(COUNTBLANK(AD65)=1,\"\",IF(COUNTBLANK(INDEX(Registration!$D$2:$D$101,MATCH(AD65,Registration!$B$2:$B$101,0)))=1,\"\",INDEX(Registration!$D$2:$D$101,MATCH(AD65,Registration!$B$2:$B$101,0))))","v":""}]
[{"$f":"IF(COUNTBLANK(Registration!B65)=1,\"\",Registration!B65)","v":""},null,null,null,null,null,null,null,null,null,null,null,null,null,null,null,null,null,null,null,null,"","","","","",null,"","","",null,{"$f":"IF(COUNTBLANK(AD66)=1,\"\",IF(OR(AJ66=LEFT(AF$1,1),AJ66=RIGHT(AF$1,1)),COUNTIF(AJ$2:AJ66,LEFT(AF$1,1))+COUNTIF(AJ$2:AJ66,RIGHT(AF$1,1)),\"\"))","v":""},{"$f":"IF(COUNTBLANK(AD66)=1,\"\",IF(OR(AJ66=LEFT(AG$1,1),AJ66=RIGHT(AG$1,1)),COUNTIF(AJ$2:AJ66,LEFT(AG$1,1))+COUNTIF(AJ$2:AJ66,RIGHT(AG$1,1)),\"\"))","v":""},{"$f":"IF(COUNTBLANK(AD66)=1,\"\",IF(OR(AJ66=LEFT(AH$1,1),AJ66=RIGHT(AH$1,1)),COUNTIF(AJ$2:AJ66,LEFT(AH$1,1))+COUNTIF(AJ$2:AJ66,RIGHT(AH$1,1)),\"\"))","v":""},{"$f":"IF(COUNTBLANK(AD66)=1,\"\",IF(OR(AK66=LEFT(AI$1,1),AK66=RIGHT(AI$1,1)),COUNTIF(AK$2:AK66,LEFT(AI$1,1))+COUNTIF(AK$2:AK66,RIGHT(AI$1,1)),\"\"))","v":""},{"$f":"IF(COUNTBLANK(AD66)=1,\"\",INDEX(Registration!$C$2:$C$101,MATCH(AD66,Registration!$B$2:$B$101,0)))","v":""},{"$f":"IF(COUNTBLANK(AD66)=1,\"\",IF(COUNTBLANK(INDEX(Registration!$D$2:$D$101,MATCH(AD66,Registration!$B$2:$B$101,0)))=1,\"\",INDEX(Registration!$D$2:$D$101,MATCH(AD66,Registration!$B$2:$B$101,0))))","v":""}]
[{"$f":"IF(COUNTBLANK(Registration!B66)=1,\"\",Registration!B66)","v":""},null,null,null,null,null,null,null,null,null,null,null,null,null,null,null,null,null,null,null,null,"","","","","",null,"","","",null,{"$f":"IF(COUNTBLANK(AD67)=1,\"\",IF(OR(AJ67=LEFT(AF$1,1),AJ67=RIGHT(AF$1,1)),COUNTIF(AJ$2:AJ67,LEFT(AF$1,1))+COUNTIF(AJ$2:AJ67,RIGHT(AF$1,1)),\"\"))","v":""},{"$f":"IF(COUNTBLANK(AD67)=1,\"\",IF(OR(AJ67=LEFT(AG$1,1),AJ67=RIGHT(AG$1,1)),COUNTIF(AJ$2:AJ67,LEFT(AG$1,1))+COUNTIF(AJ$2:AJ67,RIGHT(AG$1,1)),\"\"))","v":""},{"$f":"IF(COUNTBLANK(AD67)=1,\"\",IF(OR(AJ67=LEFT(AH$1,1),AJ67=RIGHT(AH$1,1)),COUNTIF(AJ$2:AJ67,LEFT(AH$1,1))+COUNTIF(AJ$2:AJ67,RIGHT(AH$1,1)),\"\"))","v":""},{"$f":"IF(COUNTBLANK(AD67)=1,\"\",IF(OR(AK67=LEFT(AI$1,1),AK67=RIGHT(AI$1,1)),COUNTIF(AK$2:AK67,LEFT(AI$1,1))+COUNTIF(AK$2:AK67,RIGHT(AI$1,1)),\"\"))","v":""},{"$f":"IF(COUNTBLANK(AD67)=1,\"\",INDEX(Registration!$C$2:$C$101,MATCH(AD67,Registration!$B$2:$B$101,0)))","v":""},{"$f":"IF(COUNTBLANK(AD67)=1,\"\",IF(COUNTBLANK(INDEX(Registration!$D$2:$D$101,MATCH(AD67,Registration!$B$2:$B$101,0)))=1,\"\",INDEX(Registration!$D$2:$D$101,MATCH(AD67,Registration!$B$2:$B$101,0))))","v":""}]
[{"$f":"IF(COUNTBLANK(Registration!B67)=1,\"\",Registration!B67)","v":""},null,null,null,null,null,null,null,null,null,null,null,null,null,null,null,null,null,null,null,null,{"$f":"IF(OR(COUNTBLANK($A68)=1,COUNTBLANK(B68:K68)=10),\"\",SUM($B68:$K68))","v":""},{"$f":"IF(OR(COUNTBLANK($A68)=1,COUNTBLANK(L68:U68)=10),\"\",SUM(L68:U68))","v":""},{"$f":"IF(OR(COUNTBLANK($A68)=1,COUNTBLANK(B68:U68)=20),\"\",SUM(W68,V68))","v":""},{"$f":"IF(OR(COUNTBLANK($A68)=1,COUNTBLANK(B68:U68)=20),\"\",RANK(X68,$X$3:$X$102,0))","v":""},{"$f":"IF(OR(COUNTBLANK($A68)=1,COUNTBLANK(B68:U68)=20),\"\",placingpoints(Y68,COUNTIF(Y$3:Y$102,\"=\"&Y68)))","v":""},null,"","","",null,{"$f":"IF(COUNTBLANK(AD68)=1,\"\",IF(OR(AJ68=LEFT(AF$1,1),AJ68=RIGHT(AF$1,1)),COUNTIF(AJ$2:AJ68,LEFT(AF$1,1))+COUNTIF(AJ$2:AJ68,RIGHT(AF$1,1)),\"\"))","v":""},{"$f":"IF(COUNTBLANK(AD68)=1,\"\",IF(OR(AJ68=LEFT(AG$1,1),AJ68=RIGHT(AG$1,1)),COUNTIF(AJ$2:AJ68,LEFT(AG$1,1))+COUNTIF(AJ$2:AJ68,RIGHT(AG$1,1)),\"\"))","v":""},{"$f":"IF(COUNTBLANK(AD68)=1,\"\",IF(OR(AJ68=LEFT(AH$1,1),AJ68=RIGHT(AH$1,1)),COUNTIF(AJ$2:AJ68,LEFT(AH$1,1))+COUNTIF(AJ$2:AJ68,RIGHT(AH$1,1)),\"\"))","v":""},{"$f":"IF(COUNTBLANK(AD68)=1,\"\",IF(OR(AK68=LEFT(AI$1,1),AK68=RIGHT(AI$1,1)),COUNTIF(AK$2:AK68,LEFT(AI$1,1))+COUNTIF(AK$2:AK68,RIGHT(AI$1,1)),\"\"))","v":""},{"$f":"IF(COUNTBLANK(AD68)=1,\"\",INDEX(Registration!$C$2:$C$101,MATCH(AD68,Registration!$B$2:$B$101,0)))","v":""},{"$f":"IF(COUNTBLANK(AD68)=1,\"\",IF(COUNTBLANK(INDEX(Registration!$D$2:$D$101,MATCH(AD68,Registration!$B$2:$B$101,0)))=1,\"\",INDEX(Registration!$D$2:$D$101,MATCH(AD68,Registration!$B$2:$B$101,0))))","v":""}]
[{"$f":"IF(COUNTBLANK(Registration!B68)=1,\"\",Registration!B68)","v":""},null,null,null,null,null,null,null,null,null,null,null,null,null,null,null,null,null,null,null,null,"","","","","",null,"","","",null,{"$f":"IF(COUNTBLANK(AD69)=1,\"\",IF(OR(AJ69=LEFT(AF$1,1),AJ69=RIGHT(AF$1,1)),COUNTIF(AJ$2:AJ69,LEFT(AF$1,1))+COUNTIF(AJ$2:AJ69,RIGHT(AF$1,1)),\"\"))","v":""},{"$f":"IF(COUNTBLANK(AD69)=1,\"\",IF(OR(AJ69=LEFT(AG$1,1),AJ69=RIGHT(AG$1,1)),COUNTIF(AJ$2:AJ69,LEFT(AG$1,1))+COUNTIF(AJ$2:AJ69,RIGHT(AG$1,1)),\"\"))","v":""},{"$f":"IF(COUNTBLANK(AD69)=1,\"\",IF(OR(AJ69=LEFT(AH$1,1),AJ69=RIGHT(AH$1,1)),COUNTIF(AJ$2:AJ69,LEFT(AH$1,1))+COUNTIF(AJ$2:AJ69,RIGHT(AH$1,1)),\"\"))","v":""},{"$f":"IF(COUNTBLANK(AD69)=1,\"\",IF(OR(AK69=LEFT(AI$1,1),AK69=RIGHT(AI$1,1)),COUNTIF(AK$2:AK69,LEFT(AI$1,1))+COUNTIF(AK$2:AK69,RIGHT(AI$1,1)),\"\"))","v":""},{"$f":"IF(COUNTBLANK(AD69)=1,\"\",INDEX(Registration!$C$2:$C$101,MATCH(AD69,Registration!$B$2:$B$101,0)))","v":""},{"$f":"IF(COUNTBLANK(AD69)=1,\"\",IF(COUNTBLANK(INDEX(Registration!$D$2:$D$101,MATCH(AD69,Registration!$B$2:$B$101,0)))=1,\"\",INDEX(Registration!$D$2:$D$101,MATCH(AD69,Registration!$B$2:$B$101,0))))","v":""}]
[{"$f":"IF(COUNTBLANK(Registration!B69)=1,\"\",Registration!B69)","v":""},null,null,null,null,null,null,null,null,null,null,null,null,null,null,null,null,null,null,null,null,"","","","","",null,"","","",null,{"$f":"IF(COUNTBLANK(AD70)=1,\"\",IF(OR(AJ70=LEFT(AF$1,1),AJ70=RIGHT(AF$1,1)),COUNTIF(AJ$2:AJ70,LEFT(AF$1,1))+COUNTIF(AJ$2:AJ70,RIGHT(AF$1,1)),\"\"))","v":""},{"$f":"IF(COUNTBLANK(AD70)=1,\"\",IF(OR(AJ70=LEFT(AG$1,1),AJ70=RIGHT(AG$1,1)),COUNTIF(AJ$2:AJ70,LEFT(AG$1,1))+COUNTIF(AJ$2:AJ70,RIGHT(AG$1,1)),\"\"))","v":""},{"$f":"IF(COUNTBLANK(AD70)=1,\"\",IF(OR(AJ70=LEFT(AH$1,1),AJ70=RIGHT(AH$1,1)),COUNTIF(AJ$2:AJ70,LEFT(AH$1,1))+COUNTIF(AJ$2:AJ70,RIGHT(AH$1,1)),\"\"))","v":""},{"$f":"IF(COUNTBLANK(AD70)=1,\"\",IF(OR(AK70=LEFT(AI$1,1),AK70=RIGHT(AI$1,1)),COUNTIF(AK$2:AK70,LEFT(AI$1,1))+COUNTIF(AK$2:AK70,RIGHT(AI$1,1)),\"\"))","v":""},{"$f":"IF(COUNTBLANK(AD70)=1,\"\",INDEX(Registration!$C$2:$C$101,MATCH(AD70,Registration!$B$2:$B$101,0)))","v":""},{"$f":"IF(COUNTBLANK(AD70)=1,\"\",IF(COUNTBLANK(INDEX(Registration!$D$2:$D$101,MATCH(AD70,Registration!$B$2:$B$101,0)))=1,\"\",INDEX(Registration!$D$2:$D$101,MATCH(AD70,Registration!$B$2:$B$101,0))))","v":""}]
[{"$f":"IF(COUNTBLANK(Registration!B70)=1,\"\",Registration!B70)","v":""},null,null,null,null,null,null,null,null,null,null,null,null,null,null,null,null,null,null,null,null,"","","","","",null,"","","",null,{"$f":"IF(COUNTBLANK(AD71)=1,\"\",IF(OR(AJ71=LEFT(AF$1,1),AJ71=RIGHT(AF$1,1)),COUNTIF(AJ$2:AJ71,LEFT(AF$1,1))+COUNTIF(AJ$2:AJ71,RIGHT(AF$1,1)),\"\"))","v":""},{"$f":"IF(COUNTBLANK(AD71)=1,\"\",IF(OR(AJ71=LEFT(AG$1,1),AJ71=RIGHT(AG$1,1)),COUNTIF(AJ$2:AJ71,LEFT(AG$1,1))+COUNTIF(AJ$2:AJ71,RIGHT(AG$1,1)),\"\"))","v":""},{"$f":"IF(COUNTBLANK(AD71)=1,\"\",IF(OR(AJ71=LEFT(AH$1,1),AJ71=RIGHT(AH$1,1)),COUNTIF(AJ$2:AJ71,LEFT(AH$1,1))+COUNTIF(AJ$2:AJ71,RIGHT(AH$1,1)),\"\"))","v":""},{"$f":"IF(COUNTBLANK(AD71)=1,\"\",IF(OR(AK71=LEFT(AI$1,1),AK71=RIGHT(AI$1,1)),COUNTIF(AK$2:AK71,LEFT(AI$1,1))+COUNTIF(AK$2:AK71,RIGHT(AI$1,1)),\"\"))","v":""},{"$f":"IF(COUNTBLANK(AD71)=1,\"\",INDEX(Registration!$C$2:$C$101,MATCH(AD71,Registration!$B$2:$B$101,0)))","v":""},{"$f":"IF(COUNTBLANK(AD71)=1,\"\",IF(COUNTBLANK(INDEX(Registration!$D$2:$D$101,MATCH(AD71,Registration!$B$2:$B$101,0)))=1,\"\",INDEX(Registration!$D$2:$D$101,MATCH(AD71,Registration!$B$2:$B$101,0))))","v":""}]
[{"$f":"IF(COUNTBLANK(Registration!B71)=1,\"\",Registration!B71)","v":""},null,null,null,null,null,null,null,null,null,null,null,null,null,null,null,null,null,null,null,null,"","","","","",null,"","","",null,{"$f":"IF(COUNTBLANK(AD72)=1,\"\",IF(OR(AJ72=LEFT(AF$1,1),AJ72=RIGHT(AF$1,1)),COUNTIF(AJ$2:AJ72,LEFT(AF$1,1))+COUNTIF(AJ$2:AJ72,RIGHT(AF$1,1)),\"\"))","v":""},{"$f":"IF(COUNTBLANK(AD72)=1,\"\",IF(OR(AJ72=LEFT(AG$1,1),AJ72=RIGHT(AG$1,1)),COUNTIF(AJ$2:AJ72,LEFT(AG$1,1))+COUNTIF(AJ$2:AJ72,RIGHT(AG$1,1)),\"\"))","v":""},{"$f":"IF(COUNTBLANK(AD72)=1,\"\",IF(OR(AJ72=LEFT(AH$1,1),AJ72=RIGHT(AH$1,1)),COUNTIF(AJ$2:AJ72,LEFT(AH$1,1))+COUNTIF(AJ$2:AJ72,RIGHT(AH$1,1)),\"\"))","v":""},{"$f":"IF(COUNTBLANK(AD72)=1,\"\",IF(OR(AK72=LEFT(AI$1,1),AK72=RIGHT(AI$1,1)),COUNTIF(AK$2:AK72,LEFT(AI$1,1))+COUNTIF(AK$2:AK72,RIGHT(AI$1,1)),\"\"))","v":""},{"$f":"IF(COUNTBLANK(AD72)=1,\"\",INDEX(Registration!$C$2:$C$101,MATCH(AD72,Registration!$B$2:$B$101,0)))","v":""},{"$f":"IF(COUNTBLANK(AD72)=1,\"\",IF(COUNTBLANK(INDEX(Registration!$D$2:$D$101,MATCH(AD72,Registration!$B$2:$B$101,0)))=1,\"\",INDEX(Registration!$D$2:$D$101,MATCH(AD72,Registration!$B$2:$B$101,0))))","v":""}]
[{"$f":"IF(COUNTBLANK(Registration!B72)=1,\"\",Registration!B72)","v":""},null,null,null,null,null,null,null,null,null,null,null,null,null,null,null,null,null,null,null,null,"","","","","",null,"","","",null,{"$f":"IF(COUNTBLANK(AD73)=1,\"\",IF(OR(AJ73=LEFT(AF$1,1),AJ73=RIGHT(AF$1,1)),COUNTIF(AJ$2:AJ73,LEFT(AF$1,1))+COUNTIF(AJ$2:AJ73,RIGHT(AF$1,1)),\"\"))","v":""},{"$f":"IF(COUNTBLANK(AD73)=1,\"\",IF(OR(AJ73=LEFT(AG$1,1),AJ73=RIGHT(AG$1,1)),COUNTIF(AJ$2:AJ73,LEFT(AG$1,1))+COUNTIF(AJ$2:AJ73,RIGHT(AG$1,1)),\"\"))","v":""},{"$f":"IF(COUNTBLANK(AD73)=1,\"\",IF(OR(AJ73=LEFT(AH$1,1),AJ73=RIGHT(AH$1,1)),COUNTIF(AJ$2:AJ73,LEFT(AH$1,1))+COUNTIF(AJ$2:AJ73,RIGHT(AH$1,1)),\"\"))","v":""},{"$f":"IF(COUNTBLANK(AD73)=1,\"\",IF(OR(AK73=LEFT(AI$1,1),AK73=RIGHT(AI$1,1)),COUNTIF(AK$2:AK73,LEFT(AI$1,1))+COUNTIF(AK$2:AK73,RIGHT(AI$1,1)),\"\"))","v":""},{"$f":"IF(COUNTBLANK(AD73)=1,\"\",INDEX(Registration!$C$2:$C$101,MATCH(AD73,Registration!$B$2:$B$101,0)))","v":""},{"$f":"IF(COUNTBLANK(AD73)=1,\"\",IF(COUNTBLANK(INDEX(Registration!$D$2:$D$101,MATCH(AD73,Registration!$B$2:$B$101,0)))=1,\"\",INDEX(Registration!$D$2:$D$101,MATCH(AD73,Registration!$B$2:$B$101,0))))","v":""}]
[{"$f":"IF(COUNTBLANK(Registration!B73)=1,\"\",Registration!B73)","v":""},null,null,null,null,null,null,null,null,null,null,null,null,null,null,null,null,null,null,null,null,"","","","","",null,"","","",null,{"$f":"IF(COUNTBLANK(AD74)=1,\"\",IF(OR(AJ74=LEFT(AF$1,1),AJ74=RIGHT(AF$1,1)),COUNTIF(AJ$2:AJ74,LEFT(AF$1,1))+COUNTIF(AJ$2:AJ74,RIGHT(AF$1,1)),\"\"))","v":""},{"$f":"IF(COUNTBLANK(AD74)=1,\"\",IF(OR(AJ74=LEFT(AG$1,1),AJ74=RIGHT(AG$1,1)),COUNTIF(AJ$2:AJ74,LEFT(AG$1,1))+COUNTIF(AJ$2:AJ74,RIGHT(AG$1,1)),\"\"))","v":""},{"$f":"IF(COUNTBLANK(AD74)=1,\"\",IF(OR(AJ74=LEFT(AH$1,1),AJ74=RIGHT(AH$1,1)),COUNTIF(AJ$2:AJ74,LEFT(AH$1,1))+COUNTIF(AJ$2:AJ74,RIGHT(AH$1,1)),\"\"))","v":""},{"$f":"IF(COUNTBLANK(AD74)=1,\"\",IF(OR(AK74=LEFT(AI$1,1),AK74=RIGHT(AI$1,1)),COUNTIF(AK$2:AK74,LEFT(AI$1,1))+COUNTIF(AK$2:AK74,RIGHT(AI$1,1)),\"\"))","v":""},{"$f":"IF(COUNTBLANK(AD74)=1,\"\",INDEX(Registration!$C$2:$C$101,MATCH(AD74,Registration!$B$2:$B$101,0)))","v":""},{"$f":"IF(COUNTBLANK(AD74)=1,\"\",IF(COUNTBLANK(INDEX(Registration!$D$2:$D$101,MATCH(AD74,Registration!$B$2:$B$101,0)))=1,\"\",INDEX(Registration!$D$2:$D$101,MATCH(AD74,Registration!$B$2:$B$101,0))))","v":""}]
[{"$f":"IF(COUNTBLANK(Registration!B74)=1,\"\",Registration!B74)","v":""},null,null,null,null,null,null,null,null,null,null,null,null,null,null,null,null,null,null,null,null,"","","","","",null,"","","",null,{"$f":"IF(COUNTBLANK(AD75)=1,\"\",IF(OR(AJ75=LEFT(AF$1,1),AJ75=RIGHT(AF$1,1)),COUNTIF(AJ$2:AJ75,LEFT(AF$1,1))+COUNTIF(AJ$2:AJ75,RIGHT(AF$1,1)),\"\"))","v":""},{"$f":"IF(COUNTBLANK(AD75)=1,\"\",IF(OR(AJ75=LEFT(AG$1,1),AJ75=RIGHT(AG$1,1)),COUNTIF(AJ$2:AJ75,LEFT(AG$1,1))+COUNTIF(AJ$2:AJ75,RIGHT(AG$1,1)),\"\"))","v":""},{"$f":"IF(COUNTBLANK(AD75)=1,\"\",IF(OR(AJ75=LEFT(AH$1,1),AJ75=RIGHT(AH$1,1)),COUNTIF(AJ$2:AJ75,LEFT(AH$1,1))+COUNTIF(AJ$2:AJ75,RIGHT(AH$1,1)),\"\"))","v":""},{"$f":"IF(COUNTBLANK(AD75)=1,\"\",IF(OR(AK75=LEFT(AI$1,1),AK75=RIGHT(AI$1,1)),COUNTIF(AK$2:AK75,LEFT(AI$1,1))+COUNTIF(AK$2:AK75,RIGHT(AI$1,1)),\"\"))","v":""},{"$f":"IF(COUNTBLANK(AD75)=1,\"\",INDEX(Registration!$C$2:$C$101,MATCH(AD75,Registration!$B$2:$B$101,0)))","v":""},{"$f":"IF(COUNTBLANK(AD75)=1,\"\",IF(COUNTBLANK(INDEX(Registration!$D$2:$D$101,MATCH(AD75,Registration!$B$2:$B$101,0)))=1,\"\",INDEX(Registration!$D$2:$D$101,MATCH(AD75,Registration!$B$2:$B$101,0))))","v":""}]
[{"$f":"IF(COUNTBLANK(Registration!B75)=1,\"\",Registration!B75)","v":""},null,null,null,null,null,null,null,null,null,null,null,null,null,null,null,null,null,null,null,null,"","","","","",null,"","","",null,{"$f":"IF(COUNTBLANK(AD76)=1,\"\",IF(OR(AJ76=LEFT(AF$1,1),AJ76=RIGHT(AF$1,1)),COUNTIF(AJ$2:AJ76,LEFT(AF$1,1))+COUNTIF(AJ$2:AJ76,RIGHT(AF$1,1)),\"\"))","v":""},{"$f":"IF(COUNTBLANK(AD76)=1,\"\",IF(OR(AJ76=LEFT(AG$1,1),AJ76=RIGHT(AG$1,1)),COUNTIF(AJ$2:AJ76,LEFT(AG$1,1))+COUNTIF(AJ$2:AJ76,RIGHT(AG$1,1)),\"\"))","v":""},{"$f":"IF(COUNTBLANK(AD76)=1,\"\",IF(OR(AJ76=LEFT(AH$1,1),AJ76=RIGHT(AH$1,1)),COUNTIF(AJ$2:AJ76,LEFT(AH$1,1))+COUNTIF(AJ$2:AJ76,RIGHT(AH$1,1)),\"\"))","v":""},{"$f":"IF(COUNTBLANK(AD76)=1,\"\",IF(OR(AK76=LEFT(AI$1,1),AK76=RIGHT(AI$1,1)),COUNTIF(AK$2:AK76,LEFT(AI$1,1))+COUNTIF(AK$2:AK76,RIGHT(AI$1,1)),\"\"))","v":""},{"$f":"IF(COUNTBLANK(AD76)=1,\"\",INDEX(Registration!$C$2:$C$101,MATCH(AD76,Registration!$B$2:$B$101,0)))","v":""},{"$f":"IF(COUNTBLANK(AD76)=1,\"\",IF(COUNTBLANK(INDEX(Registration!$D$2:$D$101,MATCH(AD76,Registration!$B$2:$B$101,0)))=1,\"\",INDEX(Registration!$D$2:$D$101,MATCH(AD76,Registration!$B$2:$B$101,0))))","v":""}]
[{"$f":"IF(COUNTBLANK(Registration!B76)=1,\"\",Registration!B76)","v":""},null,null,null,null,null,null,null,null,null,null,null,null,null,null,null,null,null,null,null,null,"","","","","",null,"","","",null,{"$f":"IF(COUNTBLANK(AD77)=1,\"\",IF(OR(AJ77=LEFT(AF$1,1),AJ77=RIGHT(AF$1,1)),COUNTIF(AJ$2:AJ77,LEFT(AF$1,1))+COUNTIF(AJ$2:AJ77,RIGHT(AF$1,1)),\"\"))","v":""},{"$f":"IF(COUNTBLANK(AD77)=1,\"\",IF(OR(AJ77=LEFT(AG$1,1),AJ77=RIGHT(AG$1,1)),COUNTIF(AJ$2:AJ77,LEFT(AG$1,1))+COUNTIF(AJ$2:AJ77,RIGHT(AG$1,1)),\"\"))","v":""},{"$f":"IF(COUNTBLANK(AD77)=1,\"\",IF(OR(AJ77=LEFT(AH$1,1),AJ77=RIGHT(AH$1,1)),COUNTIF(AJ$2:AJ77,LEFT(AH$1,1))+COUNTIF(AJ$2:AJ77,RIGHT(AH$1,1)),\"\"))","v":""},{"$f":"IF(COUNTBLANK(AD77)=1,\"\",IF(OR(AK77=LEFT(AI$1,1),AK77=RIGHT(AI$1,1)),COUNTIF(AK$2:AK77,LEFT(AI$1,1))+COUNTIF(AK$2:AK77,RIGHT(AI$1,1)),\"\"))","v":""},{"$f":"IF(COUNTBLANK(AD77)=1,\"\",INDEX(Registration!$C$2:$C$101,MATCH(AD77,Registration!$B$2:$B$101,0)))","v":""},{"$f":"IF(COUNTBLANK(AD77)=1,\"\",IF(COUNTBLANK(INDEX(Registration!$D$2:$D$101,MATCH(AD77,Registration!$B$2:$B$101,0)))=1,\"\",INDEX(Registration!$D$2:$D$101,MATCH(AD77,Registration!$B$2:$B$101,0))))","v":""}]
[{"$f":"IF(COUNTBLANK(Registration!B77)=1,\"\",Registration!B77)","v":""},null,null,null,null,null,null,null,null,null,null,null,null,null,null,null,null,null,null,null,null,"","","","","",null,"","","",null,{"$f":"IF(COUNTBLANK(AD78)=1,\"\",IF(OR(AJ78=LEFT(AF$1,1),AJ78=RIGHT(AF$1,1)),COUNTIF(AJ$2:AJ78,LEFT(AF$1,1))+COUNTIF(AJ$2:AJ78,RIGHT(AF$1,1)),\"\"))","v":""},{"$f":"IF(COUNTBLANK(AD78)=1,\"\",IF(OR(AJ78=LEFT(AG$1,1),AJ78=RIGHT(AG$1,1)),COUNTIF(AJ$2:AJ78,LEFT(AG$1,1))+COUNTIF(AJ$2:AJ78,RIGHT(AG$1,1)),\"\"))","v":""},{"$f":"IF(COUNTBLANK(AD78)=1,\"\",IF(OR(AJ78=LEFT(AH$1,1),AJ78=RIGHT(AH$1,1)),COUNTIF(AJ$2:AJ78,LEFT(AH$1,1))+COUNTIF(AJ$2:AJ78,RIGHT(AH$1,1)),\"\"))","v":""},{"$f":"IF(COUNTBLANK(AD78)=1,\"\",IF(OR(AK78=LEFT(AI$1,1),AK78=RIGHT(AI$1,1)),COUNTIF(AK$2:AK78,LEFT(AI$1,1))+COUNTIF(AK$2:AK78,RIGHT(AI$1,1)),\"\"))","v":""},{"$f":"IF(COUNTBLANK(AD78)=1,\"\",INDEX(Registration!$C$2:$C$101,MATCH(AD78,Registration!$B$2:$B$101,0)))","v":""},{"$f":"IF(COUNTBLANK(AD78)=1,\"\",IF(COUNTBLANK(INDEX(Registration!$D$2:$D$101,MATCH(AD78,Registration!$B$2:$B$101,0)))=1,\"\",INDEX(Registration!$D$2:$D$101,MATCH(AD78,Registration!$B$2:$B$101,0))))","v":""}]
[{"$f":"IF(COUNTBLANK(Registration!B78)=1,\"\",Registration!B78)","v":""},null,null,null,null,null,null,null,null,null,null,null,null,null,null,null,null,null,null,null,null,"","","","","",null,"","","",null,{"$f":"IF(COUNTBLANK(AD79)=1,\"\",IF(OR(AJ79=LEFT(AF$1,1),AJ79=RIGHT(AF$1,1)),COUNTIF(AJ$2:AJ79,LEFT(AF$1,1))+COUNTIF(AJ$2:AJ79,RIGHT(AF$1,1)),\"\"))","v":""},{"$f":"IF(COUNTBLANK(AD79)=1,\"\",IF(OR(AJ79=LEFT(AG$1,1),AJ79=RIGHT(AG$1,1)),COUNTIF(AJ$2:AJ79,LEFT(AG$1,1))+COUNTIF(AJ$2:AJ79,RIGHT(AG$1,1)),\"\"))","v":""},{"$f":"IF(COUNTBLANK(AD79)=1,\"\",IF(OR(AJ79=LEFT(AH$1,1),AJ79=RIGHT(AH$1,1)),COUNTIF(AJ$2:AJ79,LEFT(AH$1,1))+COUNTIF(AJ$2:AJ79,RIGHT(AH$1,1)),\"\"))","v":""},{"$f":"IF(COUNTBLANK(AD79)=1,\"\",IF(OR(AK79=LEFT(AI$1,1),AK79=RIGHT(AI$1,1)),COUNTIF(AK$2:AK79,LEFT(AI$1,1))+COUNTIF(AK$2:AK79,RIGHT(AI$1,1)),\"\"))","v":""},{"$f":"IF(COUNTBLANK(AD79)=1,\"\",INDEX(Registration!$C$2:$C$101,MATCH(AD79,Registration!$B$2:$B$101,0)))","v":""},{"$f":"IF(COUNTBLANK(AD79)=1,\"\",IF(COUNTBLANK(INDEX(Registration!$D$2:$D$101,MATCH(AD79,Registration!$B$2:$B$101,0)))=1,\"\",INDEX(Registration!$D$2:$D$101,MATCH(AD79,Registration!$B$2:$B$101,0))))","v":""}]
[{"$f":"IF(COUNTBLANK(Registration!B79)=1,\"\",Registration!B79)","v":""},null,null,null,null,null,null,null,null,null,null,null,null,null,null,null,null,null,null,null,null,"","","","","",null,"","","",null,{"$f":"IF(COUNTBLANK(AD80)=1,\"\",IF(OR(AJ80=LEFT(AF$1,1),AJ80=RIGHT(AF$1,1)),COUNTIF(AJ$2:AJ80,LEFT(AF$1,1))+COUNTIF(AJ$2:AJ80,RIGHT(AF$1,1)),\"\"))","v":""},{"$f":"IF(COUNTBLANK(AD80)=1,\"\",IF(OR(AJ80=LEFT(AG$1,1),AJ80=RIGHT(AG$1,1)),COUNTIF(AJ$2:AJ80,LEFT(AG$1,1))+COUNTIF(AJ$2:AJ80,RIGHT(AG$1,1)),\"\"))","v":""},{"$f":"IF(COUNTBLANK(AD80)=1,\"\",IF(OR(AJ80=LEFT(AH$1,1),AJ80=RIGHT(AH$1,1)),COUNTIF(AJ$2:AJ80,LEFT(AH$1,1))+COUNTIF(AJ$2:AJ80,RIGHT(AH$1,1)),\"\"))","v":""},{"$f":"IF(COUNTBLANK(AD80)=1,\"\",IF(OR(AK80=LEFT(AI$1,1),AK80=RIGHT(AI$1,1)),COUNTIF(AK$2:AK80,LEFT(AI$1,1))+COUNTIF(AK$2:AK80,RIGHT(AI$1,1)),\"\"))","v":""},{"$f":"IF(COUNTBLANK(AD80)=1,\"\",INDEX(Registration!$C$2:$C$101,MATCH(AD80,Registration!$B$2:$B$101,0)))","v":""},{"$f":"IF(COUNTBLANK(AD80)=1,\"\",IF(COUNTBLANK(INDEX(Registration!$D$2:$D$101,MATCH(AD80,Registration!$B$2:$B$101,0)))=1,\"\",INDEX(Registration!$D$2:$D$101,MATCH(AD80,Registration!$B$2:$B$101,0))))","v":""}]
[{"$f":"IF(COUNTBLANK(Registration!B80)=1,\"\",Registration!B80)","v":""},null,null,null,null,null,null,null,null,null,null,null,null,null,null,null,null,null,null,null,null,"","","","","",null,"","","",null,{"$f":"IF(COUNTBLANK(AD81)=1,\"\",IF(OR(AJ81=LEFT(AF$1,1),AJ81=RIGHT(AF$1,1)),COUNTIF(AJ$2:AJ81,LEFT(AF$1,1))+COUNTIF(AJ$2:AJ81,RIGHT(AF$1,1)),\"\"))","v":""},{"$f":"IF(COUNTBLANK(AD81)=1,\"\",IF(OR(AJ81=LEFT(AG$1,1),AJ81=RIGHT(AG$1,1)),COUNTIF(AJ$2:AJ81,LEFT(AG$1,1))+COUNTIF(AJ$2:AJ81,RIGHT(AG$1,1)),\"\"))","v":""},{"$f":"IF(COUNTBLANK(AD81)=1,\"\",IF(OR(AJ81=LEFT(AH$1,1),AJ81=RIGHT(AH$1,1)),COUNTIF(AJ$2:AJ81,LEFT(AH$1,1))+COUNTIF(AJ$2:AJ81,RIGHT(AH$1,1)),\"\"))","v":""},{"$f":"IF(COUNTBLANK(AD81)=1,\"\",IF(OR(AK81=LEFT(AI$1,1),AK81=RIGHT(AI$1,1)),COUNTIF(AK$2:AK81,LEFT(AI$1,1))+COUNTIF(AK$2:AK81,RIGHT(AI$1,1)),\"\"))","v":""},{"$f":"IF(COUNTBLANK(AD81)=1,\"\",INDEX(Registration!$C$2:$C$101,MATCH(AD81,Registration!$B$2:$B$101,0)))","v":""},{"$f":"IF(COUNTBLANK(AD81)=1,\"\",IF(COUNTBLANK(INDEX(Registration!$D$2:$D$101,MATCH(AD81,Registration!$B$2:$B$101,0)))=1,\"\",INDEX(Registration!$D$2:$D$101,MATCH(AD81,Registration!$B$2:$B$101,0))))","v":""}]
[{"$f":"IF(COUNTBLANK(Registration!B81)=1,\"\",Registration!B81)","v":""},null,null,null,null,null,null,null,null,null,null,null,null,null,null,null,null,null,null,null,null,"","","","","",null,"","","",null,{"$f":"IF(COUNTBLANK(AD82)=1,\"\",IF(OR(AJ82=LEFT(AF$1,1),AJ82=RIGHT(AF$1,1)),COUNTIF(AJ$2:AJ82,LEFT(AF$1,1))+COUNTIF(AJ$2:AJ82,RIGHT(AF$1,1)),\"\"))","v":""},{"$f":"IF(COUNTBLANK(AD82)=1,\"\",IF(OR(AJ82=LEFT(AG$1,1),AJ82=RIGHT(AG$1,1)),COUNTIF(AJ$2:AJ82,LEFT(AG$1,1))+COUNTIF(AJ$2:AJ82,RIGHT(AG$1,1)),\"\"))","v":""},{"$f":"IF(COUNTBLANK(AD82)=1,\"\",IF(OR(AJ82=LEFT(AH$1,1),AJ82=RIGHT(AH$1,1)),COUNTIF(AJ$2:AJ82,LEFT(AH$1,1))+COUNTIF(AJ$2:AJ82,RIGHT(AH$1,1)),\"\"))","v":""},{"$f":"IF(COUNTBLANK(AD82)=1,\"\",IF(OR(AK82=LEFT(AI$1,1),AK82=RIGHT(AI$1,1)),COUNTIF(AK$2:AK82,LEFT(AI$1,1))+COUNTIF(AK$2:AK82,RIGHT(AI$1,1)),\"\"))","v":""},{"$f":"IF(COUNTBLANK(AD82)=1,\"\",INDEX(Registration!$C$2:$C$101,MATCH(AD82,Registration!$B$2:$B$101,0)))","v":""},{"$f":"IF(COUNTBLANK(AD82)=1,\"\",IF(COUNTBLANK(INDEX(Registration!$D$2:$D$101,MATCH(AD82,Registration!$B$2:$B$101,0)))=1,\"\",INDEX(Registration!$D$2:$D$101,MATCH(AD82,Registration!$B$2:$B$101,0))))","v":""}]
[{"$f":"IF(COUNTBLANK(Registration!B82)=1,\"\",Registration!B82)","v":""},null,null,null,null,null,null,null,null,null,null,null,null,null,null,null,null,null,null,null,null,"","","","","",null,"","","",null,{"$f":"IF(COUNTBLANK(AD83)=1,\"\",IF(OR(AJ83=LEFT(AF$1,1),AJ83=RIGHT(AF$1,1)),COUNTIF(AJ$2:AJ83,LEFT(AF$1,1))+COUNTIF(AJ$2:AJ83,RIGHT(AF$1,1)),\"\"))","v":""},{"$f":"IF(COUNTBLANK(AD83)=1,\"\",IF(OR(AJ83=LEFT(AG$1,1),AJ83=RIGHT(AG$1,1)),COUNTIF(AJ$2:AJ83,LEFT(AG$1,1))+COUNTIF(AJ$2:AJ83,RIGHT(AG$1,1)),\"\"))","v":""},{"$f":"IF(COUNTBLANK(AD83)=1,\"\",IF(OR(AJ83=LEFT(AH$1,1),AJ83=RIGHT(AH$1,1)),COUNTIF(AJ$2:AJ83,LEFT(AH$1,1))+COUNTIF(AJ$2:AJ83,RIGHT(AH$1,1)),\"\"))","v":""},{"$f":"IF(COUNTBLANK(AD83)=1,\"\",IF(OR(AK83=LEFT(AI$1,1),AK83=RIGHT(AI$1,1)),COUNTIF(AK$2:AK83,LEFT(AI$1,1))+COUNTIF(AK$2:AK83,RIGHT(AI$1,1)),\"\"))","v":""},{"$f":"IF(COUNTBLANK(AD83)=1,\"\",INDEX(Registration!$C$2:$C$101,MATCH(AD83,Registration!$B$2:$B$101,0)))","v":""},{"$f":"IF(COUNTBLANK(AD83)=1,\"\",IF(COUNTBLANK(INDEX(Registration!$D$2:$D$101,MATCH(AD83,Registration!$B$2:$B$101,0)))=1,\"\",INDEX(Registration!$D$2:$D$101,MATCH(AD83,Registration!$B$2:$B$101,0))))","v":""}]
[{"$f":"IF(COUNTBLANK(Registration!B83)=1,\"\",Registration!B83)","v":""},null,null,null,null,null,null,null,null,null,null,null,null,null,null,null,null,null,null,null,null,"","","","","",null,"","","",null,{"$f":"IF(COUNTBLANK(AD84)=1,\"\",IF(OR(AJ84=LEFT(AF$1,1),AJ84=RIGHT(AF$1,1)),COUNTIF(AJ$2:AJ84,LEFT(AF$1,1))+COUNTIF(AJ$2:AJ84,RIGHT(AF$1,1)),\"\"))","v":""},{"$f":"IF(COUNTBLANK(AD84)=1,\"\",IF(OR(AJ84=LEFT(AG$1,1),AJ84=RIGHT(AG$1,1)),COUNTIF(AJ$2:AJ84,LEFT(AG$1,1))+COUNTIF(AJ$2:AJ84,RIGHT(AG$1,1)),\"\"))","v":""},{"$f":"IF(COUNTBLANK(AD84)=1,\"\",IF(OR(AJ84=LEFT(AH$1,1),AJ84=RIGHT(AH$1,1)),COUNTIF(AJ$2:AJ84,LEFT(AH$1,1))+COUNTIF(AJ$2:AJ84,RIGHT(AH$1,1)),\"\"))","v":""},{"$f":"IF(COUNTBLANK(AD84)=1,\"\",IF(OR(AK84=LEFT(AI$1,1),AK84=RIGHT(AI$1,1)),COUNTIF(AK$2:AK84,LEFT(AI$1,1))+COUNTIF(AK$2:AK84,RIGHT(AI$1,1)),\"\"))","v":""},{"$f":"IF(COUNTBLANK(AD84)=1,\"\",INDEX(Registration!$C$2:$C$101,MATCH(AD84,Registration!$B$2:$B$101,0)))","v":""},{"$f":"IF(COUNTBLANK(AD84)=1,\"\",IF(COUNTBLANK(INDEX(Registration!$D$2:$D$101,MATCH(AD84,Registration!$B$2:$B$101,0)))=1,\"\",INDEX(Registration!$D$2:$D$101,MATCH(AD84,Registration!$B$2:$B$101,0))))","v":""}]
[{"$f":"IF(COUNTBLANK(Registration!B84)=1,\"\",Registration!B84)","v":""},null,null,null,null,null,null,null,null,null,null,null,null,null,null,null,null,null,null,null,null,"","","","","",null,"","","",null,{"$f":"IF(COUNTBLANK(AD85)=1,\"\",IF(OR(AJ85=LEFT(AF$1,1),AJ85=RIGHT(AF$1,1)),COUNTIF(AJ$2:AJ85,LEFT(AF$1,1))+COUNTIF(AJ$2:AJ85,RIGHT(AF$1,1)),\"\"))","v":""},{"$f":"IF(COUNTBLANK(AD85)=1,\"\",IF(OR(AJ85=LEFT(AG$1,1),AJ85=RIGHT(AG$1,1)),COUNTIF(AJ$2:AJ85,LEFT(AG$1,1))+COUNTIF(AJ$2:AJ85,RIGHT(AG$1,1)),\"\"))","v":""},{"$f":"IF(COUNTBLANK(AD85)=1,\"\",IF(OR(AJ85=LEFT(AH$1,1),AJ85=RIGHT(AH$1,1)),COUNTIF(AJ$2:AJ85,LEFT(AH$1,1))+COUNTIF(AJ$2:AJ85,RIGHT(AH$1,1)),\"\"))","v":""},{"$f":"IF(COUNTBLANK(AD85)=1,\"\",IF(OR(AK85=LEFT(AI$1,1),AK85=RIGHT(AI$1,1)),COUNTIF(AK$2:AK85,LEFT(AI$1,1))+COUNTIF(AK$2:AK85,RIGHT(AI$1,1)),\"\"))","v":""},{"$f":"IF(COUNTBLANK(AD85)=1,\"\",INDEX(Registration!$C$2:$C$101,MATCH(AD85,Registration!$B$2:$B$101,0)))","v":""},{"$f":"IF(COUNTBLANK(AD85)=1,\"\",IF(COUNTBLANK(INDEX(Registration!$D$2:$D$101,MATCH(AD85,Registration!$B$2:$B$101,0)))=1,\"\",INDEX(Registration!$D$2:$D$101,MATCH(AD85,Registration!$B$2:$B$101,0))))","v":""}]
[{"$f":"IF(COUNTBLANK(Registration!B85)=1,\"\",Registration!B85)","v":""},null,null,null,null,null,null,null,null,null,null,null,null,null,null,null,null,null,null,null,null,"","","","","",null,"","","",null,{"$f":"IF(COUNTBLANK(AD86)=1,\"\",IF(OR(AJ86=LEFT(AF$1,1),AJ86=RIGHT(AF$1,1)),COUNTIF(AJ$2:AJ86,LEFT(AF$1,1))+COUNTIF(AJ$2:AJ86,RIGHT(AF$1,1)),\"\"))","v":""},{"$f":"IF(COUNTBLANK(AD86)=1,\"\",IF(OR(AJ86=LEFT(AG$1,1),AJ86=RIGHT(AG$1,1)),COUNTIF(AJ$2:AJ86,LEFT(AG$1,1))+COUNTIF(AJ$2:AJ86,RIGHT(AG$1,1)),\"\"))","v":""},{"$f":"IF(COUNTBLANK(AD86)=1,\"\",IF(OR(AJ86=LEFT(AH$1,1),AJ86=RIGHT(AH$1,1)),COUNTIF(AJ$2:AJ86,LEFT(AH$1,1))+COUNTIF(AJ$2:AJ86,RIGHT(AH$1,1)),\"\"))","v":""},{"$f":"IF(COUNTBLANK(AD86)=1,\"\",IF(OR(AK86=LEFT(AI$1,1),AK86=RIGHT(AI$1,1)),COUNTIF(AK$2:AK86,LEFT(AI$1,1))+COUNTIF(AK$2:AK86,RIGHT(AI$1,1)),\"\"))","v":""},{"$f":"IF(COUNTBLANK(AD86)=1,\"\",INDEX(Registration!$C$2:$C$101,MATCH(AD86,Registration!$B$2:$B$101,0)))","v":""},{"$f":"IF(COUNTBLANK(AD86)=1,\"\",IF(COUNTBLANK(INDEX(Registration!$D$2:$D$101,MATCH(AD86,Registration!$B$2:$B$101,0)))=1,\"\",INDEX(Registration!$D$2:$D$101,MATCH(AD86,Registration!$B$2:$B$101,0))))","v":""}]
[{"$f":"IF(COUNTBLANK(Registration!B86)=1,\"\",Registration!B86)","v":""},null,null,null,null,null,null,null,null,null,null,null,null,null,null,null,null,null,null,null,null,"","","","","",null,"","","",null,{"$f":"IF(COUNTBLANK(AD87)=1,\"\",IF(OR(AJ87=LEFT(AF$1,1),AJ87=RIGHT(AF$1,1)),COUNTIF(AJ$2:AJ87,LEFT(AF$1,1))+COUNTIF(AJ$2:AJ87,RIGHT(AF$1,1)),\"\"))","v":""},{"$f":"IF(COUNTBLANK(AD87)=1,\"\",IF(OR(AJ87=LEFT(AG$1,1),AJ87=RIGHT(AG$1,1)),COUNTIF(AJ$2:AJ87,LEFT(AG$1,1))+COUNTIF(AJ$2:AJ87,RIGHT(AG$1,1)),\"\"))","v":""},{"$f":"IF(COUNTBLANK(AD87)=1,\"\",IF(OR(AJ87=LEFT(AH$1,1),AJ87=RIGHT(AH$1,1)),COUNTIF(AJ$2:AJ87,LEFT(AH$1,1))+COUNTIF(AJ$2:AJ87,RIGHT(AH$1,1)),\"\"))","v":""},{"$f":"IF(COUNTBLANK(AD87)=1,\"\",IF(OR(AK87=LEFT(AI$1,1),AK87=RIGHT(AI$1,1)),COUNTIF(AK$2:AK87,LEFT(AI$1,1))+COUNTIF(AK$2:AK87,RIGHT(AI$1,1)),\"\"))","v":""},{"$f":"IF(COUNTBLANK(AD87)=1,\"\",INDEX(Registration!$C$2:$C$101,MATCH(AD87,Registration!$B$2:$B$101,0)))","v":""},{"$f":"IF(COUNTBLANK(AD87)=1,\"\",IF(COUNTBLANK(INDEX(Registration!$D$2:$D$101,MATCH(AD87,Registration!$B$2:$B$101,0)))=1,\"\",INDEX(Registration!$D$2:$D$101,MATCH(AD87,Registration!$B$2:$B$101,0))))","v":""}]
[{"$f":"IF(COUNTBLANK(Registration!B87)=1,\"\",Registration!B87)","v":""},null,null,null,null,null,null,null,null,null,null,null,null,null,null,null,null,null,null,null,null,"","","","","",null,"","","",null,{"$f":"IF(COUNTBLANK(AD88)=1,\"\",IF(OR(AJ88=LEFT(AF$1,1),AJ88=RIGHT(AF$1,1)),COUNTIF(AJ$2:AJ88,LEFT(AF$1,1))+COUNTIF(AJ$2:AJ88,RIGHT(AF$1,1)),\"\"))","v":""},{"$f":"IF(COUNTBLANK(AD88)=1,\"\",IF(OR(AJ88=LEFT(AG$1,1),AJ88=RIGHT(AG$1,1)),COUNTIF(AJ$2:AJ88,LEFT(AG$1,1))+COUNTIF(AJ$2:AJ88,RIGHT(AG$1,1)),\"\"))","v":""},{"$f":"IF(COUNTBLANK(AD88)=1,\"\",IF(OR(AJ88=LEFT(AH$1,1),AJ88=RIGHT(AH$1,1)),COUNTIF(AJ$2:AJ88,LEFT(AH$1,1))+COUNTIF(AJ$2:AJ88,RIGHT(AH$1,1)),\"\"))","v":""},{"$f":"IF(COUNTBLANK(AD88)=1,\"\",IF(OR(AK88=LEFT(AI$1,1),AK88=RIGHT(AI$1,1)),COUNTIF(AK$2:AK88,LEFT(AI$1,1))+COUNTIF(AK$2:AK88,RIGHT(AI$1,1)),\"\"))","v":""},{"$f":"IF(COUNTBLANK(AD88)=1,\"\",INDEX(Registration!$C$2:$C$101,MATCH(AD88,Registration!$B$2:$B$101,0)))","v":""},{"$f":"IF(COUNTBLANK(AD88)=1,\"\",IF(COUNTBLANK(INDEX(Registration!$D$2:$D$101,MATCH(AD88,Registration!$B$2:$B$101,0)))=1,\"\",INDEX(Registration!$D$2:$D$101,MATCH(AD88,Registration!$B$2:$B$101,0))))","v":""}]
[{"$f":"IF(COUNTBLANK(Registration!B88)=1,\"\",Registration!B88)","v":""},null,null,null,null,null,null,null,null,null,null,null,null,null,null,null,null,null,null,null,null,"","","","","",null,"","","",null,{"$f":"IF(COUNTBLANK(AD89)=1,\"\",IF(OR(AJ89=LEFT(AF$1,1),AJ89=RIGHT(AF$1,1)),COUNTIF(AJ$2:AJ89,LEFT(AF$1,1))+COUNTIF(AJ$2:AJ89,RIGHT(AF$1,1)),\"\"))","v":""},{"$f":"IF(COUNTBLANK(AD89)=1,\"\",IF(OR(AJ89=LEFT(AG$1,1),AJ89=RIGHT(AG$1,1)),COUNTIF(AJ$2:AJ89,LEFT(AG$1,1))+COUNTIF(AJ$2:AJ89,RIGHT(AG$1,1)),\"\"))","v":""},{"$f":"IF(COUNTBLANK(AD89)=1,\"\",IF(OR(AJ89=LEFT(AH$1,1),AJ89=RIGHT(AH$1,1)),COUNTIF(AJ$2:AJ89,LEFT(AH$1,1))+COUNTIF(AJ$2:AJ89,RIGHT(AH$1,1)),\"\"))","v":""},{"$f":"IF(COUNTBLANK(AD89)=1,\"\",IF(OR(AK89=LEFT(AI$1,1),AK89=RIGHT(AI$1,1)),COUNTIF(AK$2:AK89,LEFT(AI$1,1))+COUNTIF(AK$2:AK89,RIGHT(AI$1,1)),\"\"))","v":""},{"$f":"IF(COUNTBLANK(AD89)=1,\"\",INDEX(Registration!$C$2:$C$101,MATCH(AD89,Registration!$B$2:$B$101,0)))","v":""},{"$f":"IF(COUNTBLANK(AD89)=1,\"\",IF(COUNTBLANK(INDEX(Registration!$D$2:$D$101,MATCH(AD89,Registration!$B$2:$B$101,0)))=1,\"\",INDEX(Registration!$D$2:$D$101,MATCH(AD89,Registration!$B$2:$B$101,0))))","v":""}]
[{"$f":"IF(COUNTBLANK(Registration!B89)=1,\"\",Registration!B89)","v":""},null,null,null,null,null,null,null,null,null,null,null,null,null,null,null,null,null,null,null,null,"","","","","",null,"","","",null,{"$f":"IF(COUNTBLANK(AD90)=1,\"\",IF(OR(AJ90=LEFT(AF$1,1),AJ90=RIGHT(AF$1,1)),COUNTIF(AJ$2:AJ90,LEFT(AF$1,1))+COUNTIF(AJ$2:AJ90,RIGHT(AF$1,1)),\"\"))","v":""},{"$f":"IF(COUNTBLANK(AD90)=1,\"\",IF(OR(AJ90=LEFT(AG$1,1),AJ90=RIGHT(AG$1,1)),COUNTIF(AJ$2:AJ90,LEFT(AG$1,1))+COUNTIF(AJ$2:AJ90,RIGHT(AG$1,1)),\"\"))","v":""},{"$f":"IF(COUNTBLANK(AD90)=1,\"\",IF(OR(AJ90=LEFT(AH$1,1),AJ90=RIGHT(AH$1,1)),COUNTIF(AJ$2:AJ90,LEFT(AH$1,1))+COUNTIF(AJ$2:AJ90,RIGHT(AH$1,1)),\"\"))","v":""},{"$f":"IF(COUNTBLANK(AD90)=1,\"\",IF(OR(AK90=LEFT(AI$1,1),AK90=RIGHT(AI$1,1)),COUNTIF(AK$2:AK90,LEFT(AI$1,1))+COUNTIF(AK$2:AK90,RIGHT(AI$1,1)),\"\"))","v":""},{"$f":"IF(COUNTBLANK(AD90)=1,\"\",INDEX(Registration!$C$2:$C$101,MATCH(AD90,Registration!$B$2:$B$101,0)))","v":""},{"$f":"IF(COUNTBLANK(AD90)=1,\"\",IF(COUNTBLANK(INDEX(Registration!$D$2:$D$101,MATCH(AD90,Registration!$B$2:$B$101,0)))=1,\"\",INDEX(Registration!$D$2:$D$101,MATCH(AD90,Registration!$B$2:$B$101,0))))","v":""}]
[{"$f":"IF(COUNTBLANK(Registration!B90)=1,\"\",Registration!B90)","v":""},null,null,null,null,null,null,null,null,null,null,null,null,null,null,null,null,null,null,null,null,"","","","","",null,"","","",null,{"$f":"IF(COUNTBLANK(AD91)=1,\"\",IF(OR(AJ91=LEFT(AF$1,1),AJ91=RIGHT(AF$1,1)),COUNTIF(AJ$2:AJ91,LEFT(AF$1,1))+COUNTIF(AJ$2:AJ91,RIGHT(AF$1,1)),\"\"))","v":""},{"$f":"IF(COUNTBLANK(AD91)=1,\"\",IF(OR(AJ91=LEFT(AG$1,1),AJ91=RIGHT(AG$1,1)),COUNTIF(AJ$2:AJ91,LEFT(AG$1,1))+COUNTIF(AJ$2:AJ91,RIGHT(AG$1,1)),\"\"))","v":""},{"$f":"IF(COUNTBLANK(AD91)=1,\"\",IF(OR(AJ91=LEFT(AH$1,1),AJ91=RIGHT(AH$1,1)),COUNTIF(AJ$2:AJ91,LEFT(AH$1,1))+COUNTIF(AJ$2:AJ91,RIGHT(AH$1,1)),\"\"))","v":""},{"$f":"IF(COUNTBLANK(AD91)=1,\"\",IF(OR(AK91=LEFT(AI$1,1),AK91=RIGHT(AI$1,1)),COUNTIF(AK$2:AK91,LEFT(AI$1,1))+COUNTIF(AK$2:AK91,RIGHT(AI$1,1)),\"\"))","v":""},{"$f":"IF(COUNTBLANK(AD91)=1,\"\",INDEX(Registration!$C$2:$C$101,MATCH(AD91,Registration!$B$2:$B$101,0)))","v":""},{"$f":"IF(COUNTBLANK(AD91)=1,\"\",IF(COUNTBLANK(INDEX(Registration!$D$2:$D$101,MATCH(AD91,Registration!$B$2:$B$101,0)))=1,\"\",INDEX(Registration!$D$2:$D$101,MATCH(AD91,Registration!$B$2:$B$101,0))))","v":""}]
[{"$f":"IF(COUNTBLANK(Registration!B91)=1,\"\",Registration!B91)","v":""},null,null,null,null,null,null,null,null,null,null,null,null,null,null,null,null,null,null,null,null,"","","","","",null,"","","",null,{"$f":"IF(COUNTBLANK(AD92)=1,\"\",IF(OR(AJ92=LEFT(AF$1,1),AJ92=RIGHT(AF$1,1)),COUNTIF(AJ$2:AJ92,LEFT(AF$1,1))+COUNTIF(AJ$2:AJ92,RIGHT(AF$1,1)),\"\"))","v":""},{"$f":"IF(COUNTBLANK(AD92)=1,\"\",IF(OR(AJ92=LEFT(AG$1,1),AJ92=RIGHT(AG$1,1)),COUNTIF(AJ$2:AJ92,LEFT(AG$1,1))+COUNTIF(AJ$2:AJ92,RIGHT(AG$1,1)),\"\"))","v":""},{"$f":"IF(COUNTBLANK(AD92)=1,\"\",IF(OR(AJ92=LEFT(AH$1,1),AJ92=RIGHT(AH$1,1)),COUNTIF(AJ$2:AJ92,LEFT(AH$1,1))+COUNTIF(AJ$2:AJ92,RIGHT(AH$1,1)),\"\"))","v":""},{"$f":"IF(COUNTBLANK(AD92)=1,\"\",IF(OR(AK92=LEFT(AI$1,1),AK92=RIGHT(AI$1,1)),COUNTIF(AK$2:AK92,LEFT(AI$1,1))+COUNTIF(AK$2:AK92,RIGHT(AI$1,1)),\"\"))","v":""},{"$f":"IF(COUNTBLANK(AD92)=1,\"\",INDEX(Registration!$C$2:$C$101,MATCH(AD92,Registration!$B$2:$B$101,0)))","v":""},{"$f":"IF(COUNTBLANK(AD92)=1,\"\",IF(COUNTBLANK(INDEX(Registration!$D$2:$D$101,MATCH(AD92,Registration!$B$2:$B$101,0)))=1,\"\",INDEX(Registration!$D$2:$D$101,MATCH(AD92,Registration!$B$2:$B$101,0))))","v":""}]
[{"$f":"IF(COUNTBLANK(Registration!B92)=1,\"\",Registration!B92)","v":""},null,null,null,null,null,null,null,null,null,null,null,null,null,null,null,null,null,null,null,null,"","","","","",null,"","","",null,{"$f":"IF(COUNTBLANK(AD93)=1,\"\",IF(OR(AJ93=LEFT(AF$1,1),AJ93=RIGHT(AF$1,1)),COUNTIF(AJ$2:AJ93,LEFT(AF$1,1))+COUNTIF(AJ$2:AJ93,RIGHT(AF$1,1)),\"\"))","v":""},{"$f":"IF(COUNTBLANK(AD93)=1,\"\",IF(OR(AJ93=LEFT(AG$1,1),AJ93=RIGHT(AG$1,1)),COUNTIF(AJ$2:AJ93,LEFT(AG$1,1))+COUNTIF(AJ$2:AJ93,RIGHT(AG$1,1)),\"\"))","v":""},{"$f":"IF(COUNTBLANK(AD93)=1,\"\",IF(OR(AJ93=LEFT(AH$1,1),AJ93=RIGHT(AH$1,1)),COUNTIF(AJ$2:AJ93,LEFT(AH$1,1))+COUNTIF(AJ$2:AJ93,RIGHT(AH$1,1)),\"\"))","v":""},{"$f":"IF(COUNTBLANK(AD93)=1,\"\",IF(OR(AK93=LEFT(AI$1,1),AK93=RIGHT(AI$1,1)),COUNTIF(AK$2:AK93,LEFT(AI$1,1))+COUNTIF(AK$2:AK93,RIGHT(AI$1,1)),\"\"))","v":""},{"$f":"IF(COUNTBLANK(AD93)=1,\"\",INDEX(Registration!$C$2:$C$101,MATCH(AD93,Registration!$B$2:$B$101,0)))","v":""},{"$f":"IF(COUNTBLANK(AD93)=1,\"\",IF(COUNTBLANK(INDEX(Registration!$D$2:$D$101,MATCH(AD93,Registration!$B$2:$B$101,0)))=1,\"\",INDEX(Registration!$D$2:$D$101,MATCH(AD93,Registration!$B$2:$B$101,0))))","v":""}]
[{"$f":"IF(COUNTBLANK(Registration!B93)=1,\"\",Registration!B93)","v":""},null,null,null,null,null,null,null,null,null,null,null,null,null,null,null,null,null,null,null,null,"","","","","",null,"","","",null,{"$f":"IF(COUNTBLANK(AD94)=1,\"\",IF(OR(AJ94=LEFT(AF$1,1),AJ94=RIGHT(AF$1,1)),COUNTIF(AJ$2:AJ94,LEFT(AF$1,1))+COUNTIF(AJ$2:AJ94,RIGHT(AF$1,1)),\"\"))","v":""},{"$f":"IF(COUNTBLANK(AD94)=1,\"\",IF(OR(AJ94=LEFT(AG$1,1),AJ94=RIGHT(AG$1,1)),COUNTIF(AJ$2:AJ94,LEFT(AG$1,1))+COUNTIF(AJ$2:AJ94,RIGHT(AG$1,1)),\"\"))","v":""},{"$f":"IF(COUNTBLANK(AD94)=1,\"\",IF(OR(AJ94=LEFT(AH$1,1),AJ94=RIGHT(AH$1,1)),COUNTIF(AJ$2:AJ94,LEFT(AH$1,1))+COUNTIF(AJ$2:AJ94,RIGHT(AH$1,1)),\"\"))","v":""},{"$f":"IF(COUNTBLANK(AD94)=1,\"\",IF(OR(AK94=LEFT(AI$1,1),AK94=RIGHT(AI$1,1)),COUNTIF(AK$2:AK94,LEFT(AI$1,1))+COUNTIF(AK$2:AK94,RIGHT(AI$1,1)),\"\"))","v":""},{"$f":"IF(COUNTBLANK(AD94)=1,\"\",INDEX(Registration!$C$2:$C$101,MATCH(AD94,Registration!$B$2:$B$101,0)))","v":""},{"$f":"IF(COUNTBLANK(AD94)=1,\"\",IF(COUNTBLANK(INDEX(Registration!$D$2:$D$101,MATCH(AD94,Registration!$B$2:$B$101,0)))=1,\"\",INDEX(Registration!$D$2:$D$101,MATCH(AD94,Registration!$B$2:$B$101,0))))","v":""}]
[{"$f":"IF(COUNTBLANK(Registration!B94)=1,\"\",Registration!B94)","v":""},null,null,null,null,null,null,null,null,null,null,null,null,null,null,null,null,null,null,null,null,"","","","","",null,"","","",null,{"$f":"IF(COUNTBLANK(AD95)=1,\"\",IF(OR(AJ95=LEFT(AF$1,1),AJ95=RIGHT(AF$1,1)),COUNTIF(AJ$2:AJ95,LEFT(AF$1,1))+COUNTIF(AJ$2:AJ95,RIGHT(AF$1,1)),\"\"))","v":""},{"$f":"IF(COUNTBLANK(AD95)=1,\"\",IF(OR(AJ95=LEFT(AG$1,1),AJ95=RIGHT(AG$1,1)),COUNTIF(AJ$2:AJ95,LEFT(AG$1,1))+COUNTIF(AJ$2:AJ95,RIGHT(AG$1,1)),\"\"))","v":""},{"$f":"IF(COUNTBLANK(AD95)=1,\"\",IF(OR(AJ95=LEFT(AH$1,1),AJ95=RIGHT(AH$1,1)),COUNTIF(AJ$2:AJ95,LEFT(AH$1,1))+COUNTIF(AJ$2:AJ95,RIGHT(AH$1,1)),\"\"))","v":""},{"$f":"IF(COUNTBLANK(AD95)=1,\"\",IF(OR(AK95=LEFT(AI$1,1),AK95=RIGHT(AI$1,1)),COUNTIF(AK$2:AK95,LEFT(AI$1,1))+COUNTIF(AK$2:AK95,RIGHT(AI$1,1)),\"\"))","v":""},{"$f":"IF(COUNTBLANK(AD95)=1,\"\",INDEX(Registration!$C$2:$C$101,MATCH(AD95,Registration!$B$2:$B$101,0)))","v":""},{"$f":"IF(COUNTBLANK(AD95)=1,\"\",IF(COUNTBLANK(INDEX(Registration!$D$2:$D$101,MATCH(AD95,Registration!$B$2:$B$101,0)))=1,\"\",INDEX(Registration!$D$2:$D$101,MATCH(AD95,Registration!$B$2:$B$101,0))))","v":""}]
[{"$f":"IF(COUNTBLANK(Registration!B95)=1,\"\",Registration!B95)","v":""},null,null,null,null,null,null,null,null,null,null,null,null,null,null,null,null,null,null,null,null,"","","","","",null,"","","",null,{"$f":"IF(COUNTBLANK(AD96)=1,\"\",IF(OR(AJ96=LEFT(AF$1,1),AJ96=RIGHT(AF$1,1)),COUNTIF(AJ$2:AJ96,LEFT(AF$1,1))+COUNTIF(AJ$2:AJ96,RIGHT(AF$1,1)),\"\"))","v":""},{"$f":"IF(COUNTBLANK(AD96)=1,\"\",IF(OR(AJ96=LEFT(AG$1,1),AJ96=RIGHT(AG$1,1)),COUNTIF(AJ$2:AJ96,LEFT(AG$1,1))+COUNTIF(AJ$2:AJ96,RIGHT(AG$1,1)),\"\"))","v":""},{"$f":"IF(COUNTBLANK(AD96)=1,\"\",IF(OR(AJ96=LEFT(AH$1,1),AJ96=RIGHT(AH$1,1)),COUNTIF(AJ$2:AJ96,LEFT(AH$1,1))+COUNTIF(AJ$2:AJ96,RIGHT(AH$1,1)),\"\"))","v":""},{"$f":"IF(COUNTBLANK(AD96)=1,\"\",IF(OR(AK96=LEFT(AI$1,1),AK96=RIGHT(AI$1,1)),COUNTIF(AK$2:AK96,LEFT(AI$1,1))+COUNTIF(AK$2:AK96,RIGHT(AI$1,1)),\"\"))","v":""},{"$f":"IF(COUNTBLANK(AD96)=1,\"\",INDEX(Registration!$C$2:$C$101,MATCH(AD96,Registration!$B$2:$B$101,0)))","v":""},{"$f":"IF(COUNTBLANK(AD96)=1,\"\",IF(COUNTBLANK(INDEX(Registration!$D$2:$D$101,MATCH(AD96,Registration!$B$2:$B$101,0)))=1,\"\",INDEX(Registration!$D$2:$D$101,MATCH(AD96,Registration!$B$2:$B$101,0))))","v":""}]
[{"$f":"IF(COUNTBLANK(Registration!B96)=1,\"\",Registration!B96)","v":""},null,null,null,null,null,null,null,null,null,null,null,null,null,null,null,null,null,null,null,null,"","","","","",null,"","","",null,{"$f":"IF(COUNTBLANK(AD97)=1,\"\",IF(OR(AJ97=LEFT(AF$1,1),AJ97=RIGHT(AF$1,1)),COUNTIF(AJ$2:AJ97,LEFT(AF$1,1))+COUNTIF(AJ$2:AJ97,RIGHT(AF$1,1)),\"\"))","v":""},{"$f":"IF(COUNTBLANK(AD97)=1,\"\",IF(OR(AJ97=LEFT(AG$1,1),AJ97=RIGHT(AG$1,1)),COUNTIF(AJ$2:AJ97,LEFT(AG$1,1))+COUNTIF(AJ$2:AJ97,RIGHT(AG$1,1)),\"\"))","v":""},{"$f":"IF(COUNTBLANK(AD97)=1,\"\",IF(OR(AJ97=LEFT(AH$1,1),AJ97=RIGHT(AH$1,1)),COUNTIF(AJ$2:AJ97,LEFT(AH$1,1))+COUNTIF(AJ$2:AJ97,RIGHT(AH$1,1)),\"\"))","v":""},{"$f":"IF(COUNTBLANK(AD97)=1,\"\",IF(OR(AK97=LEFT(AI$1,1),AK97=RIGHT(AI$1,1)),COUNTIF(AK$2:AK97,LEFT(AI$1,1))+COUNTIF(AK$2:AK97,RIGHT(AI$1,1)),\"\"))","v":""},{"$f":"IF(COUNTBLANK(AD97)=1,\"\",INDEX(Registration!$C$2:$C$101,MATCH(AD97,Registration!$B$2:$B$101,0)))","v":""},{"$f":"IF(COUNTBLANK(AD97)=1,\"\",IF(COUNTBLANK(INDEX(Registration!$D$2:$D$101,MATCH(AD97,Registration!$B$2:$B$101,0)))=1,\"\",INDEX(Registration!$D$2:$D$101,MATCH(AD97,Registration!$B$2:$B$101,0))))","v":""}]
[{"$f":"IF(COUNTBLANK(Registration!B97)=1,\"\",Registration!B97)","v":""},null,null,null,null,null,null,null,null,null,null,null,null,null,null,null,null,null,null,null,null,"","","","","",null,"","","",null,{"$f":"IF(COUNTBLANK(AD98)=1,\"\",IF(OR(AJ98=LEFT(AF$1,1),AJ98=RIGHT(AF$1,1)),COUNTIF(AJ$2:AJ98,LEFT(AF$1,1))+COUNTIF(AJ$2:AJ98,RIGHT(AF$1,1)),\"\"))","v":""},{"$f":"IF(COUNTBLANK(AD98)=1,\"\",IF(OR(AJ98=LEFT(AG$1,1),AJ98=RIGHT(AG$1,1)),COUNTIF(AJ$2:AJ98,LEFT(AG$1,1))+COUNTIF(AJ$2:AJ98,RIGHT(AG$1,1)),\"\"))","v":""},{"$f":"IF(COUNTBLANK(AD98)=1,\"\",IF(OR(AJ98=LEFT(AH$1,1),AJ98=RIGHT(AH$1,1)),COUNTIF(AJ$2:AJ98,LEFT(AH$1,1))+COUNTIF(AJ$2:AJ98,RIGHT(AH$1,1)),\"\"))","v":""},{"$f":"IF(COUNTBLANK(AD98)=1,\"\",IF(OR(AK98=LEFT(AI$1,1),AK98=RIGHT(AI$1,1)),COUNTIF(AK$2:AK98,LEFT(AI$1,1))+COUNTIF(AK$2:AK98,RIGHT(AI$1,1)),\"\"))","v":""},{"$f":"IF(COUNTBLANK(AD98)=1,\"\",INDEX(Registration!$C$2:$C$101,MATCH(AD98,Registration!$B$2:$B$101,0)))","v":""},{"$f":"IF(COUNTBLANK(AD98)=1,\"\",IF(COUNTBLANK(INDEX(Registration!$D$2:$D$101,MATCH(AD98,Registration!$B$2:$B$101,0)))=1,\"\",INDEX(Registration!$D$2:$D$101,MATCH(AD98,Registration!$B$2:$B$101,0))))","v":""}]
[{"$f":"IF(COUNTBLANK(Registration!B98)=1,\"\",Registration!B98)","v":""},null,null,null,null,null,null,null,null,null,null,null,null,null,null,null,null,null,null,null,null,"","","","","",null,"","","",null,{"$f":"IF(COUNTBLANK(AD99)=1,\"\",IF(OR(AJ99=LEFT(AF$1,1),AJ99=RIGHT(AF$1,1)),COUNTIF(AJ$2:AJ99,LEFT(AF$1,1))+COUNTIF(AJ$2:AJ99,RIGHT(AF$1,1)),\"\"))","v":""},{"$f":"IF(COUNTBLANK(AD99)=1,\"\",IF(OR(AJ99=LEFT(AG$1,1),AJ99=RIGHT(AG$1,1)),COUNTIF(AJ$2:AJ99,LEFT(AG$1,1))+COUNTIF(AJ$2:AJ99,RIGHT(AG$1,1)),\"\"))","v":""},{"$f":"IF(COUNTBLANK(AD99)=1,\"\",IF(OR(AJ99=LEFT(AH$1,1),AJ99=RIGHT(AH$1,1)),COUNTIF(AJ$2:AJ99,LEFT(AH$1,1))+COUNTIF(AJ$2:AJ99,RIGHT(AH$1,1)),\"\"))","v":""},{"$f":"IF(COUNTBLANK(AD99)=1,\"\",IF(OR(AK99=LEFT(AI$1,1),AK99=RIGHT(AI$1,1)),COUNTIF(AK$2:AK99,LEFT(AI$1,1))+COUNTIF(AK$2:AK99,RIGHT(AI$1,1)),\"\"))","v":""},{"$f":"IF(COUNTBLANK(AD99)=1,\"\",INDEX(Registration!$C$2:$C$101,MATCH(AD99,Registration!$B$2:$B$101,0)))","v":""},{"$f":"IF(COUNTBLANK(AD99)=1,\"\",IF(COUNTBLANK(INDEX(Registration!$D$2:$D$101,MATCH(AD99,Registration!$B$2:$B$101,0)))=1,\"\",INDEX(Registration!$D$2:$D$101,MATCH(AD99,Registration!$B$2:$B$101,0))))","v":""}]
[{"$f":"IF(COUNTBLANK(Registration!B99)=1,\"\",Registration!B99)","v":""},null,null,null,null,null,null,null,null,null,null,null,null,null,null,null,null,null,null,null,null,"","","",{"$f":"IF(OR(COUNTBLANK($A100)=1,COUNTBLANK(B100:U100)=20),\"\",RANK(X100,$X$3:$X$102,0))","v":""},{"$f":"IF(OR(COUNTBLANK($A100)=1,COUNTBLANK(B100:U100)=20),\"\",placingpoints(Y100,COUNTIF(Y$3:Y$102,\"=\"&Y100)))","v":""},null,"","","",null,{"$f":"IF(COUNTBLANK(AD100)=1,\"\",IF(OR(AJ100=LEFT(AF$1,1),AJ100=RIGHT(AF$1,1)),COUNTIF(AJ$2:AJ100,LEFT(AF$1,1))+COUNTIF(AJ$2:AJ100,RIGHT(AF$1,1)),\"\"))","v":""},{"$f":"IF(COUNTBLANK(AD100)=1,\"\",IF(OR(AJ100=LEFT(AG$1,1),AJ100=RIGHT(AG$1,1)),COUNTIF(AJ$2:AJ100,LEFT(AG$1,1))+COUNTIF(AJ$2:AJ100,RIGHT(AG$1,1)),\"\"))","v":""},{"$f":"IF(COUNTBLANK(AD100)=1,\"\",IF(OR(AJ100=LEFT(AH$1,1),AJ100=RIGHT(AH$1,1)),COUNTIF(AJ$2:AJ100,LEFT(AH$1,1))+COUNTIF(AJ$2:AJ100,RIGHT(AH$1,1)),\"\"))","v":""},{"$f":"IF(COUNTBLANK(AD100)=1,\"\",IF(OR(AK100=LEFT(AI$1,1),AK100=RIGHT(AI$1,1)),COUNTIF(AK$2:AK100,LEFT(AI$1,1))+COUNTIF(AK$2:AK100,RIGHT(AI$1,1)),\"\"))","v":""},{"$f":"IF(COUNTBLANK(AD100)=1,\"\",INDEX(Registration!$C$2:$C$101,MATCH(AD100,Registration!$B$2:$B$101,0)))","v":""},{"$f":"IF(COUNTBLANK(AD100)=1,\"\",IF(COUNTBLANK(INDEX(Registration!$D$2:$D$101,MATCH(AD100,Registration!$B$2:$B$101,0)))=1,\"\",INDEX(Registration!$D$2:$D$101,MATCH(AD100,Registration!$B$2:$B$101,0))))","v":""}]
[{"$f":"IF(COUNTBLANK(Registration!B100)=1,\"\",Registration!B100)","v":""},null,null,null,null,null,null,null,null,null,null,null,null,null,null,null,null,null,null,null,null,"","","",{"$f":"IF(OR(COUNTBLANK($A101)=1,COUNTBLANK(B101:U101)=20),\"\",RANK(X101,$X$3:$X$102,0))","v":""},{"$f":"IF(OR(COUNTBLANK($A101)=1,COUNTBLANK(B101:U101)=20),\"\",placingpoints(Y101,COUNTIF(Y$3:Y$102,\"=\"&Y101)))","v":""},null,"","","",null,{"$f":"IF(COUNTBLANK(AD101)=1,\"\",IF(OR(AJ101=LEFT(AF$1,1),AJ101=RIGHT(AF$1,1)),COUNTIF(AJ$2:AJ101,LEFT(AF$1,1))+COUNTIF(AJ$2:AJ101,RIGHT(AF$1,1)),\"\"))","v":""},{"$f":"IF(COUNTBLANK(AD101)=1,\"\",IF(OR(AJ101=LEFT(AG$1,1),AJ101=RIGHT(AG$1,1)),COUNTIF(AJ$2:AJ101,LEFT(AG$1,1))+COUNTIF(AJ$2:AJ101,RIGHT(AG$1,1)),\"\"))","v":""},{"$f":"IF(COUNTBLANK(AD101)=1,\"\",IF(OR(AJ101=LEFT(AH$1,1),AJ101=RIGHT(AH$1,1)),COUNTIF(AJ$2:AJ101,LEFT(AH$1,1))+COUNTIF(AJ$2:AJ101,RIGHT(AH$1,1)),\"\"))","v":""},{"$f":"IF(COUNTBLANK(AD101)=1,\"\",IF(OR(AK101=LEFT(AI$1,1),AK101=RIGHT(AI$1,1)),COUNTIF(AK$2:AK101,LEFT(AI$1,1))+COUNTIF(AK$2:AK101,RIGHT(AI$1,1)),\"\"))","v":""},{"$f":"IF(COUNTBLANK(AD101)=1,\"\",INDEX(Registration!$C$2:$C$101,MATCH(AD101,Registration!$B$2:$B$101,0)))","v":""},{"$f":"IF(COUNTBLANK(AD101)=1,\"\",IF(COUNTBLANK(INDEX(Registration!$D$2:$D$101,MATCH(AD101,Registration!$B$2:$B$101,0)))=1,\"\",INDEX(Registration!$D$2:$D$101,MATCH(AD101,Registration!$B$2:$B$101,0))))","v":""}]
[{"$f":"IF(COUNTBLANK(Registration!B101)=1,\"\",Registration!B101)","v":""},null,null,null,null,null,null,null,null,null,null,null,null,null,null,null,null,null,null,null,null,"","","",{"$f":"IF(OR(COUNTBLANK($A102)=1,COUNTBLANK(B102:U102)=20),\"\",RANK(X102,$X$3:$X$102,0))","v":""},{"$f":"IF(OR(COUNTBLANK($A102)=1,COUNTBLANK(B102:U102)=20),\"\",placingpoints(Y102,COUNTIF(Y$3:Y$102,\"=\"&Y102)))","v":""},null,"","",""]

{"sheet":"Fast Catch","index":5,"n_rows":101,"n_cols":23,"rows_kept":101,"cut":false,"hidden":false,"merged":[]}
[{"$f":"Registration!B1","v":"Name"},"Round 1","Round 2","Round 1 Time","Round 2 Time","Score","Place","Points",null,"Enter the number of catches",null,null,null,"Points","Score","Name",null,"SA","OI","NB","JW","Division","Category"]
[{"$f":"IF(COUNTBLANK(Registration!B2)=1,\"\",Registration!B2)","v":""},null,null,{"$f":"IF(COUNTBLANK($A2)=1,\"\",IF(OR(B2<0,C2<0),999,IF(OR(B2=0,B2=\"0c\"),600,IF(OR(B2=1,B2=\"1c\"),310,IF(OR(B2=2,B2=\"2c\"),160,IF(OR(B2=3,B2=\"3c\"),110,IF(OR(B2=4,B2=\"4c\"),85,B2)))))))","v":""},{"$f":"IF(COUNTBLANK($A2)=1,\"\",IF(OR(B2<0,C2<0),999,IF(OR(C2=0,C2=\"0c\"),600,IF(OR(C2=1,C2=\"1c\"),310,IF(OR(C2=2,C2=\"2c\"),160,IF(OR(C2=3,C2=\"3c\"),110,IF(OR(C2=4,C2=\"4c\"),85,C2)))))))","v":""},{"$f":"IF(OR(COUNTBLANK($A2)=1,COUNTBLANK(B2:C2)=2),\"\",IF(COUNTBLANK(B2:C2)=2,600,MIN(D2:E2)))","v":""},{"$f":"IF(OR(COUNTBLANK($A2)=1,COUNTBLANK(B2:C2)=2),\"\",RANK(F2,$F$2:$F$101,1))","v":""},{"$f":"IF(OR(COUNTBLANK($A2)=1,COUNTBLANK(B2:C2)=2),\"\",placingpoints(G2,COUNTIF(G$2:G$101,\"=\"&G2)))","v":""},null,"if no time was scored.",null,null,null,null,null,null,null,{"$f":"IF(COUNTBLANK(P2)=1,\"\",IF(OR(V2=LEFT(R$1,1),V2=RIGHT(R$1,1)),COUNTIF(V$2:V2,LEFT(R$1,1))+COUNTIF(V$2:V2,RIGHT(R$1,1)),\"\"))","v":""},{"$f":"IF(COUNTBLANK(P2)=1,\"\",IF(OR(V2=LEFT(S$1,1),V2=RIGHT(S$1,1)),COUNTIF(V$2:V2,LEFT(S$1,1))+COUNTIF(V$2:V2,RIGHT(S$1,1)),\"\"))","v":""},{"$f":"IF(COUNTBLANK(P2)=1,\"\",IF(OR(V2=LEFT(T$1,1),V2=RIGHT(T$1,1)),COUNTIF(V$2:V2,LEFT(T$1,1))+COUNTIF(V$2:V2,RIGHT(T$1,1)),\"\"))","v":""},{"$f":"IF(COUNTBLANK(P2)=1,\"\",IF(OR(W2=LEFT(U$1,1),W2=RIGHT(U$1,1)),COUNTIF(W$2:W2,LEFT(U$1,1))+COUNTIF(W$2:W2,RIGHT(U$1,1)),\"\"))","v":""},{"$f":"IF(COUNTBLANK(P2)=1,\"\",INDEX(Registration!$C$2:$C$101,MATCH(P2,Registration!$B$2:$B$101,0)))","v":""},{"$f":"IF(COUNTBLANK(P2)=1,\"\",IF(COUNTBLANK(INDEX(Registration!$D$2:$D$101,MATCH(P2,Registration!$B$2:$B$101,0)))=1,\"\",INDEX(Registration!$D$2:$D$101,MATCH(P2,Registration!$B$2:$B$101,0))))","v":""}]
[{"$f":"IF(COUNTBLANK(Registration!B3)=1,\"\",Registration!B3)","v":""},null,null,"","",{"$f":"IF(OR(COUNTBLANK($A3)=1,COUNTBLANK(B3:C3)=2),\"\",IF(COUNTBLANK(B3:C3)=2,600,MIN(D3:E3)))","v":""},{"$f":"IF(OR(COUNTBLANK($A3)=1,COUNTBLANK(B3:C3)=2),\"\",RANK(F3,$F$2:$F$101,1))","v":""},{"$f":"IF(OR(COUNTBLANK($A3)=1,COUNTBLANK(B3:C3)=2),\"\",placingpoints(G3,COUNTIF(G$2:G$101,\"=\"&G3)))","v":""},null,"An \"equivalent\" time will be",null,null,null,null,null,null,null,{"$f":"IF(COUNTBLANK(P3)=1,\"\",IF(OR(V3=LEFT(R$1,1),V3=RIGHT(R$1,1)),COUNTIF(V$2:V3,LEFT(R$1,1))+COUNTIF(V$2:V3,RIGHT(R$1,1)),\"\"))","v":""},{"$f":"IF(COUNTBLANK(P3)=1,\"\",IF(OR(V3=LEFT(S$1,1),V3=RIGHT(S$1,1)),COUNTIF(V$2:V3,LEFT(S$1,1))+COUNTIF(V$2:V3,RIGHT(S$1,1)),\"\"))","v":""},{"$f":"IF(COUNTBLANK(P3)=1,\"\",IF(OR(V3=LEFT(T$1,1),V3=RIGHT(T$1,1)),COUNTIF(V$2:V3,LEFT(T$1,1))+COUNTIF(V$2:V3,RIGHT(T$1,1)),\"\"))","v":""},{"$f":"IF(COUNTBLANK(P3)=1,\"\",IF(OR(W3=LEFT(U$1,1),W3=RIGHT(U$1,1)),COUNTIF(W$2:W3,LEFT(U$1,1))+COUNTIF(W$2:W3,RIGHT(U$1,1)),\"\"))","v":""},{"$f":"IF(COUNTBLANK(P3)=1,\"\",INDEX(Registration!$C$2:$C$101,MATCH(P3,Registration!$B$2:$B$101,0)))","v":""},{"$f":"IF(COUNTBLANK(P3)=1,\"\",IF(COUNTBLANK(INDEX(Registration!$D$2:$D$101,MATCH(P3,Registration!$B$2:$B$101,0)))=1,\"\",INDEX(Registration!$D$2:$D$101,MATCH(P3,Registration!$B$2:$B$101,0))))","v":""}]
[{"$f":"IF(COUNTBLANK(Registration!B4)=1,\"\",Registration!B4)","v":""},null,null,"","","","","",null,"assigned per the table below.",null,null,null,null,null,null,null,{"$f":"IF(COUNTBLANK(P4)=1,\"\",IF(OR(V4=LEFT(R$1,1),V4=RIGHT(R$1,1)),COUNTIF(V$2:V4,LEFT(R$1,1))+COUNTIF(V$2:V4,RIGHT(R$1,1)),\"\"))","v":""},{"$f":"IF(COUNTBLANK(P4)=1,\"\",IF(OR(V4=LEFT(S$1,1),V4=RIGHT(S$1,1)),COUNTIF(V$2:V4,LEFT(S$1,1))+COUNTIF(V$2:V4,RIGHT(S$1,1)),\"\"))","v":""},{"$f":"IF(COUNTBLANK(P4)=1,\"\",IF(OR(V4=LEFT(T$1,1),V4=RIGHT(T$1,1)),COUNTIF(V$2:V4,LEFT(T$1,1))+COUNTIF(V$2:V4,RIGHT(T$1,1)),\"\"))","v":""},{"$f":"IF(COUNTBLANK(P4)=1,\"\",IF(OR(W4=LEFT(U$1,1),W4=RIGHT(U$1,1)),COUNTIF(W$2:W4,LEFT(U$1,1))+COUNTIF(W$2:W4,RIGHT(U$1,1)),\"\"))","v":""},{"$f":"IF(COUNTBLANK(P4)=1,\"\",INDEX(Registration!$C$2:$C$101,MATCH(P4,Registration!$B$2:$B$101,0)))","v":""},{"$f":"IF(COUNTBLANK(P4)=1,\"\",IF(COUNTBLANK(INDEX(Registration!$D$2:$D$101,MATCH(P4,Registration!$B$2:$B$101,0)))=1,\"\",INDEX(Registration!$D$2:$D$101,MATCH(P4,Registration!$B$2:$B$101,0))))","v":""}]
[{"$f":"IF(COUNTBLANK(Registration!B5)=1,\"\",Registration!B5)","v":""},null,null,"","","","","",null,"\"-1\" indicates the thrower did",null,null,null,null,null,null,null,{"$f":"IF(COUNTBLANK(P5)=1,\"\",IF(OR(V5=LEFT(R$1,1),V5=RIGHT(R$1,1)),COUNTIF(V$2:V5,LEFT(R$1,1))+COUNTIF(V$2:V5,RIGHT(R$1,1)),\"\"))","v":""},{"$f":"IF(COUNTBLANK(P5)=1,\"\",IF(OR(V5=LEFT(S$1,1),V5=RIGHT(S$1,1)),COUNTIF(V$2:V5,LEFT(S$1,1))+COUNTIF(V$2:V5,RIGHT(S$1,1)),\"\"))","v":""},{"$f":"IF(COUNTBLANK(P5)=1,\"\",IF(OR(V5=LEFT(T$1,1),V5=RIGHT(T$1,1)),COUNTIF(V$2:V5,LEFT(T$1,1))+COUNTIF(V$2:V5,RIGHT(T$1,1)),\"\"))","v":""},{"$f":"IF(COUNTBLANK(P5)=1,\"\",IF(OR(W5=LEFT(U$1,1),W5=RIGHT(U$1,1)),COUNTIF(W$2:W5,LEFT(U$1,1))+COUNTIF(W$2:W5,RIGHT(U$1,1)),\"\"))","v":""},{"$f":"IF(COUNTBLANK(P5)=1,\"\",INDEX(Registration!$C$2:$C$101,MATCH(P5,Registration!$B$2:$B$101,0)))","v":""},{"$f":"IF(COUNTBLANK(P5)=1,\"\",IF(COUNTBLANK(INDEX(Registration!$D$2:$D$101,MATCH(P5,Registration!$B$2:$B$101,0)))=1,\"\",INDEX(Registration!$D$2:$D$101,MATCH(P5,Registration!$B$2:$B$101,0))))","v":""}]
[{"$f":"IF(COUNTBLANK(Registration!B6)=1,\"\",Registration!B6)","v":""},null,null,"","","","","",null,"not participate in the event.",null,null,null,null,null,null,null,{"$f":"IF(COUNTBLANK(P6)=1,\"\",IF(OR(V6=LEFT(R$1,1),V6=RIGHT(R$1,1)),COUNTIF(V$2:V6,LEFT(R$1,1))+COUNTIF(V$2:V6,RIGHT(R$1,1)),\"\"))","v":""},{"$f":"IF(COUNTBLANK(P6)=1,\"\",IF(OR(V6=LEFT(S$1,1),V6=RIGHT(S$1,1)),COUNTIF(V$2:V6,LEFT(S$1,1))+COUNTIF(V$2:V6,RIGHT(S$1,1)),\"\"))","v":""},{"$f":"IF(COUNTBLANK(P6)=1,\"\",IF(OR(V6=LEFT(T$1,1),V6=RIGHT(T$1,1)),COUNTIF(V$2:V6,LEFT(T$1,1))+COUNTIF(V$2:V6,RIGHT(T$1,1)),\"\"))","v":""},{"$f":"IF(COUNTBLANK(P6)=1,\"\",IF(OR(W6=LEFT(U$1,1),W6=RIGHT(U$1,1)),COUNTIF(W$2:W6,LEFT(U$1,1))+COUNTIF(W$2:W6,RIGHT(U$1,1)),\"\"))","v":""},{"$f":"IF(COUNTBLANK(P6)=1,\"\",INDEX(Registration!$C$2:$C$101,MATCH(P6,Registration!$B$2:$B$101,0)))","v":""},{"$f":"IF(COUNTBLANK(P6)=1,\"\",IF(COUNTBLANK(INDEX(Registration!$D$2:$D$101,MATCH(P6,Registration!$B$2:$B$101,0)))=1,\"\",INDEX(Registration!$D$2:$D$101,MATCH(P6,Registration!$B$2:$B$101,0))))","v":""}]
[{"$f":"IF(COUNTBLANK(Registration!B7)=1,\"\",Registration!B7)","v":""},null,null,"","","","","",null,-1,999,null,null,null,null,null,null,{"$f":"IF(COUNTBLANK(P7)=1,\"\",IF(OR(V7=LEFT(R$1,1),V7=RIGHT(R$1,1)),COUNTIF(V$2:V7,LEFT(R$1,1))+COUNTIF(V$2:V7,RIGHT(R$1,1)),\"\"))","v":""},{"$f":"IF(COUNTBLANK(P7)=1,\"\",IF(OR(V7=LEFT(S$1,1),V7=RIGHT(S$1,1)),COUNTIF(V$2:V7,LEFT(S$1,1))+COUNTIF(V$2:V7,RIGHT(S$1,1)),\"\"))","v":""},{"$f":"IF(COUNTBLANK(P7)=1,\"\",IF(OR(V7=LEFT(T$1,1),V7=RIGHT(T$1,1)),COUNTIF(V$2:V7,LEFT(T$1,1))+COUNTIF(V$2:V7,RIGHT(T$1,1)),\"\"))","v":""},{"$f":"IF(COUNTBLANK(P7)=1,\"\",IF(OR(W7=LEFT(U$1,1),W7=RIGHT(U$1,1)),COUNTIF(W$2:W7,LEFT(U$1,1))+COUNTIF(W$2:W7,RIGHT(U$1,1)),\"\"))","v":""},{"$f":"IF(COUNTBLANK(P7)=1,\"\",INDEX(Registration!$C$2:$C$101,MATCH(P7,Registration!$B$2:$B$101,0)))","v":""},{"$f":"IF(COUNTBLANK(P7)=1,\"\",IF(COUNTBLANK(INDEX(Registration!$D$2:$D$101,MATCH(P7,Registration!$B$2:$B$101,0)))=1,\"\",INDEX(Registration!$D$2:$D$101,MATCH(P7,Registration!$B$2:$B$101,0))))","v":""}]
[{"$f":"IF(COUNTBLANK(Registration!B8)=1,\"\",Registration!B8)","v":""},null,null,"","","","","",null,"0c",600,null,null,null,null,null,null,{"$f":"IF(COUNTBLANK(P8)=1,\"\",IF(OR(V8=LEFT(R$1,1),V8=RIGHT(R$1,1)),COUNTIF(V$2:V8,LEFT(R$1,1))+COUNTIF(V$2:V8,RIGHT(R$1,1)),\"\"))","v":""},{"$f":"IF(COUNTBLANK(P8)=1,\"\",IF(OR(V8=LEFT(S$1,1),V8=RIGHT(S$1,1)),COUNTIF(V$2:V8,LEFT(S$1,1))+COUNTIF(V$2:V8,RIGHT(S$1,1)),\"\"))","v":""},{"$f":"IF(COUNTBLANK(P8)=1,\"\",IF(OR(V8=LEFT(T$1,1),V8=RIGHT(T$1,1)),COUNTIF(V$2:V8,LEFT(T$1,1))+COUNTIF(V$2:V8,RIGHT(T$1,1)),\"\"))","v":""},{"$f":"IF(COUNTBLANK(P8)=1,\"\",IF(OR(W8=LEFT(U$1,1),W8=RIGHT(U$1,1)),COUNTIF(W$2:W8,LEFT(U$1,1))+COUNTIF(W$2:W8,RIGHT(U$1,1)),\"\"))","v":""},{"$f":"IF(COUNTBLANK(P8)=1,\"\",INDEX(Registration!$C$2:$C$101,MATCH(P8,Registration!$B$2:$B$101,0)))","v":""},{"$f":"IF(COUNTBLANK(P8)=1,\"\",IF(COUNTBLANK(INDEX(Registration!$D$2:$D$101,MATCH(P8,Registration!$B$2:$B$101,0)))=1,\"\",INDEX(Registration!$D$2:$D$101,MATCH(P8,Registration!$B$2:$B$101,0))))","v":""}]
[{"$f":"IF(COUNTBLANK(Registration!B9)=1,\"\",Registration!B9)","v":""},null,null,"","","","","",null,"1c",310,null,null,null,null,null,null,{"$f":"IF(COUNTBLANK(P9)=1,\"\",IF(OR(V9=LEFT(R$1,1),V9=RIGHT(R$1,1)),COUNTIF(V$2:V9,LEFT(R$1,1))+COUNTIF(V$2:V9,RIGHT(R$1,1)),\"\"))","v":""},{"$f":"IF(COUNTBLANK(P9)=1,\"\",IF(OR(V9=LEFT(S$1,1),V9=RIGHT(S$1,1)),COUNTIF(V$2:V9,LEFT(S$1,1))+COUNTIF(V$2:V9,RIGHT(S$1,1)),\"\"))","v":""},{"$f":"IF(COUNTBLANK(P9)=1,\"\",IF(OR(V9=LEFT(T$1,1),V9=RIGHT(T$1,1)),COUNTIF(V$2:V9,LEFT(T$1,1))+COUNTIF(V$2:V9,RIGHT(T$1,1)),\"\"))","v":""},{"$f":"IF(COUNTBLANK(P9)=1,\"\",IF(OR(W9=LEFT(U$1,1),W9=RIGHT(U$1,1)),COUNTIF(W$2:W9,LEFT(U$1,1))+COUNTIF(W$2:W9,RIGHT(U$1,1)),\"\"))","v":""},{"$f":"IF(COUNTBLANK(P9)=1,\"\",INDEX(Registration!$C$2:$C$101,MATCH(P9,Registration!$B$2:$B$101,0)))","v":""},{"$f":"IF(COUNTBLANK(P9)=1,\"\",IF(COUNTBLANK(INDEX(Registration!$D$2:$D$101,MATCH(P9,Registration!$B$2:$B$101,0)))=1,\"\",INDEX(Registration!$D$2:$D$101,MATCH(P9,Registration!$B$2:$B$101,0))))","v":""}]
[{"$f":"IF(COUNTBLANK(Registration!B10)=1,\"\",Registration!B10)","v":""},null,null,"","","","","",null,"2c",160,null,null,null,null,null,null,{"$f":"IF(COUNTBLANK(P10)=1,\"\",IF(OR(V10=LEFT(R$1,1),V10=RIGHT(R$1,1)),COUNTIF(V$2:V10,LEFT(R$1,1))+COUNTIF(V$2:V10,RIGHT(R$1,1)),\"\"))","v":""},{"$f":"IF(COUNTBLANK(P10)=1,\"\",IF(OR(V10=LEFT(S$1,1),V10=RIGHT(S$1,1)),COUNTIF(V$2:V10,LEFT(S$1,1))+COUNTIF(V$2:V10,RIGHT(S$1,1)),\"\"))","v":""},{"$f":"IF(COUNTBLANK(P10)=1,\"\",IF(OR(V10=LEFT(T$1,1),V10=RIGHT(T$1,1)),COUNTIF(V$2:V10,LEFT(T$1,1))+COUNTIF(V$2:V10,RIGHT(T$1,1)),\"\"))","v":""},{"$f":"IF(COUNTBLANK(P10)=1,\"\",IF(OR(W10=LEFT(U$1,1),W10=RIGHT(U$1,1)),COUNTIF(W$2:W10,LEFT(U$1,1))+COUNTIF(W$2:W10,RIGHT(U$1,1)),\"\"))","v":""},{"$f":"IF(COUNTBLANK(P10)=1,\"\",INDEX(Registration!$C$2:$C$101,MATCH(P10,Registration!$B$2:$B$101,0)))","v":""},{"$f":"IF(COUNTBLANK(P10)=1,\"\",IF(COUNTBLANK(INDEX(Registration!$D$2:$D$101,MATCH(P10,Registration!$B$2:$B$101,0)))=1,\"\",INDEX(Registration!$D$2:$D$101,MATCH(P10,Registration!$B$2:$B$101,0))))","v":""}]
[{"$f":"IF(COUNTBLANK(Registration!B11)=1,\"\",Registration!B11)","v":""},null,null,"","","","","",null,"3c",110,null,null,null,null,null,null,{"$f":"IF(COUNTBLANK(P11)=1,\"\",IF(OR(V11=LEFT(R$1,1),V11=RIGHT(R$1,1)),COUNTIF(V$2:V11,LEFT(R$1,1))+COUNTIF(V$2:V11,RIGHT(R$1,1)),\"\"))","v":""},{"$f":"IF(COUNTBLANK(P11)=1,\"\",IF(OR(V11=LEFT(S$1,1),V11=RIGHT(S$1,1)),COUNTIF(V$2:V11,LEFT(S$1,1))+COUNTIF(V$2:V11,RIGHT(S$1,1)),\"\"))","v":""},{"$f":"IF(COUNTBLANK(P11)=1,\"\",IF(OR(V11=LEFT(T$1,1),V11=RIGHT(T$1,1)),COUNTIF(V$2:V11,LEFT(T$1,1))+COUNTIF(V$2:V11,RIGHT(T$1,1)),\"\"))","v":""},{"$f":"IF(COUNTBLANK(P11)=1,\"\",IF(OR(W11=LEFT(U$1,1),W11=RIGHT(U$1,1)),COUNTIF(W$2:W11,LEFT(U$1,1))+COUNTIF(W$2:W11,RIGHT(U$1,1)),\"\"))","v":""},{"$f":"IF(COUNTBLANK(P11)=1,\"\",INDEX(Registration!$C$2:$C$101,MATCH(P11,Registration!$B$2:$B$101,0)))","v":""},{"$f":"IF(COUNTBLANK(P11)=1,\"\",IF(COUNTBLANK(INDEX(Registration!$D$2:$D$101,MATCH(P11,Registration!$B$2:$B$101,0)))=1,\"\",INDEX(Registration!$D$2:$D$101,MATCH(P11,Registration!$B$2:$B$101,0))))","v":""}]
[{"$f":"IF(COUNTBLANK(Registration!B12)=1,\"\",Registration!B12)","v":""},null,null,"","","","","",null,"4c",85,null,null,null,null,null,null,{"$f":"IF(COUNTBLANK(P12)=1,\"\",IF(OR(V12=LEFT(R$1,1),V12=RIGHT(R$1,1)),COUNTIF(V$2:V12,LEFT(R$1,1))+COUNTIF(V$2:V12,RIGHT(R$1,1)),\"\"))","v":""},{"$f":"IF(COUNTBLANK(P12)=1,\"\",IF(OR(V12=LEFT(S$1,1),V12=RIGHT(S$1,1)),COUNTIF(V$2:V12,LEFT(S$1,1))+COUNTIF(V$2:V12,RIGHT(S$1,1)),\"\"))","v":""},{"$f":"IF(COUNTBLANK(P12)=1,\"\",IF(OR(V12=LEFT(T$1,1),V12=RIGHT(T$1,1)),COUNTIF(V$2:V12,LEFT(T$1,1))+COUNTIF(V$2:V12,RIGHT(T$1,1)),\"\"))","v":""},{"$f":"IF(COUNTBLANK(P12)=1,\"\",IF(OR(W12=LEFT(U$1,1),W12=RIGHT(U$1,1)),COUNTIF(W$2:W12,LEFT(U$1,1))+COUNTIF(W$2:W12,RIGHT(U$1,1)),\"\"))","v":""},{"$f":"IF(COUNTBLANK(P12)=1,\"\",INDEX(Registration!$C$2:$C$101,MATCH(P12,Registration!$B$2:$B$101,0)))","v":""},{"$f":"IF(COUNTBLANK(P12)=1,\"\",IF(COUNTBLANK(INDEX(Registration!$D$2:$D$101,MATCH(P12,Registration!$B$2:$B$101,0)))=1,\"\",INDEX(Registration!$D$2:$D$101,MATCH(P12,Registration!$B$2:$B$101,0))))","v":""}]
[{"$f":"IF(COUNTBLANK(Registration!B13)=1,\"\",Registration!B13)","v":""},null,null,"","","","","",null,null,null,null,null,null,null,null,null,{"$f":"IF(COUNTBLANK(P13)=1,\"\",IF(OR(V13=LEFT(R$1,1),V13=RIGHT(R$1,1)),COUNTIF(V$2:V13,LEFT(R$1,1))+COUNTIF(V$2:V13,RIGHT(R$1,1)),\"\"))","v":""},{"$f":"IF(COUNTBLANK(P13)=1,\"\",IF(OR(V13=LEFT(S$1,1),V13=RIGHT(S$1,1)),COUNTIF(V$2:V13,LEFT(S$1,1))+COUNTIF(V$2:V13,RIGHT(S$1,1)),\"\"))","v":""},{"$f":"IF(COUNTBLANK(P13)=1,\"\",IF(OR(V13=LEFT(T$1,1),V13=RIGHT(T$1,1)),COUNTIF(V$2:V13,LEFT(T$1,1))+COUNTIF(V$2:V13,RIGHT(T$1,1)),\"\"))","v":""},{"$f":"IF(COUNTBLANK(P13)=1,\"\",IF(OR(W13=LEFT(U$1,1),W13=RIGHT(U$1,1)),COUNTIF(W$2:W13,LEFT(U$1,1))+COUNTIF(W$2:W13,RIGHT(U$1,1)),\"\"))","v":""},{"$f":"IF(COUNTBLANK(P13)=1,\"\",INDEX(Registration!$C$2:$C$101,MATCH(P13,Registration!$B$2:$B$101,0)))","v":""},{"$f":"IF(COUNTBLANK(P13)=1,\"\",IF(COUNTBLANK(INDEX(Registration!$D$2:$D$101,MATCH(P13,Registration!$B$2:$B$101,0)))=1,\"\",INDEX(Registration!$D$2:$D$101,MATCH(P13,Registration!$B$2:$B$101,0))))","v":""}]
[{"$f":"IF(COUNTBLANK(Registration!B14)=1,\"\",Registration!B14)","v":""},null,null,"","","","","",null,null,null,null,null,null,null,null,null,{"$f":"IF(COUNTBLANK(P14)=1,\"\",IF(OR(V14=LEFT(R$1,1),V14=RIGHT(R$1,1)),COUNTIF(V$2:V14,LEFT(R$1,1))+COUNTIF(V$2:V14,RIGHT(R$1,1)),\"\"))","v":""},{"$f":"IF(COUNTBLANK(P14)=1,\"\",IF(OR(V14=LEFT(S$1,1),V14=RIGHT(S$1,1)),COUNTIF(V$2:V14,LEFT(S$1,1))+COUNTIF(V$2:V14,RIGHT(S$1,1)),\"\"))","v":""},{"$f":"IF(COUNTBLANK(P14)=1,\"\",IF(OR(V14=LEFT(T$1,1),V14=RIGHT(T$1,1)),COUNTIF(V$2:V14,LEFT(T$1,1))+COUNTIF(V$2:V14,RIGHT(T$1,1)),\"\"))","v":""},{"$f":"IF(COUNTBLANK(P14)=1,\"\",IF(OR(W14=LEFT(U$1,1),W14=RIGHT(U$1,1)),COUNTIF(W$2:W14,LEFT(U$1,1))+COUNTIF(W$2:W14,RIGHT(U$1,1)),\"\"))","v":""},{"$f":"IF(COUNTBLANK(P14)=1,\"\",INDEX(Registration!$C$2:$C$101,MATCH(P14,Registration!$B$2:$B$101,0)))","v":""},{"$f":"IF(COUNTBLANK(P14)=1,\"\",IF(COUNTBLANK(INDEX(Registration!$D$2:$D$101,MATCH(P14,Registration!$B$2:$B$101,0)))=1,\"\",INDEX(Registration!$D$2:$D$101,MATCH(P14,Registration!$B$2:$B$101,0))))","v":""}]
[{"$f":"IF(COUNTBLANK(Registration!B15)=1,\"\",Registration!B15)","v":""},null,null,"","","","","",null,null,null,null,null,null,null,null,null,{"$f":"IF(COUNTBLANK(P15)=1,\"\",IF(OR(V15=LEFT(R$1,1),V15=RIGHT(R$1,1)),COUNTIF(V$2:V15,LEFT(R$1,1))+COUNTIF(V$2:V15,RIGHT(R$1,1)),\"\"))","v":""},{"$f":"IF(COUNTBLANK(P15)=1,\"\",IF(OR(V15=LEFT(S$1,1),V15=RIGHT(S$1,1)),COUNTIF(V$2:V15,LEFT(S$1,1))+COUNTIF(V$2:V15,RIGHT(S$1,1)),\"\"))","v":""},{"$f":"IF(COUNTBLANK(P15)=1,\"\",IF(OR(V15=LEFT(T$1,1),V15=RIGHT(T$1,1)),COUNTIF(V$2:V15,LEFT(T$1,1))+COUNTIF(V$2:V15,RIGHT(T$1,1)),\"\"))","v":""},{"$f":"IF(COUNTBLANK(P15)=1,\"\",IF(OR(W15=LEFT(U$1,1),W15=RIGHT(U$1,1)),COUNTIF(W$2:W15,LEFT(U$1,1))+COUNTIF(W$2:W15,RIGHT(U$1,1)),\"\"))","v":""},{"$f":"IF(COUNTBLANK(P15)=1,\"\",INDEX(Registration!$C$2:$C$101,MATCH(P15,Registration!$B$2:$B$101,0)))","v":""},{"$f":"IF(COUNTBLANK(P15)=1,\"\",IF(COUNTBLANK(INDEX(Registration!$D$2:$D$101,MATCH(P15,Registration!$B$2:$B$101,0)))=1,\"\",INDEX(Registration!$D$2:$D$101,MATCH(P15,Registration!$B$2:$B$101,0))))","v":""}]
[{"$f":"IF(COUNTBLANK(Registration!B16)=1,\"\",Registration!B16)","v":""},null,null,"","","","","",null,null,null,null,null,null,null,null,null,{"$f":"IF(COUNTBLANK(P16)=1,\"\",IF(OR(V16=LEFT(R$1,1),V16=RIGHT(R$1,1)),COUNTIF(V$2:V16,LEFT(R$1,1))+COUNTIF(V$2:V16,RIGHT(R$1,1)),\"\"))","v":""},{"$f":"IF(COUNTBLANK(P16)=1,\"\",IF(OR(V16=LEFT(S$1,1),V16=RIGHT(S$1,1)),COUNTIF(V$2:V16,LEFT(S$1,1))+COUNTIF(V$2:V16,RIGHT(S$1,1)),\"\"))","v":""},{"$f":"IF(COUNTBLANK(P16)=1,\"\",IF(OR(V16=LEFT(T$1,1),V16=RIGHT(T$1,1)),COUNTIF(V$2:V16,LEFT(T$1,1))+COUNTIF(V$2:V16,RIGHT(T$1,1)),\"\"))","v":""},{"$f":"IF(COUNTBLANK(P16)=1,\"\",IF(OR(W16=LEFT(U$1,1),W16=RIGHT(U$1,1)),COUNTIF(W$2:W16,LEFT(U$1,1))+COUNTIF(W$2:W16,RIGHT(U$1,1)),\"\"))","v":""},{"$f":"IF(COUNTBLANK(P16)=1,\"\",INDEX(Registration!$C$2:$C$101,MATCH(P16,Registration!$B$2:$B$101,0)))","v":""},{"$f":"IF(COUNTBLANK(P16)=1,\"\",IF(COUNTBLANK(INDEX(Registration!$D$2:$D$101,MATCH(P16,Registration!$B$2:$B$101,0)))=1,\"\",INDEX(Registration!$D$2:$D$101,MATCH(P16,Registration!$B$2:$B$101,0))))","v":""}]
[{"$f":"IF(COUNTBLANK(Registration!B17)=1,\"\",Registration!B17)","v":""},null,null,"","","","","",null,null,null,null,null,null,null,null,null,{"$f":"IF(COUNTBLANK(P17)=1,\"\",IF(OR(V17=LEFT(R$1,1),V17=RIGHT(R$1,1)),COUNTIF(V$2:V17,LEFT(R$1,1))+COUNTIF(V$2:V17,RIGHT(R$1,1)),\"\"))","v":""},{"$f":"IF(COUNTBLANK(P17)=1,\"\",IF(OR(V17=LEFT(S$1,1),V17=RIGHT(S$1,1)),COUNTIF(V$2:V17,LEFT(S$1,1))+COUNTIF(V$2:V17,RIGHT(S$1,1)),\"\"))","v":""},{"$f":"IF(COUNTBLANK(P17)=1,\"\",IF(OR(V17=LEFT(T$1,1),V17=RIGHT(T$1,1)),COUNTIF(V$2:V17,LEFT(T$1,1))+COUNTIF(V$2:V17,RIGHT(T$1,1)),\"\"))","v":""},{"$f":"IF(COUNTBLANK(P17)=1,\"\",IF(OR(W17=LEFT(U$1,1),W17=RIGHT(U$1,1)),COUNTIF(W$2:W17,LEFT(U$1,1))+COUNTIF(W$2:W17,RIGHT(U$1,1)),\"\"))","v":""},{"$f":"IF(COUNTBLANK(P17)=1,\"\",INDEX(Registration!$C$2:$C$101,MATCH(P17,Registration!$B$2:$B$101,0)))","v":""},{"$f":"IF(COUNTBLANK(P17)=1,\"\",IF(COUNTBLANK(INDEX(Registration!$D$2:$D$101,MATCH(P17,Registration!$B$2:$B$101,0)))=1,\"\",INDEX(Registration!$D$2:$D$101,MATCH(P17,Registration!$B$2:$B$101,0))))","v":""}]
[{"$f":"IF(COUNTBLANK(Registration!B18)=1,\"\",Registration!B18)","v":""},null,null,{"$f":"IF(COUNTBLANK($A18)=1,\"\",IF(OR(B18<0,C18<0),999,IF(OR(B18=0,B18=\"0c\"),600,IF(OR(B18=1,B18=\"1c\"),310,IF(OR(B18=2,B18=\"2c\"),160,IF(OR(B18=3,B18=\"3c\"),110,IF(OR(B18=4,B18=\"4c\"),85,B18)))))))","v":""},{"$f":"IF(COUNTBLANK($A18)=1,\"\",IF(OR(B18<0,C18<0),999,IF(OR(C18=0,C18=\"0c\"),600,IF(OR(C18=1,C18=\"1c\"),310,IF(OR(C18=2,C18=\"2c\"),160,IF(OR(C18=3,C18=\"3c\"),110,IF(OR(C18=4,C18=\"4c\"),85,C18)))))))","v":""},"","","",null,null,null,null,null,null,null,null,null,{"$f":"IF(COUNTBLANK(P18)=1,\"\",IF(OR(V18=LEFT(R$1,1),V18=RIGHT(R$1,1)),COUNTIF(V$2:V18,LEFT(R$1,1))+COUNTIF(V$2:V18,RIGHT(R$1,1)),\"\"))","v":""},{"$f":"IF(COUNTBLANK(P18)=1,\"\",IF(OR(V18=LEFT(S$1,1),V18=RIGHT(S$1,1)),COUNTIF(V$2:V18,LEFT(S$1,1))+COUNTIF(V$2:V18,RIGHT(S$1,1)),\"\"))","v":""},{"$f":"IF(COUNTBLANK(P18)=1,\"\",IF(OR(V18=LEFT(T$1,1),V18=RIGHT(T$1,1)),COUNTIF(V$2:V18,LEFT(T$1,1))+COUNTIF(V$2:V18,RIGHT(T$1,1)),\"\"))","v":""},{"$f":"IF(COUNTBLANK(P18)=1,\"\",IF(OR(W18=LEFT(U$1,1),W18=RIGHT(U$1,1)),COUNTIF(W$2:W18,LEFT(U$1,1))+COUNTIF(W$2:W18,RIGHT(U$1,1)),\"\"))","v":""},{"$f":"IF(COUNTBLANK(P18)=1,\"\",INDEX(Registration!$C$2:$C$101,MATCH(P18,Registration!$B$2:$B$101,0)))","v":""},{"$f":"IF(COUNTBLANK(P18)=1,\"\",IF(COUNTBLANK(INDEX(Registration!$D$2:$D$101,MATCH(P18,Registration!$B$2:$B$101,0)))=1,\"\",INDEX(Registration!$D$2:$D$101,MATCH(P18,Registration!$B$2:$B$101,0))))","v":""}]
[{"$f":"IF(COUNTBLANK(Registration!B19)=1,\"\",Registration!B19)","v":""},null,null,"","","","","",null,null,null,null,null,null,null,null,null,{"$f":"IF(COUNTBLANK(P19)=1,\"\",IF(OR(V19=LEFT(R$1,1),V19=RIGHT(R$1,1)),COUNTIF(V$2:V19,LEFT(R$1,1))+COUNTIF(V$2:V19,RIGHT(R$1,1)),\"\"))","v":""},{"$f":"IF(COUNTBLANK(P19)=1,\"\",IF(OR(V19=LEFT(S$1,1),V19=RIGHT(S$1,1)),COUNTIF(V$2:V19,LEFT(S$1,1))+COUNTIF(V$2:V19,RIGHT(S$1,1)),\"\"))","v":""},{"$f":"IF(COUNTBLANK(P19)=1,\"\",IF(OR(V19=LEFT(T$1,1),V19=RIGHT(T$1,1)),COUNTIF(V$2:V19,LEFT(T$1,1))+COUNTIF(V$2:V19,RIGHT(T$1,1)),\"\"))","v":""},{"$f":"IF(COUNTBLANK(P19)=1,\"\",IF(OR(W19=LEFT(U$1,1),W19=RIGHT(U$1,1)),COUNTIF(W$2:W19,LEFT(U$1,1))+COUNTIF(W$2:W19,RIGHT(U$1,1)),\"\"))","v":""},{"$f":"IF(COUNTBLANK(P19)=1,\"\",INDEX(Registration!$C$2:$C$101,MATCH(P19,Registration!$B$2:$B$101,0)))","v":""},{"$f":"IF(COUNTBLANK(P19)=1,\"\",IF(COUNTBLANK(INDEX(Registration!$D$2:$D$101,MATCH(P19,Registration!$B$2:$B$101,0)))=1,\"\",INDEX(Registration!$D$2:$D$101,MATCH(P19,Registration!$B$2:$B$101,0))))","v":""}]
[{"$f":"IF(COUNTBLANK(Registration!B20)=1,\"\",Registration!B20)","v":""},null,null,"","","","","",null,null,null,null,null,null,null,null,null,{"$f":"IF(COUNTBLANK(P20)=1,\"\",IF(OR(V20=LEFT(R$1,1),V20=RIGHT(R$1,1)),COUNTIF(V$2:V20,LEFT(R$1,1))+COUNTIF(V$2:V20,RIGHT(R$1,1)),\"\"))","v":""},{"$f":"IF(COUNTBLANK(P20)=1,\"\",IF(OR(V20=LEFT(S$1,1),V20=RIGHT(S$1,1)),COUNTIF(V$2:V20,LEFT(S$1,1))+COUNTIF(V$2:V20,RIGHT(S$1,1)),\"\"))","v":""},{"$f":"IF(COUNTBLANK(P20)=1,\"\",IF(OR(V20=LEFT(T$1,1),V20=RIGHT(T$1,1)),COUNTIF(V$2:V20,LEFT(T$1,1))+COUNTIF(V$2:V20,RIGHT(T$1,1)),\"\"))","v":""},{"$f":"IF(COUNTBLANK(P20)=1,\"\",IF(OR(W20=LEFT(U$1,1),W20=RIGHT(U$1,1)),COUNTIF(W$2:W20,LEFT(U$1,1))+COUNTIF(W$2:W20,RIGHT(U$1,1)),\"\"))","v":""},{"$f":"IF(COUNTBLANK(P20)=1,\"\",INDEX(Registration!$C$2:$C$101,MATCH(P20,Registration!$B$2:$B$101,0)))","v":""},{"$f":"IF(COUNTBLANK(P20)=1,\"\",IF(COUNTBLANK(INDEX(Registration!$D$2:$D$101,MATCH(P20,Registration!$B$2:$B$101,0)))=1,\"\",INDEX(Registration!$D$2:$D$101,MATCH(P20,Registration!$B$2:$B$101,0))))","v":""}]
[{"$f":"IF(COUNTBLANK(Registration!B21)=1,\"\",Registration!B21)","v":""},null,null,"","","","","",null,null,null,null,null,null,null,null,null,{"$f":"IF(COUNTBLANK(P21)=1,\"\",IF(OR(V21=LEFT(R$1,1),V21=RIGHT(R$1,1)),COUNTIF(V$2:V21,LEFT(R$1,1))+COUNTIF(V$2:V21,RIGHT(R$1,1)),\"\"))","v":""},{"$f":"IF(COUNTBLANK(P21)=1,\"\",IF(OR(V21=LEFT(S$1,1),V21=RIGHT(S$1,1)),COUNTIF(V$2:V21,LEFT(S$1,1))+COUNTIF(V$2:V21,RIGHT(S$1,1)),\"\"))","v":""},{"$f":"IF(COUNTBLANK(P21)=1,\"\",IF(OR(V21=LEFT(T$1,1),V21=RIGHT(T$1,1)),COUNTIF(V$2:V21,LEFT(T$1,1))+COUNTIF(V$2:V21,RIGHT(T$1,1)),\"\"))","v":""},{"$f":"IF(COUNTBLANK(P21)=1,\"\",IF(OR(W21=LEFT(U$1,1),W21=RIGHT(U$1,1)),COUNTIF(W$2:W21,LEFT(U$1,1))+COUNTIF(W$2:W21,RIGHT(U$1,1)),\"\"))","v":""},{"$f":"IF(COUNTBLANK(P21)=1,\"\",INDEX(Registration!$C$2:$C$101,MATCH(P21,Registration!$B$2:$B$101,0)))","v":""},{"$f":"IF(COUNTBLANK(P21)=1,\"\",IF(COUNTBLANK(INDEX(Registration!$D$2:$D$101,MATCH(P21,Registration!$B$2:$B$101,0)))=1,\"\",INDEX(Registration!$D$2:$D$101,MATCH(P21,Registration!$B$2:$B$101,0))))","v":""}]
[{"$f":"IF(COUNTBLANK(Registration!B22)=1,\"\",Registration!B22)","v":""},null,null,"","","","","",null,null,null,null,null,null,null,null,null,{"$f":"IF(COUNTBLANK(P22)=1,\"\",IF(OR(V22=LEFT(R$1,1),V22=RIGHT(R$1,1)),COUNTIF(V$2:V22,LEFT(R$1,1))+COUNTIF(V$2:V22,RIGHT(R$1,1)),\"\"))","v":""},{"$f":"IF(COUNTBLANK(P22)=1,\"\",IF(OR(V22=LEFT(S$1,1),V22=RIGHT(S$1,1)),COUNTIF(V$2:V22,LEFT(S$1,1))+COUNTIF(V$2:V22,RIGHT(S$1,1)),\"\"))","v":""},{"$f":"IF(COUNTBLANK(P22)=1,\"\",IF(OR(V22=LEFT(T$1,1),V22=RIGHT(T$1,1)),COUNTIF(V$2:V22,LEFT(T$1,1))+COUNTIF(V$2:V22,RIGHT(T$1,1)),\"\"))","v":""},{"$f":"IF(COUNTBLANK(P22)=1,\"\",IF(OR(W22=LEFT(U$1,1),W22=RIGHT(U$1,1)),COUNTIF(W$2:W22,LEFT(U$1,1))+COUNTIF(W$2:W22,RIGHT(U$1,1)),\"\"))","v":""},{"$f":"IF(COUNTBLANK(P22)=1,\"\",INDEX(Registration!$C$2:$C$101,MATCH(P22,Registration!$B$2:$B$101,0)))","v":""},{"$f":"IF(COUNTBLANK(P22)=1,\"\",IF(COUNTBLANK(INDEX(Registration!$D$2:$D$101,MATCH(P22,Registration!$B$2:$B$101,0)))=1,\"\",INDEX(Registration!$D$2:$D$101,MATCH(P22,Registration!$B$2:$B$101,0))))","v":""}]
[{"$f":"IF(COUNTBLANK(Registration!B23)=1,\"\",Registration!B23)","v":""},null,null,"","","","","",null,null,null,null,null,null,null,null,null,{"$f":"IF(COUNTBLANK(P23)=1,\"\",IF(OR(V23=LEFT(R$1,1),V23=RIGHT(R$1,1)),COUNTIF(V$2:V23,LEFT(R$1,1))+COUNTIF(V$2:V23,RIGHT(R$1,1)),\"\"))","v":""},{"$f":"IF(COUNTBLANK(P23)=1,\"\",IF(OR(V23=LEFT(S$1,1),V23=RIGHT(S$1,1)),COUNTIF(V$2:V23,LEFT(S$1,1))+COUNTIF(V$2:V23,RIGHT(S$1,1)),\"\"))","v":""},{"$f":"IF(COUNTBLANK(P23)=1,\"\",IF(OR(V23=LEFT(T$1,1),V23=RIGHT(T$1,1)),COUNTIF(V$2:V23,LEFT(T$1,1))+COUNTIF(V$2:V23,RIGHT(T$1,1)),\"\"))","v":""},{"$f":"IF(COUNTBLANK(P23)=1,\"\",IF(OR(W23=LEFT(U$1,1),W23=RIGHT(U$1,1)),COUNTIF(W$2:W23,LEFT(U$1,1))+COUNTIF(W$2:W23,RIGHT(U$1,1)),\"\"))","v":""},{"$f":"IF(COUNTBLANK(P23)=1,\"\",INDEX(Registration!$C$2:$C$101,MATCH(P23,Registration!$B$2:$B$101,0)))","v":""},{"$f":"IF(COUNTBLANK(P23)=1,\"\",IF(COUNTBLANK(INDEX(Registration!$D$2:$D$101,MATCH(P23,Registration!$B$2:$B$101,0)))=1,\"\",INDEX(Registration!$D$2:$D$101,MATCH(P23,Registration!$B$2:$B$101,0))))","v":""}]
[{"$f":"IF(COUNTBLANK(Registration!B24)=1,\"\",Registration!B24)","v":""},null,null,"","","","","",null,null,null,null,null,null,null,null,null,{"$f":"IF(COUNTBLANK(P24)=1,\"\",IF(OR(V24=LEFT(R$1,1),V24=RIGHT(R$1,1)),COUNTIF(V$2:V24,LEFT(R$1,1))+COUNTIF(V$2:V24,RIGHT(R$1,1)),\"\"))","v":""},{"$f":"IF(COUNTBLANK(P24)=1,\"\",IF(OR(V24=LEFT(S$1,1),V24=RIGHT(S$1,1)),COUNTIF(V$2:V24,LEFT(S$1,1))+COUNTIF(V$2:V24,RIGHT(S$1,1)),\"\"))","v":""},{"$f":"IF(COUNTBLANK(P24)=1,\"\",IF(OR(V24=LEFT(T$1,1),V24=RIGHT(T$1,1)),COUNTIF(V$2:V24,LEFT(T$1,1))+COUNTIF(V$2:V24,RIGHT(T$1,1)),\"\"))","v":""},{"$f":"IF(COUNTBLANK(P24)=1,\"\",IF(OR(W24=LEFT(U$1,1),W24=RIGHT(U$1,1)),COUNTIF(W$2:W24,LEFT(U$1,1))+COUNTIF(W$2:W24,RIGHT(U$1,1)),\"\"))","v":""},{"$f":"IF(COUNTBLANK(P24)=1,\"\",INDEX(Registration!$C$2:$C$101,MATCH(P24,Registration!$B$2:$B$101,0)))","v":""},{"$f":"IF(COUNTBLANK(P24)=1,\"\",IF(COUNTBLANK(INDEX(Registration!$D$2:$D$101,MATCH(P24,Registration!$B$2:$B$101,0)))=1,\"\",INDEX(Registration!$D$2:$D$101,MATCH(P24,Registration!$B$2:$B$101,0))))","v":""}]
[{"$f":"IF(COUNTBLANK(Registration!B25)=1,\"\",Registration!B25)","v":""},null,null,"","","","","",null,null,null,null,null,null,null,null,null,{"$f":"IF(COUNTBLANK(P25)=1,\"\",IF(OR(V25=LEFT(R$1,1),V25=RIGHT(R$1,1)),COUNTIF(V$2:V25,LEFT(R$1,1))+COUNTIF(V$2:V25,RIGHT(R$1,1)),\"\"))","v":""},{"$f":"IF(COUNTBLANK(P25)=1,\"\",IF(OR(V25=LEFT(S$1,1),V25=RIGHT(S$1,1)),COUNTIF(V$2:V25,LEFT(S$1,1))+COUNTIF(V$2:V25,RIGHT(S$1,1)),\"\"))","v":""},{"$f":"IF(COUNTBLANK(P25)=1,\"\",IF(OR(V25=LEFT(T$1,1),V25=RIGHT(T$1,1)),COUNTIF(V$2:V25,LEFT(T$1,1))+COUNTIF(V$2:V25,RIGHT(T$1,1)),\"\"))","v":""},{"$f":"IF(COUNTBLANK(P25)=1,\"\",IF(OR(W25=LEFT(U$1,1),W25=RIGHT(U$1,1)),COUNTIF(W$2:W25,LEFT(U$1,1))+COUNTIF(W$2:W25,RIGHT(U$1,1)),\"\"))","v":""},{"$f":"IF(COUNTBLANK(P25)=1,\"\",INDEX(Registration!$C$2:$C$101,MATCH(P25,Registration!$B$2:$B$101,0)))","v":""},{"$f":"IF(COUNTBLANK(P25)=1,\"\",IF(COUNTBLANK(INDEX(Registration!$D$2:$D$101,MATCH(P25,Registration!$B$2:$B$101,0)))=1,\"\",INDEX(Registration!$D$2:$D$101,MATCH(P25,Registration!$B$2:$B$101,0))))","v":""}]
[{"$f":"IF(COUNTBLANK(Registration!B26)=1,\"\",Registration!B26)","v":""},null,null,"","","","","",null,null,null,null,null,null,null,null,null,{"$f":"IF(COUNTBLANK(P26)=1,\"\",IF(OR(V26=LEFT(R$1,1),V26=RIGHT(R$1,1)),COUNTIF(V$2:V26,LEFT(R$1,1))+COUNTIF(V$2:V26,RIGHT(R$1,1)),\"\"))","v":""},{"$f":"IF(COUNTBLANK(P26)=1,\"\",IF(OR(V26=LEFT(S$1,1),V26=RIGHT(S$1,1)),COUNTIF(V$2:V26,LEFT(S$1,1))+COUNTIF(V$2:V26,RIGHT(S$1,1)),\"\"))","v":""},{"$f":"IF(COUNTBLANK(P26)=1,\"\",IF(OR(V26=LEFT(T$1,1),V26=RIGHT(T$1,1)),COUNTIF(V$2:V26,LEFT(T$1,1))+COUNTIF(V$2:V26,RIGHT(T$1,1)),\"\"))","v":""},{"$f":"IF(COUNTBLANK(P26)=1,\"\",IF(OR(W26=LEFT(U$1,1),W26=RIGHT(U$1,1)),COUNTIF(W$2:W26,LEFT(U$1,1))+COUNTIF(W$2:W26,RIGHT(U$1,1)),\"\"))","v":""},{"$f":"IF(COUNTBLANK(P26)=1,\"\",INDEX(Registration!$C$2:$C$101,MATCH(P26,Registration!$B$2:$B$101,0)))","v":""},{"$f":"IF(COUNTBLANK(P26)=1,\"\",IF(COUNTBLANK(INDEX(Registration!$D$2:$D$101,MATCH(P26,Registration!$B$2:$B$101,0)))=1,\"\",INDEX(Registration!$D$2:$D$101,MATCH(P26,Registration!$B$2:$B$101,0))))","v":""}]
[{"$f":"IF(COUNTBLANK(Registration!B27)=1,\"\",Registration!B27)","v":""},null,null,"","","","","",null,null,null,null,null,null,null,null,null,{"$f":"IF(COUNTBLANK(P27)=1,\"\",IF(OR(V27=LEFT(R$1,1),V27=RIGHT(R$1,1)),COUNTIF(V$2:V27,LEFT(R$1,1))+COUNTIF(V$2:V27,RIGHT(R$1,1)),\"\"))","v":""},{"$f":"IF(COUNTBLANK(P27)=1,\"\",IF(OR(V27=LEFT(S$1,1),V27=RIGHT(S$1,1)),COUNTIF(V$2:V27,LEFT(S$1,1))+COUNTIF(V$2:V27,RIGHT(S$1,1)),\"\"))","v":""},{"$f":"IF(COUNTBLANK(P27)=1,\"\",IF(OR(V27=LEFT(T$1,1),V27=RIGHT(T$1,1)),COUNTIF(V$2:V27,LEFT(T$1,1))+COUNTIF(V$2:V27,RIGHT(T$1,1)),\"\"))","v":""},{"$f":"IF(COUNTBLANK(P27)=1,\"\",IF(OR(W27=LEFT(U$1,1),W27=RIGHT(U$1,1)),COUNTIF(W$2:W27,LEFT(U$1,1))+COUNTIF(W$2:W27,RIGHT(U$1,1)),\"\"))","v":""},{"$f":"IF(COUNTBLANK(P27)=1,\"\",INDEX(Registration!$C$2:$C$101,MATCH(P27,Registration!$B$2:$B$101,0)))","v":""},{"$f":"IF(COUNTBLANK(P27)=1,\"\",IF(COUNTBLANK(INDEX(Registration!$D$2:$D$101,MATCH(P27,Registration!$B$2:$B$101,0)))=1,\"\",INDEX(Registration!$D$2:$D$101,MATCH(P27,Registration!$B$2:$B$101,0))))","v":""}]
[{"$f":"IF(COUNTBLANK(Registration!B28)=1,\"\",Registration!B28)","v":""},null,null,"","","","","",null,null,null,null,null,null,null,null,null,{"$f":"IF(COUNTBLANK(P28)=1,\"\",IF(OR(V28=LEFT(R$1,1),V28=RIGHT(R$1,1)),COUNTIF(V$2:V28,LEFT(R$1,1))+COUNTIF(V$2:V28,RIGHT(R$1,1)),\"\"))","v":""},{"$f":"IF(COUNTBLANK(P28)=1,\"\",IF(OR(V28=LEFT(S$1,1),V28=RIGHT(S$1,1)),COUNTIF(V$2:V28,LEFT(S$1,1))+COUNTIF(V$2:V28,RIGHT(S$1,1)),\"\"))","v":""},{"$f":"IF(COUNTBLANK(P28)=1,\"\",IF(OR(V28=LEFT(T$1,1),V28=RIGHT(T$1,1)),COUNTIF(V$2:V28,LEFT(T$1,1))+COUNTIF(V$2:V28,RIGHT(T$1,1)),\"\"))","v":""},{"$f":"IF(COUNTBLANK(P28)=1,\"\",IF(OR(W28=LEFT(U$1,1),W28=RIGHT(U$1,1)),COUNTIF(W$2:W28,LEFT(U$1,1))+COUNTIF(W$2:W28,RIGHT(U$1,1)),\"\"))","v":""},{"$f":"IF(COUNTBLANK(P28)=1,\"\",INDEX(Registration!$C$2:$C$101,MATCH(P28,Registration!$B$2:$B$101,0)))","v":""},{"$f":"IF(COUNTBLANK(P28)=1,\"\",IF(COUNTBLANK(INDEX(Registration!$D$2:$D$101,MATCH(P28,Registration!$B$2:$B$101,0)))=1,\"\",INDEX(Registration!$D$2:$D$101,MATCH(P28,Registration!$B$2:$B$101,0))))","v":""}]
[{"$f":"IF(COUNTBLANK(Registration!B29)=1,\"\",Registration!B29)","v":""},null,null,"","","","","",null,null,null,null,null,null,null,null,null,{"$f":"IF(COUNTBLANK(P29)=1,\"\",IF(OR(V29=LEFT(R$1,1),V29=RIGHT(R$1,1)),COUNTIF(V$2:V29,LEFT(R$1,1))+COUNTIF(V$2:V29,RIGHT(R$1,1)),\"\"))","v":""},{"$f":"IF(COUNTBLANK(P29)=1,\"\",IF(OR(V29=LEFT(S$1,1),V29=RIGHT(S$1,1)),COUNTIF(V$2:V29,LEFT(S$1,1))+COUNTIF(V$2:V29,RIGHT(S$1,1)),\"\"))","v":""},{"$f":"IF(COUNTBLANK(P29)=1,\"\",IF(OR(V29=LEFT(T$1,1),V29=RIGHT(T$1,1)),COUNTIF(V$2:V29,LEFT(T$1,1))+COUNTIF(V$2:V29,RIGHT(T$1,1)),\"\"))","v":""},{"$f":"IF(COUNTBLANK(P29)=1,\"\",IF(OR(W29=LEFT(U$1,1),W29=RIGHT(U$1,1)),COUNTIF(W$2:W29,LEFT(U$1,1))+COUNTIF(W$2:W29,RIGHT(U$1,1)),\"\"))","v":""},{"$f":"IF(COUNTBLANK(P29)=1,\"\",INDEX(Registration!$C$2:$C$101,MATCH(P29,Registration!$B$2:$B$101,0)))","v":""},{"$f":"IF(COUNTBLANK(P29)=1,\"\",IF(COUNTBLANK(INDEX(Registration!$D$2:$D$101,MATCH(P29,Registration!$B$2:$B$101,0)))=1,\"\",INDEX(Registration!$D$2:$D$101,MATCH(P29,Registration!$B$2:$B$101,0))))","v":""}]
[{"$f":"IF(COUNTBLANK(Registration!B30)=1,\"\",Registration!B30)","v":""},null,null,"","","","","",null,null,null,null,null,"","","",null,{"$f":"IF(COUNTBLANK(P30)=1,\"\",IF(OR(V30=LEFT(R$1,1),V30=RIGHT(R$1,1)),COUNTIF(V$2:V30,LEFT(R$1,1))+COUNTIF(V$2:V30,RIGHT(R$1,1)),\"\"))","v":""},{"$f":"IF(COUNTBLANK(P30)=1,\"\",IF(OR(V30=LEFT(S$1,1),V30=RIGHT(S$1,1)),COUNTIF(V$2:V30,LEFT(S$1,1))+COUNTIF(V$2:V30,RIGHT(S$1,1)),\"\"))","v":""},{"$f":"IF(COUNTBLANK(P30)=1,\"\",IF(OR(V30=LEFT(T$1,1),V30=RIGHT(T$1,1)),COUNTIF(V$2:V30,LEFT(T$1,1))+COUNTIF(V$2:V30,RIGHT(T$1,1)),\"\"))","v":""},{"$f":"IF(COUNTBLANK(P30)=1,\"\",IF(OR(W30=LEFT(U$1,1),W30=RIGHT(U$1,1)),COUNTIF(W$2:W30,LEFT(U$1,1))+COUNTIF(W$2:W30,RIGHT(U$1,1)),\"\"))","v":""},{"$f":"IF(COUNTBLANK(P30)=1,\"\",INDEX(Registration!$C$2:$C$101,MATCH(P30,Registration!$B$2:$B$101,0)))","v":""},{"$f":"IF(COUNTBLANK(P30)=1,\"\",IF(COUNTBLANK(INDEX(Registration!$D$2:$D$101,MATCH(P30,Registration!$B$2:$B$101,0)))=1,\"\",INDEX(Registration!$D$2:$D$101,MATCH(P30,Registration!$B$2:$B$101,0))))","v":""}]
[{"$f":"IF(COUNTBLANK(Registration!B31)=1,\"\",Registration!B31)","v":""},null,null,"","","","","",null,null,null,null,null,"","","",null,{"$f":"IF(COUNTBLANK(P31)=1,\"\",IF(OR(V31=LEFT(R$1,1),V31=RIGHT(R$1,1)),COUNTIF(V$2:V31,LEFT(R$1,1))+COUNTIF(V$2:V31,RIGHT(R$1,1)),\"\"))","v":""},{"$f":"IF(COUNTBLANK(P31)=1,\"\",IF(OR(V31=LEFT(S$1,1),V31=RIGHT(S$1,1)),COUNTIF(V$2:V31,LEFT(S$1,1))+COUNTIF(V$2:V31,RIGHT(S$1,1)),\"\"))","v":""},{"$f":"IF(COUNTBLANK(P31)=1,\"\",IF(OR(V31=LEFT(T$1,1),V31=RIGHT(T$1,1)),COUNTIF(V$2:V31,LEFT(T$1,1))+COUNTIF(V$2:V31,RIGHT(T$1,1)),\"\"))","v":""},{"$f":"IF(COUNTBLANK(P31)=1,\"\",IF(OR(W31=LEFT(U$1,1),W31=RIGHT(U$1,1)),COUNTIF(W$2:W31,LEFT(U$1,1))+COUNTIF(W$2:W31,RIGHT(U$1,1)),\"\"))","v":""},{"$f":"IF(COUNTBLANK(P31)=1,\"\",INDEX(Registration!$C$2:$C$101,MATCH(P31,Registration!$B$2:$B$101,0)))","v":""},{"$f":"IF(COUNTBLANK(P31)=1,\"\",IF(COUNTBLANK(INDEX(Registration!$D$2:$D$101,MATCH(P31,Registration!$B$2:$B$101,0)))=1,\"\",INDEX(Registration!$D$2:$D$101,MATCH(P31,Registration!$B$2:$B$101,0))))","v":""}]
[{"$f":"IF(COUNTBLANK(Registration!B32)=1,\"\",Registration!B32)","v":""},null,null,"","","","","",null,null,null,null,null,"","","",null,{"$f":"IF(COUNTBLANK(P32)=1,\"\",IF(OR(V32=LEFT(R$1,1),V32=RIGHT(R$1,1)),COUNTIF(V$2:V32,LEFT(R$1,1))+COUNTIF(V$2:V32,RIGHT(R$1,1)),\"\"))","v":""},{"$f":"IF(COUNTBLANK(P32)=1,\"\",IF(OR(V32=LEFT(S$1,1),V32=RIGHT(S$1,1)),COUNTIF(V$2:V32,LEFT(S$1,1))+COUNTIF(V$2:V32,RIGHT(S$1,1)),\"\"))","v":""},{"$f":"IF(COUNTBLANK(P32)=1,\"\",IF(OR(V32=LEFT(T$1,1),V32=RIGHT(T$1,1)),COUNTIF(V$2:V32,LEFT(T$1,1))+COUNTIF(V$2:V32,RIGHT(T$1,1)),\"\"))","v":""},{"$f":"IF(COUNTBLANK(P32)=1,\"\",IF(OR(W32=LEFT(U$1,1),W32=RIGHT(U$1,1)),COUNTIF(W$2:W32,LEFT(U$1,1))+COUNTIF(W$2:W32,RIGHT(U$1,1)),\"\"))","v":""},{"$f":"IF(COUNTBLANK(P32)=1,\"\",INDEX(Registration!$C$2:$C$101,MATCH(P32,Registration!$B$2:$B$101,0)))","v":""},{"$f":"IF(COUNTBLANK(P32)=1,\"\",IF(COUNTBLANK(INDEX(Registration!$D$2:$D$101,MATCH(P32,Registration!$B$2:$B$101,0)))=1,\"\",INDEX(Registration!$D$2:$D$101,MATCH(P32,Registration!$B$2:$B$101,0))))","v":""}]
[{"$f":"IF(COUNTBLANK(Registration!B33)=1,\"\",Registration!B33)","v":""},null,null,"","","","","",null,null,null,null,null,"","","",null,{"$f":"IF(COUNTBLANK(P33)=1,\"\",IF(OR(V33=LEFT(R$1,1),V33=RIGHT(R$1,1)),COUNTIF(V$2:V33,LEFT(R$1,1))+COUNTIF(V$2:V33,RIGHT(R$1,1)),\"\"))","v":""},{"$f":"IF(COUNTBLANK(P33)=1,\"\",IF(OR(V33=LEFT(S$1,1),V33=RIGHT(S$1,1)),COUNTIF(V$2:V33,LEFT(S$1,1))+COUNTIF(V$2:V33,RIGHT(S$1,1)),\"\"))","v":""},{"$f":"IF(COUNTBLANK(P33)=1,\"\",IF(OR(V33=LEFT(T$1,1),V33=RIGHT(T$1,1)),COUNTIF(V$2:V33,LEFT(T$1,1))+COUNTIF(V$2:V33,RIGHT(T$1,1)),\"\"))","v":""},{"$f":"IF(COUNTBLANK(P33)=1,\"\",IF(OR(W33=LEFT(U$1,1),W33=RIGHT(U$1,1)),COUNTIF(W$2:W33,LEFT(U$1,1))+COUNTIF(W$2:W33,RIGHT(U$1,1)),\"\"))","v":""},{"$f":"IF(COUNTBLANK(P33)=1,\"\",INDEX(Registration!$C$2:$C$101,MATCH(P33,Registration!$B$2:$B$101,0)))","v":""},{"$f":"IF(COUNTBLANK(P33)=1,\"\",IF(COUNTBLANK(INDEX(Registration!$D$2:$D$101,MATCH(P33,Registration!$B$2:$B$101,0)))=1,\"\",INDEX(Registration!$D$2:$D$101,MATCH(P33,Registration!$B$2:$B$101,0))))","v":""}]
[{"$f":"IF(COUNTBLANK(Registration!B34)=1,\"\",Registration!B34)","v":""},null,null,"","","","","",null,null,null,null,null,"","","",null,{"$f":"IF(COUNTBLANK(P34)=1,\"\",IF(OR(V34=LEFT(R$1,1),V34=RIGHT(R$1,1)),COUNTIF(V$2:V34,LEFT(R$1,1))+COUNTIF(V$2:V34,RIGHT(R$1,1)),\"\"))","v":""},{"$f":"IF(COUNTBLANK(P34)=1,\"\",IF(OR(V34=LEFT(S$1,1),V34=RIGHT(S$1,1)),COUNTIF(V$2:V34,LEFT(S$1,1))+COUNTIF(V$2:V34,RIGHT(S$1,1)),\"\"))","v":""},{"$f":"IF(COUNTBLANK(P34)=1,\"\",IF(OR(V34=LEFT(T$1,1),V34=RIGHT(T$1,1)),COUNTIF(V$2:V34,LEFT(T$1,1))+COUNTIF(V$2:V34,RIGHT(T$1,1)),\"\"))","v":""},{"$f":"IF(COUNTBLANK(P34)=1,\"\",IF(OR(W34=LEFT(U$1,1),W34=RIGHT(U$1,1)),COUNTIF(W$2:W34,LEFT(U$1,1))+COUNTIF(W$2:W34,RIGHT(U$1,1)),\"\"))","v":""},{"$f":"IF(COUNTBLANK(P34)=1,\"\",INDEX(Registration!$C$2:$C$101,MATCH(P34,Registration!$B$2:$B$101,0)))","v":""},{"$f":"IF(COUNTBLANK(P34)=1,\"\",IF(COUNTBLANK(INDEX(Registration!$D$2:$D$101,MATCH(P34,Registration!$B$2:$B$101,0)))=1,\"\",INDEX(Registration!$D$2:$D$101,MATCH(P34,Registration!$B$2:$B$101,0))))","v":""}]
[{"$f":"IF(COUNTBLANK(Registration!B35)=1,\"\",Registration!B35)","v":""},null,null,"","","","","",null,null,null,null,null,"","","",null,{"$f":"IF(COUNTBLANK(P35)=1,\"\",IF(OR(V35=LEFT(R$1,1),V35=RIGHT(R$1,1)),COUNTIF(V$2:V35,LEFT(R$1,1))+COUNTIF(V$2:V35,RIGHT(R$1,1)),\"\"))","v":""},{"$f":"IF(COUNTBLANK(P35)=1,\"\",IF(OR(V35=LEFT(S$1,1),V35=RIGHT(S$1,1)),COUNTIF(V$2:V35,LEFT(S$1,1))+COUNTIF(V$2:V35,RIGHT(S$1,1)),\"\"))","v":""},{"$f":"IF(COUNTBLANK(P35)=1,\"\",IF(OR(V35=LEFT(T$1,1),V35=RIGHT(T$1,1)),COUNTIF(V$2:V35,LEFT(T$1,1))+COUNTIF(V$2:V35,RIGHT(T$1,1)),\"\"))","v":""},{"$f":"IF(COUNTBLANK(P35)=1,\"\",IF(OR(W35=LEFT(U$1,1),W35=RIGHT(U$1,1)),COUNTIF(W$2:W35,LEFT(U$1,1))+COUNTIF(W$2:W35,RIGHT(U$1,1)),\"\"))","v":""},{"$f":"IF(COUNTBLANK(P35)=1,\"\",INDEX(Registration!$C$2:$C$101,MATCH(P35,Registration!$B$2:$B$101,0)))","v":""},{"$f":"IF(COUNTBLANK(P35)=1,\"\",IF(COUNTBLANK(INDEX(Registration!$D$2:$D$101,MATCH(P35,Registration!$B$2:$B$101,0)))=1,\"\",INDEX(Registration!$D$2:$D$101,MATCH(P35,Registration!$B$2:$B$101,0))))","v":""}]
[{"$f":"IF(COUNTBLANK(Registration!B36)=1,\"\",Registration!B36)","v":""},null,null,"","","","","",null,null,null,null,null,"","","",null,{"$f":"IF(COUNTBLANK(P36)=1,\"\",IF(OR(V36=LEFT(R$1,1),V36=RIGHT(R$1,1)),COUNTIF(V$2:V36,LEFT(R$1,1))+COUNTIF(V$2:V36,RIGHT(R$1,1)),\"\"))","v":""},{"$f":"IF(COUNTBLANK(P36)=1,\"\",IF(OR(V36=LEFT(S$1,1),V36=RIGHT(S$1,1)),COUNTIF(V$2:V36,LEFT(S$1,1))+COUNTIF(V$2:V36,RIGHT(S$1,1)),\"\"))","v":""},{"$f":"IF(COUNTBLANK(P36)=1,\"\",IF(OR(V36=LEFT(T$1,1),V36=RIGHT(T$1,1)),COUNTIF(V$2:V36,LEFT(T$1,1))+COUNTIF(V$2:V36,RIGHT(T$1,1)),\"\"))","v":""},{"$f":"IF(COUNTBLANK(P36)=1,\"\",IF(OR(W36=LEFT(U$1,1),W36=RIGHT(U$1,1)),COUNTIF(W$2:W36,LEFT(U$1,1))+COUNTIF(W$2:W36,RIGHT(U$1,1)),\"\"))","v":""},{"$f":"IF(COUNTBLANK(P36)=1,\"\",INDEX(Registration!$C$2:$C$101,MATCH(P36,Registration!$B$2:$B$101,0)))","v":""},{"$f":"IF(COUNTBLANK(P36)=1,\"\",IF(COUNTBLANK(INDEX(Registration!$D$2:$D$101,MATCH(P36,Registration!$B$2:$B$101,0)))=1,\"\",INDEX(Registration!$D$2:$D$101,MATCH(P36,Registration!$B$2:$B$101,0))))","v":""}]
[{"$f":"IF(COUNTBLANK(Registration!B37)=1,\"\",Registration!B37)","v":""},null,null,"","","","","",null,null,null,null,null,"","","",null,{"$f":"IF(COUNTBLANK(P37)=1,\"\",IF(OR(V37=LEFT(R$1,1),V37=RIGHT(R$1,1)),COUNTIF(V$2:V37,LEFT(R$1,1))+COUNTIF(V$2:V37,RIGHT(R$1,1)),\"\"))","v":""},{"$f":"IF(COUNTBLANK(P37)=1,\"\",IF(OR(V37=LEFT(S$1,1),V37=RIGHT(S$1,1)),COUNTIF(V$2:V37,LEFT(S$1,1))+COUNTIF(V$2:V37,RIGHT(S$1,1)),\"\"))","v":""},{"$f":"IF(COUNTBLANK(P37)=1,\"\",IF(OR(V37=LEFT(T$1,1),V37=RIGHT(T$1,1)),COUNTIF(V$2:V37,LEFT(T$1,1))+COUNTIF(V$2:V37,RIGHT(T$1,1)),\"\"))","v":""},{"$f":"IF(COUNTBLANK(P37)=1,\"\",IF(OR(W37=LEFT(U$1,1),W37=RIGHT(U$1,1)),COUNTIF(W$2:W37,LEFT(U$1,1))+COUNTIF(W$2:W37,RIGHT(U$1,1)),\"\"))","v":""},{"$f":"IF(COUNTBLANK(P37)=1,\"\",INDEX(Registration!$C$2:$C$101,MATCH(P37,Registration!$B$2:$B$101,0)))","v":""},{"$f":"IF(COUNTBLANK(P37)=1,\"\",IF(COUNTBLANK(INDEX(Registration!$D$2:$D$101,MATCH(P37,Registration!$B$2:$B$101,0)))=1,\"\",INDEX(Registration!$D$2:$D$101,MATCH(P37,Registration!$B$2:$B$101,0))))","v":""}]
[{"$f":"IF(COUNTBLANK(Registration!B38)=1,\"\",Registration!B38)","v":""},null,null,"","","","","",null,null,null,null,null,"","","",null,{"$f":"IF(COUNTBLANK(P38)=1,\"\",IF(OR(V38=LEFT(R$1,1),V38=RIGHT(R$1,1)),COUNTIF(V$2:V38,LEFT(R$1,1))+COUNTIF(V$2:V38,RIGHT(R$1,1)),\"\"))","v":""},{"$f":"IF(COUNTBLANK(P38)=1,\"\",IF(OR(V38=LEFT(S$1,1),V38=RIGHT(S$1,1)),COUNTIF(V$2:V38,LEFT(S$1,1))+COUNTIF(V$2:V38,RIGHT(S$1,1)),\"\"))","v":""},{"$f":"IF(COUNTBLANK(P38)=1,\"\",IF(OR(V38=LEFT(T$1,1),V38=RIGHT(T$1,1)),COUNTIF(V$2:V38,LEFT(T$1,1))+COUNTIF(V$2:V38,RIGHT(T$1,1)),\"\"))","v":""},{"$f":"IF(COUNTBLANK(P38)=1,\"\",IF(OR(W38=LEFT(U$1,1),W38=RIGHT(U$1,1)),COUNTIF(W$2:W38,LEFT(U$1,1))+COUNTIF(W$2:W38,RIGHT(U$1,1)),\"\"))","v":""},{"$f":"IF(COUNTBLANK(P38)=1,\"\",INDEX(Registration!$C$2:$C$101,MATCH(P38,Registration!$B$2:$B$101,0)))","v":""},{"$f":"IF(COUNTBLANK(P38)=1,\"\",IF(COUNTBLANK(INDEX(Registration!$D$2:$D$101,MATCH(P38,Registration!$B$2:$B$101,0)))=1,\"\",INDEX(Registration!$D$2:$D$101,MATCH(P38,Registration!$B$2:$B$101,0))))","v":""}]
[{"$f":"IF(COUNTBLANK(Registration!B39)=1,\"\",Registration!B39)","v":""},null,null,"","","","","",null,null,null,null,null,"","","",null,{"$f":"IF(COUNTBLANK(P39)=1,\"\",IF(OR(V39=LEFT(R$1,1),V39=RIGHT(R$1,1)),COUNTIF(V$2:V39,LEFT(R$1,1))+COUNTIF(V$2:V39,RIGHT(R$1,1)),\"\"))","v":""},{"$f":"IF(COUNTBLANK(P39)=1,\"\",IF(OR(V39=LEFT(S$1,1),V39=RIGHT(S$1,1)),COUNTIF(V$2:V39,LEFT(S$1,1))+COUNTIF(V$2:V39,RIGHT(S$1,1)),\"\"))","v":""},{"$f":"IF(COUNTBLANK(P39)=1,\"\",IF(OR(V39=LEFT(T$1,1),V39=RIGHT(T$1,1)),COUNTIF(V$2:V39,LEFT(T$1,1))+COUNTIF(V$2:V39,RIGHT(T$1,1)),\"\"))","v":""},{"$f":"IF(COUNTBLANK(P39)=1,\"\",IF(OR(W39=LEFT(U$1,1),W39=RIGHT(U$1,1)),COUNTIF(W$2:W39,LEFT(U$1,1))+COUNTIF(W$2:W39,RIGHT(U$1,1)),\"\"))","v":""},{"$f":"IF(COUNTBLANK(P39)=1,\"\",INDEX(Registration!$C$2:$C$101,MATCH(P39,Registration!$B$2:$B$101,0)))","v":""},{"$f":"IF(COUNTBLANK(P39)=1,\"\",IF(COUNTBLANK(INDEX(Registration!$D$2:$D$101,MATCH(P39,Registration!$B$2:$B$101,0)))=1,\"\",INDEX(Registration!$D$2:$D$101,MATCH(P39,Registration!$B$2:$B$101,0))))","v":""}]
[{"$f":"IF(COUNTBLANK(Registration!B40)=1,\"\",Registration!B40)","v":""},null,null,"","","","","",null,null,null,null,null,"","","",null,{"$f":"IF(COUNTBLANK(P40)=1,\"\",IF(OR(V40=LEFT(R$1,1),V40=RIGHT(R$1,1)),COUNTIF(V$2:V40,LEFT(R$1,1))+COUNTIF(V$2:V40,RIGHT(R$1,1)),\"\"))","v":""},{"$f":"IF(COUNTBLANK(P40)=1,\"\",IF(OR(V40=LEFT(S$1,1),V40=RIGHT(S$1,1)),COUNTIF(V$2:V40,LEFT(S$1,1))+COUNTIF(V$2:V40,RIGHT(S$1,1)),\"\"))","v":""},{"$f":"IF(COUNTBLANK(P40)=1,\"\",IF(OR(V40=LEFT(T$1,1),V40=RIGHT(T$1,1)),COUNTIF(V$2:V40,LEFT(T$1,1))+COUNTIF(V$2:V40,RIGHT(T$1,1)),\"\"))","v":""},{"$f":"IF(COUNTBLANK(P40)=1,\"\",IF(OR(W40=LEFT(U$1,1),W40=RIGHT(U$1,1)),COUNTIF(W$2:W40,LEFT(U$1,1))+COUNTIF(W$2:W40,RIGHT(U$1,1)),\"\"))","v":""},{"$f":"IF(COUNTBLANK(P40)=1,\"\",INDEX(Registration!$C$2:$C$101,MATCH(P40,Registration!$B$2:$B$101,0)))","v":""},{"$f":"IF(COUNTBLANK(P40)=1,\"\",IF(COUNTBLANK(INDEX(Registration!$D$2:$D$101,MATCH(P40,Registration!$B$2:$B$101,0)))=1,\"\",INDEX(Registration!$D$2:$D$101,MATCH(P40,Registration!$B$2:$B$101,0))))","v":""}]
[{"$f":"IF(COUNTBLANK(Registration!B41)=1,\"\",Registration!B41)","v":""},null,null,"","","","","",null,null,null,null,null,"","","",null,{"$f":"IF(COUNTBLANK(P41)=1,\"\",IF(OR(V41=LEFT(R$1,1),V41=RIGHT(R$1,1)),COUNTIF(V$2:V41,LEFT(R$1,1))+COUNTIF(V$2:V41,RIGHT(R$1,1)),\"\"))","v":""},{"$f":"IF(COUNTBLANK(P41)=1,\"\",IF(OR(V41=LEFT(S$1,1),V41=RIGHT(S$1,1)),COUNTIF(V$2:V41,LEFT(S$1,1))+COUNTIF(V$2:V41,RIGHT(S$1,1)),\"\"))","v":""},{"$f":"IF(COUNTBLANK(P41)=1,\"\",IF(OR(V41=LEFT(T$1,1),V41=RIGHT(T$1,1)),COUNTIF(V$2:V41,LEFT(T$1,1))+COUNTIF(V$2:V41,RIGHT(T$1,1)),\"\"))","v":""},{"$f":"IF(COUNTBLANK(P41)=1,\"\",IF(OR(W41=LEFT(U$1,1),W41=RIGHT(U$1,1)),COUNTIF(W$2:W41,LEFT(U$1,1))+COUNTIF(W$2:W41,RIGHT(U$1,1)),\"\"))","v":""},{"$f":"IF(COUNTBLANK(P41)=1,\"\",INDEX(Registration!$C$2:$C$101,MATCH(P41,Registration!$B$2:$B$101,0)))","v":""},{"$f":"IF(COUNTBLANK(P41)=1,\"\",IF(COUNTBLANK(INDEX(Registration!$D$2:$D$101,MATCH(P41,Registration!$B$2:$B$101,0)))=1,\"\",INDEX(Registration!$D$2:$D$101,MATCH(P41,Registration!$B$2:$B$101,0))))","v":""}]
[{"$f":"IF(COUNTBLANK(Registration!B42)=1,\"\",Registration!B42)","v":""},null,null,"","","","","",null,null,null,null,null,"","","",null,{"$f":"IF(COUNTBLANK(P42)=1,\"\",IF(OR(V42=LEFT(R$1,1),V42=RIGHT(R$1,1)),COUNTIF(V$2:V42,LEFT(R$1,1))+COUNTIF(V$2:V42,RIGHT(R$1,1)),\"\"))","v":""},{"$f":"IF(COUNTBLANK(P42)=1,\"\",IF(OR(V42=LEFT(S$1,1),V42=RIGHT(S$1,1)),COUNTIF(V$2:V42,LEFT(S$1,1))+COUNTIF(V$2:V42,RIGHT(S$1,1)),\"\"))","v":""},{"$f":"IF(COUNTBLANK(P42)=1,\"\",IF(OR(V42=LEFT(T$1,1),V42=RIGHT(T$1,1)),COUNTIF(V$2:V42,LEFT(T$1,1))+COUNTIF(V$2:V42,RIGHT(T$1,1)),\"\"))","v":""},{"$f":"IF(COUNTBLANK(P42)=1,\"\",IF(OR(W42=LEFT(U$1,1),W42=RIGHT(U$1,1)),COUNTIF(W$2:W42,LEFT(U$1,1))+COUNTIF(W$2:W42,RIGHT(U$1,1)),\"\"))","v":""},{"$f":"IF(COUNTBLANK(P42)=1,\"\",INDEX(Registration!$C$2:$C$101,MATCH(P42,Registration!$B$2:$B$101,0)))","v":""},{"$f":"IF(COUNTBLANK(P42)=1,\"\",IF(COUNTBLANK(INDEX(Registration!$D$2:$D$101,MATCH(P42,Registration!$B$2:$B$101,0)))=1,\"\",INDEX(Registration!$D$2:$D$101,MATCH(P42,Registration!$B$2:$B$101,0))))","v":""}]
[{"$f":"IF(COUNTBLANK(Registration!B43)=1,\"\",Registration!B43)","v":""},null,null,"","","","","",null,null,null,null,null,"","","",null,{"$f":"IF(COUNTBLANK(P43)=1,\"\",IF(OR(V43=LEFT(R$1,1),V43=RIGHT(R$1,1)),COUNTIF(V$2:V43,LEFT(R$1,1))+COUNTIF(V$2:V43,RIGHT(R$1,1)),\"\"))","v":""},{"$f":"IF(COUNTBLANK(P43)=1,\"\",IF(OR(V43=LEFT(S$1,1),V43=RIGHT(S$1,1)),COUNTIF(V$2:V43,LEFT(S$1,1))+COUNTIF(V$2:V43,RIGHT(S$1,1)),\"\"))","v":""},{"$f":"IF(COUNTBLANK(P43)=1,\"\",IF(OR(V43=LEFT(T$1,1),V43=RIGHT(T$1,1)),COUNTIF(V$2:V43,LEFT(T$1,1))+COUNTIF(V$2:V43,RIGHT(T$1,1)),\"\"))","v":""},{"$f":"IF(COUNTBLANK(P43)=1,\"\",IF(OR(W43=LEFT(U$1,1),W43=RIGHT(U$1,1)),COUNTIF(W$2:W43,LEFT(U$1,1))+COUNTIF(W$2:W43,RIGHT(U$1,1)),\"\"))","v":""},{"$f":"IF(COUNTBLANK(P43)=1,\"\",INDEX(Registration!$C$2:$C$101,MATCH(P43,Registration!$B$2:$B$101,0)))","v":""},{"$f":"IF(COUNTBLANK(P43)=1,\"\",IF(COUNTBLANK(INDEX(Registration!$D$2:$D$101,MATCH(P43,Registration!$B$2:$B$101,0)))=1,\"\",INDEX(Registration!$D$2:$D$101,MATCH(P43,Registration!$B$2:$B$101,0))))","v":""}]
[{"$f":"IF(COUNTBLANK(Registration!B44)=1,\"\",Registration!B44)","v":""},null,null,"","","","","",null,null,null,null,null,"","","",null,{"$f":"IF(COUNTBLANK(P44)=1,\"\",IF(OR(V44=LEFT(R$1,1),V44=RIGHT(R$1,1)),COUNTIF(V$2:V44,LEFT(R$1,1))+COUNTIF(V$2:V44,RIGHT(R$1,1)),\"\"))","v":""},{"$f":"IF(COUNTBLANK(P44)=1,\"\",IF(OR(V44=LEFT(S$1,1),V44=RIGHT(S$1,1)),COUNTIF(V$2:V44,LEFT(S$1,1))+COUNTIF(V$2:V44,RIGHT(S$1,1)),\"\"))","v":""},{"$f":"IF(COUNTBLANK(P44)=1,\"\",IF(OR(V44=LEFT(T$1,1),V44=RIGHT(T$1,1)),COUNTIF(V$2:V44,LEFT(T$1,1))+COUNTIF(V$2:V44,RIGHT(T$1,1)),\"\"))","v":""},{"$f":"IF(COUNTBLANK(P44)=1,\"\",IF(OR(W44=LEFT(U$1,1),W44=RIGHT(U$1,1)),COUNTIF(W$2:W44,LEFT(U$1,1))+COUNTIF(W$2:W44,RIGHT(U$1,1)),\"\"))","v":""},{"$f":"IF(COUNTBLANK(P44)=1,\"\",INDEX(Registration!$C$2:$C$101,MATCH(P44,Registration!$B$2:$B$101,0)))","v":""},{"$f":"IF(COUNTBLANK(P44)=1,\"\",IF(COUNTBLANK(INDEX(Registration!$D$2:$D$101,MATCH(P44,Registration!$B$2:$B$101,0)))=1,\"\",INDEX(Registration!$D$2:$D$101,MATCH(P44,Registration!$B$2:$B$101,0))))","v":""}]
[{"$f":"IF(COUNTBLANK(Registration!B45)=1,\"\",Registration!B45)","v":""},null,null,"","","","","",null,null,null,null,null,"","","",null,{"$f":"IF(COUNTBLANK(P45)=1,\"\",IF(OR(V45=LEFT(R$1,1),V45=RIGHT(R$1,1)),COUNTIF(V$2:V45,LEFT(R$1,1))+COUNTIF(V$2:V45,RIGHT(R$1,1)),\"\"))","v":""},{"$f":"IF(COUNTBLANK(P45)=1,\"\",IF(OR(V45=LEFT(S$1,1),V45=RIGHT(S$1,1)),COUNTIF(V$2:V45,LEFT(S$1,1))+COUNTIF(V$2:V45,RIGHT(S$1,1)),\"\"))","v":""},{"$f":"IF(COUNTBLANK(P45)=1,\"\",IF(OR(V45=LEFT(T$1,1),V45=RIGHT(T$1,1)),COUNTIF(V$2:V45,LEFT(T$1,1))+COUNTIF(V$2:V45,RIGHT(T$1,1)),\"\"))","v":""},{"$f":"IF(COUNTBLANK(P45)=1,\"\",IF(OR(W45=LEFT(U$1,1),W45=RIGHT(U$1,1)),COUNTIF(W$2:W45,LEFT(U$1,1))+COUNTIF(W$2:W45,RIGHT(U$1,1)),\"\"))","v":""},{"$f":"IF(COUNTBLANK(P45)=1,\"\",INDEX(Registration!$C$2:$C$101,MATCH(P45,Registration!$B$2:$B$101,0)))","v":""},{"$f":"IF(COUNTBLANK(P45)=1,\"\",IF(COUNTBLANK(INDEX(Registration!$D$2:$D$101,MATCH(P45,Registration!$B$2:$B$101,0)))=1,\"\",INDEX(Registration!$D$2:$D$101,MATCH(P45,Registration!$B$2:$B$101,0))))","v":""}]
[{"$f":"IF(COUNTBLANK(Registration!B46)=1,\"\",Registration!B46)","v":""},null,null,"","","","","",null,null,null,null,null,"","","",null,{"$f":"IF(COUNTBLANK(P46)=1,\"\",IF(OR(V46=LEFT(R$1,1),V46=RIGHT(R$1,1)),COUNTIF(V$2:V46,LEFT(R$1,1))+COUNTIF(V$2:V46,RIGHT(R$1,1)),\"\"))","v":""},{"$f":"IF(COUNTBLANK(P46)=1,\"\",IF(OR(V46=LEFT(S$1,1),V46=RIGHT(S$1,1)),COUNTIF(V$2:V46,LEFT(S$1,1))+COUNTIF(V$2:V46,RIGHT(S$1,1)),\"\"))","v":""},{"$f":"IF(COUNTBLANK(P46)=1,\"\",IF(OR(V46=LEFT(T$1,1),V46=RIGHT(T$1,1)),COUNTIF(V$2:V46,LEFT(T$1,1))+COUNTIF(V$2:V46,RIGHT(T$1,1)),\"\"))","v":""},{"$f":"IF(COUNTBLANK(P46)=1,\"\",IF(OR(W46=LEFT(U$1,1),W46=RIGHT(U$1,1)),COUNTIF(W$2:W46,LEFT(U$1,1))+COUNTIF(W$2:W46,RIGHT(U$1,1)),\"\"))","v":""},{"$f":"IF(COUNTBLANK(P46)=1,\"\",INDEX(Registration!$C$2:$C$101,MATCH(P46,Registration!$B$2:$B$101,0)))","v":""},{"$f":"IF(COUNTBLANK(P46)=1,\"\",IF(COUNTBLANK(INDEX(Registration!$D$2:$D$101,MATCH(P46,Registration!$B$2:$B$101,0)))=1,\"\",INDEX(Registration!$D$2:$D$101,MATCH(P46,Registration!$B$2:$B$101,0))))","v":""}]
[{"$f":"IF(COUNTBLANK(Registration!B47)=1,\"\",Registration!B47)","v":""},null,null,"","","","","",null,null,null,null,null,"","","",null,{"$f":"IF(COUNTBLANK(P47)=1,\"\",IF(OR(V47=LEFT(R$1,1),V47=RIGHT(R$1,1)),COUNTIF(V$2:V47,LEFT(R$1,1))+COUNTIF(V$2:V47,RIGHT(R$1,1)),\"\"))","v":""},{"$f":"IF(COUNTBLANK(P47)=1,\"\",IF(OR(V47=LEFT(S$1,1),V47=RIGHT(S$1,1)),COUNTIF(V$2:V47,LEFT(S$1,1))+COUNTIF(V$2:V47,RIGHT(S$1,1)),\"\"))","v":""},{"$f":"IF(COUNTBLANK(P47)=1,\"\",IF(OR(V47=LEFT(T$1,1),V47=RIGHT(T$1,1)),COUNTIF(V$2:V47,LEFT(T$1,1))+COUNTIF(V$2:V47,RIGHT(T$1,1)),\"\"))","v":""},{"$f":"IF(COUNTBLANK(P47)=1,\"\",IF(OR(W47=LEFT(U$1,1),W47=RIGHT(U$1,1)),COUNTIF(W$2:W47,LEFT(U$1,1))+COUNTIF(W$2:W47,RIGHT(U$1,1)),\"\"))","v":""},{"$f":"IF(COUNTBLANK(P47)=1,\"\",INDEX(Registration!$C$2:$C$101,MATCH(P47,Registration!$B$2:$B$101,0)))","v":""},{"$f":"IF(COUNTBLANK(P47)=1,\"\",IF(COUNTBLANK(INDEX(Registration!$D$2:$D$101,MATCH(P47,Registration!$B$2:$B$101,0)))=1,\"\",INDEX(Registration!$D$2:$D$101,MATCH(P47,Registration!$B$2:$B$101,0))))","v":""}]
[{"$f":"IF(COUNTBLANK(Registration!B48)=1,\"\",Registration!B48)","v":""},null,null,"","","","","",null,null,null,null,null,"","","",null,{"$f":"IF(COUNTBLANK(P48)=1,\"\",IF(OR(V48=LEFT(R$1,1),V48=RIGHT(R$1,1)),COUNTIF(V$2:V48,LEFT(R$1,1))+COUNTIF(V$2:V48,RIGHT(R$1,1)),\"\"))","v":""},{"$f":"IF(COUNTBLANK(P48)=1,\"\",IF(OR(V48=LEFT(S$1,1),V48=RIGHT(S$1,1)),COUNTIF(V$2:V48,LEFT(S$1,1))+COUNTIF(V$2:V48,RIGHT(S$1,1)),\"\"))","v":""},{"$f":"IF(COUNTBLANK(P48)=1,\"\",IF(OR(V48=LEFT(T$1,1),V48=RIGHT(T$1,1)),COUNTIF(V$2:V48,LEFT(T$1,1))+COUNTIF(V$2:V48,RIGHT(T$1,1)),\"\"))","v":""},{"$f":"IF(COUNTBLANK(P48)=1,\"\",IF(OR(W48=LEFT(U$1,1),W48=RIGHT(U$1,1)),COUNTIF(W$2:W48,LEFT(U$1,1))+COUNTIF(W$2:W48,RIGHT(U$1,1)),\"\"))","v":""},{"$f":"IF(COUNTBLANK(P48)=1,\"\",INDEX(Registration!$C$2:$C$101,MATCH(P48,Registration!$B$2:$B$101,0)))","v":""},{"$f":"IF(COUNTBLANK(P48)=1,\"\",IF(COUNTBLANK(INDEX(Registration!$D$2:$D$101,MATCH(P48,Registration!$B$2:$B$101,0)))=1,\"\",INDEX(Registration!$D$2:$D$101,MATCH(P48,Registration!$B$2:$B$101,0))))","v":""}]
[{"$f":"IF(COUNTBLANK(Registration!B49)=1,\"\",Registration!B49)","v":""},null,null,"","","","","",null,null,null,null,null,"","","",null,{"$f":"IF(COUNTBLANK(P49)=1,\"\",IF(OR(V49=LEFT(R$1,1),V49=RIGHT(R$1,1)),COUNTIF(V$2:V49,LEFT(R$1,1))+COUNTIF(V$2:V49,RIGHT(R$1,1)),\"\"))","v":""},{"$f":"IF(COUNTBLANK(P49)=1,\"\",IF(OR(V49=LEFT(S$1,1),V49=RIGHT(S$1,1)),COUNTIF(V$2:V49,LEFT(S$1,1))+COUNTIF(V$2:V49,RIGHT(S$1,1)),\"\"))","v":""},{"$f":"IF(COUNTBLANK(P49)=1,\"\",IF(OR(V49=LEFT(T$1,1),V49=RIGHT(T$1,1)),COUNTIF(V$2:V49,LEFT(T$1,1))+COUNTIF(V$2:V49,RIGHT(T$1,1)),\"\"))","v":""},{"$f":"IF(COUNTBLANK(P49)=1,\"\",IF(OR(W49=LEFT(U$1,1),W49=RIGHT(U$1,1)),COUNTIF(W$2:W49,LEFT(U$1,1))+COUNTIF(W$2:W49,RIGHT(U$1,1)),\"\"))","v":""},{"$f":"IF(COUNTBLANK(P49)=1,\"\",INDEX(Registration!$C$2:$C$101,MATCH(P49,Registration!$B$2:$B$101,0)))","v":""},{"$f":"IF(COUNTBLANK(P49)=1,\"\",IF(COUNTBLANK(INDEX(Registration!$D$2:$D$101,MATCH(P49,Registration!$B$2:$B$101,0)))=1,\"\",INDEX(Registration!$D$2:$D$101,MATCH(P49,Registration!$B$2:$B$101,0))))","v":""}]
[{"$f":"IF(COUNTBLANK(Registration!B50)=1,\"\",Registration!B50)","v":""},null,null,"","","","","",null,null,null,null,null,"","","",null,{"$f":"IF(COUNTBLANK(P50)=1,\"\",IF(OR(V50=LEFT(R$1,1),V50=RIGHT(R$1,1)),COUNTIF(V$2:V50,LEFT(R$1,1))+COUNTIF(V$2:V50,RIGHT(R$1,1)),\"\"))","v":""},{"$f":"IF(COUNTBLANK(P50)=1,\"\",IF(OR(V50=LEFT(S$1,1),V50=RIGHT(S$1,1)),COUNTIF(V$2:V50,LEFT(S$1,1))+COUNTIF(V$2:V50,RIGHT(S$1,1)),\"\"))","v":""},{"$f":"IF(COUNTBLANK(P50)=1,\"\",IF(OR(V50=LEFT(T$1,1),V50=RIGHT(T$1,1)),COUNTIF(V$2:V50,LEFT(T$1,1))+COUNTIF(V$2:V50,RIGHT(T$1,1)),\"\"))","v":""},{"$f":"IF(COUNTBLANK(P50)=1,\"\",IF(OR(W50=LEFT(U$1,1),W50=RIGHT(U$1,1)),COUNTIF(W$2:W50,LEFT(U$1,1))+COUNTIF(W$2:W50,RIGHT(U$1,1)),\"\"))","v":""},{"$f":"IF(COUNTBLANK(P50)=1,\"\",INDEX(Registration!$C$2:$C$101,MATCH(P50,Registration!$B$2:$B$101,0)))","v":""},{"$f":"IF(COUNTBLANK(P50)=1,\"\",IF(COUNTBLANK(INDEX(Registration!$D$2:$D$101,MATCH(P50,Registration!$B$2:$B$101,0)))=1,\"\",INDEX(Registration!$D$2:$D$101,MATCH(P50,Registration!$B$2:$B$101,0))))","v":""}]
[{"$f":"IF(COUNTBLANK(Registration!B51)=1,\"\",Registration!B51)","v":""},null,null,"","","","","",null,null,null,null,null,"","","",null,{"$f":"IF(COUNTBLANK(P51)=1,\"\",IF(OR(V51=LEFT(R$1,1),V51=RIGHT(R$1,1)),COUNTIF(V$2:V51,LEFT(R$1,1))+COUNTIF(V$2:V51,RIGHT(R$1,1)),\"\"))","v":""},{"$f":"IF(COUNTBLANK(P51)=1,\"\",IF(OR(V51=LEFT(S$1,1),V51=RIGHT(S$1,1)),COUNTIF(V$2:V51,LEFT(S$1,1))+COUNTIF(V$2:V51,RIGHT(S$1,1)),\"\"))","v":""},{"$f":"IF(COUNTBLANK(P51)=1,\"\",IF(OR(V51=LEFT(T$1,1),V51=RIGHT(T$1,1)),COUNTIF(V$2:V51,LEFT(T$1,1))+COUNTIF(V$2:V51,RIGHT(T$1,1)),\"\"))","v":""},{"$f":"IF(COUNTBLANK(P51)=1,\"\",IF(OR(W51=LEFT(U$1,1),W51=RIGHT(U$1,1)),COUNTIF(W$2:W51,LEFT(U$1,1))+COUNTIF(W$2:W51,RIGHT(U$1,1)),\"\"))","v":""},{"$f":"IF(COUNTBLANK(P51)=1,\"\",INDEX(Registration!$C$2:$C$101,MATCH(P51,Registration!$B$2:$B$101,0)))","v":""},{"$f":"IF(COUNTBLANK(P51)=1,\"\",IF(COUNTBLANK(INDEX(Registration!$D$2:$D$101,MATCH(P51,Registration!$B$2:$B$101,0)))=1,\"\",INDEX(Registration!$D$2:$D$101,MATCH(P51,Registration!$B$2:$B$101,0))))","v":""}]
[{"$f":"IF(COUNTBLANK(Registration!B52)=1,\"\",Registration!B52)","v":""},null,null,"","","","","",null,null,null,null,null,"","","",null,{"$f":"IF(COUNTBLANK(P52)=1,\"\",IF(OR(V52=LEFT(R$1,1),V52=RIGHT(R$1,1)),COUNTIF(V$2:V52,LEFT(R$1,1))+COUNTIF(V$2:V52,RIGHT(R$1,1)),\"\"))","v":""},{"$f":"IF(COUNTBLANK(P52)=1,\"\",IF(OR(V52=LEFT(S$1,1),V52=RIGHT(S$1,1)),COUNTIF(V$2:V52,LEFT(S$1,1))+COUNTIF(V$2:V52,RIGHT(S$1,1)),\"\"))","v":""},{"$f":"IF(COUNTBLANK(P52)=1,\"\",IF(OR(V52=LEFT(T$1,1),V52=RIGHT(T$1,1)),COUNTIF(V$2:V52,LEFT(T$1,1))+COUNTIF(V$2:V52,RIGHT(T$1,1)),\"\"))","v":""},{"$f":"IF(COUNTBLANK(P52)=1,\"\",IF(OR(W52=LEFT(U$1,1),W52=RIGHT(U$1,1)),COUNTIF(W$2:W52,LEFT(U$1,1))+COUNTIF(W$2:W52,RIGHT(U$1,1)),\"\"))","v":""},{"$f":"IF(COUNTBLANK(P52)=1,\"\",INDEX(Registration!$C$2:$C$101,MATCH(P52,Registration!$B$2:$B$101,0)))","v":""},{"$f":"IF(COUNTBLANK(P52)=1,\"\",IF(COUNTBLANK(INDEX(Registration!$D$2:$D$101,MATCH(P52,Registration!$B$2:$B$101,0)))=1,\"\",INDEX(Registration!$D$2:$D$101,MATCH(P52,Registration!$B$2:$B$101,0))))","v":""}]
[{"$f":"IF(COUNTBLANK(Registration!B53)=1,\"\",Registration!B53)","v":""},null,null,"","","","","",null,null,null,null,null,"","","",null,{"$f":"IF(COUNTBLANK(P53)=1,\"\",IF(OR(V53=LEFT(R$1,1),V53=RIGHT(R$1,1)),COUNTIF(V$2:V53,LEFT(R$1,1))+COUNTIF(V$2:V53,RIGHT(R$1,1)),\"\"))","v":""},{"$f":"IF(COUNTBLANK(P53)=1,\"\",IF(OR(V53=LEFT(S$1,1),V53=RIGHT(S$1,1)),COUNTIF(V$2:V53,LEFT(S$1,1))+COUNTIF(V$2:V53,RIGHT(S$1,1)),\"\"))","v":""},{"$f":"IF(COUNTBLANK(P53)=1,\"\",IF(OR(V53=LEFT(T$1,1),V53=RIGHT(T$1,1)),COUNTIF(V$2:V53,LEFT(T$1,1))+COUNTIF(V$2:V53,RIGHT(T$1,1)),\"\"))","v":""},{"$f":"IF(COUNTBLANK(P53)=1,\"\",IF(OR(W53=LEFT(U$1,1),W53=RIGHT(U$1,1)),COUNTIF(W$2:W53,LEFT(U$1,1))+COUNTIF(W$2:W53,RIGHT(U$1,1)),\"\"))","v":""},{"$f":"IF(COUNTBLANK(P53)=1,\"\",INDEX(Registration!$C$2:$C$101,MATCH(P53,Registration!$B$2:$B$101,0)))","v":""},{"$f":"IF(COUNTBLANK(P53)=1,\"\",IF(COUNTBLANK(INDEX(Registration!$D$2:$D$101,MATCH(P53,Registration!$B$2:$B$101,0)))=1,\"\",INDEX(Registration!$D$2:$D$101,MATCH(P53,Registration!$B$2:$B$101,0))))","v":""}]
[{"$f":"IF(COUNTBLANK(Registration!B54)=1,\"\",Registration!B54)","v":""},null,null,"","","","","",null,null,null,null,null,"","","",null,{"$f":"IF(COUNTBLANK(P54)=1,\"\",IF(OR(V54=LEFT(R$1,1),V54=RIGHT(R$1,1)),COUNTIF(V$2:V54,LEFT(R$1,1))+COUNTIF(V$2:V54,RIGHT(R$1,1)),\"\"))","v":""},{"$f":"IF(COUNTBLANK(P54)=1,\"\",IF(OR(V54=LEFT(S$1,1),V54=RIGHT(S$1,1)),COUNTIF(V$2:V54,LEFT(S$1,1))+COUNTIF(V$2:V54,RIGHT(S$1,1)),\"\"))","v":""},{"$f":"IF(COUNTBLANK(P54)=1,\"\",IF(OR(V54=LEFT(T$1,1),V54=RIGHT(T$1,1)),COUNTIF(V$2:V54,LEFT(T$1,1))+COUNTIF(V$2:V54,RIGHT(T$1,1)),\"\"))","v":""},{"$f":"IF(COUNTBLANK(P54)=1,\"\",IF(OR(W54=LEFT(U$1,1),W54=RIGHT(U$1,1)),COUNTIF(W$2:W54,LEFT(U$1,1))+COUNTIF(W$2:W54,RIGHT(U$1,1)),\"\"))","v":""},{"$f":"IF(COUNTBLANK(P54)=1,\"\",INDEX(Registration!$C$2:$C$101,MATCH(P54,Registration!$B$2:$B$101,0)))","v":""},{"$f":"IF(COUNTBLANK(P54)=1,\"\",IF(COUNTBLANK(INDEX(Registration!$D$2:$D$101,MATCH(P54,Registration!$B$2:$B$101,0)))=1,\"\",INDEX(Registration!$D$2:$D$101,MATCH(P54,Registration!$B$2:$B$101,0))))","v":""}]
[{"$f":"IF(COUNTBLANK(Registration!B55)=1,\"\",Registration!B55)","v":""},null,null,"","","","","",null,null,null,null,null,"","","",null,{"$f":"IF(COUNTBLANK(P55)=1,\"\",IF(OR(V55=LEFT(R$1,1),V55=RIGHT(R$1,1)),COUNTIF(V$2:V55,LEFT(R$1,1))+COUNTIF(V$2:V55,RIGHT(R$1,1)),\"\"))","v":""},{"$f":"IF(COUNTBLANK(P55)=1,\"\",IF(OR(V55=LEFT(S$1,1),V55=RIGHT(S$1,1)),COUNTIF(V$2:V55,LEFT(S$1,1))+COUNTIF(V$2:V55,RIGHT(S$1,1)),\"\"))","v":""},{"$f":"IF(COUNTBLANK(P55)=1,\"\",IF(OR(V55=LEFT(T$1,1),V55=RIGHT(T$1,1)),COUNTIF(V$2:V55,LEFT(T$1,1))+COUNTIF(V$2:V55,RIGHT(T$1,1)),\"\"))","v":""},{"$f":"IF(COUNTBLANK(P55)=1,\"\",IF(OR(W55=LEFT(U$1,1),W55=RIGHT(U$1,1)),COUNTIF(W$2:W55,LEFT(U$1,1))+COUNTIF(W$2:W55,RIGHT(U$1,1)),\"\"))","v":""},{"$f":"IF(COUNTBLANK(P55)=1,\"\",INDEX(Registration!$C$2:$C$101,MATCH(P55,Registration!$B$2:$B$101,0)))","v":""},{"$f":"IF(COUNTBLANK(P55)=1,\"\",IF(COUNTBLANK(INDEX(Registration!$D$2:$D$101,MATCH(P55,Registration!$B$2:$B$101,0)))=1,\"\",INDEX(Registration!$D$2:$D$101,MATCH(P55,Registration!$B$2:$B$101,0))))","v":""}]
[{"$f":"IF(COUNTBLANK(Registration!B56)=1,\"\",Registration!B56)","v":""},null,null,"","","","","",null,null,null,null,null,"","","",null,{"$f":"IF(COUNTBLANK(P56)=1,\"\",IF(OR(V56=LEFT(R$1,1),V56=RIGHT(R$1,1)),COUNTIF(V$2:V56,LEFT(R$1,1))+COUNTIF(V$2:V56,RIGHT(R$1,1)),\"\"))","v":""},{"$f":"IF(COUNTBLANK(P56)=1,\"\",IF(OR(V56=LEFT(S$1,1),V56=RIGHT(S$1,1)),COUNTIF(V$2:V56,LEFT(S$1,1))+COUNTIF(V$2:V56,RIGHT(S$1,1)),\"\"))","v":""},{"$f":"IF(COUNTBLANK(P56)=1,\"\",IF(OR(V56=LEFT(T$1,1),V56=RIGHT(T$1,1)),COUNTIF(V$2:V56,LEFT(T$1,1))+COUNTIF(V$2:V56,RIGHT(T$1,1)),\"\"))","v":""},{"$f":"IF(COUNTBLANK(P56)=1,\"\",IF(OR(W56=LEFT(U$1,1),W56=RIGHT(U$1,1)),COUNTIF(W$2:W56,LEFT(U$1,1))+COUNTIF(W$2:W56,RIGHT(U$1,1)),\"\"))","v":""},{"$f":"IF(COUNTBLANK(P56)=1,\"\",INDEX(Registration!$C$2:$C$101,MATCH(P56,Registration!$B$2:$B$101,0)))","v":""},{"$f":"IF(COUNTBLANK(P56)=1,\"\",IF(COUNTBLANK(INDEX(Registration!$D$2:$D$101,MATCH(P56,Registration!$B$2:$B$101,0)))=1,\"\",INDEX(Registration!$D$2:$D$101,MATCH(P56,Registration!$B$2:$B$101,0))))","v":""}]
[{"$f":"IF(COUNTBLANK(Registration!B57)=1,\"\",Registration!B57)","v":""},null,null,"","","","","",null,null,null,null,null,"","","",null,{"$f":"IF(COUNTBLANK(P57)=1,\"\",IF(OR(V57=LEFT(R$1,1),V57=RIGHT(R$1,1)),COUNTIF(V$2:V57,LEFT(R$1,1))+COUNTIF(V$2:V57,RIGHT(R$1,1)),\"\"))","v":""},{"$f":"IF(COUNTBLANK(P57)=1,\"\",IF(OR(V57=LEFT(S$1,1),V57=RIGHT(S$1,1)),COUNTIF(V$2:V57,LEFT(S$1,1))+COUNTIF(V$2:V57,RIGHT(S$1,1)),\"\"))","v":""},{"$f":"IF(COUNTBLANK(P57)=1,\"\",IF(OR(V57=LEFT(T$1,1),V57=RIGHT(T$1,1)),COUNTIF(V$2:V57,LEFT(T$1,1))+COUNTIF(V$2:V57,RIGHT(T$1,1)),\"\"))","v":""},{"$f":"IF(COUNTBLANK(P57)=1,\"\",IF(OR(W57=LEFT(U$1,1),W57=RIGHT(U$1,1)),COUNTIF(W$2:W57,LEFT(U$1,1))+COUNTIF(W$2:W57,RIGHT(U$1,1)),\"\"))","v":""},{"$f":"IF(COUNTBLANK(P57)=1,\"\",INDEX(Registration!$C$2:$C$101,MATCH(P57,Registration!$B$2:$B$101,0)))","v":""},{"$f":"IF(COUNTBLANK(P57)=1,\"\",IF(COUNTBLANK(INDEX(Registration!$D$2:$D$101,MATCH(P57,Registration!$B$2:$B$101,0)))=1,\"\",INDEX(Registration!$D$2:$D$101,MATCH(P57,Registration!$B$2:$B$101,0))))","v":""}]
[{"$f":"IF(COUNTBLANK(Registration!B58)=1,\"\",Registration!B58)","v":""},null,null,"","","","","",null,null,null,null,null,"","","",null,{"$f":"IF(COUNTBLANK(P58)=1,\"\",IF(OR(V58=LEFT(R$1,1),V58=RIGHT(R$1,1)),COUNTIF(V$2:V58,LEFT(R$1,1))+COUNTIF(V$2:V58,RIGHT(R$1,1)),\"\"))","v":""},{"$f":"IF(COUNTBLANK(P58)=1,\"\",IF(OR(V58=LEFT(S$1,1),V58=RIGHT(S$1,1)),COUNTIF(V$2:V58,LEFT(S$1,1))+COUNTIF(V$2:V58,RIGHT(S$1,1)),\"\"))","v":""},{"$f":"IF(COUNTBLANK(P58)=1,\"\",IF(OR(V58=LEFT(T$1,1),V58=RIGHT(T$1,1)),COUNTIF(V$2:V58,LEFT(T$1,1))+COUNTIF(V$2:V58,RIGHT(T$1,1)),\"\"))","v":""},{"$f":"IF(COUNTBLANK(P58)=1,\"\",IF(OR(W58=LEFT(U$1,1),W58=RIGHT(U$1,1)),COUNTIF(W$2:W58,LEFT(U$1,1))+COUNTIF(W$2:W58,RIGHT(U$1,1)),\"\"))","v":""},{"$f":"IF(COUNTBLANK(P58)=1,\"\",INDEX(Registration!$C$2:$C$101,MATCH(P58,Registration!$B$2:$B$101,0)))","v":""},{"$f":"IF(COUNTBLANK(P58)=1,\"\",IF(COUNTBLANK(INDEX(Registration!$D$2:$D$101,MATCH(P58,Registration!$B$2:$B$101,0)))=1,\"\",INDEX(Registration!$D$2:$D$101,MATCH(P58,Registration!$B$2:$B$101,0))))","v":""}]
[{"$f":"IF(COUNTBLANK(Registration!B59)=1,\"\",Registration!B59)","v":""},null,null,"","","","","",null,null,null,null,null,"","","",null,{"$f":"IF(COUNTBLANK(P59)=1,\"\",IF(OR(V59=LEFT(R$1,1),V59=RIGHT(R$1,1)),COUNTIF(V$2:V59,LEFT(R$1,1))+COUNTIF(V$2:V59,RIGHT(R$1,1)),\"\"))","v":""},{"$f":"IF(COUNTBLANK(P59)=1,\"\",IF(OR(V59=LEFT(S$1,1),V59=RIGHT(S$1,1)),COUNTIF(V$2:V59,LEFT(S$1,1))+COUNTIF(V$2:V59,RIGHT(S$1,1)),\"\"))","v":""},{"$f":"IF(COUNTBLANK(P59)=1,\"\",IF(OR(V59=LEFT(T$1,1),V59=RIGHT(T$1,1)),COUNTIF(V$2:V59,LEFT(T$1,1))+COUNTIF(V$2:V59,RIGHT(T$1,1)),\"\"))","v":""},{"$f":"IF(COUNTBLANK(P59)=1,\"\",IF(OR(W59=LEFT(U$1,1),W59=RIGHT(U$1,1)),COUNTIF(W$2:W59,LEFT(U$1,1))+COUNTIF(W$2:W59,RIGHT(U$1,1)),\"\"))","v":""},{"$f":"IF(COUNTBLANK(P59)=1,\"\",INDEX(Registration!$C$2:$C$101,MATCH(P59,Registration!$B$2:$B$101,0)))","v":""},{"$f":"IF(COUNTBLANK(P59)=1,\"\",IF(COUNTBLANK(INDEX(Registration!$D$2:$D$101,MATCH(P59,Registration!$B$2:$B$101,0)))=1,\"\",INDEX(Registration!$D$2:$D$101,MATCH(P59,Registration!$B$2:$B$101,0))))","v":""}]
[{"$f":"IF(COUNTBLANK(Registration!B60)=1,\"\",Registration!B60)","v":""},null,null,"","","","","",null,null,null,null,null,"","","",null,{"$f":"IF(COUNTBLANK(P60)=1,\"\",IF(OR(V60=LEFT(R$1,1),V60=RIGHT(R$1,1)),COUNTIF(V$2:V60,LEFT(R$1,1))+COUNTIF(V$2:V60,RIGHT(R$1,1)),\"\"))","v":""},{"$f":"IF(COUNTBLANK(P60)=1,\"\",IF(OR(V60=LEFT(S$1,1),V60=RIGHT(S$1,1)),COUNTIF(V$2:V60,LEFT(S$1,1))+COUNTIF(V$2:V60,RIGHT(S$1,1)),\"\"))","v":""},{"$f":"IF(COUNTBLANK(P60)=1,\"\",IF(OR(V60=LEFT(T$1,1),V60=RIGHT(T$1,1)),COUNTIF(V$2:V60,LEFT(T$1,1))+COUNTIF(V$2:V60,RIGHT(T$1,1)),\"\"))","v":""},{"$f":"IF(COUNTBLANK(P60)=1,\"\",IF(OR(W60=LEFT(U$1,1),W60=RIGHT(U$1,1)),COUNTIF(W$2:W60,LEFT(U$1,1))+COUNTIF(W$2:W60,RIGHT(U$1,1)),\"\"))","v":""},{"$f":"IF(COUNTBLANK(P60)=1,\"\",INDEX(Registration!$C$2:$C$101,MATCH(P60,Registration!$B$2:$B$101,0)))","v":""},{"$f":"IF(COUNTBLANK(P60)=1,\"\",IF(COUNTBLANK(INDEX(Registration!$D$2:$D$101,MATCH(P60,Registration!$B$2:$B$101,0)))=1,\"\",INDEX(Registration!$D$2:$D$101,MATCH(P60,Registration!$B$2:$B$101,0))))","v":""}]
[{"$f":"IF(COUNTBLANK(Registration!B61)=1,\"\",Registration!B61)","v":""},null,null,"","","","","",null,null,null,null,null,"","","",null,{"$f":"IF(COUNTBLANK(P61)=1,\"\",IF(OR(V61=LEFT(R$1,1),V61=RIGHT(R$1,1)),COUNTIF(V$2:V61,LEFT(R$1,1))+COUNTIF(V$2:V61,RIGHT(R$1,1)),\"\"))","v":""},{"$f":"IF(COUNTBLANK(P61)=1,\"\",IF(OR(V61=LEFT(S$1,1),V61=RIGHT(S$1,1)),COUNTIF(V$2:V61,LEFT(S$1,1))+COUNTIF(V$2:V61,RIGHT(S$1,1)),\"\"))","v":""},{"$f":"IF(COUNTBLANK(P61)=1,\"\",IF(OR(V61=LEFT(T$1,1),V61=RIGHT(T$1,1)),COUNTIF(V$2:V61,LEFT(T$1,1))+COUNTIF(V$2:V61,RIGHT(T$1,1)),\"\"))","v":""},{"$f":"IF(COUNTBLANK(P61)=1,\"\",IF(OR(W61=LEFT(U$1,1),W61=RIGHT(U$1,1)),COUNTIF(W$2:W61,LEFT(U$1,1))+COUNTIF(W$2:W61,RIGHT(U$1,1)),\"\"))","v":""},{"$f":"IF(COUNTBLANK(P61)=1,\"\",INDEX(Registration!$C$2:$C$101,MATCH(P61,Registration!$B$2:$B$101,0)))","v":""},{"$f":"IF(COUNTBLANK(P61)=1,\"\",IF(COUNTBLANK(INDEX(Registration!$D$2:$D$101,MATCH(P61,Registration!$B$2:$B$101,0)))=1,\"\",INDEX(Registration!$D$2:$D$101,MATCH(P61,Registration!$B$2:$B$101,0))))","v":""}]
[{"$f":"IF(COUNTBLANK(Registration!B62)=1,\"\",Registration!B62)","v":""},null,null,"","","","","",null,null,null,null,null,"","","",null,{"$f":"IF(COUNTBLANK(P62)=1,\"\",IF(OR(V62=LEFT(R$1,1),V62=RIGHT(R$1,1)),COUNTIF(V$2:V62,LEFT(R$1,1))+COUNTIF(V$2:V62,RIGHT(R$1,1)),\"\"))","v":""},{"$f":"IF(COUNTBLANK(P62)=1,\"\",IF(OR(V62=LEFT(S$1,1),V62=RIGHT(S$1,1)),COUNTIF(V$2:V62,LEFT(S$1,1))+COUNTIF(V$2:V62,RIGHT(S$1,1)),\"\"))","v":""},{"$f":"IF(COUNTBLANK(P62)=1,\"\",IF(OR(V62=LEFT(T$1,1),V62=RIGHT(T$1,1)),COUNTIF(V$2:V62,LEFT(T$1,1))+COUNTIF(V$2:V62,RIGHT(T$1,1)),\"\"))","v":""},{"$f":"IF(COUNTBLANK(P62)=1,\"\",IF(OR(W62=LEFT(U$1,1),W62=RIGHT(U$1,1)),COUNTIF(W$2:W62,LEFT(U$1,1))+COUNTIF(W$2:W62,RIGHT(U$1,1)),\"\"))","v":""},{"$f":"IF(COUNTBLANK(P62)=1,\"\",INDEX(Registration!$C$2:$C$101,MATCH(P62,Registration!$B$2:$B$101,0)))","v":""},{"$f":"IF(COUNTBLANK(P62)=1,\"\",IF(COUNTBLANK(INDEX(Registration!$D$2:$D$101,MATCH(P62,Registration!$B$2:$B$101,0)))=1,\"\",INDEX(Registration!$D$2:$D$101,MATCH(P62,Registration!$B$2:$B$101,0))))","v":""}]
[{"$f":"IF(COUNTBLANK(Registration!B63)=1,\"\",Registration!B63)","v":""},null,null,"","","","","",null,null,null,null,null,"","","",null,{"$f":"IF(COUNTBLANK(P63)=1,\"\",IF(OR(V63=LEFT(R$1,1),V63=RIGHT(R$1,1)),COUNTIF(V$2:V63,LEFT(R$1,1))+COUNTIF(V$2:V63,RIGHT(R$1,1)),\"\"))","v":""},{"$f":"IF(COUNTBLANK(P63)=1,\"\",IF(OR(V63=LEFT(S$1,1),V63=RIGHT(S$1,1)),COUNTIF(V$2:V63,LEFT(S$1,1))+COUNTIF(V$2:V63,RIGHT(S$1,1)),\"\"))","v":""},{"$f":"IF(COUNTBLANK(P63)=1,\"\",IF(OR(V63=LEFT(T$1,1),V63=RIGHT(T$1,1)),COUNTIF(V$2:V63,LEFT(T$1,1))+COUNTIF(V$2:V63,RIGHT(T$1,1)),\"\"))","v":""},{"$f":"IF(COUNTBLANK(P63)=1,\"\",IF(OR(W63=LEFT(U$1,1),W63=RIGHT(U$1,1)),COUNTIF(W$2:W63,LEFT(U$1,1))+COUNTIF(W$2:W63,RIGHT(U$1,1)),\"\"))","v":""},{"$f":"IF(COUNTBLANK(P63)=1,\"\",INDEX(Registration!$C$2:$C$101,MATCH(P63,Registration!$B$2:$B$101,0)))","v":""},{"$f":"IF(COUNTBLANK(P63)=1,\"\",IF(COUNTBLANK(INDEX(Registration!$D$2:$D$101,MATCH(P63,Registration!$B$2:$B$101,0)))=1,\"\",INDEX(Registration!$D$2:$D$101,MATCH(P63,Registration!$B$2:$B$101,0))))","v":""}]
[{"$f":"IF(COUNTBLANK(Registration!B64)=1,\"\",Registration!B64)","v":""},null,null,"","","","","",null,null,null,null,null,"","","",null,{"$f":"IF(COUNTBLANK(P64)=1,\"\",IF(OR(V64=LEFT(R$1,1),V64=RIGHT(R$1,1)),COUNTIF(V$2:V64,LEFT(R$1,1))+COUNTIF(V$2:V64,RIGHT(R$1,1)),\"\"))","v":""},{"$f":"IF(COUNTBLANK(P64)=1,\"\",IF(OR(V64=LEFT(S$1,1),V64=RIGHT(S$1,1)),COUNTIF(V$2:V64,LEFT(S$1,1))+COUNTIF(V$2:V64,RIGHT(S$1,1)),\"\"))","v":""},{"$f":"IF(COUNTBLANK(P64)=1,\"\",IF(OR(V64=LEFT(T$1,1),V64=RIGHT(T$1,1)),COUNTIF(V$2:V64,LEFT(T$1,1))+COUNTIF(V$2:V64,RIGHT(T$1,1)),\"\"))","v":""},{"$f":"IF(COUNTBLANK(P64)=1,\"\",IF(OR(W64=LEFT(U$1,1),W64=RIGHT(U$1,1)),COUNTIF(W$2:W64,LEFT(U$1,1))+COUNTIF(W$2:W64,RIGHT(U$1,1)),\"\"))","v":""},{"$f":"IF(COUNTBLANK(P64)=1,\"\",INDEX(Registration!$C$2:$C$101,MATCH(P64,Registration!$B$2:$B$101,0)))","v":""},{"$f":"IF(COUNTBLANK(P64)=1,\"\",IF(COUNTBLANK(INDEX(Registration!$D$2:$D$101,MATCH(P64,Registration!$B$2:$B$101,0)))=1,\"\",INDEX(Registration!$D$2:$D$101,MATCH(P64,Registration!$B$2:$B$101,0))))","v":""}]
[{"$f":"IF(COUNTBLANK(Registration!B65)=1,\"\",Registration!B65)","v":""},null,null,"","","","","",null,null,null,null,null,"","","",null,{"$f":"IF(COUNTBLANK(P65)=1,\"\",IF(OR(V65=LEFT(R$1,1),V65=RIGHT(R$1,1)),COUNTIF(V$2:V65,LEFT(R$1,1))+COUNTIF(V$2:V65,RIGHT(R$1,1)),\"\"))","v":""},{"$f":"IF(COUNTBLANK(P65)=1,\"\",IF(OR(V65=LEFT(S$1,1),V65=RIGHT(S$1,1)),COUNTIF(V$2:V65,LEFT(S$1,1))+COUNTIF(V$2:V65,RIGHT(S$1,1)),\"\"))","v":""},{"$f":"IF(COUNTBLANK(P65)=1,\"\",IF(OR(V65=LEFT(T$1,1),V65=RIGHT(T$1,1)),COUNTIF(V$2:V65,LEFT(T$1,1))+COUNTIF(V$2:V65,RIGHT(T$1,1)),\"\"))","v":""},{"$f":"IF(COUNTBLANK(P65)=1,\"\",IF(OR(W65=LEFT(U$1,1),W65=RIGHT(U$1,1)),COUNTIF(W$2:W65,LEFT(U$1,1))+COUNTIF(W$2:W65,RIGHT(U$1,1)),\"\"))","v":""},{"$f":"IF(COUNTBLANK(P65)=1,\"\",INDEX(Registration!$C$2:$C$101,MATCH(P65,Registration!$B$2:$B$101,0)))","v":""},{"$f":"IF(COUNTBLANK(P65)=1,\"\",IF(COUNTBLANK(INDEX(Registration!$D$2:$D$101,MATCH(P65,Registration!$B$2:$B$101,0)))=1,\"\",INDEX(Registration!$D$2:$D$101,MATCH(P65,Registration!$B$2:$B$101,0))))","v":""}]
[{"$f":"IF(COUNTBLANK(Registration!B66)=1,\"\",Registration!B66)","v":""},null,null,"","","","","",null,null,null,null,null,"","","",null,{"$f":"IF(COUNTBLANK(P66)=1,\"\",IF(OR(V66=LEFT(R$1,1),V66=RIGHT(R$1,1)),COUNTIF(V$2:V66,LEFT(R$1,1))+COUNTIF(V$2:V66,RIGHT(R$1,1)),\"\"))","v":""},{"$f":"IF(COUNTBLANK(P66)=1,\"\",IF(OR(V66=LEFT(S$1,1),V66=RIGHT(S$1,1)),COUNTIF(V$2:V66,LEFT(S$1,1))+COUNTIF(V$2:V66,RIGHT(S$1,1)),\"\"))","v":""},{"$f":"IF(COUNTBLANK(P66)=1,\"\",IF(OR(V66=LEFT(T$1,1),V66=RIGHT(T$1,1)),COUNTIF(V$2:V66,LEFT(T$1,1))+COUNTIF(V$2:V66,RIGHT(T$1,1)),\"\"))","v":""},{"$f":"IF(COUNTBLANK(P66)=1,\"\",IF(OR(W66=LEFT(U$1,1),W66=RIGHT(U$1,1)),COUNTIF(W$2:W66,LEFT(U$1,1))+COUNTIF(W$2:W66,RIGHT(U$1,1)),\"\"))","v":""},{"$f":"IF(COUNTBLANK(P66)=1,\"\",INDEX(Registration!$C$2:$C$101,MATCH(P66,Registration!$B$2:$B$101,0)))","v":""},{"$f":"IF(COUNTBLANK(P66)=1,\"\",IF(COUNTBLANK(INDEX(Registration!$D$2:$D$101,MATCH(P66,Registration!$B$2:$B$101,0)))=1,\"\",INDEX(Registration!$D$2:$D$101,MATCH(P66,Registration!$B$2:$B$101,0))))","v":""}]
[{"$f":"IF(COUNTBLANK(Registration!B67)=1,\"\",Registration!B67)","v":""},null,null,"","",{"$f":"IF(OR(COUNTBLANK($A67)=1,COUNTBLANK(B67:C67)=2),\"\",IF(COUNTBLANK(B67:C67)=2,600,MIN(D67:E67)))","v":""},{"$f":"IF(OR(COUNTBLANK($A67)=1,COUNTBLANK(B67:C67)=2),\"\",RANK(F67,$F$2:$F$101,1))","v":""},{"$f":"IF(OR(COUNTBLANK($A67)=1,COUNTBLANK(B67:C67)=2),\"\",placingpoints(G67,COUNTIF(G$2:G$101,\"=\"&G67)))","v":""},null,null,null,null,null,"","","",null,{"$f":"IF(COUNTBLANK(P67)=1,\"\",IF(OR(V67=LEFT(R$1,1),V67=RIGHT(R$1,1)),COUNTIF(V$2:V67,LEFT(R$1,1))+COUNTIF(V$2:V67,RIGHT(R$1,1)),\"\"))","v":""},{"$f":"IF(COUNTBLANK(P67)=1,\"\",IF(OR(V67=LEFT(S$1,1),V67=RIGHT(S$1,1)),COUNTIF(V$2:V67,LEFT(S$1,1))+COUNTIF(V$2:V67,RIGHT(S$1,1)),\"\"))","v":""},{"$f":"IF(COUNTBLANK(P67)=1,\"\",IF(OR(V67=LEFT(T$1,1),V67=RIGHT(T$1,1)),COUNTIF(V$2:V67,LEFT(T$1,1))+COUNTIF(V$2:V67,RIGHT(T$1,1)),\"\"))","v":""},{"$f":"IF(COUNTBLANK(P67)=1,\"\",IF(OR(W67=LEFT(U$1,1),W67=RIGHT(U$1,1)),COUNTIF(W$2:W67,LEFT(U$1,1))+COUNTIF(W$2:W67,RIGHT(U$1,1)),\"\"))","v":""},{"$f":"IF(COUNTBLANK(P67)=1,\"\",INDEX(Registration!$C$2:$C$101,MATCH(P67,Registration!$B$2:$B$101,0)))","v":""},{"$f":"IF(COUNTBLANK(P67)=1,\"\",IF(COUNTBLANK(INDEX(Registration!$D$2:$D$101,MATCH(P67,Registration!$B$2:$B$101,0)))=1,\"\",INDEX(Registration!$D$2:$D$101,MATCH(P67,Registration!$B$2:$B$101,0))))","v":""}]
[{"$f":"IF(COUNTBLANK(Registration!B68)=1,\"\",Registration!B68)","v":""},null,null,"","","","","",null,null,null,null,null,"","","",null,{"$f":"IF(COUNTBLANK(P68)=1,\"\",IF(OR(V68=LEFT(R$1,1),V68=RIGHT(R$1,1)),COUNTIF(V$2:V68,LEFT(R$1,1))+COUNTIF(V$2:V68,RIGHT(R$1,1)),\"\"))","v":""},{"$f":"IF(COUNTBLANK(P68)=1,\"\",IF(OR(V68=LEFT(S$1,1),V68=RIGHT(S$1,1)),COUNTIF(V$2:V68,LEFT(S$1,1))+COUNTIF(V$2:V68,RIGHT(S$1,1)),\"\"))","v":""},{"$f":"IF(COUNTBLANK(P68)=1,\"\",IF(OR(V68=LEFT(T$1,1),V68=RIGHT(T$1,1)),COUNTIF(V$2:V68,LEFT(T$1,1))+COUNTIF(V$2:V68,RIGHT(T$1,1)),\"\"))","v":""},{"$f":"IF(COUNTBLANK(P68)=1,\"\",IF(OR(W68=LEFT(U$1,1),W68=RIGHT(U$1,1)),COUNTIF(W$2:W68,LEFT(U$1,1))+COUNTIF(W$2:W68,RIGHT(U$1,1)),\"\"))","v":""},{"$f":"IF(COUNTBLANK(P68)=1,\"\",INDEX(Registration!$C$2:$C$101,MATCH(P68,Registration!$B$2:$B$101,0)))","v":""},{"$f":"IF(COUNTBLANK(P68)=1,\"\",IF(COUNTBLANK(INDEX(Registration!$D$2:$D$101,MATCH(P68,Registration!$B$2:$B$101,0)))=1,\"\",INDEX(Registration!$D$2:$D$101,MATCH(P68,Registration!$B$2:$B$101,0))))","v":""}]
[{"$f":"IF(COUNTBLANK(Registration!B69)=1,\"\",Registration!B69)","v":""},null,null,"","","","","",null,null,null,null,null,"","","",null,{"$f":"IF(COUNTBLANK(P69)=1,\"\",IF(OR(V69=LEFT(R$1,1),V69=RIGHT(R$1,1)),COUNTIF(V$2:V69,LEFT(R$1,1))+COUNTIF(V$2:V69,RIGHT(R$1,1)),\"\"))","v":""},{"$f":"IF(COUNTBLANK(P69)=1,\"\",IF(OR(V69=LEFT(S$1,1),V69=RIGHT(S$1,1)),COUNTIF(V$2:V69,LEFT(S$1,1))+COUNTIF(V$2:V69,RIGHT(S$1,1)),\"\"))","v":""},{"$f":"IF(COUNTBLANK(P69)=1,\"\",IF(OR(V69=LEFT(T$1,1),V69=RIGHT(T$1,1)),COUNTIF(V$2:V69,LEFT(T$1,1))+COUNTIF(V$2:V69,RIGHT(T$1,1)),\"\"))","v":""},{"$f":"IF(COUNTBLANK(P69)=1,\"\",IF(OR(W69=LEFT(U$1,1),W69=RIGHT(U$1,1)),COUNTIF(W$2:W69,LEFT(U$1,1))+COUNTIF(W$2:W69,RIGHT(U$1,1)),\"\"))","v":""},{"$f":"IF(COUNTBLANK(P69)=1,\"\",INDEX(Registration!$C$2:$C$101,MATCH(P69,Registration!$B$2:$B$101,0)))","v":""},{"$f":"IF(COUNTBLANK(P69)=1,\"\",IF(COUNTBLANK(INDEX(Registration!$D$2:$D$101,MATCH(P69,Registration!$B$2:$B$101,0)))=1,\"\",INDEX(Registration!$D$2:$D$101,MATCH(P69,Registration!$B$2:$B$101,0))))","v":""}]
[{"$f":"IF(COUNTBLANK(Registration!B70)=1,\"\",Registration!B70)","v":""},null,null,"","","","","",null,null,null,null,null,"","","",null,{"$f":"IF(COUNTBLANK(P70)=1,\"\",IF(OR(V70=LEFT(R$1,1),V70=RIGHT(R$1,1)),COUNTIF(V$2:V70,LEFT(R$1,1))+COUNTIF(V$2:V70,RIGHT(R$1,1)),\"\"))","v":""},{"$f":"IF(COUNTBLANK(P70)=1,\"\",IF(OR(V70=LEFT(S$1,1),V70=RIGHT(S$1,1)),COUNTIF(V$2:V70,LEFT(S$1,1))+COUNTIF(V$2:V70,RIGHT(S$1,1)),\"\"))","v":""},{"$f":"IF(COUNTBLANK(P70)=1,\"\",IF(OR(V70=LEFT(T$1,1),V70=RIGHT(T$1,1)),COUNTIF(V$2:V70,LEFT(T$1,1))+COUNTIF(V$2:V70,RIGHT(T$1,1)),\"\"))","v":""},{"$f":"IF(COUNTBLANK(P70)=1,\"\",IF(OR(W70=LEFT(U$1,1),W70=RIGHT(U$1,1)),COUNTIF(W$2:W70,LEFT(U$1,1))+COUNTIF(W$2:W70,RIGHT(U$1,1)),\"\"))","v":""},{"$f":"IF(COUNTBLANK(P70)=1,\"\",INDEX(Registration!$C$2:$C$101,MATCH(P70,Registration!$B$2:$B$101,0)))","v":""},{"$f":"IF(COUNTBLANK(P70)=1,\"\",IF(COUNTBLANK(INDEX(Registration!$D$2:$D$101,MATCH(P70,Registration!$B$2:$B$101,0)))=1,\"\",INDEX(Registration!$D$2:$D$101,MATCH(P70,Registration!$B$2:$B$101,0))))","v":""}]
[{"$f":"IF(COUNTBLANK(Registration!B71)=1,\"\",Registration!B71)","v":""},null,null,"","","","","",null,null,null,null,null,"","","",null,{"$f":"IF(COUNTBLANK(P71)=1,\"\",IF(OR(V71=LEFT(R$1,1),V71=RIGHT(R$1,1)),COUNTIF(V$2:V71,LEFT(R$1,1))+COUNTIF(V$2:V71,RIGHT(R$1,1)),\"\"))","v":""},{"$f":"IF(COUNTBLANK(P71)=1,\"\",IF(OR(V71=LEFT(S$1,1),V71=RIGHT(S$1,1)),COUNTIF(V$2:V71,LEFT(S$1,1))+COUNTIF(V$2:V71,RIGHT(S$1,1)),\"\"))","v":""},{"$f":"IF(COUNTBLANK(P71)=1,\"\",IF(OR(V71=LEFT(T$1,1),V71=RIGHT(T$1,1)),COUNTIF(V$2:V71,LEFT(T$1,1))+COUNTIF(V$2:V71,RIGHT(T$1,1)),\"\"))","v":""},{"$f":"IF(COUNTBLANK(P71)=1,\"\",IF(OR(W71=LEFT(U$1,1),W71=RIGHT(U$1,1)),COUNTIF(W$2:W71,LEFT(U$1,1))+COUNTIF(W$2:W71,RIGHT(U$1,1)),\"\"))","v":""},{"$f":"IF(COUNTBLANK(P71)=1,\"\",INDEX(Registration!$C$2:$C$101,MATCH(P71,Registration!$B$2:$B$101,0)))","v":""},{"$f":"IF(COUNTBLANK(P71)=1,\"\",IF(COUNTBLANK(INDEX(Registration!$D$2:$D$101,MATCH(P71,Registration!$B$2:$B$101,0)))=1,\"\",INDEX(Registration!$D$2:$D$101,MATCH(P71,Registration!$B$2:$B$101,0))))","v":""}]
[{"$f":"IF(COUNTBLANK(Registration!B72)=1,\"\",Registration!B72)","v":""},null,null,"","","","","",null,null,null,null,null,"","","",null,{"$f":"IF(COUNTBLANK(P72)=1,\"\",IF(OR(V72=LEFT(R$1,1),V72=RIGHT(R$1,1)),COUNTIF(V$2:V72,LEFT(R$1,1))+COUNTIF(V$2:V72,RIGHT(R$1,1)),\"\"))","v":""},{"$f":"IF(COUNTBLANK(P72)=1,\"\",IF(OR(V72=LEFT(S$1,1),V72=RIGHT(S$1,1)),COUNTIF(V$2:V72,LEFT(S$1,1))+COUNTIF(V$2:V72,RIGHT(S$1,1)),\"\"))","v":""},{"$f":"IF(COUNTBLANK(P72)=1,\"\",IF(OR(V72=LEFT(T$1,1),V72=RIGHT(T$1,1)),COUNTIF(V$2:V72,LEFT(T$1,1))+COUNTIF(V$2:V72,RIGHT(T$1,1)),\"\"))","v":""},{"$f":"IF(COUNTBLANK(P72)=1,\"\",IF(OR(W72=LEFT(U$1,1),W72=RIGHT(U$1,1)),COUNTIF(W$2:W72,LEFT(U$1,1))+COUNTIF(W$2:W72,RIGHT(U$1,1)),\"\"))","v":""},{"$f":"IF(COUNTBLANK(P72)=1,\"\",INDEX(Registration!$C$2:$C$101,MATCH(P72,Registration!$B$2:$B$101,0)))","v":""},{"$f":"IF(COUNTBLANK(P72)=1,\"\",IF(COUNTBLANK(INDEX(Registration!$D$2:$D$101,MATCH(P72,Registration!$B$2:$B$101,0)))=1,\"\",INDEX(Registration!$D$2:$D$101,MATCH(P72,Registration!$B$2:$B$101,0))))","v":""}]
[{"$f":"IF(COUNTBLANK(Registration!B73)=1,\"\",Registration!B73)","v":""},null,null,"","","","","",null,null,null,null,null,"","","",null,{"$f":"IF(COUNTBLANK(P73)=1,\"\",IF(OR(V73=LEFT(R$1,1),V73=RIGHT(R$1,1)),COUNTIF(V$2:V73,LEFT(R$1,1))+COUNTIF(V$2:V73,RIGHT(R$1,1)),\"\"))","v":""},{"$f":"IF(COUNTBLANK(P73)=1,\"\",IF(OR(V73=LEFT(S$1,1),V73=RIGHT(S$1,1)),COUNTIF(V$2:V73,LEFT(S$1,1))+COUNTIF(V$2:V73,RIGHT(S$1,1)),\"\"))","v":""},{"$f":"IF(COUNTBLANK(P73)=1,\"\",IF(OR(V73=LEFT(T$1,1),V73=RIGHT(T$1,1)),COUNTIF(V$2:V73,LEFT(T$1,1))+COUNTIF(V$2:V73,RIGHT(T$1,1)),\"\"))","v":""},{"$f":"IF(COUNTBLANK(P73)=1,\"\",IF(OR(W73=LEFT(U$1,1),W73=RIGHT(U$1,1)),COUNTIF(W$2:W73,LEFT(U$1,1))+COUNTIF(W$2:W73,RIGHT(U$1,1)),\"\"))","v":""},{"$f":"IF(COUNTBLANK(P73)=1,\"\",INDEX(Registration!$C$2:$C$101,MATCH(P73,Registration!$B$2:$B$101,0)))","v":""},{"$f":"IF(COUNTBLANK(P73)=1,\"\",IF(COUNTBLANK(INDEX(Registration!$D$2:$D$101,MATCH(P73,Registration!$B$2:$B$101,0)))=1,\"\",INDEX(Registration!$D$2:$D$101,MATCH(P73,Registration!$B$2:$B$101,0))))","v":""}]
[{"$f":"IF(COUNTBLANK(Registration!B74)=1,\"\",Registration!B74)","v":""},null,null,"","","","","",null,null,null,null,null,"","","",null,{"$f":"IF(COUNTBLANK(P74)=1,\"\",IF(OR(V74=LEFT(R$1,1),V74=RIGHT(R$1,1)),COUNTIF(V$2:V74,LEFT(R$1,1))+COUNTIF(V$2:V74,RIGHT(R$1,1)),\"\"))","v":""},{"$f":"IF(COUNTBLANK(P74)=1,\"\",IF(OR(V74=LEFT(S$1,1),V74=RIGHT(S$1,1)),COUNTIF(V$2:V74,LEFT(S$1,1))+COUNTIF(V$2:V74,RIGHT(S$1,1)),\"\"))","v":""},{"$f":"IF(COUNTBLANK(P74)=1,\"\",IF(OR(V74=LEFT(T$1,1),V74=RIGHT(T$1,1)),COUNTIF(V$2:V74,LEFT(T$1,1))+COUNTIF(V$2:V74,RIGHT(T$1,1)),\"\"))","v":""},{"$f":"IF(COUNTBLANK(P74)=1,\"\",IF(OR(W74=LEFT(U$1,1),W74=RIGHT(U$1,1)),COUNTIF(W$2:W74,LEFT(U$1,1))+COUNTIF(W$2:W74,RIGHT(U$1,1)),\"\"))","v":""},{"$f":"IF(COUNTBLANK(P74)=1,\"\",INDEX(Registration!$C$2:$C$101,MATCH(P74,Registration!$B$2:$B$101,0)))","v":""},{"$f":"IF(COUNTBLANK(P74)=1,\"\",IF(COUNTBLANK(INDEX(Registration!$D$2:$D$101,MATCH(P74,Registration!$B$2:$B$101,0)))=1,\"\",INDEX(Registration!$D$2:$D$101,MATCH(P74,Registration!$B$2:$B$101,0))))","v":""}]
[{"$f":"IF(COUNTBLANK(Registration!B75)=1,\"\",Registration!B75)","v":""},null,null,"","","","","",null,null,null,null,null,"","","",null,{"$f":"IF(COUNTBLANK(P75)=1,\"\",IF(OR(V75=LEFT(R$1,1),V75=RIGHT(R$1,1)),COUNTIF(V$2:V75,LEFT(R$1,1))+COUNTIF(V$2:V75,RIGHT(R$1,1)),\"\"))","v":""},{"$f":"IF(COUNTBLANK(P75)=1,\"\",IF(OR(V75=LEFT(S$1,1),V75=RIGHT(S$1,1)),COUNTIF(V$2:V75,LEFT(S$1,1))+COUNTIF(V$2:V75,RIGHT(S$1,1)),\"\"))","v":""},{"$f":"IF(COUNTBLANK(P75)=1,\"\",IF(OR(V75=LEFT(T$1,1),V75=RIGHT(T$1,1)),COUNTIF(V$2:V75,LEFT(T$1,1))+COUNTIF(V$2:V75,RIGHT(T$1,1)),\"\"))","v":""},{"$f":"IF(COUNTBLANK(P75)=1,\"\",IF(OR(W75=LEFT(U$1,1),W75=RIGHT(U$1,1)),COUNTIF(W$2:W75,LEFT(U$1,1))+COUNTIF(W$2:W75,RIGHT(U$1,1)),\"\"))","v":""},{"$f":"IF(COUNTBLANK(P75)=1,\"\",INDEX(Registration!$C$2:$C$101,MATCH(P75,Registration!$B$2:$B$101,0)))","v":""},{"$f":"IF(COUNTBLANK(P75)=1,\"\",IF(COUNTBLANK(INDEX(Registration!$D$2:$D$101,MATCH(P75,Registration!$B$2:$B$101,0)))=1,\"\",INDEX(Registration!$D$2:$D$101,MATCH(P75,Registration!$B$2:$B$101,0))))","v":""}]
[{"$f":"IF(COUNTBLANK(Registration!B76)=1,\"\",Registration!B76)","v":""},null,null,"","","","","",null,null,null,null,null,"","","",null,{"$f":"IF(COUNTBLANK(P76)=1,\"\",IF(OR(V76=LEFT(R$1,1),V76=RIGHT(R$1,1)),COUNTIF(V$2:V76,LEFT(R$1,1))+COUNTIF(V$2:V76,RIGHT(R$1,1)),\"\"))","v":""},{"$f":"IF(COUNTBLANK(P76)=1,\"\",IF(OR(V76=LEFT(S$1,1),V76=RIGHT(S$1,1)),COUNTIF(V$2:V76,LEFT(S$1,1))+COUNTIF(V$2:V76,RIGHT(S$1,1)),\"\"))","v":""},{"$f":"IF(COUNTBLANK(P76)=1,\"\",IF(OR(V76=LEFT(T$1,1),V76=RIGHT(T$1,1)),COUNTIF(V$2:V76,LEFT(T$1,1))+COUNTIF(V$2:V76,RIGHT(T$1,1)),\"\"))","v":""},{"$f":"IF(COUNTBLANK(P76)=1,\"\",IF(OR(W76=LEFT(U$1,1),W76=RIGHT(U$1,1)),COUNTIF(W$2:W76,LEFT(U$1,1))+COUNTIF(W$2:W76,RIGHT(U$1,1)),\"\"))","v":""},{"$f":"IF(COUNTBLANK(P76)=1,\"\",INDEX(Registration!$C$2:$C$101,MATCH(P76,Registration!$B$2:$B$101,0)))","v":""},{"$f":"IF(COUNTBLANK(P76)=1,\"\",IF(COUNTBLANK(INDEX(Registration!$D$2:$D$101,MATCH(P76,Registration!$B$2:$B$101,0)))=1,\"\",INDEX(Registration!$D$2:$D$101,MATCH(P76,Registration!$B$2:$B$101,0))))","v":""}]
[{"$f":"IF(COUNTBLANK(Registration!B77)=1,\"\",Registration!B77)","v":""},null,null,"","","","","",null,null,null,null,null,"","","",null,{"$f":"IF(COUNTBLANK(P77)=1,\"\",IF(OR(V77=LEFT(R$1,1),V77=RIGHT(R$1,1)),COUNTIF(V$2:V77,LEFT(R$1,1))+COUNTIF(V$2:V77,RIGHT(R$1,1)),\"\"))","v":""},{"$f":"IF(COUNTBLANK(P77)=1,\"\",IF(OR(V77=LEFT(S$1,1),V77=RIGHT(S$1,1)),COUNTIF(V$2:V77,LEFT(S$1,1))+COUNTIF(V$2:V77,RIGHT(S$1,1)),\"\"))","v":""},{"$f":"IF(COUNTBLANK(P77)=1,\"\",IF(OR(V77=LEFT(T$1,1),V77=RIGHT(T$1,1)),COUNTIF(V$2:V77,LEFT(T$1,1))+COUNTIF(V$2:V77,RIGHT(T$1,1)),\"\"))","v":""},{"$f":"IF(COUNTBLANK(P77)=1,\"\",IF(OR(W77=LEFT(U$1,1),W77=RIGHT(U$1,1)),COUNTIF(W$2:W77,LEFT(U$1,1))+COUNTIF(W$2:W77,RIGHT(U$1,1)),\"\"))","v":""},{"$f":"IF(COUNTBLANK(P77)=1,\"\",INDEX(Registration!$C$2:$C$101,MATCH(P77,Registration!$B$2:$B$101,0)))","v":""},{"$f":"IF(COUNTBLANK(P77)=1,\"\",IF(COUNTBLANK(INDEX(Registration!$D$2:$D$101,MATCH(P77,Registration!$B$2:$B$101,0)))=1,\"\",INDEX(Registration!$D$2:$D$101,MATCH(P77,Registration!$B$2:$B$101,0))))","v":""}]
[{"$f":"IF(COUNTBLANK(Registration!B78)=1,\"\",Registration!B78)","v":""},null,null,"","","","","",null,null,null,null,null,"","","",null,{"$f":"IF(COUNTBLANK(P78)=1,\"\",IF(OR(V78=LEFT(R$1,1),V78=RIGHT(R$1,1)),COUNTIF(V$2:V78,LEFT(R$1,1))+COUNTIF(V$2:V78,RIGHT(R$1,1)),\"\"))","v":""},{"$f":"IF(COUNTBLANK(P78)=1,\"\",IF(OR(V78=LEFT(S$1,1),V78=RIGHT(S$1,1)),COUNTIF(V$2:V78,LEFT(S$1,1))+COUNTIF(V$2:V78,RIGHT(S$1,1)),\"\"))","v":""},{"$f":"IF(COUNTBLANK(P78)=1,\"\",IF(OR(V78=LEFT(T$1,1),V78=RIGHT(T$1,1)),COUNTIF(V$2:V78,LEFT(T$1,1))+COUNTIF(V$2:V78,RIGHT(T$1,1)),\"\"))","v":""},{"$f":"IF(COUNTBLANK(P78)=1,\"\",IF(OR(W78=LEFT(U$1,1),W78=RIGHT(U$1,1)),COUNTIF(W$2:W78,LEFT(U$1,1))+COUNTIF(W$2:W78,RIGHT(U$1,1)),\"\"))","v":""},{"$f":"IF(COUNTBLANK(P78)=1,\"\",INDEX(Registration!$C$2:$C$101,MATCH(P78,Registration!$B$2:$B$101,0)))","v":""},{"$f":"IF(COUNTBLANK(P78)=1,\"\",IF(COUNTBLANK(INDEX(Registration!$D$2:$D$101,MATCH(P78,Registration!$B$2:$B$101,0)))=1,\"\",INDEX(Registration!$D$2:$D$101,MATCH(P78,Registration!$B$2:$B$101,0))))","v":""}]
[{"$f":"IF(COUNTBLANK(Registration!B79)=1,\"\",Registration!B79)","v":""},null,null,"","","","","",null,null,null,null,null,"","","",null,{"$f":"IF(COUNTBLANK(P79)=1,\"\",IF(OR(V79=LEFT(R$1,1),V79=RIGHT(R$1,1)),COUNTIF(V$2:V79,LEFT(R$1,1))+COUNTIF(V$2:V79,RIGHT(R$1,1)),\"\"))","v":""},{"$f":"IF(COUNTBLANK(P79)=1,\"\",IF(OR(V79=LEFT(S$1,1),V79=RIGHT(S$1,1)),COUNTIF(V$2:V79,LEFT(S$1,1))+COUNTIF(V$2:V79,RIGHT(S$1,1)),\"\"))","v":""},{"$f":"IF(COUNTBLANK(P79)=1,\"\",IF(OR(V79=LEFT(T$1,1),V79=RIGHT(T$1,1)),COUNTIF(V$2:V79,LEFT(T$1,1))+COUNTIF(V$2:V79,RIGHT(T$1,1)),\"\"))","v":""},{"$f":"IF(COUNTBLANK(P79)=1,\"\",IF(OR(W79=LEFT(U$1,1),W79=RIGHT(U$1,1)),COUNTIF(W$2:W79,LEFT(U$1,1))+COUNTIF(W$2:W79,RIGHT(U$1,1)),\"\"))","v":""},{"$f":"IF(COUNTBLANK(P79)=1,\"\",INDEX(Registration!$C$2:$C$101,MATCH(P79,Registration!$B$2:$B$101,0)))","v":""},{"$f":"IF(COUNTBLANK(P79)=1,\"\",IF(COUNTBLANK(INDEX(Registration!$D$2:$D$101,MATCH(P79,Registration!$B$2:$B$101,0)))=1,\"\",INDEX(Registration!$D$2:$D$101,MATCH(P79,Registration!$B$2:$B$101,0))))","v":""}]
[{"$f":"IF(COUNTBLANK(Registration!B80)=1,\"\",Registration!B80)","v":""},null,null,"","","","","",null,null,null,null,null,"","","",null,{"$f":"IF(COUNTBLANK(P80)=1,\"\",IF(OR(V80=LEFT(R$1,1),V80=RIGHT(R$1,1)),COUNTIF(V$2:V80,LEFT(R$1,1))+COUNTIF(V$2:V80,RIGHT(R$1,1)),\"\"))","v":""},{"$f":"IF(COUNTBLANK(P80)=1,\"\",IF(OR(V80=LEFT(S$1,1),V80=RIGHT(S$1,1)),COUNTIF(V$2:V80,LEFT(S$1,1))+COUNTIF(V$2:V80,RIGHT(S$1,1)),\"\"))","v":""},{"$f":"IF(COUNTBLANK(P80)=1,\"\",IF(OR(V80=LEFT(T$1,1),V80=RIGHT(T$1,1)),COUNTIF(V$2:V80,LEFT(T$1,1))+COUNTIF(V$2:V80,RIGHT(T$1,1)),\"\"))","v":""},{"$f":"IF(COUNTBLANK(P80)=1,\"\",IF(OR(W80=LEFT(U$1,1),W80=RIGHT(U$1,1)),COUNTIF(W$2:W80,LEFT(U$1,1))+COUNTIF(W$2:W80,RIGHT(U$1,1)),\"\"))","v":""},{"$f":"IF(COUNTBLANK(P80)=1,\"\",INDEX(Registration!$C$2:$C$101,MATCH(P80,Registration!$B$2:$B$101,0)))","v":""},{"$f":"IF(COUNTBLANK(P80)=1,\"\",IF(COUNTBLANK(INDEX(Registration!$D$2:$D$101,MATCH(P80,Registration!$B$2:$B$101,0)))=1,\"\",INDEX(Registration!$D$2:$D$101,MATCH(P80,Registration!$B$2:$B$101,0))))","v":""}]
[{"$f":"IF(COUNTBLANK(Registration!B81)=1,\"\",Registration!B81)","v":""},null,null,"","","","","",null,null,null,null,null,"","","",null,{"$f":"IF(COUNTBLANK(P81)=1,\"\",IF(OR(V81=LEFT(R$1,1),V81=RIGHT(R$1,1)),COUNTIF(V$2:V81,LEFT(R$1,1))+COUNTIF(V$2:V81,RIGHT(R$1,1)),\"\"))","v":""},{"$f":"IF(COUNTBLANK(P81)=1,\"\",IF(OR(V81=LEFT(S$1,1),V81=RIGHT(S$1,1)),COUNTIF(V$2:V81,LEFT(S$1,1))+COUNTIF(V$2:V81,RIGHT(S$1,1)),\"\"))","v":""},{"$f":"IF(COUNTBLANK(P81)=1,\"\",IF(OR(V81=LEFT(T$1,1),V81=RIGHT(T$1,1)),COUNTIF(V$2:V81,LEFT(T$1,1))+COUNTIF(V$2:V81,RIGHT(T$1,1)),\"\"))","v":""},{"$f":"IF(COUNTBLANK(P81)=1,\"\",IF(OR(W81=LEFT(U$1,1),W81=RIGHT(U$1,1)),COUNTIF(W$2:W81,LEFT(U$1,1))+COUNTIF(W$2:W81,RIGHT(U$1,1)),\"\"))","v":""},{"$f":"IF(COUNTBLANK(P81)=1,\"\",INDEX(Registration!$C$2:$C$101,MATCH(P81,Registration!$B$2:$B$101,0)))","v":""},{"$f":"IF(COUNTBLANK(P81)=1,\"\",IF(COUNTBLANK(INDEX(Registration!$D$2:$D$101,MATCH(P81,Registration!$B$2:$B$101,0)))=1,\"\",INDEX(Registration!$D$2:$D$101,MATCH(P81,Registration!$B$2:$B$101,0))))","v":""}]
[{"$f":"IF(COUNTBLANK(Registration!B82)=1,\"\",Registration!B82)","v":""},null,null,{"$f":"IF(COUNTBLANK($A82)=1,\"\",IF(OR(B82<0,C82<0),999,IF(OR(B82=0,B82=\"0c\"),600,IF(OR(B82=1,B82=\"1c\"),310,IF(OR(B82=2,B82=\"2c\"),160,IF(OR(B82=3,B82=\"3c\"),110,IF(OR(B82=4,B82=\"4c\"),85,B82)))))))","v":""},{"$f":"IF(COUNTBLANK($A82)=1,\"\",IF(OR(B82<0,C82<0),999,IF(OR(C82=0,C82=\"0c\"),600,IF(OR(C82=1,C82=\"1c\"),310,IF(OR(C82=2,C82=\"2c\"),160,IF(OR(C82=3,C82=\"3c\"),110,IF(OR(C82=4,C82=\"4c\"),85,C82)))))))","v":""},"","","",null,null,null,null,null,"","","",null,{"$f":"IF(COUNTBLANK(P82)=1,\"\",IF(OR(V82=LEFT(R$1,1),V82=RIGHT(R$1,1)),COUNTIF(V$2:V82,LEFT(R$1,1))+COUNTIF(V$2:V82,RIGHT(R$1,1)),\"\"))","v":""},{"$f":"IF(COUNTBLANK(P82)=1,\"\",IF(OR(V82=LEFT(S$1,1),V82=RIGHT(S$1,1)),COUNTIF(V$2:V82,LEFT(S$1,1))+COUNTIF(V$2:V82,RIGHT(S$1,1)),\"\"))","v":""},{"$f":"IF(COUNTBLANK(P82)=1,\"\",IF(OR(V82=LEFT(T$1,1),V82=RIGHT(T$1,1)),COUNTIF(V$2:V82,LEFT(T$1,1))+COUNTIF(V$2:V82,RIGHT(T$1,1)),\"\"))","v":""},{"$f":"IF(COUNTBLANK(P82)=1,\"\",IF(OR(W82=LEFT(U$1,1),W82=RIGHT(U$1,1)),COUNTIF(W$2:W82,LEFT(U$1,1))+COUNTIF(W$2:W82,RIGHT(U$1,1)),\"\"))","v":""},{"$f":"IF(COUNTBLANK(P82)=1,\"\",INDEX(Registration!$C$2:$C$101,MATCH(P82,Registration!$B$2:$B$101,0)))","v":""},{"$f":"IF(COUNTBLANK(P82)=1,\"\",IF(COUNTBLANK(INDEX(Registration!$D$2:$D$101,MATCH(P82,Registration!$B$2:$B$101,0)))=1,\"\",INDEX(Registration!$D$2:$D$101,MATCH(P82,Registration!$B$2:$B$101,0))))","v":""}]
[{"$f":"IF(COUNTBLANK(Registration!B83)=1,\"\",Registration!B83)","v":""},null,null,"","","","","",null,null,null,null,null,"","","",null,{"$f":"IF(COUNTBLANK(P83)=1,\"\",IF(OR(V83=LEFT(R$1,1),V83=RIGHT(R$1,1)),COUNTIF(V$2:V83,LEFT(R$1,1))+COUNTIF(V$2:V83,RIGHT(R$1,1)),\"\"))","v":""},{"$f":"IF(COUNTBLANK(P83)=1,\"\",IF(OR(V83=LEFT(S$1,1),V83=RIGHT(S$1,1)),COUNTIF(V$2:V83,LEFT(S$1,1))+COUNTIF(V$2:V83,RIGHT(S$1,1)),\"\"))","v":""},{"$f":"IF(COUNTBLANK(P83)=1,\"\",IF(OR(V83=LEFT(T$1,1),V83=RIGHT(T$1,1)),COUNTIF(V$2:V83,LEFT(T$1,1))+COUNTIF(V$2:V83,RIGHT(T$1,1)),\"\"))","v":""},{"$f":"IF(COUNTBLANK(P83)=1,\"\",IF(OR(W83=LEFT(U$1,1),W83=RIGHT(U$1,1)),COUNTIF(W$2:W83,LEFT(U$1,1))+COUNTIF(W$2:W83,RIGHT(U$1,1)),\"\"))","v":""},{"$f":"IF(COUNTBLANK(P83)=1,\"\",INDEX(Registration!$C$2:$C$101,MATCH(P83,Registration!$B$2:$B$101,0)))","v":""},{"$f":"IF(COUNTBLANK(P83)=1,\"\",IF(COUNTBLANK(INDEX(Registration!$D$2:$D$101,MATCH(P83,Registration!$B$2:$B$101,0)))=1,\"\",INDEX(Registration!$D$2:$D$101,MATCH(P83,Registration!$B$2:$B$101,0))))","v":""}]
[{"$f":"IF(COUNTBLANK(Registration!B84)=1,\"\",Registration!B84)","v":""},null,null,"","","","","",null,null,null,null,null,"","","",null,{"$f":"IF(COUNTBLANK(P84)=1,\"\",IF(OR(V84=LEFT(R$1,1),V84=RIGHT(R$1,1)),COUNTIF(V$2:V84,LEFT(R$1,1))+COUNTIF(V$2:V84,RIGHT(R$1,1)),\"\"))","v":""},{"$f":"IF(COUNTBLANK(P84)=1,\"\",IF(OR(V84=LEFT(S$1,1),V84=RIGHT(S$1,1)),COUNTIF(V$2:V84,LEFT(S$1,1))+COUNTIF(V$2:V84,RIGHT(S$1,1)),\"\"))","v":""},{"$f":"IF(COUNTBLANK(P84)=1,\"\",IF(OR(V84=LEFT(T$1,1),V84=RIGHT(T$1,1)),COUNTIF(V$2:V84,LEFT(T$1,1))+COUNTIF(V$2:V84,RIGHT(T$1,1)),\"\"))","v":""},{"$f":"IF(COUNTBLANK(P84)=1,\"\",IF(OR(W84=LEFT(U$1,1),W84=RIGHT(U$1,1)),COUNTIF(W$2:W84,LEFT(U$1,1))+COUNTIF(W$2:W84,RIGHT(U$1,1)),\"\"))","v":""},{"$f":"IF(COUNTBLANK(P84)=1,\"\",INDEX(Registration!$C$2:$C$101,MATCH(P84,Registration!$B$2:$B$101,0)))","v":""},{"$f":"IF(COUNTBLANK(P84)=1,\"\",IF(COUNTBLANK(INDEX(Registration!$D$2:$D$101,MATCH(P84,Registration!$B$2:$B$101,0)))=1,\"\",INDEX(Registration!$D$2:$D$101,MATCH(P84,Registration!$B$2:$B$101,0))))","v":""}]
[{"$f":"IF(COUNTBLANK(Registration!B85)=1,\"\",Registration!B85)","v":""},null,null,"","","","","",null,null,null,null,null,"","","",null,{"$f":"IF(COUNTBLANK(P85)=1,\"\",IF(OR(V85=LEFT(R$1,1),V85=RIGHT(R$1,1)),COUNTIF(V$2:V85,LEFT(R$1,1))+COUNTIF(V$2:V85,RIGHT(R$1,1)),\"\"))","v":""},{"$f":"IF(COUNTBLANK(P85)=1,\"\",IF(OR(V85=LEFT(S$1,1),V85=RIGHT(S$1,1)),COUNTIF(V$2:V85,LEFT(S$1,1))+COUNTIF(V$2:V85,RIGHT(S$1,1)),\"\"))","v":""},{"$f":"IF(COUNTBLANK(P85)=1,\"\",IF(OR(V85=LEFT(T$1,1),V85=RIGHT(T$1,1)),COUNTIF(V$2:V85,LEFT(T$1,1))+COUNTIF(V$2:V85,RIGHT(T$1,1)),\"\"))","v":""},{"$f":"IF(COUNTBLANK(P85)=1,\"\",IF(OR(W85=LEFT(U$1,1),W85=RIGHT(U$1,1)),COUNTIF(W$2:W85,LEFT(U$1,1))+COUNTIF(W$2:W85,RIGHT(U$1,1)),\"\"))","v":""},{"$f":"IF(COUNTBLANK(P85)=1,\"\",INDEX(Registration!$C$2:$C$101,MATCH(P85,Registration!$B$2:$B$101,0)))","v":""},{"$f":"IF(COUNTBLANK(P85)=1,\"\",IF(COUNTBLANK(INDEX(Registration!$D$2:$D$101,MATCH(P85,Registration!$B$2:$B$101,0)))=1,\"\",INDEX(Registration!$D$2:$D$101,MATCH(P85,Registration!$B$2:$B$101,0))))","v":""}]
[{"$f":"IF(COUNTBLANK(Registration!B86)=1,\"\",Registration!B86)","v":""},null,null,"","","","","",null,null,null,null,null,"","","",null,{"$f":"IF(COUNTBLANK(P86)=1,\"\",IF(OR(V86=LEFT(R$1,1),V86=RIGHT(R$1,1)),COUNTIF(V$2:V86,LEFT(R$1,1))+COUNTIF(V$2:V86,RIGHT(R$1,1)),\"\"))","v":""},{"$f":"IF(COUNTBLANK(P86)=1,\"\",IF(OR(V86=LEFT(S$1,1),V86=RIGHT(S$1,1)),COUNTIF(V$2:V86,LEFT(S$1,1))+COUNTIF(V$2:V86,RIGHT(S$1,1)),\"\"))","v":""},{"$f":"IF(COUNTBLANK(P86)=1,\"\",IF(OR(V86=LEFT(T$1,1),V86=RIGHT(T$1,1)),COUNTIF(V$2:V86,LEFT(T$1,1))+COUNTIF(V$2:V86,RIGHT(T$1,1)),\"\"))","v":""},{"$f":"IF(COUNTBLANK(P86)=1,\"\",IF(OR(W86=LEFT(U$1,1),W86=RIGHT(U$1,1)),COUNTIF(W$2:W86,LEFT(U$1,1))+COUNTIF(W$2:W86,RIGHT(U$1,1)),\"\"))","v":""},{"$f":"IF(COUNTBLANK(P86)=1,\"\",INDEX(Registration!$C$2:$C$101,MATCH(P86,Registration!$B$2:$B$101,0)))","v":""},{"$f":"IF(COUNTBLANK(P86)=1,\"\",IF(COUNTBLANK(INDEX(Registration!$D$2:$D$101,MATCH(P86,Registration!$B$2:$B$101,0)))=1,\"\",INDEX(Registration!$D$2:$D$101,MATCH(P86,Registration!$B$2:$B$101,0))))","v":""}]
[{"$f":"IF(COUNTBLANK(Registration!B87)=1,\"\",Registration!B87)","v":""},null,null,"","","","","",null,null,null,null,null,"","","",null,{"$f":"IF(COUNTBLANK(P87)=1,\"\",IF(OR(V87=LEFT(R$1,1),V87=RIGHT(R$1,1)),COUNTIF(V$2:V87,LEFT(R$1,1))+COUNTIF(V$2:V87,RIGHT(R$1,1)),\"\"))","v":""},{"$f":"IF(COUNTBLANK(P87)=1,\"\",IF(OR(V87=LEFT(S$1,1),V87=RIGHT(S$1,1)),COUNTIF(V$2:V87,LEFT(S$1,1))+COUNTIF(V$2:V87,RIGHT(S$1,1)),\"\"))","v":""},{"$f":"IF(COUNTBLANK(P87)=1,\"\",IF(OR(V87=LEFT(T$1,1),V87=RIGHT(T$1,1)),COUNTIF(V$2:V87,LEFT(T$1,1))+COUNTIF(V$2:V87,RIGHT(T$1,1)),\"\"))","v":""},{"$f":"IF(COUNTBLANK(P87)=1,\"\",IF(OR(W87=LEFT(U$1,1),W87=RIGHT(U$1,1)),COUNTIF(W$2:W87,LEFT(U$1,1))+COUNTIF(W$2:W87,RIGHT(U$1,1)),\"\"))","v":""},{"$f":"IF(COUNTBLANK(P87)=1,\"\",INDEX(Registration!$C$2:$C$101,MATCH(P87,Registration!$B$2:$B$101,0)))","v":""},{"$f":"IF(COUNTBLANK(P87)=1,\"\",IF(COUNTBLANK(INDEX(Registration!$D$2:$D$101,MATCH(P87,Registration!$B$2:$B$101,0)))=1,\"\",INDEX(Registration!$D$2:$D$101,MATCH(P87,Registration!$B$2:$B$101,0))))","v":""}]
[{"$f":"IF(COUNTBLANK(Registration!B88)=1,\"\",Registration!B88)","v":""},null,null,"","","","","",null,null,null,null,null,"","","",null,{"$f":"IF(COUNTBLANK(P88)=1,\"\",IF(OR(V88=LEFT(R$1,1),V88=RIGHT(R$1,1)),COUNTIF(V$2:V88,LEFT(R$1,1))+COUNTIF(V$2:V88,RIGHT(R$1,1)),\"\"))","v":""},{"$f":"IF(COUNTBLANK(P88)=1,\"\",IF(OR(V88=LEFT(S$1,1),V88=RIGHT(S$1,1)),COUNTIF(V$2:V88,LEFT(S$1,1))+COUNTIF(V$2:V88,RIGHT(S$1,1)),\"\"))","v":""},{"$f":"IF(COUNTBLANK(P88)=1,\"\",IF(OR(V88=LEFT(T$1,1),V88=RIGHT(T$1,1)),COUNTIF(V$2:V88,LEFT(T$1,1))+COUNTIF(V$2:V88,RIGHT(T$1,1)),\"\"))","v":""},{"$f":"IF(COUNTBLANK(P88)=1,\"\",IF(OR(W88=LEFT(U$1,1),W88=RIGHT(U$1,1)),COUNTIF(W$2:W88,LEFT(U$1,1))+COUNTIF(W$2:W88,RIGHT(U$1,1)),\"\"))","v":""},{"$f":"IF(COUNTBLANK(P88)=1,\"\",INDEX(Registration!$C$2:$C$101,MATCH(P88,Registration!$B$2:$B$101,0)))","v":""},{"$f":"IF(COUNTBLANK(P88)=1,\"\",IF(COUNTBLANK(INDEX(Registration!$D$2:$D$101,MATCH(P88,Registration!$B$2:$B$101,0)))=1,\"\",INDEX(Registration!$D$2:$D$101,MATCH(P88,Registration!$B$2:$B$101,0))))","v":""}]
[{"$f":"IF(COUNTBLANK(Registration!B89)=1,\"\",Registration!B89)","v":""},null,null,"","","","","",null,null,null,null,null,"","","",null,{"$f":"IF(COUNTBLANK(P89)=1,\"\",IF(OR(V89=LEFT(R$1,1),V89=RIGHT(R$1,1)),COUNTIF(V$2:V89,LEFT(R$1,1))+COUNTIF(V$2:V89,RIGHT(R$1,1)),\"\"))","v":""},{"$f":"IF(COUNTBLANK(P89)=1,\"\",IF(OR(V89=LEFT(S$1,1),V89=RIGHT(S$1,1)),COUNTIF(V$2:V89,LEFT(S$1,1))+COUNTIF(V$2:V89,RIGHT(S$1,1)),\"\"))","v":""},{"$f":"IF(COUNTBLANK(P89)=1,\"\",IF(OR(V89=LEFT(T$1,1),V89=RIGHT(T$1,1)),COUNTIF(V$2:V89,LEFT(T$1,1))+COUNTIF(V$2:V89,RIGHT(T$1,1)),\"\"))","v":""},{"$f":"IF(COUNTBLANK(P89)=1,\"\",IF(OR(W89=LEFT(U$1,1),W89=RIGHT(U$1,1)),COUNTIF(W$2:W89,LEFT(U$1,1))+COUNTIF(W$2:W89,RIGHT(U$1,1)),\"\"))","v":""},{"$f":"IF(COUNTBLANK(P89)=1,\"\",INDEX(Registration!$C$2:$C$101,MATCH(P89,Registration!$B$2:$B$101,0)))","v":""},{"$f":"IF(COUNTBLANK(P89)=1,\"\",IF(COUNTBLANK(INDEX(Registration!$D$2:$D$101,MATCH(P89,Registration!$B$2:$B$101,0)))=1,\"\",INDEX(Registration!$D$2:$D$101,MATCH(P89,Registration!$B$2:$B$101,0))))","v":""}]
[{"$f":"IF(COUNTBLANK(Registration!B90)=1,\"\",Registration!B90)","v":""},null,null,"","","","","",null,null,null,null,null,"","","",null,{"$f":"IF(COUNTBLANK(P90)=1,\"\",IF(OR(V90=LEFT(R$1,1),V90=RIGHT(R$1,1)),COUNTIF(V$2:V90,LEFT(R$1,1))+COUNTIF(V$2:V90,RIGHT(R$1,1)),\"\"))","v":""},{"$f":"IF(COUNTBLANK(P90)=1,\"\",IF(OR(V90=LEFT(S$1,1),V90=RIGHT(S$1,1)),COUNTIF(V$2:V90,LEFT(S$1,1))+COUNTIF(V$2:V90,RIGHT(S$1,1)),\"\"))","v":""},{"$f":"IF(COUNTBLANK(P90)=1,\"\",IF(OR(V90=LEFT(T$1,1),V90=RIGHT(T$1,1)),COUNTIF(V$2:V90,LEFT(T$1,1))+COUNTIF(V$2:V90,RIGHT(T$1,1)),\"\"))","v":""},{"$f":"IF(COUNTBLANK(P90)=1,\"\",IF(OR(W90=LEFT(U$1,1),W90=RIGHT(U$1,1)),COUNTIF(W$2:W90,LEFT(U$1,1))+COUNTIF(W$2:W90,RIGHT(U$1,1)),\"\"))","v":""},{"$f":"IF(COUNTBLANK(P90)=1,\"\",INDEX(Registration!$C$2:$C$101,MATCH(P90,Registration!$B$2:$B$101,0)))","v":""},{"$f":"IF(COUNTBLANK(P90)=1,\"\",IF(COUNTBLANK(INDEX(Registration!$D$2:$D$101,MATCH(P90,Registration!$B$2:$B$101,0)))=1,\"\",INDEX(Registration!$D$2:$D$101,MATCH(P90,Registration!$B$2:$B$101,0))))","v":""}]
[{"$f":"IF(COUNTBLANK(Registration!B91)=1,\"\",Registration!B91)","v":""},null,null,"","","","","",null,null,null,null,null,"","","",null,{"$f":"IF(COUNTBLANK(P91)=1,\"\",IF(OR(V91=LEFT(R$1,1),V91=RIGHT(R$1,1)),COUNTIF(V$2:V91,LEFT(R$1,1))+COUNTIF(V$2:V91,RIGHT(R$1,1)),\"\"))","v":""},{"$f":"IF(COUNTBLANK(P91)=1,\"\",IF(OR(V91=LEFT(S$1,1),V91=RIGHT(S$1,1)),COUNTIF(V$2:V91,LEFT(S$1,1))+COUNTIF(V$2:V91,RIGHT(S$1,1)),\"\"))","v":""},{"$f":"IF(COUNTBLANK(P91)=1,\"\",IF(OR(V91=LEFT(T$1,1),V91=RIGHT(T$1,1)),COUNTIF(V$2:V91,LEFT(T$1,1))+COUNTIF(V$2:V91,RIGHT(T$1,1)),\"\"))","v":""},{"$f":"IF(COUNTBLANK(P91)=1,\"\",IF(OR(W91=LEFT(U$1,1),W91=RIGHT(U$1,1)),COUNTIF(W$2:W91,LEFT(U$1,1))+COUNTIF(W$2:W91,RIGHT(U$1,1)),\"\"))","v":""},{"$f":"IF(COUNTBLANK(P91)=1,\"\",INDEX(Registration!$C$2:$C$101,MATCH(P91,Registration!$B$2:$B$101,0)))","v":""},{"$f":"IF(COUNTBLANK(P91)=1,\"\",IF(COUNTBLANK(INDEX(Registration!$D$2:$D$101,MATCH(P91,Registration!$B$2:$B$101,0)))=1,\"\",INDEX(Registration!$D$2:$D$101,MATCH(P91,Registration!$B$2:$B$101,0))))","v":""}]
[{"$f":"IF(COUNTBLANK(Registration!B92)=1,\"\",Registration!B92)","v":""},null,null,"","","","","",null,null,null,null,null,"","","",null,{"$f":"IF(COUNTBLANK(P92)=1,\"\",IF(OR(V92=LEFT(R$1,1),V92=RIGHT(R$1,1)),COUNTIF(V$2:V92,LEFT(R$1,1))+COUNTIF(V$2:V92,RIGHT(R$1,1)),\"\"))","v":""},{"$f":"IF(COUNTBLANK(P92)=1,\"\",IF(OR(V92=LEFT(S$1,1),V92=RIGHT(S$1,1)),COUNTIF(V$2:V92,LEFT(S$1,1))+COUNTIF(V$2:V92,RIGHT(S$1,1)),\"\"))","v":""},{"$f":"IF(COUNTBLANK(P92)=1,\"\",IF(OR(V92=LEFT(T$1,1),V92=RIGHT(T$1,1)),COUNTIF(V$2:V92,LEFT(T$1,1))+COUNTIF(V$2:V92,RIGHT(T$1,1)),\"\"))","v":""},{"$f":"IF(COUNTBLANK(P92)=1,\"\",IF(OR(W92=LEFT(U$1,1),W92=RIGHT(U$1,1)),COUNTIF(W$2:W92,LEFT(U$1,1))+COUNTIF(W$2:W92,RIGHT(U$1,1)),\"\"))","v":""},{"$f":"IF(COUNTBLANK(P92)=1,\"\",INDEX(Registration!$C$2:$C$101,MATCH(P92,Registration!$B$2:$B$101,0)))","v":""},{"$f":"IF(COUNTBLANK(P92)=1,\"\",IF(COUNTBLANK(INDEX(Registration!$D$2:$D$101,MATCH(P92,Registration!$B$2:$B$101,0)))=1,\"\",INDEX(Registration!$D$2:$D$101,MATCH(P92,Registration!$B$2:$B$101,0))))","v":""}]
[{"$f":"IF(COUNTBLANK(Registration!B93)=1,\"\",Registration!B93)","v":""},null,null,"","","","","",null,null,null,null,null,"","","",null,{"$f":"IF(COUNTBLANK(P93)=1,\"\",IF(OR(V93=LEFT(R$1,1),V93=RIGHT(R$1,1)),COUNTIF(V$2:V93,LEFT(R$1,1))+COUNTIF(V$2:V93,RIGHT(R$1,1)),\"\"))","v":""},{"$f":"IF(COUNTBLANK(P93)=1,\"\",IF(OR(V93=LEFT(S$1,1),V93=RIGHT(S$1,1)),COUNTIF(V$2:V93,LEFT(S$1,1))+COUNTIF(V$2:V93,RIGHT(S$1,1)),\"\"))","v":""},{"$f":"IF(COUNTBLANK(P93)=1,\"\",IF(OR(V93=LEFT(T$1,1),V93=RIGHT(T$1,1)),COUNTIF(V$2:V93,LEFT(T$1,1))+COUNTIF(V$2:V93,RIGHT(T$1,1)),\"\"))","v":""},{"$f":"IF(COUNTBLANK(P93)=1,\"\",IF(OR(W93=LEFT(U$1,1),W93=RIGHT(U$1,1)),COUNTIF(W$2:W93,LEFT(U$1,1))+COUNTIF(W$2:W93,RIGHT(U$1,1)),\"\"))","v":""},{"$f":"IF(COUNTBLANK(P93)=1,\"\",INDEX(Registration!$C$2:$C$101,MATCH(P93,Registration!$B$2:$B$101,0)))","v":""},{"$f":"IF(COUNTBLANK(P93)=1,\"\",IF(COUNTBLANK(INDEX(Registration!$D$2:$D$101,MATCH(P93,Registration!$B$2:$B$101,0)))=1,\"\",INDEX(Registration!$D$2:$D$101,MATCH(P93,Registration!$B$2:$B$101,0))))","v":""}]
[{"$f":"IF(COUNTBLANK(Registration!B94)=1,\"\",Registration!B94)","v":""},null,null,"","","","","",null,null,null,null,null,"","","",null,{"$f":"IF(COUNTBLANK(P94)=1,\"\",IF(OR(V94=LEFT(R$1,1),V94=RIGHT(R$1,1)),COUNTIF(V$2:V94,LEFT(R$1,1))+COUNTIF(V$2:V94,RIGHT(R$1,1)),\"\"))","v":""},{"$f":"IF(COUNTBLANK(P94)=1,\"\",IF(OR(V94=LEFT(S$1,1),V94=RIGHT(S$1,1)),COUNTIF(V$2:V94,LEFT(S$1,1))+COUNTIF(V$2:V94,RIGHT(S$1,1)),\"\"))","v":""},{"$f":"IF(COUNTBLANK(P94)=1,\"\",IF(OR(V94=LEFT(T$1,1),V94=RIGHT(T$1,1)),COUNTIF(V$2:V94,LEFT(T$1,1))+COUNTIF(V$2:V94,RIGHT(T$1,1)),\"\"))","v":""},{"$f":"IF(COUNTBLANK(P94)=1,\"\",IF(OR(W94=LEFT(U$1,1),W94=RIGHT(U$1,1)),COUNTIF(W$2:W94,LEFT(U$1,1))+COUNTIF(W$2:W94,RIGHT(U$1,1)),\"\"))","v":""},{"$f":"IF(COUNTBLANK(P94)=1,\"\",INDEX(Registration!$C$2:$C$101,MATCH(P94,Registration!$B$2:$B$101,0)))","v":""},{"$f":"IF(COUNTBLANK(P94)=1,\"\",IF(COUNTBLANK(INDEX(Registration!$D$2:$D$101,MATCH(P94,Registration!$B$2:$B$101,0)))=1,\"\",INDEX(Registration!$D$2:$D$101,MATCH(P94,Registration!$B$2:$B$101,0))))","v":""}]
[{"$f":"IF(COUNTBLANK(Registration!B95)=1,\"\",Registration!B95)","v":""},null,null,"","","","","",null,null,null,null,null,"","","",null,{"$f":"IF(COUNTBLANK(P95)=1,\"\",IF(OR(V95=LEFT(R$1,1),V95=RIGHT(R$1,1)),COUNTIF(V$2:V95,LEFT(R$1,1))+COUNTIF(V$2:V95,RIGHT(R$1,1)),\"\"))","v":""},{"$f":"IF(COUNTBLANK(P95)=1,\"\",IF(OR(V95=LEFT(S$1,1),V95=RIGHT(S$1,1)),COUNTIF(V$2:V95,LEFT(S$1,1))+COUNTIF(V$2:V95,RIGHT(S$1,1)),\"\"))","v":""},{"$f":"IF(COUNTBLANK(P95)=1,\"\",IF(OR(V95=LEFT(T$1,1),V95=RIGHT(T$1,1)),COUNTIF(V$2:V95,LEFT(T$1,1))+COUNTIF(V$2:V95,RIGHT(T$1,1)),\"\"))","v":""},{"$f":"IF(COUNTBLANK(P95)=1,\"\",IF(OR(W95=LEFT(U$1,1),W95=RIGHT(U$1,1)),COUNTIF(W$2:W95,LEFT(U$1,1))+COUNTIF(W$2:W95,RIGHT(U$1,1)),\"\"))","v":""},{"$f":"IF(COUNTBLANK(P95)=1,\"\",INDEX(Registration!$C$2:$C$101,MATCH(P95,Registration!$B$2:$B$101,0)))","v":""},{"$f":"IF(COUNTBLANK(P95)=1,\"\",IF(COUNTBLANK(INDEX(Registration!$D$2:$D$101,MATCH(P95,Registration!$B$2:$B$101,0)))=1,\"\",INDEX(Registration!$D$2:$D$101,MATCH(P95,Registration!$B$2:$B$101,0))))","v":""}]
[{"$f":"IF(COUNTBLANK(Registration!B96)=1,\"\",Registration!B96)","v":""},null,null,"","","","","",null,null,null,null,null,"","","",null,{"$f":"IF(COUNTBLANK(P96)=1,\"\",IF(OR(V96=LEFT(R$1,1),V96=RIGHT(R$1,1)),COUNTIF(V$2:V96,LEFT(R$1,1))+COUNTIF(V$2:V96,RIGHT(R$1,1)),\"\"))","v":""},{"$f":"IF(COUNTBLANK(P96)=1,\"\",IF(OR(V96=LEFT(S$1,1),V96=RIGHT(S$1,1)),COUNTIF(V$2:V96,LEFT(S$1,1))+COUNTIF(V$2:V96,RIGHT(S$1,1)),\"\"))","v":""},{"$f":"IF(COUNTBLANK(P96)=1,\"\",IF(OR(V96=LEFT(T$1,1),V96=RIGHT(T$1,1)),COUNTIF(V$2:V96,LEFT(T$1,1))+COUNTIF(V$2:V96,RIGHT(T$1,1)),\"\"))","v":""},{"$f":"IF(COUNTBLANK(P96)=1,\"\",IF(OR(W96=LEFT(U$1,1),W96=RIGHT(U$1,1)),COUNTIF(W$2:W96,LEFT(U$1,1))+COUNTIF(W$2:W96,RIGHT(U$1,1)),\"\"))","v":""},{"$f":"IF(COUNTBLANK(P96)=1,\"\",INDEX(Registration!$C$2:$C$101,MATCH(P96,Registration!$B$2:$B$101,0)))","v":""},{"$f":"IF(COUNTBLANK(P96)=1,\"\",IF(COUNTBLANK(INDEX(Registration!$D$2:$D$101,MATCH(P96,Registration!$B$2:$B$101,0)))=1,\"\",INDEX(Registration!$D$2:$D$101,MATCH(P96,Registration!$B$2:$B$101,0))))","v":""}]
[{"$f":"IF(COUNTBLANK(Registration!B97)=1,\"\",Registration!B97)","v":""},null,null,"","","","","",null,null,null,null,null,"","","",null,{"$f":"IF(COUNTBLANK(P97)=1,\"\",IF(OR(V97=LEFT(R$1,1),V97=RIGHT(R$1,1)),COUNTIF(V$2:V97,LEFT(R$1,1))+COUNTIF(V$2:V97,RIGHT(R$1,1)),\"\"))","v":""},{"$f":"IF(COUNTBLANK(P97)=1,\"\",IF(OR(V97=LEFT(S$1,1),V97=RIGHT(S$1,1)),COUNTIF(V$2:V97,LEFT(S$1,1))+COUNTIF(V$2:V97,RIGHT(S$1,1)),\"\"))","v":""},{"$f":"IF(COUNTBLANK(P97)=1,\"\",IF(OR(V97=LEFT(T$1,1),V97=RIGHT(T$1,1)),COUNTIF(V$2:V97,LEFT(T$1,1))+COUNTIF(V$2:V97,RIGHT(T$1,1)),\"\"))","v":""},{"$f":"IF(COUNTBLANK(P97)=1,\"\",IF(OR(W97=LEFT(U$1,1),W97=RIGHT(U$1,1)),COUNTIF(W$2:W97,LEFT(U$1,1))+COUNTIF(W$2:W97,RIGHT(U$1,1)),\"\"))","v":""},{"$f":"IF(COUNTBLANK(P97)=1,\"\",INDEX(Registration!$C$2:$C$101,MATCH(P97,Registration!$B$2:$B$101,0)))","v":""},{"$f":"IF(COUNTBLANK(P97)=1,\"\",IF(COUNTBLANK(INDEX(Registration!$D$2:$D$101,MATCH(P97,Registration!$B$2:$B$101,0)))=1,\"\",INDEX(Registration!$D$2:$D$101,MATCH(P97,Registration!$B$2:$B$101,0))))","v":""}]
[{"$f":"IF(COUNTBLANK(Registration!B98)=1,\"\",Registration!B98)","v":""},null,null,"","","","","",null,null,null,null,null,"","","",null,{"$f":"IF(COUNTBLANK(P98)=1,\"\",IF(OR(V98=LEFT(R$1,1),V98=RIGHT(R$1,1)),COUNTIF(V$2:V98,LEFT(R$1,1))+COUNTIF(V$2:V98,RIGHT(R$1,1)),\"\"))","v":""},{"$f":"IF(COUNTBLANK(P98)=1,\"\",IF(OR(V98=LEFT(S$1,1),V98=RIGHT(S$1,1)),COUNTIF(V$2:V98,LEFT(S$1,1))+COUNTIF(V$2:V98,RIGHT(S$1,1)),\"\"))","v":""},{"$f":"IF(COUNTBLANK(P98)=1,\"\",IF(OR(V98=LEFT(T$1,1),V98=RIGHT(T$1,1)),COUNTIF(V$2:V98,LEFT(T$1,1))+COUNTIF(V$2:V98,RIGHT(T$1,1)),\"\"))","v":""},{"$f":"IF(COUNTBLANK(P98)=1,\"\",IF(OR(W98=LEFT(U$1,1),W98=RIGHT(U$1,1)),COUNTIF(W$2:W98,LEFT(U$1,1))+COUNTIF(W$2:W98,RIGHT(U$1,1)),\"\"))","v":""},{"$f":"IF(COUNTBLANK(P98)=1,\"\",INDEX(Registration!$C$2:$C$101,MATCH(P98,Registration!$B$2:$B$101,0)))","v":""},{"$f":"IF(COUNTBLANK(P98)=1,\"\",IF(COUNTBLANK(INDEX(Registration!$D$2:$D$101,MATCH(P98,Registration!$B$2:$B$101,0)))=1,\"\",INDEX(Registration!$D$2:$D$101,MATCH(P98,Registration!$B$2:$B$101,0))))","v":""}]
[{"$f":"IF(COUNTBLANK(Registration!B99)=1,\"\",Registration!B99)","v":""},null,null,"","","","","",null,null,null,null,null,"","","",null,{"$f":"IF(COUNTBLANK(P99)=1,\"\",IF(OR(V99=LEFT(R$1,1),V99=RIGHT(R$1,1)),COUNTIF(V$2:V99,LEFT(R$1,1))+COUNTIF(V$2:V99,RIGHT(R$1,1)),\"\"))","v":""},{"$f":"IF(COUNTBLANK(P99)=1,\"\",IF(OR(V99=LEFT(S$1,1),V99=RIGHT(S$1,1)),COUNTIF(V$2:V99,LEFT(S$1,1))+COUNTIF(V$2:V99,RIGHT(S$1,1)),\"\"))","v":""},{"$f":"IF(COUNTBLANK(P99)=1,\"\",IF(OR(V99=LEFT(T$1,1),V99=RIGHT(T$1,1)),COUNTIF(V$2:V99,LEFT(T$1,1))+COUNTIF(V$2:V99,RIGHT(T$1,1)),\"\"))","v":""},{"$f":"IF(COUNTBLANK(P99)=1,\"\",IF(OR(W99=LEFT(U$1,1),W99=RIGHT(U$1,1)),COUNTIF(W$2:W99,LEFT(U$1,1))+COUNTIF(W$2:W99,RIGHT(U$1,1)),\"\"))","v":""},{"$f":"IF(COUNTBLANK(P99)=1,\"\",INDEX(Registration!$C$2:$C$101,MATCH(P99,Registration!$B$2:$B$101,0)))","v":""},{"$f":"IF(COUNTBLANK(P99)=1,\"\",IF(COUNTBLANK(INDEX(Registration!$D$2:$D$101,MATCH(P99,Registration!$B$2:$B$101,0)))=1,\"\",INDEX(Registration!$D$2:$D$101,MATCH(P99,Registration!$B$2:$B$101,0))))","v":""}]
[{"$f":"IF(COUNTBLANK(Registration!B100)=1,\"\",Registration!B100)","v":""},null,null,"","","","","",null,null,null,null,null,"","","",null,{"$f":"IF(COUNTBLANK(P100)=1,\"\",IF(OR(V100=LEFT(R$1,1),V100=RIGHT(R$1,1)),COUNTIF(V$2:V100,LEFT(R$1,1))+COUNTIF(V$2:V100,RIGHT(R$1,1)),\"\"))","v":""},{"$f":"IF(COUNTBLANK(P100)=1,\"\",IF(OR(V100=LEFT(S$1,1),V100=RIGHT(S$1,1)),COUNTIF(V$2:V100,LEFT(S$1,1))+COUNTIF(V$2:V100,RIGHT(S$1,1)),\"\"))","v":""},{"$f":"IF(COUNTBLANK(P100)=1,\"\",IF(OR(V100=LEFT(T$1,1),V100=RIGHT(T$1,1)),COUNTIF(V$2:V100,LEFT(T$1,1))+COUNTIF(V$2:V100,RIGHT(T$1,1)),\"\"))","v":""},{"$f":"IF(COUNTBLANK(P100)=1,\"\",IF(OR(W100=LEFT(U$1,1),W100=RIGHT(U$1,1)),COUNTIF(W$2:W100,LEFT(U$1,1))+COUNTIF(W$2:W100,RIGHT(U$1,1)),\"\"))","v":""},{"$f":"IF(COUNTBLANK(P100)=1,\"\",INDEX(Registration!$C$2:$C$101,MATCH(P100,Registration!$B$2:$B$101,0)))","v":""},{"$f":"IF(COUNTBLANK(P100)=1,\"\",IF(COUNTBLANK(INDEX(Registration!$D$2:$D$101,MATCH(P100,Registration!$B$2:$B$101,0)))=1,\"\",INDEX(Registration!$D$2:$D$101,MATCH(P100,Registration!$B$2:$B$101,0))))","v":""}]
[{"$f":"IF(COUNTBLANK(Registration!B101)=1,\"\",Registration!B101)","v":""},null,null,"","","","","",null,null,null,null,null,"","","",null,{"$f":"IF(COUNTBLANK(P101)=1,\"\",IF(OR(V101=LEFT(R$1,1),V101=RIGHT(R$1,1)),COUNTIF(V$2:V101,LEFT(R$1,1))+COUNTIF(V$2:V101,RIGHT(R$1,1)),\"\"))","v":""},{"$f":"IF(COUNTBLANK(P101)=1,\"\",IF(OR(V101=LEFT(S$1,1),V101=RIGHT(S$1,1)),COUNTIF(V$2:V101,LEFT(S$1,1))+COUNTIF(V$2:V101,RIGHT(S$1,1)),\"\"))","v":""},{"$f":"IF(COUNTBLANK(P101)=1,\"\",IF(OR(V101=LEFT(T$1,1),V101=RIGHT(T$1,1)),COUNTIF(V$2:V101,LEFT(T$1,1))+COUNTIF(V$2:V101,RIGHT(T$1,1)),\"\"))","v":""},{"$f":"IF(COUNTBLANK(P101)=1,\"\",IF(OR(W101=LEFT(U$1,1),W101=RIGHT(U$1,1)),COUNTIF(W$2:W101,LEFT(U$1,1))+COUNTIF(W$2:W101,RIGHT(U$1,1)),\"\"))","v":""},{"$f":"IF(COUNTBLANK(P101)=1,\"\",INDEX(Registration!$C$2:$C$101,MATCH(P101,Registration!$B$2:$B$101,0)))","v":""},{"$f":"IF(COUNTBLANK(P101)=1,\"\",IF(COUNTBLANK(INDEX(Registration!$D$2:$D$101,MATCH(P101,Registration!$B$2:$B$101,0)))=1,\"\",INDEX(Registration!$D$2:$D$101,MATCH(P101,Registration!$B$2:$B$101,0))))","v":""}]

{"sheet":"Endurance","index":6,"n_rows":101,"n_cols":16,"rows_kept":101,"cut":false,"hidden":false,"merged":[]}
[{"$f":"Registration!B1","v":"Name"},"Score","Score","Place","Points",null,{"$f":"E1","v":"Points"},{"$f":"C1","v":"Score"},{"$f":"A1","v":"Name"},null,"SA","OI","NB","JW","Division","Category"]
[{"$f":"IF(COUNTBLANK(Registration!B2)=1,\"\",Registration!B2)","v":""},null,{"$f":"IF(OR(COUNTBLANK($A2)=1,COUNTBLANK(B2)=1),\"\",B2)","v":""},{"$f":"IF(OR(COUNTBLANK($A2)=1,COUNTBLANK(B2)=1),\"\",RANK(C2,$C$2:$C$101,0))","v":""},{"$f":"IF(OR(COUNTBLANK($A2)=1,COUNTBLANK(B2)=1),\"\",placingpoints(D2,COUNTIF(D$2:D$101,\"=\"&D2)))","v":""},null,"","","",null,{"$f":"IF(COUNTBLANK(I2)=1,\"\",IF(OR(O2=LEFT(K$1,1),O2=RIGHT(K$1,1)),COUNTIF(O$2:O2,LEFT(K$1,1))+COUNTIF(O$2:O2,RIGHT(K$1,1)),\"\"))","v":""},{"$f":"IF(COUNTBLANK(I2)=1,\"\",IF(OR(O2=LEFT(L$1,1),O2=RIGHT(L$1,1)),COUNTIF(O$2:O2,LEFT(L$1,1))+COUNTIF(O$2:O2,RIGHT(L$1,1)),\"\"))","v":""},{"$f":"IF(COUNTBLANK(I2)=1,\"\",IF(OR(O2=LEFT(M$1,1),O2=RIGHT(M$1,1)),COUNTIF(O$2:O2,LEFT(M$1,1))+COUNTIF(O$2:O2,RIGHT(M$1,1)),\"\"))","v":""},{"$f":"IF(COUNTBLANK(I2)=1,\"\",IF(OR(P2=LEFT(N$1,1),P2=RIGHT(N$1,1)),COUNTIF(P$2:P2,LEFT(N$1,1))+COUNTIF(P$2:P2,RIGHT(N$1,1)),\"\"))","v":""},{"$f":"IF(COUNTBLANK(I2)=1,\"\",INDEX(Registration!$C$2:$C$101,MATCH(I2,Registration!$B$2:$B$101,0)))","v":""},{"$f":"IF(COUNTBLANK(I2)=1,\"\",IF(COUNTBLANK(INDEX(Registration!$D$2:$D$101,MATCH(I2,Registration!$B$2:$B$101,0)))=1,\"\",INDEX(Registration!$D$2:$D$101,MATCH(I2,Registration!$B$2:$B$101,0))))","v":""}]
[{"$f":"IF(COUNTBLANK(Registration!B3)=1,\"\",Registration!B3)","v":""},null,{"$f":"IF(OR(COUNTBLANK($A3)=1,COUNTBLANK(B3)=1),\"\",B3)","v":""},{"$f":"IF(OR(COUNTBLANK($A3)=1,COUNTBLANK(B3)=1),\"\",RANK(C3,$C$2:$C$101,0))","v":""},{"$f":"IF(OR(COUNTBLANK($A3)=1,COUNTBLANK(B3)=1),\"\",placingpoints(D3,COUNTIF(D$2:D$101,\"=\"&D3)))","v":""},null,"","","",null,{"$f":"IF(COUNTBLANK(I3)=1,\"\",IF(OR(O3=LEFT(K$1,1),O3=RIGHT(K$1,1)),COUNTIF(O$2:O3,LEFT(K$1,1))+COUNTIF(O$2:O3,RIGHT(K$1,1)),\"\"))","v":""},{"$f":"IF(COUNTBLANK(I3)=1,\"\",IF(OR(O3=LEFT(L$1,1),O3=RIGHT(L$1,1)),COUNTIF(O$2:O3,LEFT(L$1,1))+COUNTIF(O$2:O3,RIGHT(L$1,1)),\"\"))","v":""},{"$f":"IF(COUNTBLANK(I3)=1,\"\",IF(OR(O3=LEFT(M$1,1),O3=RIGHT(M$1,1)),COUNTIF(O$2:O3,LEFT(M$1,1))+COUNTIF(O$2:O3,RIGHT(M$1,1)),\"\"))","v":""},{"$f":"IF(COUNTBLANK(I3)=1,\"\",IF(OR(P3=LEFT(N$1,1),P3=RIGHT(N$1,1)),COUNTIF(P$2:P3,LEFT(N$1,1))+COUNTIF(P$2:P3,RIGHT(N$1,1)),\"\"))","v":""},{"$f":"IF(COUNTBLANK(I3)=1,\"\",INDEX(Registration!$C$2:$C$101,MATCH(I3,Registration!$B$2:$B$101,0)))","v":""},{"$f":"IF(COUNTBLANK(I3)=1,\"\",IF(COUNTBLANK(INDEX(Registration!$D$2:$D$101,MATCH(I3,Registration!$B$2:$B$101,0)))=1,\"\",INDEX(Registration!$D$2:$D$101,MATCH(I3,Registration!$B$2:$B$101,0))))","v":""}]
[{"$f":"IF(COUNTBLANK(Registration!B4)=1,\"\",Registration!B4)","v":""},null,"","","",null,"","","",null,{"$f":"IF(COUNTBLANK(I4)=1,\"\",IF(OR(O4=LEFT(K$1,1),O4=RIGHT(K$1,1)),COUNTIF(O$2:O4,LEFT(K$1,1))+COUNTIF(O$2:O4,RIGHT(K$1,1)),\"\"))","v":""},{"$f":"IF(COUNTBLANK(I4)=1,\"\",IF(OR(O4=LEFT(L$1,1),O4=RIGHT(L$1,1)),COUNTIF(O$2:O4,LEFT(L$1,1))+COUNTIF(O$2:O4,RIGHT(L$1,1)),\"\"))","v":""},{"$f":"IF(COUNTBLANK(I4)=1,\"\",IF(OR(O4=LEFT(M$1,1),O4=RIGHT(M$1,1)),COUNTIF(O$2:O4,LEFT(M$1,1))+COUNTIF(O$2:O4,RIGHT(M$1,1)),\"\"))","v":""},{"$f":"IF(COUNTBLANK(I4)=1,\"\",IF(OR(P4=LEFT(N$1,1),P4=RIGHT(N$1,1)),COUNTIF(P$2:P4,LEFT(N$1,1))+COUNTIF(P$2:P4,RIGHT(N$1,1)),\"\"))","v":""},{"$f":"IF(COUNTBLANK(I4)=1,\"\",INDEX(Registration!$C$2:$C$101,MATCH(I4,Registration!$B$2:$B$101,0)))","v":""},{"$f":"IF(COUNTBLANK(I4)=1,\"\",IF(COUNTBLANK(INDEX(Registration!$D$2:$D$101,MATCH(I4,Registration!$B$2:$B$101,0)))=1,\"\",INDEX(Registration!$D$2:$D$101,MATCH(I4,Registration!$B$2:$B$101,0))))","v":""}]
[{"$f":"IF(COUNTBLANK(Registration!B5)=1,\"\",Registration!B5)","v":""},null,"","","",null,"","","",null,{"$f":"IF(COUNTBLANK(I5)=1,\"\",IF(OR(O5=LEFT(K$1,1),O5=RIGHT(K$1,1)),COUNTIF(O$2:O5,LEFT(K$1,1))+COUNTIF(O$2:O5,RIGHT(K$1,1)),\"\"))","v":""},{"$f":"IF(COUNTBLANK(I5)=1,\"\",IF(OR(O5=LEFT(L$1,1),O5=RIGHT(L$1,1)),COUNTIF(O$2:O5,LEFT(L$1,1))+COUNTIF(O$2:O5,RIGHT(L$1,1)),\"\"))","v":""},{"$f":"IF(COUNTBLANK(I5)=1,\"\",IF(OR(O5=LEFT(M$1,1),O5=RIGHT(M$1,1)),COUNTIF(O$2:O5,LEFT(M$1,1))+COUNTIF(O$2:O5,RIGHT(M$1,1)),\"\"))","v":""},{"$f":"IF(COUNTBLANK(I5)=1,\"\",IF(OR(P5=LEFT(N$1,1),P5=RIGHT(N$1,1)),COUNTIF(P$2:P5,LEFT(N$1,1))+COUNTIF(P$2:P5,RIGHT(N$1,1)),\"\"))","v":""},{"$f":"IF(COUNTBLANK(I5)=1,\"\",INDEX(Registration!$C$2:$C$101,MATCH(I5,Registration!$B$2:$B$101,0)))","v":""},{"$f":"IF(COUNTBLANK(I5)=1,\"\",IF(COUNTBLANK(INDEX(Registration!$D$2:$D$101,MATCH(I5,Registration!$B$2:$B$101,0)))=1,\"\",INDEX(Registration!$D$2:$D$101,MATCH(I5,Registration!$B$2:$B$101,0))))","v":""}]
[{"$f":"IF(COUNTBLANK(Registration!B6)=1,\"\",Registration!B6)","v":""},null,"","","",null,"","","",null,{"$f":"IF(COUNTBLANK(I6)=1,\"\",IF(OR(O6=LEFT(K$1,1),O6=RIGHT(K$1,1)),COUNTIF(O$2:O6,LEFT(K$1,1))+COUNTIF(O$2:O6,RIGHT(K$1,1)),\"\"))","v":""},{"$f":"IF(COUNTBLANK(I6)=1,\"\",IF(OR(O6=LEFT(L$1,1),O6=RIGHT(L$1,1)),COUNTIF(O$2:O6,LEFT(L$1,1))+COUNTIF(O$2:O6,RIGHT(L$1,1)),\"\"))","v":""},{"$f":"IF(COUNTBLANK(I6)=1,\"\",IF(OR(O6=LEFT(M$1,1),O6=RIGHT(M$1,1)),COUNTIF(O$2:O6,LEFT(M$1,1))+COUNTIF(O$2:O6,RIGHT(M$1,1)),\"\"))","v":""},{"$f":"IF(COUNTBLANK(I6)=1,\"\",IF(OR(P6=LEFT(N$1,1),P6=RIGHT(N$1,1)),COUNTIF(P$2:P6,LEFT(N$1,1))+COUNTIF(P$2:P6,RIGHT(N$1,1)),\"\"))","v":""},{"$f":"IF(COUNTBLANK(I6)=1,\"\",INDEX(Registration!$C$2:$C$101,MATCH(I6,Registration!$B$2:$B$101,0)))","v":""},{"$f":"IF(COUNTBLANK(I6)=1,\"\",IF(COUNTBLANK(INDEX(Registration!$D$2:$D$101,MATCH(I6,Registration!$B$2:$B$101,0)))=1,\"\",INDEX(Registration!$D$2:$D$101,MATCH(I6,Registration!$B$2:$B$101,0))))","v":""}]
[{"$f":"IF(COUNTBLANK(Registration!B7)=1,\"\",Registration!B7)","v":""},null,"","","",null,"","","",null,{"$f":"IF(COUNTBLANK(I7)=1,\"\",IF(OR(O7=LEFT(K$1,1),O7=RIGHT(K$1,1)),COUNTIF(O$2:O7,LEFT(K$1,1))+COUNTIF(O$2:O7,RIGHT(K$1,1)),\"\"))","v":""},{"$f":"IF(COUNTBLANK(I7)=1,\"\",IF(OR(O7=LEFT(L$1,1),O7=RIGHT(L$1,1)),COUNTIF(O$2:O7,LEFT(L$1,1))+COUNTIF(O$2:O7,RIGHT(L$1,1)),\"\"))","v":""},{"$f":"IF(COUNTBLANK(I7)=1,\"\",IF(OR(O7=LEFT(M$1,1),O7=RIGHT(M$1,1)),COUNTIF(O$2:O7,LEFT(M$1,1))+COUNTIF(O$2:O7,RIGHT(M$1,1)),\"\"))","v":""},{"$f":"IF(COUNTBLANK(I7)=1,\"\",IF(OR(P7=LEFT(N$1,1),P7=RIGHT(N$1,1)),COUNTIF(P$2:P7,LEFT(N$1,1))+COUNTIF(P$2:P7,RIGHT(N$1,1)),\"\"))","v":""},{"$f":"IF(COUNTBLANK(I7)=1,\"\",INDEX(Registration!$C$2:$C$101,MATCH(I7,Registration!$B$2:$B$101,0)))","v":""},{"$f":"IF(COUNTBLANK(I7)=1,\"\",IF(COUNTBLANK(INDEX(Registration!$D$2:$D$101,MATCH(I7,Registration!$B$2:$B$101,0)))=1,\"\",INDEX(Registration!$D$2:$D$101,MATCH(I7,Registration!$B$2:$B$101,0))))","v":""}]
[{"$f":"IF(COUNTBLANK(Registration!B8)=1,\"\",Registration!B8)","v":""},null,"","","",null,"","","",null,{"$f":"IF(COUNTBLANK(I8)=1,\"\",IF(OR(O8=LEFT(K$1,1),O8=RIGHT(K$1,1)),COUNTIF(O$2:O8,LEFT(K$1,1))+COUNTIF(O$2:O8,RIGHT(K$1,1)),\"\"))","v":""},{"$f":"IF(COUNTBLANK(I8)=1,\"\",IF(OR(O8=LEFT(L$1,1),O8=RIGHT(L$1,1)),COUNTIF(O$2:O8,LEFT(L$1,1))+COUNTIF(O$2:O8,RIGHT(L$1,1)),\"\"))","v":""},{"$f":"IF(COUNTBLANK(I8)=1,\"\",IF(OR(O8=LEFT(M$1,1),O8=RIGHT(M$1,1)),COUNTIF(O$2:O8,LEFT(M$1,1))+COUNTIF(O$2:O8,RIGHT(M$1,1)),\"\"))","v":""},{"$f":"IF(COUNTBLANK(I8)=1,\"\",IF(OR(P8=LEFT(N$1,1),P8=RIGHT(N$1,1)),COUNTIF(P$2:P8,LEFT(N$1,1))+COUNTIF(P$2:P8,RIGHT(N$1,1)),\"\"))","v":""},{"$f":"IF(COUNTBLANK(I8)=1,\"\",INDEX(Registration!$C$2:$C$101,MATCH(I8,Registration!$B$2:$B$101,0)))","v":""},{"$f":"IF(COUNTBLANK(I8)=1,\"\",IF(COUNTBLANK(INDEX(Registration!$D$2:$D$101,MATCH(I8,Registration!$B$2:$B$101,0)))=1,\"\",INDEX(Registration!$D$2:$D$101,MATCH(I8,Registration!$B$2:$B$101,0))))","v":""}]
[{"$f":"IF(COUNTBLANK(Registration!B9)=1,\"\",Registration!B9)","v":""},null,"","","",null,"","","",null,{"$f":"IF(COUNTBLANK(I9)=1,\"\",IF(OR(O9=LEFT(K$1,1),O9=RIGHT(K$1,1)),COUNTIF(O$2:O9,LEFT(K$1,1))+COUNTIF(O$2:O9,RIGHT(K$1,1)),\"\"))","v":""},{"$f":"IF(COUNTBLANK(I9)=1,\"\",IF(OR(O9=LEFT(L$1,1),O9=RIGHT(L$1,1)),COUNTIF(O$2:O9,LEFT(L$1,1))+COUNTIF(O$2:O9,RIGHT(L$1,1)),\"\"))","v":""},{"$f":"IF(COUNTBLANK(I9)=1,\"\",IF(OR(O9=LEFT(M$1,1),O9=RIGHT(M$1,1)),COUNTIF(O$2:O9,LEFT(M$1,1))+COUNTIF(O$2:O9,RIGHT(M$1,1)),\"\"))","v":""},{"$f":"IF(COUNTBLANK(I9)=1,\"\",IF(OR(P9=LEFT(N$1,1),P9=RIGHT(N$1,1)),COUNTIF(P$2:P9,LEFT(N$1,1))+COUNTIF(P$2:P9,RIGHT(N$1,1)),\"\"))","v":""},{"$f":"IF(COUNTBLANK(I9)=1,\"\",INDEX(Registration!$C$2:$C$101,MATCH(I9,Registration!$B$2:$B$101,0)))","v":""},{"$f":"IF(COUNTBLANK(I9)=1,\"\",IF(COUNTBLANK(INDEX(Registration!$D$2:$D$101,MATCH(I9,Registration!$B$2:$B$101,0)))=1,\"\",INDEX(Registration!$D$2:$D$101,MATCH(I9,Registration!$B$2:$B$101,0))))","v":""}]
[{"$f":"IF(COUNTBLANK(Registration!B10)=1,\"\",Registration!B10)","v":""},null,"","","",null,"","","",null,{"$f":"IF(COUNTBLANK(I10)=1,\"\",IF(OR(O10=LEFT(K$1,1),O10=RIGHT(K$1,1)),COUNTIF(O$2:O10,LEFT(K$1,1))+COUNTIF(O$2:O10,RIGHT(K$1,1)),\"\"))","v":""},{"$f":"IF(COUNTBLANK(I10)=1,\"\",IF(OR(O10=LEFT(L$1,1),O10=RIGHT(L$1,1)),COUNTIF(O$2:O10,LEFT(L$1,1))+COUNTIF(O$2:O10,RIGHT(L$1,1)),\"\"))","v":""},{"$f":"IF(COUNTBLANK(I10)=1,\"\",IF(OR(O10=LEFT(M$1,1),O10=RIGHT(M$1,1)),COUNTIF(O$2:O10,LEFT(M$1,1))+COUNTIF(O$2:O10,RIGHT(M$1,1)),\"\"))","v":""},{"$f":"IF(COUNTBLANK(I10)=1,\"\",IF(OR(P10=LEFT(N$1,1),P10=RIGHT(N$1,1)),COUNTIF(P$2:P10,LEFT(N$1,1))+COUNTIF(P$2:P10,RIGHT(N$1,1)),\"\"))","v":""},{"$f":"IF(COUNTBLANK(I10)=1,\"\",INDEX(Registration!$C$2:$C$101,MATCH(I10,Registration!$B$2:$B$101,0)))","v":""},{"$f":"IF(COUNTBLANK(I10)=1,\"\",IF(COUNTBLANK(INDEX(Registration!$D$2:$D$101,MATCH(I10,Registration!$B$2:$B$101,0)))=1,\"\",INDEX(Registration!$D$2:$D$101,MATCH(I10,Registration!$B$2:$B$101,0))))","v":""}]
[{"$f":"IF(COUNTBLANK(Registration!B11)=1,\"\",Registration!B11)","v":""},null,"","","",null,"","","",null,{"$f":"IF(COUNTBLANK(I11)=1,\"\",IF(OR(O11=LEFT(K$1,1),O11=RIGHT(K$1,1)),COUNTIF(O$2:O11,LEFT(K$1,1))+COUNTIF(O$2:O11,RIGHT(K$1,1)),\"\"))","v":""},{"$f":"IF(COUNTBLANK(I11)=1,\"\",IF(OR(O11=LEFT(L$1,1),O11=RIGHT(L$1,1)),COUNTIF(O$2:O11,LEFT(L$1,1))+COUNTIF(O$2:O11,RIGHT(L$1,1)),\"\"))","v":""},{"$f":"IF(COUNTBLANK(I11)=1,\"\",IF(OR(O11=LEFT(M$1,1),O11=RIGHT(M$1,1)),COUNTIF(O$2:O11,LEFT(M$1,1))+COUNTIF(O$2:O11,RIGHT(M$1,1)),\"\"))","v":""},{"$f":"IF(COUNTBLANK(I11)=1,\"\",IF(OR(P11=LEFT(N$1,1),P11=RIGHT(N$1,1)),COUNTIF(P$2:P11,LEFT(N$1,1))+COUNTIF(P$2:P11,RIGHT(N$1,1)),\"\"))","v":""},{"$f":"IF(COUNTBLANK(I11)=1,\"\",INDEX(Registration!$C$2:$C$101,MATCH(I11,Registration!$B$2:$B$101,0)))","v":""},{"$f":"IF(COUNTBLANK(I11)=1,\"\",IF(COUNTBLANK(INDEX(Registration!$D$2:$D$101,MATCH(I11,Registration!$B$2:$B$101,0)))=1,\"\",INDEX(Registration!$D$2:$D$101,MATCH(I11,Registration!$B$2:$B$101,0))))","v":""}]
[{"$f":"IF(COUNTBLANK(Registration!B12)=1,\"\",Registration!B12)","v":""},null,"","","",null,"","","",null,{"$f":"IF(COUNTBLANK(I12)=1,\"\",IF(OR(O12=LEFT(K$1,1),O12=RIGHT(K$1,1)),COUNTIF(O$2:O12,LEFT(K$1,1))+COUNTIF(O$2:O12,RIGHT(K$1,1)),\"\"))","v":""},{"$f":"IF(COUNTBLANK(I12)=1,\"\",IF(OR(O12=LEFT(L$1,1),O12=RIGHT(L$1,1)),COUNTIF(O$2:O12,LEFT(L$1,1))+COUNTIF(O$2:O12,RIGHT(L$1,1)),\"\"))","v":""},{"$f":"IF(COUNTBLANK(I12)=1,\"\",IF(OR(O12=LEFT(M$1,1),O12=RIGHT(M$1,1)),COUNTIF(O$2:O12,LEFT(M$1,1))+COUNTIF(O$2:O12,RIGHT(M$1,1)),\"\"))","v":""},{"$f":"IF(COUNTBLANK(I12)=1,\"\",IF(OR(P12=LEFT(N$1,1),P12=RIGHT(N$1,1)),COUNTIF(P$2:P12,LEFT(N$1,1))+COUNTIF(P$2:P12,RIGHT(N$1,1)),\"\"))","v":""},{"$f":"IF(COUNTBLANK(I12)=1,\"\",INDEX(Registration!$C$2:$C$101,MATCH(I12,Registration!$B$2:$B$101,0)))","v":""},{"$f":"IF(COUNTBLANK(I12)=1,\"\",IF(COUNTBLANK(INDEX(Registration!$D$2:$D$101,MATCH(I12,Registration!$B$2:$B$101,0)))=1,\"\",INDEX(Registration!$D$2:$D$101,MATCH(I12,Registration!$B$2:$B$101,0))))","v":""}]
[{"$f":"IF(COUNTBLANK(Registration!B13)=1,\"\",Registration!B13)","v":""},null,"","","",null,"","","",null,{"$f":"IF(COUNTBLANK(I13)=1,\"\",IF(OR(O13=LEFT(K$1,1),O13=RIGHT(K$1,1)),COUNTIF(O$2:O13,LEFT(K$1,1))+COUNTIF(O$2:O13,RIGHT(K$1,1)),\"\"))","v":""},{"$f":"IF(COUNTBLANK(I13)=1,\"\",IF(OR(O13=LEFT(L$1,1),O13=RIGHT(L$1,1)),COUNTIF(O$2:O13,LEFT(L$1,1))+COUNTIF(O$2:O13,RIGHT(L$1,1)),\"\"))","v":""},{"$f":"IF(COUNTBLANK(I13)=1,\"\",IF(OR(O13=LEFT(M$1,1),O13=RIGHT(M$1,1)),COUNTIF(O$2:O13,LEFT(M$1,1))+COUNTIF(O$2:O13,RIGHT(M$1,1)),\"\"))","v":""},{"$f":"IF(COUNTBLANK(I13)=1,\"\",IF(OR(P13=LEFT(N$1,1),P13=RIGHT(N$1,1)),COUNTIF(P$2:P13,LEFT(N$1,1))+COUNTIF(P$2:P13,RIGHT(N$1,1)),\"\"))","v":""},{"$f":"IF(COUNTBLANK(I13)=1,\"\",INDEX(Registration!$C$2:$C$101,MATCH(I13,Registration!$B$2:$B$101,0)))","v":""},{"$f":"IF(COUNTBLANK(I13)=1,\"\",IF(COUNTBLANK(INDEX(Registration!$D$2:$D$101,MATCH(I13,Registration!$B$2:$B$101,0)))=1,\"\",INDEX(Registration!$D$2:$D$101,MATCH(I13,Registration!$B$2:$B$101,0))))","v":""}]
[{"$f":"IF(COUNTBLANK(Registration!B14)=1,\"\",Registration!B14)","v":""},null,"","","",null,"","","",null,{"$f":"IF(COUNTBLANK(I14)=1,\"\",IF(OR(O14=LEFT(K$1,1),O14=RIGHT(K$1,1)),COUNTIF(O$2:O14,LEFT(K$1,1))+COUNTIF(O$2:O14,RIGHT(K$1,1)),\"\"))","v":""},{"$f":"IF(COUNTBLANK(I14)=1,\"\",IF(OR(O14=LEFT(L$1,1),O14=RIGHT(L$1,1)),COUNTIF(O$2:O14,LEFT(L$1,1))+COUNTIF(O$2:O14,RIGHT(L$1,1)),\"\"))","v":""},{"$f":"IF(COUNTBLANK(I14)=1,\"\",IF(OR(O14=LEFT(M$1,1),O14=RIGHT(M$1,1)),COUNTIF(O$2:O14,LEFT(M$1,1))+COUNTIF(O$2:O14,RIGHT(M$1,1)),\"\"))","v":""},{"$f":"IF(COUNTBLANK(I14)=1,\"\",IF(OR(P14=LEFT(N$1,1),P14=RIGHT(N$1,1)),COUNTIF(P$2:P14,LEFT(N$1,1))+COUNTIF(P$2:P14,RIGHT(N$1,1)),\"\"))","v":""},{"$f":"IF(COUNTBLANK(I14)=1,\"\",INDEX(Registration!$C$2:$C$101,MATCH(I14,Registration!$B$2:$B$101,0)))","v":""},{"$f":"IF(COUNTBLANK(I14)=1,\"\",IF(COUNTBLANK(INDEX(Registration!$D$2:$D$101,MATCH(I14,Registration!$B$2:$B$101,0)))=1,\"\",INDEX(Registration!$D$2:$D$101,MATCH(I14,Registration!$B$2:$B$101,0))))","v":""}]
[{"$f":"IF(COUNTBLANK(Registration!B15)=1,\"\",Registration!B15)","v":""},null,"","","",null,"","","",null,{"$f":"IF(COUNTBLANK(I15)=1,\"\",IF(OR(O15=LEFT(K$1,1),O15=RIGHT(K$1,1)),COUNTIF(O$2:O15,LEFT(K$1,1))+COUNTIF(O$2:O15,RIGHT(K$1,1)),\"\"))","v":""},{"$f":"IF(COUNTBLANK(I15)=1,\"\",IF(OR(O15=LEFT(L$1,1),O15=RIGHT(L$1,1)),COUNTIF(O$2:O15,LEFT(L$1,1))+COUNTIF(O$2:O15,RIGHT(L$1,1)),\"\"))","v":""},{"$f":"IF(COUNTBLANK(I15)=1,\"\",IF(OR(O15=LEFT(M$1,1),O15=RIGHT(M$1,1)),COUNTIF(O$2:O15,LEFT(M$1,1))+COUNTIF(O$2:O15,RIGHT(M$1,1)),\"\"))","v":""},{"$f":"IF(COUNTBLANK(I15)=1,\"\",IF(OR(P15=LEFT(N$1,1),P15=RIGHT(N$1,1)),COUNTIF(P$2:P15,LEFT(N$1,1))+COUNTIF(P$2:P15,RIGHT(N$1,1)),\"\"))","v":""},{"$f":"IF(COUNTBLANK(I15)=1,\"\",INDEX(Registration!$C$2:$C$101,MATCH(I15,Registration!$B$2:$B$101,0)))","v":""},{"$f":"IF(COUNTBLANK(I15)=1,\"\",IF(COUNTBLANK(INDEX(Registration!$D$2:$D$101,MATCH(I15,Registration!$B$2:$B$101,0)))=1,\"\",INDEX(Registration!$D$2:$D$101,MATCH(I15,Registration!$B$2:$B$101,0))))","v":""}]
[{"$f":"IF(COUNTBLANK(Registration!B16)=1,\"\",Registration!B16)","v":""},null,"","","",null,"","","",null,{"$f":"IF(COUNTBLANK(I16)=1,\"\",IF(OR(O16=LEFT(K$1,1),O16=RIGHT(K$1,1)),COUNTIF(O$2:O16,LEFT(K$1,1))+COUNTIF(O$2:O16,RIGHT(K$1,1)),\"\"))","v":""},{"$f":"IF(COUNTBLANK(I16)=1,\"\",IF(OR(O16=LEFT(L$1,1),O16=RIGHT(L$1,1)),COUNTIF(O$2:O16,LEFT(L$1,1))+COUNTIF(O$2:O16,RIGHT(L$1,1)),\"\"))","v":""},{"$f":"IF(COUNTBLANK(I16)=1,\"\",IF(OR(O16=LEFT(M$1,1),O16=RIGHT(M$1,1)),COUNTIF(O$2:O16,LEFT(M$1,1))+COUNTIF(O$2:O16,RIGHT(M$1,1)),\"\"))","v":""},{"$f":"IF(COUNTBLANK(I16)=1,\"\",IF(OR(P16=LEFT(N$1,1),P16=RIGHT(N$1,1)),COUNTIF(P$2:P16,LEFT(N$1,1))+COUNTIF(P$2:P16,RIGHT(N$1,1)),\"\"))","v":""},{"$f":"IF(COUNTBLANK(I16)=1,\"\",INDEX(Registration!$C$2:$C$101,MATCH(I16,Registration!$B$2:$B$101,0)))","v":""},{"$f":"IF(COUNTBLANK(I16)=1,\"\",IF(COUNTBLANK(INDEX(Registration!$D$2:$D$101,MATCH(I16,Registration!$B$2:$B$101,0)))=1,\"\",INDEX(Registration!$D$2:$D$101,MATCH(I16,Registration!$B$2:$B$101,0))))","v":""}]
[{"$f":"IF(COUNTBLANK(Registration!B17)=1,\"\",Registration!B17)","v":""},null,"","","",null,"","","",null,{"$f":"IF(COUNTBLANK(I17)=1,\"\",IF(OR(O17=LEFT(K$1,1),O17=RIGHT(K$1,1)),COUNTIF(O$2:O17,LEFT(K$1,1))+COUNTIF(O$2:O17,RIGHT(K$1,1)),\"\"))","v":""},{"$f":"IF(COUNTBLANK(I17)=1,\"\",IF(OR(O17=LEFT(L$1,1),O17=RIGHT(L$1,1)),COUNTIF(O$2:O17,LEFT(L$1,1))+COUNTIF(O$2:O17,RIGHT(L$1,1)),\"\"))","v":""},{"$f":"IF(COUNTBLANK(I17)=1,\"\",IF(OR(O17=LEFT(M$1,1),O17=RIGHT(M$1,1)),COUNTIF(O$2:O17,LEFT(M$1,1))+COUNTIF(O$2:O17,RIGHT(M$1,1)),\"\"))","v":""},{"$f":"IF(COUNTBLANK(I17)=1,\"\",IF(OR(P17=LEFT(N$1,1),P17=RIGHT(N$1,1)),COUNTIF(P$2:P17,LEFT(N$1,1))+COUNTIF(P$2:P17,RIGHT(N$1,1)),\"\"))","v":""},{"$f":"IF(COUNTBLANK(I17)=1,\"\",INDEX(Registration!$C$2:$C$101,MATCH(I17,Registration!$B$2:$B$101,0)))","v":""},{"$f":"IF(COUNTBLANK(I17)=1,\"\",IF(COUNTBLANK(INDEX(Registration!$D$2:$D$101,MATCH(I17,Registration!$B$2:$B$101,0)))=1,\"\",INDEX(Registration!$D$2:$D$101,MATCH(I17,Registration!$B$2:$B$101,0))))","v":""}]
[{"$f":"IF(COUNTBLANK(Registration!B18)=1,\"\",Registration!B18)","v":""},null,"","","",null,"","","",null,{"$f":"IF(COUNTBLANK(I18)=1,\"\",IF(OR(O18=LEFT(K$1,1),O18=RIGHT(K$1,1)),COUNTIF(O$2:O18,LEFT(K$1,1))+COUNTIF(O$2:O18,RIGHT(K$1,1)),\"\"))","v":""},{"$f":"IF(COUNTBLANK(I18)=1,\"\",IF(OR(O18=LEFT(L$1,1),O18=RIGHT(L$1,1)),COUNTIF(O$2:O18,LEFT(L$1,1))+COUNTIF(O$2:O18,RIGHT(L$1,1)),\"\"))","v":""},{"$f":"IF(COUNTBLANK(I18)=1,\"\",IF(OR(O18=LEFT(M$1,1),O18=RIGHT(M$1,1)),COUNTIF(O$2:O18,LEFT(M$1,1))+COUNTIF(O$2:O18,RIGHT(M$1,1)),\"\"))","v":""},{"$f":"IF(COUNTBLANK(I18)=1,\"\",IF(OR(P18=LEFT(N$1,1),P18=RIGHT(N$1,1)),COUNTIF(P$2:P18,LEFT(N$1,1))+COUNTIF(P$2:P18,RIGHT(N$1,1)),\"\"))","v":""},{"$f":"IF(COUNTBLANK(I18)=1,\"\",INDEX(Registration!$C$2:$C$101,MATCH(I18,Registration!$B$2:$B$101,0)))","v":""},{"$f":"IF(COUNTBLANK(I18)=1,\"\",IF(COUNTBLANK(INDEX(Registration!$D$2:$D$101,MATCH(I18,Registration!$B$2:$B$101,0)))=1,\"\",INDEX(Registration!$D$2:$D$101,MATCH(I18,Registration!$B$2:$B$101,0))))","v":""}]
[{"$f":"IF(COUNTBLANK(Registration!B19)=1,\"\",Registration!B19)","v":""},null,"","","",null,"","","",null,{"$f":"IF(COUNTBLANK(I19)=1,\"\",IF(OR(O19=LEFT(K$1,1),O19=RIGHT(K$1,1)),COUNTIF(O$2:O19,LEFT(K$1,1))+COUNTIF(O$2:O19,RIGHT(K$1,1)),\"\"))","v":""},{"$f":"IF(COUNTBLANK(I19)=1,\"\",IF(OR(O19=LEFT(L$1,1),O19=RIGHT(L$1,1)),COUNTIF(O$2:O19,LEFT(L$1,1))+COUNTIF(O$2:O19,RIGHT(L$1,1)),\"\"))","v":""},{"$f":"IF(COUNTBLANK(I19)=1,\"\",IF(OR(O19=LEFT(M$1,1),O19=RIGHT(M$1,1)),COUNTIF(O$2:O19,LEFT(M$1,1))+COUNTIF(O$2:O19,RIGHT(M$1,1)),\"\"))","v":""},{"$f":"IF(COUNTBLANK(I19)=1,\"\",IF(OR(P19=LEFT(N$1,1),P19=RIGHT(N$1,1)),COUNTIF(P$2:P19,LEFT(N$1,1))+COUNTIF(P$2:P19,RIGHT(N$1,1)),\"\"))","v":""},{"$f":"IF(COUNTBLANK(I19)=1,\"\",INDEX(Registration!$C$2:$C$101,MATCH(I19,Registration!$B$2:$B$101,0)))","v":""},{"$f":"IF(COUNTBLANK(I19)=1,\"\",IF(COUNTBLANK(INDEX(Registration!$D$2:$D$101,MATCH(I19,Registration!$B$2:$B$101,0)))=1,\"\",INDEX(Registration!$D$2:$D$101,MATCH(I19,Registration!$B$2:$B$101,0))))","v":""}]
[{"$f":"IF(COUNTBLANK(Registration!B20)=1,\"\",Registration!B20)","v":""},null,"","","",null,"","","",null,{"$f":"IF(COUNTBLANK(I20)=1,\"\",IF(OR(O20=LEFT(K$1,1),O20=RIGHT(K$1,1)),COUNTIF(O$2:O20,LEFT(K$1,1))+COUNTIF(O$2:O20,RIGHT(K$1,1)),\"\"))","v":""},{"$f":"IF(COUNTBLANK(I20)=1,\"\",IF(OR(O20=LEFT(L$1,1),O20=RIGHT(L$1,1)),COUNTIF(O$2:O20,LEFT(L$1,1))+COUNTIF(O$2:O20,RIGHT(L$1,1)),\"\"))","v":""},{"$f":"IF(COUNTBLANK(I20)=1,\"\",IF(OR(O20=LEFT(M$1,1),O20=RIGHT(M$1,1)),COUNTIF(O$2:O20,LEFT(M$1,1))+COUNTIF(O$2:O20,RIGHT(M$1,1)),\"\"))","v":""},{"$f":"IF(COUNTBLANK(I20)=1,\"\",IF(OR(P20=LEFT(N$1,1),P20=RIGHT(N$1,1)),COUNTIF(P$2:P20,LEFT(N$1,1))+COUNTIF(P$2:P20,RIGHT(N$1,1)),\"\"))","v":""},{"$f":"IF(COUNTBLANK(I20)=1,\"\",INDEX(Registration!$C$2:$C$101,MATCH(I20,Registration!$B$2:$B$101,0)))","v":""},{"$f":"IF(COUNTBLANK(I20)=1,\"\",IF(COUNTBLANK(INDEX(Registration!$D$2:$D$101,MATCH(I20,Registration!$B$2:$B$101,0)))=1,\"\",INDEX(Registration!$D$2:$D$101,MATCH(I20,Registration!$B$2:$B$101,0))))","v":""}]
[{"$f":"IF(COUNTBLANK(Registration!B21)=1,\"\",Registration!B21)","v":""},null,"","","",null,"","","",null,{"$f":"IF(COUNTBLANK(I21)=1,\"\",IF(OR(O21=LEFT(K$1,1),O21=RIGHT(K$1,1)),COUNTIF(O$2:O21,LEFT(K$1,1))+COUNTIF(O$2:O21,RIGHT(K$1,1)),\"\"))","v":""},{"$f":"IF(COUNTBLANK(I21)=1,\"\",IF(OR(O21=LEFT(L$1,1),O21=RIGHT(L$1,1)),COUNTIF(O$2:O21,LEFT(L$1,1))+COUNTIF(O$2:O21,RIGHT(L$1,1)),\"\"))","v":""},{"$f":"IF(COUNTBLANK(I21)=1,\"\",IF(OR(O21=LEFT(M$1,1),O21=RIGHT(M$1,1)),COUNTIF(O$2:O21,LEFT(M$1,1))+COUNTIF(O$2:O21,RIGHT(M$1,1)),\"\"))","v":""},{"$f":"IF(COUNTBLANK(I21)=1,\"\",IF(OR(P21=LEFT(N$1,1),P21=RIGHT(N$1,1)),COUNTIF(P$2:P21,LEFT(N$1,1))+COUNTIF(P$2:P21,RIGHT(N$1,1)),\"\"))","v":""},{"$f":"IF(COUNTBLANK(I21)=1,\"\",INDEX(Registration!$C$2:$C$101,MATCH(I21,Registration!$B$2:$B$101,0)))","v":""},{"$f":"IF(COUNTBLANK(I21)=1,\"\",IF(COUNTBLANK(INDEX(Registration!$D$2:$D$101,MATCH(I21,Registration!$B$2:$B$101,0)))=1,\"\",INDEX(Registration!$D$2:$D$101,MATCH(I21,Registration!$B$2:$B$101,0))))","v":""}]
[{"$f":"IF(COUNTBLANK(Registration!B22)=1,\"\",Registration!B22)","v":""},null,"","","",null,"","","",null,{"$f":"IF(COUNTBLANK(I22)=1,\"\",IF(OR(O22=LEFT(K$1,1),O22=RIGHT(K$1,1)),COUNTIF(O$2:O22,LEFT(K$1,1))+COUNTIF(O$2:O22,RIGHT(K$1,1)),\"\"))","v":""},{"$f":"IF(COUNTBLANK(I22)=1,\"\",IF(OR(O22=LEFT(L$1,1),O22=RIGHT(L$1,1)),COUNTIF(O$2:O22,LEFT(L$1,1))+COUNTIF(O$2:O22,RIGHT(L$1,1)),\"\"))","v":""},{"$f":"IF(COUNTBLANK(I22)=1,\"\",IF(OR(O22=LEFT(M$1,1),O22=RIGHT(M$1,1)),COUNTIF(O$2:O22,LEFT(M$1,1))+COUNTIF(O$2:O22,RIGHT(M$1,1)),\"\"))","v":""},{"$f":"IF(COUNTBLANK(I22)=1,\"\",IF(OR(P22=LEFT(N$1,1),P22=RIGHT(N$1,1)),COUNTIF(P$2:P22,LEFT(N$1,1))+COUNTIF(P$2:P22,RIGHT(N$1,1)),\"\"))","v":""},{"$f":"IF(COUNTBLANK(I22)=1,\"\",INDEX(Registration!$C$2:$C$101,MATCH(I22,Registration!$B$2:$B$101,0)))","v":""},{"$f":"IF(COUNTBLANK(I22)=1,\"\",IF(COUNTBLANK(INDEX(Registration!$D$2:$D$101,MATCH(I22,Registration!$B$2:$B$101,0)))=1,\"\",INDEX(Registration!$D$2:$D$101,MATCH(I22,Registration!$B$2:$B$101,0))))","v":""}]
[{"$f":"IF(COUNTBLANK(Registration!B23)=1,\"\",Registration!B23)","v":""},null,"","","",null,"","","",null,{"$f":"IF(COUNTBLANK(I23)=1,\"\",IF(OR(O23=LEFT(K$1,1),O23=RIGHT(K$1,1)),COUNTIF(O$2:O23,LEFT(K$1,1))+COUNTIF(O$2:O23,RIGHT(K$1,1)),\"\"))","v":""},{"$f":"IF(COUNTBLANK(I23)=1,\"\",IF(OR(O23=LEFT(L$1,1),O23=RIGHT(L$1,1)),COUNTIF(O$2:O23,LEFT(L$1,1))+COUNTIF(O$2:O23,RIGHT(L$1,1)),\"\"))","v":""},{"$f":"IF(COUNTBLANK(I23)=1,\"\",IF(OR(O23=LEFT(M$1,1),O23=RIGHT(M$1,1)),COUNTIF(O$2:O23,LEFT(M$1,1))+COUNTIF(O$2:O23,RIGHT(M$1,1)),\"\"))","v":""},{"$f":"IF(COUNTBLANK(I23)=1,\"\",IF(OR(P23=LEFT(N$1,1),P23=RIGHT(N$1,1)),COUNTIF(P$2:P23,LEFT(N$1,1))+COUNTIF(P$2:P23,RIGHT(N$1,1)),\"\"))","v":""},{"$f":"IF(COUNTBLANK(I23)=1,\"\",INDEX(Registration!$C$2:$C$101,MATCH(I23,Registration!$B$2:$B$101,0)))","v":""},{"$f":"IF(COUNTBLANK(I23)=1,\"\",IF(COUNTBLANK(INDEX(Registration!$D$2:$D$101,MATCH(I23,Registration!$B$2:$B$101,0)))=1,\"\",INDEX(Registration!$D$2:$D$101,MATCH(I23,Registration!$B$2:$B$101,0))))","v":""}]
[{"$f":"IF(COUNTBLANK(Registration!B24)=1,\"\",Registration!B24)","v":""},null,"","","",null,"","","",null,{"$f":"IF(COUNTBLANK(I24)=1,\"\",IF(OR(O24=LEFT(K$1,1),O24=RIGHT(K$1,1)),COUNTIF(O$2:O24,LEFT(K$1,1))+COUNTIF(O$2:O24,RIGHT(K$1,1)),\"\"))","v":""},{"$f":"IF(COUNTBLANK(I24)=1,\"\",IF(OR(O24=LEFT(L$1,1),O24=RIGHT(L$1,1)),COUNTIF(O$2:O24,LEFT(L$1,1))+COUNTIF(O$2:O24,RIGHT(L$1,1)),\"\"))","v":""},{"$f":"IF(COUNTBLANK(I24)=1,\"\",IF(OR(O24=LEFT(M$1,1),O24=RIGHT(M$1,1)),COUNTIF(O$2:O24,LEFT(M$1,1))+COUNTIF(O$2:O24,RIGHT(M$1,1)),\"\"))","v":""},{"$f":"IF(COUNTBLANK(I24)=1,\"\",IF(OR(P24=LEFT(N$1,1),P24=RIGHT(N$1,1)),COUNTIF(P$2:P24,LEFT(N$1,1))+COUNTIF(P$2:P24,RIGHT(N$1,1)),\"\"))","v":""},{"$f":"IF(COUNTBLANK(I24)=1,\"\",INDEX(Registration!$C$2:$C$101,MATCH(I24,Registration!$B$2:$B$101,0)))","v":""},{"$f":"IF(COUNTBLANK(I24)=1,\"\",IF(COUNTBLANK(INDEX(Registration!$D$2:$D$101,MATCH(I24,Registration!$B$2:$B$101,0)))=1,\"\",INDEX(Registration!$D$2:$D$101,MATCH(I24,Registration!$B$2:$B$101,0))))","v":""}]
[{"$f":"IF(COUNTBLANK(Registration!B25)=1,\"\",Registration!B25)","v":""},null,"","","",null,"","","",null,{"$f":"IF(COUNTBLANK(I25)=1,\"\",IF(OR(O25=LEFT(K$1,1),O25=RIGHT(K$1,1)),COUNTIF(O$2:O25,LEFT(K$1,1))+COUNTIF(O$2:O25,RIGHT(K$1,1)),\"\"))","v":""},{"$f":"IF(COUNTBLANK(I25)=1,\"\",IF(OR(O25=LEFT(L$1,1),O25=RIGHT(L$1,1)),COUNTIF(O$2:O25,LEFT(L$1,1))+COUNTIF(O$2:O25,RIGHT(L$1,1)),\"\"))","v":""},{"$f":"IF(COUNTBLANK(I25)=1,\"\",IF(OR(O25=LEFT(M$1,1),O25=RIGHT(M$1,1)),COUNTIF(O$2:O25,LEFT(M$1,1))+COUNTIF(O$2:O25,RIGHT(M$1,1)),\"\"))","v":""},{"$f":"IF(COUNTBLANK(I25)=1,\"\",IF(OR(P25=LEFT(N$1,1),P25=RIGHT(N$1,1)),COUNTIF(P$2:P25,LEFT(N$1,1))+COUNTIF(P$2:P25,RIGHT(N$1,1)),\"\"))","v":""},{"$f":"IF(COUNTBLANK(I25)=1,\"\",INDEX(Registration!$C$2:$C$101,MATCH(I25,Registration!$B$2:$B$101,0)))","v":""},{"$f":"IF(COUNTBLANK(I25)=1,\"\",IF(COUNTBLANK(INDEX(Registration!$D$2:$D$101,MATCH(I25,Registration!$B$2:$B$101,0)))=1,\"\",INDEX(Registration!$D$2:$D$101,MATCH(I25,Registration!$B$2:$B$101,0))))","v":""}]
[{"$f":"IF(COUNTBLANK(Registration!B26)=1,\"\",Registration!B26)","v":""},null,"","","",null,"","","",null,{"$f":"IF(COUNTBLANK(I26)=1,\"\",IF(OR(O26=LEFT(K$1,1),O26=RIGHT(K$1,1)),COUNTIF(O$2:O26,LEFT(K$1,1))+COUNTIF(O$2:O26,RIGHT(K$1,1)),\"\"))","v":""},{"$f":"IF(COUNTBLANK(I26)=1,\"\",IF(OR(O26=LEFT(L$1,1),O26=RIGHT(L$1,1)),COUNTIF(O$2:O26,LEFT(L$1,1))+COUNTIF(O$2:O26,RIGHT(L$1,1)),\"\"))","v":""},{"$f":"IF(COUNTBLANK(I26)=1,\"\",IF(OR(O26=LEFT(M$1,1),O26=RIGHT(M$1,1)),COUNTIF(O$2:O26,LEFT(M$1,1))+COUNTIF(O$2:O26,RIGHT(M$1,1)),\"\"))","v":""},{"$f":"IF(COUNTBLANK(I26)=1,\"\",IF(OR(P26=LEFT(N$1,1),P26=RIGHT(N$1,1)),COUNTIF(P$2:P26,LEFT(N$1,1))+COUNTIF(P$2:P26,RIGHT(N$1,1)),\"\"))","v":""},{"$f":"IF(COUNTBLANK(I26)=1,\"\",INDEX(Registration!$C$2:$C$101,MATCH(I26,Registration!$B$2:$B$101,0)))","v":""},{"$f":"IF(COUNTBLANK(I26)=1,\"\",IF(COUNTBLANK(INDEX(Registration!$D$2:$D$101,MATCH(I26,Registration!$B$2:$B$101,0)))=1,\"\",INDEX(Registration!$D$2:$D$101,MATCH(I26,Registration!$B$2:$B$101,0))))","v":""}]
[{"$f":"IF(COUNTBLANK(Registration!B27)=1,\"\",Registration!B27)","v":""},null,"","","",null,"","","",null,{"$f":"IF(COUNTBLANK(I27)=1,\"\",IF(OR(O27=LEFT(K$1,1),O27=RIGHT(K$1,1)),COUNTIF(O$2:O27,LEFT(K$1,1))+COUNTIF(O$2:O27,RIGHT(K$1,1)),\"\"))","v":""},{"$f":"IF(COUNTBLANK(I27)=1,\"\",IF(OR(O27=LEFT(L$1,1),O27=RIGHT(L$1,1)),COUNTIF(O$2:O27,LEFT(L$1,1))+COUNTIF(O$2:O27,RIGHT(L$1,1)),\"\"))","v":""},{"$f":"IF(COUNTBLANK(I27)=1,\"\",IF(OR(O27=LEFT(M$1,1),O27=RIGHT(M$1,1)),COUNTIF(O$2:O27,LEFT(M$1,1))+COUNTIF(O$2:O27,RIGHT(M$1,1)),\"\"))","v":""},{"$f":"IF(COUNTBLANK(I27)=1,\"\",IF(OR(P27=LEFT(N$1,1),P27=RIGHT(N$1,1)),COUNTIF(P$2:P27,LEFT(N$1,1))+COUNTIF(P$2:P27,RIGHT(N$1,1)),\"\"))","v":""},{"$f":"IF(COUNTBLANK(I27)=1,\"\",INDEX(Registration!$C$2:$C$101,MATCH(I27,Registration!$B$2:$B$101,0)))","v":""},{"$f":"IF(COUNTBLANK(I27)=1,\"\",IF(COUNTBLANK(INDEX(Registration!$D$2:$D$101,MATCH(I27,Registration!$B$2:$B$101,0)))=1,\"\",INDEX(Registration!$D$2:$D$101,MATCH(I27,Registration!$B$2:$B$101,0))))","v":""}]
[{"$f":"IF(COUNTBLANK(Registration!B28)=1,\"\",Registration!B28)","v":""},null,"","","",null,"","","",null,{"$f":"IF(COUNTBLANK(I28)=1,\"\",IF(OR(O28=LEFT(K$1,1),O28=RIGHT(K$1,1)),COUNTIF(O$2:O28,LEFT(K$1,1))+COUNTIF(O$2:O28,RIGHT(K$1,1)),\"\"))","v":""},{"$f":"IF(COUNTBLANK(I28)=1,\"\",IF(OR(O28=LEFT(L$1,1),O28=RIGHT(L$1,1)),COUNTIF(O$2:O28,LEFT(L$1,1))+COUNTIF(O$2:O28,RIGHT(L$1,1)),\"\"))","v":""},{"$f":"IF(COUNTBLANK(I28)=1,\"\",IF(OR(O28=LEFT(M$1,1),O28=RIGHT(M$1,1)),COUNTIF(O$2:O28,LEFT(M$1,1))+COUNTIF(O$2:O28,RIGHT(M$1,1)),\"\"))","v":""},{"$f":"IF(COUNTBLANK(I28)=1,\"\",IF(OR(P28=LEFT(N$1,1),P28=RIGHT(N$1,1)),COUNTIF(P$2:P28,LEFT(N$1,1))+COUNTIF(P$2:P28,RIGHT(N$1,1)),\"\"))","v":""},{"$f":"IF(COUNTBLANK(I28)=1,\"\",INDEX(Registration!$C$2:$C$101,MATCH(I28,Registration!$B$2:$B$101,0)))","v":""},{"$f":"IF(COUNTBLANK(I28)=1,\"\",IF(COUNTBLANK(INDEX(Registration!$D$2:$D$101,MATCH(I28,Registration!$B$2:$B$101,0)))=1,\"\",INDEX(Registration!$D$2:$D$101,MATCH(I28,Registration!$B$2:$B$101,0))))","v":""}]
[{"$f":"IF(COUNTBLANK(Registration!B29)=1,\"\",Registration!B29)","v":""},null,"","","",null,"","","",null,{"$f":"IF(COUNTBLANK(I29)=1,\"\",IF(OR(O29=LEFT(K$1,1),O29=RIGHT(K$1,1)),COUNTIF(O$2:O29,LEFT(K$1,1))+COUNTIF(O$2:O29,RIGHT(K$1,1)),\"\"))","v":""},{"$f":"IF(COUNTBLANK(I29)=1,\"\",IF(OR(O29=LEFT(L$1,1),O29=RIGHT(L$1,1)),COUNTIF(O$2:O29,LEFT(L$1,1))+COUNTIF(O$2:O29,RIGHT(L$1,1)),\"\"))","v":""},{"$f":"IF(COUNTBLANK(I29)=1,\"\",IF(OR(O29=LEFT(M$1,1),O29=RIGHT(M$1,1)),COUNTIF(O$2:O29,LEFT(M$1,1))+COUNTIF(O$2:O29,RIGHT(M$1,1)),\"\"))","v":""},{"$f":"IF(COUNTBLANK(I29)=1,\"\",IF(OR(P29=LEFT(N$1,1),P29=RIGHT(N$1,1)),COUNTIF(P$2:P29,LEFT(N$1,1))+COUNTIF(P$2:P29,RIGHT(N$1,1)),\"\"))","v":""},{"$f":"IF(COUNTBLANK(I29)=1,\"\",INDEX(Registration!$C$2:$C$101,MATCH(I29,Registration!$B$2:$B$101,0)))","v":""},{"$f":"IF(COUNTBLANK(I29)=1,\"\",IF(COUNTBLANK(INDEX(Registration!$D$2:$D$101,MATCH(I29,Registration!$B$2:$B$101,0)))=1,\"\",INDEX(Registration!$D$2:$D$101,MATCH(I29,Registration!$B$2:$B$101,0))))","v":""}]
[{"$f":"IF(COUNTBLANK(Registration!B30)=1,\"\",Registration!B30)","v":""},null,"","","",null,"","","",null,{"$f":"IF(COUNTBLANK(I30)=1,\"\",IF(OR(O30=LEFT(K$1,1),O30=RIGHT(K$1,1)),COUNTIF(O$2:O30,LEFT(K$1,1))+COUNTIF(O$2:O30,RIGHT(K$1,1)),\"\"))","v":""},{"$f":"IF(COUNTBLANK(I30)=1,\"\",IF(OR(O30=LEFT(L$1,1),O30=RIGHT(L$1,1)),COUNTIF(O$2:O30,LEFT(L$1,1))+COUNTIF(O$2:O30,RIGHT(L$1,1)),\"\"))","v":""},{"$f":"IF(COUNTBLANK(I30)=1,\"\",IF(OR(O30=LEFT(M$1,1),O30=RIGHT(M$1,1)),COUNTIF(O$2:O30,LEFT(M$1,1))+COUNTIF(O$2:O30,RIGHT(M$1,1)),\"\"))","v":""},{"$f":"IF(COUNTBLANK(I30)=1,\"\",IF(OR(P30=LEFT(N$1,1),P30=RIGHT(N$1,1)),COUNTIF(P$2:P30,LEFT(N$1,1))+COUNTIF(P$2:P30,RIGHT(N$1,1)),\"\"))","v":""},{"$f":"IF(COUNTBLANK(I30)=1,\"\",INDEX(Registration!$C$2:$C$101,MATCH(I30,Registration!$B$2:$B$101,0)))","v":""},{"$f":"IF(COUNTBLANK(I30)=1,\"\",IF(COUNTBLANK(INDEX(Registration!$D$2:$D$101,MATCH(I30,Registration!$B$2:$B$101,0)))=1,\"\",INDEX(Registration!$D$2:$D$101,MATCH(I30,Registration!$B$2:$B$101,0))))","v":""}]
[{"$f":"IF(COUNTBLANK(Registration!B31)=1,\"\",Registration!B31)","v":""},null,"","","",null,"","","",null,{"$f":"IF(COUNTBLANK(I31)=1,\"\",IF(OR(O31=LEFT(K$1,1),O31=RIGHT(K$1,1)),COUNTIF(O$2:O31,LEFT(K$1,1))+COUNTIF(O$2:O31,RIGHT(K$1,1)),\"\"))","v":""},{"$f":"IF(COUNTBLANK(I31)=1,\"\",IF(OR(O31=LEFT(L$1,1),O31=RIGHT(L$1,1)),COUNTIF(O$2:O31,LEFT(L$1,1))+COUNTIF(O$2:O31,RIGHT(L$1,1)),\"\"))","v":""},{"$f":"IF(COUNTBLANK(I31)=1,\"\",IF(OR(O31=LEFT(M$1,1),O31=RIGHT(M$1,1)),COUNTIF(O$2:O31,LEFT(M$1,1))+COUNTIF(O$2:O31,RIGHT(M$1,1)),\"\"))","v":""},{"$f":"IF(COUNTBLANK(I31)=1,\"\",IF(OR(P31=LEFT(N$1,1),P31=RIGHT(N$1,1)),COUNTIF(P$2:P31,LEFT(N$1,1))+COUNTIF(P$2:P31,RIGHT(N$1,1)),\"\"))","v":""},{"$f":"IF(COUNTBLANK(I31)=1,\"\",INDEX(Registration!$C$2:$C$101,MATCH(I31,Registration!$B$2:$B$101,0)))","v":""},{"$f":"IF(COUNTBLANK(I31)=1,\"\",IF(COUNTBLANK(INDEX(Registration!$D$2:$D$101,MATCH(I31,Registration!$B$2:$B$101,0)))=1,\"\",INDEX(Registration!$D$2:$D$101,MATCH(I31,Registration!$B$2:$B$101,0))))","v":""}]
[{"$f":"IF(COUNTBLANK(Registration!B32)=1,\"\",Registration!B32)","v":""},null,"","","",null,"","","",null,{"$f":"IF(COUNTBLANK(I32)=1,\"\",IF(OR(O32=LEFT(K$1,1),O32=RIGHT(K$1,1)),COUNTIF(O$2:O32,LEFT(K$1,1))+COUNTIF(O$2:O32,RIGHT(K$1,1)),\"\"))","v":""},{"$f":"IF(COUNTBLANK(I32)=1,\"\",IF(OR(O32=LEFT(L$1,1),O32=RIGHT(L$1,1)),COUNTIF(O$2:O32,LEFT(L$1,1))+COUNTIF(O$2:O32,RIGHT(L$1,1)),\"\"))","v":""},{"$f":"IF(COUNTBLANK(I32)=1,\"\",IF(OR(O32=LEFT(M$1,1),O32=RIGHT(M$1,1)),COUNTIF(O$2:O32,LEFT(M$1,1))+COUNTIF(O$2:O32,RIGHT(M$1,1)),\"\"))","v":""},{"$f":"IF(COUNTBLANK(I32)=1,\"\",IF(OR(P32=LEFT(N$1,1),P32=RIGHT(N$1,1)),COUNTIF(P$2:P32,LEFT(N$1,1))+COUNTIF(P$2:P32,RIGHT(N$1,1)),\"\"))","v":""},{"$f":"IF(COUNTBLANK(I32)=1,\"\",INDEX(Registration!$C$2:$C$101,MATCH(I32,Registration!$B$2:$B$101,0)))","v":""},{"$f":"IF(COUNTBLANK(I32)=1,\"\",IF(COUNTBLANK(INDEX(Registration!$D$2:$D$101,MATCH(I32,Registration!$B$2:$B$101,0)))=1,\"\",INDEX(Registration!$D$2:$D$101,MATCH(I32,Registration!$B$2:$B$101,0))))","v":""}]
[{"$f":"IF(COUNTBLANK(Registration!B33)=1,\"\",Registration!B33)","v":""},null,"","","",null,"","","",null,{"$f":"IF(COUNTBLANK(I33)=1,\"\",IF(OR(O33=LEFT(K$1,1),O33=RIGHT(K$1,1)),COUNTIF(O$2:O33,LEFT(K$1,1))+COUNTIF(O$2:O33,RIGHT(K$1,1)),\"\"))","v":""},{"$f":"IF(COUNTBLANK(I33)=1,\"\",IF(OR(O33=LEFT(L$1,1),O33=RIGHT(L$1,1)),COUNTIF(O$2:O33,LEFT(L$1,1))+COUNTIF(O$2:O33,RIGHT(L$1,1)),\"\"))","v":""},{"$f":"IF(COUNTBLANK(I33)=1,\"\",IF(OR(O33=LEFT(M$1,1),O33=RIGHT(M$1,1)),COUNTIF(O$2:O33,LEFT(M$1,1))+COUNTIF(O$2:O33,RIGHT(M$1,1)),\"\"))","v":""},{"$f":"IF(COUNTBLANK(I33)=1,\"\",IF(OR(P33=LEFT(N$1,1),P33=RIGHT(N$1,1)),COUNTIF(P$2:P33,LEFT(N$1,1))+COUNTIF(P$2:P33,RIGHT(N$1,1)),\"\"))","v":""},{"$f":"IF(COUNTBLANK(I33)=1,\"\",INDEX(Registration!$C$2:$C$101,MATCH(I33,Registration!$B$2:$B$101,0)))","v":""},{"$f":"IF(COUNTBLANK(I33)=1,\"\",IF(COUNTBLANK(INDEX(Registration!$D$2:$D$101,MATCH(I33,Registration!$B$2:$B$101,0)))=1,\"\",INDEX(Registration!$D$2:$D$101,MATCH(I33,Registration!$B$2:$B$101,0))))","v":""}]
[{"$f":"IF(COUNTBLANK(Registration!B34)=1,\"\",Registration!B34)","v":""},null,"","","",null,"","","",null,{"$f":"IF(COUNTBLANK(I34)=1,\"\",IF(OR(O34=LEFT(K$1,1),O34=RIGHT(K$1,1)),COUNTIF(O$2:O34,LEFT(K$1,1))+COUNTIF(O$2:O34,RIGHT(K$1,1)),\"\"))","v":""},{"$f":"IF(COUNTBLANK(I34)=1,\"\",IF(OR(O34=LEFT(L$1,1),O34=RIGHT(L$1,1)),COUNTIF(O$2:O34,LEFT(L$1,1))+COUNTIF(O$2:O34,RIGHT(L$1,1)),\"\"))","v":""},{"$f":"IF(COUNTBLANK(I34)=1,\"\",IF(OR(O34=LEFT(M$1,1),O34=RIGHT(M$1,1)),COUNTIF(O$2:O34,LEFT(M$1,1))+COUNTIF(O$2:O34,RIGHT(M$1,1)),\"\"))","v":""},{"$f":"IF(COUNTBLANK(I34)=1,\"\",IF(OR(P34=LEFT(N$1,1),P34=RIGHT(N$1,1)),COUNTIF(P$2:P34,LEFT(N$1,1))+COUNTIF(P$2:P34,RIGHT(N$1,1)),\"\"))","v":""},{"$f":"IF(COUNTBLANK(I34)=1,\"\",INDEX(Registration!$C$2:$C$101,MATCH(I34,Registration!$B$2:$B$101,0)))","v":""},{"$f":"IF(COUNTBLANK(I34)=1,\"\",IF(COUNTBLANK(INDEX(Registration!$D$2:$D$101,MATCH(I34,Registration!$B$2:$B$101,0)))=1,\"\",INDEX(Registration!$D$2:$D$101,MATCH(I34,Registration!$B$2:$B$101,0))))","v":""}]
[{"$f":"IF(COUNTBLANK(Registration!B35)=1,\"\",Registration!B35)","v":""},null,"","","",null,"","","",null,{"$f":"IF(COUNTBLANK(I35)=1,\"\",IF(OR(O35=LEFT(K$1,1),O35=RIGHT(K$1,1)),COUNTIF(O$2:O35,LEFT(K$1,1))+COUNTIF(O$2:O35,RIGHT(K$1,1)),\"\"))","v":""},{"$f":"IF(COUNTBLANK(I35)=1,\"\",IF(OR(O35=LEFT(L$1,1),O35=RIGHT(L$1,1)),COUNTIF(O$2:O35,LEFT(L$1,1))+COUNTIF(O$2:O35,RIGHT(L$1,1)),\"\"))","v":""},{"$f":"IF(COUNTBLANK(I35)=1,\"\",IF(OR(O35=LEFT(M$1,1),O35=RIGHT(M$1,1)),COUNTIF(O$2:O35,LEFT(M$1,1))+COUNTIF(O$2:O35,RIGHT(M$1,1)),\"\"))","v":""},{"$f":"IF(COUNTBLANK(I35)=1,\"\",IF(OR(P35=LEFT(N$1,1),P35=RIGHT(N$1,1)),COUNTIF(P$2:P35,LEFT(N$1,1))+COUNTIF(P$2:P35,RIGHT(N$1,1)),\"\"))","v":""},{"$f":"IF(COUNTBLANK(I35)=1,\"\",INDEX(Registration!$C$2:$C$101,MATCH(I35,Registration!$B$2:$B$101,0)))","v":""},{"$f":"IF(COUNTBLANK(I35)=1,\"\",IF(COUNTBLANK(INDEX(Registration!$D$2:$D$101,MATCH(I35,Registration!$B$2:$B$101,0)))=1,\"\",INDEX(Registration!$D$2:$D$101,MATCH(I35,Registration!$B$2:$B$101,0))))","v":""}]
[{"$f":"IF(COUNTBLANK(Registration!B36)=1,\"\",Registration!B36)","v":""},null,"","","",null,"","","",null,{"$f":"IF(COUNTBLANK(I36)=1,\"\",IF(OR(O36=LEFT(K$1,1),O36=RIGHT(K$1,1)),COUNTIF(O$2:O36,LEFT(K$1,1))+COUNTIF(O$2:O36,RIGHT(K$1,1)),\"\"))","v":""},{"$f":"IF(COUNTBLANK(I36)=1,\"\",IF(OR(O36=LEFT(L$1,1),O36=RIGHT(L$1,1)),COUNTIF(O$2:O36,LEFT(L$1,1))+COUNTIF(O$2:O36,RIGHT(L$1,1)),\"\"))","v":""},{"$f":"IF(COUNTBLANK(I36)=1,\"\",IF(OR(O36=LEFT(M$1,1),O36=RIGHT(M$1,1)),COUNTIF(O$2:O36,LEFT(M$1,1))+COUNTIF(O$2:O36,RIGHT(M$1,1)),\"\"))","v":""},{"$f":"IF(COUNTBLANK(I36)=1,\"\",IF(OR(P36=LEFT(N$1,1),P36=RIGHT(N$1,1)),COUNTIF(P$2:P36,LEFT(N$1,1))+COUNTIF(P$2:P36,RIGHT(N$1,1)),\"\"))","v":""},{"$f":"IF(COUNTBLANK(I36)=1,\"\",INDEX(Registration!$C$2:$C$101,MATCH(I36,Registration!$B$2:$B$101,0)))","v":""},{"$f":"IF(COUNTBLANK(I36)=1,\"\",IF(COUNTBLANK(INDEX(Registration!$D$2:$D$101,MATCH(I36,Registration!$B$2:$B$101,0)))=1,\"\",INDEX(Registration!$D$2:$D$101,MATCH(I36,Registration!$B$2:$B$101,0))))","v":""}]
[{"$f":"IF(COUNTBLANK(Registration!B37)=1,\"\",Registration!B37)","v":""},null,"","","",null,"","","",null,{"$f":"IF(COUNTBLANK(I37)=1,\"\",IF(OR(O37=LEFT(K$1,1),O37=RIGHT(K$1,1)),COUNTIF(O$2:O37,LEFT(K$1,1))+COUNTIF(O$2:O37,RIGHT(K$1,1)),\"\"))","v":""},{"$f":"IF(COUNTBLANK(I37)=1,\"\",IF(OR(O37=LEFT(L$1,1),O37=RIGHT(L$1,1)),COUNTIF(O$2:O37,LEFT(L$1,1))+COUNTIF(O$2:O37,RIGHT(L$1,1)),\"\"))","v":""},{"$f":"IF(COUNTBLANK(I37)=1,\"\",IF(OR(O37=LEFT(M$1,1),O37=RIGHT(M$1,1)),COUNTIF(O$2:O37,LEFT(M$1,1))+COUNTIF(O$2:O37,RIGHT(M$1,1)),\"\"))","v":""},{"$f":"IF(COUNTBLANK(I37)=1,\"\",IF(OR(P37=LEFT(N$1,1),P37=RIGHT(N$1,1)),COUNTIF(P$2:P37,LEFT(N$1,1))+COUNTIF(P$2:P37,RIGHT(N$1,1)),\"\"))","v":""},{"$f":"IF(COUNTBLANK(I37)=1,\"\",INDEX(Registration!$C$2:$C$101,MATCH(I37,Registration!$B$2:$B$101,0)))","v":""},{"$f":"IF(COUNTBLANK(I37)=1,\"\",IF(COUNTBLANK(INDEX(Registration!$D$2:$D$101,MATCH(I37,Registration!$B$2:$B$101,0)))=1,\"\",INDEX(Registration!$D$2:$D$101,MATCH(I37,Registration!$B$2:$B$101,0))))","v":""}]
[{"$f":"IF(COUNTBLANK(Registration!B38)=1,\"\",Registration!B38)","v":""},null,"","","",null,"","","",null,{"$f":"IF(COUNTBLANK(I38)=1,\"\",IF(OR(O38=LEFT(K$1,1),O38=RIGHT(K$1,1)),COUNTIF(O$2:O38,LEFT(K$1,1))+COUNTIF(O$2:O38,RIGHT(K$1,1)),\"\"))","v":""},{"$f":"IF(COUNTBLANK(I38)=1,\"\",IF(OR(O38=LEFT(L$1,1),O38=RIGHT(L$1,1)),COUNTIF(O$2:O38,LEFT(L$1,1))+COUNTIF(O$2:O38,RIGHT(L$1,1)),\"\"))","v":""},{"$f":"IF(COUNTBLANK(I38)=1,\"\",IF(OR(O38=LEFT(M$1,1),O38=RIGHT(M$1,1)),COUNTIF(O$2:O38,LEFT(M$1,1))+COUNTIF(O$2:O38,RIGHT(M$1,1)),\"\"))","v":""},{"$f":"IF(COUNTBLANK(I38)=1,\"\",IF(OR(P38=LEFT(N$1,1),P38=RIGHT(N$1,1)),COUNTIF(P$2:P38,LEFT(N$1,1))+COUNTIF(P$2:P38,RIGHT(N$1,1)),\"\"))","v":""},{"$f":"IF(COUNTBLANK(I38)=1,\"\",INDEX(Registration!$C$2:$C$101,MATCH(I38,Registration!$B$2:$B$101,0)))","v":""},{"$f":"IF(COUNTBLANK(I38)=1,\"\",IF(COUNTBLANK(INDEX(Registration!$D$2:$D$101,MATCH(I38,Registration!$B$2:$B$101,0)))=1,\"\",INDEX(Registration!$D$2:$D$101,MATCH(I38,Registration!$B$2:$B$101,0))))","v":""}]
[{"$f":"IF(COUNTBLANK(Registration!B39)=1,\"\",Registration!B39)","v":""},null,"","","",null,"","","",null,{"$f":"IF(COUNTBLANK(I39)=1,\"\",IF(OR(O39=LEFT(K$1,1),O39=RIGHT(K$1,1)),COUNTIF(O$2:O39,LEFT(K$1,1))+COUNTIF(O$2:O39,RIGHT(K$1,1)),\"\"))","v":""},{"$f":"IF(COUNTBLANK(I39)=1,\"\",IF(OR(O39=LEFT(L$1,1),O39=RIGHT(L$1,1)),COUNTIF(O$2:O39,LEFT(L$1,1))+COUNTIF(O$2:O39,RIGHT(L$1,1)),\"\"))","v":""},{"$f":"IF(COUNTBLANK(I39)=1,\"\",IF(OR(O39=LEFT(M$1,1),O39=RIGHT(M$1,1)),COUNTIF(O$2:O39,LEFT(M$1,1))+COUNTIF(O$2:O39,RIGHT(M$1,1)),\"\"))","v":""},{"$f":"IF(COUNTBLANK(I39)=1,\"\",IF(OR(P39=LEFT(N$1,1),P39=RIGHT(N$1,1)),COUNTIF(P$2:P39,LEFT(N$1,1))+COUNTIF(P$2:P39,RIGHT(N$1,1)),\"\"))","v":""},{"$f":"IF(COUNTBLANK(I39)=1,\"\",INDEX(Registration!$C$2:$C$101,MATCH(I39,Registration!$B$2:$B$101,0)))","v":""},{"$f":"IF(COUNTBLANK(I39)=1,\"\",IF(COUNTBLANK(INDEX(Registration!$D$2:$D$101,MATCH(I39,Registration!$B$2:$B$101,0)))=1,\"\",INDEX(Registration!$D$2:$D$101,MATCH(I39,Registration!$B$2:$B$101,0))))","v":""}]
[{"$f":"IF(COUNTBLANK(Registration!B40)=1,\"\",Registration!B40)","v":""},null,"","","",null,"","","",null,{"$f":"IF(COUNTBLANK(I40)=1,\"\",IF(OR(O40=LEFT(K$1,1),O40=RIGHT(K$1,1)),COUNTIF(O$2:O40,LEFT(K$1,1))+COUNTIF(O$2:O40,RIGHT(K$1,1)),\"\"))","v":""},{"$f":"IF(COUNTBLANK(I40)=1,\"\",IF(OR(O40=LEFT(L$1,1),O40=RIGHT(L$1,1)),COUNTIF(O$2:O40,LEFT(L$1,1))+COUNTIF(O$2:O40,RIGHT(L$1,1)),\"\"))","v":""},{"$f":"IF(COUNTBLANK(I40)=1,\"\",IF(OR(O40=LEFT(M$1,1),O40=RIGHT(M$1,1)),COUNTIF(O$2:O40,LEFT(M$1,1))+COUNTIF(O$2:O40,RIGHT(M$1,1)),\"\"))","v":""},{"$f":"IF(COUNTBLANK(I40)=1,\"\",IF(OR(P40=LEFT(N$1,1),P40=RIGHT(N$1,1)),COUNTIF(P$2:P40,LEFT(N$1,1))+COUNTIF(P$2:P40,RIGHT(N$1,1)),\"\"))","v":""},{"$f":"IF(COUNTBLANK(I40)=1,\"\",INDEX(Registration!$C$2:$C$101,MATCH(I40,Registration!$B$2:$B$101,0)))","v":""},{"$f":"IF(COUNTBLANK(I40)=1,\"\",IF(COUNTBLANK(INDEX(Registration!$D$2:$D$101,MATCH(I40,Registration!$B$2:$B$101,0)))=1,\"\",INDEX(Registration!$D$2:$D$101,MATCH(I40,Registration!$B$2:$B$101,0))))","v":""}]
[{"$f":"IF(COUNTBLANK(Registration!B41)=1,\"\",Registration!B41)","v":""},null,"","","",null,"","","",null,{"$f":"IF(COUNTBLANK(I41)=1,\"\",IF(OR(O41=LEFT(K$1,1),O41=RIGHT(K$1,1)),COUNTIF(O$2:O41,LEFT(K$1,1))+COUNTIF(O$2:O41,RIGHT(K$1,1)),\"\"))","v":""},{"$f":"IF(COUNTBLANK(I41)=1,\"\",IF(OR(O41=LEFT(L$1,1),O41=RIGHT(L$1,1)),COUNTIF(O$2:O41,LEFT(L$1,1))+COUNTIF(O$2:O41,RIGHT(L$1,1)),\"\"))","v":""},{"$f":"IF(COUNTBLANK(I41)=1,\"\",IF(OR(O41=LEFT(M$1,1),O41=RIGHT(M$1,1)),COUNTIF(O$2:O41,LEFT(M$1,1))+COUNTIF(O$2:O41,RIGHT(M$1,1)),\"\"))","v":""},{"$f":"IF(COUNTBLANK(I41)=1,\"\",IF(OR(P41=LEFT(N$1,1),P41=RIGHT(N$1,1)),COUNTIF(P$2:P41,LEFT(N$1,1))+COUNTIF(P$2:P41,RIGHT(N$1,1)),\"\"))","v":""},{"$f":"IF(COUNTBLANK(I41)=1,\"\",INDEX(Registration!$C$2:$C$101,MATCH(I41,Registration!$B$2:$B$101,0)))","v":""},{"$f":"IF(COUNTBLANK(I41)=1,\"\",IF(COUNTBLANK(INDEX(Registration!$D$2:$D$101,MATCH(I41,Registration!$B$2:$B$101,0)))=1,\"\",INDEX(Registration!$D$2:$D$101,MATCH(I41,Registration!$B$2:$B$101,0))))","v":""}]
[{"$f":"IF(COUNTBLANK(Registration!B42)=1,\"\",Registration!B42)","v":""},null,"","","",null,"","","",null,{"$f":"IF(COUNTBLANK(I42)=1,\"\",IF(OR(O42=LEFT(K$1,1),O42=RIGHT(K$1,1)),COUNTIF(O$2:O42,LEFT(K$1,1))+COUNTIF(O$2:O42,RIGHT(K$1,1)),\"\"))","v":""},{"$f":"IF(COUNTBLANK(I42)=1,\"\",IF(OR(O42=LEFT(L$1,1),O42=RIGHT(L$1,1)),COUNTIF(O$2:O42,LEFT(L$1,1))+COUNTIF(O$2:O42,RIGHT(L$1,1)),\"\"))","v":""},{"$f":"IF(COUNTBLANK(I42)=1,\"\",IF(OR(O42=LEFT(M$1,1),O42=RIGHT(M$1,1)),COUNTIF(O$2:O42,LEFT(M$1,1))+COUNTIF(O$2:O42,RIGHT(M$1,1)),\"\"))","v":""},{"$f":"IF(COUNTBLANK(I42)=1,\"\",IF(OR(P42=LEFT(N$1,1),P42=RIGHT(N$1,1)),COUNTIF(P$2:P42,LEFT(N$1,1))+COUNTIF(P$2:P42,RIGHT(N$1,1)),\"\"))","v":""},{"$f":"IF(COUNTBLANK(I42)=1,\"\",INDEX(Registration!$C$2:$C$101,MATCH(I42,Registration!$B$2:$B$101,0)))","v":""},{"$f":"IF(COUNTBLANK(I42)=1,\"\",IF(COUNTBLANK(INDEX(Registration!$D$2:$D$101,MATCH(I42,Registration!$B$2:$B$101,0)))=1,\"\",INDEX(Registration!$D$2:$D$101,MATCH(I42,Registration!$B$2:$B$101,0))))","v":""}]
[{"$f":"IF(COUNTBLANK(Registration!B43)=1,\"\",Registration!B43)","v":""},null,"","","",null,"","","",null,{"$f":"IF(COUNTBLANK(I43)=1,\"\",IF(OR(O43=LEFT(K$1,1),O43=RIGHT(K$1,1)),COUNTIF(O$2:O43,LEFT(K$1,1))+COUNTIF(O$2:O43,RIGHT(K$1,1)),\"\"))","v":""},{"$f":"IF(COUNTBLANK(I43)=1,\"\",IF(OR(O43=LEFT(L$1,1),O43=RIGHT(L$1,1)),COUNTIF(O$2:O43,LEFT(L$1,1))+COUNTIF(O$2:O43,RIGHT(L$1,1)),\"\"))","v":""},{"$f":"IF(COUNTBLANK(I43)=1,\"\",IF(OR(O43=LEFT(M$1,1),O43=RIGHT(M$1,1)),COUNTIF(O$2:O43,LEFT(M$1,1))+COUNTIF(O$2:O43,RIGHT(M$1,1)),\"\"))","v":""},{"$f":"IF(COUNTBLANK(I43)=1,\"\",IF(OR(P43=LEFT(N$1,1),P43=RIGHT(N$1,1)),COUNTIF(P$2:P43,LEFT(N$1,1))+COUNTIF(P$2:P43,RIGHT(N$1,1)),\"\"))","v":""},{"$f":"IF(COUNTBLANK(I43)=1,\"\",INDEX(Registration!$C$2:$C$101,MATCH(I43,Registration!$B$2:$B$101,0)))","v":""},{"$f":"IF(COUNTBLANK(I43)=1,\"\",IF(COUNTBLANK(INDEX(Registration!$D$2:$D$101,MATCH(I43,Registration!$B$2:$B$101,0)))=1,\"\",INDEX(Registration!$D$2:$D$101,MATCH(I43,Registration!$B$2:$B$101,0))))","v":""}]
[{"$f":"IF(COUNTBLANK(Registration!B44)=1,\"\",Registration!B44)","v":""},null,"","","",null,"","","",null,{"$f":"IF(COUNTBLANK(I44)=1,\"\",IF(OR(O44=LEFT(K$1,1),O44=RIGHT(K$1,1)),COUNTIF(O$2:O44,LEFT(K$1,1))+COUNTIF(O$2:O44,RIGHT(K$1,1)),\"\"))","v":""},{"$f":"IF(COUNTBLANK(I44)=1,\"\",IF(OR(O44=LEFT(L$1,1),O44=RIGHT(L$1,1)),COUNTIF(O$2:O44,LEFT(L$1,1))+COUNTIF(O$2:O44,RIGHT(L$1,1)),\"\"))","v":""},{"$f":"IF(COUNTBLANK(I44)=1,\"\",IF(OR(O44=LEFT(M$1,1),O44=RIGHT(M$1,1)),COUNTIF(O$2:O44,LEFT(M$1,1))+COUNTIF(O$2:O44,RIGHT(M$1,1)),\"\"))","v":""},{"$f":"IF(COUNTBLANK(I44)=1,\"\",IF(OR(P44=LEFT(N$1,1),P44=RIGHT(N$1,1)),COUNTIF(P$2:P44,LEFT(N$1,1))+COUNTIF(P$2:P44,RIGHT(N$1,1)),\"\"))","v":""},{"$f":"IF(COUNTBLANK(I44)=1,\"\",INDEX(Registration!$C$2:$C$101,MATCH(I44,Registration!$B$2:$B$101,0)))","v":""},{"$f":"IF(COUNTBLANK(I44)=1,\"\",IF(COUNTBLANK(INDEX(Registration!$D$2:$D$101,MATCH(I44,Registration!$B$2:$B$101,0)))=1,\"\",INDEX(Registration!$D$2:$D$101,MATCH(I44,Registration!$B$2:$B$101,0))))","v":""}]
[{"$f":"IF(COUNTBLANK(Registration!B45)=1,\"\",Registration!B45)","v":""},null,"","","",null,"","","",null,{"$f":"IF(COUNTBLANK(I45)=1,\"\",IF(OR(O45=LEFT(K$1,1),O45=RIGHT(K$1,1)),COUNTIF(O$2:O45,LEFT(K$1,1))+COUNTIF(O$2:O45,RIGHT(K$1,1)),\"\"))","v":""},{"$f":"IF(COUNTBLANK(I45)=1,\"\",IF(OR(O45=LEFT(L$1,1),O45=RIGHT(L$1,1)),COUNTIF(O$2:O45,LEFT(L$1,1))+COUNTIF(O$2:O45,RIGHT(L$1,1)),\"\"))","v":""},{"$f":"IF(COUNTBLANK(I45)=1,\"\",IF(OR(O45=LEFT(M$1,1),O45=RIGHT(M$1,1)),COUNTIF(O$2:O45,LEFT(M$1,1))+COUNTIF(O$2:O45,RIGHT(M$1,1)),\"\"))","v":""},{"$f":"IF(COUNTBLANK(I45)=1,\"\",IF(OR(P45=LEFT(N$1,1),P45=RIGHT(N$1,1)),COUNTIF(P$2:P45,LEFT(N$1,1))+COUNTIF(P$2:P45,RIGHT(N$1,1)),\"\"))","v":""},{"$f":"IF(COUNTBLANK(I45)=1,\"\",INDEX(Registration!$C$2:$C$101,MATCH(I45,Registration!$B$2:$B$101,0)))","v":""},{"$f":"IF(COUNTBLANK(I45)=1,\"\",IF(COUNTBLANK(INDEX(Registration!$D$2:$D$101,MATCH(I45,Registration!$B$2:$B$101,0)))=1,\"\",INDEX(Registration!$D$2:$D$101,MATCH(I45,Registration!$B$2:$B$101,0))))","v":""}]
[{"$f":"IF(COUNTBLANK(Registration!B46)=1,\"\",Registration!B46)","v":""},null,"","","",null,"","","",null,{"$f":"IF(COUNTBLANK(I46)=1,\"\",IF(OR(O46=LEFT(K$1,1),O46=RIGHT(K$1,1)),COUNTIF(O$2:O46,LEFT(K$1,1))+COUNTIF(O$2:O46,RIGHT(K$1,1)),\"\"))","v":""},{"$f":"IF(COUNTBLANK(I46)=1,\"\",IF(OR(O46=LEFT(L$1,1),O46=RIGHT(L$1,1)),COUNTIF(O$2:O46,LEFT(L$1,1))+COUNTIF(O$2:O46,RIGHT(L$1,1)),\"\"))","v":""},{"$f":"IF(COUNTBLANK(I46)=1,\"\",IF(OR(O46=LEFT(M$1,1),O46=RIGHT(M$1,1)),COUNTIF(O$2:O46,LEFT(M$1,1))+COUNTIF(O$2:O46,RIGHT(M$1,1)),\"\"))","v":""},{"$f":"IF(COUNTBLANK(I46)=1,\"\",IF(OR(P46=LEFT(N$1,1),P46=RIGHT(N$1,1)),COUNTIF(P$2:P46,LEFT(N$1,1))+COUNTIF(P$2:P46,RIGHT(N$1,1)),\"\"))","v":""},{"$f":"IF(COUNTBLANK(I46)=1,\"\",INDEX(Registration!$C$2:$C$101,MATCH(I46,Registration!$B$2:$B$101,0)))","v":""},{"$f":"IF(COUNTBLANK(I46)=1,\"\",IF(COUNTBLANK(INDEX(Registration!$D$2:$D$101,MATCH(I46,Registration!$B$2:$B$101,0)))=1,\"\",INDEX(Registration!$D$2:$D$101,MATCH(I46,Registration!$B$2:$B$101,0))))","v":""}]
[{"$f":"IF(COUNTBLANK(Registration!B47)=1,\"\",Registration!B47)","v":""},null,"","","",null,"","","",null,{"$f":"IF(COUNTBLANK(I47)=1,\"\",IF(OR(O47=LEFT(K$1,1),O47=RIGHT(K$1,1)),COUNTIF(O$2:O47,LEFT(K$1,1))+COUNTIF(O$2:O47,RIGHT(K$1,1)),\"\"))","v":""},{"$f":"IF(COUNTBLANK(I47)=1,\"\",IF(OR(O47=LEFT(L$1,1),O47=RIGHT(L$1,1)),COUNTIF(O$2:O47,LEFT(L$1,1))+COUNTIF(O$2:O47,RIGHT(L$1,1)),\"\"))","v":""},{"$f":"IF(COUNTBLANK(I47)=1,\"\",IF(OR(O47=LEFT(M$1,1),O47=RIGHT(M$1,1)),COUNTIF(O$2:O47,LEFT(M$1,1))+COUNTIF(O$2:O47,RIGHT(M$1,1)),\"\"))","v":""},{"$f":"IF(COUNTBLANK(I47)=1,\"\",IF(OR(P47=LEFT(N$1,1),P47=RIGHT(N$1,1)),COUNTIF(P$2:P47,LEFT(N$1,1))+COUNTIF(P$2:P47,RIGHT(N$1,1)),\"\"))","v":""},{"$f":"IF(COUNTBLANK(I47)=1,\"\",INDEX(Registration!$C$2:$C$101,MATCH(I47,Registration!$B$2:$B$101,0)))","v":""},{"$f":"IF(COUNTBLANK(I47)=1,\"\",IF(COUNTBLANK(INDEX(Registration!$D$2:$D$101,MATCH(I47,Registration!$B$2:$B$101,0)))=1,\"\",INDEX(Registration!$D$2:$D$101,MATCH(I47,Registration!$B$2:$B$101,0))))","v":""}]
[{"$f":"IF(COUNTBLANK(Registration!B48)=1,\"\",Registration!B48)","v":""},null,"","","",null,"","","",null,{"$f":"IF(COUNTBLANK(I48)=1,\"\",IF(OR(O48=LEFT(K$1,1),O48=RIGHT(K$1,1)),COUNTIF(O$2:O48,LEFT(K$1,1))+COUNTIF(O$2:O48,RIGHT(K$1,1)),\"\"))","v":""},{"$f":"IF(COUNTBLANK(I48)=1,\"\",IF(OR(O48=LEFT(L$1,1),O48=RIGHT(L$1,1)),COUNTIF(O$2:O48,LEFT(L$1,1))+COUNTIF(O$2:O48,RIGHT(L$1,1)),\"\"))","v":""},{"$f":"IF(COUNTBLANK(I48)=1,\"\",IF(OR(O48=LEFT(M$1,1),O48=RIGHT(M$1,1)),COUNTIF(O$2:O48,LEFT(M$1,1))+COUNTIF(O$2:O48,RIGHT(M$1,1)),\"\"))","v":""},{"$f":"IF(COUNTBLANK(I48)=1,\"\",IF(OR(P48=LEFT(N$1,1),P48=RIGHT(N$1,1)),COUNTIF(P$2:P48,LEFT(N$1,1))+COUNTIF(P$2:P48,RIGHT(N$1,1)),\"\"))","v":""},{"$f":"IF(COUNTBLANK(I48)=1,\"\",INDEX(Registration!$C$2:$C$101,MATCH(I48,Registration!$B$2:$B$101,0)))","v":""},{"$f":"IF(COUNTBLANK(I48)=1,\"\",IF(COUNTBLANK(INDEX(Registration!$D$2:$D$101,MATCH(I48,Registration!$B$2:$B$101,0)))=1,\"\",INDEX(Registration!$D$2:$D$101,MATCH(I48,Registration!$B$2:$B$101,0))))","v":""}]
[{"$f":"IF(COUNTBLANK(Registration!B49)=1,\"\",Registration!B49)","v":""},null,"","","",null,"","","",null,{"$f":"IF(COUNTBLANK(I49)=1,\"\",IF(OR(O49=LEFT(K$1,1),O49=RIGHT(K$1,1)),COUNTIF(O$2:O49,LEFT(K$1,1))+COUNTIF(O$2:O49,RIGHT(K$1,1)),\"\"))","v":""},{"$f":"IF(COUNTBLANK(I49)=1,\"\",IF(OR(O49=LEFT(L$1,1),O49=RIGHT(L$1,1)),COUNTIF(O$2:O49,LEFT(L$1,1))+COUNTIF(O$2:O49,RIGHT(L$1,1)),\"\"))","v":""},{"$f":"IF(COUNTBLANK(I49)=1,\"\",IF(OR(O49=LEFT(M$1,1),O49=RIGHT(M$1,1)),COUNTIF(O$2:O49,LEFT(M$1,1))+COUNTIF(O$2:O49,RIGHT(M$1,1)),\"\"))","v":""},{"$f":"IF(COUNTBLANK(I49)=1,\"\",IF(OR(P49=LEFT(N$1,1),P49=RIGHT(N$1,1)),COUNTIF(P$2:P49,LEFT(N$1,1))+COUNTIF(P$2:P49,RIGHT(N$1,1)),\"\"))","v":""},{"$f":"IF(COUNTBLANK(I49)=1,\"\",INDEX(Registration!$C$2:$C$101,MATCH(I49,Registration!$B$2:$B$101,0)))","v":""},{"$f":"IF(COUNTBLANK(I49)=1,\"\",IF(COUNTBLANK(INDEX(Registration!$D$2:$D$101,MATCH(I49,Registration!$B$2:$B$101,0)))=1,\"\",INDEX(Registration!$D$2:$D$101,MATCH(I49,Registration!$B$2:$B$101,0))))","v":""}]
[{"$f":"IF(COUNTBLANK(Registration!B50)=1,\"\",Registration!B50)","v":""},null,"","","",null,"","","",null,{"$f":"IF(COUNTBLANK(I50)=1,\"\",IF(OR(O50=LEFT(K$1,1),O50=RIGHT(K$1,1)),COUNTIF(O$2:O50,LEFT(K$1,1))+COUNTIF(O$2:O50,RIGHT(K$1,1)),\"\"))","v":""},{"$f":"IF(COUNTBLANK(I50)=1,\"\",IF(OR(O50=LEFT(L$1,1),O50=RIGHT(L$1,1)),COUNTIF(O$2:O50,LEFT(L$1,1))+COUNTIF(O$2:O50,RIGHT(L$1,1)),\"\"))","v":""},{"$f":"IF(COUNTBLANK(I50)=1,\"\",IF(OR(O50=LEFT(M$1,1),O50=RIGHT(M$1,1)),COUNTIF(O$2:O50,LEFT(M$1,1))+COUNTIF(O$2:O50,RIGHT(M$1,1)),\"\"))","v":""},{"$f":"IF(COUNTBLANK(I50)=1,\"\",IF(OR(P50=LEFT(N$1,1),P50=RIGHT(N$1,1)),COUNTIF(P$2:P50,LEFT(N$1,1))+COUNTIF(P$2:P50,RIGHT(N$1,1)),\"\"))","v":""},{"$f":"IF(COUNTBLANK(I50)=1,\"\",INDEX(Registration!$C$2:$C$101,MATCH(I50,Registration!$B$2:$B$101,0)))","v":""},{"$f":"IF(COUNTBLANK(I50)=1,\"\",IF(COUNTBLANK(INDEX(Registration!$D$2:$D$101,MATCH(I50,Registration!$B$2:$B$101,0)))=1,\"\",INDEX(Registration!$D$2:$D$101,MATCH(I50,Registration!$B$2:$B$101,0))))","v":""}]
[{"$f":"IF(COUNTBLANK(Registration!B51)=1,\"\",Registration!B51)","v":""},null,"","","",null,"","","",null,{"$f":"IF(COUNTBLANK(I51)=1,\"\",IF(OR(O51=LEFT(K$1,1),O51=RIGHT(K$1,1)),COUNTIF(O$2:O51,LEFT(K$1,1))+COUNTIF(O$2:O51,RIGHT(K$1,1)),\"\"))","v":""},{"$f":"IF(COUNTBLANK(I51)=1,\"\",IF(OR(O51=LEFT(L$1,1),O51=RIGHT(L$1,1)),COUNTIF(O$2:O51,LEFT(L$1,1))+COUNTIF(O$2:O51,RIGHT(L$1,1)),\"\"))","v":""},{"$f":"IF(COUNTBLANK(I51)=1,\"\",IF(OR(O51=LEFT(M$1,1),O51=RIGHT(M$1,1)),COUNTIF(O$2:O51,LEFT(M$1,1))+COUNTIF(O$2:O51,RIGHT(M$1,1)),\"\"))","v":""},{"$f":"IF(COUNTBLANK(I51)=1,\"\",IF(OR(P51=LEFT(N$1,1),P51=RIGHT(N$1,1)),COUNTIF(P$2:P51,LEFT(N$1,1))+COUNTIF(P$2:P51,RIGHT(N$1,1)),\"\"))","v":""},{"$f":"IF(COUNTBLANK(I51)=1,\"\",INDEX(Registration!$C$2:$C$101,MATCH(I51,Registration!$B$2:$B$101,0)))","v":""},{"$f":"IF(COUNTBLANK(I51)=1,\"\",IF(COUNTBLANK(INDEX(Registration!$D$2:$D$101,MATCH(I51,Registration!$B$2:$B$101,0)))=1,\"\",INDEX(Registration!$D$2:$D$101,MATCH(I51,Registration!$B$2:$B$101,0))))","v":""}]
[{"$f":"IF(COUNTBLANK(Registration!B52)=1,\"\",Registration!B52)","v":""},null,"","","",null,"","","",null,{"$f":"IF(COUNTBLANK(I52)=1,\"\",IF(OR(O52=LEFT(K$1,1),O52=RIGHT(K$1,1)),COUNTIF(O$2:O52,LEFT(K$1,1))+COUNTIF(O$2:O52,RIGHT(K$1,1)),\"\"))","v":""},{"$f":"IF(COUNTBLANK(I52)=1,\"\",IF(OR(O52=LEFT(L$1,1),O52=RIGHT(L$1,1)),COUNTIF(O$2:O52,LEFT(L$1,1))+COUNTIF(O$2:O52,RIGHT(L$1,1)),\"\"))","v":""},{"$f":"IF(COUNTBLANK(I52)=1,\"\",IF(OR(O52=LEFT(M$1,1),O52=RIGHT(M$1,1)),COUNTIF(O$2:O52,LEFT(M$1,1))+COUNTIF(O$2:O52,RIGHT(M$1,1)),\"\"))","v":""},{"$f":"IF(COUNTBLANK(I52)=1,\"\",IF(OR(P52=LEFT(N$1,1),P52=RIGHT(N$1,1)),COUNTIF(P$2:P52,LEFT(N$1,1))+COUNTIF(P$2:P52,RIGHT(N$1,1)),\"\"))","v":""},{"$f":"IF(COUNTBLANK(I52)=1,\"\",INDEX(Registration!$C$2:$C$101,MATCH(I52,Registration!$B$2:$B$101,0)))","v":""},{"$f":"IF(COUNTBLANK(I52)=1,\"\",IF(COUNTBLANK(INDEX(Registration!$D$2:$D$101,MATCH(I52,Registration!$B$2:$B$101,0)))=1,\"\",INDEX(Registration!$D$2:$D$101,MATCH(I52,Registration!$B$2:$B$101,0))))","v":""}]
[{"$f":"IF(COUNTBLANK(Registration!B53)=1,\"\",Registration!B53)","v":""},null,"","","",null,"","","",null,{"$f":"IF(COUNTBLANK(I53)=1,\"\",IF(OR(O53=LEFT(K$1,1),O53=RIGHT(K$1,1)),COUNTIF(O$2:O53,LEFT(K$1,1))+COUNTIF(O$2:O53,RIGHT(K$1,1)),\"\"))","v":""},{"$f":"IF(COUNTBLANK(I53)=1,\"\",IF(OR(O53=LEFT(L$1,1),O53=RIGHT(L$1,1)),COUNTIF(O$2:O53,LEFT(L$1,1))+COUNTIF(O$2:O53,RIGHT(L$1,1)),\"\"))","v":""},{"$f":"IF(COUNTBLANK(I53)=1,\"\",IF(OR(O53=LEFT(M$1,1),O53=RIGHT(M$1,1)),COUNTIF(O$2:O53,LEFT(M$1,1))+COUNTIF(O$2:O53,RIGHT(M$1,1)),\"\"))","v":""},{"$f":"IF(COUNTBLANK(I53)=1,\"\",IF(OR(P53=LEFT(N$1,1),P53=RIGHT(N$1,1)),COUNTIF(P$2:P53,LEFT(N$1,1))+COUNTIF(P$2:P53,RIGHT(N$1,1)),\"\"))","v":""},{"$f":"IF(COUNTBLANK(I53)=1,\"\",INDEX(Registration!$C$2:$C$101,MATCH(I53,Registration!$B$2:$B$101,0)))","v":""},{"$f":"IF(COUNTBLANK(I53)=1,\"\",IF(COUNTBLANK(INDEX(Registration!$D$2:$D$101,MATCH(I53,Registration!$B$2:$B$101,0)))=1,\"\",INDEX(Registration!$D$2:$D$101,MATCH(I53,Registration!$B$2:$B$101,0))))","v":""}]
[{"$f":"IF(COUNTBLANK(Registration!B54)=1,\"\",Registration!B54)","v":""},null,"","","",null,"","","",null,{"$f":"IF(COUNTBLANK(I54)=1,\"\",IF(OR(O54=LEFT(K$1,1),O54=RIGHT(K$1,1)),COUNTIF(O$2:O54,LEFT(K$1,1))+COUNTIF(O$2:O54,RIGHT(K$1,1)),\"\"))","v":""},{"$f":"IF(COUNTBLANK(I54)=1,\"\",IF(OR(O54=LEFT(L$1,1),O54=RIGHT(L$1,1)),COUNTIF(O$2:O54,LEFT(L$1,1))+COUNTIF(O$2:O54,RIGHT(L$1,1)),\"\"))","v":""},{"$f":"IF(COUNTBLANK(I54)=1,\"\",IF(OR(O54=LEFT(M$1,1),O54=RIGHT(M$1,1)),COUNTIF(O$2:O54,LEFT(M$1,1))+COUNTIF(O$2:O54,RIGHT(M$1,1)),\"\"))","v":""},{"$f":"IF(COUNTBLANK(I54)=1,\"\",IF(OR(P54=LEFT(N$1,1),P54=RIGHT(N$1,1)),COUNTIF(P$2:P54,LEFT(N$1,1))+COUNTIF(P$2:P54,RIGHT(N$1,1)),\"\"))","v":""},{"$f":"IF(COUNTBLANK(I54)=1,\"\",INDEX(Registration!$C$2:$C$101,MATCH(I54,Registration!$B$2:$B$101,0)))","v":""},{"$f":"IF(COUNTBLANK(I54)=1,\"\",IF(COUNTBLANK(INDEX(Registration!$D$2:$D$101,MATCH(I54,Registration!$B$2:$B$101,0)))=1,\"\",INDEX(Registration!$D$2:$D$101,MATCH(I54,Registration!$B$2:$B$101,0))))","v":""}]
[{"$f":"IF(COUNTBLANK(Registration!B55)=1,\"\",Registration!B55)","v":""},null,"","","",null,"","","",null,{"$f":"IF(COUNTBLANK(I55)=1,\"\",IF(OR(O55=LEFT(K$1,1),O55=RIGHT(K$1,1)),COUNTIF(O$2:O55,LEFT(K$1,1))+COUNTIF(O$2:O55,RIGHT(K$1,1)),\"\"))","v":""},{"$f":"IF(COUNTBLANK(I55)=1,\"\",IF(OR(O55=LEFT(L$1,1),O55=RIGHT(L$1,1)),COUNTIF(O$2:O55,LEFT(L$1,1))+COUNTIF(O$2:O55,RIGHT(L$1,1)),\"\"))","v":""},{"$f":"IF(COUNTBLANK(I55)=1,\"\",IF(OR(O55=LEFT(M$1,1),O55=RIGHT(M$1,1)),COUNTIF(O$2:O55,LEFT(M$1,1))+COUNTIF(O$2:O55,RIGHT(M$1,1)),\"\"))","v":""},{"$f":"IF(COUNTBLANK(I55)=1,\"\",IF(OR(P55=LEFT(N$1,1),P55=RIGHT(N$1,1)),COUNTIF(P$2:P55,LEFT(N$1,1))+COUNTIF(P$2:P55,RIGHT(N$1,1)),\"\"))","v":""},{"$f":"IF(COUNTBLANK(I55)=1,\"\",INDEX(Registration!$C$2:$C$101,MATCH(I55,Registration!$B$2:$B$101,0)))","v":""},{"$f":"IF(COUNTBLANK(I55)=1,\"\",IF(COUNTBLANK(INDEX(Registration!$D$2:$D$101,MATCH(I55,Registration!$B$2:$B$101,0)))=1,\"\",INDEX(Registration!$D$2:$D$101,MATCH(I55,Registration!$B$2:$B$101,0))))","v":""}]
[{"$f":"IF(COUNTBLANK(Registration!B56)=1,\"\",Registration!B56)","v":""},null,"","","",null,"","","",null,{"$f":"IF(COUNTBLANK(I56)=1,\"\",IF(OR(O56=LEFT(K$1,1),O56=RIGHT(K$1,1)),COUNTIF(O$2:O56,LEFT(K$1,1))+COUNTIF(O$2:O56,RIGHT(K$1,1)),\"\"))","v":""},{"$f":"IF(COUNTBLANK(I56)=1,\"\",IF(OR(O56=LEFT(L$1,1),O56=RIGHT(L$1,1)),COUNTIF(O$2:O56,LEFT(L$1,1))+COUNTIF(O$2:O56,RIGHT(L$1,1)),\"\"))","v":""},{"$f":"IF(COUNTBLANK(I56)=1,\"\",IF(OR(O56=LEFT(M$1,1),O56=RIGHT(M$1,1)),COUNTIF(O$2:O56,LEFT(M$1,1))+COUNTIF(O$2:O56,RIGHT(M$1,1)),\"\"))","v":""},{"$f":"IF(COUNTBLANK(I56)=1,\"\",IF(OR(P56=LEFT(N$1,1),P56=RIGHT(N$1,1)),COUNTIF(P$2:P56,LEFT(N$1,1))+COUNTIF(P$2:P56,RIGHT(N$1,1)),\"\"))","v":""},{"$f":"IF(COUNTBLANK(I56)=1,\"\",INDEX(Registration!$C$2:$C$101,MATCH(I56,Registration!$B$2:$B$101,0)))","v":""},{"$f":"IF(COUNTBLANK(I56)=1,\"\",IF(COUNTBLANK(INDEX(Registration!$D$2:$D$101,MATCH(I56,Registration!$B$2:$B$101,0)))=1,\"\",INDEX(Registration!$D$2:$D$101,MATCH(I56,Registration!$B$2:$B$101,0))))","v":""}]
[{"$f":"IF(COUNTBLANK(Registration!B57)=1,\"\",Registration!B57)","v":""},null,"","","",null,"","","",null,{"$f":"IF(COUNTBLANK(I57)=1,\"\",IF(OR(O57=LEFT(K$1,1),O57=RIGHT(K$1,1)),COUNTIF(O$2:O57,LEFT(K$1,1))+COUNTIF(O$2:O57,RIGHT(K$1,1)),\"\"))","v":""},{"$f":"IF(COUNTBLANK(I57)=1,\"\",IF(OR(O57=LEFT(L$1,1),O57=RIGHT(L$1,1)),COUNTIF(O$2:O57,LEFT(L$1,1))+COUNTIF(O$2:O57,RIGHT(L$1,1)),\"\"))","v":""},{"$f":"IF(COUNTBLANK(I57)=1,\"\",IF(OR(O57=LEFT(M$1,1),O57=RIGHT(M$1,1)),COUNTIF(O$2:O57,LEFT(M$1,1))+COUNTIF(O$2:O57,RIGHT(M$1,1)),\"\"))","v":""},{"$f":"IF(COUNTBLANK(I57)=1,\"\",IF(OR(P57=LEFT(N$1,1),P57=RIGHT(N$1,1)),COUNTIF(P$2:P57,LEFT(N$1,1))+COUNTIF(P$2:P57,RIGHT(N$1,1)),\"\"))","v":""},{"$f":"IF(COUNTBLANK(I57)=1,\"\",INDEX(Registration!$C$2:$C$101,MATCH(I57,Registration!$B$2:$B$101,0)))","v":""},{"$f":"IF(COUNTBLANK(I57)=1,\"\",IF(COUNTBLANK(INDEX(Registration!$D$2:$D$101,MATCH(I57,Registration!$B$2:$B$101,0)))=1,\"\",INDEX(Registration!$D$2:$D$101,MATCH(I57,Registration!$B$2:$B$101,0))))","v":""}]
[{"$f":"IF(COUNTBLANK(Registration!B58)=1,\"\",Registration!B58)","v":""},null,"","","",null,"","","",null,{"$f":"IF(COUNTBLANK(I58)=1,\"\",IF(OR(O58=LEFT(K$1,1),O58=RIGHT(K$1,1)),COUNTIF(O$2:O58,LEFT(K$1,1))+COUNTIF(O$2:O58,RIGHT(K$1,1)),\"\"))","v":""},{"$f":"IF(COUNTBLANK(I58)=1,\"\",IF(OR(O58=LEFT(L$1,1),O58=RIGHT(L$1,1)),COUNTIF(O$2:O58,LEFT(L$1,1))+COUNTIF(O$2:O58,RIGHT(L$1,1)),\"\"))","v":""},{"$f":"IF(COUNTBLANK(I58)=1,\"\",IF(OR(O58=LEFT(M$1,1),O58=RIGHT(M$1,1)),COUNTIF(O$2:O58,LEFT(M$1,1))+COUNTIF(O$2:O58,RIGHT(M$1,1)),\"\"))","v":""},{"$f":"IF(COUNTBLANK(I58)=1,\"\",IF(OR(P58=LEFT(N$1,1),P58=RIGHT(N$1,1)),COUNTIF(P$2:P58,LEFT(N$1,1))+COUNTIF(P$2:P58,RIGHT(N$1,1)),\"\"))","v":""},{"$f":"IF(COUNTBLANK(I58)=1,\"\",INDEX(Registration!$C$2:$C$101,MATCH(I58,Registration!$B$2:$B$101,0)))","v":""},{"$f":"IF(COUNTBLANK(I58)=1,\"\",IF(COUNTBLANK(INDEX(Registration!$D$2:$D$101,MATCH(I58,Registration!$B$2:$B$101,0)))=1,\"\",INDEX(Registration!$D$2:$D$101,MATCH(I58,Registration!$B$2:$B$101,0))))","v":""}]
[{"$f":"IF(COUNTBLANK(Registration!B59)=1,\"\",Registration!B59)","v":""},null,"","","",null,"","","",null,{"$f":"IF(COUNTBLANK(I59)=1,\"\",IF(OR(O59=LEFT(K$1,1),O59=RIGHT(K$1,1)),COUNTIF(O$2:O59,LEFT(K$1,1))+COUNTIF(O$2:O59,RIGHT(K$1,1)),\"\"))","v":""},{"$f":"IF(COUNTBLANK(I59)=1,\"\",IF(OR(O59=LEFT(L$1,1),O59=RIGHT(L$1,1)),COUNTIF(O$2:O59,LEFT(L$1,1))+COUNTIF(O$2:O59,RIGHT(L$1,1)),\"\"))","v":""},{"$f":"IF(COUNTBLANK(I59)=1,\"\",IF(OR(O59=LEFT(M$1,1),O59=RIGHT(M$1,1)),COUNTIF(O$2:O59,LEFT(M$1,1))+COUNTIF(O$2:O59,RIGHT(M$1,1)),\"\"))","v":""},{"$f":"IF(COUNTBLANK(I59)=1,\"\",IF(OR(P59=LEFT(N$1,1),P59=RIGHT(N$1,1)),COUNTIF(P$2:P59,LEFT(N$1,1))+COUNTIF(P$2:P59,RIGHT(N$1,1)),\"\"))","v":""},{"$f":"IF(COUNTBLANK(I59)=1,\"\",INDEX(Registration!$C$2:$C$101,MATCH(I59,Registration!$B$2:$B$101,0)))","v":""},{"$f":"IF(COUNTBLANK(I59)=1,\"\",IF(COUNTBLANK(INDEX(Registration!$D$2:$D$101,MATCH(I59,Registration!$B$2:$B$101,0)))=1,\"\",INDEX(Registration!$D$2:$D$101,MATCH(I59,Registration!$B$2:$B$101,0))))","v":""}]
[{"$f":"IF(COUNTBLANK(Registration!B60)=1,\"\",Registration!B60)","v":""},null,"","","",null,"","","",null,{"$f":"IF(COUNTBLANK(I60)=1,\"\",IF(OR(O60=LEFT(K$1,1),O60=RIGHT(K$1,1)),COUNTIF(O$2:O60,LEFT(K$1,1))+COUNTIF(O$2:O60,RIGHT(K$1,1)),\"\"))","v":""},{"$f":"IF(COUNTBLANK(I60)=1,\"\",IF(OR(O60=LEFT(L$1,1),O60=RIGHT(L$1,1)),COUNTIF(O$2:O60,LEFT(L$1,1))+COUNTIF(O$2:O60,RIGHT(L$1,1)),\"\"))","v":""},{"$f":"IF(COUNTBLANK(I60)=1,\"\",IF(OR(O60=LEFT(M$1,1),O60=RIGHT(M$1,1)),COUNTIF(O$2:O60,LEFT(M$1,1))+COUNTIF(O$2:O60,RIGHT(M$1,1)),\"\"))","v":""},{"$f":"IF(COUNTBLANK(I60)=1,\"\",IF(OR(P60=LEFT(N$1,1),P60=RIGHT(N$1,1)),COUNTIF(P$2:P60,LEFT(N$1,1))+COUNTIF(P$2:P60,RIGHT(N$1,1)),\"\"))","v":""},{"$f":"IF(COUNTBLANK(I60)=1,\"\",INDEX(Registration!$C$2:$C$101,MATCH(I60,Registration!$B$2:$B$101,0)))","v":""},{"$f":"IF(COUNTBLANK(I60)=1,\"\",IF(COUNTBLANK(INDEX(Registration!$D$2:$D$101,MATCH(I60,Registration!$B$2:$B$101,0)))=1,\"\",INDEX(Registration!$D$2:$D$101,MATCH(I60,Registration!$B$2:$B$101,0))))","v":""}]
[{"$f":"IF(COUNTBLANK(Registration!B61)=1,\"\",Registration!B61)","v":""},null,"","","",null,"","","",null,{"$f":"IF(COUNTBLANK(I61)=1,\"\",IF(OR(O61=LEFT(K$1,1),O61=RIGHT(K$1,1)),COUNTIF(O$2:O61,LEFT(K$1,1))+COUNTIF(O$2:O61,RIGHT(K$1,1)),\"\"))","v":""},{"$f":"IF(COUNTBLANK(I61)=1,\"\",IF(OR(O61=LEFT(L$1,1),O61=RIGHT(L$1,1)),COUNTIF(O$2:O61,LEFT(L$1,1))+COUNTIF(O$2:O61,RIGHT(L$1,1)),\"\"))","v":""},{"$f":"IF(COUNTBLANK(I61)=1,\"\",IF(OR(O61=LEFT(M$1,1),O61=RIGHT(M$1,1)),COUNTIF(O$2:O61,LEFT(M$1,1))+COUNTIF(O$2:O61,RIGHT(M$1,1)),\"\"))","v":""},{"$f":"IF(COUNTBLANK(I61)=1,\"\",IF(OR(P61=LEFT(N$1,1),P61=RIGHT(N$1,1)),COUNTIF(P$2:P61,LEFT(N$1,1))+COUNTIF(P$2:P61,RIGHT(N$1,1)),\"\"))","v":""},{"$f":"IF(COUNTBLANK(I61)=1,\"\",INDEX(Registration!$C$2:$C$101,MATCH(I61,Registration!$B$2:$B$101,0)))","v":""},{"$f":"IF(COUNTBLANK(I61)=1,\"\",IF(COUNTBLANK(INDEX(Registration!$D$2:$D$101,MATCH(I61,Registration!$B$2:$B$101,0)))=1,\"\",INDEX(Registration!$D$2:$D$101,MATCH(I61,Registration!$B$2:$B$101,0))))","v":""}]
[{"$f":"IF(COUNTBLANK(Registration!B62)=1,\"\",Registration!B62)","v":""},null,"","","",null,"","","",null,{"$f":"IF(COUNTBLANK(I62)=1,\"\",IF(OR(O62=LEFT(K$1,1),O62=RIGHT(K$1,1)),COUNTIF(O$2:O62,LEFT(K$1,1))+COUNTIF(O$2:O62,RIGHT(K$1,1)),\"\"))","v":""},{"$f":"IF(COUNTBLANK(I62)=1,\"\",IF(OR(O62=LEFT(L$1,1),O62=RIGHT(L$1,1)),COUNTIF(O$2:O62,LEFT(L$1,1))+COUNTIF(O$2:O62,RIGHT(L$1,1)),\"\"))","v":""},{"$f":"IF(COUNTBLANK(I62)=1,\"\",IF(OR(O62=LEFT(M$1,1),O62=RIGHT(M$1,1)),COUNTIF(O$2:O62,LEFT(M$1,1))+COUNTIF(O$2:O62,RIGHT(M$1,1)),\"\"))","v":""},{"$f":"IF(COUNTBLANK(I62)=1,\"\",IF(OR(P62=LEFT(N$1,1),P62=RIGHT(N$1,1)),COUNTIF(P$2:P62,LEFT(N$1,1))+COUNTIF(P$2:P62,RIGHT(N$1,1)),\"\"))","v":""},{"$f":"IF(COUNTBLANK(I62)=1,\"\",INDEX(Registration!$C$2:$C$101,MATCH(I62,Registration!$B$2:$B$101,0)))","v":""},{"$f":"IF(COUNTBLANK(I62)=1,\"\",IF(COUNTBLANK(INDEX(Registration!$D$2:$D$101,MATCH(I62,Registration!$B$2:$B$101,0)))=1,\"\",INDEX(Registration!$D$2:$D$101,MATCH(I62,Registration!$B$2:$B$101,0))))","v":""}]
[{"$f":"IF(COUNTBLANK(Registration!B63)=1,\"\",Registration!B63)","v":""},null,"","","",null,"","","",null,{"$f":"IF(COUNTBLANK(I63)=1,\"\",IF(OR(O63=LEFT(K$1,1),O63=RIGHT(K$1,1)),COUNTIF(O$2:O63,LEFT(K$1,1))+COUNTIF(O$2:O63,RIGHT(K$1,1)),\"\"))","v":""},{"$f":"IF(COUNTBLANK(I63)=1,\"\",IF(OR(O63=LEFT(L$1,1),O63=RIGHT(L$1,1)),COUNTIF(O$2:O63,LEFT(L$1,1))+COUNTIF(O$2:O63,RIGHT(L$1,1)),\"\"))","v":""},{"$f":"IF(COUNTBLANK(I63)=1,\"\",IF(OR(O63=LEFT(M$1,1),O63=RIGHT(M$1,1)),COUNTIF(O$2:O63,LEFT(M$1,1))+COUNTIF(O$2:O63,RIGHT(M$1,1)),\"\"))","v":""},{"$f":"IF(COUNTBLANK(I63)=1,\"\",IF(OR(P63=LEFT(N$1,1),P63=RIGHT(N$1,1)),COUNTIF(P$2:P63,LEFT(N$1,1))+COUNTIF(P$2:P63,RIGHT(N$1,1)),\"\"))","v":""},{"$f":"IF(COUNTBLANK(I63)=1,\"\",INDEX(Registration!$C$2:$C$101,MATCH(I63,Registration!$B$2:$B$101,0)))","v":""},{"$f":"IF(COUNTBLANK(I63)=1,\"\",IF(COUNTBLANK(INDEX(Registration!$D$2:$D$101,MATCH(I63,Registration!$B$2:$B$101,0)))=1,\"\",INDEX(Registration!$D$2:$D$101,MATCH(I63,Registration!$B$2:$B$101,0))))","v":""}]
[{"$f":"IF(COUNTBLANK(Registration!B64)=1,\"\",Registration!B64)","v":""},null,"","","",null,"","","",null,{"$f":"IF(COUNTBLANK(I64)=1,\"\",IF(OR(O64=LEFT(K$1,1),O64=RIGHT(K$1,1)),COUNTIF(O$2:O64,LEFT(K$1,1))+COUNTIF(O$2:O64,RIGHT(K$1,1)),\"\"))","v":""},{"$f":"IF(COUNTBLANK(I64)=1,\"\",IF(OR(O64=LEFT(L$1,1),O64=RIGHT(L$1,1)),COUNTIF(O$2:O64,LEFT(L$1,1))+COUNTIF(O$2:O64,RIGHT(L$1,1)),\"\"))","v":""},{"$f":"IF(COUNTBLANK(I64)=1,\"\",IF(OR(O64=LEFT(M$1,1),O64=RIGHT(M$1,1)),COUNTIF(O$2:O64,LEFT(M$1,1))+COUNTIF(O$2:O64,RIGHT(M$1,1)),\"\"))","v":""},{"$f":"IF(COUNTBLANK(I64)=1,\"\",IF(OR(P64=LEFT(N$1,1),P64=RIGHT(N$1,1)),COUNTIF(P$2:P64,LEFT(N$1,1))+COUNTIF(P$2:P64,RIGHT(N$1,1)),\"\"))","v":""},{"$f":"IF(COUNTBLANK(I64)=1,\"\",INDEX(Registration!$C$2:$C$101,MATCH(I64,Registration!$B$2:$B$101,0)))","v":""},{"$f":"IF(COUNTBLANK(I64)=1,\"\",IF(COUNTBLANK(INDEX(Registration!$D$2:$D$101,MATCH(I64,Registration!$B$2:$B$101,0)))=1,\"\",INDEX(Registration!$D$2:$D$101,MATCH(I64,Registration!$B$2:$B$101,0))))","v":""}]
[{"$f":"IF(COUNTBLANK(Registration!B65)=1,\"\",Registration!B65)","v":""},null,"","","",null,"","","",null,{"$f":"IF(COUNTBLANK(I65)=1,\"\",IF(OR(O65=LEFT(K$1,1),O65=RIGHT(K$1,1)),COUNTIF(O$2:O65,LEFT(K$1,1))+COUNTIF(O$2:O65,RIGHT(K$1,1)),\"\"))","v":""},{"$f":"IF(COUNTBLANK(I65)=1,\"\",IF(OR(O65=LEFT(L$1,1),O65=RIGHT(L$1,1)),COUNTIF(O$2:O65,LEFT(L$1,1))+COUNTIF(O$2:O65,RIGHT(L$1,1)),\"\"))","v":""},{"$f":"IF(COUNTBLANK(I65)=1,\"\",IF(OR(O65=LEFT(M$1,1),O65=RIGHT(M$1,1)),COUNTIF(O$2:O65,LEFT(M$1,1))+COUNTIF(O$2:O65,RIGHT(M$1,1)),\"\"))","v":""},{"$f":"IF(COUNTBLANK(I65)=1,\"\",IF(OR(P65=LEFT(N$1,1),P65=RIGHT(N$1,1)),COUNTIF(P$2:P65,LEFT(N$1,1))+COUNTIF(P$2:P65,RIGHT(N$1,1)),\"\"))","v":""},{"$f":"IF(COUNTBLANK(I65)=1,\"\",INDEX(Registration!$C$2:$C$101,MATCH(I65,Registration!$B$2:$B$101,0)))","v":""},{"$f":"IF(COUNTBLANK(I65)=1,\"\",IF(COUNTBLANK(INDEX(Registration!$D$2:$D$101,MATCH(I65,Registration!$B$2:$B$101,0)))=1,\"\",INDEX(Registration!$D$2:$D$101,MATCH(I65,Registration!$B$2:$B$101,0))))","v":""}]
[{"$f":"IF(COUNTBLANK(Registration!B66)=1,\"\",Registration!B66)","v":""},null,"","","",null,"","","",null,{"$f":"IF(COUNTBLANK(I66)=1,\"\",IF(OR(O66=LEFT(K$1,1),O66=RIGHT(K$1,1)),COUNTIF(O$2:O66,LEFT(K$1,1))+COUNTIF(O$2:O66,RIGHT(K$1,1)),\"\"))","v":""},{"$f":"IF(COUNTBLANK(I66)=1,\"\",IF(OR(O66=LEFT(L$1,1),O66=RIGHT(L$1,1)),COUNTIF(O$2:O66,LEFT(L$1,1))+COUNTIF(O$2:O66,RIGHT(L$1,1)),\"\"))","v":""},{"$f":"IF(COUNTBLANK(I66)=1,\"\",IF(OR(O66=LEFT(M$1,1),O66=RIGHT(M$1,1)),COUNTIF(O$2:O66,LEFT(M$1,1))+COUNTIF(O$2:O66,RIGHT(M$1,1)),\"\"))","v":""},{"$f":"IF(COUNTBLANK(I66)=1,\"\",IF(OR(P66=LEFT(N$1,1),P66=RIGHT(N$1,1)),COUNTIF(P$2:P66,LEFT(N$1,1))+COUNTIF(P$2:P66,RIGHT(N$1,1)),\"\"))","v":""},{"$f":"IF(COUNTBLANK(I66)=1,\"\",INDEX(Registration!$C$2:$C$101,MATCH(I66,Registration!$B$2:$B$101,0)))","v":""},{"$f":"IF(COUNTBLANK(I66)=1,\"\",IF(COUNTBLANK(INDEX(Registration!$D$2:$D$101,MATCH(I66,Registration!$B$2:$B$101,0)))=1,\"\",INDEX(Registration!$D$2:$D$101,MATCH(I66,Registration!$B$2:$B$101,0))))","v":""}]
[{"$f":"IF(COUNTBLANK(Registration!B67)=1,\"\",Registration!B67)","v":""},null,{"$f":"IF(OR(COUNTBLANK($A67)=1,COUNTBLANK(B67)=1),\"\",B67)","v":""},{"$f":"IF(OR(COUNTBLANK($A67)=1,COUNTBLANK(B67)=1),\"\",RANK(C67,$C$2:$C$101,0))","v":""},{"$f":"IF(OR(COUNTBLANK($A67)=1,COUNTBLANK(B67)=1),\"\",placingpoints(D67,COUNTIF(D$2:D$101,\"=\"&D67)))","v":""},null,"","","",null,{"$f":"IF(COUNTBLANK(I67)=1,\"\",IF(OR(O67=LEFT(K$1,1),O67=RIGHT(K$1,1)),COUNTIF(O$2:O67,LEFT(K$1,1))+COUNTIF(O$2:O67,RIGHT(K$1,1)),\"\"))","v":""},{"$f":"IF(COUNTBLANK(I67)=1,\"\",IF(OR(O67=LEFT(L$1,1),O67=RIGHT(L$1,1)),COUNTIF(O$2:O67,LEFT(L$1,1))+COUNTIF(O$2:O67,RIGHT(L$1,1)),\"\"))","v":""},{"$f":"IF(COUNTBLANK(I67)=1,\"\",IF(OR(O67=LEFT(M$1,1),O67=RIGHT(M$1,1)),COUNTIF(O$2:O67,LEFT(M$1,1))+COUNTIF(O$2:O67,RIGHT(M$1,1)),\"\"))","v":""},{"$f":"IF(COUNTBLANK(I67)=1,\"\",IF(OR(P67=LEFT(N$1,1),P67=RIGHT(N$1,1)),COUNTIF(P$2:P67,LEFT(N$1,1))+COUNTIF(P$2:P67,RIGHT(N$1,1)),\"\"))","v":""},{"$f":"IF(COUNTBLANK(I67)=1,\"\",INDEX(Registration!$C$2:$C$101,MATCH(I67,Registration!$B$2:$B$101,0)))","v":""},{"$f":"IF(COUNTBLANK(I67)=1,\"\",IF(COUNTBLANK(INDEX(Registration!$D$2:$D$101,MATCH(I67,Registration!$B$2:$B$101,0)))=1,\"\",INDEX(Registration!$D$2:$D$101,MATCH(I67,Registration!$B$2:$B$101,0))))","v":""}]
[{"$f":"IF(COUNTBLANK(Registration!B68)=1,\"\",Registration!B68)","v":""},null,"","","",null,"","","",null,{"$f":"IF(COUNTBLANK(I68)=1,\"\",IF(OR(O68=LEFT(K$1,1),O68=RIGHT(K$1,1)),COUNTIF(O$2:O68,LEFT(K$1,1))+COUNTIF(O$2:O68,RIGHT(K$1,1)),\"\"))","v":""},{"$f":"IF(COUNTBLANK(I68)=1,\"\",IF(OR(O68=LEFT(L$1,1),O68=RIGHT(L$1,1)),COUNTIF(O$2:O68,LEFT(L$1,1))+COUNTIF(O$2:O68,RIGHT(L$1,1)),\"\"))","v":""},{"$f":"IF(COUNTBLANK(I68)=1,\"\",IF(OR(O68=LEFT(M$1,1),O68=RIGHT(M$1,1)),COUNTIF(O$2:O68,LEFT(M$1,1))+COUNTIF(O$2:O68,RIGHT(M$1,1)),\"\"))","v":""},{"$f":"IF(COUNTBLANK(I68)=1,\"\",IF(OR(P68=LEFT(N$1,1),P68=RIGHT(N$1,1)),COUNTIF(P$2:P68,LEFT(N$1,1))+COUNTIF(P$2:P68,RIGHT(N$1,1)),\"\"))","v":""},{"$f":"IF(COUNTBLANK(I68)=1,\"\",INDEX(Registration!$C$2:$C$101,MATCH(I68,Registration!$B$2:$B$101,0)))","v":""},{"$f":"IF(COUNTBLANK(I68)=1,\"\",IF(COUNTBLANK(INDEX(Registration!$D$2:$D$101,MATCH(I68,Registration!$B$2:$B$101,0)))=1,\"\",INDEX(Registration!$D$2:$D$101,MATCH(I68,Registration!$B$2:$B$101,0))))","v":""}]
[{"$f":"IF(COUNTBLANK(Registration!B69)=1,\"\",Registration!B69)","v":""},null,"","","",null,"","","",null,{"$f":"IF(COUNTBLANK(I69)=1,\"\",IF(OR(O69=LEFT(K$1,1),O69=RIGHT(K$1,1)),COUNTIF(O$2:O69,LEFT(K$1,1))+COUNTIF(O$2:O69,RIGHT(K$1,1)),\"\"))","v":""},{"$f":"IF(COUNTBLANK(I69)=1,\"\",IF(OR(O69=LEFT(L$1,1),O69=RIGHT(L$1,1)),COUNTIF(O$2:O69,LEFT(L$1,1))+COUNTIF(O$2:O69,RIGHT(L$1,1)),\"\"))","v":""},{"$f":"IF(COUNTBLANK(I69)=1,\"\",IF(OR(O69=LEFT(M$1,1),O69=RIGHT(M$1,1)),COUNTIF(O$2:O69,LEFT(M$1,1))+COUNTIF(O$2:O69,RIGHT(M$1,1)),\"\"))","v":""},{"$f":"IF(COUNTBLANK(I69)=1,\"\",IF(OR(P69=LEFT(N$1,1),P69=RIGHT(N$1,1)),COUNTIF(P$2:P69,LEFT(N$1,1))+COUNTIF(P$2:P69,RIGHT(N$1,1)),\"\"))","v":""},{"$f":"IF(COUNTBLANK(I69)=1,\"\",INDEX(Registration!$C$2:$C$101,MATCH(I69,Registration!$B$2:$B$101,0)))","v":""},{"$f":"IF(COUNTBLANK(I69)=1,\"\",IF(COUNTBLANK(INDEX(Registration!$D$2:$D$101,MATCH(I69,Registration!$B$2:$B$101,0)))=1,\"\",INDEX(Registration!$D$2:$D$101,MATCH(I69,Registration!$B$2:$B$101,0))))","v":""}]
[{"$f":"IF(COUNTBLANK(Registration!B70)=1,\"\",Registration!B70)","v":""},null,"","","",null,"","","",null,{"$f":"IF(COUNTBLANK(I70)=1,\"\",IF(OR(O70=LEFT(K$1,1),O70=RIGHT(K$1,1)),COUNTIF(O$2:O70,LEFT(K$1,1))+COUNTIF(O$2:O70,RIGHT(K$1,1)),\"\"))","v":""},{"$f":"IF(COUNTBLANK(I70)=1,\"\",IF(OR(O70=LEFT(L$1,1),O70=RIGHT(L$1,1)),COUNTIF(O$2:O70,LEFT(L$1,1))+COUNTIF(O$2:O70,RIGHT(L$1,1)),\"\"))","v":""},{"$f":"IF(COUNTBLANK(I70)=1,\"\",IF(OR(O70=LEFT(M$1,1),O70=RIGHT(M$1,1)),COUNTIF(O$2:O70,LEFT(M$1,1))+COUNTIF(O$2:O70,RIGHT(M$1,1)),\"\"))","v":""},{"$f":"IF(COUNTBLANK(I70)=1,\"\",IF(OR(P70=LEFT(N$1,1),P70=RIGHT(N$1,1)),COUNTIF(P$2:P70,LEFT(N$1,1))+COUNTIF(P$2:P70,RIGHT(N$1,1)),\"\"))","v":""},{"$f":"IF(COUNTBLANK(I70)=1,\"\",INDEX(Registration!$C$2:$C$101,MATCH(I70,Registration!$B$2:$B$101,0)))","v":""},{"$f":"IF(COUNTBLANK(I70)=1,\"\",IF(COUNTBLANK(INDEX(Registration!$D$2:$D$101,MATCH(I70,Registration!$B$2:$B$101,0)))=1,\"\",INDEX(Registration!$D$2:$D$101,MATCH(I70,Registration!$B$2:$B$101,0))))","v":""}]
[{"$f":"IF(COUNTBLANK(Registration!B71)=1,\"\",Registration!B71)","v":""},null,"","","",null,"","","",null,{"$f":"IF(COUNTBLANK(I71)=1,\"\",IF(OR(O71=LEFT(K$1,1),O71=RIGHT(K$1,1)),COUNTIF(O$2:O71,LEFT(K$1,1))+COUNTIF(O$2:O71,RIGHT(K$1,1)),\"\"))","v":""},{"$f":"IF(COUNTBLANK(I71)=1,\"\",IF(OR(O71=LEFT(L$1,1),O71=RIGHT(L$1,1)),COUNTIF(O$2:O71,LEFT(L$1,1))+COUNTIF(O$2:O71,RIGHT(L$1,1)),\"\"))","v":""},{"$f":"IF(COUNTBLANK(I71)=1,\"\",IF(OR(O71=LEFT(M$1,1),O71=RIGHT(M$1,1)),COUNTIF(O$2:O71,LEFT(M$1,1))+COUNTIF(O$2:O71,RIGHT(M$1,1)),\"\"))","v":""},{"$f":"IF(COUNTBLANK(I71)=1,\"\",IF(OR(P71=LEFT(N$1,1),P71=RIGHT(N$1,1)),COUNTIF(P$2:P71,LEFT(N$1,1))+COUNTIF(P$2:P71,RIGHT(N$1,1)),\"\"))","v":""},{"$f":"IF(COUNTBLANK(I71)=1,\"\",INDEX(Registration!$C$2:$C$101,MATCH(I71,Registration!$B$2:$B$101,0)))","v":""},{"$f":"IF(COUNTBLANK(I71)=1,\"\",IF(COUNTBLANK(INDEX(Registration!$D$2:$D$101,MATCH(I71,Registration!$B$2:$B$101,0)))=1,\"\",INDEX(Registration!$D$2:$D$101,MATCH(I71,Registration!$B$2:$B$101,0))))","v":""}]
[{"$f":"IF(COUNTBLANK(Registration!B72)=1,\"\",Registration!B72)","v":""},null,"","","",null,"","","",null,{"$f":"IF(COUNTBLANK(I72)=1,\"\",IF(OR(O72=LEFT(K$1,1),O72=RIGHT(K$1,1)),COUNTIF(O$2:O72,LEFT(K$1,1))+COUNTIF(O$2:O72,RIGHT(K$1,1)),\"\"))","v":""},{"$f":"IF(COUNTBLANK(I72)=1,\"\",IF(OR(O72=LEFT(L$1,1),O72=RIGHT(L$1,1)),COUNTIF(O$2:O72,LEFT(L$1,1))+COUNTIF(O$2:O72,RIGHT(L$1,1)),\"\"))","v":""},{"$f":"IF(COUNTBLANK(I72)=1,\"\",IF(OR(O72=LEFT(M$1,1),O72=RIGHT(M$1,1)),COUNTIF(O$2:O72,LEFT(M$1,1))+COUNTIF(O$2:O72,RIGHT(M$1,1)),\"\"))","v":""},{"$f":"IF(COUNTBLANK(I72)=1,\"\",IF(OR(P72=LEFT(N$1,1),P72=RIGHT(N$1,1)),COUNTIF(P$2:P72,LEFT(N$1,1))+COUNTIF(P$2:P72,RIGHT(N$1,1)),\"\"))","v":""},{"$f":"IF(COUNTBLANK(I72)=1,\"\",INDEX(Registration!$C$2:$C$101,MATCH(I72,Registration!$B$2:$B$101,0)))","v":""},{"$f":"IF(COUNTBLANK(I72)=1,\"\",IF(COUNTBLANK(INDEX(Registration!$D$2:$D$101,MATCH(I72,Registration!$B$2:$B$101,0)))=1,\"\",INDEX(Registration!$D$2:$D$101,MATCH(I72,Registration!$B$2:$B$101,0))))","v":""}]
[{"$f":"IF(COUNTBLANK(Registration!B73)=1,\"\",Registration!B73)","v":""},null,"","","",null,"","","",null,{"$f":"IF(COUNTBLANK(I73)=1,\"\",IF(OR(O73=LEFT(K$1,1),O73=RIGHT(K$1,1)),COUNTIF(O$2:O73,LEFT(K$1,1))+COUNTIF(O$2:O73,RIGHT(K$1,1)),\"\"))","v":""},{"$f":"IF(COUNTBLANK(I73)=1,\"\",IF(OR(O73=LEFT(L$1,1),O73=RIGHT(L$1,1)),COUNTIF(O$2:O73,LEFT(L$1,1))+COUNTIF(O$2:O73,RIGHT(L$1,1)),\"\"))","v":""},{"$f":"IF(COUNTBLANK(I73)=1,\"\",IF(OR(O73=LEFT(M$1,1),O73=RIGHT(M$1,1)),COUNTIF(O$2:O73,LEFT(M$1,1))+COUNTIF(O$2:O73,RIGHT(M$1,1)),\"\"))","v":""},{"$f":"IF(COUNTBLANK(I73)=1,\"\",IF(OR(P73=LEFT(N$1,1),P73=RIGHT(N$1,1)),COUNTIF(P$2:P73,LEFT(N$1,1))+COUNTIF(P$2:P73,RIGHT(N$1,1)),\"\"))","v":""},{"$f":"IF(COUNTBLANK(I73)=1,\"\",INDEX(Registration!$C$2:$C$101,MATCH(I73,Registration!$B$2:$B$101,0)))","v":""},{"$f":"IF(COUNTBLANK(I73)=1,\"\",IF(COUNTBLANK(INDEX(Registration!$D$2:$D$101,MATCH(I73,Registration!$B$2:$B$101,0)))=1,\"\",INDEX(Registration!$D$2:$D$101,MATCH(I73,Registration!$B$2:$B$101,0))))","v":""}]
[{"$f":"IF(COUNTBLANK(Registration!B74)=1,\"\",Registration!B74)","v":""},null,"","","",null,"","","",null,{"$f":"IF(COUNTBLANK(I74)=1,\"\",IF(OR(O74=LEFT(K$1,1),O74=RIGHT(K$1,1)),COUNTIF(O$2:O74,LEFT(K$1,1))+COUNTIF(O$2:O74,RIGHT(K$1,1)),\"\"))","v":""},{"$f":"IF(COUNTBLANK(I74)=1,\"\",IF(OR(O74=LEFT(L$1,1),O74=RIGHT(L$1,1)),COUNTIF(O$2:O74,LEFT(L$1,1))+COUNTIF(O$2:O74,RIGHT(L$1,1)),\"\"))","v":""},{"$f":"IF(COUNTBLANK(I74)=1,\"\",IF(OR(O74=LEFT(M$1,1),O74=RIGHT(M$1,1)),COUNTIF(O$2:O74,LEFT(M$1,1))+COUNTIF(O$2:O74,RIGHT(M$1,1)),\"\"))","v":""},{"$f":"IF(COUNTBLANK(I74)=1,\"\",IF(OR(P74=LEFT(N$1,1),P74=RIGHT(N$1,1)),COUNTIF(P$2:P74,LEFT(N$1,1))+COUNTIF(P$2:P74,RIGHT(N$1,1)),\"\"))","v":""},{"$f":"IF(COUNTBLANK(I74)=1,\"\",INDEX(Registration!$C$2:$C$101,MATCH(I74,Registration!$B$2:$B$101,0)))","v":""},{"$f":"IF(COUNTBLANK(I74)=1,\"\",IF(COUNTBLANK(INDEX(Registration!$D$2:$D$101,MATCH(I74,Registration!$B$2:$B$101,0)))=1,\"\",INDEX(Registration!$D$2:$D$101,MATCH(I74,Registration!$B$2:$B$101,0))))","v":""}]
[{"$f":"IF(COUNTBLANK(Registration!B75)=1,\"\",Registration!B75)","v":""},null,"","","",null,"","","",null,{"$f":"IF(COUNTBLANK(I75)=1,\"\",IF(OR(O75=LEFT(K$1,1),O75=RIGHT(K$1,1)),COUNTIF(O$2:O75,LEFT(K$1,1))+COUNTIF(O$2:O75,RIGHT(K$1,1)),\"\"))","v":""},{"$f":"IF(COUNTBLANK(I75)=1,\"\",IF(OR(O75=LEFT(L$1,1),O75=RIGHT(L$1,1)),COUNTIF(O$2:O75,LEFT(L$1,1))+COUNTIF(O$2:O75,RIGHT(L$1,1)),\"\"))","v":""},{"$f":"IF(COUNTBLANK(I75)=1,\"\",IF(OR(O75=LEFT(M$1,1),O75=RIGHT(M$1,1)),COUNTIF(O$2:O75,LEFT(M$1,1))+COUNTIF(O$2:O75,RIGHT(M$1,1)),\"\"))","v":""},{"$f":"IF(COUNTBLANK(I75)=1,\"\",IF(OR(P75=LEFT(N$1,1),P75=RIGHT(N$1,1)),COUNTIF(P$2:P75,LEFT(N$1,1))+COUNTIF(P$2:P75,RIGHT(N$1,1)),\"\"))","v":""},{"$f":"IF(COUNTBLANK(I75)=1,\"\",INDEX(Registration!$C$2:$C$101,MATCH(I75,Registration!$B$2:$B$101,0)))","v":""},{"$f":"IF(COUNTBLANK(I75)=1,\"\",IF(COUNTBLANK(INDEX(Registration!$D$2:$D$101,MATCH(I75,Registration!$B$2:$B$101,0)))=1,\"\",INDEX(Registration!$D$2:$D$101,MATCH(I75,Registration!$B$2:$B$101,0))))","v":""}]
[{"$f":"IF(COUNTBLANK(Registration!B76)=1,\"\",Registration!B76)","v":""},null,"","","",null,"","","",null,{"$f":"IF(COUNTBLANK(I76)=1,\"\",IF(OR(O76=LEFT(K$1,1),O76=RIGHT(K$1,1)),COUNTIF(O$2:O76,LEFT(K$1,1))+COUNTIF(O$2:O76,RIGHT(K$1,1)),\"\"))","v":""},{"$f":"IF(COUNTBLANK(I76)=1,\"\",IF(OR(O76=LEFT(L$1,1),O76=RIGHT(L$1,1)),COUNTIF(O$2:O76,LEFT(L$1,1))+COUNTIF(O$2:O76,RIGHT(L$1,1)),\"\"))","v":""},{"$f":"IF(COUNTBLANK(I76)=1,\"\",IF(OR(O76=LEFT(M$1,1),O76=RIGHT(M$1,1)),COUNTIF(O$2:O76,LEFT(M$1,1))+COUNTIF(O$2:O76,RIGHT(M$1,1)),\"\"))","v":""},{"$f":"IF(COUNTBLANK(I76)=1,\"\",IF(OR(P76=LEFT(N$1,1),P76=RIGHT(N$1,1)),COUNTIF(P$2:P76,LEFT(N$1,1))+COUNTIF(P$2:P76,RIGHT(N$1,1)),\"\"))","v":""},{"$f":"IF(COUNTBLANK(I76)=1,\"\",INDEX(Registration!$C$2:$C$101,MATCH(I76,Registration!$B$2:$B$101,0)))","v":""},{"$f":"IF(COUNTBLANK(I76)=1,\"\",IF(COUNTBLANK(INDEX(Registration!$D$2:$D$101,MATCH(I76,Registration!$B$2:$B$101,0)))=1,\"\",INDEX(Registration!$D$2:$D$101,MATCH(I76,Registration!$B$2:$B$101,0))))","v":""}]
[{"$f":"IF(COUNTBLANK(Registration!B77)=1,\"\",Registration!B77)","v":""},null,"","","",null,"","","",null,{"$f":"IF(COUNTBLANK(I77)=1,\"\",IF(OR(O77=LEFT(K$1,1),O77=RIGHT(K$1,1)),COUNTIF(O$2:O77,LEFT(K$1,1))+COUNTIF(O$2:O77,RIGHT(K$1,1)),\"\"))","v":""},{"$f":"IF(COUNTBLANK(I77)=1,\"\",IF(OR(O77=LEFT(L$1,1),O77=RIGHT(L$1,1)),COUNTIF(O$2:O77,LEFT(L$1,1))+COUNTIF(O$2:O77,RIGHT(L$1,1)),\"\"))","v":""},{"$f":"IF(COUNTBLANK(I77)=1,\"\",IF(OR(O77=LEFT(M$1,1),O77=RIGHT(M$1,1)),COUNTIF(O$2:O77,LEFT(M$1,1))+COUNTIF(O$2:O77,RIGHT(M$1,1)),\"\"))","v":""},{"$f":"IF(COUNTBLANK(I77)=1,\"\",IF(OR(P77=LEFT(N$1,1),P77=RIGHT(N$1,1)),COUNTIF(P$2:P77,LEFT(N$1,1))+COUNTIF(P$2:P77,RIGHT(N$1,1)),\"\"))","v":""},{"$f":"IF(COUNTBLANK(I77)=1,\"\",INDEX(Registration!$C$2:$C$101,MATCH(I77,Registration!$B$2:$B$101,0)))","v":""},{"$f":"IF(COUNTBLANK(I77)=1,\"\",IF(COUNTBLANK(INDEX(Registration!$D$2:$D$101,MATCH(I77,Registration!$B$2:$B$101,0)))=1,\"\",INDEX(Registration!$D$2:$D$101,MATCH(I77,Registration!$B$2:$B$101,0))))","v":""}]
[{"$f":"IF(COUNTBLANK(Registration!B78)=1,\"\",Registration!B78)","v":""},null,"","","",null,"","","",null,{"$f":"IF(COUNTBLANK(I78)=1,\"\",IF(OR(O78=LEFT(K$1,1),O78=RIGHT(K$1,1)),COUNTIF(O$2:O78,LEFT(K$1,1))+COUNTIF(O$2:O78,RIGHT(K$1,1)),\"\"))","v":""},{"$f":"IF(COUNTBLANK(I78)=1,\"\",IF(OR(O78=LEFT(L$1,1),O78=RIGHT(L$1,1)),COUNTIF(O$2:O78,LEFT(L$1,1))+COUNTIF(O$2:O78,RIGHT(L$1,1)),\"\"))","v":""},{"$f":"IF(COUNTBLANK(I78)=1,\"\",IF(OR(O78=LEFT(M$1,1),O78=RIGHT(M$1,1)),COUNTIF(O$2:O78,LEFT(M$1,1))+COUNTIF(O$2:O78,RIGHT(M$1,1)),\"\"))","v":""},{"$f":"IF(COUNTBLANK(I78)=1,\"\",IF(OR(P78=LEFT(N$1,1),P78=RIGHT(N$1,1)),COUNTIF(P$2:P78,LEFT(N$1,1))+COUNTIF(P$2:P78,RIGHT(N$1,1)),\"\"))","v":""},{"$f":"IF(COUNTBLANK(I78)=1,\"\",INDEX(Registration!$C$2:$C$101,MATCH(I78,Registration!$B$2:$B$101,0)))","v":""},{"$f":"IF(COUNTBLANK(I78)=1,\"\",IF(COUNTBLANK(INDEX(Registration!$D$2:$D$101,MATCH(I78,Registration!$B$2:$B$101,0)))=1,\"\",INDEX(Registration!$D$2:$D$101,MATCH(I78,Registration!$B$2:$B$101,0))))","v":""}]
[{"$f":"IF(COUNTBLANK(Registration!B79)=1,\"\",Registration!B79)","v":""},null,"","","",null,"","","",null,{"$f":"IF(COUNTBLANK(I79)=1,\"\",IF(OR(O79=LEFT(K$1,1),O79=RIGHT(K$1,1)),COUNTIF(O$2:O79,LEFT(K$1,1))+COUNTIF(O$2:O79,RIGHT(K$1,1)),\"\"))","v":""},{"$f":"IF(COUNTBLANK(I79)=1,\"\",IF(OR(O79=LEFT(L$1,1),O79=RIGHT(L$1,1)),COUNTIF(O$2:O79,LEFT(L$1,1))+COUNTIF(O$2:O79,RIGHT(L$1,1)),\"\"))","v":""},{"$f":"IF(COUNTBLANK(I79)=1,\"\",IF(OR(O79=LEFT(M$1,1),O79=RIGHT(M$1,1)),COUNTIF(O$2:O79,LEFT(M$1,1))+COUNTIF(O$2:O79,RIGHT(M$1,1)),\"\"))","v":""},{"$f":"IF(COUNTBLANK(I79)=1,\"\",IF(OR(P79=LEFT(N$1,1),P79=RIGHT(N$1,1)),COUNTIF(P$2:P79,LEFT(N$1,1))+COUNTIF(P$2:P79,RIGHT(N$1,1)),\"\"))","v":""},{"$f":"IF(COUNTBLANK(I79)=1,\"\",INDEX(Registration!$C$2:$C$101,MATCH(I79,Registration!$B$2:$B$101,0)))","v":""},{"$f":"IF(COUNTBLANK(I79)=1,\"\",IF(COUNTBLANK(INDEX(Registration!$D$2:$D$101,MATCH(I79,Registration!$B$2:$B$101,0)))=1,\"\",INDEX(Registration!$D$2:$D$101,MATCH(I79,Registration!$B$2:$B$101,0))))","v":""}]
[{"$f":"IF(COUNTBLANK(Registration!B80)=1,\"\",Registration!B80)","v":""},null,"","","",null,"","","",null,{"$f":"IF(COUNTBLANK(I80)=1,\"\",IF(OR(O80=LEFT(K$1,1),O80=RIGHT(K$1,1)),COUNTIF(O$2:O80,LEFT(K$1,1))+COUNTIF(O$2:O80,RIGHT(K$1,1)),\"\"))","v":""},{"$f":"IF(COUNTBLANK(I80)=1,\"\",IF(OR(O80=LEFT(L$1,1),O80=RIGHT(L$1,1)),COUNTIF(O$2:O80,LEFT(L$1,1))+COUNTIF(O$2:O80,RIGHT(L$1,1)),\"\"))","v":""},{"$f":"IF(COUNTBLANK(I80)=1,\"\",IF(OR(O80=LEFT(M$1,1),O80=RIGHT(M$1,1)),COUNTIF(O$2:O80,LEFT(M$1,1))+COUNTIF(O$2:O80,RIGHT(M$1,1)),\"\"))","v":""},{"$f":"IF(COUNTBLANK(I80)=1,\"\",IF(OR(P80=LEFT(N$1,1),P80=RIGHT(N$1,1)),COUNTIF(P$2:P80,LEFT(N$1,1))+COUNTIF(P$2:P80,RIGHT(N$1,1)),\"\"))","v":""},{"$f":"IF(COUNTBLANK(I80)=1,\"\",INDEX(Registration!$C$2:$C$101,MATCH(I80,Registration!$B$2:$B$101,0)))","v":""},{"$f":"IF(COUNTBLANK(I80)=1,\"\",IF(COUNTBLANK(INDEX(Registration!$D$2:$D$101,MATCH(I80,Registration!$B$2:$B$101,0)))=1,\"\",INDEX(Registration!$D$2:$D$101,MATCH(I80,Registration!$B$2:$B$101,0))))","v":""}]
[{"$f":"IF(COUNTBLANK(Registration!B81)=1,\"\",Registration!B81)","v":""},null,"","","",null,"","","",null,{"$f":"IF(COUNTBLANK(I81)=1,\"\",IF(OR(O81=LEFT(K$1,1),O81=RIGHT(K$1,1)),COUNTIF(O$2:O81,LEFT(K$1,1))+COUNTIF(O$2:O81,RIGHT(K$1,1)),\"\"))","v":""},{"$f":"IF(COUNTBLANK(I81)=1,\"\",IF(OR(O81=LEFT(L$1,1),O81=RIGHT(L$1,1)),COUNTIF(O$2:O81,LEFT(L$1,1))+COUNTIF(O$2:O81,RIGHT(L$1,1)),\"\"))","v":""},{"$f":"IF(COUNTBLANK(I81)=1,\"\",IF(OR(O81=LEFT(M$1,1),O81=RIGHT(M$1,1)),COUNTIF(O$2:O81,LEFT(M$1,1))+COUNTIF(O$2:O81,RIGHT(M$1,1)),\"\"))","v":""},{"$f":"IF(COUNTBLANK(I81)=1,\"\",IF(OR(P81=LEFT(N$1,1),P81=RIGHT(N$1,1)),COUNTIF(P$2:P81,LEFT(N$1,1))+COUNTIF(P$2:P81,RIGHT(N$1,1)),\"\"))","v":""},{"$f":"IF(COUNTBLANK(I81)=1,\"\",INDEX(Registration!$C$2:$C$101,MATCH(I81,Registration!$B$2:$B$101,0)))","v":""},{"$f":"IF(COUNTBLANK(I81)=1,\"\",IF(COUNTBLANK(INDEX(Registration!$D$2:$D$101,MATCH(I81,Registration!$B$2:$B$101,0)))=1,\"\",INDEX(Registration!$D$2:$D$101,MATCH(I81,Registration!$B$2:$B$101,0))))","v":""}]
[{"$f":"IF(COUNTBLANK(Registration!B82)=1,\"\",Registration!B82)","v":""},null,"","","",null,"","","",null,{"$f":"IF(COUNTBLANK(I82)=1,\"\",IF(OR(O82=LEFT(K$1,1),O82=RIGHT(K$1,1)),COUNTIF(O$2:O82,LEFT(K$1,1))+COUNTIF(O$2:O82,RIGHT(K$1,1)),\"\"))","v":""},{"$f":"IF(COUNTBLANK(I82)=1,\"\",IF(OR(O82=LEFT(L$1,1),O82=RIGHT(L$1,1)),COUNTIF(O$2:O82,LEFT(L$1,1))+COUNTIF(O$2:O82,RIGHT(L$1,1)),\"\"))","v":""},{"$f":"IF(COUNTBLANK(I82)=1,\"\",IF(OR(O82=LEFT(M$1,1),O82=RIGHT(M$1,1)),COUNTIF(O$2:O82,LEFT(M$1,1))+COUNTIF(O$2:O82,RIGHT(M$1,1)),\"\"))","v":""},{"$f":"IF(COUNTBLANK(I82)=1,\"\",IF(OR(P82=LEFT(N$1,1),P82=RIGHT(N$1,1)),COUNTIF(P$2:P82,LEFT(N$1,1))+COUNTIF(P$2:P82,RIGHT(N$1,1)),\"\"))","v":""},{"$f":"IF(COUNTBLANK(I82)=1,\"\",INDEX(Registration!$C$2:$C$101,MATCH(I82,Registration!$B$2:$B$101,0)))","v":""},{"$f":"IF(COUNTBLANK(I82)=1,\"\",IF(COUNTBLANK(INDEX(Registration!$D$2:$D$101,MATCH(I82,Registration!$B$2:$B$101,0)))=1,\"\",INDEX(Registration!$D$2:$D$101,MATCH(I82,Registration!$B$2:$B$101,0))))","v":""}]
[{"$f":"IF(COUNTBLANK(Registration!B83)=1,\"\",Registration!B83)","v":""},null,"","","",null,"","","",null,{"$f":"IF(COUNTBLANK(I83)=1,\"\",IF(OR(O83=LEFT(K$1,1),O83=RIGHT(K$1,1)),COUNTIF(O$2:O83,LEFT(K$1,1))+COUNTIF(O$2:O83,RIGHT(K$1,1)),\"\"))","v":""},{"$f":"IF(COUNTBLANK(I83)=1,\"\",IF(OR(O83=LEFT(L$1,1),O83=RIGHT(L$1,1)),COUNTIF(O$2:O83,LEFT(L$1,1))+COUNTIF(O$2:O83,RIGHT(L$1,1)),\"\"))","v":""},{"$f":"IF(COUNTBLANK(I83)=1,\"\",IF(OR(O83=LEFT(M$1,1),O83=RIGHT(M$1,1)),COUNTIF(O$2:O83,LEFT(M$1,1))+COUNTIF(O$2:O83,RIGHT(M$1,1)),\"\"))","v":""},{"$f":"IF(COUNTBLANK(I83)=1,\"\",IF(OR(P83=LEFT(N$1,1),P83=RIGHT(N$1,1)),COUNTIF(P$2:P83,LEFT(N$1,1))+COUNTIF(P$2:P83,RIGHT(N$1,1)),\"\"))","v":""},{"$f":"IF(COUNTBLANK(I83)=1,\"\",INDEX(Registration!$C$2:$C$101,MATCH(I83,Registration!$B$2:$B$101,0)))","v":""},{"$f":"IF(COUNTBLANK(I83)=1,\"\",IF(COUNTBLANK(INDEX(Registration!$D$2:$D$101,MATCH(I83,Registration!$B$2:$B$101,0)))=1,\"\",INDEX(Registration!$D$2:$D$101,MATCH(I83,Registration!$B$2:$B$101,0))))","v":""}]
[{"$f":"IF(COUNTBLANK(Registration!B84)=1,\"\",Registration!B84)","v":""},null,"","","",null,"","","",null,{"$f":"IF(COUNTBLANK(I84)=1,\"\",IF(OR(O84=LEFT(K$1,1),O84=RIGHT(K$1,1)),COUNTIF(O$2:O84,LEFT(K$1,1))+COUNTIF(O$2:O84,RIGHT(K$1,1)),\"\"))","v":""},{"$f":"IF(COUNTBLANK(I84)=1,\"\",IF(OR(O84=LEFT(L$1,1),O84=RIGHT(L$1,1)),COUNTIF(O$2:O84,LEFT(L$1,1))+COUNTIF(O$2:O84,RIGHT(L$1,1)),\"\"))","v":""},{"$f":"IF(COUNTBLANK(I84)=1,\"\",IF(OR(O84=LEFT(M$1,1),O84=RIGHT(M$1,1)),COUNTIF(O$2:O84,LEFT(M$1,1))+COUNTIF(O$2:O84,RIGHT(M$1,1)),\"\"))","v":""},{"$f":"IF(COUNTBLANK(I84)=1,\"\",IF(OR(P84=LEFT(N$1,1),P84=RIGHT(N$1,1)),COUNTIF(P$2:P84,LEFT(N$1,1))+COUNTIF(P$2:P84,RIGHT(N$1,1)),\"\"))","v":""},{"$f":"IF(COUNTBLANK(I84)=1,\"\",INDEX(Registration!$C$2:$C$101,MATCH(I84,Registration!$B$2:$B$101,0)))","v":""},{"$f":"IF(COUNTBLANK(I84)=1,\"\",IF(COUNTBLANK(INDEX(Registration!$D$2:$D$101,MATCH(I84,Registration!$B$2:$B$101,0)))=1,\"\",INDEX(Registration!$D$2:$D$101,MATCH(I84,Registration!$B$2:$B$101,0))))","v":""}]
[{"$f":"IF(COUNTBLANK(Registration!B85)=1,\"\",Registration!B85)","v":""},null,"","","",null,"","","",null,{"$f":"IF(COUNTBLANK(I85)=1,\"\",IF(OR(O85=LEFT(K$1,1),O85=RIGHT(K$1,1)),COUNTIF(O$2:O85,LEFT(K$1,1))+COUNTIF(O$2:O85,RIGHT(K$1,1)),\"\"))","v":""},{"$f":"IF(COUNTBLANK(I85)=1,\"\",IF(OR(O85=LEFT(L$1,1),O85=RIGHT(L$1,1)),COUNTIF(O$2:O85,LEFT(L$1,1))+COUNTIF(O$2:O85,RIGHT(L$1,1)),\"\"))","v":""},{"$f":"IF(COUNTBLANK(I85)=1,\"\",IF(OR(O85=LEFT(M$1,1),O85=RIGHT(M$1,1)),COUNTIF(O$2:O85,LEFT(M$1,1))+COUNTIF(O$2:O85,RIGHT(M$1,1)),\"\"))","v":""},{"$f":"IF(COUNTBLANK(I85)=1,\"\",IF(OR(P85=LEFT(N$1,1),P85=RIGHT(N$1,1)),COUNTIF(P$2:P85,LEFT(N$1,1))+COUNTIF(P$2:P85,RIGHT(N$1,1)),\"\"))","v":""},{"$f":"IF(COUNTBLANK(I85)=1,\"\",INDEX(Registration!$C$2:$C$101,MATCH(I85,Registration!$B$2:$B$101,0)))","v":""},{"$f":"IF(COUNTBLANK(I85)=1,\"\",IF(COUNTBLANK(INDEX(Registration!$D$2:$D$101,MATCH(I85,Registration!$B$2:$B$101,0)))=1,\"\",INDEX(Registration!$D$2:$D$101,MATCH(I85,Registration!$B$2:$B$101,0))))","v":""}]
[{"$f":"IF(COUNTBLANK(Registration!B86)=1,\"\",Registration!B86)","v":""},null,"","","",null,"","","",null,{"$f":"IF(COUNTBLANK(I86)=1,\"\",IF(OR(O86=LEFT(K$1,1),O86=RIGHT(K$1,1)),COUNTIF(O$2:O86,LEFT(K$1,1))+COUNTIF(O$2:O86,RIGHT(K$1,1)),\"\"))","v":""},{"$f":"IF(COUNTBLANK(I86)=1,\"\",IF(OR(O86=LEFT(L$1,1),O86=RIGHT(L$1,1)),COUNTIF(O$2:O86,LEFT(L$1,1))+COUNTIF(O$2:O86,RIGHT(L$1,1)),\"\"))","v":""},{"$f":"IF(COUNTBLANK(I86)=1,\"\",IF(OR(O86=LEFT(M$1,1),O86=RIGHT(M$1,1)),COUNTIF(O$2:O86,LEFT(M$1,1))+COUNTIF(O$2:O86,RIGHT(M$1,1)),\"\"))","v":""},{"$f":"IF(COUNTBLANK(I86)=1,\"\",IF(OR(P86=LEFT(N$1,1),P86=RIGHT(N$1,1)),COUNTIF(P$2:P86,LEFT(N$1,1))+COUNTIF(P$2:P86,RIGHT(N$1,1)),\"\"))","v":""},{"$f":"IF(COUNTBLANK(I86)=1,\"\",INDEX(Registration!$C$2:$C$101,MATCH(I86,Registration!$B$2:$B$101,0)))","v":""},{"$f":"IF(COUNTBLANK(I86)=1,\"\",IF(COUNTBLANK(INDEX(Registration!$D$2:$D$101,MATCH(I86,Registration!$B$2:$B$101,0)))=1,\"\",INDEX(Registration!$D$2:$D$101,MATCH(I86,Registration!$B$2:$B$101,0))))","v":""}]
[{"$f":"IF(COUNTBLANK(Registration!B87)=1,\"\",Registration!B87)","v":""},null,"","","",null,"","","",null,{"$f":"IF(COUNTBLANK(I87)=1,\"\",IF(OR(O87=LEFT(K$1,1),O87=RIGHT(K$1,1)),COUNTIF(O$2:O87,LEFT(K$1,1))+COUNTIF(O$2:O87,RIGHT(K$1,1)),\"\"))","v":""},{"$f":"IF(COUNTBLANK(I87)=1,\"\",IF(OR(O87=LEFT(L$1,1),O87=RIGHT(L$1,1)),COUNTIF(O$2:O87,LEFT(L$1,1))+COUNTIF(O$2:O87,RIGHT(L$1,1)),\"\"))","v":""},{"$f":"IF(COUNTBLANK(I87)=1,\"\",IF(OR(O87=LEFT(M$1,1),O87=RIGHT(M$1,1)),COUNTIF(O$2:O87,LEFT(M$1,1))+COUNTIF(O$2:O87,RIGHT(M$1,1)),\"\"))","v":""},{"$f":"IF(COUNTBLANK(I87)=1,\"\",IF(OR(P87=LEFT(N$1,1),P87=RIGHT(N$1,1)),COUNTIF(P$2:P87,LEFT(N$1,1))+COUNTIF(P$2:P87,RIGHT(N$1,1)),\"\"))","v":""},{"$f":"IF(COUNTBLANK(I87)=1,\"\",INDEX(Registration!$C$2:$C$101,MATCH(I87,Registration!$B$2:$B$101,0)))","v":""},{"$f":"IF(COUNTBLANK(I87)=1,\"\",IF(COUNTBLANK(INDEX(Registration!$D$2:$D$101,MATCH(I87,Registration!$B$2:$B$101,0)))=1,\"\",INDEX(Registration!$D$2:$D$101,MATCH(I87,Registration!$B$2:$B$101,0))))","v":""}]
[{"$f":"IF(COUNTBLANK(Registration!B88)=1,\"\",Registration!B88)","v":""},null,"","","",null,"","","",null,{"$f":"IF(COUNTBLANK(I88)=1,\"\",IF(OR(O88=LEFT(K$1,1),O88=RIGHT(K$1,1)),COUNTIF(O$2:O88,LEFT(K$1,1))+COUNTIF(O$2:O88,RIGHT(K$1,1)),\"\"))","v":""},{"$f":"IF(COUNTBLANK(I88)=1,\"\",IF(OR(O88=LEFT(L$1,1),O88=RIGHT(L$1,1)),COUNTIF(O$2:O88,LEFT(L$1,1))+COUNTIF(O$2:O88,RIGHT(L$1,1)),\"\"))","v":""},{"$f":"IF(COUNTBLANK(I88)=1,\"\",IF(OR(O88=LEFT(M$1,1),O88=RIGHT(M$1,1)),COUNTIF(O$2:O88,LEFT(M$1,1))+COUNTIF(O$2:O88,RIGHT(M$1,1)),\"\"))","v":""},{"$f":"IF(COUNTBLANK(I88)=1,\"\",IF(OR(P88=LEFT(N$1,1),P88=RIGHT(N$1,1)),COUNTIF(P$2:P88,LEFT(N$1,1))+COUNTIF(P$2:P88,RIGHT(N$1,1)),\"\"))","v":""},{"$f":"IF(COUNTBLANK(I88)=1,\"\",INDEX(Registration!$C$2:$C$101,MATCH(I88,Registration!$B$2:$B$101,0)))","v":""},{"$f":"IF(COUNTBLANK(I88)=1,\"\",IF(COUNTBLANK(INDEX(Registration!$D$2:$D$101,MATCH(I88,Registration!$B$2:$B$101,0)))=1,\"\",INDEX(Registration!$D$2:$D$101,MATCH(I88,Registration!$B$2:$B$101,0))))","v":""}]
[{"$f":"IF(COUNTBLANK(Registration!B89)=1,\"\",Registration!B89)","v":""},null,"","","",null,"","","",null,{"$f":"IF(COUNTBLANK(I89)=1,\"\",IF(OR(O89=LEFT(K$1,1),O89=RIGHT(K$1,1)),COUNTIF(O$2:O89,LEFT(K$1,1))+COUNTIF(O$2:O89,RIGHT(K$1,1)),\"\"))","v":""},{"$f":"IF(COUNTBLANK(I89)=1,\"\",IF(OR(O89=LEFT(L$1,1),O89=RIGHT(L$1,1)),COUNTIF(O$2:O89,LEFT(L$1,1))+COUNTIF(O$2:O89,RIGHT(L$1,1)),\"\"))","v":""},{"$f":"IF(COUNTBLANK(I89)=1,\"\",IF(OR(O89=LEFT(M$1,1),O89=RIGHT(M$1,1)),COUNTIF(O$2:O89,LEFT(M$1,1))+COUNTIF(O$2:O89,RIGHT(M$1,1)),\"\"))","v":""},{"$f":"IF(COUNTBLANK(I89)=1,\"\",IF(OR(P89=LEFT(N$1,1),P89=RIGHT(N$1,1)),COUNTIF(P$2:P89,LEFT(N$1,1))+COUNTIF(P$2:P89,RIGHT(N$1,1)),\"\"))","v":""},{"$f":"IF(COUNTBLANK(I89)=1,\"\",INDEX(Registration!$C$2:$C$101,MATCH(I89,Registration!$B$2:$B$101,0)))","v":""},{"$f":"IF(COUNTBLANK(I89)=1,\"\",IF(COUNTBLANK(INDEX(Registration!$D$2:$D$101,MATCH(I89,Registration!$B$2:$B$101,0)))=1,\"\",INDEX(Registration!$D$2:$D$101,MATCH(I89,Registration!$B$2:$B$101,0))))","v":""}]
[{"$f":"IF(COUNTBLANK(Registration!B90)=1,\"\",Registration!B90)","v":""},null,"","","",null,"","","",null,{"$f":"IF(COUNTBLANK(I90)=1,\"\",IF(OR(O90=LEFT(K$1,1),O90=RIGHT(K$1,1)),COUNTIF(O$2:O90,LEFT(K$1,1))+COUNTIF(O$2:O90,RIGHT(K$1,1)),\"\"))","v":""},{"$f":"IF(COUNTBLANK(I90)=1,\"\",IF(OR(O90=LEFT(L$1,1),O90=RIGHT(L$1,1)),COUNTIF(O$2:O90,LEFT(L$1,1))+COUNTIF(O$2:O90,RIGHT(L$1,1)),\"\"))","v":""},{"$f":"IF(COUNTBLANK(I90)=1,\"\",IF(OR(O90=LEFT(M$1,1),O90=RIGHT(M$1,1)),COUNTIF(O$2:O90,LEFT(M$1,1))+COUNTIF(O$2:O90,RIGHT(M$1,1)),\"\"))","v":""},{"$f":"IF(COUNTBLANK(I90)=1,\"\",IF(OR(P90=LEFT(N$1,1),P90=RIGHT(N$1,1)),COUNTIF(P$2:P90,LEFT(N$1,1))+COUNTIF(P$2:P90,RIGHT(N$1,1)),\"\"))","v":""},{"$f":"IF(COUNTBLANK(I90)=1,\"\",INDEX(Registration!$C$2:$C$101,MATCH(I90,Registration!$B$2:$B$101,0)))","v":""},{"$f":"IF(COUNTBLANK(I90)=1,\"\",IF(COUNTBLANK(INDEX(Registration!$D$2:$D$101,MATCH(I90,Registration!$B$2:$B$101,0)))=1,\"\",INDEX(Registration!$D$2:$D$101,MATCH(I90,Registration!$B$2:$B$101,0))))","v":""}]
[{"$f":"IF(COUNTBLANK(Registration!B91)=1,\"\",Registration!B91)","v":""},null,"","","",null,"","","",null,{"$f":"IF(COUNTBLANK(I91)=1,\"\",IF(OR(O91=LEFT(K$1,1),O91=RIGHT(K$1,1)),COUNTIF(O$2:O91,LEFT(K$1,1))+COUNTIF(O$2:O91,RIGHT(K$1,1)),\"\"))","v":""},{"$f":"IF(COUNTBLANK(I91)=1,\"\",IF(OR(O91=LEFT(L$1,1),O91=RIGHT(L$1,1)),COUNTIF(O$2:O91,LEFT(L$1,1))+COUNTIF(O$2:O91,RIGHT(L$1,1)),\"\"))","v":""},{"$f":"IF(COUNTBLANK(I91)=1,\"\",IF(OR(O91=LEFT(M$1,1),O91=RIGHT(M$1,1)),COUNTIF(O$2:O91,LEFT(M$1,1))+COUNTIF(O$2:O91,RIGHT(M$1,1)),\"\"))","v":""},{"$f":"IF(COUNTBLANK(I91)=1,\"\",IF(OR(P91=LEFT(N$1,1),P91=RIGHT(N$1,1)),COUNTIF(P$2:P91,LEFT(N$1,1))+COUNTIF(P$2:P91,RIGHT(N$1,1)),\"\"))","v":""},{"$f":"IF(COUNTBLANK(I91)=1,\"\",INDEX(Registration!$C$2:$C$101,MATCH(I91,Registration!$B$2:$B$101,0)))","v":""},{"$f":"IF(COUNTBLANK(I91)=1,\"\",IF(COUNTBLANK(INDEX(Registration!$D$2:$D$101,MATCH(I91,Registration!$B$2:$B$101,0)))=1,\"\",INDEX(Registration!$D$2:$D$101,MATCH(I91,Registration!$B$2:$B$101,0))))","v":""}]
[{"$f":"IF(COUNTBLANK(Registration!B92)=1,\"\",Registration!B92)","v":""},null,"","","",null,"","","",null,{"$f":"IF(COUNTBLANK(I92)=1,\"\",IF(OR(O92=LEFT(K$1,1),O92=RIGHT(K$1,1)),COUNTIF(O$2:O92,LEFT(K$1,1))+COUNTIF(O$2:O92,RIGHT(K$1,1)),\"\"))","v":""},{"$f":"IF(COUNTBLANK(I92)=1,\"\",IF(OR(O92=LEFT(L$1,1),O92=RIGHT(L$1,1)),COUNTIF(O$2:O92,LEFT(L$1,1))+COUNTIF(O$2:O92,RIGHT(L$1,1)),\"\"))","v":""},{"$f":"IF(COUNTBLANK(I92)=1,\"\",IF(OR(O92=LEFT(M$1,1),O92=RIGHT(M$1,1)),COUNTIF(O$2:O92,LEFT(M$1,1))+COUNTIF(O$2:O92,RIGHT(M$1,1)),\"\"))","v":""},{"$f":"IF(COUNTBLANK(I92)=1,\"\",IF(OR(P92=LEFT(N$1,1),P92=RIGHT(N$1,1)),COUNTIF(P$2:P92,LEFT(N$1,1))+COUNTIF(P$2:P92,RIGHT(N$1,1)),\"\"))","v":""},{"$f":"IF(COUNTBLANK(I92)=1,\"\",INDEX(Registration!$C$2:$C$101,MATCH(I92,Registration!$B$2:$B$101,0)))","v":""},{"$f":"IF(COUNTBLANK(I92)=1,\"\",IF(COUNTBLANK(INDEX(Registration!$D$2:$D$101,MATCH(I92,Registration!$B$2:$B$101,0)))=1,\"\",INDEX(Registration!$D$2:$D$101,MATCH(I92,Registration!$B$2:$B$101,0))))","v":""}]
[{"$f":"IF(COUNTBLANK(Registration!B93)=1,\"\",Registration!B93)","v":""},null,"","","",null,"","","",null,{"$f":"IF(COUNTBLANK(I93)=1,\"\",IF(OR(O93=LEFT(K$1,1),O93=RIGHT(K$1,1)),COUNTIF(O$2:O93,LEFT(K$1,1))+COUNTIF(O$2:O93,RIGHT(K$1,1)),\"\"))","v":""},{"$f":"IF(COUNTBLANK(I93)=1,\"\",IF(OR(O93=LEFT(L$1,1),O93=RIGHT(L$1,1)),COUNTIF(O$2:O93,LEFT(L$1,1))+COUNTIF(O$2:O93,RIGHT(L$1,1)),\"\"))","v":""},{"$f":"IF(COUNTBLANK(I93)=1,\"\",IF(OR(O93=LEFT(M$1,1),O93=RIGHT(M$1,1)),COUNTIF(O$2:O93,LEFT(M$1,1))+COUNTIF(O$2:O93,RIGHT(M$1,1)),\"\"))","v":""},{"$f":"IF(COUNTBLANK(I93)=1,\"\",IF(OR(P93=LEFT(N$1,1),P93=RIGHT(N$1,1)),COUNTIF(P$2:P93,LEFT(N$1,1))+COUNTIF(P$2:P93,RIGHT(N$1,1)),\"\"))","v":""},{"$f":"IF(COUNTBLANK(I93)=1,\"\",INDEX(Registration!$C$2:$C$101,MATCH(I93,Registration!$B$2:$B$101,0)))","v":""},{"$f":"IF(COUNTBLANK(I93)=1,\"\",IF(COUNTBLANK(INDEX(Registration!$D$2:$D$101,MATCH(I93,Registration!$B$2:$B$101,0)))=1,\"\",INDEX(Registration!$D$2:$D$101,MATCH(I93,Registration!$B$2:$B$101,0))))","v":""}]
[{"$f":"IF(COUNTBLANK(Registration!B94)=1,\"\",Registration!B94)","v":""},null,"","","",null,"","","",null,{"$f":"IF(COUNTBLANK(I94)=1,\"\",IF(OR(O94=LEFT(K$1,1),O94=RIGHT(K$1,1)),COUNTIF(O$2:O94,LEFT(K$1,1))+COUNTIF(O$2:O94,RIGHT(K$1,1)),\"\"))","v":""},{"$f":"IF(COUNTBLANK(I94)=1,\"\",IF(OR(O94=LEFT(L$1,1),O94=RIGHT(L$1,1)),COUNTIF(O$2:O94,LEFT(L$1,1))+COUNTIF(O$2:O94,RIGHT(L$1,1)),\"\"))","v":""},{"$f":"IF(COUNTBLANK(I94)=1,\"\",IF(OR(O94=LEFT(M$1,1),O94=RIGHT(M$1,1)),COUNTIF(O$2:O94,LEFT(M$1,1))+COUNTIF(O$2:O94,RIGHT(M$1,1)),\"\"))","v":""},{"$f":"IF(COUNTBLANK(I94)=1,\"\",IF(OR(P94=LEFT(N$1,1),P94=RIGHT(N$1,1)),COUNTIF(P$2:P94,LEFT(N$1,1))+COUNTIF(P$2:P94,RIGHT(N$1,1)),\"\"))","v":""},{"$f":"IF(COUNTBLANK(I94)=1,\"\",INDEX(Registration!$C$2:$C$101,MATCH(I94,Registration!$B$2:$B$101,0)))","v":""},{"$f":"IF(COUNTBLANK(I94)=1,\"\",IF(COUNTBLANK(INDEX(Registration!$D$2:$D$101,MATCH(I94,Registration!$B$2:$B$101,0)))=1,\"\",INDEX(Registration!$D$2:$D$101,MATCH(I94,Registration!$B$2:$B$101,0))))","v":""}]
[{"$f":"IF(COUNTBLANK(Registration!B95)=1,\"\",Registration!B95)","v":""},null,"","","",null,"","","",null,{"$f":"IF(COUNTBLANK(I95)=1,\"\",IF(OR(O95=LEFT(K$1,1),O95=RIGHT(K$1,1)),COUNTIF(O$2:O95,LEFT(K$1,1))+COUNTIF(O$2:O95,RIGHT(K$1,1)),\"\"))","v":""},{"$f":"IF(COUNTBLANK(I95)=1,\"\",IF(OR(O95=LEFT(L$1,1),O95=RIGHT(L$1,1)),COUNTIF(O$2:O95,LEFT(L$1,1))+COUNTIF(O$2:O95,RIGHT(L$1,1)),\"\"))","v":""},{"$f":"IF(COUNTBLANK(I95)=1,\"\",IF(OR(O95=LEFT(M$1,1),O95=RIGHT(M$1,1)),COUNTIF(O$2:O95,LEFT(M$1,1))+COUNTIF(O$2:O95,RIGHT(M$1,1)),\"\"))","v":""},{"$f":"IF(COUNTBLANK(I95)=1,\"\",IF(OR(P95=LEFT(N$1,1),P95=RIGHT(N$1,1)),COUNTIF(P$2:P95,LEFT(N$1,1))+COUNTIF(P$2:P95,RIGHT(N$1,1)),\"\"))","v":""},{"$f":"IF(COUNTBLANK(I95)=1,\"\",INDEX(Registration!$C$2:$C$101,MATCH(I95,Registration!$B$2:$B$101,0)))","v":""},{"$f":"IF(COUNTBLANK(I95)=1,\"\",IF(COUNTBLANK(INDEX(Registration!$D$2:$D$101,MATCH(I95,Registration!$B$2:$B$101,0)))=1,\"\",INDEX(Registration!$D$2:$D$101,MATCH(I95,Registration!$B$2:$B$101,0))))","v":""}]
[{"$f":"IF(COUNTBLANK(Registration!B96)=1,\"\",Registration!B96)","v":""},null,"","","",null,"","","",null,{"$f":"IF(COUNTBLANK(I96)=1,\"\",IF(OR(O96=LEFT(K$1,1),O96=RIGHT(K$1,1)),COUNTIF(O$2:O96,LEFT(K$1,1))+COUNTIF(O$2:O96,RIGHT(K$1,1)),\"\"))","v":""},{"$f":"IF(COUNTBLANK(I96)=1,\"\",IF(OR(O96=LEFT(L$1,1),O96=RIGHT(L$1,1)),COUNTIF(O$2:O96,LEFT(L$1,1))+COUNTIF(O$2:O96,RIGHT(L$1,1)),\"\"))","v":""},{"$f":"IF(COUNTBLANK(I96)=1,\"\",IF(OR(O96=LEFT(M$1,1),O96=RIGHT(M$1,1)),COUNTIF(O$2:O96,LEFT(M$1,1))+COUNTIF(O$2:O96,RIGHT(M$1,1)),\"\"))","v":""},{"$f":"IF(COUNTBLANK(I96)=1,\"\",IF(OR(P96=LEFT(N$1,1),P96=RIGHT(N$1,1)),COUNTIF(P$2:P96,LEFT(N$1,1))+COUNTIF(P$2:P96,RIGHT(N$1,1)),\"\"))","v":""},{"$f":"IF(COUNTBLANK(I96)=1,\"\",INDEX(Registration!$C$2:$C$101,MATCH(I96,Registration!$B$2:$B$101,0)))","v":""},{"$f":"IF(COUNTBLANK(I96)=1,\"\",IF(COUNTBLANK(INDEX(Registration!$D$2:$D$101,MATCH(I96,Registration!$B$2:$B$101,0)))=1,\"\",INDEX(Registration!$D$2:$D$101,MATCH(I96,Registration!$B$2:$B$101,0))))","v":""}]
[{"$f":"IF(COUNTBLANK(Registration!B97)=1,\"\",Registration!B97)","v":""},null,"","","",null,"","","",null,{"$f":"IF(COUNTBLANK(I97)=1,\"\",IF(OR(O97=LEFT(K$1,1),O97=RIGHT(K$1,1)),COUNTIF(O$2:O97,LEFT(K$1,1))+COUNTIF(O$2:O97,RIGHT(K$1,1)),\"\"))","v":""},{"$f":"IF(COUNTBLANK(I97)=1,\"\",IF(OR(O97=LEFT(L$1,1),O97=RIGHT(L$1,1)),COUNTIF(O$2:O97,LEFT(L$1,1))+COUNTIF(O$2:O97,RIGHT(L$1,1)),\"\"))","v":""},{"$f":"IF(COUNTBLANK(I97)=1,\"\",IF(OR(O97=LEFT(M$1,1),O97=RIGHT(M$1,1)),COUNTIF(O$2:O97,LEFT(M$1,1))+COUNTIF(O$2:O97,RIGHT(M$1,1)),\"\"))","v":""},{"$f":"IF(COUNTBLANK(I97)=1,\"\",IF(OR(P97=LEFT(N$1,1),P97=RIGHT(N$1,1)),COUNTIF(P$2:P97,LEFT(N$1,1))+COUNTIF(P$2:P97,RIGHT(N$1,1)),\"\"))","v":""},{"$f":"IF(COUNTBLANK(I97)=1,\"\",INDEX(Registration!$C$2:$C$101,MATCH(I97,Registration!$B$2:$B$101,0)))","v":""},{"$f":"IF(COUNTBLANK(I97)=1,\"\",IF(COUNTBLANK(INDEX(Registration!$D$2:$D$101,MATCH(I97,Registration!$B$2:$B$101,0)))=1,\"\",INDEX(Registration!$D$2:$D$101,MATCH(I97,Registration!$B$2:$B$101,0))))","v":""}]
[{"$f":"IF(COUNTBLANK(Registration!B98)=1,\"\",Registration!B98)","v":""},null,"","","",null,"","","",null,{"$f":"IF(COUNTBLANK(I98)=1,\"\",IF(OR(O98=LEFT(K$1,1),O98=RIGHT(K$1,1)),COUNTIF(O$2:O98,LEFT(K$1,1))+COUNTIF(O$2:O98,RIGHT(K$1,1)),\"\"))","v":""},{"$f":"IF(COUNTBLANK(I98)=1,\"\",IF(OR(O98=LEFT(L$1,1),O98=RIGHT(L$1,1)),COUNTIF(O$2:O98,LEFT(L$1,1))+COUNTIF(O$2:O98,RIGHT(L$1,1)),\"\"))","v":""},{"$f":"IF(COUNTBLANK(I98)=1,\"\",IF(OR(O98=LEFT(M$1,1),O98=RIGHT(M$1,1)),COUNTIF(O$2:O98,LEFT(M$1,1))+COUNTIF(O$2:O98,RIGHT(M$1,1)),\"\"))","v":""},{"$f":"IF(COUNTBLANK(I98)=1,\"\",IF(OR(P98=LEFT(N$1,1),P98=RIGHT(N$1,1)),COUNTIF(P$2:P98,LEFT(N$1,1))+COUNTIF(P$2:P98,RIGHT(N$1,1)),\"\"))","v":""},{"$f":"IF(COUNTBLANK(I98)=1,\"\",INDEX(Registration!$C$2:$C$101,MATCH(I98,Registration!$B$2:$B$101,0)))","v":""},{"$f":"IF(COUNTBLANK(I98)=1,\"\",IF(COUNTBLANK(INDEX(Registration!$D$2:$D$101,MATCH(I98,Registration!$B$2:$B$101,0)))=1,\"\",INDEX(Registration!$D$2:$D$101,MATCH(I98,Registration!$B$2:$B$101,0))))","v":""}]
[{"$f":"IF(COUNTBLANK(Registration!B99)=1,\"\",Registration!B99)","v":""},null,"","","",null,"","","",null,{"$f":"IF(COUNTBLANK(I99)=1,\"\",IF(OR(O99=LEFT(K$1,1),O99=RIGHT(K$1,1)),COUNTIF(O$2:O99,LEFT(K$1,1))+COUNTIF(O$2:O99,RIGHT(K$1,1)),\"\"))","v":""},{"$f":"IF(COUNTBLANK(I99)=1,\"\",IF(OR(O99=LEFT(L$1,1),O99=RIGHT(L$1,1)),COUNTIF(O$2:O99,LEFT(L$1,1))+COUNTIF(O$2:O99,RIGHT(L$1,1)),\"\"))","v":""},{"$f":"IF(COUNTBLANK(I99)=1,\"\",IF(OR(O99=LEFT(M$1,1),O99=RIGHT(M$1,1)),COUNTIF(O$2:O99,LEFT(M$1,1))+COUNTIF(O$2:O99,RIGHT(M$1,1)),\"\"))","v":""},{"$f":"IF(COUNTBLANK(I99)=1,\"\",IF(OR(P99=LEFT(N$1,1),P99=RIGHT(N$1,1)),COUNTIF(P$2:P99,LEFT(N$1,1))+COUNTIF(P$2:P99,RIGHT(N$1,1)),\"\"))","v":""},{"$f":"IF(COUNTBLANK(I99)=1,\"\",INDEX(Registration!$C$2:$C$101,MATCH(I99,Registration!$B$2:$B$101,0)))","v":""},{"$f":"IF(COUNTBLANK(I99)=1,\"\",IF(COUNTBLANK(INDEX(Registration!$D$2:$D$101,MATCH(I99,Registration!$B$2:$B$101,0)))=1,\"\",INDEX(Registration!$D$2:$D$101,MATCH(I99,Registration!$B$2:$B$101,0))))","v":""}]
[{"$f":"IF(COUNTBLANK(Registration!B100)=1,\"\",Registration!B100)","v":""},null,"","","",null,"","","",null,{"$f":"IF(COUNTBLANK(I100)=1,\"\",IF(OR(O100=LEFT(K$1,1),O100=RIGHT(K$1,1)),COUNTIF(O$2:O100,LEFT(K$1,1))+COUNTIF(O$2:O100,RIGHT(K$1,1)),\"\"))","v":""},{"$f":"IF(COUNTBLANK(I100)=1,\"\",IF(OR(O100=LEFT(L$1,1),O100=RIGHT(L$1,1)),COUNTIF(O$2:O100,LEFT(L$1,1))+COUNTIF(O$2:O100,RIGHT(L$1,1)),\"\"))","v":""},{"$f":"IF(COUNTBLANK(I100)=1,\"\",IF(OR(O100=LEFT(M$1,1),O100=RIGHT(M$1,1)),COUNTIF(O$2:O100,LEFT(M$1,1))+COUNTIF(O$2:O100,RIGHT(M$1,1)),\"\"))","v":""},{"$f":"IF(COUNTBLANK(I100)=1,\"\",IF(OR(P100=LEFT(N$1,1),P100=RIGHT(N$1,1)),COUNTIF(P$2:P100,LEFT(N$1,1))+COUNTIF(P$2:P100,RIGHT(N$1,1)),\"\"))","v":""},{"$f":"IF(COUNTBLANK(I100)=1,\"\",INDEX(Registration!$C$2:$C$101,MATCH(I100,Registration!$B$2:$B$101,0)))","v":""},{"$f":"IF(COUNTBLANK(I100)=1,\"\",IF(COUNTBLANK(INDEX(Registration!$D$2:$D$101,MATCH(I100,Registration!$B$2:$B$101,0)))=1,\"\",INDEX(Registration!$D$2:$D$101,MATCH(I100,Registration!$B$2:$B$101,0))))","v":""}]
[{"$f":"IF(COUNTBLANK(Registration!B101)=1,\"\",Registration!B101)","v":""},null,"","","",null,"","","",null,{"$f":"IF(COUNTBLANK(I101)=1,\"\",IF(OR(O101=LEFT(K$1,1),O101=RIGHT(K$1,1)),COUNTIF(O$2:O101,LEFT(K$1,1))+COUNTIF(O$2:O101,RIGHT(K$1,1)),\"\"))","v":""},{"$f":"IF(COUNTBLANK(I101)=1,\"\",IF(OR(O101=LEFT(L$1,1),O101=RIGHT(L$1,1)),COUNTIF(O$2:O101,LEFT(L$1,1))+COUNTIF(O$2:O101,RIGHT(L$1,1)),\"\"))","v":""},{"$f":"IF(COUNTBLANK(I101)=1,\"\",IF(OR(O101=LEFT(M$1,1),O101=RIGHT(M$1,1)),COUNTIF(O$2:O101,LEFT(M$1,1))+COUNTIF(O$2:O101,RIGHT(M$1,1)),\"\"))","v":""},{"$f":"IF(COUNTBLANK(I101)=1,\"\",IF(OR(P101=LEFT(N$1,1),P101=RIGHT(N$1,1)),COUNTIF(P$2:P101,LEFT(N$1,1))+COUNTIF(P$2:P101,RIGHT(N$1,1)),\"\"))","v":""},{"$f":"IF(COUNTBLANK(I101)=1,\"\",INDEX(Registration!$C$2:$C$101,MATCH(I101,Registration!$B$2:$B$101,0)))","v":""},{"$f":"IF(COUNTBLANK(I101)=1,\"\",IF(COUNTBLANK(INDEX(Registration!$D$2:$D$101,MATCH(I101,Registration!$B$2:$B$101,0)))=1,\"\",INDEX(Registration!$D$2:$D$101,MATCH(I101,Registration!$B$2:$B$101,0))))","v":""}]

{"sheet":"Master Score Sheet","index":7,"n_rows":101,"n_cols":19,"rows_kept":101,"cut":false,"hidden":false,"merged":[[0,0,0,1],[0,13,0,14],[0,15,0,16],[0,5,0,6],[0,9,0,10],[0,11,0,12],[0,7,0,8]]}
["Final",null,{"$f":"Registration!B1","v":"Name"},"Start #","Division","Aussie Round",null,"Accuracy",null,"MTA",null,"Trick Catch",null,"Fast Catch",null,"Endurance",null,null,"Click on the USBA logo below to create a sorted leaderboard."]
["Place","Points",null,null,null,"Score","Points","Score","Points","Score","Points","Score","Points","Score","Points","Score","Points"]
[{"$f":"IF(COUNTBLANK(Registration!$B2)=1, \"\",RANK(B3,$B$3:$B$101,1))","v":""},{"$f":"IF(COUNTBLANK(Registration!$B2)=1, \"\",SUM(Q3,O3,I3,M3,K3,G3))","v":""},{"$f":"IF(COUNTBLANK(Registration!B2)=1,\"\",Registration!B2)","v":""},{"$f":"IF(COUNTBLANK(Registration!B2)=1,\"\",Registration!A2)","v":""},{"$f":"IF(COUNTBLANK(C3)=1,\"\",Registration!E2)","v":""},{"$f":"IF(COUNTBLANK(Registration!B2)=1, \"\",'Aussie Round'!V3)","v":""},{"$f":"IF(COUNTBLANK(Registration!$B2)=1, \"\",IF(COUNTBLANK(F3)=1,\"\",'Aussie Round'!X3))","v":""},{"$f":"IF(COUNTBLANK(Registration!$B2)=1, \"\",Accuracy!L2)","v":""},{"$f":"IF(COUNTBLANK(Registration!$B2)=1, \"\",IF(COUNTBLANK(H3)=1,\"\",Accuracy!N2))","v":""},{"$f":"IF(COUNTBLANK(Registration!$B2)=1, \"\",MTA!G2)","v":""},{"$f":"IF(COUNTBLANK(Registration!$B2)=1, \"\",IF(COUNTBLANK(J3)=1,\"\",MTA!I2))","v":""},{"$f":"IF(COUNTBLANK(Registration!$B2)=1, \"\",'Trick Catch'!X3)","v":""},{"$f":"IF(COUNTBLANK(Registration!$B2)=1, \"\",IF(COUNTBLANK(L3)=1,\"\",'Trick Catch'!Z3))","v":""},{"$f":"IF(COUNTBLANK(Registration!$B2)=1, \"\",'Fast Catch'!F2)","v":""},{"$f":"IF(COUNTBLANK(Registration!$B2)=1, \"\",IF(COUNTBLANK(N3)=1,\"\",'Fast Catch'!H2))","v":""},{"$f":"IF(COUNTBLANK(Registration!$B2)=1, \"\",Endurance!C2)","v":""},{"$f":"IF(COUNTBLANK(Registration!$B2)=1, \"\",IF(COUNTBLANK(P3)=1,\"\",Endurance!E2))","v":""}]
[{"$f":"IF(COUNTBLANK(Registration!$B3)=1, \"\",RANK(B4,$B$3:$B$101,1))","v":""},{"$f":"IF(COUNTBLANK(Registration!$B3)=1, \"\",SUM(Q4,O4,I4,M4,K4,G4))","v":""},{"$f":"IF(COUNTBLANK(Registration!B3)=1,\"\",Registration!B3)","v":""},{"$f":"IF(COUNTBLANK(Registration!B3)=1,\"\",Registration!A3)","v":""},{"$f":"IF(COUNTBLANK(C4)=1,\"\",Registration!E3)","v":""},{"$f":"IF(COUNTBLANK(Registration!B3)=1, \"\",'Aussie Round'!V4)","v":""},{"$f":"IF(COUNTBLANK(Registration!$B3)=1, \"\",IF(COUNTBLANK(F4)=1,\"\",'Aussie Round'!X4))","v":""},{"$f":"IF(COUNTBLANK(Registration!$B3)=1, \"\",Accuracy!L3)","v":""},{"$f":"IF(COUNTBLANK(Registration!$B3)=1, \"\",IF(COUNTBLANK(H4)=1,\"\",Accuracy!N3))","v":""},{"$f":"IF(COUNTBLANK(Registration!$B3)=1, \"\",MTA!G3)","v":""},{"$f":"IF(COUNTBLANK(Registration!$B3)=1, \"\",IF(COUNTBLANK(J4)=1,\"\",MTA!I3))","v":""},{"$f":"IF(COUNTBLANK(Registration!$B3)=1, \"\",'Trick Catch'!X4)","v":""},{"$f":"IF(COUNTBLANK(Registration!$B3)=1, \"\",IF(COUNTBLANK(L4)=1,\"\",'Trick Catch'!Z4))","v":""},{"$f":"IF(COUNTBLANK(Registration!$B3)=1, \"\",'Fast Catch'!F3)","v":""},{"$f":"IF(COUNTBLANK(Registration!$B3)=1, \"\",IF(COUNTBLANK(N4)=1,\"\",'Fast Catch'!H3))","v":""},{"$f":"IF(COUNTBLANK(Registration!$B3)=1, \"\",Endurance!C3)","v":""},{"$f":"IF(COUNTBLANK(Registration!$B3)=1, \"\",IF(COUNTBLANK(P4)=1,\"\",Endurance!E3))","v":""}]
[{"$f":"IF(COUNTBLANK(Registration!$B4)=1, \"\",RANK(B5,$B$3:$B$101,1))","v":""},{"$f":"IF(COUNTBLANK(Registration!$B4)=1, \"\",SUM(Q5,O5,I5,M5,K5,G5))","v":""},{"$f":"IF(COUNTBLANK(Registration!B4)=1,\"\",Registration!B4)","v":""},{"$f":"IF(COUNTBLANK(Registration!B4)=1,\"\",Registration!A4)","v":""},{"$f":"IF(COUNTBLANK(C5)=1,\"\",Registration!E4)","v":""},{"$f":"IF(COUNTBLANK(Registration!B4)=1, \"\",'Aussie Round'!V5)","v":""},{"$f":"IF(COUNTBLANK(Registration!$B4)=1, \"\",IF(COUNTBLANK(F5)=1,\"\",'Aussie Round'!X5))","v":""},{"$f":"IF(COUNTBLANK(Registration!$B4)=1, \"\",Accuracy!L4)","v":""},{"$f":"IF(COUNTBLANK(Registration!$B4)=1, \"\",IF(COUNTBLANK(H5)=1,\"\",Accuracy!N4))","v":""},{"$f":"IF(COUNTBLANK(Registration!$B4)=1, \"\",MTA!G4)","v":""},{"$f":"IF(COUNTBLANK(Registration!$B4)=1, \"\",IF(COUNTBLANK(J5)=1,\"\",MTA!I4))","v":""},{"$f":"IF(COUNTBLANK(Registration!$B4)=1, \"\",'Trick Catch'!X5)","v":""},{"$f":"IF(COUNTBLANK(Registration!$B4)=1, \"\",IF(COUNTBLANK(L5)=1,\"\",'Trick Catch'!Z5))","v":""},{"$f":"IF(COUNTBLANK(Registration!$B4)=1, \"\",'Fast Catch'!F4)","v":""},{"$f":"IF(COUNTBLANK(Registration!$B4)=1, \"\",IF(COUNTBLANK(N5)=1,\"\",'Fast Catch'!H4))","v":""},{"$f":"IF(COUNTBLANK(Registration!$B4)=1, \"\",Endurance!C4)","v":""},{"$f":"IF(COUNTBLANK(Registration!$B4)=1, \"\",IF(COUNTBLANK(P5)=1,\"\",Endurance!E4))","v":""}]
[{"$f":"IF(COUNTBLANK(Registration!$B5)=1, \"\",RANK(B6,$B$3:$B$101,1))","v":""},{"$f":"IF(COUNTBLANK(Registration!$B5)=1, \"\",SUM(Q6,O6,I6,M6,K6,G6))","v":""},{"$f":"IF(COUNTBLANK(Registration!B5)=1,\"\",Registration!B5)","v":""},{"$f":"IF(COUNTBLANK(Registration!B5)=1,\"\",Registration!A5)","v":""},{"$f":"IF(COUNTBLANK(C6)=1,\"\",Registration!E5)","v":""},{"$f":"IF(COUNTBLANK(Registration!B5)=1, \"\",'Aussie Round'!V6)","v":""},{"$f":"IF(COUNTBLANK(Registration!$B5)=1, \"\",IF(COUNTBLANK(F6)=1,\"\",'Aussie Round'!X6))","v":""},{"$f":"IF(COUNTBLANK(Registration!$B5)=1, \"\",Accuracy!L5)","v":""},{"$f":"IF(COUNTBLANK(Registration!$B5)=1, \"\",IF(COUNTBLANK(H6)=1,\"\",Accuracy!N5))","v":""},{"$f":"IF(COUNTBLANK(Registration!$B5)=1, \"\",MTA!G5)","v":""},{"$f":"IF(COUNTBLANK(Registration!$B5)=1, \"\",IF(COUNTBLANK(J6)=1,\"\",MTA!I5))","v":""},{"$f":"IF(COUNTBLANK(Registration!$B5)=1, \"\",'Trick Catch'!X6)","v":""},{"$f":"IF(COUNTBLANK(Registration!$B5)=1, \"\",IF(COUNTBLANK(L6)=1,\"\",'Trick Catch'!Z6))","v":""},{"$f":"IF(COUNTBLANK(Registration!$B5)=1, \"\",'Fast Catch'!F5)","v":""},{"$f":"IF(COUNTBLANK(Registration!$B5)=1, \"\",IF(COUNTBLANK(N6)=1,\"\",'Fast Catch'!H5))","v":""},{"$f":"IF(COUNTBLANK(Registration!$B5)=1, \"\",Endurance!C5)","v":""},{"$f":"IF(COUNTBLANK(Registration!$B5)=1, \"\",IF(COUNTBLANK(P6)=1,\"\",Endurance!E5))","v":""}]
[{"$f":"IF(COUNTBLANK(Registration!$B6)=1, \"\",RANK(B7,$B$3:$B$101,1))","v":""},{"$f":"IF(COUNTBLANK(Registration!$B6)=1, \"\",SUM(Q7,O7,I7,M7,K7,G7))","v":""},{"$f":"IF(COUNTBLANK(Registration!B6)=1,\"\",Registration!B6)","v":""},{"$f":"IF(COUNTBLANK(Registration!B6)=1,\"\",Registration!A6)","v":""},{"$f":"IF(COUNTBLANK(C7)=1,\"\",Registration!E6)","v":""},{"$f":"IF(COUNTBLANK(Registration!B6)=1, \"\",'Aussie Round'!V7)","v":""},{"$f":"IF(COUNTBLANK(Registration!$B6)=1, \"\",IF(COUNTBLANK(F7)=1,\"\",'Aussie Round'!X7))","v":""},{"$f":"IF(COUNTBLANK(Registration!$B6)=1, \"\",Accuracy!L6)","v":""},{"$f":"IF(COUNTBLANK(Registration!$B6)=1, \"\",IF(COUNTBLANK(H7)=1,\"\",Accuracy!N6))","v":""},{"$f":"IF(COUNTBLANK(Registration!$B6)=1, \"\",MTA!G6)","v":""},{"$f":"IF(COUNTBLANK(Registration!$B6)=1, \"\",IF(COUNTBLANK(J7)=1,\"\",MTA!I6))","v":""},{"$f":"IF(COUNTBLANK(Registration!$B6)=1, \"\",'Trick Catch'!X7)","v":""},{"$f":"IF(COUNTBLANK(Registration!$B6)=1, \"\",IF(COUNTBLANK(L7)=1,\"\",'Trick Catch'!Z7))","v":""},{"$f":"IF(COUNTBLANK(Registration!$B6)=1, \"\",'Fast Catch'!F6)","v":""},{"$f":"IF(COUNTBLANK(Registration!$B6)=1, \"\",IF(COUNTBLANK(N7)=1,\"\",'Fast Catch'!H6))","v":""},{"$f":"IF(COUNTBLANK(Registration!$B6)=1, \"\",Endurance!C6)","v":""},{"$f":"IF(COUNTBLANK(Registration!$B6)=1, \"\",IF(COUNTBLANK(P7)=1,\"\",Endurance!E6))","v":""}]
[{"$f":"IF(COUNTBLANK(Registration!$B7)=1, \"\",RANK(B8,$B$3:$B$101,1))","v":""},{"$f":"IF(COUNTBLANK(Registration!$B7)=1, \"\",SUM(Q8,O8,I8,M8,K8,G8))","v":""},{"$f":"IF(COUNTBLANK(Registration!B7)=1,\"\",Registration!B7)","v":""},{"$f":"IF(COUNTBLANK(Registration!B7)=1,\"\",Registration!A7)","v":""},{"$f":"IF(COUNTBLANK(C8)=1,\"\",Registration!E7)","v":""},{"$f":"IF(COUNTBLANK(Registration!B7)=1, \"\",'Aussie Round'!V8)","v":""},{"$f":"IF(COUNTBLANK(Registration!$B7)=1, \"\",IF(COUNTBLANK(F8)=1,\"\",'Aussie Round'!X8))","v":""},{"$f":"IF(COUNTBLANK(Registration!$B7)=1, \"\",Accuracy!L7)","v":""},{"$f":"IF(COUNTBLANK(Registration!$B7)=1, \"\",IF(COUNTBLANK(H8)=1,\"\",Accuracy!N7))","v":""},{"$f":"IF(COUNTBLANK(Registration!$B7)=1, \"\",MTA!G7)","v":""},{"$f":"IF(COUNTBLANK(Registration!$B7)=1, \"\",IF(COUNTBLANK(J8)=1,\"\",MTA!I7))","v":""},{"$f":"IF(COUNTBLANK(Registration!$B7)=1, \"\",'Trick Catch'!X8)","v":""},{"$f":"IF(COUNTBLANK(Registration!$B7)=1, \"\",IF(COUNTBLANK(L8)=1,\"\",'Trick Catch'!Z8))","v":""},{"$f":"IF(COUNTBLANK(Registration!$B7)=1, \"\",'Fast Catch'!F7)","v":""},{"$f":"IF(COUNTBLANK(Registration!$B7)=1, \"\",IF(COUNTBLANK(N8)=1,\"\",'Fast Catch'!H7))","v":""},{"$f":"IF(COUNTBLANK(Registration!$B7)=1, \"\",Endurance!C7)","v":""},{"$f":"IF(COUNTBLANK(Registration!$B7)=1, \"\",IF(COUNTBLANK(P8)=1,\"\",Endurance!E7))","v":""}]
[{"$f":"IF(COUNTBLANK(Registration!$B8)=1, \"\",RANK(B9,$B$3:$B$101,1))","v":""},{"$f":"IF(COUNTBLANK(Registration!$B8)=1, \"\",SUM(Q9,O9,I9,M9,K9,G9))","v":""},{"$f":"IF(COUNTBLANK(Registration!B8)=1,\"\",Registration!B8)","v":""},{"$f":"IF(COUNTBLANK(Registration!B8)=1,\"\",Registration!A8)","v":""},{"$f":"IF(COUNTBLANK(C9)=1,\"\",Registration!E8)","v":""},{"$f":"IF(COUNTBLANK(Registration!B8)=1, \"\",'Aussie Round'!V9)","v":""},{"$f":"IF(COUNTBLANK(Registration!$B8)=1, \"\",IF(COUNTBLANK(F9)=1,\"\",'Aussie Round'!X9))","v":""},{"$f":"IF(COUNTBLANK(Registration!$B8)=1, \"\",Accuracy!L8)","v":""},{"$f":"IF(COUNTBLANK(Registration!$B8)=1, \"\",IF(COUNTBLANK(H9)=1,\"\",Accuracy!N8))","v":""},{"$f":"IF(COUNTBLANK(Registration!$B8)=1, \"\",MTA!G8)","v":""},{"$f":"IF(COUNTBLANK(Registration!$B8)=1, \"\",IF(COUNTBLANK(J9)=1,\"\",MTA!I8))","v":""},{"$f":"IF(COUNTBLANK(Registration!$B8)=1, \"\",'Trick Catch'!X9)","v":""},{"$f":"IF(COUNTBLANK(Registration!$B8)=1, \"\",IF(COUNTBLANK(L9)=1,\"\",'Trick Catch'!Z9))","v":""},{"$f":"IF(COUNTBLANK(Registration!$B8)=1, \"\",'Fast Catch'!F8)","v":""},{"$f":"IF(COUNTBLANK(Registration!$B8)=1, \"\",IF(COUNTBLANK(N9)=1,\"\",'Fast Catch'!H8))","v":""},{"$f":"IF(COUNTBLANK(Registration!$B8)=1, \"\",Endurance!C8)","v":""},{"$f":"IF(COUNTBLANK(Registration!$B8)=1, \"\",IF(COUNTBLANK(P9)=1,\"\",Endurance!E8))","v":""}]
[{"$f":"IF(COUNTBLANK(Registration!$B9)=1, \"\",RANK(B10,$B$3:$B$101,1))","v":""},{"$f":"IF(COUNTBLANK(Registration!$B9)=1, \"\",SUM(Q10,O10,I10,M10,K10,G10))","v":""},{"$f":"IF(COUNTBLANK(Registration!B9)=1,\"\",Registration!B9)","v":""},{"$f":"IF(COUNTBLANK(Registration!B9)=1,\"\",Registration!A9)","v":""},{"$f":"IF(COUNTBLANK(C10)=1,\"\",Registration!E9)","v":""},{"$f":"IF(COUNTBLANK(Registration!B9)=1, \"\",'Aussie Round'!V10)","v":""},{"$f":"IF(COUNTBLANK(Registration!$B9)=1, \"\",IF(COUNTBLANK(F10)=1,\"\",'Aussie Round'!X10))","v":""},{"$f":"IF(COUNTBLANK(Registration!$B9)=1, \"\",Accuracy!L9)","v":""},{"$f":"IF(COUNTBLANK(Registration!$B9)=1, \"\",IF(COUNTBLANK(H10)=1,\"\",Accuracy!N9))","v":""},{"$f":"IF(COUNTBLANK(Registration!$B9)=1, \"\",MTA!G9)","v":""},{"$f":"IF(COUNTBLANK(Registration!$B9)=1, \"\",IF(COUNTBLANK(J10)=1,\"\",MTA!I9))","v":""},{"$f":"IF(COUNTBLANK(Registration!$B9)=1, \"\",'Trick Catch'!X10)","v":""},{"$f":"IF(COUNTBLANK(Registration!$B9)=1, \"\",IF(COUNTBLANK(L10)=1,\"\",'Trick Catch'!Z10))","v":""},{"$f":"IF(COUNTBLANK(Registration!$B9)=1, \"\",'Fast Catch'!F9)","v":""},{"$f":"IF(COUNTBLANK(Registration!$B9)=1, \"\",IF(COUNTBLANK(N10)=1,\"\",'Fast Catch'!H9))","v":""},{"$f":"IF(COUNTBLANK(Registration!$B9)=1, \"\",Endurance!C9)","v":""},{"$f":"IF(COUNTBLANK(Registration!$B9)=1, \"\",IF(COUNTBLANK(P10)=1,\"\",Endurance!E9))","v":""}]
[{"$f":"IF(COUNTBLANK(Registration!$B10)=1, \"\",RANK(B11,$B$3:$B$101,1))","v":""},{"$f":"IF(COUNTBLANK(Registration!$B10)=1, \"\",SUM(Q11,O11,I11,M11,K11,G11))","v":""},{"$f":"IF(COUNTBLANK(Registration!B10)=1,\"\",Registration!B10)","v":""},{"$f":"IF(COUNTBLANK(Registration!B10)=1,\"\",Registration!A10)","v":""},{"$f":"IF(COUNTBLANK(C11)=1,\"\",Registration!E10)","v":""},{"$f":"IF(COUNTBLANK(Registration!B10)=1, \"\",'Aussie Round'!V11)","v":""},{"$f":"IF(COUNTBLANK(Registration!$B10)=1, \"\",IF(COUNTBLANK(F11)=1,\"\",'Aussie Round'!X11))","v":""},{"$f":"IF(COUNTBLANK(Registration!$B10)=1, \"\",Accuracy!L10)","v":""},{"$f":"IF(COUNTBLANK(Registration!$B10)=1, \"\",IF(COUNTBLANK(H11)=1,\"\",Accuracy!N10))","v":""},{"$f":"IF(COUNTBLANK(Registration!$B10)=1, \"\",MTA!G10)","v":""},{"$f":"IF(COUNTBLANK(Registration!$B10)=1, \"\",IF(COUNTBLANK(J11)=1,\"\",MTA!I10))","v":""},{"$f":"IF(COUNTBLANK(Registration!$B10)=1, \"\",'Trick Catch'!X11)","v":""},{"$f":"IF(COUNTBLANK(Registration!$B10)=1, \"\",IF(COUNTBLANK(L11)=1,\"\",'Trick Catch'!Z11))","v":""},{"$f":"IF(COUNTBLANK(Registration!$B10)=1, \"\",'Fast Catch'!F10)","v":""},{"$f":"IF(COUNTBLANK(Registration!$B10)=1, \"\",IF(COUNTBLANK(N11)=1,\"\",'Fast Catch'!H10))","v":""},{"$f":"IF(COUNTBLANK(Registration!$B10)=1, \"\",Endurance!C10)","v":""},{"$f":"IF(COUNTBLANK(Registration!$B10)=1, \"\",IF(COUNTBLANK(P11)=1,\"\",Endurance!E10))","v":""}]
[{"$f":"IF(COUNTBLANK(Registration!$B11)=1, \"\",RANK(B12,$B$3:$B$101,1))","v":""},{"$f":"IF(COUNTBLANK(Registration!$B11)=1, \"\",SUM(Q12,O12,I12,M12,K12,G12))","v":""},{"$f":"IF(COUNTBLANK(Registration!B11)=1,\"\",Registration!B11)","v":""},{"$f":"IF(COUNTBLANK(Registration!B11)=1,\"\",Registration!A11)","v":""},{"$f":"IF(COUNTBLANK(C12)=1,\"\",Registration!E11)","v":""},{"$f":"IF(COUNTBLANK(Registration!B11)=1, \"\",'Aussie Round'!V12)","v":""},{"$f":"IF(COUNTBLANK(Registration!$B11)=1, \"\",IF(COUNTBLANK(F12)=1,\"\",'Aussie Round'!X12))","v":""},{"$f":"IF(COUNTBLANK(Registration!$B11)=1, \"\",Accuracy!L11)","v":""},{"$f":"IF(COUNTBLANK(Registration!$B11)=1, \"\",IF(COUNTBLANK(H12)=1,\"\",Accuracy!N11))","v":""},{"$f":"IF(COUNTBLANK(Registration!$B11)=1, \"\",MTA!G11)","v":""},{"$f":"IF(COUNTBLANK(Registration!$B11)=1, \"\",IF(COUNTBLANK(J12)=1,\"\",MTA!I11))","v":""},{"$f":"IF(COUNTBLANK(Registration!$B11)=1, \"\",'Trick Catch'!X12)","v":""},{"$f":"IF(COUNTBLANK(Registration!$B11)=1, \"\",IF(COUNTBLANK(L12)=1,\"\",'Trick Catch'!Z12))","v":""},{"$f":"IF(COUNTBLANK(Registration!$B11)=1, \"\",'Fast Catch'!F11)","v":""},{"$f":"IF(COUNTBLANK(Registration!$B11)=1, \"\",IF(COUNTBLANK(N12)=1,\"\",'Fast Catch'!H11))","v":""},{"$f":"IF(COUNTBLANK(Registration!$B11)=1, \"\",Endurance!C11)","v":""},{"$f":"IF(COUNTBLANK(Registration!$B11)=1, \"\",IF(COUNTBLANK(P12)=1,\"\",Endurance!E11))","v":""}]
[{"$f":"IF(COUNTBLANK(Registration!$B12)=1, \"\",RANK(B13,$B$3:$B$101,1))","v":""},{"$f":"IF(COUNTBLANK(Registration!$B12)=1, \"\",SUM(Q13,O13,I13,M13,K13,G13))","v":""},{"$f":"IF(COUNTBLANK(Registration!B12)=1,\"\",Registration!B12)","v":""},{"$f":"IF(COUNTBLANK(Registration!B12)=1,\"\",Registration!A12)","v":""},{"$f":"IF(COUNTBLANK(C13)=1,\"\",Registration!E12)","v":""},{"$f":"IF(COUNTBLANK(Registration!B12)=1, \"\",'Aussie Round'!V13)","v":""},{"$f":"IF(COUNTBLANK(Registration!$B12)=1, \"\",IF(COUNTBLANK(F13)=1,\"\",'Aussie Round'!X13))","v":""},{"$f":"IF(COUNTBLANK(Registration!$B12)=1, \"\",Accuracy!L12)","v":""},{"$f":"IF(COUNTBLANK(Registration!$B12)=1, \"\",IF(COUNTBLANK(H13)=1,\"\",Accuracy!N12))","v":""},{"$f":"IF(COUNTBLANK(Registration!$B12)=1, \"\",MTA!G12)","v":""},{"$f":"IF(COUNTBLANK(Registration!$B12)=1, \"\",IF(COUNTBLANK(J13)=1,\"\",MTA!I12))","v":""},{"$f":"IF(COUNTBLANK(Registration!$B12)=1, \"\",'Trick Catch'!X13)","v":""},{"$f":"IF(COUNTBLANK(Registration!$B12)=1, \"\",IF(COUNTBLANK(L13)=1,\"\",'Trick Catch'!Z13))","v":""},{"$f":"IF(COUNTBLANK(Registration!$B12)=1, \"\",'Fast Catch'!F12)","v":""},{"$f":"IF(COUNTBLANK(Registration!$B12)=1, \"\",IF(COUNTBLANK(N13)=1,\"\",'Fast Catch'!H12))","v":""},{"$f":"IF(COUNTBLANK(Registration!$B12)=1, \"\",Endurance!C12)","v":""},{"$f":"IF(COUNTBLANK(Registration!$B12)=1, \"\",IF(COUNTBLANK(P13)=1,\"\",Endurance!E12))","v":""}]
[{"$f":"IF(COUNTBLANK(Registration!$B13)=1, \"\",RANK(B14,$B$3:$B$101,1))","v":""},{"$f":"IF(COUNTBLANK(Registration!$B13)=1, \"\",SUM(Q14,O14,I14,M14,K14,G14))","v":""},{"$f":"IF(COUNTBLANK(Registration!B13)=1,\"\",Registration!B13)","v":""},{"$f":"IF(COUNTBLANK(Registration!B13)=1,\"\",Registration!A13)","v":""},{"$f":"IF(COUNTBLANK(C14)=1,\"\",Registration!E13)","v":""},{"$f":"IF(COUNTBLANK(Registration!B13)=1, \"\",'Aussie Round'!V14)","v":""},{"$f":"IF(COUNTBLANK(Registration!$B13)=1, \"\",IF(COUNTBLANK(F14)=1,\"\",'Aussie Round'!X14))","v":""},{"$f":"IF(COUNTBLANK(Registration!$B13)=1, \"\",Accuracy!L13)","v":""},{"$f":"IF(COUNTBLANK(Registration!$B13)=1, \"\",IF(COUNTBLANK(H14)=1,\"\",Accuracy!N13))","v":""},{"$f":"IF(COUNTBLANK(Registration!$B13)=1, \"\",MTA!G13)","v":""},{"$f":"IF(COUNTBLANK(Registration!$B13)=1, \"\",IF(COUNTBLANK(J14)=1,\"\",MTA!I13))","v":""},{"$f":"IF(COUNTBLANK(Registration!$B13)=1, \"\",'Trick Catch'!X14)","v":""},{"$f":"IF(COUNTBLANK(Registration!$B13)=1, \"\",IF(COUNTBLANK(L14)=1,\"\",'Trick Catch'!Z14))","v":""},{"$f":"IF(COUNTBLANK(Registration!$B13)=1, \"\",'Fast Catch'!F13)","v":""},{"$f":"IF(COUNTBLANK(Registration!$B13)=1, \"\",IF(COUNTBLANK(N14)=1,\"\",'Fast Catch'!H13))","v":""},{"$f":"IF(COUNTBLANK(Registration!$B13)=1, \"\",Endurance!C13)","v":""},{"$f":"IF(COUNTBLANK(Registration!$B13)=1, \"\",IF(COUNTBLANK(P14)=1,\"\",Endurance!E13))","v":""}]
[{"$f":"IF(COUNTBLANK(Registration!$B14)=1, \"\",RANK(B15,$B$3:$B$101,1))","v":""},{"$f":"IF(COUNTBLANK(Registration!$B14)=1, \"\",SUM(Q15,O15,I15,M15,K15,G15))","v":""},{"$f":"IF(COUNTBLANK(Registration!B14)=1,\"\",Registration!B14)","v":""},{"$f":"IF(COUNTBLANK(Registration!B14)=1,\"\",Registration!A14)","v":""},{"$f":"IF(COUNTBLANK(C15)=1,\"\",Registration!E14)","v":""},{"$f":"IF(COUNTBLANK(Registration!B14)=1, \"\",'Aussie Round'!V15)","v":""},{"$f":"IF(COUNTBLANK(Registration!$B14)=1, \"\",IF(COUNTBLANK(F15)=1,\"\",'Aussie Round'!X15))","v":""},{"$f":"IF(COUNTBLANK(Registration!$B14)=1, \"\",Accuracy!L14)","v":""},{"$f":"IF(COUNTBLANK(Registration!$B14)=1, \"\",IF(COUNTBLANK(H15)=1,\"\",Accuracy!N14))","v":""},{"$f":"IF(COUNTBLANK(Registration!$B14)=1, \"\",MTA!G14)","v":""},{"$f":"IF(COUNTBLANK(Registration!$B14)=1, \"\",IF(COUNTBLANK(J15)=1,\"\",MTA!I14))","v":""},{"$f":"IF(COUNTBLANK(Registration!$B14)=1, \"\",'Trick Catch'!X15)","v":""},{"$f":"IF(COUNTBLANK(Registration!$B14)=1, \"\",IF(COUNTBLANK(L15)=1,\"\",'Trick Catch'!Z15))","v":""},{"$f":"IF(COUNTBLANK(Registration!$B14)=1, \"\",'Fast Catch'!F14)","v":""},{"$f":"IF(COUNTBLANK(Registration!$B14)=1, \"\",IF(COUNTBLANK(N15)=1,\"\",'Fast Catch'!H14))","v":""},{"$f":"IF(COUNTBLANK(Registration!$B14)=1, \"\",Endurance!C14)","v":""},{"$f":"IF(COUNTBLANK(Registration!$B14)=1, \"\",IF(COUNTBLANK(P15)=1,\"\",Endurance!E14))","v":""}]
[{"$f":"IF(COUNTBLANK(Registration!$B15)=1, \"\",RANK(B16,$B$3:$B$101,1))","v":""},{"$f":"IF(COUNTBLANK(Registration!$B15)=1, \"\",SUM(Q16,O16,I16,M16,K16,G16))","v":""},{"$f":"IF(COUNTBLANK(Registration!B15)=1,\"\",Registration!B15)","v":""},{"$f":"IF(COUNTBLANK(Registration!B15)=1,\"\",Registration!A15)","v":""},{"$f":"IF(COUNTBLANK(C16)=1,\"\",Registration!E15)","v":""},{"$f":"IF(COUNTBLANK(Registration!B15)=1, \"\",'Aussie Round'!V16)","v":""},{"$f":"IF(COUNTBLANK(Registration!$B15)=1, \"\",IF(COUNTBLANK(F16)=1,\"\",'Aussie Round'!X16))","v":""},{"$f":"IF(COUNTBLANK(Registration!$B15)=1, \"\",Accuracy!L15)","v":""},{"$f":"IF(COUNTBLANK(Registration!$B15)=1, \"\",IF(COUNTBLANK(H16)=1,\"\",Accuracy!N15))","v":""},{"$f":"IF(COUNTBLANK(Registration!$B15)=1, \"\",MTA!G15)","v":""},{"$f":"IF(COUNTBLANK(Registration!$B15)=1, \"\",IF(COUNTBLANK(J16)=1,\"\",MTA!I15))","v":""},{"$f":"IF(COUNTBLANK(Registration!$B15)=1, \"\",'Trick Catch'!X16)","v":""},{"$f":"IF(COUNTBLANK(Registration!$B15)=1, \"\",IF(COUNTBLANK(L16)=1,\"\",'Trick Catch'!Z16))","v":""},{"$f":"IF(COUNTBLANK(Registration!$B15)=1, \"\",'Fast Catch'!F15)","v":""},{"$f":"IF(COUNTBLANK(Registration!$B15)=1, \"\",IF(COUNTBLANK(N16)=1,\"\",'Fast Catch'!H15))","v":""},{"$f":"IF(COUNTBLANK(Registration!$B15)=1, \"\",Endurance!C15)","v":""},{"$f":"IF(COUNTBLANK(Registration!$B15)=1, \"\",IF(COUNTBLANK(P16)=1,\"\",Endurance!E15))","v":""}]
[{"$f":"IF(COUNTBLANK(Registration!$B16)=1, \"\",RANK(B17,$B$3:$B$101,1))","v":""},{"$f":"IF(COUNTBLANK(Registration!$B16)=1, \"\",SUM(Q17,O17,I17,M17,K17,G17))","v":""},{"$f":"IF(COUNTBLANK(Registration!B16)=1,\"\",Registration!B16)","v":""},{"$f":"IF(COUNTBLANK(Registration!B16)=1,\"\",Registration!A16)","v":""},{"$f":"IF(COUNTBLANK(C17)=1,\"\",Registration!E16)","v":""},{"$f":"IF(COUNTBLANK(Registration!B16)=1, \"\",'Aussie Round'!V17)","v":""},{"$f":"IF(COUNTBLANK(Registration!$B16)=1, \"\",IF(COUNTBLANK(F17)=1,\"\",'Aussie Round'!X17))","v":""},{"$f":"IF(COUNTBLANK(Registration!$B16)=1, \"\",Accuracy!L16)","v":""},{"$f":"IF(COUNTBLANK(Registration!$B16)=1, \"\",IF(COUNTBLANK(H17)=1,\"\",Accuracy!N16))","v":""},{"$f":"IF(COUNTBLANK(Registration!$B16)=1, \"\",MTA!G16)","v":""},{"$f":"IF(COUNTBLANK(Registration!$B16)=1, \"\",IF(COUNTBLANK(J17)=1,\"\",MTA!I16))","v":""},{"$f":"IF(COUNTBLANK(Registration!$B16)=1, \"\",'Trick Catch'!X17)","v":""},{"$f":"IF(COUNTBLANK(Registration!$B16)=1, \"\",IF(COUNTBLANK(L17)=1,\"\",'Trick Catch'!Z17))","v":""},{"$f":"IF(COUNTBLANK(Registration!$B16)=1, \"\",'Fast Catch'!F16)","v":""},{"$f":"IF(COUNTBLANK(Registration!$B16)=1, \"\",IF(COUNTBLANK(N17)=1,\"\",'Fast Catch'!H16))","v":""},{"$f":"IF(COUNTBLANK(Registration!$B16)=1, \"\",Endurance!C16)","v":""},{"$f":"IF(COUNTBLANK(Registration!$B16)=1, \"\",IF(COUNTBLANK(P17)=1,\"\",Endurance!E16))","v":""}]
[{"$f":"IF(COUNTBLANK(Registration!$B17)=1, \"\",RANK(B18,$B$3:$B$101,1))","v":""},{"$f":"IF(COUNTBLANK(Registration!$B17)=1, \"\",SUM(Q18,O18,I18,M18,K18,G18))","v":""},{"$f":"IF(COUNTBLANK(Registration!B17)=1,\"\",Registration!B17)","v":""},{"$f":"IF(COUNTBLANK(Registration!B17)=1,\"\",Registration!A17)","v":""},{"$f":"IF(COUNTBLANK(C18)=1,\"\",Registration!E17)","v":""},{"$f":"IF(COUNTBLANK(Registration!B17)=1, \"\",'Aussie Round'!V18)","v":""},{"$f":"IF(COUNTBLANK(Registration!$B17)=1, \"\",IF(COUNTBLANK(F18)=1,\"\",'Aussie Round'!X18))","v":""},{"$f":"IF(COUNTBLANK(Registration!$B17)=1, \"\",Accuracy!L17)","v":""},{"$f":"IF(COUNTBLANK(Registration!$B17)=1, \"\",IF(COUNTBLANK(H18)=1,\"\",Accuracy!N17))","v":""},{"$f":"IF(COUNTBLANK(Registration!$B17)=1, \"\",MTA!G17)","v":""},{"$f":"IF(COUNTBLANK(Registration!$B17)=1, \"\",IF(COUNTBLANK(J18)=1,\"\",MTA!I17))","v":""},{"$f":"IF(COUNTBLANK(Registration!$B17)=1, \"\",'Trick Catch'!X18)","v":""},{"$f":"IF(COUNTBLANK(Registration!$B17)=1, \"\",IF(COUNTBLANK(L18)=1,\"\",'Trick Catch'!Z18))","v":""},{"$f":"IF(COUNTBLANK(Registration!$B17)=1, \"\",'Fast Catch'!F17)","v":""},{"$f":"IF(COUNTBLANK(Registration!$B17)=1, \"\",IF(COUNTBLANK(N18)=1,\"\",'Fast Catch'!H17))","v":""},{"$f":"IF(COUNTBLANK(Registration!$B17)=1, \"\",Endurance!C17)","v":""},{"$f":"IF(COUNTBLANK(Registration!$B17)=1, \"\",IF(COUNTBLANK(P18)=1,\"\",Endurance!E17))","v":""}]
[{"$f":"IF(COUNTBLANK(Registration!$B18)=1, \"\",RANK(B19,$B$3:$B$101,1))","v":""},{"$f":"IF(COUNTBLANK(Registration!$B18)=1, \"\",SUM(Q19,O19,I19,M19,K19,G19))","v":""},{"$f":"IF(COUNTBLANK(Registration!B18)=1,\"\",Registration!B18)","v":""},{"$f":"IF(COUNTBLANK(Registration!B18)=1,\"\",Registration!A18)","v":""},{"$f":"IF(COUNTBLANK(C19)=1,\"\",Registration!E18)","v":""},{"$f":"IF(COUNTBLANK(Registration!B18)=1, \"\",'Aussie Round'!V19)","v":""},{"$f":"IF(COUNTBLANK(Registration!$B18)=1, \"\",IF(COUNTBLANK(F19)=1,\"\",'Aussie Round'!X19))","v":""},{"$f":"IF(COUNTBLANK(Registration!$B18)=1, \"\",Accuracy!L18)","v":""},{"$f":"IF(COUNTBLANK(Registration!$B18)=1, \"\",IF(COUNTBLANK(H19)=1,\"\",Accuracy!N18))","v":""},{"$f":"IF(COUNTBLANK(Registration!$B18)=1, \"\",MTA!G18)","v":""},{"$f":"IF(COUNTBLANK(Registration!$B18)=1, \"\",IF(COUNTBLANK(J19)=1,\"\",MTA!I18))","v":""},{"$f":"IF(COUNTBLANK(Registration!$B18)=1, \"\",'Trick Catch'!X19)","v":""},{"$f":"IF(COUNTBLANK(Registration!$B18)=1, \"\",IF(COUNTBLANK(L19)=1,\"\",'Trick Catch'!Z19))","v":""},{"$f":"IF(COUNTBLANK(Registration!$B18)=1, \"\",'Fast Catch'!F18)","v":""},{"$f":"IF(COUNTBLANK(Registration!$B18)=1, \"\",IF(COUNTBLANK(N19)=1,\"\",'Fast Catch'!H18))","v":""},{"$f":"IF(COUNTBLANK(Registration!$B18)=1, \"\",Endurance!C18)","v":""},{"$f":"IF(COUNTBLANK(Registration!$B18)=1, \"\",IF(COUNTBLANK(P19)=1,\"\",Endurance!E18))","v":""}]
[{"$f":"IF(COUNTBLANK(Registration!$B19)=1, \"\",RANK(B20,$B$3:$B$101,1))","v":""},{"$f":"IF(COUNTBLANK(Registration!$B19)=1, \"\",SUM(Q20,O20,I20,M20,K20,G20))","v":""},{"$f":"IF(COUNTBLANK(Registration!B19)=1,\"\",Registration!B19)","v":""},{"$f":"IF(COUNTBLANK(Registration!B19)=1,\"\",Registration!A19)","v":""},{"$f":"IF(COUNTBLANK(C20)=1,\"\",Registration!E19)","v":""},{"$f":"IF(COUNTBLANK(Registration!B19)=1, \"\",'Aussie Round'!V20)","v":""},{"$f":"IF(COUNTBLANK(Registration!$B19)=1, \"\",IF(COUNTBLANK(F20)=1,\"\",'Aussie Round'!X20))","v":""},{"$f":"IF(COUNTBLANK(Registration!$B19)=1, \"\",Accuracy!L19)","v":""},{"$f":"IF(COUNTBLANK(Registration!$B19)=1, \"\",IF(COUNTBLANK(H20)=1,\"\",Accuracy!N19))","v":""},{"$f":"IF(COUNTBLANK(Registration!$B19)=1, \"\",MTA!G19)","v":""},{"$f":"IF(COUNTBLANK(Registration!$B19)=1, \"\",IF(COUNTBLANK(J20)=1,\"\",MTA!I19))","v":""},{"$f":"IF(COUNTBLANK(Registration!$B19)=1, \"\",'Trick Catch'!X20)","v":""},{"$f":"IF(COUNTBLANK(Registration!$B19)=1, \"\",IF(COUNTBLANK(L20)=1,\"\",'Trick Catch'!Z20))","v":""},{"$f":"IF(COUNTBLANK(Registration!$B19)=1, \"\",'Fast Catch'!F19)","v":""},{"$f":"IF(COUNTBLANK(Registration!$B19)=1, \"\",IF(COUNTBLANK(N20)=1,\"\",'Fast Catch'!H19))","v":""},{"$f":"IF(COUNTBLANK(Registration!$B19)=1, \"\",Endurance!C19)","v":""},{"$f":"IF(COUNTBLANK(Registration!$B19)=1, \"\",IF(COUNTBLANK(P20)=1,\"\",Endurance!E19))","v":""}]
[{"$f":"IF(COUNTBLANK(Registration!$B20)=1, \"\",RANK(B21,$B$3:$B$101,1))","v":""},{"$f":"IF(COUNTBLANK(Registration!$B20)=1, \"\",SUM(Q21,O21,I21,M21,K21,G21))","v":""},{"$f":"IF(COUNTBLANK(Registration!B20)=1,\"\",Registration!B20)","v":""},{"$f":"IF(COUNTBLANK(Registration!B20)=1,\"\",Registration!A20)","v":""},{"$f":"IF(COUNTBLANK(C21)=1,\"\",Registration!E20)","v":""},{"$f":"IF(COUNTBLANK(Registration!B20)=1, \"\",'Aussie Round'!V21)","v":""},{"$f":"IF(COUNTBLANK(Registration!$B20)=1, \"\",IF(COUNTBLANK(F21)=1,\"\",'Aussie Round'!X21))","v":""},{"$f":"IF(COUNTBLANK(Registration!$B20)=1, \"\",Accuracy!L20)","v":""},{"$f":"IF(COUNTBLANK(Registration!$B20)=1, \"\",IF(COUNTBLANK(H21)=1,\"\",Accuracy!N20))","v":""},{"$f":"IF(COUNTBLANK(Registration!$B20)=1, \"\",MTA!G20)","v":""},{"$f":"IF(COUNTBLANK(Registration!$B20)=1, \"\",IF(COUNTBLANK(J21)=1,\"\",MTA!I20))","v":""},{"$f":"IF(COUNTBLANK(Registration!$B20)=1, \"\",'Trick Catch'!X21)","v":""},{"$f":"IF(COUNTBLANK(Registration!$B20)=1, \"\",IF(COUNTBLANK(L21)=1,\"\",'Trick Catch'!Z21))","v":""},{"$f":"IF(COUNTBLANK(Registration!$B20)=1, \"\",'Fast Catch'!F20)","v":""},{"$f":"IF(COUNTBLANK(Registration!$B20)=1, \"\",IF(COUNTBLANK(N21)=1,\"\",'Fast Catch'!H20))","v":""},{"$f":"IF(COUNTBLANK(Registration!$B20)=1, \"\",Endurance!C20)","v":""},{"$f":"IF(COUNTBLANK(Registration!$B20)=1, \"\",IF(COUNTBLANK(P21)=1,\"\",Endurance!E20))","v":""}]
[{"$f":"IF(COUNTBLANK(Registration!$B21)=1, \"\",RANK(B22,$B$3:$B$101,1))","v":""},{"$f":"IF(COUNTBLANK(Registration!$B21)=1, \"\",SUM(Q22,O22,I22,M22,K22,G22))","v":""},{"$f":"IF(COUNTBLANK(Registration!B21)=1,\"\",Registration!B21)","v":""},{"$f":"IF(COUNTBLANK(Registration!B21)=1,\"\",Registration!A21)","v":""},{"$f":"IF(COUNTBLANK(C22)=1,\"\",Registration!E21)","v":""},{"$f":"IF(COUNTBLANK(Registration!B21)=1, \"\",'Aussie Round'!V22)","v":""},{"$f":"IF(COUNTBLANK(Registration!$B21)=1, \"\",IF(COUNTBLANK(F22)=1,\"\",'Aussie Round'!X22))","v":""},{"$f":"IF(COUNTBLANK(Registration!$B21)=1, \"\",Accuracy!L21)","v":""},{"$f":"IF(COUNTBLANK(Registration!$B21)=1, \"\",IF(COUNTBLANK(H22)=1,\"\",Accuracy!N21))","v":""},{"$f":"IF(COUNTBLANK(Registration!$B21)=1, \"\",MTA!G21)","v":""},{"$f":"IF(COUNTBLANK(Registration!$B21)=1, \"\",IF(COUNTBLANK(J22)=1,\"\",MTA!I21))","v":""},{"$f":"IF(COUNTBLANK(Registration!$B21)=1, \"\",'Trick Catch'!X22)","v":""},{"$f":"IF(COUNTBLANK(Registration!$B21)=1, \"\",IF(COUNTBLANK(L22)=1,\"\",'Trick Catch'!Z22))","v":""},{"$f":"IF(COUNTBLANK(Registration!$B21)=1, \"\",'Fast Catch'!F21)","v":""},{"$f":"IF(COUNTBLANK(Registration!$B21)=1, \"\",IF(COUNTBLANK(N22)=1,\"\",'Fast Catch'!H21))","v":""},{"$f":"IF(COUNTBLANK(Registration!$B21)=1, \"\",Endurance!C21)","v":""},{"$f":"IF(COUNTBLANK(Registration!$B21)=1, \"\",IF(COUNTBLANK(P22)=1,\"\",Endurance!E21))","v":""}]
[{"$f":"IF(COUNTBLANK(Registration!$B22)=1, \"\",RANK(B23,$B$3:$B$101,1))","v":""},{"$f":"IF(COUNTBLANK(Registration!$B22)=1, \"\",SUM(Q23,O23,I23,M23,K23,G23))","v":""},{"$f":"IF(COUNTBLANK(Registration!B22)=1,\"\",Registration!B22)","v":""},{"$f":"IF(COUNTBLANK(Registration!B22)=1,\"\",Registration!A22)","v":""},{"$f":"IF(COUNTBLANK(C23)=1,\"\",Registration!E22)","v":""},{"$f":"IF(COUNTBLANK(Registration!B22)=1, \"\",'Aussie Round'!V23)","v":""},{"$f":"IF(COUNTBLANK(Registration!$B22)=1, \"\",IF(COUNTBLANK(F23)=1,\"\",'Aussie Round'!X23))","v":""},{"$f":"IF(COUNTBLANK(Registration!$B22)=1, \"\",Accuracy!L22)","v":""},{"$f":"IF(COUNTBLANK(Registration!$B22)=1, \"\",IF(COUNTBLANK(H23)=1,\"\",Accuracy!N22))","v":""},{"$f":"IF(COUNTBLANK(Registration!$B22)=1, \"\",MTA!G22)","v":""},{"$f":"IF(COUNTBLANK(Registration!$B22)=1, \"\",IF(COUNTBLANK(J23)=1,\"\",MTA!I22))","v":""},{"$f":"IF(COUNTBLANK(Registration!$B22)=1, \"\",'Trick Catch'!X23)","v":""},{"$f":"IF(COUNTBLANK(Registration!$B22)=1, \"\",IF(COUNTBLANK(L23)=1,\"\",'Trick Catch'!Z23))","v":""},{"$f":"IF(COUNTBLANK(Registration!$B22)=1, \"\",'Fast Catch'!F22)","v":""},{"$f":"IF(COUNTBLANK(Registration!$B22)=1, \"\",IF(COUNTBLANK(N23)=1,\"\",'Fast Catch'!H22))","v":""},{"$f":"IF(COUNTBLANK(Registration!$B22)=1, \"\",Endurance!C22)","v":""},{"$f":"IF(COUNTBLANK(Registration!$B22)=1, \"\",IF(COUNTBLANK(P23)=1,\"\",Endurance!E22))","v":""}]
[{"$f":"IF(COUNTBLANK(Registration!$B23)=1, \"\",RANK(B24,$B$3:$B$101,1))","v":""},{"$f":"IF(COUNTBLANK(Registration!$B23)=1, \"\",SUM(Q24,O24,I24,M24,K24,G24))","v":""},{"$f":"IF(COUNTBLANK(Registration!B23)=1,\"\",Registration!B23)","v":""},{"$f":"IF(COUNTBLANK(Registration!B23)=1,\"\",Registration!A23)","v":""},{"$f":"IF(COUNTBLANK(C24)=1,\"\",Registration!E23)","v":""},{"$f":"IF(COUNTBLANK(Registration!B23)=1, \"\",'Aussie Round'!V24)","v":""},{"$f":"IF(COUNTBLANK(Registration!$B23)=1, \"\",IF(COUNTBLANK(F24)=1,\"\",'Aussie Round'!X24))","v":""},{"$f":"IF(COUNTBLANK(Registration!$B23)=1, \"\",Accuracy!L23)","v":""},{"$f":"IF(COUNTBLANK(Registration!$B23)=1, \"\",IF(COUNTBLANK(H24)=1,\"\",Accuracy!N23))","v":""},{"$f":"IF(COUNTBLANK(Registration!$B23)=1, \"\",MTA!G23)","v":""},{"$f":"IF(COUNTBLANK(Registration!$B23)=1, \"\",IF(COUNTBLANK(J24)=1,\"\",MTA!I23))","v":""},{"$f":"IF(COUNTBLANK(Registration!$B23)=1, \"\",'Trick Catch'!X24)","v":""},{"$f":"IF(COUNTBLANK(Registration!$B23)=1, \"\",IF(COUNTBLANK(L24)=1,\"\",'Trick Catch'!Z24))","v":""},{"$f":"IF(COUNTBLANK(Registration!$B23)=1, \"\",'Fast Catch'!F23)","v":""},{"$f":"IF(COUNTBLANK(Registration!$B23)=1, \"\",IF(COUNTBLANK(N24)=1,\"\",'Fast Catch'!H23))","v":""},{"$f":"IF(COUNTBLANK(Registration!$B23)=1, \"\",Endurance!C23)","v":""},{"$f":"IF(COUNTBLANK(Registration!$B23)=1, \"\",IF(COUNTBLANK(P24)=1,\"\",Endurance!E23))","v":""}]
[{"$f":"IF(COUNTBLANK(Registration!$B24)=1, \"\",RANK(B25,$B$3:$B$101,1))","v":""},{"$f":"IF(COUNTBLANK(Registration!$B24)=1, \"\",SUM(Q25,O25,I25,M25,K25,G25))","v":""},{"$f":"IF(COUNTBLANK(Registration!B24)=1,\"\",Registration!B24)","v":""},{"$f":"IF(COUNTBLANK(Registration!B24)=1,\"\",Registration!A24)","v":""},{"$f":"IF(COUNTBLANK(C25)=1,\"\",Registration!E24)","v":""},{"$f":"IF(COUNTBLANK(Registration!B24)=1, \"\",'Aussie Round'!V25)","v":""},{"$f":"IF(COUNTBLANK(Registration!$B24)=1, \"\",IF(COUNTBLANK(F25)=1,\"\",'Aussie Round'!X25))","v":""},{"$f":"IF(COUNTBLANK(Registration!$B24)=1, \"\",Accuracy!L24)","v":""},{"$f":"IF(COUNTBLANK(Registration!$B24)=1, \"\",IF(COUNTBLANK(H25)=1,\"\",Accuracy!N24))","v":""},{"$f":"IF(COUNTBLANK(Registration!$B24)=1, \"\",MTA!G24)","v":""},{"$f":"IF(COUNTBLANK(Registration!$B24)=1, \"\",IF(COUNTBLANK(J25)=1,\"\",MTA!I24))","v":""},{"$f":"IF(COUNTBLANK(Registration!$B24)=1, \"\",'Trick Catch'!X25)","v":""},{"$f":"IF(COUNTBLANK(Registration!$B24)=1, \"\",IF(COUNTBLANK(L25)=1,\"\",'Trick Catch'!Z25))","v":""},{"$f":"IF(COUNTBLANK(Registration!$B24)=1, \"\",'Fast Catch'!F24)","v":""},{"$f":"IF(COUNTBLANK(Registration!$B24)=1, \"\",IF(COUNTBLANK(N25)=1,\"\",'Fast Catch'!H24))","v":""},{"$f":"IF(COUNTBLANK(Registration!$B24)=1, \"\",Endurance!C24)","v":""},{"$f":"IF(COUNTBLANK(Registration!$B24)=1, \"\",IF(COUNTBLANK(P25)=1,\"\",Endurance!E24))","v":""}]
[{"$f":"IF(COUNTBLANK(Registration!$B25)=1, \"\",RANK(B26,$B$3:$B$101,1))","v":""},{"$f":"IF(COUNTBLANK(Registration!$B25)=1, \"\",SUM(Q26,O26,I26,M26,K26,G26))","v":""},{"$f":"IF(COUNTBLANK(Registration!B25)=1,\"\",Registration!B25)","v":""},{"$f":"IF(COUNTBLANK(Registration!B25)=1,\"\",Registration!A25)","v":""},{"$f":"IF(COUNTBLANK(C26)=1,\"\",Registration!E25)","v":""},{"$f":"IF(COUNTBLANK(Registration!B25)=1, \"\",'Aussie Round'!V26)","v":""},{"$f":"IF(COUNTBLANK(Registration!$B25)=1, \"\",IF(COUNTBLANK(F26)=1,\"\",'Aussie Round'!X26))","v":""},{"$f":"IF(COUNTBLANK(Registration!$B25)=1, \"\",Accuracy!L25)","v":""},{"$f":"IF(COUNTBLANK(Registration!$B25)=1, \"\",IF(COUNTBLANK(H26)=1,\"\",Accuracy!N25))","v":""},{"$f":"IF(COUNTBLANK(Registration!$B25)=1, \"\",MTA!G25)","v":""},{"$f":"IF(COUNTBLANK(Registration!$B25)=1, \"\",IF(COUNTBLANK(J26)=1,\"\",MTA!I25))","v":""},{"$f":"IF(COUNTBLANK(Registration!$B25)=1, \"\",'Trick Catch'!X26)","v":""},{"$f":"IF(COUNTBLANK(Registration!$B25)=1, \"\",IF(COUNTBLANK(L26)=1,\"\",'Trick Catch'!Z26))","v":""},{"$f":"IF(COUNTBLANK(Registration!$B25)=1, \"\",'Fast Catch'!F25)","v":""},{"$f":"IF(COUNTBLANK(Registration!$B25)=1, \"\",IF(COUNTBLANK(N26)=1,\"\",'Fast Catch'!H25))","v":""},{"$f":"IF(COUNTBLANK(Registration!$B25)=1, \"\",Endurance!C25)","v":""},{"$f":"IF(COUNTBLANK(Registration!$B25)=1, \"\",IF(COUNTBLANK(P26)=1,\"\",Endurance!E25))","v":""}]
[{"$f":"IF(COUNTBLANK(Registration!$B26)=1, \"\",RANK(B27,$B$3:$B$101,1))","v":""},{"$f":"IF(COUNTBLANK(Registration!$B26)=1, \"\",SUM(Q27,O27,I27,M27,K27,G27))","v":""},{"$f":"IF(COUNTBLANK(Registration!B26)=1,\"\",Registration!B26)","v":""},{"$f":"IF(COUNTBLANK(Registration!B26)=1,\"\",Registration!A26)","v":""},{"$f":"IF(COUNTBLANK(C27)=1,\"\",Registration!E26)","v":""},{"$f":"IF(COUNTBLANK(Registration!B26)=1, \"\",'Aussie Round'!V27)","v":""},{"$f":"IF(COUNTBLANK(Registration!$B26)=1, \"\",IF(COUNTBLANK(F27)=1,\"\",'Aussie Round'!X27))","v":""},{"$f":"IF(COUNTBLANK(Registration!$B26)=1, \"\",Accuracy!L26)","v":""},{"$f":"IF(COUNTBLANK(Registration!$B26)=1, \"\",IF(COUNTBLANK(H27)=1,\"\",Accuracy!N26))","v":""},{"$f":"IF(COUNTBLANK(Registration!$B26)=1, \"\",MTA!G26)","v":""},{"$f":"IF(COUNTBLANK(Registration!$B26)=1, \"\",IF(COUNTBLANK(J27)=1,\"\",MTA!I26))","v":""},{"$f":"IF(COUNTBLANK(Registration!$B26)=1, \"\",'Trick Catch'!X27)","v":""},{"$f":"IF(COUNTBLANK(Registration!$B26)=1, \"\",IF(COUNTBLANK(L27)=1,\"\",'Trick Catch'!Z27))","v":""},{"$f":"IF(COUNTBLANK(Registration!$B26)=1, \"\",'Fast Catch'!F26)","v":""},{"$f":"IF(COUNTBLANK(Registration!$B26)=1, \"\",IF(COUNTBLANK(N27)=1,\"\",'Fast Catch'!H26))","v":""},{"$f":"IF(COUNTBLANK(Registration!$B26)=1, \"\",Endurance!C26)","v":""},{"$f":"IF(COUNTBLANK(Registration!$B26)=1, \"\",IF(COUNTBLANK(P27)=1,\"\",Endurance!E26))","v":""}]
[{"$f":"IF(COUNTBLANK(Registration!$B27)=1, \"\",RANK(B28,$B$3:$B$101,1))","v":""},{"$f":"IF(COUNTBLANK(Registration!$B27)=1, \"\",SUM(Q28,O28,I28,M28,K28,G28))","v":""},{"$f":"IF(COUNTBLANK(Registration!B27)=1,\"\",Registration!B27)","v":""},{"$f":"IF(COUNTBLANK(Registration!B27)=1,\"\",Registration!A27)","v":""},{"$f":"IF(COUNTBLANK(C28)=1,\"\",Registration!E27)","v":""},{"$f":"IF(COUNTBLANK(Registration!B27)=1, \"\",'Aussie Round'!V28)","v":""},{"$f":"IF(COUNTBLANK(Registration!$B27)=1, \"\",IF(COUNTBLANK(F28)=1,\"\",'Aussie Round'!X28))","v":""},{"$f":"IF(COUNTBLANK(Registration!$B27)=1, \"\",Accuracy!L27)","v":""},{"$f":"IF(COUNTBLANK(Registration!$B27)=1, \"\",IF(COUNTBLANK(H28)=1,\"\",Accuracy!N27))","v":""},{"$f":"IF(COUNTBLANK(Registration!$B27)=1, \"\",MTA!G27)","v":""},{"$f":"IF(COUNTBLANK(Registration!$B27)=1, \"\",IF(COUNTBLANK(J28)=1,\"\",MTA!I27))","v":""},{"$f":"IF(COUNTBLANK(Registration!$B27)=1, \"\",'Trick Catch'!X28)","v":""},{"$f":"IF(COUNTBLANK(Registration!$B27)=1, \"\",IF(COUNTBLANK(L28)=1,\"\",'Trick Catch'!Z28))","v":""},{"$f":"IF(COUNTBLANK(Registration!$B27)=1, \"\",'Fast Catch'!F27)","v":""},{"$f":"IF(COUNTBLANK(Registration!$B27)=1, \"\",IF(COUNTBLANK(N28)=1,\"\",'Fast Catch'!H27))","v":""},{"$f":"IF(COUNTBLANK(Registration!$B27)=1, \"\",Endurance!C27)","v":""},{"$f":"IF(COUNTBLANK(Registration!$B27)=1, \"\",IF(COUNTBLANK(P28)=1,\"\",Endurance!E27))","v":""}]
[{"$f":"IF(COUNTBLANK(Registration!$B28)=1, \"\",RANK(B29,$B$3:$B$101,1))","v":""},{"$f":"IF(COUNTBLANK(Registration!$B28)=1, \"\",SUM(Q29,O29,I29,M29,K29,G29))","v":""},{"$f":"IF(COUNTBLANK(Registration!B28)=1,\"\",Registration!B28)","v":""},{"$f":"IF(COUNTBLANK(Registration!B28)=1,\"\",Registration!A28)","v":""},{"$f":"IF(COUNTBLANK(C29)=1,\"\",Registration!E28)","v":""},{"$f":"IF(COUNTBLANK(Registration!B28)=1, \"\",'Aussie Round'!V29)","v":""},{"$f":"IF(COUNTBLANK(Registration!$B28)=1, \"\",IF(COUNTBLANK(F29)=1,\"\",'Aussie Round'!X29))","v":""},{"$f":"IF(COUNTBLANK(Registration!$B28)=1, \"\",Accuracy!L28)","v":""},{"$f":"IF(COUNTBLANK(Registration!$B28)=1, \"\",IF(COUNTBLANK(H29)=1,\"\",Accuracy!N28))","v":""},{"$f":"IF(COUNTBLANK(Registration!$B28)=1, \"\",MTA!G28)","v":""},{"$f":"IF(COUNTBLANK(Registration!$B28)=1, \"\",IF(COUNTBLANK(J29)=1,\"\",MTA!I28))","v":""},{"$f":"IF(COUNTBLANK(Registration!$B28)=1, \"\",'Trick Catch'!X29)","v":""},{"$f":"IF(COUNTBLANK(Registration!$B28)=1, \"\",IF(COUNTBLANK(L29)=1,\"\",'Trick Catch'!Z29))","v":""},{"$f":"IF(COUNTBLANK(Registration!$B28)=1, \"\",'Fast Catch'!F28)","v":""},{"$f":"IF(COUNTBLANK(Registration!$B28)=1, \"\",IF(COUNTBLANK(N29)=1,\"\",'Fast Catch'!H28))","v":""},{"$f":"IF(COUNTBLANK(Registration!$B28)=1, \"\",Endurance!C28)","v":""},{"$f":"IF(COUNTBLANK(Registration!$B28)=1, \"\",IF(COUNTBLANK(P29)=1,\"\",Endurance!E28))","v":""}]
[{"$f":"IF(COUNTBLANK(Registration!$B29)=1, \"\",RANK(B30,$B$3:$B$101,1))","v":""},{"$f":"IF(COUNTBLANK(Registration!$B29)=1, \"\",SUM(Q30,O30,I30,M30,K30,G30))","v":""},{"$f":"IF(COUNTBLANK(Registration!B29)=1,\"\",Registration!B29)","v":""},{"$f":"IF(COUNTBLANK(Registration!B29)=1,\"\",Registration!A29)","v":""},{"$f":"IF(COUNTBLANK(C30)=1,\"\",Registration!E29)","v":""},{"$f":"IF(COUNTBLANK(Registration!B29)=1, \"\",'Aussie Round'!V30)","v":""},{"$f":"IF(COUNTBLANK(Registration!$B29)=1, \"\",IF(COUNTBLANK(F30)=1,\"\",'Aussie Round'!X30))","v":""},{"$f":"IF(COUNTBLANK(Registration!$B29)=1, \"\",Accuracy!L29)","v":""},{"$f":"IF(COUNTBLANK(Registration!$B29)=1, \"\",IF(COUNTBLANK(H30)=1,\"\",Accuracy!N29))","v":""},{"$f":"IF(COUNTBLANK(Registration!$B29)=1, \"\",MTA!G29)","v":""},{"$f":"IF(COUNTBLANK(Registration!$B29)=1, \"\",IF(COUNTBLANK(J30)=1,\"\",MTA!I29))","v":""},{"$f":"IF(COUNTBLANK(Registration!$B29)=1, \"\",'Trick Catch'!X30)","v":""},{"$f":"IF(COUNTBLANK(Registration!$B29)=1, \"\",IF(COUNTBLANK(L30)=1,\"\",'Trick Catch'!Z30))","v":""},{"$f":"IF(COUNTBLANK(Registration!$B29)=1, \"\",'Fast Catch'!F29)","v":""},{"$f":"IF(COUNTBLANK(Registration!$B29)=1, \"\",IF(COUNTBLANK(N30)=1,\"\",'Fast Catch'!H29))","v":""},{"$f":"IF(COUNTBLANK(Registration!$B29)=1, \"\",Endurance!C29)","v":""},{"$f":"IF(COUNTBLANK(Registration!$B29)=1, \"\",IF(COUNTBLANK(P30)=1,\"\",Endurance!E29))","v":""}]
[{"$f":"IF(COUNTBLANK(Registration!$B30)=1, \"\",RANK(B31,$B$3:$B$101,1))","v":""},{"$f":"IF(COUNTBLANK(Registration!$B30)=1, \"\",SUM(Q31,O31,I31,M31,K31,G31))","v":""},{"$f":"IF(COUNTBLANK(Registration!B30)=1,\"\",Registration!B30)","v":""},{"$f":"IF(COUNTBLANK(Registration!B30)=1,\"\",Registration!A30)","v":""},{"$f":"IF(COUNTBLANK(C31)=1,\"\",Registration!E30)","v":""},{"$f":"IF(COUNTBLANK(Registration!B30)=1, \"\",'Aussie Round'!V31)","v":""},{"$f":"IF(COUNTBLANK(Registration!$B30)=1, \"\",IF(COUNTBLANK(F31)=1,\"\",'Aussie Round'!X31))","v":""},{"$f":"IF(COUNTBLANK(Registration!$B30)=1, \"\",Accuracy!L30)","v":""},{"$f":"IF(COUNTBLANK(Registration!$B30)=1, \"\",IF(COUNTBLANK(H31)=1,\"\",Accuracy!N30))","v":""},{"$f":"IF(COUNTBLANK(Registration!$B30)=1, \"\",MTA!G30)","v":""},{"$f":"IF(COUNTBLANK(Registration!$B30)=1, \"\",IF(COUNTBLANK(J31)=1,\"\",MTA!I30))","v":""},{"$f":"IF(COUNTBLANK(Registration!$B30)=1, \"\",'Trick Catch'!X31)","v":""},{"$f":"IF(COUNTBLANK(Registration!$B30)=1, \"\",IF(COUNTBLANK(L31)=1,\"\",'Trick Catch'!Z31))","v":""},{"$f":"IF(COUNTBLANK(Registration!$B30)=1, \"\",'Fast Catch'!F30)","v":""},{"$f":"IF(COUNTBLANK(Registration!$B30)=1, \"\",IF(COUNTBLANK(N31)=1,\"\",'Fast Catch'!H30))","v":""},{"$f":"IF(COUNTBLANK(Registration!$B30)=1, \"\",Endurance!C30)","v":""},{"$f":"IF(COUNTBLANK(Registration!$B30)=1, \"\",IF(COUNTBLANK(P31)=1,\"\",Endurance!E30))","v":""}]
[{"$f":"IF(COUNTBLANK(Registration!$B31)=1, \"\",RANK(B32,$B$3:$B$101,1))","v":""},{"$f":"IF(COUNTBLANK(Registration!$B31)=1, \"\",SUM(Q32,O32,I32,M32,K32,G32))","v":""},{"$f":"IF(COUNTBLANK(Registration!B31)=1,\"\",Registration!B31)","v":""},{"$f":"IF(COUNTBLANK(Registration!B31)=1,\"\",Registration!A31)","v":""},{"$f":"IF(COUNTBLANK(C32)=1,\"\",Registration!E31)","v":""},{"$f":"IF(COUNTBLANK(Registration!B31)=1, \"\",'Aussie Round'!V32)","v":""},{"$f":"IF(COUNTBLANK(Registration!$B31)=1, \"\",IF(COUNTBLANK(F32)=1,\"\",'Aussie Round'!X32))","v":""},{"$f":"IF(COUNTBLANK(Registration!$B31)=1, \"\",Accuracy!L31)","v":""},{"$f":"IF(COUNTBLANK(Registration!$B31)=1, \"\",IF(COUNTBLANK(H32)=1,\"\",Accuracy!N31))","v":""},{"$f":"IF(COUNTBLANK(Registration!$B31)=1, \"\",MTA!G31)","v":""},{"$f":"IF(COUNTBLANK(Registration!$B31)=1, \"\",IF(COUNTBLANK(J32)=1,\"\",MTA!I31))","v":""},{"$f":"IF(COUNTBLANK(Registration!$B31)=1, \"\",'Trick Catch'!X32)","v":""},{"$f":"IF(COUNTBLANK(Registration!$B31)=1, \"\",IF(COUNTBLANK(L32)=1,\"\",'Trick Catch'!Z32))","v":""},{"$f":"IF(COUNTBLANK(Registration!$B31)=1, \"\",'Fast Catch'!F31)","v":""},{"$f":"IF(COUNTBLANK(Registration!$B31)=1, \"\",IF(COUNTBLANK(N32)=1,\"\",'Fast Catch'!H31))","v":""},{"$f":"IF(COUNTBLANK(Registration!$B31)=1, \"\",Endurance!C31)","v":""},{"$f":"IF(COUNTBLANK(Registration!$B31)=1, \"\",IF(COUNTBLANK(P32)=1,\"\",Endurance!E31))","v":""}]
[{"$f":"IF(COUNTBLANK(Registration!$B32)=1, \"\",RANK(B33,$B$3:$B$101,1))","v":""},{"$f":"IF(COUNTBLANK(Registration!$B32)=1, \"\",SUM(Q33,O33,I33,M33,K33,G33))","v":""},{"$f":"IF(COUNTBLANK(Registration!B32)=1,\"\",Registration!B32)","v":""},{"$f":"IF(COUNTBLANK(Registration!B32)=1,\"\",Registration!A32)","v":""},{"$f":"IF(COUNTBLANK(C33)=1,\"\",Registration!E32)","v":""},{"$f":"IF(COUNTBLANK(Registration!B32)=1, \"\",'Aussie Round'!V33)","v":""},{"$f":"IF(COUNTBLANK(Registration!$B32)=1, \"\",IF(COUNTBLANK(F33)=1,\"\",'Aussie Round'!X33))","v":""},{"$f":"IF(COUNTBLANK(Registration!$B32)=1, \"\",Accuracy!L32)","v":""},{"$f":"IF(COUNTBLANK(Registration!$B32)=1, \"\",IF(COUNTBLANK(H33)=1,\"\",Accuracy!N32))","v":""},{"$f":"IF(COUNTBLANK(Registration!$B32)=1, \"\",MTA!G32)","v":""},{"$f":"IF(COUNTBLANK(Registration!$B32)=1, \"\",IF(COUNTBLANK(J33)=1,\"\",MTA!I32))","v":""},{"$f":"IF(COUNTBLANK(Registration!$B32)=1, \"\",'Trick Catch'!X33)","v":""},{"$f":"IF(COUNTBLANK(Registration!$B32)=1, \"\",IF(COUNTBLANK(L33)=1,\"\",'Trick Catch'!Z33))","v":""},{"$f":"IF(COUNTBLANK(Registration!$B32)=1, \"\",'Fast Catch'!F32)","v":""},{"$f":"IF(COUNTBLANK(Registration!$B32)=1, \"\",IF(COUNTBLANK(N33)=1,\"\",'Fast Catch'!H32))","v":""},{"$f":"IF(COUNTBLANK(Registration!$B32)=1, \"\",Endurance!C32)","v":""},{"$f":"IF(COUNTBLANK(Registration!$B32)=1, \"\",IF(COUNTBLANK(P33)=1,\"\",Endurance!E32))","v":""}]
[{"$f":"IF(COUNTBLANK(Registration!$B33)=1, \"\",RANK(B34,$B$3:$B$101,1))","v":""},{"$f":"IF(COUNTBLANK(Registration!$B33)=1, \"\",SUM(Q34,O34,I34,M34,K34,G34))","v":""},{"$f":"IF(COUNTBLANK(Registration!B33)=1,\"\",Registration!B33)","v":""},{"$f":"IF(COUNTBLANK(Registration!B33)=1,\"\",Registration!A33)","v":""},{"$f":"IF(COUNTBLANK(C34)=1,\"\",Registration!E33)","v":""},{"$f":"IF(COUNTBLANK(Registration!B33)=1, \"\",'Aussie Round'!V34)","v":""},{"$f":"IF(COUNTBLANK(Registration!$B33)=1, \"\",IF(COUNTBLANK(F34)=1,\"\",'Aussie Round'!X34))","v":""},{"$f":"IF(COUNTBLANK(Registration!$B33)=1, \"\",Accuracy!L33)","v":""},{"$f":"IF(COUNTBLANK(Registration!$B33)=1, \"\",IF(COUNTBLANK(H34)=1,\"\",Accuracy!N33))","v":""},{"$f":"IF(COUNTBLANK(Registration!$B33)=1, \"\",MTA!G33)","v":""},{"$f":"IF(COUNTBLANK(Registration!$B33)=1, \"\",IF(COUNTBLANK(J34)=1,\"\",MTA!I33))","v":""},{"$f":"IF(COUNTBLANK(Registration!$B33)=1, \"\",'Trick Catch'!X34)","v":""},{"$f":"IF(COUNTBLANK(Registration!$B33)=1, \"\",IF(COUNTBLANK(L34)=1,\"\",'Trick Catch'!Z34))","v":""},{"$f":"IF(COUNTBLANK(Registration!$B33)=1, \"\",'Fast Catch'!F33)","v":""},{"$f":"IF(COUNTBLANK(Registration!$B33)=1, \"\",IF(COUNTBLANK(N34)=1,\"\",'Fast Catch'!H33))","v":""},{"$f":"IF(COUNTBLANK(Registration!$B33)=1, \"\",Endurance!C33)","v":""},{"$f":"IF(COUNTBLANK(Registration!$B33)=1, \"\",IF(COUNTBLANK(P34)=1,\"\",Endurance!E33))","v":""}]
[{"$f":"IF(COUNTBLANK(Registration!$B34)=1, \"\",RANK(B35,$B$3:$B$101,1))","v":""},{"$f":"IF(COUNTBLANK(Registration!$B34)=1, \"\",SUM(Q35,O35,I35,M35,K35,G35))","v":""},{"$f":"IF(COUNTBLANK(Registration!B34)=1,\"\",Registration!B34)","v":""},{"$f":"IF(COUNTBLANK(Registration!B34)=1,\"\",Registration!A34)","v":""},{"$f":"IF(COUNTBLANK(C35)=1,\"\",Registration!E34)","v":""},{"$f":"IF(COUNTBLANK(Registration!B34)=1, \"\",'Aussie Round'!V35)","v":""},{"$f":"IF(COUNTBLANK(Registration!$B34)=1, \"\",IF(COUNTBLANK(F35)=1,\"\",'Aussie Round'!X35))","v":""},{"$f":"IF(COUNTBLANK(Registration!$B34)=1, \"\",Accuracy!L34)","v":""},{"$f":"IF(COUNTBLANK(Registration!$B34)=1, \"\",IF(COUNTBLANK(H35)=1,\"\",Accuracy!N34))","v":""},{"$f":"IF(COUNTBLANK(Registration!$B34)=1, \"\",MTA!G34)","v":""},{"$f":"IF(COUNTBLANK(Registration!$B34)=1, \"\",IF(COUNTBLANK(J35)=1,\"\",MTA!I34))","v":""},{"$f":"IF(COUNTBLANK(Registration!$B34)=1, \"\",'Trick Catch'!X35)","v":""},{"$f":"IF(COUNTBLANK(Registration!$B34)=1, \"\",IF(COUNTBLANK(L35)=1,\"\",'Trick Catch'!Z35))","v":""},{"$f":"IF(COUNTBLANK(Registration!$B34)=1, \"\",'Fast Catch'!F34)","v":""},{"$f":"IF(COUNTBLANK(Registration!$B34)=1, \"\",IF(COUNTBLANK(N35)=1,\"\",'Fast Catch'!H34))","v":""},{"$f":"IF(COUNTBLANK(Registration!$B34)=1, \"\",Endurance!C34)","v":""},{"$f":"IF(COUNTBLANK(Registration!$B34)=1, \"\",IF(COUNTBLANK(P35)=1,\"\",Endurance!E34))","v":""}]
[{"$f":"IF(COUNTBLANK(Registration!$B35)=1, \"\",RANK(B36,$B$3:$B$101,1))","v":""},{"$f":"IF(COUNTBLANK(Registration!$B35)=1, \"\",SUM(Q36,O36,I36,M36,K36,G36))","v":""},{"$f":"IF(COUNTBLANK(Registration!B35)=1,\"\",Registration!B35)","v":""},{"$f":"IF(COUNTBLANK(Registration!B35)=1,\"\",Registration!A35)","v":""},{"$f":"IF(COUNTBLANK(C36)=1,\"\",Registration!E35)","v":""},{"$f":"IF(COUNTBLANK(Registration!B35)=1, \"\",'Aussie Round'!V36)","v":""},{"$f":"IF(COUNTBLANK(Registration!$B35)=1, \"\",IF(COUNTBLANK(F36)=1,\"\",'Aussie Round'!X36))","v":""},{"$f":"IF(COUNTBLANK(Registration!$B35)=1, \"\",Accuracy!L35)","v":""},{"$f":"IF(COUNTBLANK(Registration!$B35)=1, \"\",IF(COUNTBLANK(H36)=1,\"\",Accuracy!N35))","v":""},{"$f":"IF(COUNTBLANK(Registration!$B35)=1, \"\",MTA!G35)","v":""},{"$f":"IF(COUNTBLANK(Registration!$B35)=1, \"\",IF(COUNTBLANK(J36)=1,\"\",MTA!I35))","v":""},{"$f":"IF(COUNTBLANK(Registration!$B35)=1, \"\",'Trick Catch'!X36)","v":""},{"$f":"IF(COUNTBLANK(Registration!$B35)=1, \"\",IF(COUNTBLANK(L36)=1,\"\",'Trick Catch'!Z36))","v":""},{"$f":"IF(COUNTBLANK(Registration!$B35)=1, \"\",'Fast Catch'!F35)","v":""},{"$f":"IF(COUNTBLANK(Registration!$B35)=1, \"\",IF(COUNTBLANK(N36)=1,\"\",'Fast Catch'!H35))","v":""},{"$f":"IF(COUNTBLANK(Registration!$B35)=1, \"\",Endurance!C35)","v":""},{"$f":"IF(COUNTBLANK(Registration!$B35)=1, \"\",IF(COUNTBLANK(P36)=1,\"\",Endurance!E35))","v":""}]
[{"$f":"IF(COUNTBLANK(Registration!$B36)=1, \"\",RANK(B37,$B$3:$B$101,1))","v":""},{"$f":"IF(COUNTBLANK(Registration!$B36)=1, \"\",SUM(Q37,O37,I37,M37,K37,G37))","v":""},{"$f":"IF(COUNTBLANK(Registration!B36)=1,\"\",Registration!B36)","v":""},{"$f":"IF(COUNTBLANK(Registration!B36)=1,\"\",Registration!A36)","v":""},{"$f":"IF(COUNTBLANK(C37)=1,\"\",Registration!E36)","v":""},{"$f":"IF(COUNTBLANK(Registration!B36)=1, \"\",'Aussie Round'!V37)","v":""},{"$f":"IF(COUNTBLANK(Registration!$B36)=1, \"\",IF(COUNTBLANK(F37)=1,\"\",'Aussie Round'!X37))","v":""},{"$f":"IF(COUNTBLANK(Registration!$B36)=1, \"\",Accuracy!L36)","v":""},{"$f":"IF(COUNTBLANK(Registration!$B36)=1, \"\",IF(COUNTBLANK(H37)=1,\"\",Accuracy!N36))","v":""},{"$f":"IF(COUNTBLANK(Registration!$B36)=1, \"\",MTA!G36)","v":""},{"$f":"IF(COUNTBLANK(Registration!$B36)=1, \"\",IF(COUNTBLANK(J37)=1,\"\",MTA!I36))","v":""},{"$f":"IF(COUNTBLANK(Registration!$B36)=1, \"\",'Trick Catch'!X37)","v":""},{"$f":"IF(COUNTBLANK(Registration!$B36)=1, \"\",IF(COUNTBLANK(L37)=1,\"\",'Trick Catch'!Z37))","v":""},{"$f":"IF(COUNTBLANK(Registration!$B36)=1, \"\",'Fast Catch'!F36)","v":""},{"$f":"IF(COUNTBLANK(Registration!$B36)=1, \"\",IF(COUNTBLANK(N37)=1,\"\",'Fast Catch'!H36))","v":""},{"$f":"IF(COUNTBLANK(Registration!$B36)=1, \"\",Endurance!C36)","v":""},{"$f":"IF(COUNTBLANK(Registration!$B36)=1, \"\",IF(COUNTBLANK(P37)=1,\"\",Endurance!E36))","v":""}]
[{"$f":"IF(COUNTBLANK(Registration!$B37)=1, \"\",RANK(B38,$B$3:$B$101,1))","v":""},{"$f":"IF(COUNTBLANK(Registration!$B37)=1, \"\",SUM(Q38,O38,I38,M38,K38,G38))","v":""},{"$f":"IF(COUNTBLANK(Registration!B37)=1,\"\",Registration!B37)","v":""},{"$f":"IF(COUNTBLANK(Registration!B37)=1,\"\",Registration!A37)","v":""},{"$f":"IF(COUNTBLANK(C38)=1,\"\",Registration!E37)","v":""},{"$f":"IF(COUNTBLANK(Registration!B37)=1, \"\",'Aussie Round'!V38)","v":""},{"$f":"IF(COUNTBLANK(Registration!$B37)=1, \"\",IF(COUNTBLANK(F38)=1,\"\",'Aussie Round'!X38))","v":""},{"$f":"IF(COUNTBLANK(Registration!$B37)=1, \"\",Accuracy!L37)","v":""},{"$f":"IF(COUNTBLANK(Registration!$B37)=1, \"\",IF(COUNTBLANK(H38)=1,\"\",Accuracy!N37))","v":""},{"$f":"IF(COUNTBLANK(Registration!$B37)=1, \"\",MTA!G37)","v":""},{"$f":"IF(COUNTBLANK(Registration!$B37)=1, \"\",IF(COUNTBLANK(J38)=1,\"\",MTA!I37))","v":""},{"$f":"IF(COUNTBLANK(Registration!$B37)=1, \"\",'Trick Catch'!X38)","v":""},{"$f":"IF(COUNTBLANK(Registration!$B37)=1, \"\",IF(COUNTBLANK(L38)=1,\"\",'Trick Catch'!Z38))","v":""},{"$f":"IF(COUNTBLANK(Registration!$B37)=1, \"\",'Fast Catch'!F37)","v":""},{"$f":"IF(COUNTBLANK(Registration!$B37)=1, \"\",IF(COUNTBLANK(N38)=1,\"\",'Fast Catch'!H37))","v":""},{"$f":"IF(COUNTBLANK(Registration!$B37)=1, \"\",Endurance!C37)","v":""},{"$f":"IF(COUNTBLANK(Registration!$B37)=1, \"\",IF(COUNTBLANK(P38)=1,\"\",Endurance!E37))","v":""}]
[{"$f":"IF(COUNTBLANK(Registration!$B38)=1, \"\",RANK(B39,$B$3:$B$101,1))","v":""},{"$f":"IF(COUNTBLANK(Registration!$B38)=1, \"\",SUM(Q39,O39,I39,M39,K39,G39))","v":""},{"$f":"IF(COUNTBLANK(Registration!B38)=1,\"\",Registration!B38)","v":""},{"$f":"IF(COUNTBLANK(Registration!B38)=1,\"\",Registration!A38)","v":""},{"$f":"IF(COUNTBLANK(C39)=1,\"\",Registration!E38)","v":""},{"$f":"IF(COUNTBLANK(Registration!B38)=1, \"\",'Aussie Round'!V39)","v":""},{"$f":"IF(COUNTBLANK(Registration!$B38)=1, \"\",IF(COUNTBLANK(F39)=1,\"\",'Aussie Round'!X39))","v":""},{"$f":"IF(COUNTBLANK(Registration!$B38)=1, \"\",Accuracy!L38)","v":""},{"$f":"IF(COUNTBLANK(Registration!$B38)=1, \"\",IF(COUNTBLANK(H39)=1,\"\",Accuracy!N38))","v":""},{"$f":"IF(COUNTBLANK(Registration!$B38)=1, \"\",MTA!G38)","v":""},{"$f":"IF(COUNTBLANK(Registration!$B38)=1, \"\",IF(COUNTBLANK(J39)=1,\"\",MTA!I38))","v":""},{"$f":"IF(COUNTBLANK(Registration!$B38)=1, \"\",'Trick Catch'!X39)","v":""},{"$f":"IF(COUNTBLANK(Registration!$B38)=1, \"\",IF(COUNTBLANK(L39)=1,\"\",'Trick Catch'!Z39))","v":""},{"$f":"IF(COUNTBLANK(Registration!$B38)=1, \"\",'Fast Catch'!F38)","v":""},{"$f":"IF(COUNTBLANK(Registration!$B38)=1, \"\",IF(COUNTBLANK(N39)=1,\"\",'Fast Catch'!H38))","v":""},{"$f":"IF(COUNTBLANK(Registration!$B38)=1, \"\",Endurance!C38)","v":""},{"$f":"IF(COUNTBLANK(Registration!$B38)=1, \"\",IF(COUNTBLANK(P39)=1,\"\",Endurance!E38))","v":""}]
[{"$f":"IF(COUNTBLANK(Registration!$B39)=1, \"\",RANK(B40,$B$3:$B$101,1))","v":""},{"$f":"IF(COUNTBLANK(Registration!$B39)=1, \"\",SUM(Q40,O40,I40,M40,K40,G40))","v":""},{"$f":"IF(COUNTBLANK(Registration!B39)=1,\"\",Registration!B39)","v":""},{"$f":"IF(COUNTBLANK(Registration!B39)=1,\"\",Registration!A39)","v":""},{"$f":"IF(COUNTBLANK(C40)=1,\"\",Registration!E39)","v":""},{"$f":"IF(COUNTBLANK(Registration!B39)=1, \"\",'Aussie Round'!V40)","v":""},{"$f":"IF(COUNTBLANK(Registration!$B39)=1, \"\",IF(COUNTBLANK(F40)=1,\"\",'Aussie Round'!X40))","v":""},{"$f":"IF(COUNTBLANK(Registration!$B39)=1, \"\",Accuracy!L39)","v":""},{"$f":"IF(COUNTBLANK(Registration!$B39)=1, \"\",IF(COUNTBLANK(H40)=1,\"\",Accuracy!N39))","v":""},{"$f":"IF(COUNTBLANK(Registration!$B39)=1, \"\",MTA!G39)","v":""},{"$f":"IF(COUNTBLANK(Registration!$B39)=1, \"\",IF(COUNTBLANK(J40)=1,\"\",MTA!I39))","v":""},{"$f":"IF(COUNTBLANK(Registration!$B39)=1, \"\",'Trick Catch'!X40)","v":""},{"$f":"IF(COUNTBLANK(Registration!$B39)=1, \"\",IF(COUNTBLANK(L40)=1,\"\",'Trick Catch'!Z40))","v":""},{"$f":"IF(COUNTBLANK(Registration!$B39)=1, \"\",'Fast Catch'!F39)","v":""},{"$f":"IF(COUNTBLANK(Registration!$B39)=1, \"\",IF(COUNTBLANK(N40)=1,\"\",'Fast Catch'!H39))","v":""},{"$f":"IF(COUNTBLANK(Registration!$B39)=1, \"\",Endurance!C39)","v":""},{"$f":"IF(COUNTBLANK(Registration!$B39)=1, \"\",IF(COUNTBLANK(P40)=1,\"\",Endurance!E39))","v":""}]
[{"$f":"IF(COUNTBLANK(Registration!$B40)=1, \"\",RANK(B41,$B$3:$B$101,1))","v":""},{"$f":"IF(COUNTBLANK(Registration!$B40)=1, \"\",SUM(Q41,O41,I41,M41,K41,G41))","v":""},{"$f":"IF(COUNTBLANK(Registration!B40)=1,\"\",Registration!B40)","v":""},{"$f":"IF(COUNTBLANK(Registration!B40)=1,\"\",Registration!A40)","v":""},{"$f":"IF(COUNTBLANK(C41)=1,\"\",Registration!E40)","v":""},{"$f":"IF(COUNTBLANK(Registration!B40)=1, \"\",'Aussie Round'!V41)","v":""},{"$f":"IF(COUNTBLANK(Registration!$B40)=1, \"\",IF(COUNTBLANK(F41)=1,\"\",'Aussie Round'!X41))","v":""},{"$f":"IF(COUNTBLANK(Registration!$B40)=1, \"\",Accuracy!L40)","v":""},{"$f":"IF(COUNTBLANK(Registration!$B40)=1, \"\",IF(COUNTBLANK(H41)=1,\"\",Accuracy!N40))","v":""},{"$f":"IF(COUNTBLANK(Registration!$B40)=1, \"\",MTA!G40)","v":""},{"$f":"IF(COUNTBLANK(Registration!$B40)=1, \"\",IF(COUNTBLANK(J41)=1,\"\",MTA!I40))","v":""},{"$f":"IF(COUNTBLANK(Registration!$B40)=1, \"\",'Trick Catch'!X41)","v":""},{"$f":"IF(COUNTBLANK(Registration!$B40)=1, \"\",IF(COUNTBLANK(L41)=1,\"\",'Trick Catch'!Z41))","v":""},{"$f":"IF(COUNTBLANK(Registration!$B40)=1, \"\",'Fast Catch'!F40)","v":""},{"$f":"IF(COUNTBLANK(Registration!$B40)=1, \"\",IF(COUNTBLANK(N41)=1,\"\",'Fast Catch'!H40))","v":""},{"$f":"IF(COUNTBLANK(Registration!$B40)=1, \"\",Endurance!C40)","v":""},{"$f":"IF(COUNTBLANK(Registration!$B40)=1, \"\",IF(COUNTBLANK(P41)=1,\"\",Endurance!E40))","v":""}]
[{"$f":"IF(COUNTBLANK(Registration!$B41)=1, \"\",RANK(B42,$B$3:$B$101,1))","v":""},{"$f":"IF(COUNTBLANK(Registration!$B41)=1, \"\",SUM(Q42,O42,I42,M42,K42,G42))","v":""},{"$f":"IF(COUNTBLANK(Registration!B41)=1,\"\",Registration!B41)","v":""},{"$f":"IF(COUNTBLANK(Registration!B41)=1,\"\",Registration!A41)","v":""},{"$f":"IF(COUNTBLANK(C42)=1,\"\",Registration!E41)","v":""},{"$f":"IF(COUNTBLANK(Registration!B41)=1, \"\",'Aussie Round'!V42)","v":""},{"$f":"IF(COUNTBLANK(Registration!$B41)=1, \"\",IF(COUNTBLANK(F42)=1,\"\",'Aussie Round'!X42))","v":""},{"$f":"IF(COUNTBLANK(Registration!$B41)=1, \"\",Accuracy!L41)","v":""},{"$f":"IF(COUNTBLANK(Registration!$B41)=1, \"\",IF(COUNTBLANK(H42)=1,\"\",Accuracy!N41))","v":""},{"$f":"IF(COUNTBLANK(Registration!$B41)=1, \"\",MTA!G41)","v":""},{"$f":"IF(COUNTBLANK(Registration!$B41)=1, \"\",IF(COUNTBLANK(J42)=1,\"\",MTA!I41))","v":""},{"$f":"IF(COUNTBLANK(Registration!$B41)=1, \"\",'Trick Catch'!X42)","v":""},{"$f":"IF(COUNTBLANK(Registration!$B41)=1, \"\",IF(COUNTBLANK(L42)=1,\"\",'Trick Catch'!Z42))","v":""},{"$f":"IF(COUNTBLANK(Registration!$B41)=1, \"\",'Fast Catch'!F41)","v":""},{"$f":"IF(COUNTBLANK(Registration!$B41)=1, \"\",IF(COUNTBLANK(N42)=1,\"\",'Fast Catch'!H41))","v":""},{"$f":"IF(COUNTBLANK(Registration!$B41)=1, \"\",Endurance!C41)","v":""},{"$f":"IF(COUNTBLANK(Registration!$B41)=1, \"\",IF(COUNTBLANK(P42)=1,\"\",Endurance!E41))","v":""}]
[{"$f":"IF(COUNTBLANK(Registration!$B42)=1, \"\",RANK(B43,$B$3:$B$101,1))","v":""},{"$f":"IF(COUNTBLANK(Registration!$B42)=1, \"\",SUM(Q43,O43,I43,M43,K43,G43))","v":""},{"$f":"IF(COUNTBLANK(Registration!B42)=1,\"\",Registration!B42)","v":""},{"$f":"IF(COUNTBLANK(Registration!B42)=1,\"\",Registration!A42)","v":""},{"$f":"IF(COUNTBLANK(C43)=1,\"\",Registration!E42)","v":""},{"$f":"IF(COUNTBLANK(Registration!B42)=1, \"\",'Aussie Round'!V43)","v":""},{"$f":"IF(COUNTBLANK(Registration!$B42)=1, \"\",IF(COUNTBLANK(F43)=1,\"\",'Aussie Round'!X43))","v":""},{"$f":"IF(COUNTBLANK(Registration!$B42)=1, \"\",Accuracy!L42)","v":""},{"$f":"IF(COUNTBLANK(Registration!$B42)=1, \"\",IF(COUNTBLANK(H43)=1,\"\",Accuracy!N42))","v":""},{"$f":"IF(COUNTBLANK(Registration!$B42)=1, \"\",MTA!G42)","v":""},{"$f":"IF(COUNTBLANK(Registration!$B42)=1, \"\",IF(COUNTBLANK(J43)=1,\"\",MTA!I42))","v":""},{"$f":"IF(COUNTBLANK(Registration!$B42)=1, \"\",'Trick Catch'!X43)","v":""},{"$f":"IF(COUNTBLANK(Registration!$B42)=1, \"\",IF(COUNTBLANK(L43)=1,\"\",'Trick Catch'!Z43))","v":""},{"$f":"IF(COUNTBLANK(Registration!$B42)=1, \"\",'Fast Catch'!F42)","v":""},{"$f":"IF(COUNTBLANK(Registration!$B42)=1, \"\",IF(COUNTBLANK(N43)=1,\"\",'Fast Catch'!H42))","v":""},{"$f":"IF(COUNTBLANK(Registration!$B42)=1, \"\",Endurance!C42)","v":""},{"$f":"IF(COUNTBLANK(Registration!$B42)=1, \"\",IF(COUNTBLANK(P43)=1,\"\",Endurance!E42))","v":""}]
[{"$f":"IF(COUNTBLANK(Registration!$B43)=1, \"\",RANK(B44,$B$3:$B$101,1))","v":""},{"$f":"IF(COUNTBLANK(Registration!$B43)=1, \"\",SUM(Q44,O44,I44,M44,K44,G44))","v":""},{"$f":"IF(COUNTBLANK(Registration!B43)=1,\"\",Registration!B43)","v":""},{"$f":"IF(COUNTBLANK(Registration!B43)=1,\"\",Registration!A43)","v":""},{"$f":"IF(COUNTBLANK(C44)=1,\"\",Registration!E43)","v":""},{"$f":"IF(COUNTBLANK(Registration!B43)=1, \"\",'Aussie Round'!V44)","v":""},{"$f":"IF(COUNTBLANK(Registration!$B43)=1, \"\",IF(COUNTBLANK(F44)=1,\"\",'Aussie Round'!X44))","v":""},{"$f":"IF(COUNTBLANK(Registration!$B43)=1, \"\",Accuracy!L43)","v":""},{"$f":"IF(COUNTBLANK(Registration!$B43)=1, \"\",IF(COUNTBLANK(H44)=1,\"\",Accuracy!N43))","v":""},{"$f":"IF(COUNTBLANK(Registration!$B43)=1, \"\",MTA!G43)","v":""},{"$f":"IF(COUNTBLANK(Registration!$B43)=1, \"\",IF(COUNTBLANK(J44)=1,\"\",MTA!I43))","v":""},{"$f":"IF(COUNTBLANK(Registration!$B43)=1, \"\",'Trick Catch'!X44)","v":""},{"$f":"IF(COUNTBLANK(Registration!$B43)=1, \"\",IF(COUNTBLANK(L44)=1,\"\",'Trick Catch'!Z44))","v":""},{"$f":"IF(COUNTBLANK(Registration!$B43)=1, \"\",'Fast Catch'!F43)","v":""},{"$f":"IF(COUNTBLANK(Registration!$B43)=1, \"\",IF(COUNTBLANK(N44)=1,\"\",'Fast Catch'!H43))","v":""},{"$f":"IF(COUNTBLANK(Registration!$B43)=1, \"\",Endurance!C43)","v":""},{"$f":"IF(COUNTBLANK(Registration!$B43)=1, \"\",IF(COUNTBLANK(P44)=1,\"\",Endurance!E43))","v":""}]
[{"$f":"IF(COUNTBLANK(Registration!$B44)=1, \"\",RANK(B45,$B$3:$B$101,1))","v":""},{"$f":"IF(COUNTBLANK(Registration!$B44)=1, \"\",SUM(Q45,O45,I45,M45,K45,G45))","v":""},{"$f":"IF(COUNTBLANK(Registration!B44)=1,\"\",Registration!B44)","v":""},{"$f":"IF(COUNTBLANK(Registration!B44)=1,\"\",Registration!A44)","v":""},{"$f":"IF(COUNTBLANK(C45)=1,\"\",Registration!E44)","v":""},{"$f":"IF(COUNTBLANK(Registration!B44)=1, \"\",'Aussie Round'!V45)","v":""},{"$f":"IF(COUNTBLANK(Registration!$B44)=1, \"\",IF(COUNTBLANK(F45)=1,\"\",'Aussie Round'!X45))","v":""},{"$f":"IF(COUNTBLANK(Registration!$B44)=1, \"\",Accuracy!L44)","v":""},{"$f":"IF(COUNTBLANK(Registration!$B44)=1, \"\",IF(COUNTBLANK(H45)=1,\"\",Accuracy!N44))","v":""},{"$f":"IF(COUNTBLANK(Registration!$B44)=1, \"\",MTA!G44)","v":""},{"$f":"IF(COUNTBLANK(Registration!$B44)=1, \"\",IF(COUNTBLANK(J45)=1,\"\",MTA!I44))","v":""},{"$f":"IF(COUNTBLANK(Registration!$B44)=1, \"\",'Trick Catch'!X45)","v":""},{"$f":"IF(COUNTBLANK(Registration!$B44)=1, \"\",IF(COUNTBLANK(L45)=1,\"\",'Trick Catch'!Z45))","v":""},{"$f":"IF(COUNTBLANK(Registration!$B44)=1, \"\",'Fast Catch'!F44)","v":""},{"$f":"IF(COUNTBLANK(Registration!$B44)=1, \"\",IF(COUNTBLANK(N45)=1,\"\",'Fast Catch'!H44))","v":""},{"$f":"IF(COUNTBLANK(Registration!$B44)=1, \"\",Endurance!C44)","v":""},{"$f":"IF(COUNTBLANK(Registration!$B44)=1, \"\",IF(COUNTBLANK(P45)=1,\"\",Endurance!E44))","v":""}]
[{"$f":"IF(COUNTBLANK(Registration!$B45)=1, \"\",RANK(B46,$B$3:$B$101,1))","v":""},{"$f":"IF(COUNTBLANK(Registration!$B45)=1, \"\",SUM(Q46,O46,I46,M46,K46,G46))","v":""},{"$f":"IF(COUNTBLANK(Registration!B45)=1,\"\",Registration!B45)","v":""},{"$f":"IF(COUNTBLANK(Registration!B45)=1,\"\",Registration!A45)","v":""},{"$f":"IF(COUNTBLANK(C46)=1,\"\",Registration!E45)","v":""},{"$f":"IF(COUNTBLANK(Registration!B45)=1, \"\",'Aussie Round'!V46)","v":""},{"$f":"IF(COUNTBLANK(Registration!$B45)=1, \"\",IF(COUNTBLANK(F46)=1,\"\",'Aussie Round'!X46))","v":""},{"$f":"IF(COUNTBLANK(Registration!$B45)=1, \"\",Accuracy!L45)","v":""},{"$f":"IF(COUNTBLANK(Registration!$B45)=1, \"\",IF(COUNTBLANK(H46)=1,\"\",Accuracy!N45))","v":""},{"$f":"IF(COUNTBLANK(Registration!$B45)=1, \"\",MTA!G45)","v":""},{"$f":"IF(COUNTBLANK(Registration!$B45)=1, \"\",IF(COUNTBLANK(J46)=1,\"\",MTA!I45))","v":""},{"$f":"IF(COUNTBLANK(Registration!$B45)=1, \"\",'Trick Catch'!X46)","v":""},{"$f":"IF(COUNTBLANK(Registration!$B45)=1, \"\",IF(COUNTBLANK(L46)=1,\"\",'Trick Catch'!Z46))","v":""},{"$f":"IF(COUNTBLANK(Registration!$B45)=1, \"\",'Fast Catch'!F45)","v":""},{"$f":"IF(COUNTBLANK(Registration!$B45)=1, \"\",IF(COUNTBLANK(N46)=1,\"\",'Fast Catch'!H45))","v":""},{"$f":"IF(COUNTBLANK(Registration!$B45)=1, \"\",Endurance!C45)","v":""},{"$f":"IF(COUNTBLANK(Registration!$B45)=1, \"\",IF(COUNTBLANK(P46)=1,\"\",Endurance!E45))","v":""}]
[{"$f":"IF(COUNTBLANK(Registration!$B46)=1, \"\",RANK(B47,$B$3:$B$101,1))","v":""},{"$f":"IF(COUNTBLANK(Registration!$B46)=1, \"\",SUM(Q47,O47,I47,M47,K47,G47))","v":""},{"$f":"IF(COUNTBLANK(Registration!B46)=1,\"\",Registration!B46)","v":""},{"$f":"IF(COUNTBLANK(Registration!B46)=1,\"\",Registration!A46)","v":""},{"$f":"IF(COUNTBLANK(C47)=1,\"\",Registration!E46)","v":""},{"$f":"IF(COUNTBLANK(Registration!B46)=1, \"\",'Aussie Round'!V47)","v":""},{"$f":"IF(COUNTBLANK(Registration!$B46)=1, \"\",IF(COUNTBLANK(F47)=1,\"\",'Aussie Round'!X47))","v":""},{"$f":"IF(COUNTBLANK(Registration!$B46)=1, \"\",Accuracy!L46)","v":""},{"$f":"IF(COUNTBLANK(Registration!$B46)=1, \"\",IF(COUNTBLANK(H47)=1,\"\",Accuracy!N46))","v":""},{"$f":"IF(COUNTBLANK(Registration!$B46)=1, \"\",MTA!G46)","v":""},{"$f":"IF(COUNTBLANK(Registration!$B46)=1, \"\",IF(COUNTBLANK(J47)=1,\"\",MTA!I46))","v":""},{"$f":"IF(COUNTBLANK(Registration!$B46)=1, \"\",'Trick Catch'!X47)","v":""},{"$f":"IF(COUNTBLANK(Registration!$B46)=1, \"\",IF(COUNTBLANK(L47)=1,\"\",'Trick Catch'!Z47))","v":""},{"$f":"IF(COUNTBLANK(Registration!$B46)=1, \"\",'Fast Catch'!F46)","v":""},{"$f":"IF(COUNTBLANK(Registration!$B46)=1, \"\",IF(COUNTBLANK(N47)=1,\"\",'Fast Catch'!H46))","v":""},{"$f":"IF(COUNTBLANK(Registration!$B46)=1, \"\",Endurance!C46)","v":""},{"$f":"IF(COUNTBLANK(Registration!$B46)=1, \"\",IF(COUNTBLANK(P47)=1,\"\",Endurance!E46))","v":""}]
[{"$f":"IF(COUNTBLANK(Registration!$B47)=1, \"\",RANK(B48,$B$3:$B$101,1))","v":""},{"$f":"IF(COUNTBLANK(Registration!$B47)=1, \"\",SUM(Q48,O48,I48,M48,K48,G48))","v":""},{"$f":"IF(COUNTBLANK(Registration!B47)=1,\"\",Registration!B47)","v":""},{"$f":"IF(COUNTBLANK(Registration!B47)=1,\"\",Registration!A47)","v":""},{"$f":"IF(COUNTBLANK(C48)=1,\"\",Registration!E47)","v":""},{"$f":"IF(COUNTBLANK(Registration!B47)=1, \"\",'Aussie Round'!V48)","v":""},{"$f":"IF(COUNTBLANK(Registration!$B47)=1, \"\",IF(COUNTBLANK(F48)=1,\"\",'Aussie Round'!X48))","v":""},{"$f":"IF(COUNTBLANK(Registration!$B47)=1, \"\",Accuracy!L47)","v":""},{"$f":"IF(COUNTBLANK(Registration!$B47)=1, \"\",IF(COUNTBLANK(H48)=1,\"\",Accuracy!N47))","v":""},{"$f":"IF(COUNTBLANK(Registration!$B47)=1, \"\",MTA!G47)","v":""},{"$f":"IF(COUNTBLANK(Registration!$B47)=1, \"\",IF(COUNTBLANK(J48)=1,\"\",MTA!I47))","v":""},{"$f":"IF(COUNTBLANK(Registration!$B47)=1, \"\",'Trick Catch'!X48)","v":""},{"$f":"IF(COUNTBLANK(Registration!$B47)=1, \"\",IF(COUNTBLANK(L48)=1,\"\",'Trick Catch'!Z48))","v":""},{"$f":"IF(COUNTBLANK(Registration!$B47)=1, \"\",'Fast Catch'!F47)","v":""},{"$f":"IF(COUNTBLANK(Registration!$B47)=1, \"\",IF(COUNTBLANK(N48)=1,\"\",'Fast Catch'!H47))","v":""},{"$f":"IF(COUNTBLANK(Registration!$B47)=1, \"\",Endurance!C47)","v":""},{"$f":"IF(COUNTBLANK(Registration!$B47)=1, \"\",IF(COUNTBLANK(P48)=1,\"\",Endurance!E47))","v":""}]
[{"$f":"IF(COUNTBLANK(Registration!$B48)=1, \"\",RANK(B49,$B$3:$B$101,1))","v":""},{"$f":"IF(COUNTBLANK(Registration!$B48)=1, \"\",SUM(Q49,O49,I49,M49,K49,G49))","v":""},{"$f":"IF(COUNTBLANK(Registration!B48)=1,\"\",Registration!B48)","v":""},{"$f":"IF(COUNTBLANK(Registration!B48)=1,\"\",Registration!A48)","v":""},{"$f":"IF(COUNTBLANK(C49)=1,\"\",Registration!E48)","v":""},{"$f":"IF(COUNTBLANK(Registration!B48)=1, \"\",'Aussie Round'!V49)","v":""},{"$f":"IF(COUNTBLANK(Registration!$B48)=1, \"\",IF(COUNTBLANK(F49)=1,\"\",'Aussie Round'!X49))","v":""},{"$f":"IF(COUNTBLANK(Registration!$B48)=1, \"\",Accuracy!L48)","v":""},{"$f":"IF(COUNTBLANK(Registration!$B48)=1, \"\",IF(COUNTBLANK(H49)=1,\"\",Accuracy!N48))","v":""},{"$f":"IF(COUNTBLANK(Registration!$B48)=1, \"\",MTA!G48)","v":""},{"$f":"IF(COUNTBLANK(Registration!$B48)=1, \"\",IF(COUNTBLANK(J49)=1,\"\",MTA!I48))","v":""},{"$f":"IF(COUNTBLANK(Registration!$B48)=1, \"\",'Trick Catch'!X49)","v":""},{"$f":"IF(COUNTBLANK(Registration!$B48)=1, \"\",IF(COUNTBLANK(L49)=1,\"\",'Trick Catch'!Z49))","v":""},{"$f":"IF(COUNTBLANK(Registration!$B48)=1, \"\",'Fast Catch'!F48)","v":""},{"$f":"IF(COUNTBLANK(Registration!$B48)=1, \"\",IF(COUNTBLANK(N49)=1,\"\",'Fast Catch'!H48))","v":""},{"$f":"IF(COUNTBLANK(Registration!$B48)=1, \"\",Endurance!C48)","v":""},{"$f":"IF(COUNTBLANK(Registration!$B48)=1, \"\",IF(COUNTBLANK(P49)=1,\"\",Endurance!E48))","v":""}]
[{"$f":"IF(COUNTBLANK(Registration!$B49)=1, \"\",RANK(B50,$B$3:$B$101,1))","v":""},{"$f":"IF(COUNTBLANK(Registration!$B49)=1, \"\",SUM(Q50,O50,I50,M50,K50,G50))","v":""},{"$f":"IF(COUNTBLANK(Registration!B49)=1,\"\",Registration!B49)","v":""},{"$f":"IF(COUNTBLANK(Registration!B49)=1,\"\",Registration!A49)","v":""},{"$f":"IF(COUNTBLANK(C50)=1,\"\",Registration!E49)","v":""},{"$f":"IF(COUNTBLANK(Registration!B49)=1, \"\",'Aussie Round'!V50)","v":""},{"$f":"IF(COUNTBLANK(Registration!$B49)=1, \"\",IF(COUNTBLANK(F50)=1,\"\",'Aussie Round'!X50))","v":""},{"$f":"IF(COUNTBLANK(Registration!$B49)=1, \"\",Accuracy!L49)","v":""},{"$f":"IF(COUNTBLANK(Registration!$B49)=1, \"\",IF(COUNTBLANK(H50)=1,\"\",Accuracy!N49))","v":""},{"$f":"IF(COUNTBLANK(Registration!$B49)=1, \"\",MTA!G49)","v":""},{"$f":"IF(COUNTBLANK(Registration!$B49)=1, \"\",IF(COUNTBLANK(J50)=1,\"\",MTA!I49))","v":""},{"$f":"IF(COUNTBLANK(Registration!$B49)=1, \"\",'Trick Catch'!X50)","v":""},{"$f":"IF(COUNTBLANK(Registration!$B49)=1, \"\",IF(COUNTBLANK(L50)=1,\"\",'Trick Catch'!Z50))","v":""},{"$f":"IF(COUNTBLANK(Registration!$B49)=1, \"\",'Fast Catch'!F49)","v":""},{"$f":"IF(COUNTBLANK(Registration!$B49)=1, \"\",IF(COUNTBLANK(N50)=1,\"\",'Fast Catch'!H49))","v":""},{"$f":"IF(COUNTBLANK(Registration!$B49)=1, \"\",Endurance!C49)","v":""},{"$f":"IF(COUNTBLANK(Registration!$B49)=1, \"\",IF(COUNTBLANK(P50)=1,\"\",Endurance!E49))","v":""}]
[{"$f":"IF(COUNTBLANK(Registration!$B50)=1, \"\",RANK(B51,$B$3:$B$101,1))","v":""},{"$f":"IF(COUNTBLANK(Registration!$B50)=1, \"\",SUM(Q51,O51,I51,M51,K51,G51))","v":""},{"$f":"IF(COUNTBLANK(Registration!B50)=1,\"\",Registration!B50)","v":""},{"$f":"IF(COUNTBLANK(Registration!B50)=1,\"\",Registration!A50)","v":""},{"$f":"IF(COUNTBLANK(C51)=1,\"\",Registration!E50)","v":""},{"$f":"IF(COUNTBLANK(Registration!B50)=1, \"\",'Aussie Round'!V51)","v":""},{"$f":"IF(COUNTBLANK(Registration!$B50)=1, \"\",IF(COUNTBLANK(F51)=1,\"\",'Aussie Round'!X51))","v":""},{"$f":"IF(COUNTBLANK(Registration!$B50)=1, \"\",Accuracy!L50)","v":""},{"$f":"IF(COUNTBLANK(Registration!$B50)=1, \"\",IF(COUNTBLANK(H51)=1,\"\",Accuracy!N50))","v":""},{"$f":"IF(COUNTBLANK(Registration!$B50)=1, \"\",MTA!G50)","v":""},{"$f":"IF(COUNTBLANK(Registration!$B50)=1, \"\",IF(COUNTBLANK(J51)=1,\"\",MTA!I50))","v":""},{"$f":"IF(COUNTBLANK(Registration!$B50)=1, \"\",'Trick Catch'!X51)","v":""},{"$f":"IF(COUNTBLANK(Registration!$B50)=1, \"\",IF(COUNTBLANK(L51)=1,\"\",'Trick Catch'!Z51))","v":""},{"$f":"IF(COUNTBLANK(Registration!$B50)=1, \"\",'Fast Catch'!F50)","v":""},{"$f":"IF(COUNTBLANK(Registration!$B50)=1, \"\",IF(COUNTBLANK(N51)=1,\"\",'Fast Catch'!H50))","v":""},{"$f":"IF(COUNTBLANK(Registration!$B50)=1, \"\",Endurance!C50)","v":""},{"$f":"IF(COUNTBLANK(Registration!$B50)=1, \"\",IF(COUNTBLANK(P51)=1,\"\",Endurance!E50))","v":""}]
[{"$f":"IF(COUNTBLANK(Registration!$B51)=1, \"\",RANK(B52,$B$3:$B$101,1))","v":""},{"$f":"IF(COUNTBLANK(Registration!$B51)=1, \"\",SUM(Q52,O52,I52,M52,K52,G52))","v":""},{"$f":"IF(COUNTBLANK(Registration!B51)=1,\"\",Registration!B51)","v":""},{"$f":"IF(COUNTBLANK(Registration!B51)=1,\"\",Registration!A51)","v":""},{"$f":"IF(COUNTBLANK(C52)=1,\"\",Registration!E51)","v":""},{"$f":"IF(COUNTBLANK(Registration!B51)=1, \"\",'Aussie Round'!V52)","v":""},{"$f":"IF(COUNTBLANK(Registration!$B51)=1, \"\",IF(COUNTBLANK(F52)=1,\"\",'Aussie Round'!X52))","v":""},{"$f":"IF(COUNTBLANK(Registration!$B51)=1, \"\",Accuracy!L51)","v":""},{"$f":"IF(COUNTBLANK(Registration!$B51)=1, \"\",IF(COUNTBLANK(H52)=1,\"\",Accuracy!N51))","v":""},{"$f":"IF(COUNTBLANK(Registration!$B51)=1, \"\",MTA!G51)","v":""},{"$f":"IF(COUNTBLANK(Registration!$B51)=1, \"\",IF(COUNTBLANK(J52)=1,\"\",MTA!I51))","v":""},{"$f":"IF(COUNTBLANK(Registration!$B51)=1, \"\",'Trick Catch'!X52)","v":""},{"$f":"IF(COUNTBLANK(Registration!$B51)=1, \"\",IF(COUNTBLANK(L52)=1,\"\",'Trick Catch'!Z52))","v":""},{"$f":"IF(COUNTBLANK(Registration!$B51)=1, \"\",'Fast Catch'!F51)","v":""},{"$f":"IF(COUNTBLANK(Registration!$B51)=1, \"\",IF(COUNTBLANK(N52)=1,\"\",'Fast Catch'!H51))","v":""},{"$f":"IF(COUNTBLANK(Registration!$B51)=1, \"\",Endurance!C51)","v":""},{"$f":"IF(COUNTBLANK(Registration!$B51)=1, \"\",IF(COUNTBLANK(P52)=1,\"\",Endurance!E51))","v":""}]
[{"$f":"IF(COUNTBLANK(Registration!$B52)=1, \"\",RANK(B53,$B$3:$B$101,1))","v":""},{"$f":"IF(COUNTBLANK(Registration!$B52)=1, \"\",SUM(Q53,O53,I53,M53,K53,G53))","v":""},{"$f":"IF(COUNTBLANK(Registration!B52)=1,\"\",Registration!B52)","v":""},{"$f":"IF(COUNTBLANK(Registration!B52)=1,\"\",Registration!A52)","v":""},{"$f":"IF(COUNTBLANK(C53)=1,\"\",Registration!E52)","v":""},{"$f":"IF(COUNTBLANK(Registration!B52)=1, \"\",'Aussie Round'!V53)","v":""},{"$f":"IF(COUNTBLANK(Registration!$B52)=1, \"\",IF(COUNTBLANK(F53)=1,\"\",'Aussie Round'!X53))","v":""},{"$f":"IF(COUNTBLANK(Registration!$B52)=1, \"\",Accuracy!L52)","v":""},{"$f":"IF(COUNTBLANK(Registration!$B52)=1, \"\",IF(COUNTBLANK(H53)=1,\"\",Accuracy!N52))","v":""},{"$f":"IF(COUNTBLANK(Registration!$B52)=1, \"\",MTA!G52)","v":""},{"$f":"IF(COUNTBLANK(Registration!$B52)=1, \"\",IF(COUNTBLANK(J53)=1,\"\",MTA!I52))","v":""},{"$f":"IF(COUNTBLANK(Registration!$B52)=1, \"\",'Trick Catch'!X53)","v":""},{"$f":"IF(COUNTBLANK(Registration!$B52)=1, \"\",IF(COUNTBLANK(L53)=1,\"\",'Trick Catch'!Z53))","v":""},{"$f":"IF(COUNTBLANK(Registration!$B52)=1, \"\",'Fast Catch'!F52)","v":""},{"$f":"IF(COUNTBLANK(Registration!$B52)=1, \"\",IF(COUNTBLANK(N53)=1,\"\",'Fast Catch'!H52))","v":""},{"$f":"IF(COUNTBLANK(Registration!$B52)=1, \"\",Endurance!C52)","v":""},{"$f":"IF(COUNTBLANK(Registration!$B52)=1, \"\",IF(COUNTBLANK(P53)=1,\"\",Endurance!E52))","v":""}]
[{"$f":"IF(COUNTBLANK(Registration!$B53)=1, \"\",RANK(B54,$B$3:$B$101,1))","v":""},{"$f":"IF(COUNTBLANK(Registration!$B53)=1, \"\",SUM(Q54,O54,I54,M54,K54,G54))","v":""},{"$f":"IF(COUNTBLANK(Registration!B53)=1,\"\",Registration!B53)","v":""},{"$f":"IF(COUNTBLANK(Registration!B53)=1,\"\",Registration!A53)","v":""},{"$f":"IF(COUNTBLANK(C54)=1,\"\",Registration!E53)","v":""},{"$f":"IF(COUNTBLANK(Registration!B53)=1, \"\",'Aussie Round'!V54)","v":""},{"$f":"IF(COUNTBLANK(Registration!$B53)=1, \"\",IF(COUNTBLANK(F54)=1,\"\",'Aussie Round'!X54))","v":""},{"$f":"IF(COUNTBLANK(Registration!$B53)=1, \"\",Accuracy!L53)","v":""},{"$f":"IF(COUNTBLANK(Registration!$B53)=1, \"\",IF(COUNTBLANK(H54)=1,\"\",Accuracy!N53))","v":""},{"$f":"IF(COUNTBLANK(Registration!$B53)=1, \"\",MTA!G53)","v":""},{"$f":"IF(COUNTBLANK(Registration!$B53)=1, \"\",IF(COUNTBLANK(J54)=1,\"\",MTA!I53))","v":""},{"$f":"IF(COUNTBLANK(Registration!$B53)=1, \"\",'Trick Catch'!X54)","v":""},{"$f":"IF(COUNTBLANK(Registration!$B53)=1, \"\",IF(COUNTBLANK(L54)=1,\"\",'Trick Catch'!Z54))","v":""},{"$f":"IF(COUNTBLANK(Registration!$B53)=1, \"\",'Fast Catch'!F53)","v":""},{"$f":"IF(COUNTBLANK(Registration!$B53)=1, \"\",IF(COUNTBLANK(N54)=1,\"\",'Fast Catch'!H53))","v":""},{"$f":"IF(COUNTBLANK(Registration!$B53)=1, \"\",Endurance!C53)","v":""},{"$f":"IF(COUNTBLANK(Registration!$B53)=1, \"\",IF(COUNTBLANK(P54)=1,\"\",Endurance!E53))","v":""}]
[{"$f":"IF(COUNTBLANK(Registration!$B54)=1, \"\",RANK(B55,$B$3:$B$101,1))","v":""},{"$f":"IF(COUNTBLANK(Registration!$B54)=1, \"\",SUM(Q55,O55,I55,M55,K55,G55))","v":""},{"$f":"IF(COUNTBLANK(Registration!B54)=1,\"\",Registration!B54)","v":""},{"$f":"IF(COUNTBLANK(Registration!B54)=1,\"\",Registration!A54)","v":""},{"$f":"IF(COUNTBLANK(C55)=1,\"\",Registration!E54)","v":""},{"$f":"IF(COUNTBLANK(Registration!B54)=1, \"\",'Aussie Round'!V55)","v":""},{"$f":"IF(COUNTBLANK(Registration!$B54)=1, \"\",IF(COUNTBLANK(F55)=1,\"\",'Aussie Round'!X55))","v":""},{"$f":"IF(COUNTBLANK(Registration!$B54)=1, \"\",Accuracy!L54)","v":""},{"$f":"IF(COUNTBLANK(Registration!$B54)=1, \"\",IF(COUNTBLANK(H55)=1,\"\",Accuracy!N54))","v":""},{"$f":"IF(COUNTBLANK(Registration!$B54)=1, \"\",MTA!G54)","v":""},{"$f":"IF(COUNTBLANK(Registration!$B54)=1, \"\",IF(COUNTBLANK(J55)=1,\"\",MTA!I54))","v":""},{"$f":"IF(COUNTBLANK(Registration!$B54)=1, \"\",'Trick Catch'!X55)","v":""},{"$f":"IF(COUNTBLANK(Registration!$B54)=1, \"\",IF(COUNTBLANK(L55)=1,\"\",'Trick Catch'!Z55))","v":""},{"$f":"IF(COUNTBLANK(Registration!$B54)=1, \"\",'Fast Catch'!F54)","v":""},{"$f":"IF(COUNTBLANK(Registration!$B54)=1, \"\",IF(COUNTBLANK(N55)=1,\"\",'Fast Catch'!H54))","v":""},{"$f":"IF(COUNTBLANK(Registration!$B54)=1, \"\",Endurance!C54)","v":""},{"$f":"IF(COUNTBLANK(Registration!$B54)=1, \"\",IF(COUNTBLANK(P55)=1,\"\",Endurance!E54))","v":""}]
[{"$f":"IF(COUNTBLANK(Registration!$B55)=1, \"\",RANK(B56,$B$3:$B$101,1))","v":""},{"$f":"IF(COUNTBLANK(Registration!$B55)=1, \"\",SUM(Q56,O56,I56,M56,K56,G56))","v":""},{"$f":"IF(COUNTBLANK(Registration!B55)=1,\"\",Registration!B55)","v":""},{"$f":"IF(COUNTBLANK(Registration!B55)=1,\"\",Registration!A55)","v":""},{"$f":"IF(COUNTBLANK(C56)=1,\"\",Registration!E55)","v":""},{"$f":"IF(COUNTBLANK(Registration!B55)=1, \"\",'Aussie Round'!V56)","v":""},{"$f":"IF(COUNTBLANK(Registration!$B55)=1, \"\",IF(COUNTBLANK(F56)=1,\"\",'Aussie Round'!X56))","v":""},{"$f":"IF(COUNTBLANK(Registration!$B55)=1, \"\",Accuracy!L55)","v":""},{"$f":"IF(COUNTBLANK(Registration!$B55)=1, \"\",IF(COUNTBLANK(H56)=1,\"\",Accuracy!N55))","v":""},{"$f":"IF(COUNTBLANK(Registration!$B55)=1, \"\",MTA!G55)","v":""},{"$f":"IF(COUNTBLANK(Registration!$B55)=1, \"\",IF(COUNTBLANK(J56)=1,\"\",MTA!I55))","v":""},{"$f":"IF(COUNTBLANK(Registration!$B55)=1, \"\",'Trick Catch'!X56)","v":""},{"$f":"IF(COUNTBLANK(Registration!$B55)=1, \"\",IF(COUNTBLANK(L56)=1,\"\",'Trick Catch'!Z56))","v":""},{"$f":"IF(COUNTBLANK(Registration!$B55)=1, \"\",'Fast Catch'!F55)","v":""},{"$f":"IF(COUNTBLANK(Registration!$B55)=1, \"\",IF(COUNTBLANK(N56)=1,\"\",'Fast Catch'!H55))","v":""},{"$f":"IF(COUNTBLANK(Registration!$B55)=1, \"\",Endurance!C55)","v":""},{"$f":"IF(COUNTBLANK(Registration!$B55)=1, \"\",IF(COUNTBLANK(P56)=1,\"\",Endurance!E55))","v":""}]
[{"$f":"IF(COUNTBLANK(Registration!$B56)=1, \"\",RANK(B57,$B$3:$B$101,1))","v":""},{"$f":"IF(COUNTBLANK(Registration!$B56)=1, \"\",SUM(Q57,O57,I57,M57,K57,G57))","v":""},{"$f":"IF(COUNTBLANK(Registration!B56)=1,\"\",Registration!B56)","v":""},{"$f":"IF(COUNTBLANK(Registration!B56)=1,\"\",Registration!A56)","v":""},{"$f":"IF(COUNTBLANK(C57)=1,\"\",Registration!E56)","v":""},{"$f":"IF(COUNTBLANK(Registration!B56)=1, \"\",'Aussie Round'!V57)","v":""},{"$f":"IF(COUNTBLANK(Registration!$B56)=1, \"\",IF(COUNTBLANK(F57)=1,\"\",'Aussie Round'!X57))","v":""},{"$f":"IF(COUNTBLANK(Registration!$B56)=1, \"\",Accuracy!L56)","v":""},{"$f":"IF(COUNTBLANK(Registration!$B56)=1, \"\",IF(COUNTBLANK(H57)=1,\"\",Accuracy!N56))","v":""},{"$f":"IF(COUNTBLANK(Registration!$B56)=1, \"\",MTA!G56)","v":""},{"$f":"IF(COUNTBLANK(Registration!$B56)=1, \"\",IF(COUNTBLANK(J57)=1,\"\",MTA!I56))","v":""},{"$f":"IF(COUNTBLANK(Registration!$B56)=1, \"\",'Trick Catch'!X57)","v":""},{"$f":"IF(COUNTBLANK(Registration!$B56)=1, \"\",IF(COUNTBLANK(L57)=1,\"\",'Trick Catch'!Z57))","v":""},{"$f":"IF(COUNTBLANK(Registration!$B56)=1, \"\",'Fast Catch'!F56)","v":""},{"$f":"IF(COUNTBLANK(Registration!$B56)=1, \"\",IF(COUNTBLANK(N57)=1,\"\",'Fast Catch'!H56))","v":""},{"$f":"IF(COUNTBLANK(Registration!$B56)=1, \"\",Endurance!C56)","v":""},{"$f":"IF(COUNTBLANK(Registration!$B56)=1, \"\",IF(COUNTBLANK(P57)=1,\"\",Endurance!E56))","v":""}]
[{"$f":"IF(COUNTBLANK(Registration!$B57)=1, \"\",RANK(B58,$B$3:$B$101,1))","v":""},{"$f":"IF(COUNTBLANK(Registration!$B57)=1, \"\",SUM(Q58,O58,I58,M58,K58,G58))","v":""},{"$f":"IF(COUNTBLANK(Registration!B57)=1,\"\",Registration!B57)","v":""},{"$f":"IF(COUNTBLANK(Registration!B57)=1,\"\",Registration!A57)","v":""},{"$f":"IF(COUNTBLANK(C58)=1,\"\",Registration!E57)","v":""},{"$f":"IF(COUNTBLANK(Registration!B57)=1, \"\",'Aussie Round'!V58)","v":""},{"$f":"IF(COUNTBLANK(Registration!$B57)=1, \"\",IF(COUNTBLANK(F58)=1,\"\",'Aussie Round'!X58))","v":""},{"$f":"IF(COUNTBLANK(Registration!$B57)=1, \"\",Accuracy!L57)","v":""},{"$f":"IF(COUNTBLANK(Registration!$B57)=1, \"\",IF(COUNTBLANK(H58)=1,\"\",Accuracy!N57))","v":""},{"$f":"IF(COUNTBLANK(Registration!$B57)=1, \"\",MTA!G57)","v":""},{"$f":"IF(COUNTBLANK(Registration!$B57)=1, \"\",IF(COUNTBLANK(J58)=1,\"\",MTA!I57))","v":""},{"$f":"IF(COUNTBLANK(Registration!$B57)=1, \"\",'Trick Catch'!X58)","v":""},{"$f":"IF(COUNTBLANK(Registration!$B57)=1, \"\",IF(COUNTBLANK(L58)=1,\"\",'Trick Catch'!Z58))","v":""},{"$f":"IF(COUNTBLANK(Registration!$B57)=1, \"\",'Fast Catch'!F57)","v":""},{"$f":"IF(COUNTBLANK(Registration!$B57)=1, \"\",IF(COUNTBLANK(N58)=1,\"\",'Fast Catch'!H57))","v":""},{"$f":"IF(COUNTBLANK(Registration!$B57)=1, \"\",Endurance!C57)","v":""},{"$f":"IF(COUNTBLANK(Registration!$B57)=1, \"\",IF(COUNTBLANK(P58)=1,\"\",Endurance!E57))","v":""}]
[{"$f":"IF(COUNTBLANK(Registration!$B58)=1, \"\",RANK(B59,$B$3:$B$101,1))","v":""},{"$f":"IF(COUNTBLANK(Registration!$B58)=1, \"\",SUM(Q59,O59,I59,M59,K59,G59))","v":""},{"$f":"IF(COUNTBLANK(Registration!B58)=1,\"\",Registration!B58)","v":""},{"$f":"IF(COUNTBLANK(Registration!B58)=1,\"\",Registration!A58)","v":""},{"$f":"IF(COUNTBLANK(C59)=1,\"\",Registration!E58)","v":""},{"$f":"IF(COUNTBLANK(Registration!B58)=1, \"\",'Aussie Round'!V59)","v":""},{"$f":"IF(COUNTBLANK(Registration!$B58)=1, \"\",IF(COUNTBLANK(F59)=1,\"\",'Aussie Round'!X59))","v":""},{"$f":"IF(COUNTBLANK(Registration!$B58)=1, \"\",Accuracy!L58)","v":""},{"$f":"IF(COUNTBLANK(Registration!$B58)=1, \"\",IF(COUNTBLANK(H59)=1,\"\",Accuracy!N58))","v":""},{"$f":"IF(COUNTBLANK(Registration!$B58)=1, \"\",MTA!G58)","v":""},{"$f":"IF(COUNTBLANK(Registration!$B58)=1, \"\",IF(COUNTBLANK(J59)=1,\"\",MTA!I58))","v":""},{"$f":"IF(COUNTBLANK(Registration!$B58)=1, \"\",'Trick Catch'!X59)","v":""},{"$f":"IF(COUNTBLANK(Registration!$B58)=1, \"\",IF(COUNTBLANK(L59)=1,\"\",'Trick Catch'!Z59))","v":""},{"$f":"IF(COUNTBLANK(Registration!$B58)=1, \"\",'Fast Catch'!F58)","v":""},{"$f":"IF(COUNTBLANK(Registration!$B58)=1, \"\",IF(COUNTBLANK(N59)=1,\"\",'Fast Catch'!H58))","v":""},{"$f":"IF(COUNTBLANK(Registration!$B58)=1, \"\",Endurance!C58)","v":""},{"$f":"IF(COUNTBLANK(Registration!$B58)=1, \"\",IF(COUNTBLANK(P59)=1,\"\",Endurance!E58))","v":""}]
[{"$f":"IF(COUNTBLANK(Registration!$B59)=1, \"\",RANK(B60,$B$3:$B$101,1))","v":""},{"$f":"IF(COUNTBLANK(Registration!$B59)=1, \"\",SUM(Q60,O60,I60,M60,K60,G60))","v":""},{"$f":"IF(COUNTBLANK(Registration!B59)=1,\"\",Registration!B59)","v":""},{"$f":"IF(COUNTBLANK(Registration!B59)=1,\"\",Registration!A59)","v":""},{"$f":"IF(COUNTBLANK(C60)=1,\"\",Registration!E59)","v":""},{"$f":"IF(COUNTBLANK(Registration!B59)=1, \"\",'Aussie Round'!V60)","v":""},{"$f":"IF(COUNTBLANK(Registration!$B59)=1, \"\",IF(COUNTBLANK(F60)=1,\"\",'Aussie Round'!X60))","v":""},{"$f":"IF(COUNTBLANK(Registration!$B59)=1, \"\",Accuracy!L59)","v":""},{"$f":"IF(COUNTBLANK(Registration!$B59)=1, \"\",IF(COUNTBLANK(H60)=1,\"\",Accuracy!N59))","v":""},{"$f":"IF(COUNTBLANK(Registration!$B59)=1, \"\",MTA!G59)","v":""},{"$f":"IF(COUNTBLANK(Registration!$B59)=1, \"\",IF(COUNTBLANK(J60)=1,\"\",MTA!I59))","v":""},{"$f":"IF(COUNTBLANK(Registration!$B59)=1, \"\",'Trick Catch'!X60)","v":""},{"$f":"IF(COUNTBLANK(Registration!$B59)=1, \"\",IF(COUNTBLANK(L60)=1,\"\",'Trick Catch'!Z60))","v":""},{"$f":"IF(COUNTBLANK(Registration!$B59)=1, \"\",'Fast Catch'!F59)","v":""},{"$f":"IF(COUNTBLANK(Registration!$B59)=1, \"\",IF(COUNTBLANK(N60)=1,\"\",'Fast Catch'!H59))","v":""},{"$f":"IF(COUNTBLANK(Registration!$B59)=1, \"\",Endurance!C59)","v":""},{"$f":"IF(COUNTBLANK(Registration!$B59)=1, \"\",IF(COUNTBLANK(P60)=1,\"\",Endurance!E59))","v":""}]
[{"$f":"IF(COUNTBLANK(Registration!$B60)=1, \"\",RANK(B61,$B$3:$B$101,1))","v":""},{"$f":"IF(COUNTBLANK(Registration!$B60)=1, \"\",SUM(Q61,O61,I61,M61,K61,G61))","v":""},{"$f":"IF(COUNTBLANK(Registration!B60)=1,\"\",Registration!B60)","v":""},{"$f":"IF(COUNTBLANK(Registration!B60)=1,\"\",Registration!A60)","v":""},{"$f":"IF(COUNTBLANK(C61)=1,\"\",Registration!E60)","v":""},{"$f":"IF(COUNTBLANK(Registration!B60)=1, \"\",'Aussie Round'!V61)","v":""},{"$f":"IF(COUNTBLANK(Registration!$B60)=1, \"\",IF(COUNTBLANK(F61)=1,\"\",'Aussie Round'!X61))","v":""},{"$f":"IF(COUNTBLANK(Registration!$B60)=1, \"\",Accuracy!L60)","v":""},{"$f":"IF(COUNTBLANK(Registration!$B60)=1, \"\",IF(COUNTBLANK(H61)=1,\"\",Accuracy!N60))","v":""},{"$f":"IF(COUNTBLANK(Registration!$B60)=1, \"\",MTA!G60)","v":""},{"$f":"IF(COUNTBLANK(Registration!$B60)=1, \"\",IF(COUNTBLANK(J61)=1,\"\",MTA!I60))","v":""},{"$f":"IF(COUNTBLANK(Registration!$B60)=1, \"\",'Trick Catch'!X61)","v":""},{"$f":"IF(COUNTBLANK(Registration!$B60)=1, \"\",IF(COUNTBLANK(L61)=1,\"\",'Trick Catch'!Z61))","v":""},{"$f":"IF(COUNTBLANK(Registration!$B60)=1, \"\",'Fast Catch'!F60)","v":""},{"$f":"IF(COUNTBLANK(Registration!$B60)=1, \"\",IF(COUNTBLANK(N61)=1,\"\",'Fast Catch'!H60))","v":""},{"$f":"IF(COUNTBLANK(Registration!$B60)=1, \"\",Endurance!C60)","v":""},{"$f":"IF(COUNTBLANK(Registration!$B60)=1, \"\",IF(COUNTBLANK(P61)=1,\"\",Endurance!E60))","v":""}]
[{"$f":"IF(COUNTBLANK(Registration!$B61)=1, \"\",RANK(B62,$B$3:$B$101,1))","v":""},{"$f":"IF(COUNTBLANK(Registration!$B61)=1, \"\",SUM(Q62,O62,I62,M62,K62,G62))","v":""},{"$f":"IF(COUNTBLANK(Registration!B61)=1,\"\",Registration!B61)","v":""},{"$f":"IF(COUNTBLANK(Registration!B61)=1,\"\",Registration!A61)","v":""},{"$f":"IF(COUNTBLANK(C62)=1,\"\",Registration!E61)","v":""},{"$f":"IF(COUNTBLANK(Registration!B61)=1, \"\",'Aussie Round'!V62)","v":""},{"$f":"IF(COUNTBLANK(Registration!$B61)=1, \"\",IF(COUNTBLANK(F62)=1,\"\",'Aussie Round'!X62))","v":""},{"$f":"IF(COUNTBLANK(Registration!$B61)=1, \"\",Accuracy!L61)","v":""},{"$f":"IF(COUNTBLANK(Registration!$B61)=1, \"\",IF(COUNTBLANK(H62)=1,\"\",Accuracy!N61))","v":""},{"$f":"IF(COUNTBLANK(Registration!$B61)=1, \"\",MTA!G61)","v":""},{"$f":"IF(COUNTBLANK(Registration!$B61)=1, \"\",IF(COUNTBLANK(J62)=1,\"\",MTA!I61))","v":""},{"$f":"IF(COUNTBLANK(Registration!$B61)=1, \"\",'Trick Catch'!X62)","v":""},{"$f":"IF(COUNTBLANK(Registration!$B61)=1, \"\",IF(COUNTBLANK(L62)=1,\"\",'Trick Catch'!Z62))","v":""},{"$f":"IF(COUNTBLANK(Registration!$B61)=1, \"\",'Fast Catch'!F61)","v":""},{"$f":"IF(COUNTBLANK(Registration!$B61)=1, \"\",IF(COUNTBLANK(N62)=1,\"\",'Fast Catch'!H61))","v":""},{"$f":"IF(COUNTBLANK(Registration!$B61)=1, \"\",Endurance!C61)","v":""},{"$f":"IF(COUNTBLANK(Registration!$B61)=1, \"\",IF(COUNTBLANK(P62)=1,\"\",Endurance!E61))","v":""}]
[{"$f":"IF(COUNTBLANK(Registration!$B62)=1, \"\",RANK(B63,$B$3:$B$101,1))","v":""},{"$f":"IF(COUNTBLANK(Registration!$B62)=1, \"\",SUM(Q63,O63,I63,M63,K63,G63))","v":""},{"$f":"IF(COUNTBLANK(Registration!B62)=1,\"\",Registration!B62)","v":""},{"$f":"IF(COUNTBLANK(Registration!B62)=1,\"\",Registration!A62)","v":""},{"$f":"IF(COUNTBLANK(C63)=1,\"\",Registration!E62)","v":""},{"$f":"IF(COUNTBLANK(Registration!B62)=1, \"\",'Aussie Round'!V63)","v":""},{"$f":"IF(COUNTBLANK(Registration!$B62)=1, \"\",IF(COUNTBLANK(F63)=1,\"\",'Aussie Round'!X63))","v":""},{"$f":"IF(COUNTBLANK(Registration!$B62)=1, \"\",Accuracy!L62)","v":""},{"$f":"IF(COUNTBLANK(Registration!$B62)=1, \"\",IF(COUNTBLANK(H63)=1,\"\",Accuracy!N62))","v":""},{"$f":"IF(COUNTBLANK(Registration!$B62)=1, \"\",MTA!G62)","v":""},{"$f":"IF(COUNTBLANK(Registration!$B62)=1, \"\",IF(COUNTBLANK(J63)=1,\"\",MTA!I62))","v":""},{"$f":"IF(COUNTBLANK(Registration!$B62)=1, \"\",'Trick Catch'!X63)","v":""},{"$f":"IF(COUNTBLANK(Registration!$B62)=1, \"\",IF(COUNTBLANK(L63)=1,\"\",'Trick Catch'!Z63))","v":""},{"$f":"IF(COUNTBLANK(Registration!$B62)=1, \"\",'Fast Catch'!F62)","v":""},{"$f":"IF(COUNTBLANK(Registration!$B62)=1, \"\",IF(COUNTBLANK(N63)=1,\"\",'Fast Catch'!H62))","v":""},{"$f":"IF(COUNTBLANK(Registration!$B62)=1, \"\",Endurance!C62)","v":""},{"$f":"IF(COUNTBLANK(Registration!$B62)=1, \"\",IF(COUNTBLANK(P63)=1,\"\",Endurance!E62))","v":""}]
[{"$f":"IF(COUNTBLANK(Registration!$B63)=1, \"\",RANK(B64,$B$3:$B$101,1))","v":""},{"$f":"IF(COUNTBLANK(Registration!$B63)=1, \"\",SUM(Q64,O64,I64,M64,K64,G64))","v":""},{"$f":"IF(COUNTBLANK(Registration!B63)=1,\"\",Registration!B63)","v":""},{"$f":"IF(COUNTBLANK(Registration!B63)=1,\"\",Registration!A63)","v":""},{"$f":"IF(COUNTBLANK(C64)=1,\"\",Registration!E63)","v":""},{"$f":"IF(COUNTBLANK(Registration!B63)=1, \"\",'Aussie Round'!V64)","v":""},{"$f":"IF(COUNTBLANK(Registration!$B63)=1, \"\",IF(COUNTBLANK(F64)=1,\"\",'Aussie Round'!X64))","v":""},{"$f":"IF(COUNTBLANK(Registration!$B63)=1, \"\",Accuracy!L63)","v":""},{"$f":"IF(COUNTBLANK(Registration!$B63)=1, \"\",IF(COUNTBLANK(H64)=1,\"\",Accuracy!N63))","v":""},{"$f":"IF(COUNTBLANK(Registration!$B63)=1, \"\",MTA!G63)","v":""},{"$f":"IF(COUNTBLANK(Registration!$B63)=1, \"\",IF(COUNTBLANK(J64)=1,\"\",MTA!I63))","v":""},{"$f":"IF(COUNTBLANK(Registration!$B63)=1, \"\",'Trick Catch'!X64)","v":""},{"$f":"IF(COUNTBLANK(Registration!$B63)=1, \"\",IF(COUNTBLANK(L64)=1,\"\",'Trick Catch'!Z64))","v":""},{"$f":"IF(COUNTBLANK(Registration!$B63)=1, \"\",'Fast Catch'!F63)","v":""},{"$f":"IF(COUNTBLANK(Registration!$B63)=1, \"\",IF(COUNTBLANK(N64)=1,\"\",'Fast Catch'!H63))","v":""},{"$f":"IF(COUNTBLANK(Registration!$B63)=1, \"\",Endurance!C63)","v":""},{"$f":"IF(COUNTBLANK(Registration!$B63)=1, \"\",IF(COUNTBLANK(P64)=1,\"\",Endurance!E63))","v":""}]
[{"$f":"IF(COUNTBLANK(Registration!$B64)=1, \"\",RANK(B65,$B$3:$B$101,1))","v":""},{"$f":"IF(COUNTBLANK(Registration!$B64)=1, \"\",SUM(Q65,O65,I65,M65,K65,G65))","v":""},{"$f":"IF(COUNTBLANK(Registration!B64)=1,\"\",Registration!B64)","v":""},{"$f":"IF(COUNTBLANK(Registration!B64)=1,\"\",Registration!A64)","v":""},{"$f":"IF(COUNTBLANK(C65)=1,\"\",Registration!E64)","v":""},{"$f":"IF(COUNTBLANK(Registration!B64)=1, \"\",'Aussie Round'!V65)","v":""},{"$f":"IF(COUNTBLANK(Registration!$B64)=1, \"\",IF(COUNTBLANK(F65)=1,\"\",'Aussie Round'!X65))","v":""},{"$f":"IF(COUNTBLANK(Registration!$B64)=1, \"\",Accuracy!L64)","v":""},{"$f":"IF(COUNTBLANK(Registration!$B64)=1, \"\",IF(COUNTBLANK(H65)=1,\"\",Accuracy!N64))","v":""},{"$f":"IF(COUNTBLANK(Registration!$B64)=1, \"\",MTA!G64)","v":""},{"$f":"IF(COUNTBLANK(Registration!$B64)=1, \"\",IF(COUNTBLANK(J65)=1,\"\",MTA!I64))","v":""},{"$f":"IF(COUNTBLANK(Registration!$B64)=1, \"\",'Trick Catch'!X65)","v":""},{"$f":"IF(COUNTBLANK(Registration!$B64)=1, \"\",IF(COUNTBLANK(L65)=1,\"\",'Trick Catch'!Z65))","v":""},{"$f":"IF(COUNTBLANK(Registration!$B64)=1, \"\",'Fast Catch'!F64)","v":""},{"$f":"IF(COUNTBLANK(Registration!$B64)=1, \"\",IF(COUNTBLANK(N65)=1,\"\",'Fast Catch'!H64))","v":""},{"$f":"IF(COUNTBLANK(Registration!$B64)=1, \"\",Endurance!C64)","v":""},{"$f":"IF(COUNTBLANK(Registration!$B64)=1, \"\",IF(COUNTBLANK(P65)=1,\"\",Endurance!E64))","v":""}]
[{"$f":"IF(COUNTBLANK(Registration!$B65)=1, \"\",RANK(B66,$B$3:$B$101,1))","v":""},{"$f":"IF(COUNTBLANK(Registration!$B65)=1, \"\",SUM(Q66,O66,I66,M66,K66,G66))","v":""},{"$f":"IF(COUNTBLANK(Registration!B65)=1,\"\",Registration!B65)","v":""},{"$f":"IF(COUNTBLANK(Registration!B65)=1,\"\",Registration!A65)","v":""},{"$f":"IF(COUNTBLANK(C66)=1,\"\",Registration!E65)","v":""},{"$f":"IF(COUNTBLANK(Registration!B65)=1, \"\",'Aussie Round'!V66)","v":""},{"$f":"IF(COUNTBLANK(Registration!$B65)=1, \"\",IF(COUNTBLANK(F66)=1,\"\",'Aussie Round'!X66))","v":""},{"$f":"IF(COUNTBLANK(Registration!$B65)=1, \"\",Accuracy!L65)","v":""},{"$f":"IF(COUNTBLANK(Registration!$B65)=1, \"\",IF(COUNTBLANK(H66)=1,\"\",Accuracy!N65))","v":""},{"$f":"IF(COUNTBLANK(Registration!$B65)=1, \"\",MTA!G65)","v":""},{"$f":"IF(COUNTBLANK(Registration!$B65)=1, \"\",IF(COUNTBLANK(J66)=1,\"\",MTA!I65))","v":""},{"$f":"IF(COUNTBLANK(Registration!$B65)=1, \"\",'Trick Catch'!X66)","v":""},{"$f":"IF(COUNTBLANK(Registration!$B65)=1, \"\",IF(COUNTBLANK(L66)=1,\"\",'Trick Catch'!Z66))","v":""},{"$f":"IF(COUNTBLANK(Registration!$B65)=1, \"\",'Fast Catch'!F65)","v":""},{"$f":"IF(COUNTBLANK(Registration!$B65)=1, \"\",IF(COUNTBLANK(N66)=1,\"\",'Fast Catch'!H65))","v":""},{"$f":"IF(COUNTBLANK(Registration!$B65)=1, \"\",Endurance!C65)","v":""},{"$f":"IF(COUNTBLANK(Registration!$B65)=1, \"\",IF(COUNTBLANK(P66)=1,\"\",Endurance!E65))","v":""}]
[{"$f":"IF(COUNTBLANK(Registration!$B66)=1, \"\",RANK(B67,$B$3:$B$101,1))","v":""},{"$f":"IF(COUNTBLANK(Registration!$B66)=1, \"\",SUM(Q67,O67,I67,M67,K67,G67))","v":""},{"$f":"IF(COUNTBLANK(Registration!B66)=1,\"\",Registration!B66)","v":""},{"$f":"IF(COUNTBLANK(Registration!B66)=1,\"\",Registration!A66)","v":""},{"$f":"IF(COUNTBLANK(C67)=1,\"\",Registration!E66)","v":""},{"$f":"IF(COUNTBLANK(Registration!B66)=1, \"\",'Aussie Round'!V67)","v":""},{"$f":"IF(COUNTBLANK(Registration!$B66)=1, \"\",IF(COUNTBLANK(F67)=1,\"\",'Aussie Round'!X67))","v":""},{"$f":"IF(COUNTBLANK(Registration!$B66)=1, \"\",Accuracy!L66)","v":""},{"$f":"IF(COUNTBLANK(Registration!$B66)=1, \"\",IF(COUNTBLANK(H67)=1,\"\",Accuracy!N66))","v":""},{"$f":"IF(COUNTBLANK(Registration!$B66)=1, \"\",MTA!G66)","v":""},{"$f":"IF(COUNTBLANK(Registration!$B66)=1, \"\",IF(COUNTBLANK(J67)=1,\"\",MTA!I66))","v":""},{"$f":"IF(COUNTBLANK(Registration!$B66)=1, \"\",'Trick Catch'!X67)","v":""},{"$f":"IF(COUNTBLANK(Registration!$B66)=1, \"\",IF(COUNTBLANK(L67)=1,\"\",'Trick Catch'!Z67))","v":""},{"$f":"IF(COUNTBLANK(Registration!$B66)=1, \"\",'Fast Catch'!F66)","v":""},{"$f":"IF(COUNTBLANK(Registration!$B66)=1, \"\",IF(COUNTBLANK(N67)=1,\"\",'Fast Catch'!H66))","v":""},{"$f":"IF(COUNTBLANK(Registration!$B66)=1, \"\",Endurance!C66)","v":""},{"$f":"IF(COUNTBLANK(Registration!$B66)=1, \"\",IF(COUNTBLANK(P67)=1,\"\",Endurance!E66))","v":""}]
[{"$f":"IF(COUNTBLANK(Registration!$B67)=1, \"\",RANK(B68,$B$3:$B$101,1))","v":""},{"$f":"IF(COUNTBLANK(Registration!$B67)=1, \"\",SUM(Q68,O68,I68,M68,K68,G68))","v":""},{"$f":"IF(COUNTBLANK(Registration!B67)=1,\"\",Registration!B67)","v":""},{"$f":"IF(COUNTBLANK(Registration!B67)=1,\"\",Registration!A67)","v":""},{"$f":"IF(COUNTBLANK(C68)=1,\"\",Registration!E67)","v":""},{"$f":"IF(COUNTBLANK(Registration!B67)=1, \"\",'Aussie Round'!V68)","v":""},{"$f":"IF(COUNTBLANK(Registration!$B67)=1, \"\",IF(COUNTBLANK(F68)=1,\"\",'Aussie Round'!X68))","v":""},{"$f":"IF(COUNTBLANK(Registration!$B67)=1, \"\",Accuracy!L67)","v":""},{"$f":"IF(COUNTBLANK(Registration!$B67)=1, \"\",IF(COUNTBLANK(H68)=1,\"\",Accuracy!N67))","v":""},{"$f":"IF(COUNTBLANK(Registration!$B67)=1, \"\",MTA!G67)","v":""},{"$f":"IF(COUNTBLANK(Registration!$B67)=1, \"\",IF(COUNTBLANK(J68)=1,\"\",MTA!I67))","v":""},{"$f":"IF(COUNTBLANK(Registration!$B67)=1, \"\",'Trick Catch'!X68)","v":""},{"$f":"IF(COUNTBLANK(Registration!$B67)=1, \"\",IF(COUNTBLANK(L68)=1,\"\",'Trick Catch'!Z68))","v":""},{"$f":"IF(COUNTBLANK(Registration!$B67)=1, \"\",'Fast Catch'!F67)","v":""},{"$f":"IF(COUNTBLANK(Registration!$B67)=1, \"\",IF(COUNTBLANK(N68)=1,\"\",'Fast Catch'!H67))","v":""},{"$f":"IF(COUNTBLANK(Registration!$B67)=1, \"\",Endurance!C67)","v":""},{"$f":"IF(COUNTBLANK(Registration!$B67)=1, \"\",IF(COUNTBLANK(P68)=1,\"\",Endurance!E67))","v":""}]
[{"$f":"IF(COUNTBLANK(Registration!$B68)=1, \"\",RANK(B69,$B$3:$B$101,1))","v":""},{"$f":"IF(COUNTBLANK(Registration!$B68)=1, \"\",SUM(Q69,O69,I69,M69,K69,G69))","v":""},{"$f":"IF(COUNTBLANK(Registration!B68)=1,\"\",Registration!B68)","v":""},{"$f":"IF(COUNTBLANK(Registration!B68)=1,\"\",Registration!A68)","v":""},{"$f":"IF(COUNTBLANK(C69)=1,\"\",Registration!E68)","v":""},{"$f":"IF(COUNTBLANK(Registration!B68)=1, \"\",'Aussie Round'!V69)","v":""},{"$f":"IF(COUNTBLANK(Registration!$B68)=1, \"\",IF(COUNTBLANK(F69)=1,\"\",'Aussie Round'!X69))","v":""},{"$f":"IF(COUNTBLANK(Registration!$B68)=1, \"\",Accuracy!L68)","v":""},{"$f":"IF(COUNTBLANK(Registration!$B68)=1, \"\",IF(COUNTBLANK(H69)=1,\"\",Accuracy!N68))","v":""},{"$f":"IF(COUNTBLANK(Registration!$B68)=1, \"\",MTA!G68)","v":""},{"$f":"IF(COUNTBLANK(Registration!$B68)=1, \"\",IF(COUNTBLANK(J69)=1,\"\",MTA!I68))","v":""},{"$f":"IF(COUNTBLANK(Registration!$B68)=1, \"\",'Trick Catch'!X69)","v":""},{"$f":"IF(COUNTBLANK(Registration!$B68)=1, \"\",IF(COUNTBLANK(L69)=1,\"\",'Trick Catch'!Z69))","v":""},{"$f":"IF(COUNTBLANK(Registration!$B68)=1, \"\",'Fast Catch'!F68)","v":""},{"$f":"IF(COUNTBLANK(Registration!$B68)=1, \"\",IF(COUNTBLANK(N69)=1,\"\",'Fast Catch'!H68))","v":""},{"$f":"IF(COUNTBLANK(Registration!$B68)=1, \"\",Endurance!C68)","v":""},{"$f":"IF(COUNTBLANK(Registration!$B68)=1, \"\",IF(COUNTBLANK(P69)=1,\"\",Endurance!E68))","v":""}]
[{"$f":"IF(COUNTBLANK(Registration!$B69)=1, \"\",RANK(B70,$B$3:$B$101,1))","v":""},{"$f":"IF(COUNTBLANK(Registration!$B69)=1, \"\",SUM(Q70,O70,I70,M70,K70,G70))","v":""},{"$f":"IF(COUNTBLANK(Registration!B69)=1,\"\",Registration!B69)","v":""},{"$f":"IF(COUNTBLANK(Registration!B69)=1,\"\",Registration!A69)","v":""},{"$f":"IF(COUNTBLANK(C70)=1,\"\",Registration!E69)","v":""},{"$f":"IF(COUNTBLANK(Registration!B69)=1, \"\",'Aussie Round'!V70)","v":""},{"$f":"IF(COUNTBLANK(Registration!$B69)=1, \"\",IF(COUNTBLANK(F70)=1,\"\",'Aussie Round'!X70))","v":""},{"$f":"IF(COUNTBLANK(Registration!$B69)=1, \"\",Accuracy!L69)","v":""},{"$f":"IF(COUNTBLANK(Registration!$B69)=1, \"\",IF(COUNTBLANK(H70)=1,\"\",Accuracy!N69))","v":""},{"$f":"IF(COUNTBLANK(Registration!$B69)=1, \"\",MTA!G69)","v":""},{"$f":"IF(COUNTBLANK(Registration!$B69)=1, \"\",IF(COUNTBLANK(J70)=1,\"\",MTA!I69))","v":""},{"$f":"IF(COUNTBLANK(Registration!$B69)=1, \"\",'Trick Catch'!X70)","v":""},{"$f":"IF(COUNTBLANK(Registration!$B69)=1, \"\",IF(COUNTBLANK(L70)=1,\"\",'Trick Catch'!Z70))","v":""},{"$f":"IF(COUNTBLANK(Registration!$B69)=1, \"\",'Fast Catch'!F69)","v":""},{"$f":"IF(COUNTBLANK(Registration!$B69)=1, \"\",IF(COUNTBLANK(N70)=1,\"\",'Fast Catch'!H69))","v":""},{"$f":"IF(COUNTBLANK(Registration!$B69)=1, \"\",Endurance!C69)","v":""},{"$f":"IF(COUNTBLANK(Registration!$B69)=1, \"\",IF(COUNTBLANK(P70)=1,\"\",Endurance!E69))","v":""}]
[{"$f":"IF(COUNTBLANK(Registration!$B70)=1, \"\",RANK(B71,$B$3:$B$101,1))","v":""},{"$f":"IF(COUNTBLANK(Registration!$B70)=1, \"\",SUM(Q71,O71,I71,M71,K71,G71))","v":""},{"$f":"IF(COUNTBLANK(Registration!B70)=1,\"\",Registration!B70)","v":""},{"$f":"IF(COUNTBLANK(Registration!B70)=1,\"\",Registration!A70)","v":""},{"$f":"IF(COUNTBLANK(C71)=1,\"\",Registration!E70)","v":""},{"$f":"IF(COUNTBLANK(Registration!B70)=1, \"\",'Aussie Round'!V71)","v":""},{"$f":"IF(COUNTBLANK(Registration!$B70)=1, \"\",IF(COUNTBLANK(F71)=1,\"\",'Aussie Round'!X71))","v":""},{"$f":"IF(COUNTBLANK(Registration!$B70)=1, \"\",Accuracy!L70)","v":""},{"$f":"IF(COUNTBLANK(Registration!$B70)=1, \"\",IF(COUNTBLANK(H71)=1,\"\",Accuracy!N70))","v":""},{"$f":"IF(COUNTBLANK(Registration!$B70)=1, \"\",MTA!G70)","v":""},{"$f":"IF(COUNTBLANK(Registration!$B70)=1, \"\",IF(COUNTBLANK(J71)=1,\"\",MTA!I70))","v":""},{"$f":"IF(COUNTBLANK(Registration!$B70)=1, \"\",'Trick Catch'!X71)","v":""},{"$f":"IF(COUNTBLANK(Registration!$B70)=1, \"\",IF(COUNTBLANK(L71)=1,\"\",'Trick Catch'!Z71))","v":""},{"$f":"IF(COUNTBLANK(Registration!$B70)=1, \"\",'Fast Catch'!F70)","v":""},{"$f":"IF(COUNTBLANK(Registration!$B70)=1, \"\",IF(COUNTBLANK(N71)=1,\"\",'Fast Catch'!H70))","v":""},{"$f":"IF(COUNTBLANK(Registration!$B70)=1, \"\",Endurance!C70)","v":""},{"$f":"IF(COUNTBLANK(Registration!$B70)=1, \"\",IF(COUNTBLANK(P71)=1,\"\",Endurance!E70))","v":""}]
[{"$f":"IF(COUNTBLANK(Registration!$B71)=1, \"\",RANK(B72,$B$3:$B$101,1))","v":""},{"$f":"IF(COUNTBLANK(Registration!$B71)=1, \"\",SUM(Q72,O72,I72,M72,K72,G72))","v":""},{"$f":"IF(COUNTBLANK(Registration!B71)=1,\"\",Registration!B71)","v":""},{"$f":"IF(COUNTBLANK(Registration!B71)=1,\"\",Registration!A71)","v":""},{"$f":"IF(COUNTBLANK(C72)=1,\"\",Registration!E71)","v":""},{"$f":"IF(COUNTBLANK(Registration!B71)=1, \"\",'Aussie Round'!V72)","v":""},{"$f":"IF(COUNTBLANK(Registration!$B71)=1, \"\",IF(COUNTBLANK(F72)=1,\"\",'Aussie Round'!X72))","v":""},{"$f":"IF(COUNTBLANK(Registration!$B71)=1, \"\",Accuracy!L71)","v":""},{"$f":"IF(COUNTBLANK(Registration!$B71)=1, \"\",IF(COUNTBLANK(H72)=1,\"\",Accuracy!N71))","v":""},{"$f":"IF(COUNTBLANK(Registration!$B71)=1, \"\",MTA!G71)","v":""},{"$f":"IF(COUNTBLANK(Registration!$B71)=1, \"\",IF(COUNTBLANK(J72)=1,\"\",MTA!I71))","v":""},{"$f":"IF(COUNTBLANK(Registration!$B71)=1, \"\",'Trick Catch'!X72)","v":""},{"$f":"IF(COUNTBLANK(Registration!$B71)=1, \"\",IF(COUNTBLANK(L72)=1,\"\",'Trick Catch'!Z72))","v":""},{"$f":"IF(COUNTBLANK(Registration!$B71)=1, \"\",'Fast Catch'!F71)","v":""},{"$f":"IF(COUNTBLANK(Registration!$B71)=1, \"\",IF(COUNTBLANK(N72)=1,\"\",'Fast Catch'!H71))","v":""},{"$f":"IF(COUNTBLANK(Registration!$B71)=1, \"\",Endurance!C71)","v":""},{"$f":"IF(COUNTBLANK(Registration!$B71)=1, \"\",IF(COUNTBLANK(P72)=1,\"\",Endurance!E71))","v":""}]
[{"$f":"IF(COUNTBLANK(Registration!$B72)=1, \"\",RANK(B73,$B$3:$B$101,1))","v":""},{"$f":"IF(COUNTBLANK(Registration!$B72)=1, \"\",SUM(Q73,O73,I73,M73,K73,G73))","v":""},{"$f":"IF(COUNTBLANK(Registration!B72)=1,\"\",Registration!B72)","v":""},{"$f":"IF(COUNTBLANK(Registration!B72)=1,\"\",Registration!A72)","v":""},{"$f":"IF(COUNTBLANK(C73)=1,\"\",Registration!E72)","v":""},{"$f":"IF(COUNTBLANK(Registration!B72)=1, \"\",'Aussie Round'!V73)","v":""},{"$f":"IF(COUNTBLANK(Registration!$B72)=1, \"\",IF(COUNTBLANK(F73)=1,\"\",'Aussie Round'!X73))","v":""},{"$f":"IF(COUNTBLANK(Registration!$B72)=1, \"\",Accuracy!L72)","v":""},{"$f":"IF(COUNTBLANK(Registration!$B72)=1, \"\",IF(COUNTBLANK(H73)=1,\"\",Accuracy!N72))","v":""},{"$f":"IF(COUNTBLANK(Registration!$B72)=1, \"\",MTA!G72)","v":""},{"$f":"IF(COUNTBLANK(Registration!$B72)=1, \"\",IF(COUNTBLANK(J73)=1,\"\",MTA!I72))","v":""},{"$f":"IF(COUNTBLANK(Registration!$B72)=1, \"\",'Trick Catch'!X73)","v":""},{"$f":"IF(COUNTBLANK(Registration!$B72)=1, \"\",IF(COUNTBLANK(L73)=1,\"\",'Trick Catch'!Z73))","v":""},{"$f":"IF(COUNTBLANK(Registration!$B72)=1, \"\",'Fast Catch'!F72)","v":""},{"$f":"IF(COUNTBLANK(Registration!$B72)=1, \"\",IF(COUNTBLANK(N73)=1,\"\",'Fast Catch'!H72))","v":""},{"$f":"IF(COUNTBLANK(Registration!$B72)=1, \"\",Endurance!C72)","v":""},{"$f":"IF(COUNTBLANK(Registration!$B72)=1, \"\",IF(COUNTBLANK(P73)=1,\"\",Endurance!E72))","v":""}]
[{"$f":"IF(COUNTBLANK(Registration!$B73)=1, \"\",RANK(B74,$B$3:$B$101,1))","v":""},{"$f":"IF(COUNTBLANK(Registration!$B73)=1, \"\",SUM(Q74,O74,I74,M74,K74,G74))","v":""},{"$f":"IF(COUNTBLANK(Registration!B73)=1,\"\",Registration!B73)","v":""},{"$f":"IF(COUNTBLANK(Registration!B73)=1,\"\",Registration!A73)","v":""},{"$f":"IF(COUNTBLANK(C74)=1,\"\",Registration!E73)","v":""},{"$f":"IF(COUNTBLANK(Registration!B73)=1, \"\",'Aussie Round'!V74)","v":""},{"$f":"IF(COUNTBLANK(Registration!$B73)=1, \"\",IF(COUNTBLANK(F74)=1,\"\",'Aussie Round'!X74))","v":""},{"$f":"IF(COUNTBLANK(Registration!$B73)=1, \"\",Accuracy!L73)","v":""},{"$f":"IF(COUNTBLANK(Registration!$B73)=1, \"\",IF(COUNTBLANK(H74)=1,\"\",Accuracy!N73))","v":""},{"$f":"IF(COUNTBLANK(Registration!$B73)=1, \"\",MTA!G73)","v":""},{"$f":"IF(COUNTBLANK(Registration!$B73)=1, \"\",IF(COUNTBLANK(J74)=1,\"\",MTA!I73))","v":""},{"$f":"IF(COUNTBLANK(Registration!$B73)=1, \"\",'Trick Catch'!X74)","v":""},{"$f":"IF(COUNTBLANK(Registration!$B73)=1, \"\",IF(COUNTBLANK(L74)=1,\"\",'Trick Catch'!Z74))","v":""},{"$f":"IF(COUNTBLANK(Registration!$B73)=1, \"\",'Fast Catch'!F73)","v":""},{"$f":"IF(COUNTBLANK(Registration!$B73)=1, \"\",IF(COUNTBLANK(N74)=1,\"\",'Fast Catch'!H73))","v":""},{"$f":"IF(COUNTBLANK(Registration!$B73)=1, \"\",Endurance!C73)","v":""},{"$f":"IF(COUNTBLANK(Registration!$B73)=1, \"\",IF(COUNTBLANK(P74)=1,\"\",Endurance!E73))","v":""}]
[{"$f":"IF(COUNTBLANK(Registration!$B74)=1, \"\",RANK(B75,$B$3:$B$101,1))","v":""},{"$f":"IF(COUNTBLANK(Registration!$B74)=1, \"\",SUM(Q75,O75,I75,M75,K75,G75))","v":""},{"$f":"IF(COUNTBLANK(Registration!B74)=1,\"\",Registration!B74)","v":""},{"$f":"IF(COUNTBLANK(Registration!B74)=1,\"\",Registration!A74)","v":""},{"$f":"IF(COUNTBLANK(C75)=1,\"\",Registration!E74)","v":""},{"$f":"IF(COUNTBLANK(Registration!B74)=1, \"\",'Aussie Round'!V75)","v":""},{"$f":"IF(COUNTBLANK(Registration!$B74)=1, \"\",IF(COUNTBLANK(F75)=1,\"\",'Aussie Round'!X75))","v":""},{"$f":"IF(COUNTBLANK(Registration!$B74)=1, \"\",Accuracy!L74)","v":""},{"$f":"IF(COUNTBLANK(Registration!$B74)=1, \"\",IF(COUNTBLANK(H75)=1,\"\",Accuracy!N74))","v":""},{"$f":"IF(COUNTBLANK(Registration!$B74)=1, \"\",MTA!G74)","v":""},{"$f":"IF(COUNTBLANK(Registration!$B74)=1, \"\",IF(COUNTBLANK(J75)=1,\"\",MTA!I74))","v":""},{"$f":"IF(COUNTBLANK(Registration!$B74)=1, \"\",'Trick Catch'!X75)","v":""},{"$f":"IF(COUNTBLANK(Registration!$B74)=1, \"\",IF(COUNTBLANK(L75)=1,\"\",'Trick Catch'!Z75))","v":""},{"$f":"IF(COUNTBLANK(Registration!$B74)=1, \"\",'Fast Catch'!F74)","v":""},{"$f":"IF(COUNTBLANK(Registration!$B74)=1, \"\",IF(COUNTBLANK(N75)=1,\"\",'Fast Catch'!H74))","v":""},{"$f":"IF(COUNTBLANK(Registration!$B74)=1, \"\",Endurance!C74)","v":""},{"$f":"IF(COUNTBLANK(Registration!$B74)=1, \"\",IF(COUNTBLANK(P75)=1,\"\",Endurance!E74))","v":""}]
[{"$f":"IF(COUNTBLANK(Registration!$B75)=1, \"\",RANK(B76,$B$3:$B$101,1))","v":""},{"$f":"IF(COUNTBLANK(Registration!$B75)=1, \"\",SUM(Q76,O76,I76,M76,K76,G76))","v":""},{"$f":"IF(COUNTBLANK(Registration!B75)=1,\"\",Registration!B75)","v":""},{"$f":"IF(COUNTBLANK(Registration!B75)=1,\"\",Registration!A75)","v":""},{"$f":"IF(COUNTBLANK(C76)=1,\"\",Registration!E75)","v":""},{"$f":"IF(COUNTBLANK(Registration!B75)=1, \"\",'Aussie Round'!V76)","v":""},{"$f":"IF(COUNTBLANK(Registration!$B75)=1, \"\",IF(COUNTBLANK(F76)=1,\"\",'Aussie Round'!X76))","v":""},{"$f":"IF(COUNTBLANK(Registration!$B75)=1, \"\",Accuracy!L75)","v":""},{"$f":"IF(COUNTBLANK(Registration!$B75)=1, \"\",IF(COUNTBLANK(H76)=1,\"\",Accuracy!N75))","v":""},{"$f":"IF(COUNTBLANK(Registration!$B75)=1, \"\",MTA!G75)","v":""},{"$f":"IF(COUNTBLANK(Registration!$B75)=1, \"\",IF(COUNTBLANK(J76)=1,\"\",MTA!I75))","v":""},{"$f":"IF(COUNTBLANK(Registration!$B75)=1, \"\",'Trick Catch'!X76)","v":""},{"$f":"IF(COUNTBLANK(Registration!$B75)=1, \"\",IF(COUNTBLANK(L76)=1,\"\",'Trick Catch'!Z76))","v":""},{"$f":"IF(COUNTBLANK(Registration!$B75)=1, \"\",'Fast Catch'!F75)","v":""},{"$f":"IF(COUNTBLANK(Registration!$B75)=1, \"\",IF(COUNTBLANK(N76)=1,\"\",'Fast Catch'!H75))","v":""},{"$f":"IF(COUNTBLANK(Registration!$B75)=1, \"\",Endurance!C75)","v":""},{"$f":"IF(COUNTBLANK(Registration!$B75)=1, \"\",IF(COUNTBLANK(P76)=1,\"\",Endurance!E75))","v":""}]
[{"$f":"IF(COUNTBLANK(Registration!$B76)=1, \"\",RANK(B77,$B$3:$B$101,1))","v":""},{"$f":"IF(COUNTBLANK(Registration!$B76)=1, \"\",SUM(Q77,O77,I77,M77,K77,G77))","v":""},{"$f":"IF(COUNTBLANK(Registration!B76)=1,\"\",Registration!B76)","v":""},{"$f":"IF(COUNTBLANK(Registration!B76)=1,\"\",Registration!A76)","v":""},{"$f":"IF(COUNTBLANK(C77)=1,\"\",Registration!E76)","v":""},{"$f":"IF(COUNTBLANK(Registration!B76)=1, \"\",'Aussie Round'!V77)","v":""},{"$f":"IF(COUNTBLANK(Registration!$B76)=1, \"\",IF(COUNTBLANK(F77)=1,\"\",'Aussie Round'!X77))","v":""},{"$f":"IF(COUNTBLANK(Registration!$B76)=1, \"\",Accuracy!L76)","v":""},{"$f":"IF(COUNTBLANK(Registration!$B76)=1, \"\",IF(COUNTBLANK(H77)=1,\"\",Accuracy!N76))","v":""},{"$f":"IF(COUNTBLANK(Registration!$B76)=1, \"\",MTA!G76)","v":""},{"$f":"IF(COUNTBLANK(Registration!$B76)=1, \"\",IF(COUNTBLANK(J77)=1,\"\",MTA!I76))","v":""},{"$f":"IF(COUNTBLANK(Registration!$B76)=1, \"\",'Trick Catch'!X77)","v":""},{"$f":"IF(COUNTBLANK(Registration!$B76)=1, \"\",IF(COUNTBLANK(L77)=1,\"\",'Trick Catch'!Z77))","v":""},{"$f":"IF(COUNTBLANK(Registration!$B76)=1, \"\",'Fast Catch'!F76)","v":""},{"$f":"IF(COUNTBLANK(Registration!$B76)=1, \"\",IF(COUNTBLANK(N77)=1,\"\",'Fast Catch'!H76))","v":""},{"$f":"IF(COUNTBLANK(Registration!$B76)=1, \"\",Endurance!C76)","v":""},{"$f":"IF(COUNTBLANK(Registration!$B76)=1, \"\",IF(COUNTBLANK(P77)=1,\"\",Endurance!E76))","v":""}]
[{"$f":"IF(COUNTBLANK(Registration!$B77)=1, \"\",RANK(B78,$B$3:$B$101,1))","v":""},{"$f":"IF(COUNTBLANK(Registration!$B77)=1, \"\",SUM(Q78,O78,I78,M78,K78,G78))","v":""},{"$f":"IF(COUNTBLANK(Registration!B77)=1,\"\",Registration!B77)","v":""},{"$f":"IF(COUNTBLANK(Registration!B77)=1,\"\",Registration!A77)","v":""},{"$f":"IF(COUNTBLANK(C78)=1,\"\",Registration!E77)","v":""},{"$f":"IF(COUNTBLANK(Registration!B77)=1, \"\",'Aussie Round'!V78)","v":""},{"$f":"IF(COUNTBLANK(Registration!$B77)=1, \"\",IF(COUNTBLANK(F78)=1,\"\",'Aussie Round'!X78))","v":""},{"$f":"IF(COUNTBLANK(Registration!$B77)=1, \"\",Accuracy!L77)","v":""},{"$f":"IF(COUNTBLANK(Registration!$B77)=1, \"\",IF(COUNTBLANK(H78)=1,\"\",Accuracy!N77))","v":""},{"$f":"IF(COUNTBLANK(Registration!$B77)=1, \"\",MTA!G77)","v":""},{"$f":"IF(COUNTBLANK(Registration!$B77)=1, \"\",IF(COUNTBLANK(J78)=1,\"\",MTA!I77))","v":""},{"$f":"IF(COUNTBLANK(Registration!$B77)=1, \"\",'Trick Catch'!X78)","v":""},{"$f":"IF(COUNTBLANK(Registration!$B77)=1, \"\",IF(COUNTBLANK(L78)=1,\"\",'Trick Catch'!Z78))","v":""},{"$f":"IF(COUNTBLANK(Registration!$B77)=1, \"\",'Fast Catch'!F77)","v":""},{"$f":"IF(COUNTBLANK(Registration!$B77)=1, \"\",IF(COUNTBLANK(N78)=1,\"\",'Fast Catch'!H77))","v":""},{"$f":"IF(COUNTBLANK(Registration!$B77)=1, \"\",Endurance!C77)","v":""},{"$f":"IF(COUNTBLANK(Registration!$B77)=1, \"\",IF(COUNTBLANK(P78)=1,\"\",Endurance!E77))","v":""}]
[{"$f":"IF(COUNTBLANK(Registration!$B78)=1, \"\",RANK(B79,$B$3:$B$101,1))","v":""},{"$f":"IF(COUNTBLANK(Registration!$B78)=1, \"\",SUM(Q79,O79,I79,M79,K79,G79))","v":""},{"$f":"IF(COUNTBLANK(Registration!B78)=1,\"\",Registration!B78)","v":""},{"$f":"IF(COUNTBLANK(Registration!B78)=1,\"\",Registration!A78)","v":""},{"$f":"IF(COUNTBLANK(C79)=1,\"\",Registration!E78)","v":""},{"$f":"IF(COUNTBLANK(Registration!B78)=1, \"\",'Aussie Round'!V79)","v":""},{"$f":"IF(COUNTBLANK(Registration!$B78)=1, \"\",IF(COUNTBLANK(F79)=1,\"\",'Aussie Round'!X79))","v":""},{"$f":"IF(COUNTBLANK(Registration!$B78)=1, \"\",Accuracy!L78)","v":""},{"$f":"IF(COUNTBLANK(Registration!$B78)=1, \"\",IF(COUNTBLANK(H79)=1,\"\",Accuracy!N78))","v":""},{"$f":"IF(COUNTBLANK(Registration!$B78)=1, \"\",MTA!G78)","v":""},{"$f":"IF(COUNTBLANK(Registration!$B78)=1, \"\",IF(COUNTBLANK(J79)=1,\"\",MTA!I78))","v":""},{"$f":"IF(COUNTBLANK(Registration!$B78)=1, \"\",'Trick Catch'!X79)","v":""},{"$f":"IF(COUNTBLANK(Registration!$B78)=1, \"\",IF(COUNTBLANK(L79)=1,\"\",'Trick Catch'!Z79))","v":""},{"$f":"IF(COUNTBLANK(Registration!$B78)=1, \"\",'Fast Catch'!F78)","v":""},{"$f":"IF(COUNTBLANK(Registration!$B78)=1, \"\",IF(COUNTBLANK(N79)=1,\"\",'Fast Catch'!H78))","v":""},{"$f":"IF(COUNTBLANK(Registration!$B78)=1, \"\",Endurance!C78)","v":""},{"$f":"IF(COUNTBLANK(Registration!$B78)=1, \"\",IF(COUNTBLANK(P79)=1,\"\",Endurance!E78))","v":""}]
[{"$f":"IF(COUNTBLANK(Registration!$B79)=1, \"\",RANK(B80,$B$3:$B$101,1))","v":""},{"$f":"IF(COUNTBLANK(Registration!$B79)=1, \"\",SUM(Q80,O80,I80,M80,K80,G80))","v":""},{"$f":"IF(COUNTBLANK(Registration!B79)=1,\"\",Registration!B79)","v":""},{"$f":"IF(COUNTBLANK(Registration!B79)=1,\"\",Registration!A79)","v":""},{"$f":"IF(COUNTBLANK(C80)=1,\"\",Registration!E79)","v":""},{"$f":"IF(COUNTBLANK(Registration!B79)=1, \"\",'Aussie Round'!V80)","v":""},{"$f":"IF(COUNTBLANK(Registration!$B79)=1, \"\",IF(COUNTBLANK(F80)=1,\"\",'Aussie Round'!X80))","v":""},{"$f":"IF(COUNTBLANK(Registration!$B79)=1, \"\",Accuracy!L79)","v":""},{"$f":"IF(COUNTBLANK(Registration!$B79)=1, \"\",IF(COUNTBLANK(H80)=1,\"\",Accuracy!N79))","v":""},{"$f":"IF(COUNTBLANK(Registration!$B79)=1, \"\",MTA!G79)","v":""},{"$f":"IF(COUNTBLANK(Registration!$B79)=1, \"\",IF(COUNTBLANK(J80)=1,\"\",MTA!I79))","v":""},{"$f":"IF(COUNTBLANK(Registration!$B79)=1, \"\",'Trick Catch'!X80)","v":""},{"$f":"IF(COUNTBLANK(Registration!$B79)=1, \"\",IF(COUNTBLANK(L80)=1,\"\",'Trick Catch'!Z80))","v":""},{"$f":"IF(COUNTBLANK(Registration!$B79)=1, \"\",'Fast Catch'!F79)","v":""},{"$f":"IF(COUNTBLANK(Registration!$B79)=1, \"\",IF(COUNTBLANK(N80)=1,\"\",'Fast Catch'!H79))","v":""},{"$f":"IF(COUNTBLANK(Registration!$B79)=1, \"\",Endurance!C79)","v":""},{"$f":"IF(COUNTBLANK(Registration!$B79)=1, \"\",IF(COUNTBLANK(P80)=1,\"\",Endurance!E79))","v":""}]
[{"$f":"IF(COUNTBLANK(Registration!$B80)=1, \"\",RANK(B81,$B$3:$B$101,1))","v":""},{"$f":"IF(COUNTBLANK(Registration!$B80)=1, \"\",SUM(Q81,O81,I81,M81,K81,G81))","v":""},{"$f":"IF(COUNTBLANK(Registration!B80)=1,\"\",Registration!B80)","v":""},{"$f":"IF(COUNTBLANK(Registration!B80)=1,\"\",Registration!A80)","v":""},{"$f":"IF(COUNTBLANK(C81)=1,\"\",Registration!E80)","v":""},{"$f":"IF(COUNTBLANK(Registration!B80)=1, \"\",'Aussie Round'!V81)","v":""},{"$f":"IF(COUNTBLANK(Registration!$B80)=1, \"\",IF(COUNTBLANK(F81)=1,\"\",'Aussie Round'!X81))","v":""},{"$f":"IF(COUNTBLANK(Registration!$B80)=1, \"\",Accuracy!L80)","v":""},{"$f":"IF(COUNTBLANK(Registration!$B80)=1, \"\",IF(COUNTBLANK(H81)=1,\"\",Accuracy!N80))","v":""},{"$f":"IF(COUNTBLANK(Registration!$B80)=1, \"\",MTA!G80)","v":""},{"$f":"IF(COUNTBLANK(Registration!$B80)=1, \"\",IF(COUNTBLANK(J81)=1,\"\",MTA!I80))","v":""},{"$f":"IF(COUNTBLANK(Registration!$B80)=1, \"\",'Trick Catch'!X81)","v":""},{"$f":"IF(COUNTBLANK(Registration!$B80)=1, \"\",IF(COUNTBLANK(L81)=1,\"\",'Trick Catch'!Z81))","v":""},{"$f":"IF(COUNTBLANK(Registration!$B80)=1, \"\",'Fast Catch'!F80)","v":""},{"$f":"IF(COUNTBLANK(Registration!$B80)=1, \"\",IF(COUNTBLANK(N81)=1,\"\",'Fast Catch'!H80))","v":""},{"$f":"IF(COUNTBLANK(Registration!$B80)=1, \"\",Endurance!C80)","v":""},{"$f":"IF(COUNTBLANK(Registration!$B80)=1, \"\",IF(COUNTBLANK(P81)=1,\"\",Endurance!E80))","v":""}]
[{"$f":"IF(COUNTBLANK(Registration!$B81)=1, \"\",RANK(B82,$B$3:$B$101,1))","v":""},{"$f":"IF(COUNTBLANK(Registration!$B81)=1, \"\",SUM(Q82,O82,I82,M82,K82,G82))","v":""},{"$f":"IF(COUNTBLANK(Registration!B81)=1,\"\",Registration!B81)","v":""},{"$f":"IF(COUNTBLANK(Registration!B81)=1,\"\",Registration!A81)","v":""},{"$f":"IF(COUNTBLANK(C82)=1,\"\",Registration!E81)","v":""},{"$f":"IF(COUNTBLANK(Registration!B81)=1, \"\",'Aussie Round'!V82)","v":""},{"$f":"IF(COUNTBLANK(Registration!$B81)=1, \"\",IF(COUNTBLANK(F82)=1,\"\",'Aussie Round'!X82))","v":""},{"$f":"IF(COUNTBLANK(Registration!$B81)=1, \"\",Accuracy!L81)","v":""},{"$f":"IF(COUNTBLANK(Registration!$B81)=1, \"\",IF(COUNTBLANK(H82)=1,\"\",Accuracy!N81))","v":""},{"$f":"IF(COUNTBLANK(Registration!$B81)=1, \"\",MTA!G81)","v":""},{"$f":"IF(COUNTBLANK(Registration!$B81)=1, \"\",IF(COUNTBLANK(J82)=1,\"\",MTA!I81))","v":""},{"$f":"IF(COUNTBLANK(Registration!$B81)=1, \"\",'Trick Catch'!X82)","v":""},{"$f":"IF(COUNTBLANK(Registration!$B81)=1, \"\",IF(COUNTBLANK(L82)=1,\"\",'Trick Catch'!Z82))","v":""},{"$f":"IF(COUNTBLANK(Registration!$B81)=1, \"\",'Fast Catch'!F81)","v":""},{"$f":"IF(COUNTBLANK(Registration!$B81)=1, \"\",IF(COUNTBLANK(N82)=1,\"\",'Fast Catch'!H81))","v":""},{"$f":"IF(COUNTBLANK(Registration!$B81)=1, \"\",Endurance!C81)","v":""},{"$f":"IF(COUNTBLANK(Registration!$B81)=1, \"\",IF(COUNTBLANK(P82)=1,\"\",Endurance!E81))","v":""}]
[{"$f":"IF(COUNTBLANK(Registration!$B82)=1, \"\",RANK(B83,$B$3:$B$101,1))","v":""},{"$f":"IF(COUNTBLANK(Registration!$B82)=1, \"\",SUM(Q83,O83,I83,M83,K83,G83))","v":""},{"$f":"IF(COUNTBLANK(Registration!B82)=1,\"\",Registration!B82)","v":""},{"$f":"IF(COUNTBLANK(Registration!B82)=1,\"\",Registration!A82)","v":""},{"$f":"IF(COUNTBLANK(C83)=1,\"\",Registration!E82)","v":""},{"$f":"IF(COUNTBLANK(Registration!B82)=1, \"\",'Aussie Round'!V83)","v":""},{"$f":"IF(COUNTBLANK(Registration!$B82)=1, \"\",IF(COUNTBLANK(F83)=1,\"\",'Aussie Round'!X83))","v":""},{"$f":"IF(COUNTBLANK(Registration!$B82)=1, \"\",Accuracy!L82)","v":""},{"$f":"IF(COUNTBLANK(Registration!$B82)=1, \"\",IF(COUNTBLANK(H83)=1,\"\",Accuracy!N82))","v":""},{"$f":"IF(COUNTBLANK(Registration!$B82)=1, \"\",MTA!G82)","v":""},{"$f":"IF(COUNTBLANK(Registration!$B82)=1, \"\",IF(COUNTBLANK(J83)=1,\"\",MTA!I82))","v":""},{"$f":"IF(COUNTBLANK(Registration!$B82)=1, \"\",'Trick Catch'!X83)","v":""},{"$f":"IF(COUNTBLANK(Registration!$B82)=1, \"\",IF(COUNTBLANK(L83)=1,\"\",'Trick Catch'!Z83))","v":""},{"$f":"IF(COUNTBLANK(Registration!$B82)=1, \"\",'Fast Catch'!F82)","v":""},{"$f":"IF(COUNTBLANK(Registration!$B82)=1, \"\",IF(COUNTBLANK(N83)=1,\"\",'Fast Catch'!H82))","v":""},{"$f":"IF(COUNTBLANK(Registration!$B82)=1, \"\",Endurance!C82)","v":""},{"$f":"IF(COUNTBLANK(Registration!$B82)=1, \"\",IF(COUNTBLANK(P83)=1,\"\",Endurance!E82))","v":""}]
[{"$f":"IF(COUNTBLANK(Registration!$B83)=1, \"\",RANK(B84,$B$3:$B$101,1))","v":""},{"$f":"IF(COUNTBLANK(Registration!$B83)=1, \"\",SUM(Q84,O84,I84,M84,K84,G84))","v":""},{"$f":"IF(COUNTBLANK(Registration!B83)=1,\"\",Registration!B83)","v":""},{"$f":"IF(COUNTBLANK(Registration!B83)=1,\"\",Registration!A83)","v":""},{"$f":"IF(COUNTBLANK(C84)=1,\"\",Registration!E83)","v":""},{"$f":"IF(COUNTBLANK(Registration!B83)=1, \"\",'Aussie Round'!V84)","v":""},{"$f":"IF(COUNTBLANK(Registration!$B83)=1, \"\",IF(COUNTBLANK(F84)=1,\"\",'Aussie Round'!X84))","v":""},{"$f":"IF(COUNTBLANK(Registration!$B83)=1, \"\",Accuracy!L83)","v":""},{"$f":"IF(COUNTBLANK(Registration!$B83)=1, \"\",IF(COUNTBLANK(H84)=1,\"\",Accuracy!N83))","v":""},{"$f":"IF(COUNTBLANK(Registration!$B83)=1, \"\",MTA!G83)","v":""},{"$f":"IF(COUNTBLANK(Registration!$B83)=1, \"\",IF(COUNTBLANK(J84)=1,\"\",MTA!I83))","v":""},{"$f":"IF(COUNTBLANK(Registration!$B83)=1, \"\",'Trick Catch'!X84)","v":""},{"$f":"IF(COUNTBLANK(Registration!$B83)=1, \"\",IF(COUNTBLANK(L84)=1,\"\",'Trick Catch'!Z84))","v":""},{"$f":"IF(COUNTBLANK(Registration!$B83)=1, \"\",'Fast Catch'!F83)","v":""},{"$f":"IF(COUNTBLANK(Registration!$B83)=1, \"\",IF(COUNTBLANK(N84)=1,\"\",'Fast Catch'!H83))","v":""},{"$f":"IF(COUNTBLANK(Registration!$B83)=1, \"\",Endurance!C83)","v":""},{"$f":"IF(COUNTBLANK(Registration!$B83)=1, \"\",IF(COUNTBLANK(P84)=1,\"\",Endurance!E83))","v":""}]
[{"$f":"IF(COUNTBLANK(Registration!$B84)=1, \"\",RANK(B85,$B$3:$B$101,1))","v":""},{"$f":"IF(COUNTBLANK(Registration!$B84)=1, \"\",SUM(Q85,O85,I85,M85,K85,G85))","v":""},{"$f":"IF(COUNTBLANK(Registration!B84)=1,\"\",Registration!B84)","v":""},{"$f":"IF(COUNTBLANK(Registration!B84)=1,\"\",Registration!A84)","v":""},{"$f":"IF(COUNTBLANK(C85)=1,\"\",Registration!E84)","v":""},{"$f":"IF(COUNTBLANK(Registration!B84)=1, \"\",'Aussie Round'!V85)","v":""},{"$f":"IF(COUNTBLANK(Registration!$B84)=1, \"\",IF(COUNTBLANK(F85)=1,\"\",'Aussie Round'!X85))","v":""},{"$f":"IF(COUNTBLANK(Registration!$B84)=1, \"\",Accuracy!L84)","v":""},{"$f":"IF(COUNTBLANK(Registration!$B84)=1, \"\",IF(COUNTBLANK(H85)=1,\"\",Accuracy!N84))","v":""},{"$f":"IF(COUNTBLANK(Registration!$B84)=1, \"\",MTA!G84)","v":""},{"$f":"IF(COUNTBLANK(Registration!$B84)=1, \"\",IF(COUNTBLANK(J85)=1,\"\",MTA!I84))","v":""},{"$f":"IF(COUNTBLANK(Registration!$B84)=1, \"\",'Trick Catch'!X85)","v":""},{"$f":"IF(COUNTBLANK(Registration!$B84)=1, \"\",IF(COUNTBLANK(L85)=1,\"\",'Trick Catch'!Z85))","v":""},{"$f":"IF(COUNTBLANK(Registration!$B84)=1, \"\",'Fast Catch'!F84)","v":""},{"$f":"IF(COUNTBLANK(Registration!$B84)=1, \"\",IF(COUNTBLANK(N85)=1,\"\",'Fast Catch'!H84))","v":""},{"$f":"IF(COUNTBLANK(Registration!$B84)=1, \"\",Endurance!C84)","v":""},{"$f":"IF(COUNTBLANK(Registration!$B84)=1, \"\",IF(COUNTBLANK(P85)=1,\"\",Endurance!E84))","v":""}]
[{"$f":"IF(COUNTBLANK(Registration!$B85)=1, \"\",RANK(B86,$B$3:$B$101,1))","v":""},{"$f":"IF(COUNTBLANK(Registration!$B85)=1, \"\",SUM(Q86,O86,I86,M86,K86,G86))","v":""},{"$f":"IF(COUNTBLANK(Registration!B85)=1,\"\",Registration!B85)","v":""},{"$f":"IF(COUNTBLANK(Registration!B85)=1,\"\",Registration!A85)","v":""},{"$f":"IF(COUNTBLANK(C86)=1,\"\",Registration!E85)","v":""},{"$f":"IF(COUNTBLANK(Registration!B85)=1, \"\",'Aussie Round'!V86)","v":""},{"$f":"IF(COUNTBLANK(Registration!$B85)=1, \"\",IF(COUNTBLANK(F86)=1,\"\",'Aussie Round'!X86))","v":""},{"$f":"IF(COUNTBLANK(Registration!$B85)=1, \"\",Accuracy!L85)","v":""},{"$f":"IF(COUNTBLANK(Registration!$B85)=1, \"\",IF(COUNTBLANK(H86)=1,\"\",Accuracy!N85))","v":""},{"$f":"IF(COUNTBLANK(Registration!$B85)=1, \"\",MTA!G85)","v":""},{"$f":"IF(COUNTBLANK(Registration!$B85)=1, \"\",IF(COUNTBLANK(J86)=1,\"\",MTA!I85))","v":""},{"$f":"IF(COUNTBLANK(Registration!$B85)=1, \"\",'Trick Catch'!X86)","v":""},{"$f":"IF(COUNTBLANK(Registration!$B85)=1, \"\",IF(COUNTBLANK(L86)=1,\"\",'Trick Catch'!Z86))","v":""},{"$f":"IF(COUNTBLANK(Registration!$B85)=1, \"\",'Fast Catch'!F85)","v":""},{"$f":"IF(COUNTBLANK(Registration!$B85)=1, \"\",IF(COUNTBLANK(N86)=1,\"\",'Fast Catch'!H85))","v":""},{"$f":"IF(COUNTBLANK(Registration!$B85)=1, \"\",Endurance!C85)","v":""},{"$f":"IF(COUNTBLANK(Registration!$B85)=1, \"\",IF(COUNTBLANK(P86)=1,\"\",Endurance!E85))","v":""}]
[{"$f":"IF(COUNTBLANK(Registration!$B86)=1, \"\",RANK(B87,$B$3:$B$101,1))","v":""},{"$f":"IF(COUNTBLANK(Registration!$B86)=1, \"\",SUM(Q87,O87,I87,M87,K87,G87))","v":""},{"$f":"IF(COUNTBLANK(Registration!B86)=1,\"\",Registration!B86)","v":""},{"$f":"IF(COUNTBLANK(Registration!B86)=1,\"\",Registration!A86)","v":""},{"$f":"IF(COUNTBLANK(C87)=1,\"\",Registration!E86)","v":""},{"$f":"IF(COUNTBLANK(Registration!B86)=1, \"\",'Aussie Round'!V87)","v":""},{"$f":"IF(COUNTBLANK(Registration!$B86)=1, \"\",IF(COUNTBLANK(F87)=1,\"\",'Aussie Round'!X87))","v":""},{"$f":"IF(COUNTBLANK(Registration!$B86)=1, \"\",Accuracy!L86)","v":""},{"$f":"IF(COUNTBLANK(Registration!$B86)=1, \"\",IF(COUNTBLANK(H87)=1,\"\",Accuracy!N86))","v":""},{"$f":"IF(COUNTBLANK(Registration!$B86)=1, \"\",MTA!G86)","v":""},{"$f":"IF(COUNTBLANK(Registration!$B86)=1, \"\",IF(COUNTBLANK(J87)=1,\"\",MTA!I86))","v":""},{"$f":"IF(COUNTBLANK(Registration!$B86)=1, \"\",'Trick Catch'!X87)","v":""},{"$f":"IF(COUNTBLANK(Registration!$B86)=1, \"\",IF(COUNTBLANK(L87)=1,\"\",'Trick Catch'!Z87))","v":""},{"$f":"IF(COUNTBLANK(Registration!$B86)=1, \"\",'Fast Catch'!F86)","v":""},{"$f":"IF(COUNTBLANK(Registration!$B86)=1, \"\",IF(COUNTBLANK(N87)=1,\"\",'Fast Catch'!H86))","v":""},{"$f":"IF(COUNTBLANK(Registration!$B86)=1, \"\",Endurance!C86)","v":""},{"$f":"IF(COUNTBLANK(Registration!$B86)=1, \"\",IF(COUNTBLANK(P87)=1,\"\",Endurance!E86))","v":""}]
[{"$f":"IF(COUNTBLANK(Registration!$B87)=1, \"\",RANK(B88,$B$3:$B$101,1))","v":""},{"$f":"IF(COUNTBLANK(Registration!$B87)=1, \"\",SUM(Q88,O88,I88,M88,K88,G88))","v":""},{"$f":"IF(COUNTBLANK(Registration!B87)=1,\"\",Registration!B87)","v":""},{"$f":"IF(COUNTBLANK(Registration!B87)=1,\"\",Registration!A87)","v":""},{"$f":"IF(COUNTBLANK(C88)=1,\"\",Registration!E87)","v":""},{"$f":"IF(COUNTBLANK(Registration!B87)=1, \"\",'Aussie Round'!V88)","v":""},{"$f":"IF(COUNTBLANK(Registration!$B87)=1, \"\",IF(COUNTBLANK(F88)=1,\"\",'Aussie Round'!X88))","v":""},{"$f":"IF(COUNTBLANK(Registration!$B87)=1, \"\",Accuracy!L87)","v":""},{"$f":"IF(COUNTBLANK(Registration!$B87)=1, \"\",IF(COUNTBLANK(H88)=1,\"\",Accuracy!N87))","v":""},{"$f":"IF(COUNTBLANK(Registration!$B87)=1, \"\",MTA!G87)","v":""},{"$f":"IF(COUNTBLANK(Registration!$B87)=1, \"\",IF(COUNTBLANK(J88)=1,\"\",MTA!I87))","v":""},{"$f":"IF(COUNTBLANK(Registration!$B87)=1, \"\",'Trick Catch'!X88)","v":""},{"$f":"IF(COUNTBLANK(Registration!$B87)=1, \"\",IF(COUNTBLANK(L88)=1,\"\",'Trick Catch'!Z88))","v":""},{"$f":"IF(COUNTBLANK(Registration!$B87)=1, \"\",'Fast Catch'!F87)","v":""},{"$f":"IF(COUNTBLANK(Registration!$B87)=1, \"\",IF(COUNTBLANK(N88)=1,\"\",'Fast Catch'!H87))","v":""},{"$f":"IF(COUNTBLANK(Registration!$B87)=1, \"\",Endurance!C87)","v":""},{"$f":"IF(COUNTBLANK(Registration!$B87)=1, \"\",IF(COUNTBLANK(P88)=1,\"\",Endurance!E87))","v":""}]
[{"$f":"IF(COUNTBLANK(Registration!$B88)=1, \"\",RANK(B89,$B$3:$B$101,1))","v":""},{"$f":"IF(COUNTBLANK(Registration!$B88)=1, \"\",SUM(Q89,O89,I89,M89,K89,G89))","v":""},{"$f":"IF(COUNTBLANK(Registration!B88)=1,\"\",Registration!B88)","v":""},{"$f":"IF(COUNTBLANK(Registration!B88)=1,\"\",Registration!A88)","v":""},{"$f":"IF(COUNTBLANK(C89)=1,\"\",Registration!E88)","v":""},{"$f":"IF(COUNTBLANK(Registration!B88)=1, \"\",'Aussie Round'!V89)","v":""},{"$f":"IF(COUNTBLANK(Registration!$B88)=1, \"\",IF(COUNTBLANK(F89)=1,\"\",'Aussie Round'!X89))","v":""},{"$f":"IF(COUNTBLANK(Registration!$B88)=1, \"\",Accuracy!L88)","v":""},{"$f":"IF(COUNTBLANK(Registration!$B88)=1, \"\",IF(COUNTBLANK(H89)=1,\"\",Accuracy!N88))","v":""},{"$f":"IF(COUNTBLANK(Registration!$B88)=1, \"\",MTA!G88)","v":""},{"$f":"IF(COUNTBLANK(Registration!$B88)=1, \"\",IF(COUNTBLANK(J89)=1,\"\",MTA!I88))","v":""},{"$f":"IF(COUNTBLANK(Registration!$B88)=1, \"\",'Trick Catch'!X89)","v":""},{"$f":"IF(COUNTBLANK(Registration!$B88)=1, \"\",IF(COUNTBLANK(L89)=1,\"\",'Trick Catch'!Z89))","v":""},{"$f":"IF(COUNTBLANK(Registration!$B88)=1, \"\",'Fast Catch'!F88)","v":""},{"$f":"IF(COUNTBLANK(Registration!$B88)=1, \"\",IF(COUNTBLANK(N89)=1,\"\",'Fast Catch'!H88))","v":""},{"$f":"IF(COUNTBLANK(Registration!$B88)=1, \"\",Endurance!C88)","v":""},{"$f":"IF(COUNTBLANK(Registration!$B88)=1, \"\",IF(COUNTBLANK(P89)=1,\"\",Endurance!E88))","v":""}]
[{"$f":"IF(COUNTBLANK(Registration!$B89)=1, \"\",RANK(B90,$B$3:$B$101,1))","v":""},{"$f":"IF(COUNTBLANK(Registration!$B89)=1, \"\",SUM(Q90,O90,I90,M90,K90,G90))","v":""},{"$f":"IF(COUNTBLANK(Registration!B89)=1,\"\",Registration!B89)","v":""},{"$f":"IF(COUNTBLANK(Registration!B89)=1,\"\",Registration!A89)","v":""},{"$f":"IF(COUNTBLANK(C90)=1,\"\",Registration!E89)","v":""},{"$f":"IF(COUNTBLANK(Registration!B89)=1, \"\",'Aussie Round'!V90)","v":""},{"$f":"IF(COUNTBLANK(Registration!$B89)=1, \"\",IF(COUNTBLANK(F90)=1,\"\",'Aussie Round'!X90))","v":""},{"$f":"IF(COUNTBLANK(Registration!$B89)=1, \"\",Accuracy!L89)","v":""},{"$f":"IF(COUNTBLANK(Registration!$B89)=1, \"\",IF(COUNTBLANK(H90)=1,\"\",Accuracy!N89))","v":""},{"$f":"IF(COUNTBLANK(Registration!$B89)=1, \"\",MTA!G89)","v":""},{"$f":"IF(COUNTBLANK(Registration!$B89)=1, \"\",IF(COUNTBLANK(J90)=1,\"\",MTA!I89))","v":""},{"$f":"IF(COUNTBLANK(Registration!$B89)=1, \"\",'Trick Catch'!X90)","v":""},{"$f":"IF(COUNTBLANK(Registration!$B89)=1, \"\",IF(COUNTBLANK(L90)=1,\"\",'Trick Catch'!Z90))","v":""},{"$f":"IF(COUNTBLANK(Registration!$B89)=1, \"\",'Fast Catch'!F89)","v":""},{"$f":"IF(COUNTBLANK(Registration!$B89)=1, \"\",IF(COUNTBLANK(N90)=1,\"\",'Fast Catch'!H89))","v":""},{"$f":"IF(COUNTBLANK(Registration!$B89)=1, \"\",Endurance!C89)","v":""},{"$f":"IF(COUNTBLANK(Registration!$B89)=1, \"\",IF(COUNTBLANK(P90)=1,\"\",Endurance!E89))","v":""}]
[{"$f":"IF(COUNTBLANK(Registration!$B90)=1, \"\",RANK(B91,$B$3:$B$101,1))","v":""},{"$f":"IF(COUNTBLANK(Registration!$B90)=1, \"\",SUM(Q91,O91,I91,M91,K91,G91))","v":""},{"$f":"IF(COUNTBLANK(Registration!B90)=1,\"\",Registration!B90)","v":""},{"$f":"IF(COUNTBLANK(Registration!B90)=1,\"\",Registration!A90)","v":""},{"$f":"IF(COUNTBLANK(C91)=1,\"\",Registration!E90)","v":""},{"$f":"IF(COUNTBLANK(Registration!B90)=1, \"\",'Aussie Round'!V91)","v":""},{"$f":"IF(COUNTBLANK(Registration!$B90)=1, \"\",IF(COUNTBLANK(F91)=1,\"\",'Aussie Round'!X91))","v":""},{"$f":"IF(COUNTBLANK(Registration!$B90)=1, \"\",Accuracy!L90)","v":""},{"$f":"IF(COUNTBLANK(Registration!$B90)=1, \"\",IF(COUNTBLANK(H91)=1,\"\",Accuracy!N90))","v":""},{"$f":"IF(COUNTBLANK(Registration!$B90)=1, \"\",MTA!G90)","v":""},{"$f":"IF(COUNTBLANK(Registration!$B90)=1, \"\",IF(COUNTBLANK(J91)=1,\"\",MTA!I90))","v":""},{"$f":"IF(COUNTBLANK(Registration!$B90)=1, \"\",'Trick Catch'!X91)","v":""},{"$f":"IF(COUNTBLANK(Registration!$B90)=1, \"\",IF(COUNTBLANK(L91)=1,\"\",'Trick Catch'!Z91))","v":""},{"$f":"IF(COUNTBLANK(Registration!$B90)=1, \"\",'Fast Catch'!F90)","v":""},{"$f":"IF(COUNTBLANK(Registration!$B90)=1, \"\",IF(COUNTBLANK(N91)=1,\"\",'Fast Catch'!H90))","v":""},{"$f":"IF(COUNTBLANK(Registration!$B90)=1, \"\",Endurance!C90)","v":""},{"$f":"IF(COUNTBLANK(Registration!$B90)=1, \"\",IF(COUNTBLANK(P91)=1,\"\",Endurance!E90))","v":""}]
[{"$f":"IF(COUNTBLANK(Registration!$B91)=1, \"\",RANK(B92,$B$3:$B$101,1))","v":""},{"$f":"IF(COUNTBLANK(Registration!$B91)=1, \"\",SUM(Q92,O92,I92,M92,K92,G92))","v":""},{"$f":"IF(COUNTBLANK(Registration!B91)=1,\"\",Registration!B91)","v":""},{"$f":"IF(COUNTBLANK(Registration!B91)=1,\"\",Registration!A91)","v":""},{"$f":"IF(COUNTBLANK(C92)=1,\"\",Registration!E91)","v":""},{"$f":"IF(COUNTBLANK(Registration!B91)=1, \"\",'Aussie Round'!V92)","v":""},{"$f":"IF(COUNTBLANK(Registration!$B91)=1, \"\",IF(COUNTBLANK(F92)=1,\"\",'Aussie Round'!X92))","v":""},{"$f":"IF(COUNTBLANK(Registration!$B91)=1, \"\",Accuracy!L91)","v":""},{"$f":"IF(COUNTBLANK(Registration!$B91)=1, \"\",IF(COUNTBLANK(H92)=1,\"\",Accuracy!N91))","v":""},{"$f":"IF(COUNTBLANK(Registration!$B91)=1, \"\",MTA!G91)","v":""},{"$f":"IF(COUNTBLANK(Registration!$B91)=1, \"\",IF(COUNTBLANK(J92)=1,\"\",MTA!I91))","v":""},{"$f":"IF(COUNTBLANK(Registration!$B91)=1, \"\",'Trick Catch'!X92)","v":""},{"$f":"IF(COUNTBLANK(Registration!$B91)=1, \"\",IF(COUNTBLANK(L92)=1,\"\",'Trick Catch'!Z92))","v":""},{"$f":"IF(COUNTBLANK(Registration!$B91)=1, \"\",'Fast Catch'!F91)","v":""},{"$f":"IF(COUNTBLANK(Registration!$B91)=1, \"\",IF(COUNTBLANK(N92)=1,\"\",'Fast Catch'!H91))","v":""},{"$f":"IF(COUNTBLANK(Registration!$B91)=1, \"\",Endurance!C91)","v":""},{"$f":"IF(COUNTBLANK(Registration!$B91)=1, \"\",IF(COUNTBLANK(P92)=1,\"\",Endurance!E91))","v":""}]
[{"$f":"IF(COUNTBLANK(Registration!$B92)=1, \"\",RANK(B93,$B$3:$B$101,1))","v":""},{"$f":"IF(COUNTBLANK(Registration!$B92)=1, \"\",SUM(Q93,O93,I93,M93,K93,G93))","v":""},{"$f":"IF(COUNTBLANK(Registration!B92)=1,\"\",Registration!B92)","v":""},{"$f":"IF(COUNTBLANK(Registration!B92)=1,\"\",Registration!A92)","v":""},{"$f":"IF(COUNTBLANK(C93)=1,\"\",Registration!E92)","v":""},{"$f":"IF(COUNTBLANK(Registration!B92)=1, \"\",'Aussie Round'!V93)","v":""},{"$f":"IF(COUNTBLANK(Registration!$B92)=1, \"\",IF(COUNTBLANK(F93)=1,\"\",'Aussie Round'!X93))","v":""},{"$f":"IF(COUNTBLANK(Registration!$B92)=1, \"\",Accuracy!L92)","v":""},{"$f":"IF(COUNTBLANK(Registration!$B92)=1, \"\",IF(COUNTBLANK(H93)=1,\"\",Accuracy!N92))","v":""},{"$f":"IF(COUNTBLANK(Registration!$B92)=1, \"\",MTA!G92)","v":""},{"$f":"IF(COUNTBLANK(Registration!$B92)=1, \"\",IF(COUNTBLANK(J93)=1,\"\",MTA!I92))","v":""},{"$f":"IF(COUNTBLANK(Registration!$B92)=1, \"\",'Trick Catch'!X93)","v":""},{"$f":"IF(COUNTBLANK(Registration!$B92)=1, \"\",IF(COUNTBLANK(L93)=1,\"\",'Trick Catch'!Z93))","v":""},{"$f":"IF(COUNTBLANK(Registration!$B92)=1, \"\",'Fast Catch'!F92)","v":""},{"$f":"IF(COUNTBLANK(Registration!$B92)=1, \"\",IF(COUNTBLANK(N93)=1,\"\",'Fast Catch'!H92))","v":""},{"$f":"IF(COUNTBLANK(Registration!$B92)=1, \"\",Endurance!C92)","v":""},{"$f":"IF(COUNTBLANK(Registration!$B92)=1, \"\",IF(COUNTBLANK(P93)=1,\"\",Endurance!E92))","v":""}]
[{"$f":"IF(COUNTBLANK(Registration!$B93)=1, \"\",RANK(B94,$B$3:$B$101,1))","v":""},{"$f":"IF(COUNTBLANK(Registration!$B93)=1, \"\",SUM(Q94,O94,I94,M94,K94,G94))","v":""},{"$f":"IF(COUNTBLANK(Registration!B93)=1,\"\",Registration!B93)","v":""},{"$f":"IF(COUNTBLANK(Registration!B93)=1,\"\",Registration!A93)","v":""},{"$f":"IF(COUNTBLANK(C94)=1,\"\",Registration!E93)","v":""},{"$f":"IF(COUNTBLANK(Registration!B93)=1, \"\",'Aussie Round'!V94)","v":""},{"$f":"IF(COUNTBLANK(Registration!$B93)=1, \"\",IF(COUNTBLANK(F94)=1,\"\",'Aussie Round'!X94))","v":""},{"$f":"IF(COUNTBLANK(Registration!$B93)=1, \"\",Accuracy!L93)","v":""},{"$f":"IF(COUNTBLANK(Registration!$B93)=1, \"\",IF(COUNTBLANK(H94)=1,\"\",Accuracy!N93))","v":""},{"$f":"IF(COUNTBLANK(Registration!$B93)=1, \"\",MTA!G93)","v":""},{"$f":"IF(COUNTBLANK(Registration!$B93)=1, \"\",IF(COUNTBLANK(J94)=1,\"\",MTA!I93))","v":""},{"$f":"IF(COUNTBLANK(Registration!$B93)=1, \"\",'Trick Catch'!X94)","v":""},{"$f":"IF(COUNTBLANK(Registration!$B93)=1, \"\",IF(COUNTBLANK(L94)=1,\"\",'Trick Catch'!Z94))","v":""},{"$f":"IF(COUNTBLANK(Registration!$B93)=1, \"\",'Fast Catch'!F93)","v":""},{"$f":"IF(COUNTBLANK(Registration!$B93)=1, \"\",IF(COUNTBLANK(N94)=1,\"\",'Fast Catch'!H93))","v":""},{"$f":"IF(COUNTBLANK(Registration!$B93)=1, \"\",Endurance!C93)","v":""},{"$f":"IF(COUNTBLANK(Registration!$B93)=1, \"\",IF(COUNTBLANK(P94)=1,\"\",Endurance!E93))","v":""}]
[{"$f":"IF(COUNTBLANK(Registration!$B94)=1, \"\",RANK(B95,$B$3:$B$101,1))","v":""},{"$f":"IF(COUNTBLANK(Registration!$B94)=1, \"\",SUM(Q95,O95,I95,M95,K95,G95))","v":""},{"$f":"IF(COUNTBLANK(Registration!B94)=1,\"\",Registration!B94)","v":""},{"$f":"IF(COUNTBLANK(Registration!B94)=1,\"\",Registration!A94)","v":""},{"$f":"IF(COUNTBLANK(C95)=1,\"\",Registration!E94)","v":""},{"$f":"IF(COUNTBLANK(Registration!B94)=1, \"\",'Aussie Round'!V95)","v":""},{"$f":"IF(COUNTBLANK(Registration!$B94)=1, \"\",IF(COUNTBLANK(F95)=1,\"\",'Aussie Round'!X95))","v":""},{"$f":"IF(COUNTBLANK(Registration!$B94)=1, \"\",Accuracy!L94)","v":""},{"$f":"IF(COUNTBLANK(Registration!$B94)=1, \"\",IF(COUNTBLANK(H95)=1,\"\",Accuracy!N94))","v":""},{"$f":"IF(COUNTBLANK(Registration!$B94)=1, \"\",MTA!G94)","v":""},{"$f":"IF(COUNTBLANK(Registration!$B94)=1, \"\",IF(COUNTBLANK(J95)=1,\"\",MTA!I94))","v":""},{"$f":"IF(COUNTBLANK(Registration!$B94)=1, \"\",'Trick Catch'!X95)","v":""},{"$f":"IF(COUNTBLANK(Registration!$B94)=1, \"\",IF(COUNTBLANK(L95)=1,\"\",'Trick Catch'!Z95))","v":""},{"$f":"IF(COUNTBLANK(Registration!$B94)=1, \"\",'Fast Catch'!F94)","v":""},{"$f":"IF(COUNTBLANK(Registration!$B94)=1, \"\",IF(COUNTBLANK(N95)=1,\"\",'Fast Catch'!H94))","v":""},{"$f":"IF(COUNTBLANK(Registration!$B94)=1, \"\",Endurance!C94)","v":""},{"$f":"IF(COUNTBLANK(Registration!$B94)=1, \"\",IF(COUNTBLANK(P95)=1,\"\",Endurance!E94))","v":""}]
[{"$f":"IF(COUNTBLANK(Registration!$B95)=1, \"\",RANK(B96,$B$3:$B$101,1))","v":""},{"$f":"IF(COUNTBLANK(Registration!$B95)=1, \"\",SUM(Q96,O96,I96,M96,K96,G96))","v":""},{"$f":"IF(COUNTBLANK(Registration!B95)=1,\"\",Registration!B95)","v":""},{"$f":"IF(COUNTBLANK(Registration!B95)=1,\"\",Registration!A95)","v":""},{"$f":"IF(COUNTBLANK(C96)=1,\"\",Registration!E95)","v":""},{"$f":"IF(COUNTBLANK(Registration!B95)=1, \"\",'Aussie Round'!V96)","v":""},{"$f":"IF(COUNTBLANK(Registration!$B95)=1, \"\",IF(COUNTBLANK(F96)=1,\"\",'Aussie Round'!X96))","v":""},{"$f":"IF(COUNTBLANK(Registration!$B95)=1, \"\",Accuracy!L95)","v":""},{"$f":"IF(COUNTBLANK(Registration!$B95)=1, \"\",IF(COUNTBLANK(H96)=1,\"\",Accuracy!N95))","v":""},{"$f":"IF(COUNTBLANK(Registration!$B95)=1, \"\",MTA!G95)","v":""},{"$f":"IF(COUNTBLANK(Registration!$B95)=1, \"\",IF(COUNTBLANK(J96)=1,\"\",MTA!I95))","v":""},{"$f":"IF(COUNTBLANK(Registration!$B95)=1, \"\",'Trick Catch'!X96)","v":""},{"$f":"IF(COUNTBLANK(Registration!$B95)=1, \"\",IF(COUNTBLANK(L96)=1,\"\",'Trick Catch'!Z96))","v":""},{"$f":"IF(COUNTBLANK(Registration!$B95)=1, \"\",'Fast Catch'!F95)","v":""},{"$f":"IF(COUNTBLANK(Registration!$B95)=1, \"\",IF(COUNTBLANK(N96)=1,\"\",'Fast Catch'!H95))","v":""},{"$f":"IF(COUNTBLANK(Registration!$B95)=1, \"\",Endurance!C95)","v":""},{"$f":"IF(COUNTBLANK(Registration!$B95)=1, \"\",IF(COUNTBLANK(P96)=1,\"\",Endurance!E95))","v":""}]
[{"$f":"IF(COUNTBLANK(Registration!$B96)=1, \"\",RANK(B97,$B$3:$B$101,1))","v":""},{"$f":"IF(COUNTBLANK(Registration!$B96)=1, \"\",SUM(Q97,O97,I97,M97,K97,G97))","v":""},{"$f":"IF(COUNTBLANK(Registration!B96)=1,\"\",Registration!B96)","v":""},{"$f":"IF(COUNTBLANK(Registration!B96)=1,\"\",Registration!A96)","v":""},{"$f":"IF(COUNTBLANK(C97)=1,\"\",Registration!E96)","v":""},{"$f":"IF(COUNTBLANK(Registration!B96)=1, \"\",'Aussie Round'!V97)","v":""},{"$f":"IF(COUNTBLANK(Registration!$B96)=1, \"\",IF(COUNTBLANK(F97)=1,\"\",'Aussie Round'!X97))","v":""},{"$f":"IF(COUNTBLANK(Registration!$B96)=1, \"\",Accuracy!L96)","v":""},{"$f":"IF(COUNTBLANK(Registration!$B96)=1, \"\",IF(COUNTBLANK(H97)=1,\"\",Accuracy!N96))","v":""},{"$f":"IF(COUNTBLANK(Registration!$B96)=1, \"\",MTA!G96)","v":""},{"$f":"IF(COUNTBLANK(Registration!$B96)=1, \"\",IF(COUNTBLANK(J97)=1,\"\",MTA!I96))","v":""},{"$f":"IF(COUNTBLANK(Registration!$B96)=1, \"\",'Trick Catch'!X97)","v":""},{"$f":"IF(COUNTBLANK(Registration!$B96)=1, \"\",IF(COUNTBLANK(L97)=1,\"\",'Trick Catch'!Z97))","v":""},{"$f":"IF(COUNTBLANK(Registration!$B96)=1, \"\",'Fast Catch'!F96)","v":""},{"$f":"IF(COUNTBLANK(Registration!$B96)=1, \"\",IF(COUNTBLANK(N97)=1,\"\",'Fast Catch'!H96))","v":""},{"$f":"IF(COUNTBLANK(Registration!$B96)=1, \"\",Endurance!C96)","v":""},{"$f":"IF(COUNTBLANK(Registration!$B96)=1, \"\",IF(COUNTBLANK(P97)=1,\"\",Endurance!E96))","v":""}]
[{"$f":"IF(COUNTBLANK(Registration!$B97)=1, \"\",RANK(B98,$B$3:$B$101,1))","v":""},{"$f":"IF(COUNTBLANK(Registration!$B97)=1, \"\",SUM(Q98,O98,I98,M98,K98,G98))","v":""},{"$f":"IF(COUNTBLANK(Registration!B97)=1,\"\",Registration!B97)","v":""},{"$f":"IF(COUNTBLANK(Registration!B97)=1,\"\",Registration!A97)","v":""},{"$f":"IF(COUNTBLANK(C98)=1,\"\",Registration!E97)","v":""},{"$f":"IF(COUNTBLANK(Registration!B97)=1, \"\",'Aussie Round'!V98)","v":""},{"$f":"IF(COUNTBLANK(Registration!$B97)=1, \"\",IF(COUNTBLANK(F98)=1,\"\",'Aussie Round'!X98))","v":""},{"$f":"IF(COUNTBLANK(Registration!$B97)=1, \"\",Accuracy!L97)","v":""},{"$f":"IF(COUNTBLANK(Registration!$B97)=1, \"\",IF(COUNTBLANK(H98)=1,\"\",Accuracy!N97))","v":""},{"$f":"IF(COUNTBLANK(Registration!$B97)=1, \"\",MTA!G97)","v":""},{"$f":"IF(COUNTBLANK(Registration!$B97)=1, \"\",IF(COUNTBLANK(J98)=1,\"\",MTA!I97))","v":""},{"$f":"IF(COUNTBLANK(Registration!$B97)=1, \"\",'Trick Catch'!X98)","v":""},{"$f":"IF(COUNTBLANK(Registration!$B97)=1, \"\",IF(COUNTBLANK(L98)=1,\"\",'Trick Catch'!Z98))","v":""},{"$f":"IF(COUNTBLANK(Registration!$B97)=1, \"\",'Fast Catch'!F97)","v":""},{"$f":"IF(COUNTBLANK(Registration!$B97)=1, \"\",IF(COUNTBLANK(N98)=1,\"\",'Fast Catch'!H97))","v":""},{"$f":"IF(COUNTBLANK(Registration!$B97)=1, \"\",Endurance!C97)","v":""},{"$f":"IF(COUNTBLANK(Registration!$B97)=1, \"\",IF(COUNTBLANK(P98)=1,\"\",Endurance!E97))","v":""}]
[{"$f":"IF(COUNTBLANK(Registration!$B98)=1, \"\",RANK(B99,$B$3:$B$101,1))","v":""},{"$f":"IF(COUNTBLANK(Registration!$B98)=1, \"\",SUM(Q99,O99,I99,M99,K99,G99))","v":""},{"$f":"IF(COUNTBLANK(Registration!B98)=1,\"\",Registration!B98)","v":""},{"$f":"IF(COUNTBLANK(Registration!B98)=1,\"\",Registration!A98)","v":""},{"$f":"IF(COUNTBLANK(C99)=1,\"\",Registration!E98)","v":""},{"$f":"IF(COUNTBLANK(Registration!B98)=1, \"\",'Aussie Round'!V99)","v":""},{"$f":"IF(COUNTBLANK(Registration!$B98)=1, \"\",IF(COUNTBLANK(F99)=1,\"\",'Aussie Round'!X99))","v":""},{"$f":"IF(COUNTBLANK(Registration!$B98)=1, \"\",Accuracy!L98)","v":""},{"$f":"IF(COUNTBLANK(Registration!$B98)=1, \"\",IF(COUNTBLANK(H99)=1,\"\",Accuracy!N98))","v":""},{"$f":"IF(COUNTBLANK(Registration!$B98)=1, \"\",MTA!G98)","v":""},{"$f":"IF(COUNTBLANK(Registration!$B98)=1, \"\",IF(COUNTBLANK(J99)=1,\"\",MTA!I98))","v":""},{"$f":"IF(COUNTBLANK(Registration!$B98)=1, \"\",'Trick Catch'!X99)","v":""},{"$f":"IF(COUNTBLANK(Registration!$B98)=1, \"\",IF(COUNTBLANK(L99)=1,\"\",'Trick Catch'!Z99))","v":""},{"$f":"IF(COUNTBLANK(Registration!$B98)=1, \"\",'Fast Catch'!F98)","v":""},{"$f":"IF(COUNTBLANK(Registration!$B98)=1, \"\",IF(COUNTBLANK(N99)=1,\"\",'Fast Catch'!H98))","v":""},{"$f":"IF(COUNTBLANK(Registration!$B98)=1, \"\",Endurance!C98)","v":""},{"$f":"IF(COUNTBLANK(Registration!$B98)=1, \"\",IF(COUNTBLANK(P99)=1,\"\",Endurance!E98))","v":""}]
[{"$f":"IF(COUNTBLANK(Registration!$B99)=1, \"\",RANK(B100,$B$3:$B$101,1))","v":""},{"$f":"IF(COUNTBLANK(Registration!$B99)=1, \"\",SUM(Q100,O100,I100,M100,K100,G100))","v":""},{"$f":"IF(COUNTBLANK(Registration!B99)=1,\"\",Registration!B99)","v":""},{"$f":"IF(COUNTBLANK(Registration!B99)=1,\"\",Registration!A99)","v":""},{"$f":"IF(COUNTBLANK(C100)=1,\"\",Registration!E99)","v":""},{"$f":"IF(COUNTBLANK(Registration!B99)=1, \"\",'Aussie Round'!V101)","v":""},{"$f":"IF(COUNTBLANK(Registration!$B99)=1, \"\",IF(COUNTBLANK(F100)=1,\"\",'Aussie Round'!X100))","v":""},{"$f":"IF(COUNTBLANK(Registration!$B99)=1, \"\",Accuracy!L99)","v":""},{"$f":"IF(COUNTBLANK(Registration!$B99)=1, \"\",IF(COUNTBLANK(H100)=1,\"\",Accuracy!N99))","v":""},{"$f":"IF(COUNTBLANK(Registration!$B99)=1, \"\",MTA!G99)","v":""},{"$f":"IF(COUNTBLANK(Registration!$B99)=1, \"\",IF(COUNTBLANK(J100)=1,\"\",MTA!I99))","v":""},{"$f":"IF(COUNTBLANK(Registration!$B99)=1, \"\",'Trick Catch'!X100)","v":""},{"$f":"IF(COUNTBLANK(Registration!$B99)=1, \"\",IF(COUNTBLANK(L100)=1,\"\",'Trick Catch'!Z100))","v":""},{"$f":"IF(COUNTBLANK(Registration!$B99)=1, \"\",'Fast Catch'!F99)","v":""},{"$f":"IF(COUNTBLANK(Registration!$B99)=1, \"\",IF(COUNTBLANK(N100)=1,\"\",'Fast Catch'!H99))","v":""},{"$f":"IF(COUNTBLANK(Registration!$B99)=1, \"\",Endurance!C99)","v":""},{"$f":"IF(COUNTBLANK(Registration!$B99)=1, \"\",IF(COUNTBLANK(P100)=1,\"\",Endurance!E99))","v":""}]
[{"$f":"IF(COUNTBLANK(Registration!$B100)=1, \"\",RANK(B101,$B$3:$B$101,1))","v":""},{"$f":"IF(COUNTBLANK(Registration!$B100)=1, \"\",SUM(Q101,O101,I101,M101,K101,G101))","v":""},{"$f":"IF(COUNTBLANK(Registration!B100)=1,\"\",Registration!B100)","v":""},{"$f":"IF(COUNTBLANK(Registration!B100)=1,\"\",Registration!A100)","v":""},{"$f":"IF(COUNTBLANK(C101)=1,\"\",Registration!E100)","v":""},{"$f":"IF(COUNTBLANK(Registration!B100)=1, \"\",'Aussie Round'!V102)","v":""},{"$f":"IF(COUNTBLANK(Registration!$B100)=1, \"\",IF(COUNTBLANK(F101)=1,\"\",'Aussie Round'!X101))","v":""},{"$f":"IF(COUNTBLANK(Registration!$B100)=1, \"\",Accuracy!L100)","v":""},{"$f":"IF(COUNTBLANK(Registration!$B100)=1, \"\",IF(COUNTBLANK(H101)=1,\"\",Accuracy!N100))","v":""},{"$f":"IF(COUNTBLANK(Registration!$B100)=1, \"\",MTA!G100)","v":""},{"$f":"IF(COUNTBLANK(Registration!$B100)=1, \"\",IF(COUNTBLANK(J101)=1,\"\",MTA!I100))","v":""},{"$f":"IF(COUNTBLANK(Registration!$B100)=1, \"\",'Trick Catch'!X101)","v":""},{"$f":"IF(COUNTBLANK(Registration!$B100)=1, \"\",IF(COUNTBLANK(L101)=1,\"\",'Trick Catch'!Z101))","v":""},{"$f":"IF(COUNTBLANK(Registration!$B100)=1, \"\",'Fast Catch'!F100)","v":""},{"$f":"IF(COUNTBLANK(Registration!$B100)=1, \"\",IF(COUNTBLANK(N101)=1,\"\",'Fast Catch'!H100))","v":""},{"$f":"IF(COUNTBLANK(Registration!$B100)=1, \"\",Endurance!C100)","v":""},{"$f":"IF(COUNTBLANK(Registration!$B100)=1, \"\",IF(COUNTBLANK(P101)=1,\"\",Endurance!E100))","v":""}]

{"sheet":"Advanced Score Sheet","index":8,"n_rows":102,"n_cols":21,"rows_kept":102,"cut":false,"hidden":false,"merged":[[0,0,0,1],[0,3,0,5],[0,18,0,20],[0,15,0,17],[0,12,0,14],[0,9,0,11],[0,6,0,8]]}
["Final",null,{"$f":"Registration!B1","v":"Name"},"Aussie Round",null,null,"Accuracy ",null,null,"MTA",null,null,"Trick Catch",null,null,"Fast Catch",null,null,"Endurance"]
["Place","Score",null,"Score","Place","Points","Score","Place","Points","Score","Place","Points","Score","Place","Points","Score","Place","Points","Score","Place","Points"]
[{"$f":"IF(Registration!E2=\"S\",RANK(B3,$B$3:$B$102,1),\"\")","v":""},{"$f":"IF(Registration!E2=\"S\",SUM(F3,I3,L3,O3,R3,U3),\"\")","v":""},{"$f":"IF(COUNTBLANK(Registration!B2)=1,\"\",IF(Registration!E2=\"s\",Registration!B2,\"\"))","v":""},{"$f":"IF(Registration!E2=\"S\",'Aussie Round'!V3,\"\")","v":""},{"$f":"IF(AND(Registration!$E2=\"S\",COUNTBLANK(D3)=0),RANK(D3,D$3:D$102,0),\"\")","v":""},{"$f":"IF(AND(Registration!$E2=\"s\",COUNTBLANK(E3)=0),placingpoints(E3,COUNTIF(E$3:E$102,\"=\"&E3)),\"\")","v":""},{"$f":"IF(Registration!$E2=\"S\",Accuracy!L2,\"\")","v":""},{"$f":"IF(AND(Registration!$E2=\"S\",COUNTBLANK(G3)=0),RANK(G3,G$3:G$102,0),\"\")","v":""},{"$f":"IF(AND(Registration!$E2=\"s\",COUNTBLANK(H3)=0),placingpoints(H3,COUNTIF(H$3:H$102,\"=\"&H3)),\"\")","v":""},{"$f":"IF(Registration!$E2=\"S\",MTA!G2,\"\")","v":""},{"$f":"IF(AND(Registration!$E2=\"S\",COUNTBLANK(J3)=0),RANK(J3,J$3:J$102,0),\"\")","v":""},{"$f":"IF(AND(Registration!$E2=\"s\",COUNTBLANK(K3)=0),placingpoints(K3,COUNTIF(K$3:K$102,\"=\"&K3)),\"\")","v":""},{"$f":"IF(Registration!$E2=\"S\",'Trick Catch'!X3,\"\")","v":""},{"$f":"IF(AND(Registration!$E2=\"S\",COUNTBLANK(M3)=0),RANK(M3,M$3:M$102,0),\"\")","v":""},{"$f":"IF(AND(Registration!$E2=\"s\",COUNTBLANK(N3)=0),placingpoints(N3,COUNTIF(N$3:N$102,\"=\"&N3)),\"\")","v":""},{"$f":"IF(Registration!$E2=\"S\",'Fast Catch'!F2,\"\")","v":""},{"$f":"IF(AND(Registration!$E2=\"S\",COUNTBLANK(P3)=0),RANK(P3,P$3:P$102,1),\"\")","v":""},{"$f":"IF(AND(Registration!$E2=\"s\",COUNTBLANK(Q3)=0),placingpoints(Q3,COUNTIF(Q$3:Q$102,\"=\"&Q3)),\"\")","v":""},{"$f":"IF(Registration!$E2=\"S\",Endurance!C2,\"\")","v":""},{"$f":"IF(AND(Registration!$E2=\"S\",COUNTBLANK(S3)=0),RANK(S3,S$3:S$102,0),\"\")","v":""},{"$f":"IF(AND(Registration!$E2=\"s\",COUNTBLANK(T3)=0),placingpoints(T3,COUNTIF(T$3:T$102,\"=\"&T3)),\"\")","v":""}]
[{"$f":"IF(Registration!E3=\"S\",RANK(B4,$B$3:$B$102,1),\"\")","v":""},{"$f":"IF(Registration!E3=\"S\",SUM(F4,I4,L4,O4,R4,U4),\"\")","v":""},{"$f":"IF(COUNTBLANK(Registration!B3)=1,\"\",IF(Registration!E3=\"s\",Registration!B3,\"\"))","v":""},{"$f":"IF(Registration!E3=\"S\",'Aussie Round'!V4,\"\")","v":""},{"$f":"IF(AND(Registration!$E3=\"S\",COUNTBLANK(D4)=0),RANK(D4,D$3:D$102,0),\"\")","v":""},{"$f":"IF(AND(Registration!$E3=\"s\",COUNTBLANK(E4)=0),placingpoints(E4,COUNTIF(E$3:E$102,\"=\"&E4)),\"\")","v":""},{"$f":"IF(Registration!$E3=\"S\",Accuracy!L3,\"\")","v":""},{"$f":"IF(AND(Registration!$E3=\"S\",COUNTBLANK(G4)=0),RANK(G4,G$3:G$102,0),\"\")","v":""},{"$f":"IF(AND(Registration!$E3=\"s\",COUNTBLANK(H4)=0),placingpoints(H4,COUNTIF(H$3:H$102,\"=\"&H4)),\"\")","v":""},{"$f":"IF(Registration!$E3=\"S\",MTA!G3,\"\")","v":""},{"$f":"IF(AND(Registration!$E3=\"S\",COUNTBLANK(J4)=0),RANK(J4,J$3:J$102,0),\"\")","v":""},{"$f":"IF(AND(Registration!$E3=\"s\",COUNTBLANK(K4)=0),placingpoints(K4,COUNTIF(K$3:K$102,\"=\"&K4)),\"\")","v":""},{"$f":"IF(Registration!$E3=\"S\",'Trick Catch'!X4,\"\")","v":""},{"$f":"IF(AND(Registration!$E3=\"S\",COUNTBLANK(M4)=0),RANK(M4,M$3:M$102,0),\"\")","v":""},{"$f":"IF(AND(Registration!$E3=\"s\",COUNTBLANK(N4)=0),placingpoints(N4,COUNTIF(N$3:N$102,\"=\"&N4)),\"\")","v":""},{"$f":"IF(Registration!$E3=\"S\",'Fast Catch'!F3,\"\")","v":""},{"$f":"IF(AND(Registration!$E3=\"S\",COUNTBLANK(P4)=0),RANK(P4,P$3:P$102,1),\"\")","v":""},{"$f":"IF(AND(Registration!$E3=\"s\",COUNTBLANK(Q4)=0),placingpoints(Q4,COUNTIF(Q$3:Q$102,\"=\"&Q4)),\"\")","v":""},{"$f":"IF(Registration!$E3=\"S\",Endurance!C3,\"\")","v":""},{"$f":"IF(AND(Registration!$E3=\"S\",COUNTBLANK(S4)=0),RANK(S4,S$3:S$102,0),\"\")","v":""},{"$f":"IF(AND(Registration!$E3=\"s\",COUNTBLANK(T4)=0),placingpoints(T4,COUNTIF(T$3:T$102,\"=\"&T4)),\"\")","v":""}]
[{"$f":"IF(Registration!E4=\"S\",RANK(B5,$B$3:$B$102,1),\"\")","v":""},{"$f":"IF(Registration!E4=\"S\",SUM(F5,I5,L5,O5,R5,U5),\"\")","v":""},{"$f":"IF(COUNTBLANK(Registration!B4)=1,\"\",IF(Registration!E4=\"s\",Registration!B4,\"\"))","v":""},{"$f":"IF(Registration!E4=\"S\",'Aussie Round'!V5,\"\")","v":""},{"$f":"IF(AND(Registration!$E4=\"S\",COUNTBLANK(D5)=0),RANK(D5,D$3:D$102,0),\"\")","v":""},{"$f":"IF(AND(Registration!$E4=\"s\",COUNTBLANK(E5)=0),placingpoints(E5,COUNTIF(E$3:E$102,\"=\"&E5)),\"\")","v":""},{"$f":"IF(Registration!$E4=\"S\",Accuracy!L4,\"\")","v":""},{"$f":"IF(AND(Registration!$E4=\"S\",COUNTBLANK(G5)=0),RANK(G5,G$3:G$102,0),\"\")","v":""},{"$f":"IF(AND(Registration!$E4=\"s\",COUNTBLANK(H5)=0),placingpoints(H5,COUNTIF(H$3:H$102,\"=\"&H5)),\"\")","v":""},{"$f":"IF(Registration!$E4=\"S\",MTA!G4,\"\")","v":""},{"$f":"IF(AND(Registration!$E4=\"S\",COUNTBLANK(J5)=0),RANK(J5,J$3:J$102,0),\"\")","v":""},{"$f":"IF(AND(Registration!$E4=\"s\",COUNTBLANK(K5)=0),placingpoints(K5,COUNTIF(K$3:K$102,\"=\"&K5)),\"\")","v":""},{"$f":"IF(Registration!$E4=\"S\",'Trick Catch'!X5,\"\")","v":""},{"$f":"IF(AND(Registration!$E4=\"S\",COUNTBLANK(M5)=0),RANK(M5,M$3:M$102,0),\"\")","v":""},{"$f":"IF(AND(Registration!$E4=\"s\",COUNTBLANK(N5)=0),placingpoints(N5,COUNTIF(N$3:N$102,\"=\"&N5)),\"\")","v":""},{"$f":"IF(Registration!$E4=\"S\",'Fast Catch'!F4,\"\")","v":""},{"$f":"IF(AND(Registration!$E4=\"S\",COUNTBLANK(P5)=0),RANK(P5,P$3:P$102,1),\"\")","v":""},{"$f":"IF(AND(Registration!$E4=\"s\",COUNTBLANK(Q5)=0),placingpoints(Q5,COUNTIF(Q$3:Q$102,\"=\"&Q5)),\"\")","v":""},{"$f":"IF(Registration!$E4=\"S\",Endurance!C4,\"\")","v":""},{"$f":"IF(AND(Registration!$E4=\"S\",COUNTBLANK(S5)=0),RANK(S5,S$3:S$102,0),\"\")","v":""},{"$f":"IF(AND(Registration!$E4=\"s\",COUNTBLANK(T5)=0),placingpoints(T5,COUNTIF(T$3:T$102,\"=\"&T5)),\"\")","v":""}]
[{"$f":"IF(Registration!E5=\"S\",RANK(B6,$B$3:$B$102,1),\"\")","v":""},{"$f":"IF(Registration!E5=\"S\",SUM(F6,I6,L6,O6,R6,U6),\"\")","v":""},{"$f":"IF(COUNTBLANK(Registration!B5)=1,\"\",IF(Registration!E5=\"s\",Registration!B5,\"\"))","v":""},{"$f":"IF(Registration!E5=\"S\",'Aussie Round'!V6,\"\")","v":""},{"$f":"IF(AND(Registration!$E5=\"S\",COUNTBLANK(D6)=0),RANK(D6,D$3:D$102,0),\"\")","v":""},{"$f":"IF(AND(Registration!$E5=\"s\",COUNTBLANK(E6)=0),placingpoints(E6,COUNTIF(E$3:E$102,\"=\"&E6)),\"\")","v":""},{"$f":"IF(Registration!$E5=\"S\",Accuracy!L5,\"\")","v":""},{"$f":"IF(AND(Registration!$E5=\"S\",COUNTBLANK(G6)=0),RANK(G6,G$3:G$102,0),\"\")","v":""},{"$f":"IF(AND(Registration!$E5=\"s\",COUNTBLANK(H6)=0),placingpoints(H6,COUNTIF(H$3:H$102,\"=\"&H6)),\"\")","v":""},{"$f":"IF(Registration!$E5=\"S\",MTA!G5,\"\")","v":""},{"$f":"IF(AND(Registration!$E5=\"S\",COUNTBLANK(J6)=0),RANK(J6,J$3:J$102,0),\"\")","v":""},{"$f":"IF(AND(Registration!$E5=\"s\",COUNTBLANK(K6)=0),placingpoints(K6,COUNTIF(K$3:K$102,\"=\"&K6)),\"\")","v":""},{"$f":"IF(Registration!$E5=\"S\",'Trick Catch'!X6,\"\")","v":""},{"$f":"IF(AND(Registration!$E5=\"S\",COUNTBLANK(M6)=0),RANK(M6,M$3:M$102,0),\"\")","v":""},{"$f":"IF(AND(Registration!$E5=\"s\",COUNTBLANK(N6)=0),placingpoints(N6,COUNTIF(N$3:N$102,\"=\"&N6)),\"\")","v":""},{"$f":"IF(Registration!$E5=\"S\",'Fast Catch'!F5,\"\")","v":""},{"$f":"IF(AND(Registration!$E5=\"S\",COUNTBLANK(P6)=0),RANK(P6,P$3:P$102,1),\"\")","v":""},{"$f":"IF(AND(Registration!$E5=\"s\",COUNTBLANK(Q6)=0),placingpoints(Q6,COUNTIF(Q$3:Q$102,\"=\"&Q6)),\"\")","v":""},{"$f":"IF(Registration!$E5=\"S\",Endurance!C5,\"\")","v":""},{"$f":"IF(AND(Registration!$E5=\"S\",COUNTBLANK(S6)=0),RANK(S6,S$3:S$102,0),\"\")","v":""},{"$f":"IF(AND(Registration!$E5=\"s\",COUNTBLANK(T6)=0),placingpoints(T6,COUNTIF(T$3:T$102,\"=\"&T6)),\"\")","v":""}]
[{"$f":"IF(Registration!E6=\"S\",RANK(B7,$B$3:$B$102,1),\"\")","v":""},{"$f":"IF(Registration!E6=\"S\",SUM(F7,I7,L7,O7,R7,U7),\"\")","v":""},{"$f":"IF(COUNTBLANK(Registration!B6)=1,\"\",IF(Registration!E6=\"s\",Registration!B6,\"\"))","v":""},{"$f":"IF(Registration!E6=\"S\",'Aussie Round'!V7,\"\")","v":""},{"$f":"IF(AND(Registration!$E6=\"S\",COUNTBLANK(D7)=0),RANK(D7,D$3:D$102,0),\"\")","v":""},{"$f":"IF(AND(Registration!$E6=\"s\",COUNTBLANK(E7)=0),placingpoints(E7,COUNTIF(E$3:E$102,\"=\"&E7)),\"\")","v":""},{"$f":"IF(Registration!$E6=\"S\",Accuracy!L6,\"\")","v":""},{"$f":"IF(AND(Registration!$E6=\"S\",COUNTBLANK(G7)=0),RANK(G7,G$3:G$102,0),\"\")","v":""},{"$f":"IF(AND(Registration!$E6=\"s\",COUNTBLANK(H7)=0),placingpoints(H7,COUNTIF(H$3:H$102,\"=\"&H7)),\"\")","v":""},{"$f":"IF(Registration!$E6=\"S\",MTA!G6,\"\")","v":""},{"$f":"IF(AND(Registration!$E6=\"S\",COUNTBLANK(J7)=0),RANK(J7,J$3:J$102,0),\"\")","v":""},{"$f":"IF(AND(Registration!$E6=\"s\",COUNTBLANK(K7)=0),placingpoints(K7,COUNTIF(K$3:K$102,\"=\"&K7)),\"\")","v":""},{"$f":"IF(Registration!$E6=\"S\",'Trick Catch'!X7,\"\")","v":""},{"$f":"IF(AND(Registration!$E6=\"S\",COUNTBLANK(M7)=0),RANK(M7,M$3:M$102,0),\"\")","v":""},{"$f":"IF(AND(Registration!$E6=\"s\",COUNTBLANK(N7)=0),placingpoints(N7,COUNTIF(N$3:N$102,\"=\"&N7)),\"\")","v":""},{"$f":"IF(Registration!$E6=\"S\",'Fast Catch'!F6,\"\")","v":""},{"$f":"IF(AND(Registration!$E6=\"S\",COUNTBLANK(P7)=0),RANK(P7,P$3:P$102,1),\"\")","v":""},{"$f":"IF(AND(Registration!$E6=\"s\",COUNTBLANK(Q7)=0),placingpoints(Q7,COUNTIF(Q$3:Q$102,\"=\"&Q7)),\"\")","v":""},{"$f":"IF(Registration!$E6=\"S\",Endurance!C6,\"\")","v":""},{"$f":"IF(AND(Registration!$E6=\"S\",COUNTBLANK(S7)=0),RANK(S7,S$3:S$102,0),\"\")","v":""},{"$f":"IF(AND(Registration!$E6=\"s\",COUNTBLANK(T7)=0),placingpoints(T7,COUNTIF(T$3:T$102,\"=\"&T7)),\"\")","v":""}]
[{"$f":"IF(Registration!E7=\"S\",RANK(B8,$B$3:$B$102,1),\"\")","v":""},{"$f":"IF(Registration!E7=\"S\",SUM(F8,I8,L8,O8,R8,U8),\"\")","v":""},{"$f":"IF(COUNTBLANK(Registration!B7)=1,\"\",IF(Registration!E7=\"s\",Registration!B7,\"\"))","v":""},{"$f":"IF(Registration!E7=\"S\",'Aussie Round'!V8,\"\")","v":""},{"$f":"IF(AND(Registration!$E7=\"S\",COUNTBLANK(D8)=0),RANK(D8,D$3:D$102,0),\"\")","v":""},{"$f":"IF(AND(Registration!$E7=\"s\",COUNTBLANK(E8)=0),placingpoints(E8,COUNTIF(E$3:E$102,\"=\"&E8)),\"\")","v":""},{"$f":"IF(Registration!$E7=\"S\",Accuracy!L7,\"\")","v":""},{"$f":"IF(AND(Registration!$E7=\"S\",COUNTBLANK(G8)=0),RANK(G8,G$3:G$102,0),\"\")","v":""},{"$f":"IF(AND(Registration!$E7=\"s\",COUNTBLANK(H8)=0),placingpoints(H8,COUNTIF(H$3:H$102,\"=\"&H8)),\"\")","v":""},{"$f":"IF(Registration!$E7=\"S\",MTA!G7,\"\")","v":""},{"$f":"IF(AND(Registration!$E7=\"S\",COUNTBLANK(J8)=0),RANK(J8,J$3:J$102,0),\"\")","v":""},{"$f":"IF(AND(Registration!$E7=\"s\",COUNTBLANK(K8)=0),placingpoints(K8,COUNTIF(K$3:K$102,\"=\"&K8)),\"\")","v":""},{"$f":"IF(Registration!$E7=\"S\",'Trick Catch'!X8,\"\")","v":""},{"$f":"IF(AND(Registration!$E7=\"S\",COUNTBLANK(M8)=0),RANK(M8,M$3:M$102,0),\"\")","v":""},{"$f":"IF(AND(Registration!$E7=\"s\",COUNTBLANK(N8)=0),placingpoints(N8,COUNTIF(N$3:N$102,\"=\"&N8)),\"\")","v":""},{"$f":"IF(Registration!$E7=\"S\",'Fast Catch'!F7,\"\")","v":""},{"$f":"IF(AND(Registration!$E7=\"S\",COUNTBLANK(P8)=0),RANK(P8,P$3:P$102,1),\"\")","v":""},{"$f":"IF(AND(Registration!$E7=\"s\",COUNTBLANK(Q8)=0),placingpoints(Q8,COUNTIF(Q$3:Q$102,\"=\"&Q8)),\"\")","v":""},{"$f":"IF(Registration!$E7=\"S\",Endurance!C7,\"\")","v":""},{"$f":"IF(AND(Registration!$E7=\"S\",COUNTBLANK(S8)=0),RANK(S8,S$3:S$102,0),\"\")","v":""},{"$f":"IF(AND(Registration!$E7=\"s\",COUNTBLANK(T8)=0),placingpoints(T8,COUNTIF(T$3:T$102,\"=\"&T8)),\"\")","v":""}]
[{"$f":"IF(Registration!E8=\"S\",RANK(B9,$B$3:$B$102,1),\"\")","v":""},{"$f":"IF(Registration!E8=\"S\",SUM(F9,I9,L9,O9,R9,U9),\"\")","v":""},{"$f":"IF(COUNTBLANK(Registration!B8)=1,\"\",IF(Registration!E8=\"s\",Registration!B8,\"\"))","v":""},{"$f":"IF(Registration!E8=\"S\",'Aussie Round'!V9,\"\")","v":""},{"$f":"IF(AND(Registration!$E8=\"S\",COUNTBLANK(D9)=0),RANK(D9,D$3:D$102,0),\"\")","v":""},{"$f":"IF(AND(Registration!$E8=\"s\",COUNTBLANK(E9)=0),placingpoints(E9,COUNTIF(E$3:E$102,\"=\"&E9)),\"\")","v":""},{"$f":"IF(Registration!$E8=\"S\",Accuracy!L8,\"\")","v":""},{"$f":"IF(AND(Registration!$E8=\"S\",COUNTBLANK(G9)=0),RANK(G9,G$3:G$102,0),\"\")","v":""},{"$f":"IF(AND(Registration!$E8=\"s\",COUNTBLANK(H9)=0),placingpoints(H9,COUNTIF(H$3:H$102,\"=\"&H9)),\"\")","v":""},{"$f":"IF(Registration!$E8=\"S\",MTA!G8,\"\")","v":""},{"$f":"IF(AND(Registration!$E8=\"S\",COUNTBLANK(J9)=0),RANK(J9,J$3:J$102,0),\"\")","v":""},{"$f":"IF(AND(Registration!$E8=\"s\",COUNTBLANK(K9)=0),placingpoints(K9,COUNTIF(K$3:K$102,\"=\"&K9)),\"\")","v":""},{"$f":"IF(Registration!$E8=\"S\",'Trick Catch'!X9,\"\")","v":""},{"$f":"IF(AND(Registration!$E8=\"S\",COUNTBLANK(M9)=0),RANK(M9,M$3:M$102,0),\"\")","v":""},{"$f":"IF(AND(Registration!$E8=\"s\",COUNTBLANK(N9)=0),placingpoints(N9,COUNTIF(N$3:N$102,\"=\"&N9)),\"\")","v":""},{"$f":"IF(Registration!$E8=\"S\",'Fast Catch'!F8,\"\")","v":""},{"$f":"IF(AND(Registration!$E8=\"S\",COUNTBLANK(P9)=0),RANK(P9,P$3:P$102,1),\"\")","v":""},{"$f":"IF(AND(Registration!$E8=\"s\",COUNTBLANK(Q9)=0),placingpoints(Q9,COUNTIF(Q$3:Q$102,\"=\"&Q9)),\"\")","v":""},{"$f":"IF(Registration!$E8=\"S\",Endurance!C8,\"\")","v":""},{"$f":"IF(AND(Registration!$E8=\"S\",COUNTBLANK(S9)=0),RANK(S9,S$3:S$102,0),\"\")","v":""},{"$f":"IF(AND(Registration!$E8=\"s\",COUNTBLANK(T9)=0),placingpoints(T9,COUNTIF(T$3:T$102,\"=\"&T9)),\"\")","v":""}]
[{"$f":"IF(Registration!E9=\"S\",RANK(B10,$B$3:$B$102,1),\"\")","v":""},{"$f":"IF(Registration!E9=\"S\",SUM(F10,I10,L10,O10,R10,U10),\"\")","v":""},{"$f":"IF(COUNTBLANK(Registration!B9)=1,\"\",IF(Registration!E9=\"s\",Registration!B9,\"\"))","v":""},{"$f":"IF(Registration!E9=\"S\",'Aussie Round'!V10,\"\")","v":""},{"$f":"IF(AND(Registration!$E9=\"S\",COUNTBLANK(D10)=0),RANK(D10,D$3:D$102,0),\"\")","v":""},{"$f":"IF(AND(Registration!$E9=\"s\",COUNTBLANK(E10)=0),placingpoints(E10,COUNTIF(E$3:E$102,\"=\"&E10)),\"\")","v":""},{"$f":"IF(Registration!$E9=\"S\",Accuracy!L9,\"\")","v":""},{"$f":"IF(AND(Registration!$E9=\"S\",COUNTBLANK(G10)=0),RANK(G10,G$3:G$102,0),\"\")","v":""},{"$f":"IF(AND(Registration!$E9=\"s\",COUNTBLANK(H10)=0),placingpoints(H10,COUNTIF(H$3:H$102,\"=\"&H10)),\"\")","v":""},{"$f":"IF(Registration!$E9=\"S\",MTA!G9,\"\")","v":""},{"$f":"IF(AND(Registration!$E9=\"S\",COUNTBLANK(J10)=0),RANK(J10,J$3:J$102,0),\"\")","v":""},{"$f":"IF(AND(Registration!$E9=\"s\",COUNTBLANK(K10)=0),placingpoints(K10,COUNTIF(K$3:K$102,\"=\"&K10)),\"\")","v":""},{"$f":"IF(Registration!$E9=\"S\",'Trick Catch'!X10,\"\")","v":""},{"$f":"IF(AND(Registration!$E9=\"S\",COUNTBLANK(M10)=0),RANK(M10,M$3:M$102,0),\"\")","v":""},{"$f":"IF(AND(Registration!$E9=\"s\",COUNTBLANK(N10)=0),placingpoints(N10,COUNTIF(N$3:N$102,\"=\"&N10)),\"\")","v":""},{"$f":"IF(Registration!$E9=\"S\",'Fast Catch'!F9,\"\")","v":""},{"$f":"IF(AND(Registration!$E9=\"S\",COUNTBLANK(P10)=0),RANK(P10,P$3:P$102,1),\"\")","v":""},{"$f":"IF(AND(Registration!$E9=\"s\",COUNTBLANK(Q10)=0),placingpoints(Q10,COUNTIF(Q$3:Q$102,\"=\"&Q10)),\"\")","v":""},{"$f":"IF(Registration!$E9=\"S\",Endurance!C9,\"\")","v":""},{"$f":"IF(AND(Registration!$E9=\"S\",COUNTBLANK(S10)=0),RANK(S10,S$3:S$102,0),\"\")","v":""},{"$f":"IF(AND(Registration!$E9=\"s\",COUNTBLANK(T10)=0),placingpoints(T10,COUNTIF(T$3:T$102,\"=\"&T10)),\"\")","v":""}]
[{"$f":"IF(Registration!E10=\"S\",RANK(B11,$B$3:$B$102,1),\"\")","v":""},{"$f":"IF(Registration!E10=\"S\",SUM(F11,I11,L11,O11,R11,U11),\"\")","v":""},{"$f":"IF(COUNTBLANK(Registration!B10)=1,\"\",IF(Registration!E10=\"s\",Registration!B10,\"\"))","v":""},{"$f":"IF(Registration!E10=\"S\",'Aussie Round'!V11,\"\")","v":""},{"$f":"IF(AND(Registration!$E10=\"S\",COUNTBLANK(D11)=0),RANK(D11,D$3:D$102,0),\"\")","v":""},{"$f":"IF(AND(Registration!$E10=\"s\",COUNTBLANK(E11)=0),placingpoints(E11,COUNTIF(E$3:E$102,\"=\"&E11)),\"\")","v":""},{"$f":"IF(Registration!$E10=\"S\",Accuracy!L10,\"\")","v":""},{"$f":"IF(AND(Registration!$E10=\"S\",COUNTBLANK(G11)=0),RANK(G11,G$3:G$102,0),\"\")","v":""},{"$f":"IF(AND(Registration!$E10=\"s\",COUNTBLANK(H11)=0),placingpoints(H11,COUNTIF(H$3:H$102,\"=\"&H11)),\"\")","v":""},{"$f":"IF(Registration!$E10=\"S\",MTA!G10,\"\")","v":""},{"$f":"IF(AND(Registration!$E10=\"S\",COUNTBLANK(J11)=0),RANK(J11,J$3:J$102,0),\"\")","v":""},{"$f":"IF(AND(Registration!$E10=\"s\",COUNTBLANK(K11)=0),placingpoints(K11,COUNTIF(K$3:K$102,\"=\"&K11)),\"\")","v":""},{"$f":"IF(Registration!$E10=\"S\",'Trick Catch'!X11,\"\")","v":""},{"$f":"IF(AND(Registration!$E10=\"S\",COUNTBLANK(M11)=0),RANK(M11,M$3:M$102,0),\"\")","v":""},{"$f":"IF(AND(Registration!$E10=\"s\",COUNTBLANK(N11)=0),placingpoints(N11,COUNTIF(N$3:N$102,\"=\"&N11)),\"\")","v":""},{"$f":"IF(Registration!$E10=\"S\",'Fast Catch'!F10,\"\")","v":""},{"$f":"IF(AND(Registration!$E10=\"S\",COUNTBLANK(P11)=0),RANK(P11,P$3:P$102,1),\"\")","v":""},{"$f":"IF(AND(Registration!$E10=\"s\",COUNTBLANK(Q11)=0),placingpoints(Q11,COUNTIF(Q$3:Q$102,\"=\"&Q11)),\"\")","v":""},{"$f":"IF(Registration!$E10=\"S\",Endurance!C10,\"\")","v":""},{"$f":"IF(AND(Registration!$E10=\"S\",COUNTBLANK(S11)=0),RANK(S11,S$3:S$102,0),\"\")","v":""},{"$f":"IF(AND(Registration!$E10=\"s\",COUNTBLANK(T11)=0),placingpoints(T11,COUNTIF(T$3:T$102,\"=\"&T11)),\"\")","v":""}]
[{"$f":"IF(Registration!E11=\"S\",RANK(B12,$B$3:$B$102,1),\"\")","v":""},{"$f":"IF(Registration!E11=\"S\",SUM(F12,I12,L12,O12,R12,U12),\"\")","v":""},{"$f":"IF(COUNTBLANK(Registration!B11)=1,\"\",IF(Registration!E11=\"s\",Registration!B11,\"\"))","v":""},{"$f":"IF(Registration!E11=\"S\",'Aussie Round'!V12,\"\")","v":""},{"$f":"IF(AND(Registration!$E11=\"S\",COUNTBLANK(D12)=0),RANK(D12,D$3:D$102,0),\"\")","v":""},{"$f":"IF(AND(Registration!$E11=\"s\",COUNTBLANK(E12)=0),placingpoints(E12,COUNTIF(E$3:E$102,\"=\"&E12)),\"\")","v":""},{"$f":"IF(Registration!$E11=\"S\",Accuracy!L11,\"\")","v":""},{"$f":"IF(AND(Registration!$E11=\"S\",COUNTBLANK(G12)=0),RANK(G12,G$3:G$102,0),\"\")","v":""},{"$f":"IF(AND(Registration!$E11=\"s\",COUNTBLANK(H12)=0),placingpoints(H12,COUNTIF(H$3:H$102,\"=\"&H12)),\"\")","v":""},{"$f":"IF(Registration!$E11=\"S\",MTA!G11,\"\")","v":""},{"$f":"IF(AND(Registration!$E11=\"S\",COUNTBLANK(J12)=0),RANK(J12,J$3:J$102,0),\"\")","v":""},{"$f":"IF(AND(Registration!$E11=\"s\",COUNTBLANK(K12)=0),placingpoints(K12,COUNTIF(K$3:K$102,\"=\"&K12)),\"\")","v":""},{"$f":"IF(Registration!$E11=\"S\",'Trick Catch'!X12,\"\")","v":""},{"$f":"IF(AND(Registration!$E11=\"S\",COUNTBLANK(M12)=0),RANK(M12,M$3:M$102,0),\"\")","v":""},{"$f":"IF(AND(Registration!$E11=\"s\",COUNTBLANK(N12)=0),placingpoints(N12,COUNTIF(N$3:N$102,\"=\"&N12)),\"\")","v":""},{"$f":"IF(Registration!$E11=\"S\",'Fast Catch'!F11,\"\")","v":""},{"$f":"IF(AND(Registration!$E11=\"S\",COUNTBLANK(P12)=0),RANK(P12,P$3:P$102,1),\"\")","v":""},{"$f":"IF(AND(Registration!$E11=\"s\",COUNTBLANK(Q12)=0),placingpoints(Q12,COUNTIF(Q$3:Q$102,\"=\"&Q12)),\"\")","v":""},{"$f":"IF(Registration!$E11=\"S\",Endurance!C11,\"\")","v":""},{"$f":"IF(AND(Registration!$E11=\"S\",COUNTBLANK(S12)=0),RANK(S12,S$3:S$102,0),\"\")","v":""},{"$f":"IF(AND(Registration!$E11=\"s\",COUNTBLANK(T12)=0),placingpoints(T12,COUNTIF(T$3:T$102,\"=\"&T12)),\"\")","v":""}]
[{"$f":"IF(Registration!E12=\"S\",RANK(B13,$B$3:$B$102,1),\"\")","v":""},{"$f":"IF(Registration!E12=\"S\",SUM(F13,I13,L13,O13,R13,U13),\"\")","v":""},{"$f":"IF(COUNTBLANK(Registration!B12)=1,\"\",IF(Registration!E12=\"s\",Registration!B12,\"\"))","v":""},{"$f":"IF(Registration!E12=\"S\",'Aussie Round'!V13,\"\")","v":""},{"$f":"IF(AND(Registration!$E12=\"S\",COUNTBLANK(D13)=0),RANK(D13,D$3:D$102,0),\"\")","v":""},{"$f":"IF(AND(Registration!$E12=\"s\",COUNTBLANK(E13)=0),placingpoints(E13,COUNTIF(E$3:E$102,\"=\"&E13)),\"\")","v":""},{"$f":"IF(Registration!$E12=\"S\",Accuracy!L12,\"\")","v":""},{"$f":"IF(AND(Registration!$E12=\"S\",COUNTBLANK(G13)=0),RANK(G13,G$3:G$102,0),\"\")","v":""},{"$f":"IF(AND(Registration!$E12=\"s\",COUNTBLANK(H13)=0),placingpoints(H13,COUNTIF(H$3:H$102,\"=\"&H13)),\"\")","v":""},{"$f":"IF(Registration!$E12=\"S\",MTA!G12,\"\")","v":""},{"$f":"IF(AND(Registration!$E12=\"S\",COUNTBLANK(J13)=0),RANK(J13,J$3:J$102,0),\"\")","v":""},{"$f":"IF(AND(Registration!$E12=\"s\",COUNTBLANK(K13)=0),placingpoints(K13,COUNTIF(K$3:K$102,\"=\"&K13)),\"\")","v":""},{"$f":"IF(Registration!$E12=\"S\",'Trick Catch'!X13,\"\")","v":""},{"$f":"IF(AND(Registration!$E12=\"S\",COUNTBLANK(M13)=0),RANK(M13,M$3:M$102,0),\"\")","v":""},{"$f":"IF(AND(Registration!$E12=\"s\",COUNTBLANK(N13)=0),placingpoints(N13,COUNTIF(N$3:N$102,\"=\"&N13)),\"\")","v":""},{"$f":"IF(Registration!$E12=\"S\",'Fast Catch'!F12,\"\")","v":""},{"$f":"IF(AND(Registration!$E12=\"S\",COUNTBLANK(P13)=0),RANK(P13,P$3:P$102,1),\"\")","v":""},{"$f":"IF(AND(Registration!$E12=\"s\",COUNTBLANK(Q13)=0),placingpoints(Q13,COUNTIF(Q$3:Q$102,\"=\"&Q13)),\"\")","v":""},{"$f":"IF(Registration!$E12=\"S\",Endurance!C12,\"\")","v":""},{"$f":"IF(AND(Registration!$E12=\"S\",COUNTBLANK(S13)=0),RANK(S13,S$3:S$102,0),\"\")","v":""},{"$f":"IF(AND(Registration!$E12=\"s\",COUNTBLANK(T13)=0),placingpoints(T13,COUNTIF(T$3:T$102,\"=\"&T13)),\"\")","v":""}]
[{"$f":"IF(Registration!E13=\"S\",RANK(B14,$B$3:$B$102,1),\"\")","v":""},{"$f":"IF(Registration!E13=\"S\",SUM(F14,I14,L14,O14,R14,U14),\"\")","v":""},{"$f":"IF(COUNTBLANK(Registration!B13)=1,\"\",IF(Registration!E13=\"s\",Registration!B13,\"\"))","v":""},{"$f":"IF(Registration!E13=\"S\",'Aussie Round'!V14,\"\")","v":""},{"$f":"IF(AND(Registration!$E13=\"S\",COUNTBLANK(D14)=0),RANK(D14,D$3:D$102,0),\"\")","v":""},{"$f":"IF(AND(Registration!$E13=\"s\",COUNTBLANK(E14)=0),placingpoints(E14,COUNTIF(E$3:E$102,\"=\"&E14)),\"\")","v":""},{"$f":"IF(Registration!$E13=\"S\",Accuracy!L13,\"\")","v":""},{"$f":"IF(AND(Registration!$E13=\"S\",COUNTBLANK(G14)=0),RANK(G14,G$3:G$102,0),\"\")","v":""},{"$f":"IF(AND(Registration!$E13=\"s\",COUNTBLANK(H14)=0),placingpoints(H14,COUNTIF(H$3:H$102,\"=\"&H14)),\"\")","v":""},{"$f":"IF(Registration!$E13=\"S\",MTA!G13,\"\")","v":""},{"$f":"IF(AND(Registration!$E13=\"S\",COUNTBLANK(J14)=0),RANK(J14,J$3:J$102,0),\"\")","v":""},{"$f":"IF(AND(Registration!$E13=\"s\",COUNTBLANK(K14)=0),placingpoints(K14,COUNTIF(K$3:K$102,\"=\"&K14)),\"\")","v":""},{"$f":"IF(Registration!$E13=\"S\",'Trick Catch'!X14,\"\")","v":""},{"$f":"IF(AND(Registration!$E13=\"S\",COUNTBLANK(M14)=0),RANK(M14,M$3:M$102,0),\"\")","v":""},{"$f":"IF(AND(Registration!$E13=\"s\",COUNTBLANK(N14)=0),placingpoints(N14,COUNTIF(N$3:N$102,\"=\"&N14)),\"\")","v":""},{"$f":"IF(Registration!$E13=\"S\",'Fast Catch'!F13,\"\")","v":""},{"$f":"IF(AND(Registration!$E13=\"S\",COUNTBLANK(P14)=0),RANK(P14,P$3:P$102,1),\"\")","v":""},{"$f":"IF(AND(Registration!$E13=\"s\",COUNTBLANK(Q14)=0),placingpoints(Q14,COUNTIF(Q$3:Q$102,\"=\"&Q14)),\"\")","v":""},{"$f":"IF(Registration!$E13=\"S\",Endurance!C13,\"\")","v":""},{"$f":"IF(AND(Registration!$E13=\"S\",COUNTBLANK(S14)=0),RANK(S14,S$3:S$102,0),\"\")","v":""},{"$f":"IF(AND(Registration!$E13=\"s\",COUNTBLANK(T14)=0),placingpoints(T14,COUNTIF(T$3:T$102,\"=\"&T14)),\"\")","v":""}]
[{"$f":"IF(Registration!E14=\"S\",RANK(B15,$B$3:$B$102,1),\"\")","v":""},{"$f":"IF(Registration!E14=\"S\",SUM(F15,I15,L15,O15,R15,U15),\"\")","v":""},{"$f":"IF(COUNTBLANK(Registration!B14)=1,\"\",IF(Registration!E14=\"s\",Registration!B14,\"\"))","v":""},{"$f":"IF(Registration!E14=\"S\",'Aussie Round'!V15,\"\")","v":""},{"$f":"IF(AND(Registration!$E14=\"S\",COUNTBLANK(D15)=0),RANK(D15,D$3:D$102,0),\"\")","v":""},{"$f":"IF(AND(Registration!$E14=\"s\",COUNTBLANK(E15)=0),placingpoints(E15,COUNTIF(E$3:E$102,\"=\"&E15)),\"\")","v":""},{"$f":"IF(Registration!$E14=\"S\",Accuracy!L14,\"\")","v":""},{"$f":"IF(AND(Registration!$E14=\"S\",COUNTBLANK(G15)=0),RANK(G15,G$3:G$102,0),\"\")","v":""},{"$f":"IF(AND(Registration!$E14=\"s\",COUNTBLANK(H15)=0),placingpoints(H15,COUNTIF(H$3:H$102,\"=\"&H15)),\"\")","v":""},{"$f":"IF(Registration!$E14=\"S\",MTA!G14,\"\")","v":""},{"$f":"IF(AND(Registration!$E14=\"S\",COUNTBLANK(J15)=0),RANK(J15,J$3:J$102,0),\"\")","v":""},{"$f":"IF(AND(Registration!$E14=\"s\",COUNTBLANK(K15)=0),placingpoints(K15,COUNTIF(K$3:K$102,\"=\"&K15)),\"\")","v":""},{"$f":"IF(Registration!$E14=\"S\",'Trick Catch'!X15,\"\")","v":""},{"$f":"IF(AND(Registration!$E14=\"S\",COUNTBLANK(M15)=0),RANK(M15,M$3:M$102,0),\"\")","v":""},{"$f":"IF(AND(Registration!$E14=\"s\",COUNTBLANK(N15)=0),placingpoints(N15,COUNTIF(N$3:N$102,\"=\"&N15)),\"\")","v":""},{"$f":"IF(Registration!$E14=\"S\",'Fast Catch'!F14,\"\")","v":""},{"$f":"IF(AND(Registration!$E14=\"S\",COUNTBLANK(P15)=0),RANK(P15,P$3:P$102,1),\"\")","v":""},{"$f":"IF(AND(Registration!$E14=\"s\",COUNTBLANK(Q15)=0),placingpoints(Q15,COUNTIF(Q$3:Q$102,\"=\"&Q15)),\"\")","v":""},{"$f":"IF(Registration!$E14=\"S\",Endurance!C14,\"\")","v":""},{"$f":"IF(AND(Registration!$E14=\"S\",COUNTBLANK(S15)=0),RANK(S15,S$3:S$102,0),\"\")","v":""},{"$f":"IF(AND(Registration!$E14=\"s\",COUNTBLANK(T15)=0),placingpoints(T15,COUNTIF(T$3:T$102,\"=\"&T15)),\"\")","v":""}]
[{"$f":"IF(Registration!E15=\"S\",RANK(B16,$B$3:$B$102,1),\"\")","v":""},{"$f":"IF(Registration!E15=\"S\",SUM(F16,I16,L16,O16,R16,U16),\"\")","v":""},{"$f":"IF(COUNTBLANK(Registration!B15)=1,\"\",IF(Registration!E15=\"s\",Registration!B15,\"\"))","v":""},{"$f":"IF(Registration!E15=\"S\",'Aussie Round'!V16,\"\")","v":""},{"$f":"IF(AND(Registration!$E15=\"S\",COUNTBLANK(D16)=0),RANK(D16,D$3:D$102,0),\"\")","v":""},{"$f":"IF(AND(Registration!$E15=\"s\",COUNTBLANK(E16)=0),placingpoints(E16,COUNTIF(E$3:E$102,\"=\"&E16)),\"\")","v":""},{"$f":"IF(Registration!$E15=\"S\",Accuracy!L15,\"\")","v":""},{"$f":"IF(AND(Registration!$E15=\"S\",COUNTBLANK(G16)=0),RANK(G16,G$3:G$102,0),\"\")","v":""},{"$f":"IF(AND(Registration!$E15=\"s\",COUNTBLANK(H16)=0),placingpoints(H16,COUNTIF(H$3:H$102,\"=\"&H16)),\"\")","v":""},{"$f":"IF(Registration!$E15=\"S\",MTA!G15,\"\")","v":""},{"$f":"IF(AND(Registration!$E15=\"S\",COUNTBLANK(J16)=0),RANK(J16,J$3:J$102,0),\"\")","v":""},{"$f":"IF(AND(Registration!$E15=\"s\",COUNTBLANK(K16)=0),placingpoints(K16,COUNTIF(K$3:K$102,\"=\"&K16)),\"\")","v":""},{"$f":"IF(Registration!$E15=\"S\",'Trick Catch'!X16,\"\")","v":""},{"$f":"IF(AND(Registration!$E15=\"S\",COUNTBLANK(M16)=0),RANK(M16,M$3:M$102,0),\"\")","v":""},{"$f":"IF(AND(Registration!$E15=\"s\",COUNTBLANK(N16)=0),placingpoints(N16,COUNTIF(N$3:N$102,\"=\"&N16)),\"\")","v":""},{"$f":"IF(Registration!$E15=\"S\",'Fast Catch'!F15,\"\")","v":""},{"$f":"IF(AND(Registration!$E15=\"S\",COUNTBLANK(P16)=0),RANK(P16,P$3:P$102,1),\"\")","v":""},{"$f":"IF(AND(Registration!$E15=\"s\",COUNTBLANK(Q16)=0),placingpoints(Q16,COUNTIF(Q$3:Q$102,\"=\"&Q16)),\"\")","v":""},{"$f":"IF(Registration!$E15=\"S\",Endurance!C15,\"\")","v":""},{"$f":"IF(AND(Registration!$E15=\"S\",COUNTBLANK(S16)=0),RANK(S16,S$3:S$102,0),\"\")","v":""},{"$f":"IF(AND(Registration!$E15=\"s\",COUNTBLANK(T16)=0),placingpoints(T16,COUNTIF(T$3:T$102,\"=\"&T16)),\"\")","v":""}]
[{"$f":"IF(Registration!E16=\"S\",RANK(B17,$B$3:$B$102,1),\"\")","v":""},{"$f":"IF(Registration!E16=\"S\",SUM(F17,I17,L17,O17,R17,U17),\"\")","v":""},{"$f":"IF(COUNTBLANK(Registration!B16)=1,\"\",IF(Registration!E16=\"s\",Registration!B16,\"\"))","v":""},{"$f":"IF(Registration!E16=\"S\",'Aussie Round'!V17,\"\")","v":""},{"$f":"IF(AND(Registration!$E16=\"S\",COUNTBLANK(D17)=0),RANK(D17,D$3:D$102,0),\"\")","v":""},{"$f":"IF(AND(Registration!$E16=\"s\",COUNTBLANK(E17)=0),placingpoints(E17,COUNTIF(E$3:E$102,\"=\"&E17)),\"\")","v":""},{"$f":"IF(Registration!$E16=\"S\",Accuracy!L16,\"\")","v":""},{"$f":"IF(AND(Registration!$E16=\"S\",COUNTBLANK(G17)=0),RANK(G17,G$3:G$102,0),\"\")","v":""},{"$f":"IF(AND(Registration!$E16=\"s\",COUNTBLANK(H17)=0),placingpoints(H17,COUNTIF(H$3:H$102,\"=\"&H17)),\"\")","v":""},{"$f":"IF(Registration!$E16=\"S\",MTA!G16,\"\")","v":""},{"$f":"IF(AND(Registration!$E16=\"S\",COUNTBLANK(J17)=0),RANK(J17,J$3:J$102,0),\"\")","v":""},{"$f":"IF(AND(Registration!$E16=\"s\",COUNTBLANK(K17)=0),placingpoints(K17,COUNTIF(K$3:K$102,\"=\"&K17)),\"\")","v":""},{"$f":"IF(Registration!$E16=\"S\",'Trick Catch'!X17,\"\")","v":""},{"$f":"IF(AND(Registration!$E16=\"S\",COUNTBLANK(M17)=0),RANK(M17,M$3:M$102,0),\"\")","v":""},{"$f":"IF(AND(Registration!$E16=\"s\",COUNTBLANK(N17)=0),placingpoints(N17,COUNTIF(N$3:N$102,\"=\"&N17)),\"\")","v":""},{"$f":"IF(Registration!$E16=\"S\",'Fast Catch'!F16,\"\")","v":""},{"$f":"IF(AND(Registration!$E16=\"S\",COUNTBLANK(P17)=0),RANK(P17,P$3:P$102,1),\"\")","v":""},{"$f":"IF(AND(Registration!$E16=\"s\",COUNTBLANK(Q17)=0),placingpoints(Q17,COUNTIF(Q$3:Q$102,\"=\"&Q17)),\"\")","v":""},{"$f":"IF(Registration!$E16=\"S\",Endurance!C16,\"\")","v":""},{"$f":"IF(AND(Registration!$E16=\"S\",COUNTBLANK(S17)=0),RANK(S17,S$3:S$102,0),\"\")","v":""},{"$f":"IF(AND(Registration!$E16=\"s\",COUNTBLANK(T17)=0),placingpoints(T17,COUNTIF(T$3:T$102,\"=\"&T17)),\"\")","v":""}]
[{"$f":"IF(Registration!E17=\"S\",RANK(B18,$B$3:$B$102,1),\"\")","v":""},{"$f":"IF(Registration!E17=\"S\",SUM(F18,I18,L18,O18,R18,U18),\"\")","v":""},{"$f":"IF(COUNTBLANK(Registration!B17)=1,\"\",IF(Registration!E17=\"s\",Registration!B17,\"\"))","v":""},{"$f":"IF(Registration!E17=\"S\",'Aussie Round'!V18,\"\")","v":""},{"$f":"IF(AND(Registration!$E17=\"S\",COUNTBLANK(D18)=0),RANK(D18,D$3:D$102,0),\"\")","v":""},{"$f":"IF(AND(Registration!$E17=\"s\",COUNTBLANK(E18)=0),placingpoints(E18,COUNTIF(E$3:E$102,\"=\"&E18)),\"\")","v":""},{"$f":"IF(Registration!$E17=\"S\",Accuracy!L17,\"\")","v":""},{"$f":"IF(AND(Registration!$E17=\"S\",COUNTBLANK(G18)=0),RANK(G18,G$3:G$102,0),\"\")","v":""},{"$f":"IF(AND(Registration!$E17=\"s\",COUNTBLANK(H18)=0),placingpoints(H18,COUNTIF(H$3:H$102,\"=\"&H18)),\"\")","v":""},{"$f":"IF(Registration!$E17=\"S\",MTA!G17,\"\")","v":""},{"$f":"IF(AND(Registration!$E17=\"S\",COUNTBLANK(J18)=0),RANK(J18,J$3:J$102,0),\"\")","v":""},{"$f":"IF(AND(Registration!$E17=\"s\",COUNTBLANK(K18)=0),placingpoints(K18,COUNTIF(K$3:K$102,\"=\"&K18)),\"\")","v":""},{"$f":"IF(Registration!$E17=\"S\",'Trick Catch'!X18,\"\")","v":""},{"$f":"IF(AND(Registration!$E17=\"S\",COUNTBLANK(M18)=0),RANK(M18,M$3:M$102,0),\"\")","v":""},{"$f":"IF(AND(Registration!$E17=\"s\",COUNTBLANK(N18)=0),placingpoints(N18,COUNTIF(N$3:N$102,\"=\"&N18)),\"\")","v":""},{"$f":"IF(Registration!$E17=\"S\",'Fast Catch'!F17,\"\")","v":""},{"$f":"IF(AND(Registration!$E17=\"S\",COUNTBLANK(P18)=0),RANK(P18,P$3:P$102,1),\"\")","v":""},{"$f":"IF(AND(Registration!$E17=\"s\",COUNTBLANK(Q18)=0),placingpoints(Q18,COUNTIF(Q$3:Q$102,\"=\"&Q18)),\"\")","v":""},{"$f":"IF(Registration!$E17=\"S\",Endurance!C17,\"\")","v":""},{"$f":"IF(AND(Registration!$E17=\"S\",COUNTBLANK(S18)=0),RANK(S18,S$3:S$102,0),\"\")","v":""},{"$f":"IF(AND(Registration!$E17=\"s\",COUNTBLANK(T18)=0),placingpoints(T18,COUNTIF(T$3:T$102,\"=\"&T18)),\"\")","v":""}]
[{"$f":"IF(Registration!E18=\"S\",RANK(B19,$B$3:$B$102,1),\"\")","v":""},{"$f":"IF(Registration!E18=\"S\",SUM(F19,I19,L19,O19,R19,U19),\"\")","v":""},{"$f":"IF(COUNTBLANK(Registration!B18)=1,\"\",IF(Registration!E18=\"s\",Registration!B18,\"\"))","v":""},{"$f":"IF(Registration!E18=\"S\",'Aussie Round'!V19,\"\")","v":""},{"$f":"IF(AND(Registration!$E18=\"S\",COUNTBLANK(D19)=0),RANK(D19,D$3:D$102,0),\"\")","v":""},{"$f":"IF(AND(Registration!$E18=\"s\",COUNTBLANK(E19)=0),placingpoints(E19,COUNTIF(E$3:E$102,\"=\"&E19)),\"\")","v":""},{"$f":"IF(Registration!$E18=\"S\",Accuracy!L18,\"\")","v":""},{"$f":"IF(AND(Registration!$E18=\"S\",COUNTBLANK(G19)=0),RANK(G19,G$3:G$102,0),\"\")","v":""},{"$f":"IF(AND(Registration!$E18=\"s\",COUNTBLANK(H19)=0),placingpoints(H19,COUNTIF(H$3:H$102,\"=\"&H19)),\"\")","v":""},{"$f":"IF(Registration!$E18=\"S\",MTA!G18,\"\")","v":""},{"$f":"IF(AND(Registration!$E18=\"S\",COUNTBLANK(J19)=0),RANK(J19,J$3:J$102,0),\"\")","v":""},{"$f":"IF(AND(Registration!$E18=\"s\",COUNTBLANK(K19)=0),placingpoints(K19,COUNTIF(K$3:K$102,\"=\"&K19)),\"\")","v":""},{"$f":"IF(Registration!$E18=\"S\",'Trick Catch'!X19,\"\")","v":""},{"$f":"IF(AND(Registration!$E18=\"S\",COUNTBLANK(M19)=0),RANK(M19,M$3:M$102,0),\"\")","v":""},{"$f":"IF(AND(Registration!$E18=\"s\",COUNTBLANK(N19)=0),placingpoints(N19,COUNTIF(N$3:N$102,\"=\"&N19)),\"\")","v":""},{"$f":"IF(Registration!$E18=\"S\",'Fast Catch'!F18,\"\")","v":""},{"$f":"IF(AND(Registration!$E18=\"S\",COUNTBLANK(P19)=0),RANK(P19,P$3:P$102,1),\"\")","v":""},{"$f":"IF(AND(Registration!$E18=\"s\",COUNTBLANK(Q19)=0),placingpoints(Q19,COUNTIF(Q$3:Q$102,\"=\"&Q19)),\"\")","v":""},{"$f":"IF(Registration!$E18=\"S\",Endurance!C18,\"\")","v":""},{"$f":"IF(AND(Registration!$E18=\"S\",COUNTBLANK(S19)=0),RANK(S19,S$3:S$102,0),\"\")","v":""},{"$f":"IF(AND(Registration!$E18=\"s\",COUNTBLANK(T19)=0),placingpoints(T19,COUNTIF(T$3:T$102,\"=\"&T19)),\"\")","v":""}]
[{"$f":"IF(Registration!E19=\"S\",RANK(B20,$B$3:$B$102,1),\"\")","v":""},{"$f":"IF(Registration!E19=\"S\",SUM(F20,I20,L20,O20,R20,U20),\"\")","v":""},{"$f":"IF(COUNTBLANK(Registration!B19)=1,\"\",IF(Registration!E19=\"s\",Registration!B19,\"\"))","v":""},{"$f":"IF(Registration!E19=\"S\",'Aussie Round'!V20,\"\")","v":""},{"$f":"IF(AND(Registration!$E19=\"S\",COUNTBLANK(D20)=0),RANK(D20,D$3:D$102,0),\"\")","v":""},{"$f":"IF(AND(Registration!$E19=\"s\",COUNTBLANK(E20)=0),placingpoints(E20,COUNTIF(E$3:E$102,\"=\"&E20)),\"\")","v":""},{"$f":"IF(Registration!$E19=\"S\",Accuracy!L19,\"\")","v":""},{"$f":"IF(AND(Registration!$E19=\"S\",COUNTBLANK(G20)=0),RANK(G20,G$3:G$102,0),\"\")","v":""},{"$f":"IF(AND(Registration!$E19=\"s\",COUNTBLANK(H20)=0),placingpoints(H20,COUNTIF(H$3:H$102,\"=\"&H20)),\"\")","v":""},{"$f":"IF(Registration!$E19=\"S\",MTA!G19,\"\")","v":""},{"$f":"IF(AND(Registration!$E19=\"S\",COUNTBLANK(J20)=0),RANK(J20,J$3:J$102,0),\"\")","v":""},{"$f":"IF(AND(Registration!$E19=\"s\",COUNTBLANK(K20)=0),placingpoints(K20,COUNTIF(K$3:K$102,\"=\"&K20)),\"\")","v":""},{"$f":"IF(Registration!$E19=\"S\",'Trick Catch'!X20,\"\")","v":""},{"$f":"IF(AND(Registration!$E19=\"S\",COUNTBLANK(M20)=0),RANK(M20,M$3:M$102,0),\"\")","v":""},{"$f":"IF(AND(Registration!$E19=\"s\",COUNTBLANK(N20)=0),placingpoints(N20,COUNTIF(N$3:N$102,\"=\"&N20)),\"\")","v":""},{"$f":"IF(Registration!$E19=\"S\",'Fast Catch'!F19,\"\")","v":""},{"$f":"IF(AND(Registration!$E19=\"S\",COUNTBLANK(P20)=0),RANK(P20,P$3:P$102,1),\"\")","v":""},{"$f":"IF(AND(Registration!$E19=\"s\",COUNTBLANK(Q20)=0),placingpoints(Q20,COUNTIF(Q$3:Q$102,\"=\"&Q20)),\"\")","v":""},{"$f":"IF(Registration!$E19=\"S\",Endurance!C19,\"\")","v":""},{"$f":"IF(AND(Registration!$E19=\"S\",COUNTBLANK(S20)=0),RANK(S20,S$3:S$102,0),\"\")","v":""},{"$f":"IF(AND(Registration!$E19=\"s\",COUNTBLANK(T20)=0),placingpoints(T20,COUNTIF(T$3:T$102,\"=\"&T20)),\"\")","v":""}]
[{"$f":"IF(Registration!E20=\"S\",RANK(B21,$B$3:$B$102,1),\"\")","v":""},{"$f":"IF(Registration!E20=\"S\",SUM(F21,I21,L21,O21,R21,U21),\"\")","v":""},{"$f":"IF(COUNTBLANK(Registration!B20)=1,\"\",IF(Registration!E20=\"s\",Registration!B20,\"\"))","v":""},{"$f":"IF(Registration!E20=\"S\",'Aussie Round'!V21,\"\")","v":""},{"$f":"IF(AND(Registration!$E20=\"S\",COUNTBLANK(D21)=0),RANK(D21,D$3:D$102,0),\"\")","v":""},{"$f":"IF(AND(Registration!$E20=\"s\",COUNTBLANK(E21)=0),placingpoints(E21,COUNTIF(E$3:E$102,\"=\"&E21)),\"\")","v":""},{"$f":"IF(Registration!$E20=\"S\",Accuracy!L20,\"\")","v":""},{"$f":"IF(AND(Registration!$E20=\"S\",COUNTBLANK(G21)=0),RANK(G21,G$3:G$102,0),\"\")","v":""},{"$f":"IF(AND(Registration!$E20=\"s\",COUNTBLANK(H21)=0),placingpoints(H21,COUNTIF(H$3:H$102,\"=\"&H21)),\"\")","v":""},{"$f":"IF(Registration!$E20=\"S\",MTA!G20,\"\")","v":""},{"$f":"IF(AND(Registration!$E20=\"S\",COUNTBLANK(J21)=0),RANK(J21,J$3:J$102,0),\"\")","v":""},{"$f":"IF(AND(Registration!$E20=\"s\",COUNTBLANK(K21)=0),placingpoints(K21,COUNTIF(K$3:K$102,\"=\"&K21)),\"\")","v":""},{"$f":"IF(Registration!$E20=\"S\",'Trick Catch'!X21,\"\")","v":""},{"$f":"IF(AND(Registration!$E20=\"S\",COUNTBLANK(M21)=0),RANK(M21,M$3:M$102,0),\"\")","v":""},{"$f":"IF(AND(Registration!$E20=\"s\",COUNTBLANK(N21)=0),placingpoints(N21,COUNTIF(N$3:N$102,\"=\"&N21)),\"\")","v":""},{"$f":"IF(Registration!$E20=\"S\",'Fast Catch'!F20,\"\")","v":""},{"$f":"IF(AND(Registration!$E20=\"S\",COUNTBLANK(P21)=0),RANK(P21,P$3:P$102,1),\"\")","v":""},{"$f":"IF(AND(Registration!$E20=\"s\",COUNTBLANK(Q21)=0),placingpoints(Q21,COUNTIF(Q$3:Q$102,\"=\"&Q21)),\"\")","v":""},{"$f":"IF(Registration!$E20=\"S\",Endurance!C20,\"\")","v":""},{"$f":"IF(AND(Registration!$E20=\"S\",COUNTBLANK(S21)=0),RANK(S21,S$3:S$102,0),\"\")","v":""},{"$f":"IF(AND(Registration!$E20=\"s\",COUNTBLANK(T21)=0),placingpoints(T21,COUNTIF(T$3:T$102,\"=\"&T21)),\"\")","v":""}]
[{"$f":"IF(Registration!E21=\"S\",RANK(B22,$B$3:$B$102,1),\"\")","v":""},{"$f":"IF(Registration!E21=\"S\",SUM(F22,I22,L22,O22,R22,U22),\"\")","v":""},{"$f":"IF(COUNTBLANK(Registration!B21)=1,\"\",IF(Registration!E21=\"s\",Registration!B21,\"\"))","v":""},{"$f":"IF(Registration!E21=\"S\",'Aussie Round'!V22,\"\")","v":""},{"$f":"IF(AND(Registration!$E21=\"S\",COUNTBLANK(D22)=0),RANK(D22,D$3:D$102,0),\"\")","v":""},{"$f":"IF(AND(Registration!$E21=\"s\",COUNTBLANK(E22)=0),placingpoints(E22,COUNTIF(E$3:E$102,\"=\"&E22)),\"\")","v":""},{"$f":"IF(Registration!$E21=\"S\",Accuracy!L21,\"\")","v":""},{"$f":"IF(AND(Registration!$E21=\"S\",COUNTBLANK(G22)=0),RANK(G22,G$3:G$102,0),\"\")","v":""},{"$f":"IF(AND(Registration!$E21=\"s\",COUNTBLANK(H22)=0),placingpoints(H22,COUNTIF(H$3:H$102,\"=\"&H22)),\"\")","v":""},{"$f":"IF(Registration!$E21=\"S\",MTA!G21,\"\")","v":""},{"$f":"IF(AND(Registration!$E21=\"S\",COUNTBLANK(J22)=0),RANK(J22,J$3:J$102,0),\"\")","v":""},{"$f":"IF(AND(Registration!$E21=\"s\",COUNTBLANK(K22)=0),placingpoints(K22,COUNTIF(K$3:K$102,\"=\"&K22)),\"\")","v":""},{"$f":"IF(Registration!$E21=\"S\",'Trick Catch'!X22,\"\")","v":""},{"$f":"IF(AND(Registration!$E21=\"S\",COUNTBLANK(M22)=0),RANK(M22,M$3:M$102,0),\"\")","v":""},{"$f":"IF(AND(Registration!$E21=\"s\",COUNTBLANK(N22)=0),placingpoints(N22,COUNTIF(N$3:N$102,\"=\"&N22)),\"\")","v":""},{"$f":"IF(Registration!$E21=\"S\",'Fast Catch'!F21,\"\")","v":""},{"$f":"IF(AND(Registration!$E21=\"S\",COUNTBLANK(P22)=0),RANK(P22,P$3:P$102,1),\"\")","v":""},{"$f":"IF(AND(Registration!$E21=\"s\",COUNTBLANK(Q22)=0),placingpoints(Q22,COUNTIF(Q$3:Q$102,\"=\"&Q22)),\"\")","v":""},{"$f":"IF(Registration!$E21=\"S\",Endurance!C21,\"\")","v":""},{"$f":"IF(AND(Registration!$E21=\"S\",COUNTBLANK(S22)=0),RANK(S22,S$3:S$102,0),\"\")","v":""},{"$f":"IF(AND(Registration!$E21=\"s\",COUNTBLANK(T22)=0),placingpoints(T22,COUNTIF(T$3:T$102,\"=\"&T22)),\"\")","v":""}]
[{"$f":"IF(Registration!E22=\"S\",RANK(B23,$B$3:$B$102,1),\"\")","v":""},{"$f":"IF(Registration!E22=\"S\",SUM(F23,I23,L23,O23,R23,U23),\"\")","v":""},{"$f":"IF(COUNTBLANK(Registration!B22)=1,\"\",IF(Registration!E22=\"s\",Registration!B22,\"\"))","v":""},{"$f":"IF(Registration!E22=\"S\",'Aussie Round'!V23,\"\")","v":""},{"$f":"IF(AND(Registration!$E22=\"S\",COUNTBLANK(D23)=0),RANK(D23,D$3:D$102,0),\"\")","v":""},{"$f":"IF(AND(Registration!$E22=\"s\",COUNTBLANK(E23)=0),placingpoints(E23,COUNTIF(E$3:E$102,\"=\"&E23)),\"\")","v":""},{"$f":"IF(Registration!$E22=\"S\",Accuracy!L22,\"\")","v":""},{"$f":"IF(AND(Registration!$E22=\"S\",COUNTBLANK(G23)=0),RANK(G23,G$3:G$102,0),\"\")","v":""},{"$f":"IF(AND(Registration!$E22=\"s\",COUNTBLANK(H23)=0),placingpoints(H23,COUNTIF(H$3:H$102,\"=\"&H23)),\"\")","v":""},{"$f":"IF(Registration!$E22=\"S\",MTA!G22,\"\")","v":""},{"$f":"IF(AND(Registration!$E22=\"S\",COUNTBLANK(J23)=0),RANK(J23,J$3:J$102,0),\"\")","v":""},{"$f":"IF(AND(Registration!$E22=\"s\",COUNTBLANK(K23)=0),placingpoints(K23,COUNTIF(K$3:K$102,\"=\"&K23)),\"\")","v":""},{"$f":"IF(Registration!$E22=\"S\",'Trick Catch'!X23,\"\")","v":""},{"$f":"IF(AND(Registration!$E22=\"S\",COUNTBLANK(M23)=0),RANK(M23,M$3:M$102,0),\"\")","v":""},{"$f":"IF(AND(Registration!$E22=\"s\",COUNTBLANK(N23)=0),placingpoints(N23,COUNTIF(N$3:N$102,\"=\"&N23)),\"\")","v":""},{"$f":"IF(Registration!$E22=\"S\",'Fast Catch'!F22,\"\")","v":""},{"$f":"IF(AND(Registration!$E22=\"S\",COUNTBLANK(P23)=0),RANK(P23,P$3:P$102,1),\"\")","v":""},{"$f":"IF(AND(Registration!$E22=\"s\",COUNTBLANK(Q23)=0),placingpoints(Q23,COUNTIF(Q$3:Q$102,\"=\"&Q23)),\"\")","v":""},{"$f":"IF(Registration!$E22=\"S\",Endurance!C22,\"\")","v":""},{"$f":"IF(AND(Registration!$E22=\"S\",COUNTBLANK(S23)=0),RANK(S23,S$3:S$102,0),\"\")","v":""},{"$f":"IF(AND(Registration!$E22=\"s\",COUNTBLANK(T23)=0),placingpoints(T23,COUNTIF(T$3:T$102,\"=\"&T23)),\"\")","v":""}]
[{"$f":"IF(Registration!E23=\"S\",RANK(B24,$B$3:$B$102,1),\"\")","v":""},{"$f":"IF(Registration!E23=\"S\",SUM(F24,I24,L24,O24,R24,U24),\"\")","v":""},{"$f":"IF(COUNTBLANK(Registration!B23)=1,\"\",IF(Registration!E23=\"s\",Registration!B23,\"\"))","v":""},{"$f":"IF(Registration!E23=\"S\",'Aussie Round'!V24,\"\")","v":""},{"$f":"IF(AND(Registration!$E23=\"S\",COUNTBLANK(D24)=0),RANK(D24,D$3:D$102,0),\"\")","v":""},{"$f":"IF(AND(Registration!$E23=\"s\",COUNTBLANK(E24)=0),placingpoints(E24,COUNTIF(E$3:E$102,\"=\"&E24)),\"\")","v":""},{"$f":"IF(Registration!$E23=\"S\",Accuracy!L23,\"\")","v":""},{"$f":"IF(AND(Registration!$E23=\"S\",COUNTBLANK(G24)=0),RANK(G24,G$3:G$102,0),\"\")","v":""},{"$f":"IF(AND(Registration!$E23=\"s\",COUNTBLANK(H24)=0),placingpoints(H24,COUNTIF(H$3:H$102,\"=\"&H24)),\"\")","v":""},{"$f":"IF(Registration!$E23=\"S\",MTA!G23,\"\")","v":""},{"$f":"IF(AND(Registration!$E23=\"S\",COUNTBLANK(J24)=0),RANK(J24,J$3:J$102,0),\"\")","v":""},{"$f":"IF(AND(Registration!$E23=\"s\",COUNTBLANK(K24)=0),placingpoints(K24,COUNTIF(K$3:K$102,\"=\"&K24)),\"\")","v":""},{"$f":"IF(Registration!$E23=\"S\",'Trick Catch'!X24,\"\")","v":""},{"$f":"IF(AND(Registration!$E23=\"S\",COUNTBLANK(M24)=0),RANK(M24,M$3:M$102,0),\"\")","v":""},{"$f":"IF(AND(Registration!$E23=\"s\",COUNTBLANK(N24)=0),placingpoints(N24,COUNTIF(N$3:N$102,\"=\"&N24)),\"\")","v":""},{"$f":"IF(Registration!$E23=\"S\",'Fast Catch'!F23,\"\")","v":""},{"$f":"IF(AND(Registration!$E23=\"S\",COUNTBLANK(P24)=0),RANK(P24,P$3:P$102,1),\"\")","v":""},{"$f":"IF(AND(Registration!$E23=\"s\",COUNTBLANK(Q24)=0),placingpoints(Q24,COUNTIF(Q$3:Q$102,\"=\"&Q24)),\"\")","v":""},{"$f":"IF(Registration!$E23=\"S\",Endurance!C23,\"\")","v":""},{"$f":"IF(AND(Registration!$E23=\"S\",COUNTBLANK(S24)=0),RANK(S24,S$3:S$102,0),\"\")","v":""},{"$f":"IF(AND(Registration!$E23=\"s\",COUNTBLANK(T24)=0),placingpoints(T24,COUNTIF(T$3:T$102,\"=\"&T24)),\"\")","v":""}]
[{"$f":"IF(Registration!E24=\"S\",RANK(B25,$B$3:$B$102,1),\"\")","v":""},{"$f":"IF(Registration!E24=\"S\",SUM(F25,I25,L25,O25,R25,U25),\"\")","v":""},{"$f":"IF(COUNTBLANK(Registration!B24)=1,\"\",IF(Registration!E24=\"s\",Registration!B24,\"\"))","v":""},{"$f":"IF(Registration!E24=\"S\",'Aussie Round'!V25,\"\")","v":""},{"$f":"IF(AND(Registration!$E24=\"S\",COUNTBLANK(D25)=0),RANK(D25,D$3:D$102,0),\"\")","v":""},{"$f":"IF(AND(Registration!$E24=\"s\",COUNTBLANK(E25)=0),placingpoints(E25,COUNTIF(E$3:E$102,\"=\"&E25)),\"\")","v":""},{"$f":"IF(Registration!$E24=\"S\",Accuracy!L24,\"\")","v":""},{"$f":"IF(AND(Registration!$E24=\"S\",COUNTBLANK(G25)=0),RANK(G25,G$3:G$102,0),\"\")","v":""},{"$f":"IF(AND(Registration!$E24=\"s\",COUNTBLANK(H25)=0),placingpoints(H25,COUNTIF(H$3:H$102,\"=\"&H25)),\"\")","v":""},{"$f":"IF(Registration!$E24=\"S\",MTA!G24,\"\")","v":""},{"$f":"IF(AND(Registration!$E24=\"S\",COUNTBLANK(J25)=0),RANK(J25,J$3:J$102,0),\"\")","v":""},{"$f":"IF(AND(Registration!$E24=\"s\",COUNTBLANK(K25)=0),placingpoints(K25,COUNTIF(K$3:K$102,\"=\"&K25)),\"\")","v":""},{"$f":"IF(Registration!$E24=\"S\",'Trick Catch'!X25,\"\")","v":""},{"$f":"IF(AND(Registration!$E24=\"S\",COUNTBLANK(M25)=0),RANK(M25,M$3:M$102,0),\"\")","v":""},{"$f":"IF(AND(Registration!$E24=\"s\",COUNTBLANK(N25)=0),placingpoints(N25,COUNTIF(N$3:N$102,\"=\"&N25)),\"\")","v":""},{"$f":"IF(Registration!$E24=\"S\",'Fast Catch'!F24,\"\")","v":""},{"$f":"IF(AND(Registration!$E24=\"S\",COUNTBLANK(P25)=0),RANK(P25,P$3:P$102,1),\"\")","v":""},{"$f":"IF(AND(Registration!$E24=\"s\",COUNTBLANK(Q25)=0),placingpoints(Q25,COUNTIF(Q$3:Q$102,\"=\"&Q25)),\"\")","v":""},{"$f":"IF(Registration!$E24=\"S\",Endurance!C24,\"\")","v":""},{"$f":"IF(AND(Registration!$E24=\"S\",COUNTBLANK(S25)=0),RANK(S25,S$3:S$102,0),\"\")","v":""},{"$f":"IF(AND(Registration!$E24=\"s\",COUNTBLANK(T25)=0),placingpoints(T25,COUNTIF(T$3:T$102,\"=\"&T25)),\"\")","v":""}]
[{"$f":"IF(Registration!E25=\"S\",RANK(B26,$B$3:$B$102,1),\"\")","v":""},{"$f":"IF(Registration!E25=\"S\",SUM(F26,I26,L26,O26,R26,U26),\"\")","v":""},{"$f":"IF(COUNTBLANK(Registration!B25)=1,\"\",IF(Registration!E25=\"s\",Registration!B25,\"\"))","v":""},{"$f":"IF(Registration!E25=\"S\",'Aussie Round'!V26,\"\")","v":""},{"$f":"IF(AND(Registration!$E25=\"S\",COUNTBLANK(D26)=0),RANK(D26,D$3:D$102,0),\"\")","v":""},{"$f":"IF(AND(Registration!$E25=\"s\",COUNTBLANK(E26)=0),placingpoints(E26,COUNTIF(E$3:E$102,\"=\"&E26)),\"\")","v":""},{"$f":"IF(Registration!$E25=\"S\",Accuracy!L25,\"\")","v":""},{"$f":"IF(AND(Registration!$E25=\"S\",COUNTBLANK(G26)=0),RANK(G26,G$3:G$102,0),\"\")","v":""},{"$f":"IF(AND(Registration!$E25=\"s\",COUNTBLANK(H26)=0),placingpoints(H26,COUNTIF(H$3:H$102,\"=\"&H26)),\"\")","v":""},{"$f":"IF(Registration!$E25=\"S\",MTA!G25,\"\")","v":""},{"$f":"IF(AND(Registration!$E25=\"S\",COUNTBLANK(J26)=0),RANK(J26,J$3:J$102,0),\"\")","v":""},{"$f":"IF(AND(Registration!$E25=\"s\",COUNTBLANK(K26)=0),placingpoints(K26,COUNTIF(K$3:K$102,\"=\"&K26)),\"\")","v":""},{"$f":"IF(Registration!$E25=\"S\",'Trick Catch'!X26,\"\")","v":""},{"$f":"IF(AND(Registration!$E25=\"S\",COUNTBLANK(M26)=0),RANK(M26,M$3:M$102,0),\"\")","v":""},{"$f":"IF(AND(Registration!$E25=\"s\",COUNTBLANK(N26)=0),placingpoints(N26,COUNTIF(N$3:N$102,\"=\"&N26)),\"\")","v":""},{"$f":"IF(Registration!$E25=\"S\",'Fast Catch'!F25,\"\")","v":""},{"$f":"IF(AND(Registration!$E25=\"S\",COUNTBLANK(P26)=0),RANK(P26,P$3:P$102,1),\"\")","v":""},{"$f":"IF(AND(Registration!$E25=\"s\",COUNTBLANK(Q26)=0),placingpoints(Q26,COUNTIF(Q$3:Q$102,\"=\"&Q26)),\"\")","v":""},{"$f":"IF(Registration!$E25=\"S\",Endurance!C25,\"\")","v":""},{"$f":"IF(AND(Registration!$E25=\"S\",COUNTBLANK(S26)=0),RANK(S26,S$3:S$102,0),\"\")","v":""},{"$f":"IF(AND(Registration!$E25=\"s\",COUNTBLANK(T26)=0),placingpoints(T26,COUNTIF(T$3:T$102,\"=\"&T26)),\"\")","v":""}]
[{"$f":"IF(Registration!E26=\"S\",RANK(B27,$B$3:$B$102,1),\"\")","v":""},{"$f":"IF(Registration!E26=\"S\",SUM(F27,I27,L27,O27,R27,U27),\"\")","v":""},{"$f":"IF(COUNTBLANK(Registration!B26)=1,\"\",IF(Registration!E26=\"s\",Registration!B26,\"\"))","v":""},{"$f":"IF(Registration!E26=\"S\",'Aussie Round'!V27,\"\")","v":""},{"$f":"IF(AND(Registration!$E26=\"S\",COUNTBLANK(D27)=0),RANK(D27,D$3:D$102,0),\"\")","v":""},{"$f":"IF(AND(Registration!$E26=\"s\",COUNTBLANK(E27)=0),placingpoints(E27,COUNTIF(E$3:E$102,\"=\"&E27)),\"\")","v":""},{"$f":"IF(Registration!$E26=\"S\",Accuracy!L26,\"\")","v":""},{"$f":"IF(AND(Registration!$E26=\"S\",COUNTBLANK(G27)=0),RANK(G27,G$3:G$102,0),\"\")","v":""},{"$f":"IF(AND(Registration!$E26=\"s\",COUNTBLANK(H27)=0),placingpoints(H27,COUNTIF(H$3:H$102,\"=\"&H27)),\"\")","v":""},{"$f":"IF(Registration!$E26=\"S\",MTA!G26,\"\")","v":""},{"$f":"IF(AND(Registration!$E26=\"S\",COUNTBLANK(J27)=0),RANK(J27,J$3:J$102,0),\"\")","v":""},{"$f":"IF(AND(Registration!$E26=\"s\",COUNTBLANK(K27)=0),placingpoints(K27,COUNTIF(K$3:K$102,\"=\"&K27)),\"\")","v":""},{"$f":"IF(Registration!$E26=\"S\",'Trick Catch'!X27,\"\")","v":""},{"$f":"IF(AND(Registration!$E26=\"S\",COUNTBLANK(M27)=0),RANK(M27,M$3:M$102,0),\"\")","v":""},{"$f":"IF(AND(Registration!$E26=\"s\",COUNTBLANK(N27)=0),placingpoints(N27,COUNTIF(N$3:N$102,\"=\"&N27)),\"\")","v":""},{"$f":"IF(Registration!$E26=\"S\",'Fast Catch'!F26,\"\")","v":""},{"$f":"IF(AND(Registration!$E26=\"S\",COUNTBLANK(P27)=0),RANK(P27,P$3:P$102,1),\"\")","v":""},{"$f":"IF(AND(Registration!$E26=\"s\",COUNTBLANK(Q27)=0),placingpoints(Q27,COUNTIF(Q$3:Q$102,\"=\"&Q27)),\"\")","v":""},{"$f":"IF(Registration!$E26=\"S\",Endurance!C26,\"\")","v":""},{"$f":"IF(AND(Registration!$E26=\"S\",COUNTBLANK(S27)=0),RANK(S27,S$3:S$102,0),\"\")","v":""},{"$f":"IF(AND(Registration!$E26=\"s\",COUNTBLANK(T27)=0),placingpoints(T27,COUNTIF(T$3:T$102,\"=\"&T27)),\"\")","v":""}]
[{"$f":"IF(Registration!E27=\"S\",RANK(B28,$B$3:$B$102,1),\"\")","v":""},{"$f":"IF(Registration!E27=\"S\",SUM(F28,I28,L28,O28,R28,U28),\"\")","v":""},{"$f":"IF(COUNTBLANK(Registration!B27)=1,\"\",IF(Registration!E27=\"s\",Registration!B27,\"\"))","v":""},{"$f":"IF(Registration!E27=\"S\",'Aussie Round'!V28,\"\")","v":""},{"$f":"IF(AND(Registration!$E27=\"S\",COUNTBLANK(D28)=0),RANK(D28,D$3:D$102,0),\"\")","v":""},{"$f":"IF(AND(Registration!$E27=\"s\",COUNTBLANK(E28)=0),placingpoints(E28,COUNTIF(E$3:E$102,\"=\"&E28)),\"\")","v":""},{"$f":"IF(Registration!$E27=\"S\",Accuracy!L27,\"\")","v":""},{"$f":"IF(AND(Registration!$E27=\"S\",COUNTBLANK(G28)=0),RANK(G28,G$3:G$102,0),\"\")","v":""},{"$f":"IF(AND(Registration!$E27=\"s\",COUNTBLANK(H28)=0),placingpoints(H28,COUNTIF(H$3:H$102,\"=\"&H28)),\"\")","v":""},{"$f":"IF(Registration!$E27=\"S\",MTA!G27,\"\")","v":""},{"$f":"IF(AND(Registration!$E27=\"S\",COUNTBLANK(J28)=0),RANK(J28,J$3:J$102,0),\"\")","v":""},{"$f":"IF(AND(Registration!$E27=\"s\",COUNTBLANK(K28)=0),placingpoints(K28,COUNTIF(K$3:K$102,\"=\"&K28)),\"\")","v":""},{"$f":"IF(Registration!$E27=\"S\",'Trick Catch'!X28,\"\")","v":""},{"$f":"IF(AND(Registration!$E27=\"S\",COUNTBLANK(M28)=0),RANK(M28,M$3:M$102,0),\"\")","v":""},{"$f":"IF(AND(Registration!$E27=\"s\",COUNTBLANK(N28)=0),placingpoints(N28,COUNTIF(N$3:N$102,\"=\"&N28)),\"\")","v":""},{"$f":"IF(Registration!$E27=\"S\",'Fast Catch'!F27,\"\")","v":""},{"$f":"IF(AND(Registration!$E27=\"S\",COUNTBLANK(P28)=0),RANK(P28,P$3:P$102,1),\"\")","v":""},{"$f":"IF(AND(Registration!$E27=\"s\",COUNTBLANK(Q28)=0),placingpoints(Q28,COUNTIF(Q$3:Q$102,\"=\"&Q28)),\"\")","v":""},{"$f":"IF(Registration!$E27=\"S\",Endurance!C27,\"\")","v":""},{"$f":"IF(AND(Registration!$E27=\"S\",COUNTBLANK(S28)=0),RANK(S28,S$3:S$102,0),\"\")","v":""},{"$f":"IF(AND(Registration!$E27=\"s\",COUNTBLANK(T28)=0),placingpoints(T28,COUNTIF(T$3:T$102,\"=\"&T28)),\"\")","v":""}]
[{"$f":"IF(Registration!E28=\"S\",RANK(B29,$B$3:$B$102,1),\"\")","v":""},{"$f":"IF(Registration!E28=\"S\",SUM(F29,I29,L29,O29,R29,U29),\"\")","v":""},{"$f":"IF(COUNTBLANK(Registration!B28)=1,\"\",IF(Registration!E28=\"s\",Registration!B28,\"\"))","v":""},{"$f":"IF(Registration!E28=\"S\",'Aussie Round'!V29,\"\")","v":""},{"$f":"IF(AND(Registration!$E28=\"S\",COUNTBLANK(D29)=0),RANK(D29,D$3:D$102,0),\"\")","v":""},{"$f":"IF(AND(Registration!$E28=\"s\",COUNTBLANK(E29)=0),placingpoints(E29,COUNTIF(E$3:E$102,\"=\"&E29)),\"\")","v":""},{"$f":"IF(Registration!$E28=\"S\",Accuracy!L28,\"\")","v":""},{"$f":"IF(AND(Registration!$E28=\"S\",COUNTBLANK(G29)=0),RANK(G29,G$3:G$102,0),\"\")","v":""},{"$f":"IF(AND(Registration!$E28=\"s\",COUNTBLANK(H29)=0),placingpoints(H29,COUNTIF(H$3:H$102,\"=\"&H29)),\"\")","v":""},{"$f":"IF(Registration!$E28=\"S\",MTA!G28,\"\")","v":""},{"$f":"IF(AND(Registration!$E28=\"S\",COUNTBLANK(J29)=0),RANK(J29,J$3:J$102,0),\"\")","v":""},{"$f":"IF(AND(Registration!$E28=\"s\",COUNTBLANK(K29)=0),placingpoints(K29,COUNTIF(K$3:K$102,\"=\"&K29)),\"\")","v":""},{"$f":"IF(Registration!$E28=\"S\",'Trick Catch'!X29,\"\")","v":""},{"$f":"IF(AND(Registration!$E28=\"S\",COUNTBLANK(M29)=0),RANK(M29,M$3:M$102,0),\"\")","v":""},{"$f":"IF(AND(Registration!$E28=\"s\",COUNTBLANK(N29)=0),placingpoints(N29,COUNTIF(N$3:N$102,\"=\"&N29)),\"\")","v":""},{"$f":"IF(Registration!$E28=\"S\",'Fast Catch'!F28,\"\")","v":""},{"$f":"IF(AND(Registration!$E28=\"S\",COUNTBLANK(P29)=0),RANK(P29,P$3:P$102,1),\"\")","v":""},{"$f":"IF(AND(Registration!$E28=\"s\",COUNTBLANK(Q29)=0),placingpoints(Q29,COUNTIF(Q$3:Q$102,\"=\"&Q29)),\"\")","v":""},{"$f":"IF(Registration!$E28=\"S\",Endurance!C28,\"\")","v":""},{"$f":"IF(AND(Registration!$E28=\"S\",COUNTBLANK(S29)=0),RANK(S29,S$3:S$102,0),\"\")","v":""},{"$f":"IF(AND(Registration!$E28=\"s\",COUNTBLANK(T29)=0),placingpoints(T29,COUNTIF(T$3:T$102,\"=\"&T29)),\"\")","v":""}]
[{"$f":"IF(Registration!E29=\"S\",RANK(B30,$B$3:$B$102,1),\"\")","v":""},{"$f":"IF(Registration!E29=\"S\",SUM(F30,I30,L30,O30,R30,U30),\"\")","v":""},{"$f":"IF(COUNTBLANK(Registration!B29)=1,\"\",IF(Registration!E29=\"s\",Registration!B29,\"\"))","v":""},{"$f":"IF(Registration!E29=\"S\",'Aussie Round'!V30,\"\")","v":""},{"$f":"IF(AND(Registration!$E29=\"S\",COUNTBLANK(D30)=0),RANK(D30,D$3:D$102,0),\"\")","v":""},{"$f":"IF(AND(Registration!$E29=\"s\",COUNTBLANK(E30)=0),placingpoints(E30,COUNTIF(E$3:E$102,\"=\"&E30)),\"\")","v":""},{"$f":"IF(Registration!$E29=\"S\",Accuracy!L29,\"\")","v":""},{"$f":"IF(AND(Registration!$E29=\"S\",COUNTBLANK(G30)=0),RANK(G30,G$3:G$102,0),\"\")","v":""},{"$f":"IF(AND(Registration!$E29=\"s\",COUNTBLANK(H30)=0),placingpoints(H30,COUNTIF(H$3:H$102,\"=\"&H30)),\"\")","v":""},{"$f":"IF(Registration!$E29=\"S\",MTA!G29,\"\")","v":""},{"$f":"IF(AND(Registration!$E29=\"S\",COUNTBLANK(J30)=0),RANK(J30,J$3:J$102,0),\"\")","v":""},{"$f":"IF(AND(Registration!$E29=\"s\",COUNTBLANK(K30)=0),placingpoints(K30,COUNTIF(K$3:K$102,\"=\"&K30)),\"\")","v":""},{"$f":"IF(Registration!$E29=\"S\",'Trick Catch'!X30,\"\")","v":""},{"$f":"IF(AND(Registration!$E29=\"S\",COUNTBLANK(M30)=0),RANK(M30,M$3:M$102,0),\"\")","v":""},{"$f":"IF(AND(Registration!$E29=\"s\",COUNTBLANK(N30)=0),placingpoints(N30,COUNTIF(N$3:N$102,\"=\"&N30)),\"\")","v":""},{"$f":"IF(Registration!$E29=\"S\",'Fast Catch'!F29,\"\")","v":""},{"$f":"IF(AND(Registration!$E29=\"S\",COUNTBLANK(P30)=0),RANK(P30,P$3:P$102,1),\"\")","v":""},{"$f":"IF(AND(Registration!$E29=\"s\",COUNTBLANK(Q30)=0),placingpoints(Q30,COUNTIF(Q$3:Q$102,\"=\"&Q30)),\"\")","v":""},{"$f":"IF(Registration!$E29=\"S\",Endurance!C29,\"\")","v":""},{"$f":"IF(AND(Registration!$E29=\"S\",COUNTBLANK(S30)=0),RANK(S30,S$3:S$102,0),\"\")","v":""},{"$f":"IF(AND(Registration!$E29=\"s\",COUNTBLANK(T30)=0),placingpoints(T30,COUNTIF(T$3:T$102,\"=\"&T30)),\"\")","v":""}]
[{"$f":"IF(Registration!E30=\"S\",RANK(B31,$B$3:$B$102,1),\"\")","v":""},{"$f":"IF(Registration!E30=\"S\",SUM(F31,I31,L31,O31,R31,U31),\"\")","v":""},{"$f":"IF(COUNTBLANK(Registration!B30)=1,\"\",IF(Registration!E30=\"s\",Registration!B30,\"\"))","v":""},{"$f":"IF(Registration!E30=\"S\",'Aussie Round'!V31,\"\")","v":""},{"$f":"IF(AND(Registration!$E30=\"S\",COUNTBLANK(D31)=0),RANK(D31,D$3:D$102,0),\"\")","v":""},{"$f":"IF(AND(Registration!$E30=\"s\",COUNTBLANK(E31)=0),placingpoints(E31,COUNTIF(E$3:E$102,\"=\"&E31)),\"\")","v":""},{"$f":"IF(Registration!$E30=\"S\",Accuracy!L30,\"\")","v":""},{"$f":"IF(AND(Registration!$E30=\"S\",COUNTBLANK(G31)=0),RANK(G31,G$3:G$102,0),\"\")","v":""},{"$f":"IF(AND(Registration!$E30=\"s\",COUNTBLANK(H31)=0),placingpoints(H31,COUNTIF(H$3:H$102,\"=\"&H31)),\"\")","v":""},{"$f":"IF(Registration!$E30=\"S\",MTA!G30,\"\")","v":""},{"$f":"IF(AND(Registration!$E30=\"S\",COUNTBLANK(J31)=0),RANK(J31,J$3:J$102,0),\"\")","v":""},{"$f":"IF(AND(Registration!$E30=\"s\",COUNTBLANK(K31)=0),placingpoints(K31,COUNTIF(K$3:K$102,\"=\"&K31)),\"\")","v":""},{"$f":"IF(Registration!$E30=\"S\",'Trick Catch'!X31,\"\")","v":""},{"$f":"IF(AND(Registration!$E30=\"S\",COUNTBLANK(M31)=0),RANK(M31,M$3:M$102,0),\"\")","v":""},{"$f":"IF(AND(Registration!$E30=\"s\",COUNTBLANK(N31)=0),placingpoints(N31,COUNTIF(N$3:N$102,\"=\"&N31)),\"\")","v":""},{"$f":"IF(Registration!$E30=\"S\",'Fast Catch'!F30,\"\")","v":""},{"$f":"IF(AND(Registration!$E30=\"S\",COUNTBLANK(P31)=0),RANK(P31,P$3:P$102,1),\"\")","v":""},{"$f":"IF(AND(Registration!$E30=\"s\",COUNTBLANK(Q31)=0),placingpoints(Q31,COUNTIF(Q$3:Q$102,\"=\"&Q31)),\"\")","v":""},{"$f":"IF(Registration!$E30=\"S\",Endurance!C30,\"\")","v":""},{"$f":"IF(AND(Registration!$E30=\"S\",COUNTBLANK(S31)=0),RANK(S31,S$3:S$102,0),\"\")","v":""},{"$f":"IF(AND(Registration!$E30=\"s\",COUNTBLANK(T31)=0),placingpoints(T31,COUNTIF(T$3:T$102,\"=\"&T31)),\"\")","v":""}]
[{"$f":"IF(Registration!E31=\"S\",RANK(B32,$B$3:$B$102,1),\"\")","v":""},{"$f":"IF(Registration!E31=\"S\",SUM(F32,I32,L32,O32,R32,U32),\"\")","v":""},{"$f":"IF(COUNTBLANK(Registration!B31)=1,\"\",IF(Registration!E31=\"s\",Registration!B31,\"\"))","v":""},{"$f":"IF(Registration!E31=\"S\",'Aussie Round'!V32,\"\")","v":""},{"$f":"IF(AND(Registration!$E31=\"S\",COUNTBLANK(D32)=0),RANK(D32,D$3:D$102,0),\"\")","v":""},{"$f":"IF(AND(Registration!$E31=\"s\",COUNTBLANK(E32)=0),placingpoints(E32,COUNTIF(E$3:E$102,\"=\"&E32)),\"\")","v":""},{"$f":"IF(Registration!$E31=\"S\",Accuracy!L31,\"\")","v":""},{"$f":"IF(AND(Registration!$E31=\"S\",COUNTBLANK(G32)=0),RANK(G32,G$3:G$102,0),\"\")","v":""},{"$f":"IF(AND(Registration!$E31=\"s\",COUNTBLANK(H32)=0),placingpoints(H32,COUNTIF(H$3:H$102,\"=\"&H32)),\"\")","v":""},{"$f":"IF(Registration!$E31=\"S\",MTA!G31,\"\")","v":""},{"$f":"IF(AND(Registration!$E31=\"S\",COUNTBLANK(J32)=0),RANK(J32,J$3:J$102,0),\"\")","v":""},{"$f":"IF(AND(Registration!$E31=\"s\",COUNTBLANK(K32)=0),placingpoints(K32,COUNTIF(K$3:K$102,\"=\"&K32)),\"\")","v":""},{"$f":"IF(Registration!$E31=\"S\",'Trick Catch'!X32,\"\")","v":""},{"$f":"IF(AND(Registration!$E31=\"S\",COUNTBLANK(M32)=0),RANK(M32,M$3:M$102,0),\"\")","v":""},{"$f":"IF(AND(Registration!$E31=\"s\",COUNTBLANK(N32)=0),placingpoints(N32,COUNTIF(N$3:N$102,\"=\"&N32)),\"\")","v":""},{"$f":"IF(Registration!$E31=\"S\",'Fast Catch'!F31,\"\")","v":""},{"$f":"IF(AND(Registration!$E31=\"S\",COUNTBLANK(P32)=0),RANK(P32,P$3:P$102,1),\"\")","v":""},{"$f":"IF(AND(Registration!$E31=\"s\",COUNTBLANK(Q32)=0),placingpoints(Q32,COUNTIF(Q$3:Q$102,\"=\"&Q32)),\"\")","v":""},{"$f":"IF(Registration!$E31=\"S\",Endurance!C31,\"\")","v":""},{"$f":"IF(AND(Registration!$E31=\"S\",COUNTBLANK(S32)=0),RANK(S32,S$3:S$102,0),\"\")","v":""},{"$f":"IF(AND(Registration!$E31=\"s\",COUNTBLANK(T32)=0),placingpoints(T32,COUNTIF(T$3:T$102,\"=\"&T32)),\"\")","v":""}]
[{"$f":"IF(Registration!E32=\"S\",RANK(B33,$B$3:$B$102,1),\"\")","v":""},{"$f":"IF(Registration!E32=\"S\",SUM(F33,I33,L33,O33,R33,U33),\"\")","v":""},{"$f":"IF(COUNTBLANK(Registration!B32)=1,\"\",IF(Registration!E32=\"s\",Registration!B32,\"\"))","v":""},{"$f":"IF(Registration!E32=\"S\",'Aussie Round'!V33,\"\")","v":""},{"$f":"IF(AND(Registration!$E32=\"S\",COUNTBLANK(D33)=0),RANK(D33,D$3:D$102,0),\"\")","v":""},{"$f":"IF(AND(Registration!$E32=\"s\",COUNTBLANK(E33)=0),placingpoints(E33,COUNTIF(E$3:E$102,\"=\"&E33)),\"\")","v":""},{"$f":"IF(Registration!$E32=\"S\",Accuracy!L32,\"\")","v":""},{"$f":"IF(AND(Registration!$E32=\"S\",COUNTBLANK(G33)=0),RANK(G33,G$3:G$102,0),\"\")","v":""},{"$f":"IF(AND(Registration!$E32=\"s\",COUNTBLANK(H33)=0),placingpoints(H33,COUNTIF(H$3:H$102,\"=\"&H33)),\"\")","v":""},{"$f":"IF(Registration!$E32=\"S\",MTA!G32,\"\")","v":""},{"$f":"IF(AND(Registration!$E32=\"S\",COUNTBLANK(J33)=0),RANK(J33,J$3:J$102,0),\"\")","v":""},{"$f":"IF(AND(Registration!$E32=\"s\",COUNTBLANK(K33)=0),placingpoints(K33,COUNTIF(K$3:K$102,\"=\"&K33)),\"\")","v":""},{"$f":"IF(Registration!$E32=\"S\",'Trick Catch'!X33,\"\")","v":""},{"$f":"IF(AND(Registration!$E32=\"S\",COUNTBLANK(M33)=0),RANK(M33,M$3:M$102,0),\"\")","v":""},{"$f":"IF(AND(Registration!$E32=\"s\",COUNTBLANK(N33)=0),placingpoints(N33,COUNTIF(N$3:N$102,\"=\"&N33)),\"\")","v":""},{"$f":"IF(Registration!$E32=\"S\",'Fast Catch'!F32,\"\")","v":""},{"$f":"IF(AND(Registration!$E32=\"S\",COUNTBLANK(P33)=0),RANK(P33,P$3:P$102,1),\"\")","v":""},{"$f":"IF(AND(Registration!$E32=\"s\",COUNTBLANK(Q33)=0),placingpoints(Q33,COUNTIF(Q$3:Q$102,\"=\"&Q33)),\"\")","v":""},{"$f":"IF(Registration!$E32=\"S\",Endurance!C32,\"\")","v":""},{"$f":"IF(AND(Registration!$E32=\"S\",COUNTBLANK(S33)=0),RANK(S33,S$3:S$102,0),\"\")","v":""},{"$f":"IF(AND(Registration!$E32=\"s\",COUNTBLANK(T33)=0),placingpoints(T33,COUNTIF(T$3:T$102,\"=\"&T33)),\"\")","v":""}]
[{"$f":"IF(Registration!E33=\"S\",RANK(B34,$B$3:$B$102,1),\"\")","v":""},{"$f":"IF(Registration!E33=\"S\",SUM(F34,I34,L34,O34,R34,U34),\"\")","v":""},{"$f":"IF(COUNTBLANK(Registration!B33)=1,\"\",IF(Registration!E33=\"s\",Registration!B33,\"\"))","v":""},{"$f":"IF(Registration!E33=\"S\",'Aussie Round'!V34,\"\")","v":""},{"$f":"IF(AND(Registration!$E33=\"S\",COUNTBLANK(D34)=0),RANK(D34,D$3:D$102,0),\"\")","v":""},{"$f":"IF(AND(Registration!$E33=\"s\",COUNTBLANK(E34)=0),placingpoints(E34,COUNTIF(E$3:E$102,\"=\"&E34)),\"\")","v":""},{"$f":"IF(Registration!$E33=\"S\",Accuracy!L33,\"\")","v":""},{"$f":"IF(AND(Registration!$E33=\"S\",COUNTBLANK(G34)=0),RANK(G34,G$3:G$102,0),\"\")","v":""},{"$f":"IF(AND(Registration!$E33=\"s\",COUNTBLANK(H34)=0),placingpoints(H34,COUNTIF(H$3:H$102,\"=\"&H34)),\"\")","v":""},{"$f":"IF(Registration!$E33=\"S\",MTA!G33,\"\")","v":""},{"$f":"IF(AND(Registration!$E33=\"S\",COUNTBLANK(J34)=0),RANK(J34,J$3:J$102,0),\"\")","v":""},{"$f":"IF(AND(Registration!$E33=\"s\",COUNTBLANK(K34)=0),placingpoints(K34,COUNTIF(K$3:K$102,\"=\"&K34)),\"\")","v":""},{"$f":"IF(Registration!$E33=\"S\",'Trick Catch'!X34,\"\")","v":""},{"$f":"IF(AND(Registration!$E33=\"S\",COUNTBLANK(M34)=0),RANK(M34,M$3:M$102,0),\"\")","v":""},{"$f":"IF(AND(Registration!$E33=\"s\",COUNTBLANK(N34)=0),placingpoints(N34,COUNTIF(N$3:N$102,\"=\"&N34)),\"\")","v":""},{"$f":"IF(Registration!$E33=\"S\",'Fast Catch'!F33,\"\")","v":""},{"$f":"IF(AND(Registration!$E33=\"S\",COUNTBLANK(P34)=0),RANK(P34,P$3:P$102,1),\"\")","v":""},{"$f":"IF(AND(Registration!$E33=\"s\",COUNTBLANK(Q34)=0),placingpoints(Q34,COUNTIF(Q$3:Q$102,\"=\"&Q34)),\"\")","v":""},{"$f":"IF(Registration!$E33=\"S\",Endurance!C33,\"\")","v":""},{"$f":"IF(AND(Registration!$E33=\"S\",COUNTBLANK(S34)=0),RANK(S34,S$3:S$102,0),\"\")","v":""},{"$f":"IF(AND(Registration!$E33=\"s\",COUNTBLANK(T34)=0),placingpoints(T34,COUNTIF(T$3:T$102,\"=\"&T34)),\"\")","v":""}]
[{"$f":"IF(Registration!E34=\"S\",RANK(B35,$B$3:$B$102,1),\"\")","v":""},{"$f":"IF(Registration!E34=\"S\",SUM(F35,I35,L35,O35,R35,U35),\"\")","v":""},{"$f":"IF(COUNTBLANK(Registration!B34)=1,\"\",IF(Registration!E34=\"s\",Registration!B34,\"\"))","v":""},{"$f":"IF(Registration!E34=\"S\",'Aussie Round'!V35,\"\")","v":""},{"$f":"IF(AND(Registration!$E34=\"S\",COUNTBLANK(D35)=0),RANK(D35,D$3:D$102,0),\"\")","v":""},{"$f":"IF(AND(Registration!$E34=\"s\",COUNTBLANK(E35)=0),placingpoints(E35,COUNTIF(E$3:E$102,\"=\"&E35)),\"\")","v":""},{"$f":"IF(Registration!$E34=\"S\",Accuracy!L34,\"\")","v":""},{"$f":"IF(AND(Registration!$E34=\"S\",COUNTBLANK(G35)=0),RANK(G35,G$3:G$102,0),\"\")","v":""},{"$f":"IF(AND(Registration!$E34=\"s\",COUNTBLANK(H35)=0),placingpoints(H35,COUNTIF(H$3:H$102,\"=\"&H35)),\"\")","v":""},{"$f":"IF(Registration!$E34=\"S\",MTA!G34,\"\")","v":""},{"$f":"IF(AND(Registration!$E34=\"S\",COUNTBLANK(J35)=0),RANK(J35,J$3:J$102,0),\"\")","v":""},{"$f":"IF(AND(Registration!$E34=\"s\",COUNTBLANK(K35)=0),placingpoints(K35,COUNTIF(K$3:K$102,\"=\"&K35)),\"\")","v":""},{"$f":"IF(Registration!$E34=\"S\",'Trick Catch'!X35,\"\")","v":""},{"$f":"IF(AND(Registration!$E34=\"S\",COUNTBLANK(M35)=0),RANK(M35,M$3:M$102,0),\"\")","v":""},{"$f":"IF(AND(Registration!$E34=\"s\",COUNTBLANK(N35)=0),placingpoints(N35,COUNTIF(N$3:N$102,\"=\"&N35)),\"\")","v":""},{"$f":"IF(Registration!$E34=\"S\",'Fast Catch'!F34,\"\")","v":""},{"$f":"IF(AND(Registration!$E34=\"S\",COUNTBLANK(P35)=0),RANK(P35,P$3:P$102,1),\"\")","v":""},{"$f":"IF(AND(Registration!$E34=\"s\",COUNTBLANK(Q35)=0),placingpoints(Q35,COUNTIF(Q$3:Q$102,\"=\"&Q35)),\"\")","v":""},{"$f":"IF(Registration!$E34=\"S\",Endurance!C34,\"\")","v":""},{"$f":"IF(AND(Registration!$E34=\"S\",COUNTBLANK(S35)=0),RANK(S35,S$3:S$102,0),\"\")","v":""},{"$f":"IF(AND(Registration!$E34=\"s\",COUNTBLANK(T35)=0),placingpoints(T35,COUNTIF(T$3:T$102,\"=\"&T35)),\"\")","v":""}]
[{"$f":"IF(Registration!E35=\"S\",RANK(B36,$B$3:$B$102,1),\"\")","v":""},{"$f":"IF(Registration!E35=\"S\",SUM(F36,I36,L36,O36,R36,U36),\"\")","v":""},{"$f":"IF(COUNTBLANK(Registration!B35)=1,\"\",IF(Registration!E35=\"s\",Registration!B35,\"\"))","v":""},{"$f":"IF(Registration!E35=\"S\",'Aussie Round'!V36,\"\")","v":""},{"$f":"IF(AND(Registration!$E35=\"S\",COUNTBLANK(D36)=0),RANK(D36,D$3:D$102,0),\"\")","v":""},{"$f":"IF(AND(Registration!$E35=\"s\",COUNTBLANK(E36)=0),placingpoints(E36,COUNTIF(E$3:E$102,\"=\"&E36)),\"\")","v":""},{"$f":"IF(Registration!$E35=\"S\",Accuracy!L35,\"\")","v":""},{"$f":"IF(AND(Registration!$E35=\"S\",COUNTBLANK(G36)=0),RANK(G36,G$3:G$102,0),\"\")","v":""},{"$f":"IF(AND(Registration!$E35=\"s\",COUNTBLANK(H36)=0),placingpoints(H36,COUNTIF(H$3:H$102,\"=\"&H36)),\"\")","v":""},{"$f":"IF(Registration!$E35=\"S\",MTA!G35,\"\")","v":""},{"$f":"IF(AND(Registration!$E35=\"S\",COUNTBLANK(J36)=0),RANK(J36,J$3:J$102,0),\"\")","v":""},{"$f":"IF(AND(Registration!$E35=\"s\",COUNTBLANK(K36)=0),placingpoints(K36,COUNTIF(K$3:K$102,\"=\"&K36)),\"\")","v":""},{"$f":"IF(Registration!$E35=\"S\",'Trick Catch'!X36,\"\")","v":""},{"$f":"IF(AND(Registration!$E35=\"S\",COUNTBLANK(M36)=0),RANK(M36,M$3:M$102,0),\"\")","v":""},{"$f":"IF(AND(Registration!$E35=\"s\",COUNTBLANK(N36)=0),placingpoints(N36,COUNTIF(N$3:N$102,\"=\"&N36)),\"\")","v":""},{"$f":"IF(Registration!$E35=\"S\",'Fast Catch'!F35,\"\")","v":""},{"$f":"IF(AND(Registration!$E35=\"S\",COUNTBLANK(P36)=0),RANK(P36,P$3:P$102,1),\"\")","v":""},{"$f":"IF(AND(Registration!$E35=\"s\",COUNTBLANK(Q36)=0),placingpoints(Q36,COUNTIF(Q$3:Q$102,\"=\"&Q36)),\"\")","v":""},{"$f":"IF(Registration!$E35=\"S\",Endurance!C35,\"\")","v":""},{"$f":"IF(AND(Registration!$E35=\"S\",COUNTBLANK(S36)=0),RANK(S36,S$3:S$102,0),\"\")","v":""},{"$f":"IF(AND(Registration!$E35=\"s\",COUNTBLANK(T36)=0),placingpoints(T36,COUNTIF(T$3:T$102,\"=\"&T36)),\"\")","v":""}]
[{"$f":"IF(Registration!E36=\"S\",RANK(B37,$B$3:$B$102,1),\"\")","v":""},{"$f":"IF(Registration!E36=\"S\",SUM(F37,I37,L37,O37,R37,U37),\"\")","v":""},{"$f":"IF(COUNTBLANK(Registration!B36)=1,\"\",IF(Registration!E36=\"s\",Registration!B36,\"\"))","v":""},{"$f":"IF(Registration!E36=\"S\",'Aussie Round'!V37,\"\")","v":""},{"$f":"IF(AND(Registration!$E36=\"S\",COUNTBLANK(D37)=0),RANK(D37,D$3:D$102,0),\"\")","v":""},{"$f":"IF(AND(Registration!$E36=\"s\",COUNTBLANK(E37)=0),placingpoints(E37,COUNTIF(E$3:E$102,\"=\"&E37)),\"\")","v":""},{"$f":"IF(Registration!$E36=\"S\",Accuracy!L36,\"\")","v":""},{"$f":"IF(AND(Registration!$E36=\"S\",COUNTBLANK(G37)=0),RANK(G37,G$3:G$102,0),\"\")","v":""},{"$f":"IF(AND(Registration!$E36=\"s\",COUNTBLANK(H37)=0),placingpoints(H37,COUNTIF(H$3:H$102,\"=\"&H37)),\"\")","v":""},{"$f":"IF(Registration!$E36=\"S\",MTA!G36,\"\")","v":""},{"$f":"IF(AND(Registration!$E36=\"S\",COUNTBLANK(J37)=0),RANK(J37,J$3:J$102,0),\"\")","v":""},{"$f":"IF(AND(Registration!$E36=\"s\",COUNTBLANK(K37)=0),placingpoints(K37,COUNTIF(K$3:K$102,\"=\"&K37)),\"\")","v":""},{"$f":"IF(Registration!$E36=\"S\",'Trick Catch'!X37,\"\")","v":""},{"$f":"IF(AND(Registration!$E36=\"S\",COUNTBLANK(M37)=0),RANK(M37,M$3:M$102,0),\"\")","v":""},{"$f":"IF(AND(Registration!$E36=\"s\",COUNTBLANK(N37)=0),placingpoints(N37,COUNTIF(N$3:N$102,\"=\"&N37)),\"\")","v":""},{"$f":"IF(Registration!$E36=\"S\",'Fast Catch'!F36,\"\")","v":""},{"$f":"IF(AND(Registration!$E36=\"S\",COUNTBLANK(P37)=0),RANK(P37,P$3:P$102,1),\"\")","v":""},{"$f":"IF(AND(Registration!$E36=\"s\",COUNTBLANK(Q37)=0),placingpoints(Q37,COUNTIF(Q$3:Q$102,\"=\"&Q37)),\"\")","v":""},{"$f":"IF(Registration!$E36=\"S\",Endurance!C36,\"\")","v":""},{"$f":"IF(AND(Registration!$E36=\"S\",COUNTBLANK(S37)=0),RANK(S37,S$3:S$102,0),\"\")","v":""},{"$f":"IF(AND(Registration!$E36=\"s\",COUNTBLANK(T37)=0),placingpoints(T37,COUNTIF(T$3:T$102,\"=\"&T37)),\"\")","v":""}]
[{"$f":"IF(Registration!E37=\"S\",RANK(B38,$B$3:$B$102,1),\"\")","v":""},{"$f":"IF(Registration!E37=\"S\",SUM(F38,I38,L38,O38,R38,U38),\"\")","v":""},{"$f":"IF(COUNTBLANK(Registration!B37)=1,\"\",IF(Registration!E37=\"s\",Registration!B37,\"\"))","v":""},{"$f":"IF(Registration!E37=\"S\",'Aussie Round'!V38,\"\")","v":""},{"$f":"IF(AND(Registration!$E37=\"S\",COUNTBLANK(D38)=0),RANK(D38,D$3:D$102,0),\"\")","v":""},{"$f":"IF(AND(Registration!$E37=\"s\",COUNTBLANK(E38)=0),placingpoints(E38,COUNTIF(E$3:E$102,\"=\"&E38)),\"\")","v":""},{"$f":"IF(Registration!$E37=\"S\",Accuracy!L37,\"\")","v":""},{"$f":"IF(AND(Registration!$E37=\"S\",COUNTBLANK(G38)=0),RANK(G38,G$3:G$102,0),\"\")","v":""},{"$f":"IF(AND(Registration!$E37=\"s\",COUNTBLANK(H38)=0),placingpoints(H38,COUNTIF(H$3:H$102,\"=\"&H38)),\"\")","v":""},{"$f":"IF(Registration!$E37=\"S\",MTA!G37,\"\")","v":""},{"$f":"IF(AND(Registration!$E37=\"S\",COUNTBLANK(J38)=0),RANK(J38,J$3:J$102,0),\"\")","v":""},{"$f":"IF(AND(Registration!$E37=\"s\",COUNTBLANK(K38)=0),placingpoints(K38,COUNTIF(K$3:K$102,\"=\"&K38)),\"\")","v":""},{"$f":"IF(Registration!$E37=\"S\",'Trick Catch'!X38,\"\")","v":""},{"$f":"IF(AND(Registration!$E37=\"S\",COUNTBLANK(M38)=0),RANK(M38,M$3:M$102,0),\"\")","v":""},{"$f":"IF(AND(Registration!$E37=\"s\",COUNTBLANK(N38)=0),placingpoints(N38,COUNTIF(N$3:N$102,\"=\"&N38)),\"\")","v":""},{"$f":"IF(Registration!$E37=\"S\",'Fast Catch'!F37,\"\")","v":""},{"$f":"IF(AND(Registration!$E37=\"S\",COUNTBLANK(P38)=0),RANK(P38,P$3:P$102,1),\"\")","v":""},{"$f":"IF(AND(Registration!$E37=\"s\",COUNTBLANK(Q38)=0),placingpoints(Q38,COUNTIF(Q$3:Q$102,\"=\"&Q38)),\"\")","v":""},{"$f":"IF(Registration!$E37=\"S\",Endurance!C37,\"\")","v":""},{"$f":"IF(AND(Registration!$E37=\"S\",COUNTBLANK(S38)=0),RANK(S38,S$3:S$102,0),\"\")","v":""},{"$f":"IF(AND(Registration!$E37=\"s\",COUNTBLANK(T38)=0),placingpoints(T38,COUNTIF(T$3:T$102,\"=\"&T38)),\"\")","v":""}]
[{"$f":"IF(Registration!E38=\"S\",RANK(B39,$B$3:$B$102,1),\"\")","v":""},{"$f":"IF(Registration!E38=\"S\",SUM(F39,I39,L39,O39,R39,U39),\"\")","v":""},{"$f":"IF(COUNTBLANK(Registration!B38)=1,\"\",IF(Registration!E38=\"s\",Registration!B38,\"\"))","v":""},{"$f":"IF(Registration!E38=\"S\",'Aussie Round'!V39,\"\")","v":""},{"$f":"IF(AND(Registration!$E38=\"S\",COUNTBLANK(D39)=0),RANK(D39,D$3:D$102,0),\"\")","v":""},{"$f":"IF(AND(Registration!$E38=\"s\",COUNTBLANK(E39)=0),placingpoints(E39,COUNTIF(E$3:E$102,\"=\"&E39)),\"\")","v":""},{"$f":"IF(Registration!$E38=\"S\",Accuracy!L38,\"\")","v":""},{"$f":"IF(AND(Registration!$E38=\"S\",COUNTBLANK(G39)=0),RANK(G39,G$3:G$102,0),\"\")","v":""},{"$f":"IF(AND(Registration!$E38=\"s\",COUNTBLANK(H39)=0),placingpoints(H39,COUNTIF(H$3:H$102,\"=\"&H39)),\"\")","v":""},{"$f":"IF(Registration!$E38=\"S\",MTA!G38,\"\")","v":""},{"$f":"IF(AND(Registration!$E38=\"S\",COUNTBLANK(J39)=0),RANK(J39,J$3:J$102,0),\"\")","v":""},{"$f":"IF(AND(Registration!$E38=\"s\",COUNTBLANK(K39)=0),placingpoints(K39,COUNTIF(K$3:K$102,\"=\"&K39)),\"\")","v":""},{"$f":"IF(Registration!$E38=\"S\",'Trick Catch'!X39,\"\")","v":""},{"$f":"IF(AND(Registration!$E38=\"S\",COUNTBLANK(M39)=0),RANK(M39,M$3:M$102,0),\"\")","v":""},{"$f":"IF(AND(Registration!$E38=\"s\",COUNTBLANK(N39)=0),placingpoints(N39,COUNTIF(N$3:N$102,\"=\"&N39)),\"\")","v":""},{"$f":"IF(Registration!$E38=\"S\",'Fast Catch'!F38,\"\")","v":""},{"$f":"IF(AND(Registration!$E38=\"S\",COUNTBLANK(P39)=0),RANK(P39,P$3:P$102,1),\"\")","v":""},{"$f":"IF(AND(Registration!$E38=\"s\",COUNTBLANK(Q39)=0),placingpoints(Q39,COUNTIF(Q$3:Q$102,\"=\"&Q39)),\"\")","v":""},{"$f":"IF(Registration!$E38=\"S\",Endurance!C38,\"\")","v":""},{"$f":"IF(AND(Registration!$E38=\"S\",COUNTBLANK(S39)=0),RANK(S39,S$3:S$102,0),\"\")","v":""},{"$f":"IF(AND(Registration!$E38=\"s\",COUNTBLANK(T39)=0),placingpoints(T39,COUNTIF(T$3:T$102,\"=\"&T39)),\"\")","v":""}]
[{"$f":"IF(Registration!E39=\"S\",RANK(B40,$B$3:$B$102,1),\"\")","v":""},{"$f":"IF(Registration!E39=\"S\",SUM(F40,I40,L40,O40,R40,U40),\"\")","v":""},{"$f":"IF(COUNTBLANK(Registration!B39)=1,\"\",IF(Registration!E39=\"s\",Registration!B39,\"\"))","v":""},{"$f":"IF(Registration!E39=\"S\",'Aussie Round'!V40,\"\")","v":""},{"$f":"IF(AND(Registration!$E39=\"S\",COUNTBLANK(D40)=0),RANK(D40,D$3:D$102,0),\"\")","v":""},{"$f":"IF(AND(Registration!$E39=\"s\",COUNTBLANK(E40)=0),placingpoints(E40,COUNTIF(E$3:E$102,\"=\"&E40)),\"\")","v":""},{"$f":"IF(Registration!$E39=\"S\",Accuracy!L39,\"\")","v":""},{"$f":"IF(AND(Registration!$E39=\"S\",COUNTBLANK(G40)=0),RANK(G40,G$3:G$102,0),\"\")","v":""},{"$f":"IF(AND(Registration!$E39=\"s\",COUNTBLANK(H40)=0),placingpoints(H40,COUNTIF(H$3:H$102,\"=\"&H40)),\"\")","v":""},{"$f":"IF(Registration!$E39=\"S\",MTA!G39,\"\")","v":""},{"$f":"IF(AND(Registration!$E39=\"S\",COUNTBLANK(J40)=0),RANK(J40,J$3:J$102,0),\"\")","v":""},{"$f":"IF(AND(Registration!$E39=\"s\",COUNTBLANK(K40)=0),placingpoints(K40,COUNTIF(K$3:K$102,\"=\"&K40)),\"\")","v":""},{"$f":"IF(Registration!$E39=\"S\",'Trick Catch'!X40,\"\")","v":""},{"$f":"IF(AND(Registration!$E39=\"S\",COUNTBLANK(M40)=0),RANK(M40,M$3:M$102,0),\"\")","v":""},{"$f":"IF(AND(Registration!$E39=\"s\",COUNTBLANK(N40)=0),placingpoints(N40,COUNTIF(N$3:N$102,\"=\"&N40)),\"\")","v":""},{"$f":"IF(Registration!$E39=\"S\",'Fast Catch'!F39,\"\")","v":""},{"$f":"IF(AND(Registration!$E39=\"S\",COUNTBLANK(P40)=0),RANK(P40,P$3:P$102,1),\"\")","v":""},{"$f":"IF(AND(Registration!$E39=\"s\",COUNTBLANK(Q40)=0),placingpoints(Q40,COUNTIF(Q$3:Q$102,\"=\"&Q40)),\"\")","v":""},{"$f":"IF(Registration!$E39=\"S\",Endurance!C39,\"\")","v":""},{"$f":"IF(AND(Registration!$E39=\"S\",COUNTBLANK(S40)=0),RANK(S40,S$3:S$102,0),\"\")","v":""},{"$f":"IF(AND(Registration!$E39=\"s\",COUNTBLANK(T40)=0),placingpoints(T40,COUNTIF(T$3:T$102,\"=\"&T40)),\"\")","v":""}]
[{"$f":"IF(Registration!E40=\"S\",RANK(B41,$B$3:$B$102,1),\"\")","v":""},{"$f":"IF(Registration!E40=\"S\",SUM(F41,I41,L41,O41,R41,U41),\"\")","v":""},{"$f":"IF(COUNTBLANK(Registration!B40)=1,\"\",IF(Registration!E40=\"s\",Registration!B40,\"\"))","v":""},{"$f":"IF(Registration!E40=\"S\",'Aussie Round'!V41,\"\")","v":""},{"$f":"IF(AND(Registration!$E40=\"S\",COUNTBLANK(D41)=0),RANK(D41,D$3:D$102,0),\"\")","v":""},{"$f":"IF(AND(Registration!$E40=\"s\",COUNTBLANK(E41)=0),placingpoints(E41,COUNTIF(E$3:E$102,\"=\"&E41)),\"\")","v":""},{"$f":"IF(Registration!$E40=\"S\",Accuracy!L40,\"\")","v":""},{"$f":"IF(AND(Registration!$E40=\"S\",COUNTBLANK(G41)=0),RANK(G41,G$3:G$102,0),\"\")","v":""},{"$f":"IF(AND(Registration!$E40=\"s\",COUNTBLANK(H41)=0),placingpoints(H41,COUNTIF(H$3:H$102,\"=\"&H41)),\"\")","v":""},{"$f":"IF(Registration!$E40=\"S\",MTA!G40,\"\")","v":""},{"$f":"IF(AND(Registration!$E40=\"S\",COUNTBLANK(J41)=0),RANK(J41,J$3:J$102,0),\"\")","v":""},{"$f":"IF(AND(Registration!$E40=\"s\",COUNTBLANK(K41)=0),placingpoints(K41,COUNTIF(K$3:K$102,\"=\"&K41)),\"\")","v":""},{"$f":"IF(Registration!$E40=\"S\",'Trick Catch'!X41,\"\")","v":""},{"$f":"IF(AND(Registration!$E40=\"S\",COUNTBLANK(M41)=0),RANK(M41,M$3:M$102,0),\"\")","v":""},{"$f":"IF(AND(Registration!$E40=\"s\",COUNTBLANK(N41)=0),placingpoints(N41,COUNTIF(N$3:N$102,\"=\"&N41)),\"\")","v":""},{"$f":"IF(Registration!$E40=\"S\",'Fast Catch'!F40,\"\")","v":""},{"$f":"IF(AND(Registration!$E40=\"S\",COUNTBLANK(P41)=0),RANK(P41,P$3:P$102,1),\"\")","v":""},{"$f":"IF(AND(Registration!$E40=\"s\",COUNTBLANK(Q41)=0),placingpoints(Q41,COUNTIF(Q$3:Q$102,\"=\"&Q41)),\"\")","v":""},{"$f":"IF(Registration!$E40=\"S\",Endurance!C40,\"\")","v":""},{"$f":"IF(AND(Registration!$E40=\"S\",COUNTBLANK(S41)=0),RANK(S41,S$3:S$102,0),\"\")","v":""},{"$f":"IF(AND(Registration!$E40=\"s\",COUNTBLANK(T41)=0),placingpoints(T41,COUNTIF(T$3:T$102,\"=\"&T41)),\"\")","v":""}]
[{"$f":"IF(Registration!E41=\"S\",RANK(B42,$B$3:$B$102,1),\"\")","v":""},{"$f":"IF(Registration!E41=\"S\",SUM(F42,I42,L42,O42,R42,U42),\"\")","v":""},{"$f":"IF(COUNTBLANK(Registration!B41)=1,\"\",IF(Registration!E41=\"s\",Registration!B41,\"\"))","v":""},{"$f":"IF(Registration!E41=\"S\",'Aussie Round'!V42,\"\")","v":""},{"$f":"IF(AND(Registration!$E41=\"S\",COUNTBLANK(D42)=0),RANK(D42,D$3:D$102,0),\"\")","v":""},{"$f":"IF(AND(Registration!$E41=\"s\",COUNTBLANK(E42)=0),placingpoints(E42,COUNTIF(E$3:E$102,\"=\"&E42)),\"\")","v":""},{"$f":"IF(Registration!$E41=\"S\",Accuracy!L41,\"\")","v":""},{"$f":"IF(AND(Registration!$E41=\"S\",COUNTBLANK(G42)=0),RANK(G42,G$3:G$102,0),\"\")","v":""},{"$f":"IF(AND(Registration!$E41=\"s\",COUNTBLANK(H42)=0),placingpoints(H42,COUNTIF(H$3:H$102,\"=\"&H42)),\"\")","v":""},{"$f":"IF(Registration!$E41=\"S\",MTA!G41,\"\")","v":""},{"$f":"IF(AND(Registration!$E41=\"S\",COUNTBLANK(J42)=0),RANK(J42,J$3:J$102,0),\"\")","v":""},{"$f":"IF(AND(Registration!$E41=\"s\",COUNTBLANK(K42)=0),placingpoints(K42,COUNTIF(K$3:K$102,\"=\"&K42)),\"\")","v":""},{"$f":"IF(Registration!$E41=\"S\",'Trick Catch'!X42,\"\")","v":""},{"$f":"IF(AND(Registration!$E41=\"S\",COUNTBLANK(M42)=0),RANK(M42,M$3:M$102,0),\"\")","v":""},{"$f":"IF(AND(Registration!$E41=\"s\",COUNTBLANK(N42)=0),placingpoints(N42,COUNTIF(N$3:N$102,\"=\"&N42)),\"\")","v":""},{"$f":"IF(Registration!$E41=\"S\",'Fast Catch'!F41,\"\")","v":""},{"$f":"IF(AND(Registration!$E41=\"S\",COUNTBLANK(P42)=0),RANK(P42,P$3:P$102,1),\"\")","v":""},{"$f":"IF(AND(Registration!$E41=\"s\",COUNTBLANK(Q42)=0),placingpoints(Q42,COUNTIF(Q$3:Q$102,\"=\"&Q42)),\"\")","v":""},{"$f":"IF(Registration!$E41=\"S\",Endurance!C41,\"\")","v":""},{"$f":"IF(AND(Registration!$E41=\"S\",COUNTBLANK(S42)=0),RANK(S42,S$3:S$102,0),\"\")","v":""},{"$f":"IF(AND(Registration!$E41=\"s\",COUNTBLANK(T42)=0),placingpoints(T42,COUNTIF(T$3:T$102,\"=\"&T42)),\"\")","v":""}]
[{"$f":"IF(Registration!E42=\"S\",RANK(B43,$B$3:$B$102,1),\"\")","v":""},{"$f":"IF(Registration!E42=\"S\",SUM(F43,I43,L43,O43,R43,U43),\"\")","v":""},{"$f":"IF(COUNTBLANK(Registration!B42)=1,\"\",IF(Registration!E42=\"s\",Registration!B42,\"\"))","v":""},{"$f":"IF(Registration!E42=\"S\",'Aussie Round'!V43,\"\")","v":""},{"$f":"IF(AND(Registration!$E42=\"S\",COUNTBLANK(D43)=0),RANK(D43,D$3:D$102,0),\"\")","v":""},{"$f":"IF(AND(Registration!$E42=\"s\",COUNTBLANK(E43)=0),placingpoints(E43,COUNTIF(E$3:E$102,\"=\"&E43)),\"\")","v":""},{"$f":"IF(Registration!$E42=\"S\",Accuracy!L42,\"\")","v":""},{"$f":"IF(AND(Registration!$E42=\"S\",COUNTBLANK(G43)=0),RANK(G43,G$3:G$102,0),\"\")","v":""},{"$f":"IF(AND(Registration!$E42=\"s\",COUNTBLANK(H43)=0),placingpoints(H43,COUNTIF(H$3:H$102,\"=\"&H43)),\"\")","v":""},{"$f":"IF(Registration!$E42=\"S\",MTA!G42,\"\")","v":""},{"$f":"IF(AND(Registration!$E42=\"S\",COUNTBLANK(J43)=0),RANK(J43,J$3:J$102,0),\"\")","v":""},{"$f":"IF(AND(Registration!$E42=\"s\",COUNTBLANK(K43)=0),placingpoints(K43,COUNTIF(K$3:K$102,\"=\"&K43)),\"\")","v":""},{"$f":"IF(Registration!$E42=\"S\",'Trick Catch'!X43,\"\")","v":""},{"$f":"IF(AND(Registration!$E42=\"S\",COUNTBLANK(M43)=0),RANK(M43,M$3:M$102,0),\"\")","v":""},{"$f":"IF(AND(Registration!$E42=\"s\",COUNTBLANK(N43)=0),placingpoints(N43,COUNTIF(N$3:N$102,\"=\"&N43)),\"\")","v":""},{"$f":"IF(Registration!$E42=\"S\",'Fast Catch'!F42,\"\")","v":""},{"$f":"IF(AND(Registration!$E42=\"S\",COUNTBLANK(P43)=0),RANK(P43,P$3:P$102,1),\"\")","v":""},{"$f":"IF(AND(Registration!$E42=\"s\",COUNTBLANK(Q43)=0),placingpoints(Q43,COUNTIF(Q$3:Q$102,\"=\"&Q43)),\"\")","v":""},{"$f":"IF(Registration!$E42=\"S\",Endurance!C42,\"\")","v":""},{"$f":"IF(AND(Registration!$E42=\"S\",COUNTBLANK(S43)=0),RANK(S43,S$3:S$102,0),\"\")","v":""},{"$f":"IF(AND(Registration!$E42=\"s\",COUNTBLANK(T43)=0),placingpoints(T43,COUNTIF(T$3:T$102,\"=\"&T43)),\"\")","v":""}]
[{"$f":"IF(Registration!E43=\"S\",RANK(B44,$B$3:$B$102,1),\"\")","v":""},{"$f":"IF(Registration!E43=\"S\",SUM(F44,I44,L44,O44,R44,U44),\"\")","v":""},{"$f":"IF(COUNTBLANK(Registration!B43)=1,\"\",IF(Registration!E43=\"s\",Registration!B43,\"\"))","v":""},{"$f":"IF(Registration!E43=\"S\",'Aussie Round'!V44,\"\")","v":""},{"$f":"IF(AND(Registration!$E43=\"S\",COUNTBLANK(D44)=0),RANK(D44,D$3:D$102,0),\"\")","v":""},{"$f":"IF(AND(Registration!$E43=\"s\",COUNTBLANK(E44)=0),placingpoints(E44,COUNTIF(E$3:E$102,\"=\"&E44)),\"\")","v":""},{"$f":"IF(Registration!$E43=\"S\",Accuracy!L43,\"\")","v":""},{"$f":"IF(AND(Registration!$E43=\"S\",COUNTBLANK(G44)=0),RANK(G44,G$3:G$102,0),\"\")","v":""},{"$f":"IF(AND(Registration!$E43=\"s\",COUNTBLANK(H44)=0),placingpoints(H44,COUNTIF(H$3:H$102,\"=\"&H44)),\"\")","v":""},{"$f":"IF(Registration!$E43=\"S\",MTA!G43,\"\")","v":""},{"$f":"IF(AND(Registration!$E43=\"S\",COUNTBLANK(J44)=0),RANK(J44,J$3:J$102,0),\"\")","v":""},{"$f":"IF(AND(Registration!$E43=\"s\",COUNTBLANK(K44)=0),placingpoints(K44,COUNTIF(K$3:K$102,\"=\"&K44)),\"\")","v":""},{"$f":"IF(Registration!$E43=\"S\",'Trick Catch'!X44,\"\")","v":""},{"$f":"IF(AND(Registration!$E43=\"S\",COUNTBLANK(M44)=0),RANK(M44,M$3:M$102,0),\"\")","v":""},{"$f":"IF(AND(Registration!$E43=\"s\",COUNTBLANK(N44)=0),placingpoints(N44,COUNTIF(N$3:N$102,\"=\"&N44)),\"\")","v":""},{"$f":"IF(Registration!$E43=\"S\",'Fast Catch'!F43,\"\")","v":""},{"$f":"IF(AND(Registration!$E43=\"S\",COUNTBLANK(P44)=0),RANK(P44,P$3:P$102,1),\"\")","v":""},{"$f":"IF(AND(Registration!$E43=\"s\",COUNTBLANK(Q44)=0),placingpoints(Q44,COUNTIF(Q$3:Q$102,\"=\"&Q44)),\"\")","v":""},{"$f":"IF(Registration!$E43=\"S\",Endurance!C43,\"\")","v":""},{"$f":"IF(AND(Registration!$E43=\"S\",COUNTBLANK(S44)=0),RANK(S44,S$3:S$102,0),\"\")","v":""},{"$f":"IF(AND(Registration!$E43=\"s\",COUNTBLANK(T44)=0),placingpoints(T44,COUNTIF(T$3:T$102,\"=\"&T44)),\"\")","v":""}]
[{"$f":"IF(Registration!E44=\"S\",RANK(B45,$B$3:$B$102,1),\"\")","v":""},{"$f":"IF(Registration!E44=\"S\",SUM(F45,I45,L45,O45,R45,U45),\"\")","v":""},{"$f":"IF(COUNTBLANK(Registration!B44)=1,\"\",IF(Registration!E44=\"s\",Registration!B44,\"\"))","v":""},{"$f":"IF(Registration!E44=\"S\",'Aussie Round'!V45,\"\")","v":""},{"$f":"IF(AND(Registration!$E44=\"S\",COUNTBLANK(D45)=0),RANK(D45,D$3:D$102,0),\"\")","v":""},{"$f":"IF(AND(Registration!$E44=\"s\",COUNTBLANK(E45)=0),placingpoints(E45,COUNTIF(E$3:E$102,\"=\"&E45)),\"\")","v":""},{"$f":"IF(Registration!$E44=\"S\",Accuracy!L44,\"\")","v":""},{"$f":"IF(AND(Registration!$E44=\"S\",COUNTBLANK(G45)=0),RANK(G45,G$3:G$102,0),\"\")","v":""},{"$f":"IF(AND(Registration!$E44=\"s\",COUNTBLANK(H45)=0),placingpoints(H45,COUNTIF(H$3:H$102,\"=\"&H45)),\"\")","v":""},{"$f":"IF(Registration!$E44=\"S\",MTA!G44,\"\")","v":""},{"$f":"IF(AND(Registration!$E44=\"S\",COUNTBLANK(J45)=0),RANK(J45,J$3:J$102,0),\"\")","v":""},{"$f":"IF(AND(Registration!$E44=\"s\",COUNTBLANK(K45)=0),placingpoints(K45,COUNTIF(K$3:K$102,\"=\"&K45)),\"\")","v":""},{"$f":"IF(Registration!$E44=\"S\",'Trick Catch'!X45,\"\")","v":""},{"$f":"IF(AND(Registration!$E44=\"S\",COUNTBLANK(M45)=0),RANK(M45,M$3:M$102,0),\"\")","v":""},{"$f":"IF(AND(Registration!$E44=\"s\",COUNTBLANK(N45)=0),placingpoints(N45,COUNTIF(N$3:N$102,\"=\"&N45)),\"\")","v":""},{"$f":"IF(Registration!$E44=\"S\",'Fast Catch'!F44,\"\")","v":""},{"$f":"IF(AND(Registration!$E44=\"S\",COUNTBLANK(P45)=0),RANK(P45,P$3:P$102,1),\"\")","v":""},{"$f":"IF(AND(Registration!$E44=\"s\",COUNTBLANK(Q45)=0),placingpoints(Q45,COUNTIF(Q$3:Q$102,\"=\"&Q45)),\"\")","v":""},{"$f":"IF(Registration!$E44=\"S\",Endurance!C44,\"\")","v":""},{"$f":"IF(AND(Registration!$E44=\"S\",COUNTBLANK(S45)=0),RANK(S45,S$3:S$102,0),\"\")","v":""},{"$f":"IF(AND(Registration!$E44=\"s\",COUNTBLANK(T45)=0),placingpoints(T45,COUNTIF(T$3:T$102,\"=\"&T45)),\"\")","v":""}]
[{"$f":"IF(Registration!E45=\"S\",RANK(B46,$B$3:$B$102,1),\"\")","v":""},{"$f":"IF(Registration!E45=\"S\",SUM(F46,I46,L46,O46,R46,U46),\"\")","v":""},{"$f":"IF(COUNTBLANK(Registration!B45)=1,\"\",IF(Registration!E45=\"s\",Registration!B45,\"\"))","v":""},{"$f":"IF(Registration!E45=\"S\",'Aussie Round'!V46,\"\")","v":""},{"$f":"IF(AND(Registration!$E45=\"S\",COUNTBLANK(D46)=0),RANK(D46,D$3:D$102,0),\"\")","v":""},{"$f":"IF(AND(Registration!$E45=\"s\",COUNTBLANK(E46)=0),placingpoints(E46,COUNTIF(E$3:E$102,\"=\"&E46)),\"\")","v":""},{"$f":"IF(Registration!$E45=\"S\",Accuracy!L45,\"\")","v":""},{"$f":"IF(AND(Registration!$E45=\"S\",COUNTBLANK(G46)=0),RANK(G46,G$3:G$102,0),\"\")","v":""},{"$f":"IF(AND(Registration!$E45=\"s\",COUNTBLANK(H46)=0),placingpoints(H46,COUNTIF(H$3:H$102,\"=\"&H46)),\"\")","v":""},{"$f":"IF(Registration!$E45=\"S\",MTA!G45,\"\")","v":""},{"$f":"IF(AND(Registration!$E45=\"S\",COUNTBLANK(J46)=0),RANK(J46,J$3:J$102,0),\"\")","v":""},{"$f":"IF(AND(Registration!$E45=\"s\",COUNTBLANK(K46)=0),placingpoints(K46,COUNTIF(K$3:K$102,\"=\"&K46)),\"\")","v":""},{"$f":"IF(Registration!$E45=\"S\",'Trick Catch'!X46,\"\")","v":""},{"$f":"IF(AND(Registration!$E45=\"S\",COUNTBLANK(M46)=0),RANK(M46,M$3:M$102,0),\"\")","v":""},{"$f":"IF(AND(Registration!$E45=\"s\",COUNTBLANK(N46)=0),placingpoints(N46,COUNTIF(N$3:N$102,\"=\"&N46)),\"\")","v":""},{"$f":"IF(Registration!$E45=\"S\",'Fast Catch'!F45,\"\")","v":""},{"$f":"IF(AND(Registration!$E45=\"S\",COUNTBLANK(P46)=0),RANK(P46,P$3:P$102,1),\"\")","v":""},{"$f":"IF(AND(Registration!$E45=\"s\",COUNTBLANK(Q46)=0),placingpoints(Q46,COUNTIF(Q$3:Q$102,\"=\"&Q46)),\"\")","v":""},{"$f":"IF(Registration!$E45=\"S\",Endurance!C45,\"\")","v":""},{"$f":"IF(AND(Registration!$E45=\"S\",COUNTBLANK(S46)=0),RANK(S46,S$3:S$102,0),\"\")","v":""},{"$f":"IF(AND(Registration!$E45=\"s\",COUNTBLANK(T46)=0),placingpoints(T46,COUNTIF(T$3:T$102,\"=\"&T46)),\"\")","v":""}]
[{"$f":"IF(Registration!E46=\"S\",RANK(B47,$B$3:$B$102,1),\"\")","v":""},{"$f":"IF(Registration!E46=\"S\",SUM(F47,I47,L47,O47,R47,U47),\"\")","v":""},{"$f":"IF(COUNTBLANK(Registration!B46)=1,\"\",IF(Registration!E46=\"s\",Registration!B46,\"\"))","v":""},{"$f":"IF(Registration!E46=\"S\",'Aussie Round'!V47,\"\")","v":""},{"$f":"IF(AND(Registration!$E46=\"S\",COUNTBLANK(D47)=0),RANK(D47,D$3:D$102,0),\"\")","v":""},{"$f":"IF(AND(Registration!$E46=\"s\",COUNTBLANK(E47)=0),placingpoints(E47,COUNTIF(E$3:E$102,\"=\"&E47)),\"\")","v":""},{"$f":"IF(Registration!$E46=\"S\",Accuracy!L46,\"\")","v":""},{"$f":"IF(AND(Registration!$E46=\"S\",COUNTBLANK(G47)=0),RANK(G47,G$3:G$102,0),\"\")","v":""},{"$f":"IF(AND(Registration!$E46=\"s\",COUNTBLANK(H47)=0),placingpoints(H47,COUNTIF(H$3:H$102,\"=\"&H47)),\"\")","v":""},{"$f":"IF(Registration!$E46=\"S\",MTA!G46,\"\")","v":""},{"$f":"IF(AND(Registration!$E46=\"S\",COUNTBLANK(J47)=0),RANK(J47,J$3:J$102,0),\"\")","v":""},{"$f":"IF(AND(Registration!$E46=\"s\",COUNTBLANK(K47)=0),placingpoints(K47,COUNTIF(K$3:K$102,\"=\"&K47)),\"\")","v":""},{"$f":"IF(Registration!$E46=\"S\",'Trick Catch'!X47,\"\")","v":""},{"$f":"IF(AND(Registration!$E46=\"S\",COUNTBLANK(M47)=0),RANK(M47,M$3:M$102,0),\"\")","v":""},{"$f":"IF(AND(Registration!$E46=\"s\",COUNTBLANK(N47)=0),placingpoints(N47,COUNTIF(N$3:N$102,\"=\"&N47)),\"\")","v":""},{"$f":"IF(Registration!$E46=\"S\",'Fast Catch'!F46,\"\")","v":""},{"$f":"IF(AND(Registration!$E46=\"S\",COUNTBLANK(P47)=0),RANK(P47,P$3:P$102,1),\"\")","v":""},{"$f":"IF(AND(Registration!$E46=\"s\",COUNTBLANK(Q47)=0),placingpoints(Q47,COUNTIF(Q$3:Q$102,\"=\"&Q47)),\"\")","v":""},{"$f":"IF(Registration!$E46=\"S\",Endurance!C46,\"\")","v":""},{"$f":"IF(AND(Registration!$E46=\"S\",COUNTBLANK(S47)=0),RANK(S47,S$3:S$102,0),\"\")","v":""},{"$f":"IF(AND(Registration!$E46=\"s\",COUNTBLANK(T47)=0),placingpoints(T47,COUNTIF(T$3:T$102,\"=\"&T47)),\"\")","v":""}]
[{"$f":"IF(Registration!E47=\"S\",RANK(B48,$B$3:$B$102,1),\"\")","v":""},{"$f":"IF(Registration!E47=\"S\",SUM(F48,I48,L48,O48,R48,U48),\"\")","v":""},{"$f":"IF(COUNTBLANK(Registration!B47)=1,\"\",IF(Registration!E47=\"s\",Registration!B47,\"\"))","v":""},{"$f":"IF(Registration!E47=\"S\",'Aussie Round'!V48,\"\")","v":""},{"$f":"IF(AND(Registration!$E47=\"S\",COUNTBLANK(D48)=0),RANK(D48,D$3:D$102,0),\"\")","v":""},{"$f":"IF(AND(Registration!$E47=\"s\",COUNTBLANK(E48)=0),placingpoints(E48,COUNTIF(E$3:E$102,\"=\"&E48)),\"\")","v":""},{"$f":"IF(Registration!$E47=\"S\",Accuracy!L47,\"\")","v":""},{"$f":"IF(AND(Registration!$E47=\"S\",COUNTBLANK(G48)=0),RANK(G48,G$3:G$102,0),\"\")","v":""},{"$f":"IF(AND(Registration!$E47=\"s\",COUNTBLANK(H48)=0),placingpoints(H48,COUNTIF(H$3:H$102,\"=\"&H48)),\"\")","v":""},{"$f":"IF(Registration!$E47=\"S\",MTA!G47,\"\")","v":""},{"$f":"IF(AND(Registration!$E47=\"S\",COUNTBLANK(J48)=0),RANK(J48,J$3:J$102,0),\"\")","v":""},{"$f":"IF(AND(Registration!$E47=\"s\",COUNTBLANK(K48)=0),placingpoints(K48,COUNTIF(K$3:K$102,\"=\"&K48)),\"\")","v":""},{"$f":"IF(Registration!$E47=\"S\",'Trick Catch'!X48,\"\")","v":""},{"$f":"IF(AND(Registration!$E47=\"S\",COUNTBLANK(M48)=0),RANK(M48,M$3:M$102,0),\"\")","v":""},{"$f":"IF(AND(Registration!$E47=\"s\",COUNTBLANK(N48)=0),placingpoints(N48,COUNTIF(N$3:N$102,\"=\"&N48)),\"\")","v":""},{"$f":"IF(Registration!$E47=\"S\",'Fast Catch'!F47,\"\")","v":""},{"$f":"IF(AND(Registration!$E47=\"S\",COUNTBLANK(P48)=0),RANK(P48,P$3:P$102,1),\"\")","v":""},{"$f":"IF(AND(Registration!$E47=\"s\",COUNTBLANK(Q48)=0),placingpoints(Q48,COUNTIF(Q$3:Q$102,\"=\"&Q48)),\"\")","v":""},{"$f":"IF(Registration!$E47=\"S\",Endurance!C47,\"\")","v":""},{"$f":"IF(AND(Registration!$E47=\"S\",COUNTBLANK(S48)=0),RANK(S48,S$3:S$102,0),\"\")","v":""},{"$f":"IF(AND(Registration!$E47=\"s\",COUNTBLANK(T48)=0),placingpoints(T48,COUNTIF(T$3:T$102,\"=\"&T48)),\"\")","v":""}]
[{"$f":"IF(Registration!E48=\"S\",RANK(B49,$B$3:$B$102,1),\"\")","v":""},{"$f":"IF(Registration!E48=\"S\",SUM(F49,I49,L49,O49,R49,U49),\"\")","v":""},{"$f":"IF(COUNTBLANK(Registration!B48)=1,\"\",IF(Registration!E48=\"s\",Registration!B48,\"\"))","v":""},{"$f":"IF(Registration!E48=\"S\",'Aussie Round'!V49,\"\")","v":""},{"$f":"IF(AND(Registration!$E48=\"S\",COUNTBLANK(D49)=0),RANK(D49,D$3:D$102,0),\"\")","v":""},{"$f":"IF(AND(Registration!$E48=\"s\",COUNTBLANK(E49)=0),placingpoints(E49,COUNTIF(E$3:E$102,\"=\"&E49)),\"\")","v":""},{"$f":"IF(Registration!$E48=\"S\",Accuracy!L48,\"\")","v":""},{"$f":"IF(AND(Registration!$E48=\"S\",COUNTBLANK(G49)=0),RANK(G49,G$3:G$102,0),\"\")","v":""},{"$f":"IF(AND(Registration!$E48=\"s\",COUNTBLANK(H49)=0),placingpoints(H49,COUNTIF(H$3:H$102,\"=\"&H49)),\"\")","v":""},{"$f":"IF(Registration!$E48=\"S\",MTA!G48,\"\")","v":""},{"$f":"IF(AND(Registration!$E48=\"S\",COUNTBLANK(J49)=0),RANK(J49,J$3:J$102,0),\"\")","v":""},{"$f":"IF(AND(Registration!$E48=\"s\",COUNTBLANK(K49)=0),placingpoints(K49,COUNTIF(K$3:K$102,\"=\"&K49)),\"\")","v":""},{"$f":"IF(Registration!$E48=\"S\",'Trick Catch'!X49,\"\")","v":""},{"$f":"IF(AND(Registration!$E48=\"S\",COUNTBLANK(M49)=0),RANK(M49,M$3:M$102,0),\"\")","v":""},{"$f":"IF(AND(Registration!$E48=\"s\",COUNTBLANK(N49)=0),placingpoints(N49,COUNTIF(N$3:N$102,\"=\"&N49)),\"\")","v":""},{"$f":"IF(Registration!$E48=\"S\",'Fast Catch'!F48,\"\")","v":""},{"$f":"IF(AND(Registration!$E48=\"S\",COUNTBLANK(P49)=0),RANK(P49,P$3:P$102,1),\"\")","v":""},{"$f":"IF(AND(Registration!$E48=\"s\",COUNTBLANK(Q49)=0),placingpoints(Q49,COUNTIF(Q$3:Q$102,\"=\"&Q49)),\"\")","v":""},{"$f":"IF(Registration!$E48=\"S\",Endurance!C48,\"\")","v":""},{"$f":"IF(AND(Registration!$E48=\"S\",COUNTBLANK(S49)=0),RANK(S49,S$3:S$102,0),\"\")","v":""},{"$f":"IF(AND(Registration!$E48=\"s\",COUNTBLANK(T49)=0),placingpoints(T49,COUNTIF(T$3:T$102,\"=\"&T49)),\"\")","v":""}]
[{"$f":"IF(Registration!E49=\"S\",RANK(B50,$B$3:$B$102,1),\"\")","v":""},{"$f":"IF(Registration!E49=\"S\",SUM(F50,I50,L50,O50,R50,U50),\"\")","v":""},{"$f":"IF(COUNTBLANK(Registration!B49)=1,\"\",IF(Registration!E49=\"s\",Registration!B49,\"\"))","v":""},{"$f":"IF(Registration!E49=\"S\",'Aussie Round'!V50,\"\")","v":""},{"$f":"IF(AND(Registration!$E49=\"S\",COUNTBLANK(D50)=0),RANK(D50,D$3:D$102,0),\"\")","v":""},{"$f":"IF(AND(Registration!$E49=\"s\",COUNTBLANK(E50)=0),placingpoints(E50,COUNTIF(E$3:E$102,\"=\"&E50)),\"\")","v":""},{"$f":"IF(Registration!$E49=\"S\",Accuracy!L49,\"\")","v":""},{"$f":"IF(AND(Registration!$E49=\"S\",COUNTBLANK(G50)=0),RANK(G50,G$3:G$102,0),\"\")","v":""},{"$f":"IF(AND(Registration!$E49=\"s\",COUNTBLANK(H50)=0),placingpoints(H50,COUNTIF(H$3:H$102,\"=\"&H50)),\"\")","v":""},{"$f":"IF(Registration!$E49=\"S\",MTA!G49,\"\")","v":""},{"$f":"IF(AND(Registration!$E49=\"S\",COUNTBLANK(J50)=0),RANK(J50,J$3:J$102,0),\"\")","v":""},{"$f":"IF(AND(Registration!$E49=\"s\",COUNTBLANK(K50)=0),placingpoints(K50,COUNTIF(K$3:K$102,\"=\"&K50)),\"\")","v":""},{"$f":"IF(Registration!$E49=\"S\",'Trick Catch'!X50,\"\")","v":""},{"$f":"IF(AND(Registration!$E49=\"S\",COUNTBLANK(M50)=0),RANK(M50,M$3:M$102,0),\"\")","v":""},{"$f":"IF(AND(Registration!$E49=\"s\",COUNTBLANK(N50)=0),placingpoints(N50,COUNTIF(N$3:N$102,\"=\"&N50)),\"\")","v":""},{"$f":"IF(Registration!$E49=\"S\",'Fast Catch'!F49,\"\")","v":""},{"$f":"IF(AND(Registration!$E49=\"S\",COUNTBLANK(P50)=0),RANK(P50,P$3:P$102,1),\"\")","v":""},{"$f":"IF(AND(Registration!$E49=\"s\",COUNTBLANK(Q50)=0),placingpoints(Q50,COUNTIF(Q$3:Q$102,\"=\"&Q50)),\"\")","v":""},{"$f":"IF(Registration!$E49=\"S\",Endurance!C49,\"\")","v":""},{"$f":"IF(AND(Registration!$E49=\"S\",COUNTBLANK(S50)=0),RANK(S50,S$3:S$102,0),\"\")","v":""},{"$f":"IF(AND(Registration!$E49=\"s\",COUNTBLANK(T50)=0),placingpoints(T50,COUNTIF(T$3:T$102,\"=\"&T50)),\"\")","v":""}]
[{"$f":"IF(Registration!E50=\"S\",RANK(B51,$B$3:$B$102,1),\"\")","v":""},{"$f":"IF(Registration!E50=\"S\",SUM(F51,I51,L51,O51,R51,U51),\"\")","v":""},{"$f":"IF(COUNTBLANK(Registration!B50)=1,\"\",IF(Registration!E50=\"s\",Registration!B50,\"\"))","v":""},{"$f":"IF(Registration!E50=\"S\",'Aussie Round'!V51,\"\")","v":""},{"$f":"IF(AND(Registration!$E50=\"S\",COUNTBLANK(D51)=0),RANK(D51,D$3:D$102,0),\"\")","v":""},{"$f":"IF(AND(Registration!$E50=\"s\",COUNTBLANK(E51)=0),placingpoints(E51,COUNTIF(E$3:E$102,\"=\"&E51)),\"\")","v":""},{"$f":"IF(Registration!$E50=\"S\",Accuracy!L50,\"\")","v":""},{"$f":"IF(AND(Registration!$E50=\"S\",COUNTBLANK(G51)=0),RANK(G51,G$3:G$102,0),\"\")","v":""},{"$f":"IF(AND(Registration!$E50=\"s\",COUNTBLANK(H51)=0),placingpoints(H51,COUNTIF(H$3:H$102,\"=\"&H51)),\"\")","v":""},{"$f":"IF(Registration!$E50=\"S\",MTA!G50,\"\")","v":""},{"$f":"IF(AND(Registration!$E50=\"S\",COUNTBLANK(J51)=0),RANK(J51,J$3:J$102,0),\"\")","v":""},{"$f":"IF(AND(Registration!$E50=\"s\",COUNTBLANK(K51)=0),placingpoints(K51,COUNTIF(K$3:K$102,\"=\"&K51)),\"\")","v":""},{"$f":"IF(Registration!$E50=\"S\",'Trick Catch'!X51,\"\")","v":""},{"$f":"IF(AND(Registration!$E50=\"S\",COUNTBLANK(M51)=0),RANK(M51,M$3:M$102,0),\"\")","v":""},{"$f":"IF(AND(Registration!$E50=\"s\",COUNTBLANK(N51)=0),placingpoints(N51,COUNTIF(N$3:N$102,\"=\"&N51)),\"\")","v":""},{"$f":"IF(Registration!$E50=\"S\",'Fast Catch'!F50,\"\")","v":""},{"$f":"IF(AND(Registration!$E50=\"S\",COUNTBLANK(P51)=0),RANK(P51,P$3:P$102,1),\"\")","v":""},{"$f":"IF(AND(Registration!$E50=\"s\",COUNTBLANK(Q51)=0),placingpoints(Q51,COUNTIF(Q$3:Q$102,\"=\"&Q51)),\"\")","v":""},{"$f":"IF(Registration!$E50=\"S\",Endurance!C50,\"\")","v":""},{"$f":"IF(AND(Registration!$E50=\"S\",COUNTBLANK(S51)=0),RANK(S51,S$3:S$102,0),\"\")","v":""},{"$f":"IF(AND(Registration!$E50=\"s\",COUNTBLANK(T51)=0),placingpoints(T51,COUNTIF(T$3:T$102,\"=\"&T51)),\"\")","v":""}]
[{"$f":"IF(Registration!E51=\"S\",RANK(B52,$B$3:$B$102,1),\"\")","v":""},{"$f":"IF(Registration!E51=\"S\",SUM(F52,I52,L52,O52,R52,U52),\"\")","v":""},{"$f":"IF(COUNTBLANK(Registration!B51)=1,\"\",IF(Registration!E51=\"s\",Registration!B51,\"\"))","v":""},{"$f":"IF(Registration!E51=\"S\",'Aussie Round'!V52,\"\")","v":""},{"$f":"IF(AND(Registration!$E51=\"S\",COUNTBLANK(D52)=0),RANK(D52,D$3:D$102,0),\"\")","v":""},{"$f":"IF(AND(Registration!$E51=\"s\",COUNTBLANK(E52)=0),placingpoints(E52,COUNTIF(E$3:E$102,\"=\"&E52)),\"\")","v":""},{"$f":"IF(Registration!$E51=\"S\",Accuracy!L51,\"\")","v":""},{"$f":"IF(AND(Registration!$E51=\"S\",COUNTBLANK(G52)=0),RANK(G52,G$3:G$102,0),\"\")","v":""},{"$f":"IF(AND(Registration!$E51=\"s\",COUNTBLANK(H52)=0),placingpoints(H52,COUNTIF(H$3:H$102,\"=\"&H52)),\"\")","v":""},{"$f":"IF(Registration!$E51=\"S\",MTA!G51,\"\")","v":""},{"$f":"IF(AND(Registration!$E51=\"S\",COUNTBLANK(J52)=0),RANK(J52,J$3:J$102,0),\"\")","v":""},{"$f":"IF(AND(Registration!$E51=\"s\",COUNTBLANK(K52)=0),placingpoints(K52,COUNTIF(K$3:K$102,\"=\"&K52)),\"\")","v":""},{"$f":"IF(Registration!$E51=\"S\",'Trick Catch'!X52,\"\")","v":""},{"$f":"IF(AND(Registration!$E51=\"S\",COUNTBLANK(M52)=0),RANK(M52,M$3:M$102,0),\"\")","v":""},{"$f":"IF(AND(Registration!$E51=\"s\",COUNTBLANK(N52)=0),placingpoints(N52,COUNTIF(N$3:N$102,\"=\"&N52)),\"\")","v":""},{"$f":"IF(Registration!$E51=\"S\",'Fast Catch'!F51,\"\")","v":""},{"$f":"IF(AND(Registration!$E51=\"S\",COUNTBLANK(P52)=0),RANK(P52,P$3:P$102,1),\"\")","v":""},{"$f":"IF(AND(Registration!$E51=\"s\",COUNTBLANK(Q52)=0),placingpoints(Q52,COUNTIF(Q$3:Q$102,\"=\"&Q52)),\"\")","v":""},{"$f":"IF(Registration!$E51=\"S\",Endurance!C51,\"\")","v":""},{"$f":"IF(AND(Registration!$E51=\"S\",COUNTBLANK(S52)=0),RANK(S52,S$3:S$102,0),\"\")","v":""},{"$f":"IF(AND(Registration!$E51=\"s\",COUNTBLANK(T52)=0),placingpoints(T52,COUNTIF(T$3:T$102,\"=\"&T52)),\"\")","v":""}]
[{"$f":"IF(Registration!E52=\"S\",RANK(B53,$B$3:$B$102,1),\"\")","v":""},{"$f":"IF(Registration!E52=\"S\",SUM(F53,I53,L53,O53,R53,U53),\"\")","v":""},{"$f":"IF(COUNTBLANK(Registration!B52)=1,\"\",IF(Registration!E52=\"s\",Registration!B52,\"\"))","v":""},{"$f":"IF(Registration!E52=\"S\",'Aussie Round'!V53,\"\")","v":""},{"$f":"IF(AND(Registration!$E52=\"S\",COUNTBLANK(D53)=0),RANK(D53,D$3:D$102,0),\"\")","v":""},{"$f":"IF(AND(Registration!$E52=\"s\",COUNTBLANK(E53)=0),placingpoints(E53,COUNTIF(E$3:E$102,\"=\"&E53)),\"\")","v":""},{"$f":"IF(Registration!$E52=\"S\",Accuracy!L52,\"\")","v":""},{"$f":"IF(AND(Registration!$E52=\"S\",COUNTBLANK(G53)=0),RANK(G53,G$3:G$102,0),\"\")","v":""},{"$f":"IF(AND(Registration!$E52=\"s\",COUNTBLANK(H53)=0),placingpoints(H53,COUNTIF(H$3:H$102,\"=\"&H53)),\"\")","v":""},{"$f":"IF(Registration!$E52=\"S\",MTA!G52,\"\")","v":""},{"$f":"IF(AND(Registration!$E52=\"S\",COUNTBLANK(J53)=0),RANK(J53,J$3:J$102,0),\"\")","v":""},{"$f":"IF(AND(Registration!$E52=\"s\",COUNTBLANK(K53)=0),placingpoints(K53,COUNTIF(K$3:K$102,\"=\"&K53)),\"\")","v":""},{"$f":"IF(Registration!$E52=\"S\",'Trick Catch'!X53,\"\")","v":""},{"$f":"IF(AND(Registration!$E52=\"S\",COUNTBLANK(M53)=0),RANK(M53,M$3:M$102,0),\"\")","v":""},{"$f":"IF(AND(Registration!$E52=\"s\",COUNTBLANK(N53)=0),placingpoints(N53,COUNTIF(N$3:N$102,\"=\"&N53)),\"\")","v":""},{"$f":"IF(Registration!$E52=\"S\",'Fast Catch'!F52,\"\")","v":""},{"$f":"IF(AND(Registration!$E52=\"S\",COUNTBLANK(P53)=0),RANK(P53,P$3:P$102,1),\"\")","v":""},{"$f":"IF(AND(Registration!$E52=\"s\",COUNTBLANK(Q53)=0),placingpoints(Q53,COUNTIF(Q$3:Q$102,\"=\"&Q53)),\"\")","v":""},{"$f":"IF(Registration!$E52=\"S\",Endurance!C52,\"\")","v":""},{"$f":"IF(AND(Registration!$E52=\"S\",COUNTBLANK(S53)=0),RANK(S53,S$3:S$102,0),\"\")","v":""},{"$f":"IF(AND(Registration!$E52=\"s\",COUNTBLANK(T53)=0),placingpoints(T53,COUNTIF(T$3:T$102,\"=\"&T53)),\"\")","v":""}]
[{"$f":"IF(Registration!E53=\"S\",RANK(B54,$B$3:$B$102,1),\"\")","v":""},{"$f":"IF(Registration!E53=\"S\",SUM(F54,I54,L54,O54,R54,U54),\"\")","v":""},{"$f":"IF(COUNTBLANK(Registration!B53)=1,\"\",IF(Registration!E53=\"s\",Registration!B53,\"\"))","v":""},{"$f":"IF(Registration!E53=\"S\",'Aussie Round'!V54,\"\")","v":""},{"$f":"IF(AND(Registration!$E53=\"S\",COUNTBLANK(D54)=0),RANK(D54,D$3:D$102,0),\"\")","v":""},{"$f":"IF(AND(Registration!$E53=\"s\",COUNTBLANK(E54)=0),placingpoints(E54,COUNTIF(E$3:E$102,\"=\"&E54)),\"\")","v":""},{"$f":"IF(Registration!$E53=\"S\",Accuracy!L53,\"\")","v":""},{"$f":"IF(AND(Registration!$E53=\"S\",COUNTBLANK(G54)=0),RANK(G54,G$3:G$102,0),\"\")","v":""},{"$f":"IF(AND(Registration!$E53=\"s\",COUNTBLANK(H54)=0),placingpoints(H54,COUNTIF(H$3:H$102,\"=\"&H54)),\"\")","v":""},{"$f":"IF(Registration!$E53=\"S\",MTA!G53,\"\")","v":""},{"$f":"IF(AND(Registration!$E53=\"S\",COUNTBLANK(J54)=0),RANK(J54,J$3:J$102,0),\"\")","v":""},{"$f":"IF(AND(Registration!$E53=\"s\",COUNTBLANK(K54)=0),placingpoints(K54,COUNTIF(K$3:K$102,\"=\"&K54)),\"\")","v":""},{"$f":"IF(Registration!$E53=\"S\",'Trick Catch'!X54,\"\")","v":""},{"$f":"IF(AND(Registration!$E53=\"S\",COUNTBLANK(M54)=0),RANK(M54,M$3:M$102,0),\"\")","v":""},{"$f":"IF(AND(Registration!$E53=\"s\",COUNTBLANK(N54)=0),placingpoints(N54,COUNTIF(N$3:N$102,\"=\"&N54)),\"\")","v":""},{"$f":"IF(Registration!$E53=\"S\",'Fast Catch'!F53,\"\")","v":""},{"$f":"IF(AND(Registration!$E53=\"S\",COUNTBLANK(P54)=0),RANK(P54,P$3:P$102,1),\"\")","v":""},{"$f":"IF(AND(Registration!$E53=\"s\",COUNTBLANK(Q54)=0),placingpoints(Q54,COUNTIF(Q$3:Q$102,\"=\"&Q54)),\"\")","v":""},{"$f":"IF(Registration!$E53=\"S\",Endurance!C53,\"\")","v":""},{"$f":"IF(AND(Registration!$E53=\"S\",COUNTBLANK(S54)=0),RANK(S54,S$3:S$102,0),\"\")","v":""},{"$f":"IF(AND(Registration!$E53=\"s\",COUNTBLANK(T54)=0),placingpoints(T54,COUNTIF(T$3:T$102,\"=\"&T54)),\"\")","v":""}]
[{"$f":"IF(Registration!E54=\"S\",RANK(B55,$B$3:$B$102,1),\"\")","v":""},{"$f":"IF(Registration!E54=\"S\",SUM(F55,I55,L55,O55,R55,U55),\"\")","v":""},{"$f":"IF(COUNTBLANK(Registration!B54)=1,\"\",IF(Registration!E54=\"s\",Registration!B54,\"\"))","v":""},{"$f":"IF(Registration!E54=\"S\",'Aussie Round'!V55,\"\")","v":""},{"$f":"IF(AND(Registration!$E54=\"S\",COUNTBLANK(D55)=0),RANK(D55,D$3:D$102,0),\"\")","v":""},{"$f":"IF(AND(Registration!$E54=\"s\",COUNTBLANK(E55)=0),placingpoints(E55,COUNTIF(E$3:E$102,\"=\"&E55)),\"\")","v":""},{"$f":"IF(Registration!$E54=\"S\",Accuracy!L54,\"\")","v":""},{"$f":"IF(AND(Registration!$E54=\"S\",COUNTBLANK(G55)=0),RANK(G55,G$3:G$102,0),\"\")","v":""},{"$f":"IF(AND(Registration!$E54=\"s\",COUNTBLANK(H55)=0),placingpoints(H55,COUNTIF(H$3:H$102,\"=\"&H55)),\"\")","v":""},{"$f":"IF(Registration!$E54=\"S\",MTA!G54,\"\")","v":""},{"$f":"IF(AND(Registration!$E54=\"S\",COUNTBLANK(J55)=0),RANK(J55,J$3:J$102,0),\"\")","v":""},{"$f":"IF(AND(Registration!$E54=\"s\",COUNTBLANK(K55)=0),placingpoints(K55,COUNTIF(K$3:K$102,\"=\"&K55)),\"\")","v":""},{"$f":"IF(Registration!$E54=\"S\",'Trick Catch'!X55,\"\")","v":""},{"$f":"IF(AND(Registration!$E54=\"S\",COUNTBLANK(M55)=0),RANK(M55,M$3:M$102,0),\"\")","v":""},{"$f":"IF(AND(Registration!$E54=\"s\",COUNTBLANK(N55)=0),placingpoints(N55,COUNTIF(N$3:N$102,\"=\"&N55)),\"\")","v":""},{"$f":"IF(Registration!$E54=\"S\",'Fast Catch'!F54,\"\")","v":""},{"$f":"IF(AND(Registration!$E54=\"S\",COUNTBLANK(P55)=0),RANK(P55,P$3:P$102,1),\"\")","v":""},{"$f":"IF(AND(Registration!$E54=\"s\",COUNTBLANK(Q55)=0),placingpoints(Q55,COUNTIF(Q$3:Q$102,\"=\"&Q55)),\"\")","v":""},{"$f":"IF(Registration!$E54=\"S\",Endurance!C54,\"\")","v":""},{"$f":"IF(AND(Registration!$E54=\"S\",COUNTBLANK(S55)=0),RANK(S55,S$3:S$102,0),\"\")","v":""},{"$f":"IF(AND(Registration!$E54=\"s\",COUNTBLANK(T55)=0),placingpoints(T55,COUNTIF(T$3:T$102,\"=\"&T55)),\"\")","v":""}]
[{"$f":"IF(Registration!E55=\"S\",RANK(B56,$B$3:$B$102,1),\"\")","v":""},{"$f":"IF(Registration!E55=\"S\",SUM(F56,I56,L56,O56,R56,U56),\"\")","v":""},{"$f":"IF(COUNTBLANK(Registration!B55)=1,\"\",IF(Registration!E55=\"s\",Registration!B55,\"\"))","v":""},{"$f":"IF(Registration!E55=\"S\",'Aussie Round'!V56,\"\")","v":""},{"$f":"IF(AND(Registration!$E55=\"S\",COUNTBLANK(D56)=0),RANK(D56,D$3:D$102,0),\"\")","v":""},{"$f":"IF(AND(Registration!$E55=\"s\",COUNTBLANK(E56)=0),placingpoints(E56,COUNTIF(E$3:E$102,\"=\"&E56)),\"\")","v":""},{"$f":"IF(Registration!$E55=\"S\",Accuracy!L55,\"\")","v":""},{"$f":"IF(AND(Registration!$E55=\"S\",COUNTBLANK(G56)=0),RANK(G56,G$3:G$102,0),\"\")","v":""},{"$f":"IF(AND(Registration!$E55=\"s\",COUNTBLANK(H56)=0),placingpoints(H56,COUNTIF(H$3:H$102,\"=\"&H56)),\"\")","v":""},{"$f":"IF(Registration!$E55=\"S\",MTA!G55,\"\")","v":""},{"$f":"IF(AND(Registration!$E55=\"S\",COUNTBLANK(J56)=0),RANK(J56,J$3:J$102,0),\"\")","v":""},{"$f":"IF(AND(Registration!$E55=\"s\",COUNTBLANK(K56)=0),placingpoints(K56,COUNTIF(K$3:K$102,\"=\"&K56)),\"\")","v":""},{"$f":"IF(Registration!$E55=\"S\",'Trick Catch'!X56,\"\")","v":""},{"$f":"IF(AND(Registration!$E55=\"S\",COUNTBLANK(M56)=0),RANK(M56,M$3:M$102,0),\"\")","v":""},{"$f":"IF(AND(Registration!$E55=\"s\",COUNTBLANK(N56)=0),placingpoints(N56,COUNTIF(N$3:N$102,\"=\"&N56)),\"\")","v":""},{"$f":"IF(Registration!$E55=\"S\",'Fast Catch'!F55,\"\")","v":""},{"$f":"IF(AND(Registration!$E55=\"S\",COUNTBLANK(P56)=0),RANK(P56,P$3:P$102,1),\"\")","v":""},{"$f":"IF(AND(Registration!$E55=\"s\",COUNTBLANK(Q56)=0),placingpoints(Q56,COUNTIF(Q$3:Q$102,\"=\"&Q56)),\"\")","v":""},{"$f":"IF(Registration!$E55=\"S\",Endurance!C55,\"\")","v":""},{"$f":"IF(AND(Registration!$E55=\"S\",COUNTBLANK(S56)=0),RANK(S56,S$3:S$102,0),\"\")","v":""},{"$f":"IF(AND(Registration!$E55=\"s\",COUNTBLANK(T56)=0),placingpoints(T56,COUNTIF(T$3:T$102,\"=\"&T56)),\"\")","v":""}]
[{"$f":"IF(Registration!E56=\"S\",RANK(B57,$B$3:$B$102,1),\"\")","v":""},{"$f":"IF(Registration!E56=\"S\",SUM(F57,I57,L57,O57,R57,U57),\"\")","v":""},{"$f":"IF(COUNTBLANK(Registration!B56)=1,\"\",IF(Registration!E56=\"s\",Registration!B56,\"\"))","v":""},{"$f":"IF(Registration!E56=\"S\",'Aussie Round'!V57,\"\")","v":""},{"$f":"IF(AND(Registration!$E56=\"S\",COUNTBLANK(D57)=0),RANK(D57,D$3:D$102,0),\"\")","v":""},{"$f":"IF(AND(Registration!$E56=\"s\",COUNTBLANK(E57)=0),placingpoints(E57,COUNTIF(E$3:E$102,\"=\"&E57)),\"\")","v":""},{"$f":"IF(Registration!$E56=\"S\",Accuracy!L56,\"\")","v":""},{"$f":"IF(AND(Registration!$E56=\"S\",COUNTBLANK(G57)=0),RANK(G57,G$3:G$102,0),\"\")","v":""},{"$f":"IF(AND(Registration!$E56=\"s\",COUNTBLANK(H57)=0),placingpoints(H57,COUNTIF(H$3:H$102,\"=\"&H57)),\"\")","v":""},{"$f":"IF(Registration!$E56=\"S\",MTA!G56,\"\")","v":""},{"$f":"IF(AND(Registration!$E56=\"S\",COUNTBLANK(J57)=0),RANK(J57,J$3:J$102,0),\"\")","v":""},{"$f":"IF(AND(Registration!$E56=\"s\",COUNTBLANK(K57)=0),placingpoints(K57,COUNTIF(K$3:K$102,\"=\"&K57)),\"\")","v":""},{"$f":"IF(Registration!$E56=\"S\",'Trick Catch'!X57,\"\")","v":""},{"$f":"IF(AND(Registration!$E56=\"S\",COUNTBLANK(M57)=0),RANK(M57,M$3:M$102,0),\"\")","v":""},{"$f":"IF(AND(Registration!$E56=\"s\",COUNTBLANK(N57)=0),placingpoints(N57,COUNTIF(N$3:N$102,\"=\"&N57)),\"\")","v":""},{"$f":"IF(Registration!$E56=\"S\",'Fast Catch'!F56,\"\")","v":""},{"$f":"IF(AND(Registration!$E56=\"S\",COUNTBLANK(P57)=0),RANK(P57,P$3:P$102,1),\"\")","v":""},{"$f":"IF(AND(Registration!$E56=\"s\",COUNTBLANK(Q57)=0),placingpoints(Q57,COUNTIF(Q$3:Q$102,\"=\"&Q57)),\"\")","v":""},{"$f":"IF(Registration!$E56=\"S\",Endurance!C56,\"\")","v":""},{"$f":"IF(AND(Registration!$E56=\"S\",COUNTBLANK(S57)=0),RANK(S57,S$3:S$102,0),\"\")","v":""},{"$f":"IF(AND(Registration!$E56=\"s\",COUNTBLANK(T57)=0),placingpoints(T57,COUNTIF(T$3:T$102,\"=\"&T57)),\"\")","v":""}]
[{"$f":"IF(Registration!E57=\"S\",RANK(B58,$B$3:$B$102,1),\"\")","v":""},{"$f":"IF(Registration!E57=\"S\",SUM(F58,I58,L58,O58,R58,U58),\"\")","v":""},{"$f":"IF(COUNTBLANK(Registration!B57)=1,\"\",IF(Registration!E57=\"s\",Registration!B57,\"\"))","v":""},{"$f":"IF(Registration!E57=\"S\",'Aussie Round'!V58,\"\")","v":""},{"$f":"IF(AND(Registration!$E57=\"S\",COUNTBLANK(D58)=0),RANK(D58,D$3:D$102,0),\"\")","v":""},{"$f":"IF(AND(Registration!$E57=\"s\",COUNTBLANK(E58)=0),placingpoints(E58,COUNTIF(E$3:E$102,\"=\"&E58)),\"\")","v":""},{"$f":"IF(Registration!$E57=\"S\",Accuracy!L57,\"\")","v":""},{"$f":"IF(AND(Registration!$E57=\"S\",COUNTBLANK(G58)=0),RANK(G58,G$3:G$102,0),\"\")","v":""},{"$f":"IF(AND(Registration!$E57=\"s\",COUNTBLANK(H58)=0),placingpoints(H58,COUNTIF(H$3:H$102,\"=\"&H58)),\"\")","v":""},{"$f":"IF(Registration!$E57=\"S\",MTA!G57,\"\")","v":""},{"$f":"IF(AND(Registration!$E57=\"S\",COUNTBLANK(J58)=0),RANK(J58,J$3:J$102,0),\"\")","v":""},{"$f":"IF(AND(Registration!$E57=\"s\",COUNTBLANK(K58)=0),placingpoints(K58,COUNTIF(K$3:K$102,\"=\"&K58)),\"\")","v":""},{"$f":"IF(Registration!$E57=\"S\",'Trick Catch'!X58,\"\")","v":""},{"$f":"IF(AND(Registration!$E57=\"S\",COUNTBLANK(M58)=0),RANK(M58,M$3:M$102,0),\"\")","v":""},{"$f":"IF(AND(Registration!$E57=\"s\",COUNTBLANK(N58)=0),placingpoints(N58,COUNTIF(N$3:N$102,\"=\"&N58)),\"\")","v":""},{"$f":"IF(Registration!$E57=\"S\",'Fast Catch'!F57,\"\")","v":""},{"$f":"IF(AND(Registration!$E57=\"S\",COUNTBLANK(P58)=0),RANK(P58,P$3:P$102,1),\"\")","v":""},{"$f":"IF(AND(Registration!$E57=\"s\",COUNTBLANK(Q58)=0),placingpoints(Q58,COUNTIF(Q$3:Q$102,\"=\"&Q58)),\"\")","v":""},{"$f":"IF(Registration!$E57=\"S\",Endurance!C57,\"\")","v":""},{"$f":"IF(AND(Registration!$E57=\"S\",COUNTBLANK(S58)=0),RANK(S58,S$3:S$102,0),\"\")","v":""},{"$f":"IF(AND(Registration!$E57=\"s\",COUNTBLANK(T58)=0),placingpoints(T58,COUNTIF(T$3:T$102,\"=\"&T58)),\"\")","v":""}]
[{"$f":"IF(Registration!E58=\"S\",RANK(B59,$B$3:$B$102,1),\"\")","v":""},{"$f":"IF(Registration!E58=\"S\",SUM(F59,I59,L59,O59,R59,U59),\"\")","v":""},{"$f":"IF(COUNTBLANK(Registration!B58)=1,\"\",IF(Registration!E58=\"s\",Registration!B58,\"\"))","v":""},{"$f":"IF(Registration!E58=\"S\",'Aussie Round'!V59,\"\")","v":""},{"$f":"IF(AND(Registration!$E58=\"S\",COUNTBLANK(D59)=0),RANK(D59,D$3:D$102,0),\"\")","v":""},{"$f":"IF(AND(Registration!$E58=\"s\",COUNTBLANK(E59)=0),placingpoints(E59,COUNTIF(E$3:E$102,\"=\"&E59)),\"\")","v":""},{"$f":"IF(Registration!$E58=\"S\",Accuracy!L58,\"\")","v":""},{"$f":"IF(AND(Registration!$E58=\"S\",COUNTBLANK(G59)=0),RANK(G59,G$3:G$102,0),\"\")","v":""},{"$f":"IF(AND(Registration!$E58=\"s\",COUNTBLANK(H59)=0),placingpoints(H59,COUNTIF(H$3:H$102,\"=\"&H59)),\"\")","v":""},{"$f":"IF(Registration!$E58=\"S\",MTA!G58,\"\")","v":""},{"$f":"IF(AND(Registration!$E58=\"S\",COUNTBLANK(J59)=0),RANK(J59,J$3:J$102,0),\"\")","v":""},{"$f":"IF(AND(Registration!$E58=\"s\",COUNTBLANK(K59)=0),placingpoints(K59,COUNTIF(K$3:K$102,\"=\"&K59)),\"\")","v":""},{"$f":"IF(Registration!$E58=\"S\",'Trick Catch'!X59,\"\")","v":""},{"$f":"IF(AND(Registration!$E58=\"S\",COUNTBLANK(M59)=0),RANK(M59,M$3:M$102,0),\"\")","v":""},{"$f":"IF(AND(Registration!$E58=\"s\",COUNTBLANK(N59)=0),placingpoints(N59,COUNTIF(N$3:N$102,\"=\"&N59)),\"\")","v":""},{"$f":"IF(Registration!$E58=\"S\",'Fast Catch'!F58,\"\")","v":""},{"$f":"IF(AND(Registration!$E58=\"S\",COUNTBLANK(P59)=0),RANK(P59,P$3:P$102,1),\"\")","v":""},{"$f":"IF(AND(Registration!$E58=\"s\",COUNTBLANK(Q59)=0),placingpoints(Q59,COUNTIF(Q$3:Q$102,\"=\"&Q59)),\"\")","v":""},{"$f":"IF(Registration!$E58=\"S\",Endurance!C58,\"\")","v":""},{"$f":"IF(AND(Registration!$E58=\"S\",COUNTBLANK(S59)=0),RANK(S59,S$3:S$102,0),\"\")","v":""},{"$f":"IF(AND(Registration!$E58=\"s\",COUNTBLANK(T59)=0),placingpoints(T59,COUNTIF(T$3:T$102,\"=\"&T59)),\"\")","v":""}]
[{"$f":"IF(Registration!E59=\"S\",RANK(B60,$B$3:$B$102,1),\"\")","v":""},{"$f":"IF(Registration!E59=\"S\",SUM(F60,I60,L60,O60,R60,U60),\"\")","v":""},{"$f":"IF(COUNTBLANK(Registration!B59)=1,\"\",IF(Registration!E59=\"s\",Registration!B59,\"\"))","v":""},{"$f":"IF(Registration!E59=\"S\",'Aussie Round'!V60,\"\")","v":""},{"$f":"IF(AND(Registration!$E59=\"S\",COUNTBLANK(D60)=0),RANK(D60,D$3:D$102,0),\"\")","v":""},{"$f":"IF(AND(Registration!$E59=\"s\",COUNTBLANK(E60)=0),placingpoints(E60,COUNTIF(E$3:E$102,\"=\"&E60)),\"\")","v":""},{"$f":"IF(Registration!$E59=\"S\",Accuracy!L59,\"\")","v":""},{"$f":"IF(AND(Registration!$E59=\"S\",COUNTBLANK(G60)=0),RANK(G60,G$3:G$102,0),\"\")","v":""},{"$f":"IF(AND(Registration!$E59=\"s\",COUNTBLANK(H60)=0),placingpoints(H60,COUNTIF(H$3:H$102,\"=\"&H60)),\"\")","v":""},{"$f":"IF(Registration!$E59=\"S\",MTA!G59,\"\")","v":""},{"$f":"IF(AND(Registration!$E59=\"S\",COUNTBLANK(J60)=0),RANK(J60,J$3:J$102,0),\"\")","v":""},{"$f":"IF(AND(Registration!$E59=\"s\",COUNTBLANK(K60)=0),placingpoints(K60,COUNTIF(K$3:K$102,\"=\"&K60)),\"\")","v":""},{"$f":"IF(Registration!$E59=\"S\",'Trick Catch'!X60,\"\")","v":""},{"$f":"IF(AND(Registration!$E59=\"S\",COUNTBLANK(M60)=0),RANK(M60,M$3:M$102,0),\"\")","v":""},{"$f":"IF(AND(Registration!$E59=\"s\",COUNTBLANK(N60)=0),placingpoints(N60,COUNTIF(N$3:N$102,\"=\"&N60)),\"\")","v":""},{"$f":"IF(Registration!$E59=\"S\",'Fast Catch'!F59,\"\")","v":""},{"$f":"IF(AND(Registration!$E59=\"S\",COUNTBLANK(P60)=0),RANK(P60,P$3:P$102,1),\"\")","v":""},{"$f":"IF(AND(Registration!$E59=\"s\",COUNTBLANK(Q60)=0),placingpoints(Q60,COUNTIF(Q$3:Q$102,\"=\"&Q60)),\"\")","v":""},{"$f":"IF(Registration!$E59=\"S\",Endurance!C59,\"\")","v":""},{"$f":"IF(AND(Registration!$E59=\"S\",COUNTBLANK(S60)=0),RANK(S60,S$3:S$102,0),\"\")","v":""},{"$f":"IF(AND(Registration!$E59=\"s\",COUNTBLANK(T60)=0),placingpoints(T60,COUNTIF(T$3:T$102,\"=\"&T60)),\"\")","v":""}]
[{"$f":"IF(Registration!E60=\"S\",RANK(B61,$B$3:$B$102,1),\"\")","v":""},{"$f":"IF(Registration!E60=\"S\",SUM(F61,I61,L61,O61,R61,U61),\"\")","v":""},{"$f":"IF(COUNTBLANK(Registration!B60)=1,\"\",IF(Registration!E60=\"s\",Registration!B60,\"\"))","v":""},{"$f":"IF(Registration!E60=\"S\",'Aussie Round'!V61,\"\")","v":""},{"$f":"IF(AND(Registration!$E60=\"S\",COUNTBLANK(D61)=0),RANK(D61,D$3:D$102,0),\"\")","v":""},{"$f":"IF(AND(Registration!$E60=\"s\",COUNTBLANK(E61)=0),placingpoints(E61,COUNTIF(E$3:E$102,\"=\"&E61)),\"\")","v":""},{"$f":"IF(Registration!$E60=\"S\",Accuracy!L60,\"\")","v":""},{"$f":"IF(AND(Registration!$E60=\"S\",COUNTBLANK(G61)=0),RANK(G61,G$3:G$102,0),\"\")","v":""},{"$f":"IF(AND(Registration!$E60=\"s\",COUNTBLANK(H61)=0),placingpoints(H61,COUNTIF(H$3:H$102,\"=\"&H61)),\"\")","v":""},{"$f":"IF(Registration!$E60=\"S\",MTA!G60,\"\")","v":""},{"$f":"IF(AND(Registration!$E60=\"S\",COUNTBLANK(J61)=0),RANK(J61,J$3:J$102,0),\"\")","v":""},{"$f":"IF(AND(Registration!$E60=\"s\",COUNTBLANK(K61)=0),placingpoints(K61,COUNTIF(K$3:K$102,\"=\"&K61)),\"\")","v":""},{"$f":"IF(Registration!$E60=\"S\",'Trick Catch'!X61,\"\")","v":""},{"$f":"IF(AND(Registration!$E60=\"S\",COUNTBLANK(M61)=0),RANK(M61,M$3:M$102,0),\"\")","v":""},{"$f":"IF(AND(Registration!$E60=\"s\",COUNTBLANK(N61)=0),placingpoints(N61,COUNTIF(N$3:N$102,\"=\"&N61)),\"\")","v":""},{"$f":"IF(Registration!$E60=\"S\",'Fast Catch'!F60,\"\")","v":""},{"$f":"IF(AND(Registration!$E60=\"S\",COUNTBLANK(P61)=0),RANK(P61,P$3:P$102,1),\"\")","v":""},{"$f":"IF(AND(Registration!$E60=\"s\",COUNTBLANK(Q61)=0),placingpoints(Q61,COUNTIF(Q$3:Q$102,\"=\"&Q61)),\"\")","v":""},{"$f":"IF(Registration!$E60=\"S\",Endurance!C60,\"\")","v":""},{"$f":"IF(AND(Registration!$E60=\"S\",COUNTBLANK(S61)=0),RANK(S61,S$3:S$102,0),\"\")","v":""},{"$f":"IF(AND(Registration!$E60=\"s\",COUNTBLANK(T61)=0),placingpoints(T61,COUNTIF(T$3:T$102,\"=\"&T61)),\"\")","v":""}]
[{"$f":"IF(Registration!E61=\"S\",RANK(B62,$B$3:$B$102,1),\"\")","v":""},{"$f":"IF(Registration!E61=\"S\",SUM(F62,I62,L62,O62,R62,U62),\"\")","v":""},{"$f":"IF(COUNTBLANK(Registration!B61)=1,\"\",IF(Registration!E61=\"s\",Registration!B61,\"\"))","v":""},{"$f":"IF(Registration!E61=\"S\",'Aussie Round'!V62,\"\")","v":""},{"$f":"IF(AND(Registration!$E61=\"S\",COUNTBLANK(D62)=0),RANK(D62,D$3:D$102,0),\"\")","v":""},{"$f":"IF(AND(Registration!$E61=\"s\",COUNTBLANK(E62)=0),placingpoints(E62,COUNTIF(E$3:E$102,\"=\"&E62)),\"\")","v":""},{"$f":"IF(Registration!$E61=\"S\",Accuracy!L61,\"\")","v":""},{"$f":"IF(AND(Registration!$E61=\"S\",COUNTBLANK(G62)=0),RANK(G62,G$3:G$102,0),\"\")","v":""},{"$f":"IF(AND(Registration!$E61=\"s\",COUNTBLANK(H62)=0),placingpoints(H62,COUNTIF(H$3:H$102,\"=\"&H62)),\"\")","v":""},{"$f":"IF(Registration!$E61=\"S\",MTA!G61,\"\")","v":""},{"$f":"IF(AND(Registration!$E61=\"S\",COUNTBLANK(J62)=0),RANK(J62,J$3:J$102,0),\"\")","v":""},{"$f":"IF(AND(Registration!$E61=\"s\",COUNTBLANK(K62)=0),placingpoints(K62,COUNTIF(K$3:K$102,\"=\"&K62)),\"\")","v":""},{"$f":"IF(Registration!$E61=\"S\",'Trick Catch'!X62,\"\")","v":""},{"$f":"IF(AND(Registration!$E61=\"S\",COUNTBLANK(M62)=0),RANK(M62,M$3:M$102,0),\"\")","v":""},{"$f":"IF(AND(Registration!$E61=\"s\",COUNTBLANK(N62)=0),placingpoints(N62,COUNTIF(N$3:N$102,\"=\"&N62)),\"\")","v":""},{"$f":"IF(Registration!$E61=\"S\",'Fast Catch'!F61,\"\")","v":""},{"$f":"IF(AND(Registration!$E61=\"S\",COUNTBLANK(P62)=0),RANK(P62,P$3:P$102,1),\"\")","v":""},{"$f":"IF(AND(Registration!$E61=\"s\",COUNTBLANK(Q62)=0),placingpoints(Q62,COUNTIF(Q$3:Q$102,\"=\"&Q62)),\"\")","v":""},{"$f":"IF(Registration!$E61=\"S\",Endurance!C61,\"\")","v":""},{"$f":"IF(AND(Registration!$E61=\"S\",COUNTBLANK(S62)=0),RANK(S62,S$3:S$102,0),\"\")","v":""},{"$f":"IF(AND(Registration!$E61=\"s\",COUNTBLANK(T62)=0),placingpoints(T62,COUNTIF(T$3:T$102,\"=\"&T62)),\"\")","v":""}]
[{"$f":"IF(Registration!E62=\"S\",RANK(B63,$B$3:$B$102,1),\"\")","v":""},{"$f":"IF(Registration!E62=\"S\",SUM(F63,I63,L63,O63,R63,U63),\"\")","v":""},{"$f":"IF(COUNTBLANK(Registration!B62)=1,\"\",IF(Registration!E62=\"s\",Registration!B62,\"\"))","v":""},{"$f":"IF(Registration!E62=\"S\",'Aussie Round'!V63,\"\")","v":""},{"$f":"IF(AND(Registration!$E62=\"S\",COUNTBLANK(D63)=0),RANK(D63,D$3:D$102,0),\"\")","v":""},{"$f":"IF(AND(Registration!$E62=\"s\",COUNTBLANK(E63)=0),placingpoints(E63,COUNTIF(E$3:E$102,\"=\"&E63)),\"\")","v":""},{"$f":"IF(Registration!$E62=\"S\",Accuracy!L62,\"\")","v":""},{"$f":"IF(AND(Registration!$E62=\"S\",COUNTBLANK(G63)=0),RANK(G63,G$3:G$102,0),\"\")","v":""},{"$f":"IF(AND(Registration!$E62=\"s\",COUNTBLANK(H63)=0),placingpoints(H63,COUNTIF(H$3:H$102,\"=\"&H63)),\"\")","v":""},{"$f":"IF(Registration!$E62=\"S\",MTA!G62,\"\")","v":""},{"$f":"IF(AND(Registration!$E62=\"S\",COUNTBLANK(J63)=0),RANK(J63,J$3:J$102,0),\"\")","v":""},{"$f":"IF(AND(Registration!$E62=\"s\",COUNTBLANK(K63)=0),placingpoints(K63,COUNTIF(K$3:K$102,\"=\"&K63)),\"\")","v":""},{"$f":"IF(Registration!$E62=\"S\",'Trick Catch'!X63,\"\")","v":""},{"$f":"IF(AND(Registration!$E62=\"S\",COUNTBLANK(M63)=0),RANK(M63,M$3:M$102,0),\"\")","v":""},{"$f":"IF(AND(Registration!$E62=\"s\",COUNTBLANK(N63)=0),placingpoints(N63,COUNTIF(N$3:N$102,\"=\"&N63)),\"\")","v":""},{"$f":"IF(Registration!$E62=\"S\",'Fast Catch'!F62,\"\")","v":""},{"$f":"IF(AND(Registration!$E62=\"S\",COUNTBLANK(P63)=0),RANK(P63,P$3:P$102,1),\"\")","v":""},{"$f":"IF(AND(Registration!$E62=\"s\",COUNTBLANK(Q63)=0),placingpoints(Q63,COUNTIF(Q$3:Q$102,\"=\"&Q63)),\"\")","v":""},{"$f":"IF(Registration!$E62=\"S\",Endurance!C62,\"\")","v":""},{"$f":"IF(AND(Registration!$E62=\"S\",COUNTBLANK(S63)=0),RANK(S63,S$3:S$102,0),\"\")","v":""},{"$f":"IF(AND(Registration!$E62=\"s\",COUNTBLANK(T63)=0),placingpoints(T63,COUNTIF(T$3:T$102,\"=\"&T63)),\"\")","v":""}]
[{"$f":"IF(Registration!E63=\"S\",RANK(B64,$B$3:$B$102,1),\"\")","v":""},{"$f":"IF(Registration!E63=\"S\",SUM(F64,I64,L64,O64,R64,U64),\"\")","v":""},{"$f":"IF(COUNTBLANK(Registration!B63)=1,\"\",IF(Registration!E63=\"s\",Registration!B63,\"\"))","v":""},{"$f":"IF(Registration!E63=\"S\",'Aussie Round'!V64,\"\")","v":""},{"$f":"IF(AND(Registration!$E63=\"S\",COUNTBLANK(D64)=0),RANK(D64,D$3:D$102,0),\"\")","v":""},{"$f":"IF(AND(Registration!$E63=\"s\",COUNTBLANK(E64)=0),placingpoints(E64,COUNTIF(E$3:E$102,\"=\"&E64)),\"\")","v":""},{"$f":"IF(Registration!$E63=\"S\",Accuracy!L63,\"\")","v":""},{"$f":"IF(AND(Registration!$E63=\"S\",COUNTBLANK(G64)=0),RANK(G64,G$3:G$102,0),\"\")","v":""},{"$f":"IF(AND(Registration!$E63=\"s\",COUNTBLANK(H64)=0),placingpoints(H64,COUNTIF(H$3:H$102,\"=\"&H64)),\"\")","v":""},{"$f":"IF(Registration!$E63=\"S\",MTA!G63,\"\")","v":""},{"$f":"IF(AND(Registration!$E63=\"S\",COUNTBLANK(J64)=0),RANK(J64,J$3:J$102,0),\"\")","v":""},{"$f":"IF(AND(Registration!$E63=\"s\",COUNTBLANK(K64)=0),placingpoints(K64,COUNTIF(K$3:K$102,\"=\"&K64)),\"\")","v":""},{"$f":"IF(Registration!$E63=\"S\",'Trick Catch'!X64,\"\")","v":""},{"$f":"IF(AND(Registration!$E63=\"S\",COUNTBLANK(M64)=0),RANK(M64,M$3:M$102,0),\"\")","v":""},{"$f":"IF(AND(Registration!$E63=\"s\",COUNTBLANK(N64)=0),placingpoints(N64,COUNTIF(N$3:N$102,\"=\"&N64)),\"\")","v":""},{"$f":"IF(Registration!$E63=\"S\",'Fast Catch'!F63,\"\")","v":""},{"$f":"IF(AND(Registration!$E63=\"S\",COUNTBLANK(P64)=0),RANK(P64,P$3:P$102,1),\"\")","v":""},{"$f":"IF(AND(Registration!$E63=\"s\",COUNTBLANK(Q64)=0),placingpoints(Q64,COUNTIF(Q$3:Q$102,\"=\"&Q64)),\"\")","v":""},{"$f":"IF(Registration!$E63=\"S\",Endurance!C63,\"\")","v":""},{"$f":"IF(AND(Registration!$E63=\"S\",COUNTBLANK(S64)=0),RANK(S64,S$3:S$102,0),\"\")","v":""},{"$f":"IF(AND(Registration!$E63=\"s\",COUNTBLANK(T64)=0),placingpoints(T64,COUNTIF(T$3:T$102,\"=\"&T64)),\"\")","v":""}]
[{"$f":"IF(Registration!E64=\"S\",RANK(B65,$B$3:$B$102,1),\"\")","v":""},{"$f":"IF(Registration!E64=\"S\",SUM(F65,I65,L65,O65,R65,U65),\"\")","v":""},{"$f":"IF(COUNTBLANK(Registration!B64)=1,\"\",IF(Registration!E64=\"s\",Registration!B64,\"\"))","v":""},{"$f":"IF(Registration!E64=\"S\",'Aussie Round'!V65,\"\")","v":""},{"$f":"IF(AND(Registration!$E64=\"S\",COUNTBLANK(D65)=0),RANK(D65,D$3:D$102,0),\"\")","v":""},{"$f":"IF(AND(Registration!$E64=\"s\",COUNTBLANK(E65)=0),placingpoints(E65,COUNTIF(E$3:E$102,\"=\"&E65)),\"\")","v":""},{"$f":"IF(Registration!$E64=\"S\",Accuracy!L64,\"\")","v":""},{"$f":"IF(AND(Registration!$E64=\"S\",COUNTBLANK(G65)=0),RANK(G65,G$3:G$102,0),\"\")","v":""},{"$f":"IF(AND(Registration!$E64=\"s\",COUNTBLANK(H65)=0),placingpoints(H65,COUNTIF(H$3:H$102,\"=\"&H65)),\"\")","v":""},{"$f":"IF(Registration!$E64=\"S\",MTA!G64,\"\")","v":""},{"$f":"IF(AND(Registration!$E64=\"S\",COUNTBLANK(J65)=0),RANK(J65,J$3:J$102,0),\"\")","v":""},{"$f":"IF(AND(Registration!$E64=\"s\",COUNTBLANK(K65)=0),placingpoints(K65,COUNTIF(K$3:K$102,\"=\"&K65)),\"\")","v":""},{"$f":"IF(Registration!$E64=\"S\",'Trick Catch'!X65,\"\")","v":""},{"$f":"IF(AND(Registration!$E64=\"S\",COUNTBLANK(M65)=0),RANK(M65,M$3:M$102,0),\"\")","v":""},{"$f":"IF(AND(Registration!$E64=\"s\",COUNTBLANK(N65)=0),placingpoints(N65,COUNTIF(N$3:N$102,\"=\"&N65)),\"\")","v":""},{"$f":"IF(Registration!$E64=\"S\",'Fast Catch'!F64,\"\")","v":""},{"$f":"IF(AND(Registration!$E64=\"S\",COUNTBLANK(P65)=0),RANK(P65,P$3:P$102,1),\"\")","v":""},{"$f":"IF(AND(Registration!$E64=\"s\",COUNTBLANK(Q65)=0),placingpoints(Q65,COUNTIF(Q$3:Q$102,\"=\"&Q65)),\"\")","v":""},{"$f":"IF(Registration!$E64=\"S\",Endurance!C64,\"\")","v":""},{"$f":"IF(AND(Registration!$E64=\"S\",COUNTBLANK(S65)=0),RANK(S65,S$3:S$102,0),\"\")","v":""},{"$f":"IF(AND(Registration!$E64=\"s\",COUNTBLANK(T65)=0),placingpoints(T65,COUNTIF(T$3:T$102,\"=\"&T65)),\"\")","v":""}]
[{"$f":"IF(Registration!E65=\"S\",RANK(B66,$B$3:$B$102,1),\"\")","v":""},{"$f":"IF(Registration!E65=\"S\",SUM(F66,I66,L66,O66,R66,U66),\"\")","v":""},{"$f":"IF(COUNTBLANK(Registration!B65)=1,\"\",IF(Registration!E65=\"s\",Registration!B65,\"\"))","v":""},{"$f":"IF(Registration!E65=\"S\",'Aussie Round'!V66,\"\")","v":""},{"$f":"IF(AND(Registration!$E65=\"S\",COUNTBLANK(D66)=0),RANK(D66,D$3:D$102,0),\"\")","v":""},{"$f":"IF(AND(Registration!$E65=\"s\",COUNTBLANK(E66)=0),placingpoints(E66,COUNTIF(E$3:E$102,\"=\"&E66)),\"\")","v":""},{"$f":"IF(Registration!$E65=\"S\",Accuracy!L65,\"\")","v":""},{"$f":"IF(AND(Registration!$E65=\"S\",COUNTBLANK(G66)=0),RANK(G66,G$3:G$102,0),\"\")","v":""},{"$f":"IF(AND(Registration!$E65=\"s\",COUNTBLANK(H66)=0),placingpoints(H66,COUNTIF(H$3:H$102,\"=\"&H66)),\"\")","v":""},{"$f":"IF(Registration!$E65=\"S\",MTA!G65,\"\")","v":""},{"$f":"IF(AND(Registration!$E65=\"S\",COUNTBLANK(J66)=0),RANK(J66,J$3:J$102,0),\"\")","v":""},{"$f":"IF(AND(Registration!$E65=\"s\",COUNTBLANK(K66)=0),placingpoints(K66,COUNTIF(K$3:K$102,\"=\"&K66)),\"\")","v":""},{"$f":"IF(Registration!$E65=\"S\",'Trick Catch'!X66,\"\")","v":""},{"$f":"IF(AND(Registration!$E65=\"S\",COUNTBLANK(M66)=0),RANK(M66,M$3:M$102,0),\"\")","v":""},{"$f":"IF(AND(Registration!$E65=\"s\",COUNTBLANK(N66)=0),placingpoints(N66,COUNTIF(N$3:N$102,\"=\"&N66)),\"\")","v":""},{"$f":"IF(Registration!$E65=\"S\",'Fast Catch'!F65,\"\")","v":""},{"$f":"IF(AND(Registration!$E65=\"S\",COUNTBLANK(P66)=0),RANK(P66,P$3:P$102,1),\"\")","v":""},{"$f":"IF(AND(Registration!$E65=\"s\",COUNTBLANK(Q66)=0),placingpoints(Q66,COUNTIF(Q$3:Q$102,\"=\"&Q66)),\"\")","v":""},{"$f":"IF(Registration!$E65=\"S\",Endurance!C65,\"\")","v":""},{"$f":"IF(AND(Registration!$E65=\"S\",COUNTBLANK(S66)=0),RANK(S66,S$3:S$102,0),\"\")","v":""},{"$f":"IF(AND(Registration!$E65=\"s\",COUNTBLANK(T66)=0),placingpoints(T66,COUNTIF(T$3:T$102,\"=\"&T66)),\"\")","v":""}]
[{"$f":"IF(Registration!E66=\"S\",RANK(B67,$B$3:$B$102,1),\"\")","v":""},{"$f":"IF(Registration!E66=\"S\",SUM(F67,I67,L67,O67,R67,U67),\"\")","v":""},{"$f":"IF(COUNTBLANK(Registration!B66)=1,\"\",IF(Registration!E66=\"s\",Registration!B66,\"\"))","v":""},{"$f":"IF(Registration!E66=\"S\",'Aussie Round'!V67,\"\")","v":""},{"$f":"IF(AND(Registration!$E66=\"S\",COUNTBLANK(D67)=0),RANK(D67,D$3:D$102,0),\"\")","v":""},{"$f":"IF(AND(Registration!$E66=\"s\",COUNTBLANK(E67)=0),placingpoints(E67,COUNTIF(E$3:E$102,\"=\"&E67)),\"\")","v":""},{"$f":"IF(Registration!$E66=\"S\",Accuracy!L66,\"\")","v":""},{"$f":"IF(AND(Registration!$E66=\"S\",COUNTBLANK(G67)=0),RANK(G67,G$3:G$102,0),\"\")","v":""},{"$f":"IF(AND(Registration!$E66=\"s\",COUNTBLANK(H67)=0),placingpoints(H67,COUNTIF(H$3:H$102,\"=\"&H67)),\"\")","v":""},{"$f":"IF(Registration!$E66=\"S\",MTA!G66,\"\")","v":""},{"$f":"IF(AND(Registration!$E66=\"S\",COUNTBLANK(J67)=0),RANK(J67,J$3:J$102,0),\"\")","v":""},{"$f":"IF(AND(Registration!$E66=\"s\",COUNTBLANK(K67)=0),placingpoints(K67,COUNTIF(K$3:K$102,\"=\"&K67)),\"\")","v":""},{"$f":"IF(Registration!$E66=\"S\",'Trick Catch'!X67,\"\")","v":""},{"$f":"IF(AND(Registration!$E66=\"S\",COUNTBLANK(M67)=0),RANK(M67,M$3:M$102,0),\"\")","v":""},{"$f":"IF(AND(Registration!$E66=\"s\",COUNTBLANK(N67)=0),placingpoints(N67,COUNTIF(N$3:N$102,\"=\"&N67)),\"\")","v":""},{"$f":"IF(Registration!$E66=\"S\",'Fast Catch'!F66,\"\")","v":""},{"$f":"IF(AND(Registration!$E66=\"S\",COUNTBLANK(P67)=0),RANK(P67,P$3:P$102,1),\"\")","v":""},{"$f":"IF(AND(Registration!$E66=\"s\",COUNTBLANK(Q67)=0),placingpoints(Q67,COUNTIF(Q$3:Q$102,\"=\"&Q67)),\"\")","v":""},{"$f":"IF(Registration!$E66=\"S\",Endurance!C66,\"\")","v":""},{"$f":"IF(AND(Registration!$E66=\"S\",COUNTBLANK(S67)=0),RANK(S67,S$3:S$102,0),\"\")","v":""},{"$f":"IF(AND(Registration!$E66=\"s\",COUNTBLANK(T67)=0),placingpoints(T67,COUNTIF(T$3:T$102,\"=\"&T67)),\"\")","v":""}]
[{"$f":"IF(Registration!E67=\"S\",RANK(B68,$B$3:$B$102,1),\"\")","v":""},{"$f":"IF(Registration!E67=\"S\",SUM(F68,I68,L68,O68,R68,U68),\"\")","v":""},{"$f":"IF(COUNTBLANK(Registration!B67)=1,\"\",IF(Registration!E67=\"s\",Registration!B67,\"\"))","v":""},{"$f":"IF(Registration!E67=\"S\",'Aussie Round'!V68,\"\")","v":""},{"$f":"IF(AND(Registration!$E67=\"S\",COUNTBLANK(D68)=0),RANK(D68,D$3:D$102,0),\"\")","v":""},{"$f":"IF(AND(Registration!$E67=\"s\",COUNTBLANK(E68)=0),placingpoints(E68,COUNTIF(E$3:E$102,\"=\"&E68)),\"\")","v":""},{"$f":"IF(Registration!$E67=\"S\",Accuracy!L67,\"\")","v":""},{"$f":"IF(AND(Registration!$E67=\"S\",COUNTBLANK(G68)=0),RANK(G68,G$3:G$102,0),\"\")","v":""},{"$f":"IF(AND(Registration!$E67=\"s\",COUNTBLANK(H68)=0),placingpoints(H68,COUNTIF(H$3:H$102,\"=\"&H68)),\"\")","v":""},{"$f":"IF(Registration!$E67=\"S\",MTA!G67,\"\")","v":""},{"$f":"IF(AND(Registration!$E67=\"S\",COUNTBLANK(J68)=0),RANK(J68,J$3:J$102,0),\"\")","v":""},{"$f":"IF(AND(Registration!$E67=\"s\",COUNTBLANK(K68)=0),placingpoints(K68,COUNTIF(K$3:K$102,\"=\"&K68)),\"\")","v":""},{"$f":"IF(Registration!$E67=\"S\",'Trick Catch'!X68,\"\")","v":""},{"$f":"IF(AND(Registration!$E67=\"S\",COUNTBLANK(M68)=0),RANK(M68,M$3:M$102,0),\"\")","v":""},{"$f":"IF(AND(Registration!$E67=\"s\",COUNTBLANK(N68)=0),placingpoints(N68,COUNTIF(N$3:N$102,\"=\"&N68)),\"\")","v":""},{"$f":"IF(Registration!$E67=\"S\",'Fast Catch'!F67,\"\")","v":""},{"$f":"IF(AND(Registration!$E67=\"S\",COUNTBLANK(P68)=0),RANK(P68,P$3:P$102,1),\"\")","v":""},{"$f":"IF(AND(Registration!$E67=\"s\",COUNTBLANK(Q68)=0),placingpoints(Q68,COUNTIF(Q$3:Q$102,\"=\"&Q68)),\"\")","v":""},{"$f":"IF(Registration!$E67=\"S\",Endurance!C67,\"\")","v":""},{"$f":"IF(AND(Registration!$E67=\"S\",COUNTBLANK(S68)=0),RANK(S68,S$3:S$102,0),\"\")","v":""},{"$f":"IF(AND(Registration!$E67=\"s\",COUNTBLANK(T68)=0),placingpoints(T68,COUNTIF(T$3:T$102,\"=\"&T68)),\"\")","v":""}]
[{"$f":"IF(Registration!E68=\"S\",RANK(B69,$B$3:$B$102,1),\"\")","v":""},{"$f":"IF(Registration!E68=\"S\",SUM(F69,I69,L69,O69,R69,U69),\"\")","v":""},{"$f":"IF(COUNTBLANK(Registration!B68)=1,\"\",IF(Registration!E68=\"s\",Registration!B68,\"\"))","v":""},{"$f":"IF(Registration!E68=\"S\",'Aussie Round'!V69,\"\")","v":""},{"$f":"IF(AND(Registration!$E68=\"S\",COUNTBLANK(D69)=0),RANK(D69,D$3:D$102,0),\"\")","v":""},{"$f":"IF(AND(Registration!$E68=\"s\",COUNTBLANK(E69)=0),placingpoints(E69,COUNTIF(E$3:E$102,\"=\"&E69)),\"\")","v":""},{"$f":"IF(Registration!$E68=\"S\",Accuracy!L68,\"\")","v":""},{"$f":"IF(AND(Registration!$E68=\"S\",COUNTBLANK(G69)=0),RANK(G69,G$3:G$102,0),\"\")","v":""},{"$f":"IF(AND(Registration!$E68=\"s\",COUNTBLANK(H69)=0),placingpoints(H69,COUNTIF(H$3:H$102,\"=\"&H69)),\"\")","v":""},{"$f":"IF(Registration!$E68=\"S\",MTA!G68,\"\")","v":""},{"$f":"IF(AND(Registration!$E68=\"S\",COUNTBLANK(J69)=0),RANK(J69,J$3:J$102,0),\"\")","v":""},{"$f":"IF(AND(Registration!$E68=\"s\",COUNTBLANK(K69)=0),placingpoints(K69,COUNTIF(K$3:K$102,\"=\"&K69)),\"\")","v":""},{"$f":"IF(Registration!$E68=\"S\",'Trick Catch'!X69,\"\")","v":""},{"$f":"IF(AND(Registration!$E68=\"S\",COUNTBLANK(M69)=0),RANK(M69,M$3:M$102,0),\"\")","v":""},{"$f":"IF(AND(Registration!$E68=\"s\",COUNTBLANK(N69)=0),placingpoints(N69,COUNTIF(N$3:N$102,\"=\"&N69)),\"\")","v":""},{"$f":"IF(Registration!$E68=\"S\",'Fast Catch'!F68,\"\")","v":""},{"$f":"IF(AND(Registration!$E68=\"S\",COUNTBLANK(P69)=0),RANK(P69,P$3:P$102,1),\"\")","v":""},{"$f":"IF(AND(Registration!$E68=\"s\",COUNTBLANK(Q69)=0),placingpoints(Q69,COUNTIF(Q$3:Q$102,\"=\"&Q69)),\"\")","v":""},{"$f":"IF(Registration!$E68=\"S\",Endurance!C68,\"\")","v":""},{"$f":"IF(AND(Registration!$E68=\"S\",COUNTBLANK(S69)=0),RANK(S69,S$3:S$102,0),\"\")","v":""},{"$f":"IF(AND(Registration!$E68=\"s\",COUNTBLANK(T69)=0),placingpoints(T69,COUNTIF(T$3:T$102,\"=\"&T69)),\"\")","v":""}]
[{"$f":"IF(Registration!E69=\"S\",RANK(B70,$B$3:$B$102,1),\"\")","v":""},{"$f":"IF(Registration!E69=\"S\",SUM(F70,I70,L70,O70,R70,U70),\"\")","v":""},{"$f":"IF(COUNTBLANK(Registration!B69)=1,\"\",IF(Registration!E69=\"s\",Registration!B69,\"\"))","v":""},{"$f":"IF(Registration!E69=\"S\",'Aussie Round'!V70,\"\")","v":""},{"$f":"IF(AND(Registration!$E69=\"S\",COUNTBLANK(D70)=0),RANK(D70,D$3:D$102,0),\"\")","v":""},{"$f":"IF(AND(Registration!$E69=\"s\",COUNTBLANK(E70)=0),placingpoints(E70,COUNTIF(E$3:E$102,\"=\"&E70)),\"\")","v":""},{"$f":"IF(Registration!$E69=\"S\",Accuracy!L69,\"\")","v":""},{"$f":"IF(AND(Registration!$E69=\"S\",COUNTBLANK(G70)=0),RANK(G70,G$3:G$102,0),\"\")","v":""},{"$f":"IF(AND(Registration!$E69=\"s\",COUNTBLANK(H70)=0),placingpoints(H70,COUNTIF(H$3:H$102,\"=\"&H70)),\"\")","v":""},{"$f":"IF(Registration!$E69=\"S\",MTA!G69,\"\")","v":""},{"$f":"IF(AND(Registration!$E69=\"S\",COUNTBLANK(J70)=0),RANK(J70,J$3:J$102,0),\"\")","v":""},{"$f":"IF(AND(Registration!$E69=\"s\",COUNTBLANK(K70)=0),placingpoints(K70,COUNTIF(K$3:K$102,\"=\"&K70)),\"\")","v":""},{"$f":"IF(Registration!$E69=\"S\",'Trick Catch'!X70,\"\")","v":""},{"$f":"IF(AND(Registration!$E69=\"S\",COUNTBLANK(M70)=0),RANK(M70,M$3:M$102,0),\"\")","v":""},{"$f":"IF(AND(Registration!$E69=\"s\",COUNTBLANK(N70)=0),placingpoints(N70,COUNTIF(N$3:N$102,\"=\"&N70)),\"\")","v":""},{"$f":"IF(Registration!$E69=\"S\",'Fast Catch'!F69,\"\")","v":""},{"$f":"IF(AND(Registration!$E69=\"S\",COUNTBLANK(P70)=0),RANK(P70,P$3:P$102,1),\"\")","v":""},{"$f":"IF(AND(Registration!$E69=\"s\",COUNTBLANK(Q70)=0),placingpoints(Q70,COUNTIF(Q$3:Q$102,\"=\"&Q70)),\"\")","v":""},{"$f":"IF(Registration!$E69=\"S\",Endurance!C69,\"\")","v":""},{"$f":"IF(AND(Registration!$E69=\"S\",COUNTBLANK(S70)=0),RANK(S70,S$3:S$102,0),\"\")","v":""},{"$f":"IF(AND(Registration!$E69=\"s\",COUNTBLANK(T70)=0),placingpoints(T70,COUNTIF(T$3:T$102,\"=\"&T70)),\"\")","v":""}]
[{"$f":"IF(Registration!E70=\"S\",RANK(B71,$B$3:$B$102,1),\"\")","v":""},{"$f":"IF(Registration!E70=\"S\",SUM(F71,I71,L71,O71,R71,U71),\"\")","v":""},{"$f":"IF(COUNTBLANK(Registration!B70)=1,\"\",IF(Registration!E70=\"s\",Registration!B70,\"\"))","v":""},{"$f":"IF(Registration!E70=\"S\",'Aussie Round'!V71,\"\")","v":""},{"$f":"IF(AND(Registration!$E70=\"S\",COUNTBLANK(D71)=0),RANK(D71,D$3:D$102,0),\"\")","v":""},{"$f":"IF(AND(Registration!$E70=\"s\",COUNTBLANK(E71)=0),placingpoints(E71,COUNTIF(E$3:E$102,\"=\"&E71)),\"\")","v":""},{"$f":"IF(Registration!$E70=\"S\",Accuracy!L70,\"\")","v":""},{"$f":"IF(AND(Registration!$E70=\"S\",COUNTBLANK(G71)=0),RANK(G71,G$3:G$102,0),\"\")","v":""},{"$f":"IF(AND(Registration!$E70=\"s\",COUNTBLANK(H71)=0),placingpoints(H71,COUNTIF(H$3:H$102,\"=\"&H71)),\"\")","v":""},{"$f":"IF(Registration!$E70=\"S\",MTA!G70,\"\")","v":""},{"$f":"IF(AND(Registration!$E70=\"S\",COUNTBLANK(J71)=0),RANK(J71,J$3:J$102,0),\"\")","v":""},{"$f":"IF(AND(Registration!$E70=\"s\",COUNTBLANK(K71)=0),placingpoints(K71,COUNTIF(K$3:K$102,\"=\"&K71)),\"\")","v":""},{"$f":"IF(Registration!$E70=\"S\",'Trick Catch'!X71,\"\")","v":""},{"$f":"IF(AND(Registration!$E70=\"S\",COUNTBLANK(M71)=0),RANK(M71,M$3:M$102,0),\"\")","v":""},{"$f":"IF(AND(Registration!$E70=\"s\",COUNTBLANK(N71)=0),placingpoints(N71,COUNTIF(N$3:N$102,\"=\"&N71)),\"\")","v":""},{"$f":"IF(Registration!$E70=\"S\",'Fast Catch'!F70,\"\")","v":""},{"$f":"IF(AND(Registration!$E70=\"S\",COUNTBLANK(P71)=0),RANK(P71,P$3:P$102,1),\"\")","v":""},{"$f":"IF(AND(Registration!$E70=\"s\",COUNTBLANK(Q71)=0),placingpoints(Q71,COUNTIF(Q$3:Q$102,\"=\"&Q71)),\"\")","v":""},{"$f":"IF(Registration!$E70=\"S\",Endurance!C70,\"\")","v":""},{"$f":"IF(AND(Registration!$E70=\"S\",COUNTBLANK(S71)=0),RANK(S71,S$3:S$102,0),\"\")","v":""},{"$f":"IF(AND(Registration!$E70=\"s\",COUNTBLANK(T71)=0),placingpoints(T71,COUNTIF(T$3:T$102,\"=\"&T71)),\"\")","v":""}]
[{"$f":"IF(Registration!E71=\"S\",RANK(B72,$B$3:$B$102,1),\"\")","v":""},{"$f":"IF(Registration!E71=\"S\",SUM(F72,I72,L72,O72,R72,U72),\"\")","v":""},{"$f":"IF(COUNTBLANK(Registration!B71)=1,\"\",IF(Registration!E71=\"s\",Registration!B71,\"\"))","v":""},{"$f":"IF(Registration!E71=\"S\",'Aussie Round'!V72,\"\")","v":""},{"$f":"IF(AND(Registration!$E71=\"S\",COUNTBLANK(D72)=0),RANK(D72,D$3:D$102,0),\"\")","v":""},{"$f":"IF(AND(Registration!$E71=\"s\",COUNTBLANK(E72)=0),placingpoints(E72,COUNTIF(E$3:E$102,\"=\"&E72)),\"\")","v":""},{"$f":"IF(Registration!$E71=\"S\",Accuracy!L71,\"\")","v":""},{"$f":"IF(AND(Registration!$E71=\"S\",COUNTBLANK(G72)=0),RANK(G72,G$3:G$102,0),\"\")","v":""},{"$f":"IF(AND(Registration!$E71=\"s\",COUNTBLANK(H72)=0),placingpoints(H72,COUNTIF(H$3:H$102,\"=\"&H72)),\"\")","v":""},{"$f":"IF(Registration!$E71=\"S\",MTA!G71,\"\")","v":""},{"$f":"IF(AND(Registration!$E71=\"S\",COUNTBLANK(J72)=0),RANK(J72,J$3:J$102,0),\"\")","v":""},{"$f":"IF(AND(Registration!$E71=\"s\",COUNTBLANK(K72)=0),placingpoints(K72,COUNTIF(K$3:K$102,\"=\"&K72)),\"\")","v":""},{"$f":"IF(Registration!$E71=\"S\",'Trick Catch'!X72,\"\")","v":""},{"$f":"IF(AND(Registration!$E71=\"S\",COUNTBLANK(M72)=0),RANK(M72,M$3:M$102,0),\"\")","v":""},{"$f":"IF(AND(Registration!$E71=\"s\",COUNTBLANK(N72)=0),placingpoints(N72,COUNTIF(N$3:N$102,\"=\"&N72)),\"\")","v":""},{"$f":"IF(Registration!$E71=\"S\",'Fast Catch'!F71,\"\")","v":""},{"$f":"IF(AND(Registration!$E71=\"S\",COUNTBLANK(P72)=0),RANK(P72,P$3:P$102,1),\"\")","v":""},{"$f":"IF(AND(Registration!$E71=\"s\",COUNTBLANK(Q72)=0),placingpoints(Q72,COUNTIF(Q$3:Q$102,\"=\"&Q72)),\"\")","v":""},{"$f":"IF(Registration!$E71=\"S\",Endurance!C71,\"\")","v":""},{"$f":"IF(AND(Registration!$E71=\"S\",COUNTBLANK(S72)=0),RANK(S72,S$3:S$102,0),\"\")","v":""},{"$f":"IF(AND(Registration!$E71=\"s\",COUNTBLANK(T72)=0),placingpoints(T72,COUNTIF(T$3:T$102,\"=\"&T72)),\"\")","v":""}]
[{"$f":"IF(Registration!E72=\"S\",RANK(B73,$B$3:$B$102,1),\"\")","v":""},{"$f":"IF(Registration!E72=\"S\",SUM(F73,I73,L73,O73,R73,U73),\"\")","v":""},{"$f":"IF(COUNTBLANK(Registration!B72)=1,\"\",IF(Registration!E72=\"s\",Registration!B72,\"\"))","v":""},{"$f":"IF(Registration!E72=\"S\",'Aussie Round'!V73,\"\")","v":""},{"$f":"IF(AND(Registration!$E72=\"S\",COUNTBLANK(D73)=0),RANK(D73,D$3:D$102,0),\"\")","v":""},{"$f":"IF(AND(Registration!$E72=\"s\",COUNTBLANK(E73)=0),placingpoints(E73,COUNTIF(E$3:E$102,\"=\"&E73)),\"\")","v":""},{"$f":"IF(Registration!$E72=\"S\",Accuracy!L72,\"\")","v":""},{"$f":"IF(AND(Registration!$E72=\"S\",COUNTBLANK(G73)=0),RANK(G73,G$3:G$102,0),\"\")","v":""},{"$f":"IF(AND(Registration!$E72=\"s\",COUNTBLANK(H73)=0),placingpoints(H73,COUNTIF(H$3:H$102,\"=\"&H73)),\"\")","v":""},{"$f":"IF(Registration!$E72=\"S\",MTA!G72,\"\")","v":""},{"$f":"IF(AND(Registration!$E72=\"S\",COUNTBLANK(J73)=0),RANK(J73,J$3:J$102,0),\"\")","v":""},{"$f":"IF(AND(Registration!$E72=\"s\",COUNTBLANK(K73)=0),placingpoints(K73,COUNTIF(K$3:K$102,\"=\"&K73)),\"\")","v":""},{"$f":"IF(Registration!$E72=\"S\",'Trick Catch'!X73,\"\")","v":""},{"$f":"IF(AND(Registration!$E72=\"S\",COUNTBLANK(M73)=0),RANK(M73,M$3:M$102,0),\"\")","v":""},{"$f":"IF(AND(Registration!$E72=\"s\",COUNTBLANK(N73)=0),placingpoints(N73,COUNTIF(N$3:N$102,\"=\"&N73)),\"\")","v":""},{"$f":"IF(Registration!$E72=\"S\",'Fast Catch'!F72,\"\")","v":""},{"$f":"IF(AND(Registration!$E72=\"S\",COUNTBLANK(P73)=0),RANK(P73,P$3:P$102,1),\"\")","v":""},{"$f":"IF(AND(Registration!$E72=\"s\",COUNTBLANK(Q73)=0),placingpoints(Q73,COUNTIF(Q$3:Q$102,\"=\"&Q73)),\"\")","v":""},{"$f":"IF(Registration!$E72=\"S\",Endurance!C72,\"\")","v":""},{"$f":"IF(AND(Registration!$E72=\"S\",COUNTBLANK(S73)=0),RANK(S73,S$3:S$102,0),\"\")","v":""},{"$f":"IF(AND(Registration!$E72=\"s\",COUNTBLANK(T73)=0),placingpoints(T73,COUNTIF(T$3:T$102,\"=\"&T73)),\"\")","v":""}]
[{"$f":"IF(Registration!E73=\"S\",RANK(B74,$B$3:$B$102,1),\"\")","v":""},{"$f":"IF(Registration!E73=\"S\",SUM(F74,I74,L74,O74,R74,U74),\"\")","v":""},{"$f":"IF(COUNTBLANK(Registration!B73)=1,\"\",IF(Registration!E73=\"s\",Registration!B73,\"\"))","v":""},{"$f":"IF(Registration!E73=\"S\",'Aussie Round'!V74,\"\")","v":""},{"$f":"IF(AND(Registration!$E73=\"S\",COUNTBLANK(D74)=0),RANK(D74,D$3:D$102,0),\"\")","v":""},{"$f":"IF(AND(Registration!$E73=\"s\",COUNTBLANK(E74)=0),placingpoints(E74,COUNTIF(E$3:E$102,\"=\"&E74)),\"\")","v":""},{"$f":"IF(Registration!$E73=\"S\",Accuracy!L73,\"\")","v":""},{"$f":"IF(AND(Registration!$E73=\"S\",COUNTBLANK(G74)=0),RANK(G74,G$3:G$102,0),\"\")","v":""},{"$f":"IF(AND(Registration!$E73=\"s\",COUNTBLANK(H74)=0),placingpoints(H74,COUNTIF(H$3:H$102,\"=\"&H74)),\"\")","v":""},{"$f":"IF(Registration!$E73=\"S\",MTA!G73,\"\")","v":""},{"$f":"IF(AND(Registration!$E73=\"S\",COUNTBLANK(J74)=0),RANK(J74,J$3:J$102,0),\"\")","v":""},{"$f":"IF(AND(Registration!$E73=\"s\",COUNTBLANK(K74)=0),placingpoints(K74,COUNTIF(K$3:K$102,\"=\"&K74)),\"\")","v":""},{"$f":"IF(Registration!$E73=\"S\",'Trick Catch'!X74,\"\")","v":""},{"$f":"IF(AND(Registration!$E73=\"S\",COUNTBLANK(M74)=0),RANK(M74,M$3:M$102,0),\"\")","v":""},{"$f":"IF(AND(Registration!$E73=\"s\",COUNTBLANK(N74)=0),placingpoints(N74,COUNTIF(N$3:N$102,\"=\"&N74)),\"\")","v":""},{"$f":"IF(Registration!$E73=\"S\",'Fast Catch'!F73,\"\")","v":""},{"$f":"IF(AND(Registration!$E73=\"S\",COUNTBLANK(P74)=0),RANK(P74,P$3:P$102,1),\"\")","v":""},{"$f":"IF(AND(Registration!$E73=\"s\",COUNTBLANK(Q74)=0),placingpoints(Q74,COUNTIF(Q$3:Q$102,\"=\"&Q74)),\"\")","v":""},{"$f":"IF(Registration!$E73=\"S\",Endurance!C73,\"\")","v":""},{"$f":"IF(AND(Registration!$E73=\"S\",COUNTBLANK(S74)=0),RANK(S74,S$3:S$102,0),\"\")","v":""},{"$f":"IF(AND(Registration!$E73=\"s\",COUNTBLANK(T74)=0),placingpoints(T74,COUNTIF(T$3:T$102,\"=\"&T74)),\"\")","v":""}]
[{"$f":"IF(Registration!E74=\"S\",RANK(B75,$B$3:$B$102,1),\"\")","v":""},{"$f":"IF(Registration!E74=\"S\",SUM(F75,I75,L75,O75,R75,U75),\"\")","v":""},{"$f":"IF(COUNTBLANK(Registration!B74)=1,\"\",IF(Registration!E74=\"s\",Registration!B74,\"\"))","v":""},{"$f":"IF(Registration!E74=\"S\",'Aussie Round'!V75,\"\")","v":""},{"$f":"IF(AND(Registration!$E74=\"S\",COUNTBLANK(D75)=0),RANK(D75,D$3:D$102,0),\"\")","v":""},{"$f":"IF(AND(Registration!$E74=\"s\",COUNTBLANK(E75)=0),placingpoints(E75,COUNTIF(E$3:E$102,\"=\"&E75)),\"\")","v":""},{"$f":"IF(Registration!$E74=\"S\",Accuracy!L74,\"\")","v":""},{"$f":"IF(AND(Registration!$E74=\"S\",COUNTBLANK(G75)=0),RANK(G75,G$3:G$102,0),\"\")","v":""},{"$f":"IF(AND(Registration!$E74=\"s\",COUNTBLANK(H75)=0),placingpoints(H75,COUNTIF(H$3:H$102,\"=\"&H75)),\"\")","v":""},{"$f":"IF(Registration!$E74=\"S\",MTA!G74,\"\")","v":""},{"$f":"IF(AND(Registration!$E74=\"S\",COUNTBLANK(J75)=0),RANK(J75,J$3:J$102,0),\"\")","v":""},{"$f":"IF(AND(Registration!$E74=\"s\",COUNTBLANK(K75)=0),placingpoints(K75,COUNTIF(K$3:K$102,\"=\"&K75)),\"\")","v":""},{"$f":"IF(Registration!$E74=\"S\",'Trick Catch'!X75,\"\")","v":""},{"$f":"IF(AND(Registration!$E74=\"S\",COUNTBLANK(M75)=0),RANK(M75,M$3:M$102,0),\"\")","v":""},{"$f":"IF(AND(Registration!$E74=\"s\",COUNTBLANK(N75)=0),placingpoints(N75,COUNTIF(N$3:N$102,\"=\"&N75)),\"\")","v":""},{"$f":"IF(Registration!$E74=\"S\",'Fast Catch'!F74,\"\")","v":""},{"$f":"IF(AND(Registration!$E74=\"S\",COUNTBLANK(P75)=0),RANK(P75,P$3:P$102,1),\"\")","v":""},{"$f":"IF(AND(Registration!$E74=\"s\",COUNTBLANK(Q75)=0),placingpoints(Q75,COUNTIF(Q$3:Q$102,\"=\"&Q75)),\"\")","v":""},{"$f":"IF(Registration!$E74=\"S\",Endurance!C74,\"\")","v":""},{"$f":"IF(AND(Registration!$E74=\"S\",COUNTBLANK(S75)=0),RANK(S75,S$3:S$102,0),\"\")","v":""},{"$f":"IF(AND(Registration!$E74=\"s\",COUNTBLANK(T75)=0),placingpoints(T75,COUNTIF(T$3:T$102,\"=\"&T75)),\"\")","v":""}]
[{"$f":"IF(Registration!E75=\"S\",RANK(B76,$B$3:$B$102,1),\"\")","v":""},{"$f":"IF(Registration!E75=\"S\",SUM(F76,I76,L76,O76,R76,U76),\"\")","v":""},{"$f":"IF(COUNTBLANK(Registration!B75)=1,\"\",IF(Registration!E75=\"s\",Registration!B75,\"\"))","v":""},{"$f":"IF(Registration!E75=\"S\",'Aussie Round'!V76,\"\")","v":""},{"$f":"IF(AND(Registration!$E75=\"S\",COUNTBLANK(D76)=0),RANK(D76,D$3:D$102,0),\"\")","v":""},{"$f":"IF(AND(Registration!$E75=\"s\",COUNTBLANK(E76)=0),placingpoints(E76,COUNTIF(E$3:E$102,\"=\"&E76)),\"\")","v":""},{"$f":"IF(Registration!$E75=\"S\",Accuracy!L75,\"\")","v":""},{"$f":"IF(AND(Registration!$E75=\"S\",COUNTBLANK(G76)=0),RANK(G76,G$3:G$102,0),\"\")","v":""},{"$f":"IF(AND(Registration!$E75=\"s\",COUNTBLANK(H76)=0),placingpoints(H76,COUNTIF(H$3:H$102,\"=\"&H76)),\"\")","v":""},{"$f":"IF(Registration!$E75=\"S\",MTA!G75,\"\")","v":""},{"$f":"IF(AND(Registration!$E75=\"S\",COUNTBLANK(J76)=0),RANK(J76,J$3:J$102,0),\"\")","v":""},{"$f":"IF(AND(Registration!$E75=\"s\",COUNTBLANK(K76)=0),placingpoints(K76,COUNTIF(K$3:K$102,\"=\"&K76)),\"\")","v":""},{"$f":"IF(Registration!$E75=\"S\",'Trick Catch'!X76,\"\")","v":""},{"$f":"IF(AND(Registration!$E75=\"S\",COUNTBLANK(M76)=0),RANK(M76,M$3:M$102,0),\"\")","v":""},{"$f":"IF(AND(Registration!$E75=\"s\",COUNTBLANK(N76)=0),placingpoints(N76,COUNTIF(N$3:N$102,\"=\"&N76)),\"\")","v":""},{"$f":"IF(Registration!$E75=\"S\",'Fast Catch'!F75,\"\")","v":""},{"$f":"IF(AND(Registration!$E75=\"S\",COUNTBLANK(P76)=0),RANK(P76,P$3:P$102,1),\"\")","v":""},{"$f":"IF(AND(Registration!$E75=\"s\",COUNTBLANK(Q76)=0),placingpoints(Q76,COUNTIF(Q$3:Q$102,\"=\"&Q76)),\"\")","v":""},{"$f":"IF(Registration!$E75=\"S\",Endurance!C75,\"\")","v":""},{"$f":"IF(AND(Registration!$E75=\"S\",COUNTBLANK(S76)=0),RANK(S76,S$3:S$102,0),\"\")","v":""},{"$f":"IF(AND(Registration!$E75=\"s\",COUNTBLANK(T76)=0),placingpoints(T76,COUNTIF(T$3:T$102,\"=\"&T76)),\"\")","v":""}]
[{"$f":"IF(Registration!E76=\"S\",RANK(B77,$B$3:$B$102,1),\"\")","v":""},{"$f":"IF(Registration!E76=\"S\",SUM(F77,I77,L77,O77,R77,U77),\"\")","v":""},{"$f":"IF(COUNTBLANK(Registration!B76)=1,\"\",IF(Registration!E76=\"s\",Registration!B76,\"\"))","v":""},{"$f":"IF(Registration!E76=\"S\",'Aussie Round'!V77,\"\")","v":""},{"$f":"IF(AND(Registration!$E76=\"S\",COUNTBLANK(D77)=0),RANK(D77,D$3:D$102,0),\"\")","v":""},{"$f":"IF(AND(Registration!$E76=\"s\",COUNTBLANK(E77)=0),placingpoints(E77,COUNTIF(E$3:E$102,\"=\"&E77)),\"\")","v":""},{"$f":"IF(Registration!$E76=\"S\",Accuracy!L76,\"\")","v":""},{"$f":"IF(AND(Registration!$E76=\"S\",COUNTBLANK(G77)=0),RANK(G77,G$3:G$102,0),\"\")","v":""},{"$f":"IF(AND(Registration!$E76=\"s\",COUNTBLANK(H77)=0),placingpoints(H77,COUNTIF(H$3:H$102,\"=\"&H77)),\"\")","v":""},{"$f":"IF(Registration!$E76=\"S\",MTA!G76,\"\")","v":""},{"$f":"IF(AND(Registration!$E76=\"S\",COUNTBLANK(J77)=0),RANK(J77,J$3:J$102,0),\"\")","v":""},{"$f":"IF(AND(Registration!$E76=\"s\",COUNTBLANK(K77)=0),placingpoints(K77,COUNTIF(K$3:K$102,\"=\"&K77)),\"\")","v":""},{"$f":"IF(Registration!$E76=\"S\",'Trick Catch'!X77,\"\")","v":""},{"$f":"IF(AND(Registration!$E76=\"S\",COUNTBLANK(M77)=0),RANK(M77,M$3:M$102,0),\"\")","v":""},{"$f":"IF(AND(Registration!$E76=\"s\",COUNTBLANK(N77)=0),placingpoints(N77,COUNTIF(N$3:N$102,\"=\"&N77)),\"\")","v":""},{"$f":"IF(Registration!$E76=\"S\",'Fast Catch'!F76,\"\")","v":""},{"$f":"IF(AND(Registration!$E76=\"S\",COUNTBLANK(P77)=0),RANK(P77,P$3:P$102,1),\"\")","v":""},{"$f":"IF(AND(Registration!$E76=\"s\",COUNTBLANK(Q77)=0),placingpoints(Q77,COUNTIF(Q$3:Q$102,\"=\"&Q77)),\"\")","v":""},{"$f":"IF(Registration!$E76=\"S\",Endurance!C76,\"\")","v":""},{"$f":"IF(AND(Registration!$E76=\"S\",COUNTBLANK(S77)=0),RANK(S77,S$3:S$102,0),\"\")","v":""},{"$f":"IF(AND(Registration!$E76=\"s\",COUNTBLANK(T77)=0),placingpoints(T77,COUNTIF(T$3:T$102,\"=\"&T77)),\"\")","v":""}]
[{"$f":"IF(Registration!E77=\"S\",RANK(B78,$B$3:$B$102,1),\"\")","v":""},{"$f":"IF(Registration!E77=\"S\",SUM(F78,I78,L78,O78,R78,U78),\"\")","v":""},{"$f":"IF(COUNTBLANK(Registration!B77)=1,\"\",IF(Registration!E77=\"s\",Registration!B77,\"\"))","v":""},{"$f":"IF(Registration!E77=\"S\",'Aussie Round'!V78,\"\")","v":""},{"$f":"IF(AND(Registration!$E77=\"S\",COUNTBLANK(D78)=0),RANK(D78,D$3:D$102,0),\"\")","v":""},{"$f":"IF(AND(Registration!$E77=\"s\",COUNTBLANK(E78)=0),placingpoints(E78,COUNTIF(E$3:E$102,\"=\"&E78)),\"\")","v":""},{"$f":"IF(Registration!$E77=\"S\",Accuracy!L77,\"\")","v":""},{"$f":"IF(AND(Registration!$E77=\"S\",COUNTBLANK(G78)=0),RANK(G78,G$3:G$102,0),\"\")","v":""},{"$f":"IF(AND(Registration!$E77=\"s\",COUNTBLANK(H78)=0),placingpoints(H78,COUNTIF(H$3:H$102,\"=\"&H78)),\"\")","v":""},{"$f":"IF(Registration!$E77=\"S\",MTA!G77,\"\")","v":""},{"$f":"IF(AND(Registration!$E77=\"S\",COUNTBLANK(J78)=0),RANK(J78,J$3:J$102,0),\"\")","v":""},{"$f":"IF(AND(Registration!$E77=\"s\",COUNTBLANK(K78)=0),placingpoints(K78,COUNTIF(K$3:K$102,\"=\"&K78)),\"\")","v":""},{"$f":"IF(Registration!$E77=\"S\",'Trick Catch'!X78,\"\")","v":""},{"$f":"IF(AND(Registration!$E77=\"S\",COUNTBLANK(M78)=0),RANK(M78,M$3:M$102,0),\"\")","v":""},{"$f":"IF(AND(Registration!$E77=\"s\",COUNTBLANK(N78)=0),placingpoints(N78,COUNTIF(N$3:N$102,\"=\"&N78)),\"\")","v":""},{"$f":"IF(Registration!$E77=\"S\",'Fast Catch'!F77,\"\")","v":""},{"$f":"IF(AND(Registration!$E77=\"S\",COUNTBLANK(P78)=0),RANK(P78,P$3:P$102,1),\"\")","v":""},{"$f":"IF(AND(Registration!$E77=\"s\",COUNTBLANK(Q78)=0),placingpoints(Q78,COUNTIF(Q$3:Q$102,\"=\"&Q78)),\"\")","v":""},{"$f":"IF(Registration!$E77=\"S\",Endurance!C77,\"\")","v":""},{"$f":"IF(AND(Registration!$E77=\"S\",COUNTBLANK(S78)=0),RANK(S78,S$3:S$102,0),\"\")","v":""},{"$f":"IF(AND(Registration!$E77=\"s\",COUNTBLANK(T78)=0),placingpoints(T78,COUNTIF(T$3:T$102,\"=\"&T78)),\"\")","v":""}]
[{"$f":"IF(Registration!E78=\"S\",RANK(B79,$B$3:$B$102,1),\"\")","v":""},{"$f":"IF(Registration!E78=\"S\",SUM(F79,I79,L79,O79,R79,U79),\"\")","v":""},{"$f":"IF(COUNTBLANK(Registration!B78)=1,\"\",IF(Registration!E78=\"s\",Registration!B78,\"\"))","v":""},{"$f":"IF(Registration!E78=\"S\",'Aussie Round'!V79,\"\")","v":""},{"$f":"IF(AND(Registration!$E78=\"S\",COUNTBLANK(D79)=0),RANK(D79,D$3:D$102,0),\"\")","v":""},{"$f":"IF(AND(Registration!$E78=\"s\",COUNTBLANK(E79)=0),placingpoints(E79,COUNTIF(E$3:E$102,\"=\"&E79)),\"\")","v":""},{"$f":"IF(Registration!$E78=\"S\",Accuracy!L78,\"\")","v":""},{"$f":"IF(AND(Registration!$E78=\"S\",COUNTBLANK(G79)=0),RANK(G79,G$3:G$102,0),\"\")","v":""},{"$f":"IF(AND(Registration!$E78=\"s\",COUNTBLANK(H79)=0),placingpoints(H79,COUNTIF(H$3:H$102,\"=\"&H79)),\"\")","v":""},{"$f":"IF(Registration!$E78=\"S\",MTA!G78,\"\")","v":""},{"$f":"IF(AND(Registration!$E78=\"S\",COUNTBLANK(J79)=0),RANK(J79,J$3:J$102,0),\"\")","v":""},{"$f":"IF(AND(Registration!$E78=\"s\",COUNTBLANK(K79)=0),placingpoints(K79,COUNTIF(K$3:K$102,\"=\"&K79)),\"\")","v":""},{"$f":"IF(Registration!$E78=\"S\",'Trick Catch'!X79,\"\")","v":""},{"$f":"IF(AND(Registration!$E78=\"S\",COUNTBLANK(M79)=0),RANK(M79,M$3:M$102,0),\"\")","v":""},{"$f":"IF(AND(Registration!$E78=\"s\",COUNTBLANK(N79)=0),placingpoints(N79,COUNTIF(N$3:N$102,\"=\"&N79)),\"\")","v":""},{"$f":"IF(Registration!$E78=\"S\",'Fast Catch'!F78,\"\")","v":""},{"$f":"IF(AND(Registration!$E78=\"S\",COUNTBLANK(P79)=0),RANK(P79,P$3:P$102,1),\"\")","v":""},{"$f":"IF(AND(Registration!$E78=\"s\",COUNTBLANK(Q79)=0),placingpoints(Q79,COUNTIF(Q$3:Q$102,\"=\"&Q79)),\"\")","v":""},{"$f":"IF(Registration!$E78=\"S\",Endurance!C78,\"\")","v":""},{"$f":"IF(AND(Registration!$E78=\"S\",COUNTBLANK(S79)=0),RANK(S79,S$3:S$102,0),\"\")","v":""},{"$f":"IF(AND(Registration!$E78=\"s\",COUNTBLANK(T79)=0),placingpoints(T79,COUNTIF(T$3:T$102,\"=\"&T79)),\"\")","v":""}]
[{"$f":"IF(Registration!E79=\"S\",RANK(B80,$B$3:$B$102,1),\"\")","v":""},{"$f":"IF(Registration!E79=\"S\",SUM(F80,I80,L80,O80,R80,U80),\"\")","v":""},{"$f":"IF(COUNTBLANK(Registration!B79)=1,\"\",IF(Registration!E79=\"s\",Registration!B79,\"\"))","v":""},{"$f":"IF(Registration!E79=\"S\",'Aussie Round'!V80,\"\")","v":""},{"$f":"IF(AND(Registration!$E79=\"S\",COUNTBLANK(D80)=0),RANK(D80,D$3:D$102,0),\"\")","v":""},{"$f":"IF(AND(Registration!$E79=\"s\",COUNTBLANK(E80)=0),placingpoints(E80,COUNTIF(E$3:E$102,\"=\"&E80)),\"\")","v":""},{"$f":"IF(Registration!$E79=\"S\",Accuracy!L79,\"\")","v":""},{"$f":"IF(AND(Registration!$E79=\"S\",COUNTBLANK(G80)=0),RANK(G80,G$3:G$102,0),\"\")","v":""},{"$f":"IF(AND(Registration!$E79=\"s\",COUNTBLANK(H80)=0),placingpoints(H80,COUNTIF(H$3:H$102,\"=\"&H80)),\"\")","v":""},{"$f":"IF(Registration!$E79=\"S\",MTA!G79,\"\")","v":""},{"$f":"IF(AND(Registration!$E79=\"S\",COUNTBLANK(J80)=0),RANK(J80,J$3:J$102,0),\"\")","v":""},{"$f":"IF(AND(Registration!$E79=\"s\",COUNTBLANK(K80)=0),placingpoints(K80,COUNTIF(K$3:K$102,\"=\"&K80)),\"\")","v":""},{"$f":"IF(Registration!$E79=\"S\",'Trick Catch'!X80,\"\")","v":""},{"$f":"IF(AND(Registration!$E79=\"S\",COUNTBLANK(M80)=0),RANK(M80,M$3:M$102,0),\"\")","v":""},{"$f":"IF(AND(Registration!$E79=\"s\",COUNTBLANK(N80)=0),placingpoints(N80,COUNTIF(N$3:N$102,\"=\"&N80)),\"\")","v":""},{"$f":"IF(Registration!$E79=\"S\",'Fast Catch'!F79,\"\")","v":""},{"$f":"IF(AND(Registration!$E79=\"S\",COUNTBLANK(P80)=0),RANK(P80,P$3:P$102,1),\"\")","v":""},{"$f":"IF(AND(Registration!$E79=\"s\",COUNTBLANK(Q80)=0),placingpoints(Q80,COUNTIF(Q$3:Q$102,\"=\"&Q80)),\"\")","v":""},{"$f":"IF(Registration!$E79=\"S\",Endurance!C79,\"\")","v":""},{"$f":"IF(AND(Registration!$E79=\"S\",COUNTBLANK(S80)=0),RANK(S80,S$3:S$102,0),\"\")","v":""},{"$f":"IF(AND(Registration!$E79=\"s\",COUNTBLANK(T80)=0),placingpoints(T80,COUNTIF(T$3:T$102,\"=\"&T80)),\"\")","v":""}]
[{"$f":"IF(Registration!E80=\"S\",RANK(B81,$B$3:$B$102,1),\"\")","v":""},{"$f":"IF(Registration!E80=\"S\",SUM(F81,I81,L81,O81,R81,U81),\"\")","v":""},{"$f":"IF(COUNTBLANK(Registration!B80)=1,\"\",IF(Registration!E80=\"s\",Registration!B80,\"\"))","v":""},{"$f":"IF(Registration!E80=\"S\",'Aussie Round'!V81,\"\")","v":""},{"$f":"IF(AND(Registration!$E80=\"S\",COUNTBLANK(D81)=0),RANK(D81,D$3:D$102,0),\"\")","v":""},{"$f":"IF(AND(Registration!$E80=\"s\",COUNTBLANK(E81)=0),placingpoints(E81,COUNTIF(E$3:E$102,\"=\"&E81)),\"\")","v":""},{"$f":"IF(Registration!$E80=\"S\",Accuracy!L80,\"\")","v":""},{"$f":"IF(AND(Registration!$E80=\"S\",COUNTBLANK(G81)=0),RANK(G81,G$3:G$102,0),\"\")","v":""},{"$f":"IF(AND(Registration!$E80=\"s\",COUNTBLANK(H81)=0),placingpoints(H81,COUNTIF(H$3:H$102,\"=\"&H81)),\"\")","v":""},{"$f":"IF(Registration!$E80=\"S\",MTA!G80,\"\")","v":""},{"$f":"IF(AND(Registration!$E80=\"S\",COUNTBLANK(J81)=0),RANK(J81,J$3:J$102,0),\"\")","v":""},{"$f":"IF(AND(Registration!$E80=\"s\",COUNTBLANK(K81)=0),placingpoints(K81,COUNTIF(K$3:K$102,\"=\"&K81)),\"\")","v":""},{"$f":"IF(Registration!$E80=\"S\",'Trick Catch'!X81,\"\")","v":""},{"$f":"IF(AND(Registration!$E80=\"S\",COUNTBLANK(M81)=0),RANK(M81,M$3:M$102,0),\"\")","v":""},{"$f":"IF(AND(Registration!$E80=\"s\",COUNTBLANK(N81)=0),placingpoints(N81,COUNTIF(N$3:N$102,\"=\"&N81)),\"\")","v":""},{"$f":"IF(Registration!$E80=\"S\",'Fast Catch'!F80,\"\")","v":""},{"$f":"IF(AND(Registration!$E80=\"S\",COUNTBLANK(P81)=0),RANK(P81,P$3:P$102,1),\"\")","v":""},{"$f":"IF(AND(Registration!$E80=\"s\",COUNTBLANK(Q81)=0),placingpoints(Q81,COUNTIF(Q$3:Q$102,\"=\"&Q81)),\"\")","v":""},{"$f":"IF(Registration!$E80=\"S\",Endurance!C80,\"\")","v":""},{"$f":"IF(AND(Registration!$E80=\"S\",COUNTBLANK(S81)=0),RANK(S81,S$3:S$102,0),\"\")","v":""},{"$f":"IF(AND(Registration!$E80=\"s\",COUNTBLANK(T81)=0),placingpoints(T81,COUNTIF(T$3:T$102,\"=\"&T81)),\"\")","v":""}]
[{"$f":"IF(Registration!E81=\"S\",RANK(B82,$B$3:$B$102,1),\"\")","v":""},{"$f":"IF(Registration!E81=\"S\",SUM(F82,I82,L82,O82,R82,U82),\"\")","v":""},{"$f":"IF(COUNTBLANK(Registration!B81)=1,\"\",IF(Registration!E81=\"s\",Registration!B81,\"\"))","v":""},{"$f":"IF(Registration!E81=\"S\",'Aussie Round'!V82,\"\")","v":""},{"$f":"IF(AND(Registration!$E81=\"S\",COUNTBLANK(D82)=0),RANK(D82,D$3:D$102,0),\"\")","v":""},{"$f":"IF(AND(Registration!$E81=\"s\",COUNTBLANK(E82)=0),placingpoints(E82,COUNTIF(E$3:E$102,\"=\"&E82)),\"\")","v":""},{"$f":"IF(Registration!$E81=\"S\",Accuracy!L81,\"\")","v":""},{"$f":"IF(AND(Registration!$E81=\"S\",COUNTBLANK(G82)=0),RANK(G82,G$3:G$102,0),\"\")","v":""},{"$f":"IF(AND(Registration!$E81=\"s\",COUNTBLANK(H82)=0),placingpoints(H82,COUNTIF(H$3:H$102,\"=\"&H82)),\"\")","v":""},{"$f":"IF(Registration!$E81=\"S\",MTA!G81,\"\")","v":""},{"$f":"IF(AND(Registration!$E81=\"S\",COUNTBLANK(J82)=0),RANK(J82,J$3:J$102,0),\"\")","v":""},{"$f":"IF(AND(Registration!$E81=\"s\",COUNTBLANK(K82)=0),placingpoints(K82,COUNTIF(K$3:K$102,\"=\"&K82)),\"\")","v":""},{"$f":"IF(Registration!$E81=\"S\",'Trick Catch'!X82,\"\")","v":""},{"$f":"IF(AND(Registration!$E81=\"S\",COUNTBLANK(M82)=0),RANK(M82,M$3:M$102,0),\"\")","v":""},{"$f":"IF(AND(Registration!$E81=\"s\",COUNTBLANK(N82)=0),placingpoints(N82,COUNTIF(N$3:N$102,\"=\"&N82)),\"\")","v":""},{"$f":"IF(Registration!$E81=\"S\",'Fast Catch'!F81,\"\")","v":""},{"$f":"IF(AND(Registration!$E81=\"S\",COUNTBLANK(P82)=0),RANK(P82,P$3:P$102,1),\"\")","v":""},{"$f":"IF(AND(Registration!$E81=\"s\",COUNTBLANK(Q82)=0),placingpoints(Q82,COUNTIF(Q$3:Q$102,\"=\"&Q82)),\"\")","v":""},{"$f":"IF(Registration!$E81=\"S\",Endurance!C81,\"\")","v":""},{"$f":"IF(AND(Registration!$E81=\"S\",COUNTBLANK(S82)=0),RANK(S82,S$3:S$102,0),\"\")","v":""},{"$f":"IF(AND(Registration!$E81=\"s\",COUNTBLANK(T82)=0),placingpoints(T82,COUNTIF(T$3:T$102,\"=\"&T82)),\"\")","v":""}]
[{"$f":"IF(Registration!E82=\"S\",RANK(B83,$B$3:$B$102,1),\"\")","v":""},{"$f":"IF(Registration!E82=\"S\",SUM(F83,I83,L83,O83,R83,U83),\"\")","v":""},{"$f":"IF(COUNTBLANK(Registration!B82)=1,\"\",IF(Registration!E82=\"s\",Registration!B82,\"\"))","v":""},{"$f":"IF(Registration!E82=\"S\",'Aussie Round'!V83,\"\")","v":""},{"$f":"IF(AND(Registration!$E82=\"S\",COUNTBLANK(D83)=0),RANK(D83,D$3:D$102,0),\"\")","v":""},{"$f":"IF(AND(Registration!$E82=\"s\",COUNTBLANK(E83)=0),placingpoints(E83,COUNTIF(E$3:E$102,\"=\"&E83)),\"\")","v":""},{"$f":"IF(Registration!$E82=\"S\",Accuracy!L82,\"\")","v":""},{"$f":"IF(AND(Registration!$E82=\"S\",COUNTBLANK(G83)=0),RANK(G83,G$3:G$102,0),\"\")","v":""},{"$f":"IF(AND(Registration!$E82=\"s\",COUNTBLANK(H83)=0),placingpoints(H83,COUNTIF(H$3:H$102,\"=\"&H83)),\"\")","v":""},{"$f":"IF(Registration!$E82=\"S\",MTA!G82,\"\")","v":""},{"$f":"IF(AND(Registration!$E82=\"S\",COUNTBLANK(J83)=0),RANK(J83,J$3:J$102,0),\"\")","v":""},{"$f":"IF(AND(Registration!$E82=\"s\",COUNTBLANK(K83)=0),placingpoints(K83,COUNTIF(K$3:K$102,\"=\"&K83)),\"\")","v":""},{"$f":"IF(Registration!$E82=\"S\",'Trick Catch'!X83,\"\")","v":""},{"$f":"IF(AND(Registration!$E82=\"S\",COUNTBLANK(M83)=0),RANK(M83,M$3:M$102,0),\"\")","v":""},{"$f":"IF(AND(Registration!$E82=\"s\",COUNTBLANK(N83)=0),placingpoints(N83,COUNTIF(N$3:N$102,\"=\"&N83)),\"\")","v":""},{"$f":"IF(Registration!$E82=\"S\",'Fast Catch'!F82,\"\")","v":""},{"$f":"IF(AND(Registration!$E82=\"S\",COUNTBLANK(P83)=0),RANK(P83,P$3:P$102,1),\"\")","v":""},{"$f":"IF(AND(Registration!$E82=\"s\",COUNTBLANK(Q83)=0),placingpoints(Q83,COUNTIF(Q$3:Q$102,\"=\"&Q83)),\"\")","v":""},{"$f":"IF(Registration!$E82=\"S\",Endurance!C82,\"\")","v":""},{"$f":"IF(AND(Registration!$E82=\"S\",COUNTBLANK(S83)=0),RANK(S83,S$3:S$102,0),\"\")","v":""},{"$f":"IF(AND(Registration!$E82=\"s\",COUNTBLANK(T83)=0),placingpoints(T83,COUNTIF(T$3:T$102,\"=\"&T83)),\"\")","v":""}]
[{"$f":"IF(Registration!E83=\"S\",RANK(B84,$B$3:$B$102,1),\"\")","v":""},{"$f":"IF(Registration!E83=\"S\",SUM(F84,I84,L84,O84,R84,U84),\"\")","v":""},{"$f":"IF(COUNTBLANK(Registration!B83)=1,\"\",IF(Registration!E83=\"s\",Registration!B83,\"\"))","v":""},{"$f":"IF(Registration!E83=\"S\",'Aussie Round'!V84,\"\")","v":""},{"$f":"IF(AND(Registration!$E83=\"S\",COUNTBLANK(D84)=0),RANK(D84,D$3:D$102,0),\"\")","v":""},{"$f":"IF(AND(Registration!$E83=\"s\",COUNTBLANK(E84)=0),placingpoints(E84,COUNTIF(E$3:E$102,\"=\"&E84)),\"\")","v":""},{"$f":"IF(Registration!$E83=\"S\",Accuracy!L83,\"\")","v":""},{"$f":"IF(AND(Registration!$E83=\"S\",COUNTBLANK(G84)=0),RANK(G84,G$3:G$102,0),\"\")","v":""},{"$f":"IF(AND(Registration!$E83=\"s\",COUNTBLANK(H84)=0),placingpoints(H84,COUNTIF(H$3:H$102,\"=\"&H84)),\"\")","v":""},{"$f":"IF(Registration!$E83=\"S\",MTA!G83,\"\")","v":""},{"$f":"IF(AND(Registration!$E83=\"S\",COUNTBLANK(J84)=0),RANK(J84,J$3:J$102,0),\"\")","v":""},{"$f":"IF(AND(Registration!$E83=\"s\",COUNTBLANK(K84)=0),placingpoints(K84,COUNTIF(K$3:K$102,\"=\"&K84)),\"\")","v":""},{"$f":"IF(Registration!$E83=\"S\",'Trick Catch'!X84,\"\")","v":""},{"$f":"IF(AND(Registration!$E83=\"S\",COUNTBLANK(M84)=0),RANK(M84,M$3:M$102,0),\"\")","v":""},{"$f":"IF(AND(Registration!$E83=\"s\",COUNTBLANK(N84)=0),placingpoints(N84,COUNTIF(N$3:N$102,\"=\"&N84)),\"\")","v":""},{"$f":"IF(Registration!$E83=\"S\",'Fast Catch'!F83,\"\")","v":""},{"$f":"IF(AND(Registration!$E83=\"S\",COUNTBLANK(P84)=0),RANK(P84,P$3:P$102,1),\"\")","v":""},{"$f":"IF(AND(Registration!$E83=\"s\",COUNTBLANK(Q84)=0),placingpoints(Q84,COUNTIF(Q$3:Q$102,\"=\"&Q84)),\"\")","v":""},{"$f":"IF(Registration!$E83=\"S\",Endurance!C83,\"\")","v":""},{"$f":"IF(AND(Registration!$E83=\"S\",COUNTBLANK(S84)=0),RANK(S84,S$3:S$102,0),\"\")","v":""},{"$f":"IF(AND(Registration!$E83=\"s\",COUNTBLANK(T84)=0),placingpoints(T84,COUNTIF(T$3:T$102,\"=\"&T84)),\"\")","v":""}]
[{"$f":"IF(Registration!E84=\"S\",RANK(B85,$B$3:$B$102,1),\"\")","v":""},{"$f":"IF(Registration!E84=\"S\",SUM(F85,I85,L85,O85,R85,U85),\"\")","v":""},{"$f":"IF(COUNTBLANK(Registration!B84)=1,\"\",IF(Registration!E84=\"s\",Registration!B84,\"\"))","v":""},{"$f":"IF(Registration!E84=\"S\",'Aussie Round'!V85,\"\")","v":""},{"$f":"IF(AND(Registration!$E84=\"S\",COUNTBLANK(D85)=0),RANK(D85,D$3:D$102,0),\"\")","v":""},{"$f":"IF(AND(Registration!$E84=\"s\",COUNTBLANK(E85)=0),placingpoints(E85,COUNTIF(E$3:E$102,\"=\"&E85)),\"\")","v":""},{"$f":"IF(Registration!$E84=\"S\",Accuracy!L84,\"\")","v":""},{"$f":"IF(AND(Registration!$E84=\"S\",COUNTBLANK(G85)=0),RANK(G85,G$3:G$102,0),\"\")","v":""},{"$f":"IF(AND(Registration!$E84=\"s\",COUNTBLANK(H85)=0),placingpoints(H85,COUNTIF(H$3:H$102,\"=\"&H85)),\"\")","v":""},{"$f":"IF(Registration!$E84=\"S\",MTA!G84,\"\")","v":""},{"$f":"IF(AND(Registration!$E84=\"S\",COUNTBLANK(J85)=0),RANK(J85,J$3:J$102,0),\"\")","v":""},{"$f":"IF(AND(Registration!$E84=\"s\",COUNTBLANK(K85)=0),placingpoints(K85,COUNTIF(K$3:K$102,\"=\"&K85)),\"\")","v":""},{"$f":"IF(Registration!$E84=\"S\",'Trick Catch'!X85,\"\")","v":""},{"$f":"IF(AND(Registration!$E84=\"S\",COUNTBLANK(M85)=0),RANK(M85,M$3:M$102,0),\"\")","v":""},{"$f":"IF(AND(Registration!$E84=\"s\",COUNTBLANK(N85)=0),placingpoints(N85,COUNTIF(N$3:N$102,\"=\"&N85)),\"\")","v":""},{"$f":"IF(Registration!$E84=\"S\",'Fast Catch'!F84,\"\")","v":""},{"$f":"IF(AND(Registration!$E84=\"S\",COUNTBLANK(P85)=0),RANK(P85,P$3:P$102,1),\"\")","v":""},{"$f":"IF(AND(Registration!$E84=\"s\",COUNTBLANK(Q85)=0),placingpoints(Q85,COUNTIF(Q$3:Q$102,\"=\"&Q85)),\"\")","v":""},{"$f":"IF(Registration!$E84=\"S\",Endurance!C84,\"\")","v":""},{"$f":"IF(AND(Registration!$E84=\"S\",COUNTBLANK(S85)=0),RANK(S85,S$3:S$102,0),\"\")","v":""},{"$f":"IF(AND(Registration!$E84=\"s\",COUNTBLANK(T85)=0),placingpoints(T85,COUNTIF(T$3:T$102,\"=\"&T85)),\"\")","v":""}]
[{"$f":"IF(Registration!E85=\"S\",RANK(B86,$B$3:$B$102,1),\"\")","v":""},{"$f":"IF(Registration!E85=\"S\",SUM(F86,I86,L86,O86,R86,U86),\"\")","v":""},{"$f":"IF(COUNTBLANK(Registration!B85)=1,\"\",IF(Registration!E85=\"s\",Registration!B85,\"\"))","v":""},{"$f":"IF(Registration!E85=\"S\",'Aussie Round'!V86,\"\")","v":""},{"$f":"IF(AND(Registration!$E85=\"S\",COUNTBLANK(D86)=0),RANK(D86,D$3:D$102,0),\"\")","v":""},{"$f":"IF(AND(Registration!$E85=\"s\",COUNTBLANK(E86)=0),placingpoints(E86,COUNTIF(E$3:E$102,\"=\"&E86)),\"\")","v":""},{"$f":"IF(Registration!$E85=\"S\",Accuracy!L85,\"\")","v":""},{"$f":"IF(AND(Registration!$E85=\"S\",COUNTBLANK(G86)=0),RANK(G86,G$3:G$102,0),\"\")","v":""},{"$f":"IF(AND(Registration!$E85=\"s\",COUNTBLANK(H86)=0),placingpoints(H86,COUNTIF(H$3:H$102,\"=\"&H86)),\"\")","v":""},{"$f":"IF(Registration!$E85=\"S\",MTA!G85,\"\")","v":""},{"$f":"IF(AND(Registration!$E85=\"S\",COUNTBLANK(J86)=0),RANK(J86,J$3:J$102,0),\"\")","v":""},{"$f":"IF(AND(Registration!$E85=\"s\",COUNTBLANK(K86)=0),placingpoints(K86,COUNTIF(K$3:K$102,\"=\"&K86)),\"\")","v":""},{"$f":"IF(Registration!$E85=\"S\",'Trick Catch'!X86,\"\")","v":""},{"$f":"IF(AND(Registration!$E85=\"S\",COUNTBLANK(M86)=0),RANK(M86,M$3:M$102,0),\"\")","v":""},{"$f":"IF(AND(Registration!$E85=\"s\",COUNTBLANK(N86)=0),placingpoints(N86,COUNTIF(N$3:N$102,\"=\"&N86)),\"\")","v":""},{"$f":"IF(Registration!$E85=\"S\",'Fast Catch'!F85,\"\")","v":""},{"$f":"IF(AND(Registration!$E85=\"S\",COUNTBLANK(P86)=0),RANK(P86,P$3:P$102,1),\"\")","v":""},{"$f":"IF(AND(Registration!$E85=\"s\",COUNTBLANK(Q86)=0),placingpoints(Q86,COUNTIF(Q$3:Q$102,\"=\"&Q86)),\"\")","v":""},{"$f":"IF(Registration!$E85=\"S\",Endurance!C85,\"\")","v":""},{"$f":"IF(AND(Registration!$E85=\"S\",COUNTBLANK(S86)=0),RANK(S86,S$3:S$102,0),\"\")","v":""},{"$f":"IF(AND(Registration!$E85=\"s\",COUNTBLANK(T86)=0),placingpoints(T86,COUNTIF(T$3:T$102,\"=\"&T86)),\"\")","v":""}]
[{"$f":"IF(Registration!E86=\"S\",RANK(B87,$B$3:$B$102,1),\"\")","v":""},{"$f":"IF(Registration!E86=\"S\",SUM(F87,I87,L87,O87,R87,U87),\"\")","v":""},{"$f":"IF(COUNTBLANK(Registration!B86)=1,\"\",IF(Registration!E86=\"s\",Registration!B86,\"\"))","v":""},{"$f":"IF(Registration!E86=\"S\",'Aussie Round'!V87,\"\")","v":""},{"$f":"IF(AND(Registration!$E86=\"S\",COUNTBLANK(D87)=0),RANK(D87,D$3:D$102,0),\"\")","v":""},{"$f":"IF(AND(Registration!$E86=\"s\",COUNTBLANK(E87)=0),placingpoints(E87,COUNTIF(E$3:E$102,\"=\"&E87)),\"\")","v":""},{"$f":"IF(Registration!$E86=\"S\",Accuracy!L86,\"\")","v":""},{"$f":"IF(AND(Registration!$E86=\"S\",COUNTBLANK(G87)=0),RANK(G87,G$3:G$102,0),\"\")","v":""},{"$f":"IF(AND(Registration!$E86=\"s\",COUNTBLANK(H87)=0),placingpoints(H87,COUNTIF(H$3:H$102,\"=\"&H87)),\"\")","v":""},{"$f":"IF(Registration!$E86=\"S\",MTA!G86,\"\")","v":""},{"$f":"IF(AND(Registration!$E86=\"S\",COUNTBLANK(J87)=0),RANK(J87,J$3:J$102,0),\"\")","v":""},{"$f":"IF(AND(Registration!$E86=\"s\",COUNTBLANK(K87)=0),placingpoints(K87,COUNTIF(K$3:K$102,\"=\"&K87)),\"\")","v":""},{"$f":"IF(Registration!$E86=\"S\",'Trick Catch'!X87,\"\")","v":""},{"$f":"IF(AND(Registration!$E86=\"S\",COUNTBLANK(M87)=0),RANK(M87,M$3:M$102,0),\"\")","v":""},{"$f":"IF(AND(Registration!$E86=\"s\",COUNTBLANK(N87)=0),placingpoints(N87,COUNTIF(N$3:N$102,\"=\"&N87)),\"\")","v":""},{"$f":"IF(Registration!$E86=\"S\",'Fast Catch'!F86,\"\")","v":""},{"$f":"IF(AND(Registration!$E86=\"S\",COUNTBLANK(P87)=0),RANK(P87,P$3:P$102,1),\"\")","v":""},{"$f":"IF(AND(Registration!$E86=\"s\",COUNTBLANK(Q87)=0),placingpoints(Q87,COUNTIF(Q$3:Q$102,\"=\"&Q87)),\"\")","v":""},{"$f":"IF(Registration!$E86=\"S\",Endurance!C86,\"\")","v":""},{"$f":"IF(AND(Registration!$E86=\"S\",COUNTBLANK(S87)=0),RANK(S87,S$3:S$102,0),\"\")","v":""},{"$f":"IF(AND(Registration!$E86=\"s\",COUNTBLANK(T87)=0),placingpoints(T87,COUNTIF(T$3:T$102,\"=\"&T87)),\"\")","v":""}]
[{"$f":"IF(Registration!E87=\"S\",RANK(B88,$B$3:$B$102,1),\"\")","v":""},{"$f":"IF(Registration!E87=\"S\",SUM(F88,I88,L88,O88,R88,U88),\"\")","v":""},{"$f":"IF(COUNTBLANK(Registration!B87)=1,\"\",IF(Registration!E87=\"s\",Registration!B87,\"\"))","v":""},{"$f":"IF(Registration!E87=\"S\",'Aussie Round'!V88,\"\")","v":""},{"$f":"IF(AND(Registration!$E87=\"S\",COUNTBLANK(D88)=0),RANK(D88,D$3:D$102,0),\"\")","v":""},{"$f":"IF(AND(Registration!$E87=\"s\",COUNTBLANK(E88)=0),placingpoints(E88,COUNTIF(E$3:E$102,\"=\"&E88)),\"\")","v":""},{"$f":"IF(Registration!$E87=\"S\",Accuracy!L87,\"\")","v":""},{"$f":"IF(AND(Registration!$E87=\"S\",COUNTBLANK(G88)=0),RANK(G88,G$3:G$102,0),\"\")","v":""},{"$f":"IF(AND(Registration!$E87=\"s\",COUNTBLANK(H88)=0),placingpoints(H88,COUNTIF(H$3:H$102,\"=\"&H88)),\"\")","v":""},{"$f":"IF(Registration!$E87=\"S\",MTA!G87,\"\")","v":""},{"$f":"IF(AND(Registration!$E87=\"S\",COUNTBLANK(J88)=0),RANK(J88,J$3:J$102,0),\"\")","v":""},{"$f":"IF(AND(Registration!$E87=\"s\",COUNTBLANK(K88)=0),placingpoints(K88,COUNTIF(K$3:K$102,\"=\"&K88)),\"\")","v":""},{"$f":"IF(Registration!$E87=\"S\",'Trick Catch'!X88,\"\")","v":""},{"$f":"IF(AND(Registration!$E87=\"S\",COUNTBLANK(M88)=0),RANK(M88,M$3:M$102,0),\"\")","v":""},{"$f":"IF(AND(Registration!$E87=\"s\",COUNTBLANK(N88)=0),placingpoints(N88,COUNTIF(N$3:N$102,\"=\"&N88)),\"\")","v":""},{"$f":"IF(Registration!$E87=\"S\",'Fast Catch'!F87,\"\")","v":""},{"$f":"IF(AND(Registration!$E87=\"S\",COUNTBLANK(P88)=0),RANK(P88,P$3:P$102,1),\"\")","v":""},{"$f":"IF(AND(Registration!$E87=\"s\",COUNTBLANK(Q88)=0),placingpoints(Q88,COUNTIF(Q$3:Q$102,\"=\"&Q88)),\"\")","v":""},{"$f":"IF(Registration!$E87=\"S\",Endurance!C87,\"\")","v":""},{"$f":"IF(AND(Registration!$E87=\"S\",COUNTBLANK(S88)=0),RANK(S88,S$3:S$102,0),\"\")","v":""},{"$f":"IF(AND(Registration!$E87=\"s\",COUNTBLANK(T88)=0),placingpoints(T88,COUNTIF(T$3:T$102,\"=\"&T88)),\"\")","v":""}]
[{"$f":"IF(Registration!E88=\"S\",RANK(B89,$B$3:$B$102,1),\"\")","v":""},{"$f":"IF(Registration!E88=\"S\",SUM(F89,I89,L89,O89,R89,U89),\"\")","v":""},{"$f":"IF(COUNTBLANK(Registration!B88)=1,\"\",IF(Registration!E88=\"s\",Registration!B88,\"\"))","v":""},{"$f":"IF(Registration!E88=\"S\",'Aussie Round'!V89,\"\")","v":""},{"$f":"IF(AND(Registration!$E88=\"S\",COUNTBLANK(D89)=0),RANK(D89,D$3:D$102,0),\"\")","v":""},{"$f":"IF(AND(Registration!$E88=\"s\",COUNTBLANK(E89)=0),placingpoints(E89,COUNTIF(E$3:E$102,\"=\"&E89)),\"\")","v":""},{"$f":"IF(Registration!$E88=\"S\",Accuracy!L88,\"\")","v":""},{"$f":"IF(AND(Registration!$E88=\"S\",COUNTBLANK(G89)=0),RANK(G89,G$3:G$102,0),\"\")","v":""},{"$f":"IF(AND(Registration!$E88=\"s\",COUNTBLANK(H89)=0),placingpoints(H89,COUNTIF(H$3:H$102,\"=\"&H89)),\"\")","v":""},{"$f":"IF(Registration!$E88=\"S\",MTA!G88,\"\")","v":""},{"$f":"IF(AND(Registration!$E88=\"S\",COUNTBLANK(J89)=0),RANK(J89,J$3:J$102,0),\"\")","v":""},{"$f":"IF(AND(Registration!$E88=\"s\",COUNTBLANK(K89)=0),placingpoints(K89,COUNTIF(K$3:K$102,\"=\"&K89)),\"\")","v":""},{"$f":"IF(Registration!$E88=\"S\",'Trick Catch'!X89,\"\")","v":""},{"$f":"IF(AND(Registration!$E88=\"S\",COUNTBLANK(M89)=0),RANK(M89,M$3:M$102,0),\"\")","v":""},{"$f":"IF(AND(Registration!$E88=\"s\",COUNTBLANK(N89)=0),placingpoints(N89,COUNTIF(N$3:N$102,\"=\"&N89)),\"\")","v":""},{"$f":"IF(Registration!$E88=\"S\",'Fast Catch'!F88,\"\")","v":""},{"$f":"IF(AND(Registration!$E88=\"S\",COUNTBLANK(P89)=0),RANK(P89,P$3:P$102,1),\"\")","v":""},{"$f":"IF(AND(Registration!$E88=\"s\",COUNTBLANK(Q89)=0),placingpoints(Q89,COUNTIF(Q$3:Q$102,\"=\"&Q89)),\"\")","v":""},{"$f":"IF(Registration!$E88=\"S\",Endurance!C88,\"\")","v":""},{"$f":"IF(AND(Registration!$E88=\"S\",COUNTBLANK(S89)=0),RANK(S89,S$3:S$102,0),\"\")","v":""},{"$f":"IF(AND(Registration!$E88=\"s\",COUNTBLANK(T89)=0),placingpoints(T89,COUNTIF(T$3:T$102,\"=\"&T89)),\"\")","v":""}]
[{"$f":"IF(Registration!E89=\"S\",RANK(B90,$B$3:$B$102,1),\"\")","v":""},{"$f":"IF(Registration!E89=\"S\",SUM(F90,I90,L90,O90,R90,U90),\"\")","v":""},{"$f":"IF(COUNTBLANK(Registration!B89)=1,\"\",IF(Registration!E89=\"s\",Registration!B89,\"\"))","v":""},{"$f":"IF(Registration!E89=\"S\",'Aussie Round'!V90,\"\")","v":""},{"$f":"IF(AND(Registration!$E89=\"S\",COUNTBLANK(D90)=0),RANK(D90,D$3:D$102,0),\"\")","v":""},{"$f":"IF(AND(Registration!$E89=\"s\",COUNTBLANK(E90)=0),placingpoints(E90,COUNTIF(E$3:E$102,\"=\"&E90)),\"\")","v":""},{"$f":"IF(Registration!$E89=\"S\",Accuracy!L89,\"\")","v":""},{"$f":"IF(AND(Registration!$E89=\"S\",COUNTBLANK(G90)=0),RANK(G90,G$3:G$102,0),\"\")","v":""},{"$f":"IF(AND(Registration!$E89=\"s\",COUNTBLANK(H90)=0),placingpoints(H90,COUNTIF(H$3:H$102,\"=\"&H90)),\"\")","v":""},{"$f":"IF(Registration!$E89=\"S\",MTA!G89,\"\")","v":""},{"$f":"IF(AND(Registration!$E89=\"S\",COUNTBLANK(J90)=0),RANK(J90,J$3:J$102,0),\"\")","v":""},{"$f":"IF(AND(Registration!$E89=\"s\",COUNTBLANK(K90)=0),placingpoints(K90,COUNTIF(K$3:K$102,\"=\"&K90)),\"\")","v":""},{"$f":"IF(Registration!$E89=\"S\",'Trick Catch'!X90,\"\")","v":""},{"$f":"IF(AND(Registration!$E89=\"S\",COUNTBLANK(M90)=0),RANK(M90,M$3:M$102,0),\"\")","v":""},{"$f":"IF(AND(Registration!$E89=\"s\",COUNTBLANK(N90)=0),placingpoints(N90,COUNTIF(N$3:N$102,\"=\"&N90)),\"\")","v":""},{"$f":"IF(Registration!$E89=\"S\",'Fast Catch'!F89,\"\")","v":""},{"$f":"IF(AND(Registration!$E89=\"S\",COUNTBLANK(P90)=0),RANK(P90,P$3:P$102,1),\"\")","v":""},{"$f":"IF(AND(Registration!$E89=\"s\",COUNTBLANK(Q90)=0),placingpoints(Q90,COUNTIF(Q$3:Q$102,\"=\"&Q90)),\"\")","v":""},{"$f":"IF(Registration!$E89=\"S\",Endurance!C89,\"\")","v":""},{"$f":"IF(AND(Registration!$E89=\"S\",COUNTBLANK(S90)=0),RANK(S90,S$3:S$102,0),\"\")","v":""},{"$f":"IF(AND(Registration!$E89=\"s\",COUNTBLANK(T90)=0),placingpoints(T90,COUNTIF(T$3:T$102,\"=\"&T90)),\"\")","v":""}]
[{"$f":"IF(Registration!E90=\"S\",RANK(B91,$B$3:$B$102,1),\"\")","v":""},{"$f":"IF(Registration!E90=\"S\",SUM(F91,I91,L91,O91,R91,U91),\"\")","v":""},{"$f":"IF(COUNTBLANK(Registration!B90)=1,\"\",IF(Registration!E90=\"s\",Registration!B90,\"\"))","v":""},{"$f":"IF(Registration!E90=\"S\",'Aussie Round'!V91,\"\")","v":""},{"$f":"IF(AND(Registration!$E90=\"S\",COUNTBLANK(D91)=0),RANK(D91,D$3:D$102,0),\"\")","v":""},{"$f":"IF(AND(Registration!$E90=\"s\",COUNTBLANK(E91)=0),placingpoints(E91,COUNTIF(E$3:E$102,\"=\"&E91)),\"\")","v":""},{"$f":"IF(Registration!$E90=\"S\",Accuracy!L90,\"\")","v":""},{"$f":"IF(AND(Registration!$E90=\"S\",COUNTBLANK(G91)=0),RANK(G91,G$3:G$102,0),\"\")","v":""},{"$f":"IF(AND(Registration!$E90=\"s\",COUNTBLANK(H91)=0),placingpoints(H91,COUNTIF(H$3:H$102,\"=\"&H91)),\"\")","v":""},{"$f":"IF(Registration!$E90=\"S\",MTA!G90,\"\")","v":""},{"$f":"IF(AND(Registration!$E90=\"S\",COUNTBLANK(J91)=0),RANK(J91,J$3:J$102,0),\"\")","v":""},{"$f":"IF(AND(Registration!$E90=\"s\",COUNTBLANK(K91)=0),placingpoints(K91,COUNTIF(K$3:K$102,\"=\"&K91)),\"\")","v":""},{"$f":"IF(Registration!$E90=\"S\",'Trick Catch'!X91,\"\")","v":""},{"$f":"IF(AND(Registration!$E90=\"S\",COUNTBLANK(M91)=0),RANK(M91,M$3:M$102,0),\"\")","v":""},{"$f":"IF(AND(Registration!$E90=\"s\",COUNTBLANK(N91)=0),placingpoints(N91,COUNTIF(N$3:N$102,\"=\"&N91)),\"\")","v":""},{"$f":"IF(Registration!$E90=\"S\",'Fast Catch'!F90,\"\")","v":""},{"$f":"IF(AND(Registration!$E90=\"S\",COUNTBLANK(P91)=0),RANK(P91,P$3:P$102,1),\"\")","v":""},{"$f":"IF(AND(Registration!$E90=\"s\",COUNTBLANK(Q91)=0),placingpoints(Q91,COUNTIF(Q$3:Q$102,\"=\"&Q91)),\"\")","v":""},{"$f":"IF(Registration!$E90=\"S\",Endurance!C90,\"\")","v":""},{"$f":"IF(AND(Registration!$E90=\"S\",COUNTBLANK(S91)=0),RANK(S91,S$3:S$102,0),\"\")","v":""},{"$f":"IF(AND(Registration!$E90=\"s\",COUNTBLANK(T91)=0),placingpoints(T91,COUNTIF(T$3:T$102,\"=\"&T91)),\"\")","v":""}]
[{"$f":"IF(Registration!E91=\"S\",RANK(B92,$B$3:$B$102,1),\"\")","v":""},{"$f":"IF(Registration!E91=\"S\",SUM(F92,I92,L92,O92,R92,U92),\"\")","v":""},{"$f":"IF(COUNTBLANK(Registration!B91)=1,\"\",IF(Registration!E91=\"s\",Registration!B91,\"\"))","v":""},{"$f":"IF(Registration!E91=\"S\",'Aussie Round'!V92,\"\")","v":""},{"$f":"IF(AND(Registration!$E91=\"S\",COUNTBLANK(D92)=0),RANK(D92,D$3:D$102,0),\"\")","v":""},{"$f":"IF(AND(Registration!$E91=\"s\",COUNTBLANK(E92)=0),placingpoints(E92,COUNTIF(E$3:E$102,\"=\"&E92)),\"\")","v":""},{"$f":"IF(Registration!$E91=\"S\",Accuracy!L91,\"\")","v":""},{"$f":"IF(AND(Registration!$E91=\"S\",COUNTBLANK(G92)=0),RANK(G92,G$3:G$102,0),\"\")","v":""},{"$f":"IF(AND(Registration!$E91=\"s\",COUNTBLANK(H92)=0),placingpoints(H92,COUNTIF(H$3:H$102,\"=\"&H92)),\"\")","v":""},{"$f":"IF(Registration!$E91=\"S\",MTA!G91,\"\")","v":""},{"$f":"IF(AND(Registration!$E91=\"S\",COUNTBLANK(J92)=0),RANK(J92,J$3:J$102,0),\"\")","v":""},{"$f":"IF(AND(Registration!$E91=\"s\",COUNTBLANK(K92)=0),placingpoints(K92,COUNTIF(K$3:K$102,\"=\"&K92)),\"\")","v":""},{"$f":"IF(Registration!$E91=\"S\",'Trick Catch'!X92,\"\")","v":""},{"$f":"IF(AND(Registration!$E91=\"S\",COUNTBLANK(M92)=0),RANK(M92,M$3:M$102,0),\"\")","v":""},{"$f":"IF(AND(Registration!$E91=\"s\",COUNTBLANK(N92)=0),placingpoints(N92,COUNTIF(N$3:N$102,\"=\"&N92)),\"\")","v":""},{"$f":"IF(Registration!$E91=\"S\",'Fast Catch'!F91,\"\")","v":""},{"$f":"IF(AND(Registration!$E91=\"S\",COUNTBLANK(P92)=0),RANK(P92,P$3:P$102,1),\"\")","v":""},{"$f":"IF(AND(Registration!$E91=\"s\",COUNTBLANK(Q92)=0),placingpoints(Q92,COUNTIF(Q$3:Q$102,\"=\"&Q92)),\"\")","v":""},{"$f":"IF(Registration!$E91=\"S\",Endurance!C91,\"\")","v":""},{"$f":"IF(AND(Registration!$E91=\"S\",COUNTBLANK(S92)=0),RANK(S92,S$3:S$102,0),\"\")","v":""},{"$f":"IF(AND(Registration!$E91=\"s\",COUNTBLANK(T92)=0),placingpoints(T92,COUNTIF(T$3:T$102,\"=\"&T92)),\"\")","v":""}]
[{"$f":"IF(Registration!E92=\"S\",RANK(B93,$B$3:$B$102,1),\"\")","v":""},{"$f":"IF(Registration!E92=\"S\",SUM(F93,I93,L93,O93,R93,U93),\"\")","v":""},{"$f":"IF(COUNTBLANK(Registration!B92)=1,\"\",IF(Registration!E92=\"s\",Registration!B92,\"\"))","v":""},{"$f":"IF(Registration!E92=\"S\",'Aussie Round'!V93,\"\")","v":""},{"$f":"IF(AND(Registration!$E92=\"S\",COUNTBLANK(D93)=0),RANK(D93,D$3:D$102,0),\"\")","v":""},{"$f":"IF(AND(Registration!$E92=\"s\",COUNTBLANK(E93)=0),placingpoints(E93,COUNTIF(E$3:E$102,\"=\"&E93)),\"\")","v":""},{"$f":"IF(Registration!$E92=\"S\",Accuracy!L92,\"\")","v":""},{"$f":"IF(AND(Registration!$E92=\"S\",COUNTBLANK(G93)=0),RANK(G93,G$3:G$102,0),\"\")","v":""},{"$f":"IF(AND(Registration!$E92=\"s\",COUNTBLANK(H93)=0),placingpoints(H93,COUNTIF(H$3:H$102,\"=\"&H93)),\"\")","v":""},{"$f":"IF(Registration!$E92=\"S\",MTA!G92,\"\")","v":""},{"$f":"IF(AND(Registration!$E92=\"S\",COUNTBLANK(J93)=0),RANK(J93,J$3:J$102,0),\"\")","v":""},{"$f":"IF(AND(Registration!$E92=\"s\",COUNTBLANK(K93)=0),placingpoints(K93,COUNTIF(K$3:K$102,\"=\"&K93)),\"\")","v":""},{"$f":"IF(Registration!$E92=\"S\",'Trick Catch'!X93,\"\")","v":""},{"$f":"IF(AND(Registration!$E92=\"S\",COUNTBLANK(M93)=0),RANK(M93,M$3:M$102,0),\"\")","v":""},{"$f":"IF(AND(Registration!$E92=\"s\",COUNTBLANK(N93)=0),placingpoints(N93,COUNTIF(N$3:N$102,\"=\"&N93)),\"\")","v":""},{"$f":"IF(Registration!$E92=\"S\",'Fast Catch'!F92,\"\")","v":""},{"$f":"IF(AND(Registration!$E92=\"S\",COUNTBLANK(P93)=0),RANK(P93,P$3:P$102,1),\"\")","v":""},{"$f":"IF(AND(Registration!$E92=\"s\",COUNTBLANK(Q93)=0),placingpoints(Q93,COUNTIF(Q$3:Q$102,\"=\"&Q93)),\"\")","v":""},{"$f":"IF(Registration!$E92=\"S\",Endurance!C92,\"\")","v":""},{"$f":"IF(AND(Registration!$E92=\"S\",COUNTBLANK(S93)=0),RANK(S93,S$3:S$102,0),\"\")","v":""},{"$f":"IF(AND(Registration!$E92=\"s\",COUNTBLANK(T93)=0),placingpoints(T93,COUNTIF(T$3:T$102,\"=\"&T93)),\"\")","v":""}]
[{"$f":"IF(Registration!E93=\"S\",RANK(B94,$B$3:$B$102,1),\"\")","v":""},{"$f":"IF(Registration!E93=\"S\",SUM(F94,I94,L94,O94,R94,U94),\"\")","v":""},{"$f":"IF(COUNTBLANK(Registration!B93)=1,\"\",IF(Registration!E93=\"s\",Registration!B93,\"\"))","v":""},{"$f":"IF(Registration!E93=\"S\",'Aussie Round'!V94,\"\")","v":""},{"$f":"IF(AND(Registration!$E93=\"S\",COUNTBLANK(D94)=0),RANK(D94,D$3:D$102,0),\"\")","v":""},{"$f":"IF(AND(Registration!$E93=\"s\",COUNTBLANK(E94)=0),placingpoints(E94,COUNTIF(E$3:E$102,\"=\"&E94)),\"\")","v":""},{"$f":"IF(Registration!$E93=\"S\",Accuracy!L93,\"\")","v":""},{"$f":"IF(AND(Registration!$E93=\"S\",COUNTBLANK(G94)=0),RANK(G94,G$3:G$102,0),\"\")","v":""},{"$f":"IF(AND(Registration!$E93=\"s\",COUNTBLANK(H94)=0),placingpoints(H94,COUNTIF(H$3:H$102,\"=\"&H94)),\"\")","v":""},{"$f":"IF(Registration!$E93=\"S\",MTA!G93,\"\")","v":""},{"$f":"IF(AND(Registration!$E93=\"S\",COUNTBLANK(J94)=0),RANK(J94,J$3:J$102,0),\"\")","v":""},{"$f":"IF(AND(Registration!$E93=\"s\",COUNTBLANK(K94)=0),placingpoints(K94,COUNTIF(K$3:K$102,\"=\"&K94)),\"\")","v":""},{"$f":"IF(Registration!$E93=\"S\",'Trick Catch'!X94,\"\")","v":""},{"$f":"IF(AND(Registration!$E93=\"S\",COUNTBLANK(M94)=0),RANK(M94,M$3:M$102,0),\"\")","v":""},{"$f":"IF(AND(Registration!$E93=\"s\",COUNTBLANK(N94)=0),placingpoints(N94,COUNTIF(N$3:N$102,\"=\"&N94)),\"\")","v":""},{"$f":"IF(Registration!$E93=\"S\",'Fast Catch'!F93,\"\")","v":""},{"$f":"IF(AND(Registration!$E93=\"S\",COUNTBLANK(P94)=0),RANK(P94,P$3:P$102,1),\"\")","v":""},{"$f":"IF(AND(Registration!$E93=\"s\",COUNTBLANK(Q94)=0),placingpoints(Q94,COUNTIF(Q$3:Q$102,\"=\"&Q94)),\"\")","v":""},{"$f":"IF(Registration!$E93=\"S\",Endurance!C93,\"\")","v":""},{"$f":"IF(AND(Registration!$E93=\"S\",COUNTBLANK(S94)=0),RANK(S94,S$3:S$102,0),\"\")","v":""},{"$f":"IF(AND(Registration!$E93=\"s\",COUNTBLANK(T94)=0),placingpoints(T94,COUNTIF(T$3:T$102,\"=\"&T94)),\"\")","v":""}]
[{"$f":"IF(Registration!E94=\"S\",RANK(B95,$B$3:$B$102,1),\"\")","v":""},{"$f":"IF(Registration!E94=\"S\",SUM(F95,I95,L95,O95,R95,U95),\"\")","v":""},{"$f":"IF(COUNTBLANK(Registration!B94)=1,\"\",IF(Registration!E94=\"s\",Registration!B94,\"\"))","v":""},{"$f":"IF(Registration!E94=\"S\",'Aussie Round'!V95,\"\")","v":""},{"$f":"IF(AND(Registration!$E94=\"S\",COUNTBLANK(D95)=0),RANK(D95,D$3:D$102,0),\"\")","v":""},{"$f":"IF(AND(Registration!$E94=\"s\",COUNTBLANK(E95)=0),placingpoints(E95,COUNTIF(E$3:E$102,\"=\"&E95)),\"\")","v":""},{"$f":"IF(Registration!$E94=\"S\",Accuracy!L94,\"\")","v":""},{"$f":"IF(AND(Registration!$E94=\"S\",COUNTBLANK(G95)=0),RANK(G95,G$3:G$102,0),\"\")","v":""},{"$f":"IF(AND(Registration!$E94=\"s\",COUNTBLANK(H95)=0),placingpoints(H95,COUNTIF(H$3:H$102,\"=\"&H95)),\"\")","v":""},{"$f":"IF(Registration!$E94=\"S\",MTA!G94,\"\")","v":""},{"$f":"IF(AND(Registration!$E94=\"S\",COUNTBLANK(J95)=0),RANK(J95,J$3:J$102,0),\"\")","v":""},{"$f":"IF(AND(Registration!$E94=\"s\",COUNTBLANK(K95)=0),placingpoints(K95,COUNTIF(K$3:K$102,\"=\"&K95)),\"\")","v":""},{"$f":"IF(Registration!$E94=\"S\",'Trick Catch'!X95,\"\")","v":""},{"$f":"IF(AND(Registration!$E94=\"S\",COUNTBLANK(M95)=0),RANK(M95,M$3:M$102,0),\"\")","v":""},{"$f":"IF(AND(Registration!$E94=\"s\",COUNTBLANK(N95)=0),placingpoints(N95,COUNTIF(N$3:N$102,\"=\"&N95)),\"\")","v":""},{"$f":"IF(Registration!$E94=\"S\",'Fast Catch'!F94,\"\")","v":""},{"$f":"IF(AND(Registration!$E94=\"S\",COUNTBLANK(P95)=0),RANK(P95,P$3:P$102,1),\"\")","v":""},{"$f":"IF(AND(Registration!$E94=\"s\",COUNTBLANK(Q95)=0),placingpoints(Q95,COUNTIF(Q$3:Q$102,\"=\"&Q95)),\"\")","v":""},{"$f":"IF(Registration!$E94=\"S\",Endurance!C94,\"\")","v":""},{"$f":"IF(AND(Registration!$E94=\"S\",COUNTBLANK(S95)=0),RANK(S95,S$3:S$102,0),\"\")","v":""},{"$f":"IF(AND(Registration!$E94=\"s\",COUNTBLANK(T95)=0),placingpoints(T95,COUNTIF(T$3:T$102,\"=\"&T95)),\"\")","v":""}]
[{"$f":"IF(Registration!E95=\"S\",RANK(B96,$B$3:$B$102,1),\"\")","v":""},{"$f":"IF(Registration!E95=\"S\",SUM(F96,I96,L96,O96,R96,U96),\"\")","v":""},{"$f":"IF(COUNTBLANK(Registration!B95)=1,\"\",IF(Registration!E95=\"s\",Registration!B95,\"\"))","v":""},{"$f":"IF(Registration!E95=\"S\",'Aussie Round'!V96,\"\")","v":""},{"$f":"IF(AND(Registration!$E95=\"S\",COUNTBLANK(D96)=0),RANK(D96,D$3:D$102,0),\"\")","v":""},{"$f":"IF(AND(Registration!$E95=\"s\",COUNTBLANK(E96)=0),placingpoints(E96,COUNTIF(E$3:E$102,\"=\"&E96)),\"\")","v":""},{"$f":"IF(Registration!$E95=\"S\",Accuracy!L95,\"\")","v":""},{"$f":"IF(AND(Registration!$E95=\"S\",COUNTBLANK(G96)=0),RANK(G96,G$3:G$102,0),\"\")","v":""},{"$f":"IF(AND(Registration!$E95=\"s\",COUNTBLANK(H96)=0),placingpoints(H96,COUNTIF(H$3:H$102,\"=\"&H96)),\"\")","v":""},{"$f":"IF(Registration!$E95=\"S\",MTA!G95,\"\")","v":""},{"$f":"IF(AND(Registration!$E95=\"S\",COUNTBLANK(J96)=0),RANK(J96,J$3:J$102,0),\"\")","v":""},{"$f":"IF(AND(Registration!$E95=\"s\",COUNTBLANK(K96)=0),placingpoints(K96,COUNTIF(K$3:K$102,\"=\"&K96)),\"\")","v":""},{"$f":"IF(Registration!$E95=\"S\",'Trick Catch'!X96,\"\")","v":""},{"$f":"IF(AND(Registration!$E95=\"S\",COUNTBLANK(M96)=0),RANK(M96,M$3:M$102,0),\"\")","v":""},{"$f":"IF(AND(Registration!$E95=\"s\",COUNTBLANK(N96)=0),placingpoints(N96,COUNTIF(N$3:N$102,\"=\"&N96)),\"\")","v":""},{"$f":"IF(Registration!$E95=\"S\",'Fast Catch'!F95,\"\")","v":""},{"$f":"IF(AND(Registration!$E95=\"S\",COUNTBLANK(P96)=0),RANK(P96,P$3:P$102,1),\"\")","v":""},{"$f":"IF(AND(Registration!$E95=\"s\",COUNTBLANK(Q96)=0),placingpoints(Q96,COUNTIF(Q$3:Q$102,\"=\"&Q96)),\"\")","v":""},{"$f":"IF(Registration!$E95=\"S\",Endurance!C95,\"\")","v":""},{"$f":"IF(AND(Registration!$E95=\"S\",COUNTBLANK(S96)=0),RANK(S96,S$3:S$102,0),\"\")","v":""},{"$f":"IF(AND(Registration!$E95=\"s\",COUNTBLANK(T96)=0),placingpoints(T96,COUNTIF(T$3:T$102,\"=\"&T96)),\"\")","v":""}]
[{"$f":"IF(Registration!E96=\"S\",RANK(B97,$B$3:$B$102,1),\"\")","v":""},{"$f":"IF(Registration!E96=\"S\",SUM(F97,I97,L97,O97,R97,U97),\"\")","v":""},{"$f":"IF(COUNTBLANK(Registration!B96)=1,\"\",IF(Registration!E96=\"s\",Registration!B96,\"\"))","v":""},{"$f":"IF(Registration!E96=\"S\",'Aussie Round'!V97,\"\")","v":""},{"$f":"IF(AND(Registration!$E96=\"S\",COUNTBLANK(D97)=0),RANK(D97,D$3:D$102,0),\"\")","v":""},{"$f":"IF(AND(Registration!$E96=\"s\",COUNTBLANK(E97)=0),placingpoints(E97,COUNTIF(E$3:E$102,\"=\"&E97)),\"\")","v":""},{"$f":"IF(Registration!$E96=\"S\",Accuracy!L96,\"\")","v":""},{"$f":"IF(AND(Registration!$E96=\"S\",COUNTBLANK(G97)=0),RANK(G97,G$3:G$102,0),\"\")","v":""},{"$f":"IF(AND(Registration!$E96=\"s\",COUNTBLANK(H97)=0),placingpoints(H97,COUNTIF(H$3:H$102,\"=\"&H97)),\"\")","v":""},{"$f":"IF(Registration!$E96=\"S\",MTA!G96,\"\")","v":""},{"$f":"IF(AND(Registration!$E96=\"S\",COUNTBLANK(J97)=0),RANK(J97,J$3:J$102,0),\"\")","v":""},{"$f":"IF(AND(Registration!$E96=\"s\",COUNTBLANK(K97)=0),placingpoints(K97,COUNTIF(K$3:K$102,\"=\"&K97)),\"\")","v":""},{"$f":"IF(Registration!$E96=\"S\",'Trick Catch'!X97,\"\")","v":""},{"$f":"IF(AND(Registration!$E96=\"S\",COUNTBLANK(M97)=0),RANK(M97,M$3:M$102,0),\"\")","v":""},{"$f":"IF(AND(Registration!$E96=\"s\",COUNTBLANK(N97)=0),placingpoints(N97,COUNTIF(N$3:N$102,\"=\"&N97)),\"\")","v":""},{"$f":"IF(Registration!$E96=\"S\",'Fast Catch'!F96,\"\")","v":""},{"$f":"IF(AND(Registration!$E96=\"S\",COUNTBLANK(P97)=0),RANK(P97,P$3:P$102,1),\"\")","v":""},{"$f":"IF(AND(Registration!$E96=\"s\",COUNTBLANK(Q97)=0),placingpoints(Q97,COUNTIF(Q$3:Q$102,\"=\"&Q97)),\"\")","v":""},{"$f":"IF(Registration!$E96=\"S\",Endurance!C96,\"\")","v":""},{"$f":"IF(AND(Registration!$E96=\"S\",COUNTBLANK(S97)=0),RANK(S97,S$3:S$102,0),\"\")","v":""},{"$f":"IF(AND(Registration!$E96=\"s\",COUNTBLANK(T97)=0),placingpoints(T97,COUNTIF(T$3:T$102,\"=\"&T97)),\"\")","v":""}]
[{"$f":"IF(Registration!E97=\"S\",RANK(B98,$B$3:$B$102,1),\"\")","v":""},{"$f":"IF(Registration!E97=\"S\",SUM(F98,I98,L98,O98,R98,U98),\"\")","v":""},{"$f":"IF(COUNTBLANK(Registration!B97)=1,\"\",IF(Registration!E97=\"s\",Registration!B97,\"\"))","v":""},{"$f":"IF(Registration!E97=\"S\",'Aussie Round'!V98,\"\")","v":""},{"$f":"IF(AND(Registration!$E97=\"S\",COUNTBLANK(D98)=0),RANK(D98,D$3:D$102,0),\"\")","v":""},{"$f":"IF(AND(Registration!$E97=\"s\",COUNTBLANK(E98)=0),placingpoints(E98,COUNTIF(E$3:E$102,\"=\"&E98)),\"\")","v":""},{"$f":"IF(Registration!$E97=\"S\",Accuracy!L97,\"\")","v":""},{"$f":"IF(AND(Registration!$E97=\"S\",COUNTBLANK(G98)=0),RANK(G98,G$3:G$102,0),\"\")","v":""},{"$f":"IF(AND(Registration!$E97=\"s\",COUNTBLANK(H98)=0),placingpoints(H98,COUNTIF(H$3:H$102,\"=\"&H98)),\"\")","v":""},{"$f":"IF(Registration!$E97=\"S\",MTA!G97,\"\")","v":""},{"$f":"IF(AND(Registration!$E97=\"S\",COUNTBLANK(J98)=0),RANK(J98,J$3:J$102,0),\"\")","v":""},{"$f":"IF(AND(Registration!$E97=\"s\",COUNTBLANK(K98)=0),placingpoints(K98,COUNTIF(K$3:K$102,\"=\"&K98)),\"\")","v":""},{"$f":"IF(Registration!$E97=\"S\",'Trick Catch'!X98,\"\")","v":""},{"$f":"IF(AND(Registration!$E97=\"S\",COUNTBLANK(M98)=0),RANK(M98,M$3:M$102,0),\"\")","v":""},{"$f":"IF(AND(Registration!$E97=\"s\",COUNTBLANK(N98)=0),placingpoints(N98,COUNTIF(N$3:N$102,\"=\"&N98)),\"\")","v":""},{"$f":"IF(Registration!$E97=\"S\",'Fast Catch'!F97,\"\")","v":""},{"$f":"IF(AND(Registration!$E97=\"S\",COUNTBLANK(P98)=0),RANK(P98,P$3:P$102,1),\"\")","v":""},{"$f":"IF(AND(Registration!$E97=\"s\",COUNTBLANK(Q98)=0),placingpoints(Q98,COUNTIF(Q$3:Q$102,\"=\"&Q98)),\"\")","v":""},{"$f":"IF(Registration!$E97=\"S\",Endurance!C97,\"\")","v":""},{"$f":"IF(AND(Registration!$E97=\"S\",COUNTBLANK(S98)=0),RANK(S98,S$3:S$102,0),\"\")","v":""},{"$f":"IF(AND(Registration!$E97=\"s\",COUNTBLANK(T98)=0),placingpoints(T98,COUNTIF(T$3:T$102,\"=\"&T98)),\"\")","v":""}]
[{"$f":"IF(Registration!E98=\"S\",RANK(B99,$B$3:$B$102,1),\"\")","v":""},{"$f":"IF(Registration!E98=\"S\",SUM(F99,I99,L99,O99,R99,U99),\"\")","v":""},{"$f":"IF(COUNTBLANK(Registration!B98)=1,\"\",IF(Registration!E98=\"s\",Registration!B98,\"\"))","v":""},{"$f":"IF(Registration!E98=\"S\",'Aussie Round'!V99,\"\")","v":""},{"$f":"IF(AND(Registration!$E98=\"S\",COUNTBLANK(D99)=0),RANK(D99,D$3:D$102,0),\"\")","v":""},{"$f":"IF(AND(Registration!$E98=\"s\",COUNTBLANK(E99)=0),placingpoints(E99,COUNTIF(E$3:E$102,\"=\"&E99)),\"\")","v":""},{"$f":"IF(Registration!$E98=\"S\",Accuracy!L98,\"\")","v":""},{"$f":"IF(AND(Registration!$E98=\"S\",COUNTBLANK(G99)=0),RANK(G99,G$3:G$102,0),\"\")","v":""},{"$f":"IF(AND(Registration!$E98=\"s\",COUNTBLANK(H99)=0),placingpoints(H99,COUNTIF(H$3:H$102,\"=\"&H99)),\"\")","v":""},{"$f":"IF(Registration!$E98=\"S\",MTA!G98,\"\")","v":""},{"$f":"IF(AND(Registration!$E98=\"S\",COUNTBLANK(J99)=0),RANK(J99,J$3:J$102,0),\"\")","v":""},{"$f":"IF(AND(Registration!$E98=\"s\",COUNTBLANK(K99)=0),placingpoints(K99,COUNTIF(K$3:K$102,\"=\"&K99)),\"\")","v":""},{"$f":"IF(Registration!$E98=\"S\",'Trick Catch'!X99,\"\")","v":""},{"$f":"IF(AND(Registration!$E98=\"S\",COUNTBLANK(M99)=0),RANK(M99,M$3:M$102,0),\"\")","v":""},{"$f":"IF(AND(Registration!$E98=\"s\",COUNTBLANK(N99)=0),placingpoints(N99,COUNTIF(N$3:N$102,\"=\"&N99)),\"\")","v":""},{"$f":"IF(Registration!$E98=\"S\",'Fast Catch'!F98,\"\")","v":""},{"$f":"IF(AND(Registration!$E98=\"S\",COUNTBLANK(P99)=0),RANK(P99,P$3:P$102,1),\"\")","v":""},{"$f":"IF(AND(Registration!$E98=\"s\",COUNTBLANK(Q99)=0),placingpoints(Q99,COUNTIF(Q$3:Q$102,\"=\"&Q99)),\"\")","v":""},{"$f":"IF(Registration!$E98=\"S\",Endurance!C98,\"\")","v":""},{"$f":"IF(AND(Registration!$E98=\"S\",COUNTBLANK(S99)=0),RANK(S99,S$3:S$102,0),\"\")","v":""},{"$f":"IF(AND(Registration!$E98=\"s\",COUNTBLANK(T99)=0),placingpoints(T99,COUNTIF(T$3:T$102,\"=\"&T99)),\"\")","v":""}]
[{"$f":"IF(Registration!E99=\"S\",RANK(B100,$B$3:$B$102,1),\"\")","v":""},{"$f":"IF(Registration!E99=\"S\",SUM(F100,I100,L100,O100,R100,U100),\"\")","v":""},{"$f":"IF(COUNTBLANK(Registration!B99)=1,\"\",IF(Registration!E99=\"s\",Registration!B99,\"\"))","v":""},{"$f":"IF(Registration!E99=\"S\",'Aussie Round'!V100,\"\")","v":""},{"$f":"IF(AND(Registration!$E99=\"S\",COUNTBLANK(D100)=0),RANK(D100,D$3:D$102,0),\"\")","v":""},{"$f":"IF(AND(Registration!$E99=\"s\",COUNTBLANK(E100)=0),placingpoints(E100,COUNTIF(E$3:E$102,\"=\"&E100)),\"\")","v":""},{"$f":"IF(Registration!$E99=\"S\",Accuracy!L99,\"\")","v":""},{"$f":"IF(AND(Registration!$E99=\"S\",COUNTBLANK(G100)=0),RANK(G100,G$3:G$102,0),\"\")","v":""},{"$f":"IF(AND(Registration!$E99=\"s\",COUNTBLANK(H100)=0),placingpoints(H100,COUNTIF(H$3:H$102,\"=\"&H100)),\"\")","v":""},{"$f":"IF(Registration!$E99=\"S\",MTA!G99,\"\")","v":""},{"$f":"IF(AND(Registration!$E99=\"S\",COUNTBLANK(J100)=0),RANK(J100,J$3:J$102,0),\"\")","v":""},{"$f":"IF(AND(Registration!$E99=\"s\",COUNTBLANK(K100)=0),placingpoints(K100,COUNTIF(K$3:K$102,\"=\"&K100)),\"\")","v":""},{"$f":"IF(Registration!$E99=\"S\",'Trick Catch'!X100,\"\")","v":""},{"$f":"IF(AND(Registration!$E99=\"S\",COUNTBLANK(M100)=0),RANK(M100,M$3:M$102,0),\"\")","v":""},{"$f":"IF(AND(Registration!$E99=\"s\",COUNTBLANK(N100)=0),placingpoints(N100,COUNTIF(N$3:N$102,\"=\"&N100)),\"\")","v":""},{"$f":"IF(Registration!$E99=\"S\",'Fast Catch'!F99,\"\")","v":""},{"$f":"IF(AND(Registration!$E99=\"S\",COUNTBLANK(P100)=0),RANK(P100,P$3:P$102,1),\"\")","v":""},{"$f":"IF(AND(Registration!$E99=\"s\",COUNTBLANK(Q100)=0),placingpoints(Q100,COUNTIF(Q$3:Q$102,\"=\"&Q100)),\"\")","v":""},{"$f":"IF(Registration!$E99=\"S\",Endurance!C99,\"\")","v":""},{"$f":"IF(AND(Registration!$E99=\"S\",COUNTBLANK(S100)=0),RANK(S100,S$3:S$102,0),\"\")","v":""},{"$f":"IF(AND(Registration!$E99=\"s\",COUNTBLANK(T100)=0),placingpoints(T100,COUNTIF(T$3:T$102,\"=\"&T100)),\"\")","v":""}]
[{"$f":"IF(Registration!E100=\"S\",RANK(B101,$B$3:$B$102,1),\"\")","v":""},{"$f":"IF(Registration!E100=\"S\",SUM(F101,I101,L101,O101,R101,U101),\"\")","v":""},{"$f":"IF(COUNTBLANK(Registration!B100)=1,\"\",IF(Registration!E100=\"s\",Registration!B100,\"\"))","v":""},{"$f":"IF(Registration!E100=\"S\",'Aussie Round'!V101,\"\")","v":""},{"$f":"IF(AND(Registration!$E100=\"S\",COUNTBLANK(D101)=0),RANK(D101,D$3:D$102,0),\"\")","v":""},{"$f":"IF(AND(Registration!$E100=\"s\",COUNTBLANK(E101)=0),placingpoints(E101,COUNTIF(E$3:E$102,\"=\"&E101)),\"\")","v":""},{"$f":"IF(Registration!$E100=\"S\",Accuracy!L100,\"\")","v":""},{"$f":"IF(AND(Registration!$E100=\"S\",COUNTBLANK(G101)=0),RANK(G101,G$3:G$102,0),\"\")","v":""},{"$f":"IF(AND(Registration!$E100=\"s\",COUNTBLANK(H101)=0),placingpoints(H101,COUNTIF(H$3:H$102,\"=\"&H101)),\"\")","v":""},{"$f":"IF(Registration!$E100=\"S\",MTA!G100,\"\")","v":""},{"$f":"IF(AND(Registration!$E100=\"S\",COUNTBLANK(J101)=0),RANK(J101,J$3:J$102,0),\"\")","v":""},{"$f":"IF(AND(Registration!$E100=\"s\",COUNTBLANK(K101)=0),placingpoints(K101,COUNTIF(K$3:K$102,\"=\"&K101)),\"\")","v":""},{"$f":"IF(Registration!$E100=\"S\",'Trick Catch'!X101,\"\")","v":""},{"$f":"IF(AND(Registration!$E100=\"S\",COUNTBLANK(M101)=0),RANK(M101,M$3:M$102,0),\"\")","v":""},{"$f":"IF(AND(Registration!$E100=\"s\",COUNTBLANK(N101)=0),placingpoints(N101,COUNTIF(N$3:N$102,\"=\"&N101)),\"\")","v":""},{"$f":"IF(Registration!$E100=\"S\",'Fast Catch'!F100,\"\")","v":""},{"$f":"IF(AND(Registration!$E100=\"S\",COUNTBLANK(P101)=0),RANK(P101,P$3:P$102,1),\"\")","v":""},{"$f":"IF(AND(Registration!$E100=\"s\",COUNTBLANK(Q101)=0),placingpoints(Q101,COUNTIF(Q$3:Q$102,\"=\"&Q101)),\"\")","v":""},{"$f":"IF(Registration!$E100=\"S\",Endurance!C100,\"\")","v":""},{"$f":"IF(AND(Registration!$E100=\"S\",COUNTBLANK(S101)=0),RANK(S101,S$3:S$102,0),\"\")","v":""},{"$f":"IF(AND(Registration!$E100=\"s\",COUNTBLANK(T101)=0),placingpoints(T101,COUNTIF(T$3:T$102,\"=\"&T101)),\"\")","v":""}]
[{"$f":"IF(Registration!E101=\"S\",RANK(B102,$B$3:$B$102,1),\"\")","v":""},{"$f":"IF(Registration!E101=\"S\",SUM(F102,I102,L102,O102,R102,U102),\"\")","v":""},{"$f":"IF(COUNTBLANK(Registration!B101)=1,\"\",IF(Registration!E101=\"s\",Registration!B101,\"\"))","v":""},{"$f":"IF(Registration!E101=\"S\",'Aussie Round'!V102,\"\")","v":""},{"$f":"IF(AND(Registration!$E101=\"S\",COUNTBLANK(D102)=0),RANK(D102,D$3:D$102,0),\"\")","v":""},{"$f":"IF(AND(Registration!$E101=\"s\",COUNTBLANK(E102)=0),placingpoints(E102,COUNTIF(E$3:E$102,\"=\"&E102)),\"\")","v":""},{"$f":"IF(Registration!$E101=\"S\",Accuracy!L101,\"\")","v":""},{"$f":"IF(AND(Registration!$E101=\"S\",COUNTBLANK(G102)=0),RANK(G102,G$3:G$102,0),\"\")","v":""},{"$f":"IF(AND(Registration!$E101=\"s\",COUNTBLANK(H102)=0),placingpoints(H102,COUNTIF(H$3:H$102,\"=\"&H102)),\"\")","v":""},{"$f":"IF(Registration!$E101=\"S\",MTA!G101,\"\")","v":""},{"$f":"IF(AND(Registration!$E101=\"S\",COUNTBLANK(J102)=0),RANK(J102,J$3:J$102,0),\"\")","v":""},{"$f":"IF(AND(Registration!$E101=\"s\",COUNTBLANK(K102)=0),placingpoints(K102,COUNTIF(K$3:K$102,\"=\"&K102)),\"\")","v":""},{"$f":"IF(Registration!$E101=\"S\",'Trick Catch'!X102,\"\")","v":""},{"$f":"IF(AND(Registration!$E101=\"S\",COUNTBLANK(M102)=0),RANK(M102,M$3:M$102,0),\"\")","v":""},{"$f":"IF(AND(Registration!$E101=\"s\",COUNTBLANK(N102)=0),placingpoints(N102,COUNTIF(N$3:N$102,\"=\"&N102)),\"\")","v":""},{"$f":"IF(Registration!$E101=\"S\",'Fast Catch'!F101,\"\")","v":""},{"$f":"IF(AND(Registration!$E101=\"S\",COUNTBLANK(P102)=0),RANK(P102,P$3:P$102,1),\"\")","v":""},{"$f":"IF(AND(Registration!$E101=\"s\",COUNTBLANK(Q102)=0),placingpoints(Q102,COUNTIF(Q$3:Q$102,\"=\"&Q102)),\"\")","v":""},{"$f":"IF(Registration!$E101=\"S\",Endurance!C101,\"\")","v":""},{"$f":"IF(AND(Registration!$E101=\"S\",COUNTBLANK(S102)=0),RANK(S102,S$3:S$102,0),\"\")","v":""},{"$f":"IF(AND(Registration!$E101=\"s\",COUNTBLANK(T102)=0),placingpoints(T102,COUNTIF(T$3:T$102,\"=\"&T102)),\"\")","v":""}]

{"sheet":"Intermediate Score Sheet","index":9,"n_rows":101,"n_cols":21,"rows_kept":101,"cut":false,"hidden":false,"merged":[[0,0,0,1],[0,15,0,17],[0,18,0,20],[0,3,0,5],[0,9,0,11],[0,12,0,14],[0,6,0,8]]}
["Final",null,{"$f":"Registration!B1","v":"Name"},"Aussie Round",null,null,"Accuracy",null,null,"MTA",null,null,"Trick Catch",null,null,"Fast Catch",null,null,"Endurance"]
["Place","Score",null,"Score","Place","Points","Score","Place","Points","Score","Place","Points","Score","Place","Points","Score","Place","Points","Score","Place","Points"]
[{"$f":"IF(Registration!E2=\"o\",RANK(B3,$B$3:$B$101,1),\"\")","v":""},{"$f":"IF(Registration!E2=\"O\",SUM(F3,I3,L3,O3,R3,U3),\"\")","v":""},{"$f":"IF(COUNTBLANK(Registration!B2)=1,\"\",IF(Registration!E2=\"o\",Registration!B2,\"\"))","v":""},{"$f":"IF(Registration!E2=\"o\",'Aussie Round'!V3,\"\")","v":""},{"$f":"IF(AND(Registration!$E2=\"o\",COUNTBLANK(D3)=0),RANK(D3,D$3:D$101,0),\"\")","v":""},{"$f":"IF(AND(Registration!$E2=\"o\",COUNTBLANK(E3)=0),placingpoints(E3,COUNTIF(E$3:E$101,\"=\"&E3)),\"\")","v":""},{"$f":"IF(Registration!$E2=\"o\",Accuracy!L2,\"\")","v":""},{"$f":"IF(AND(Registration!$E2=\"o\",COUNTBLANK(G3)=0),RANK(G3,G$3:G$102,0),\"\")","v":""},{"$f":"IF(AND(Registration!$E2=\"o\",COUNTBLANK(H3)=0),placingpoints(H3,COUNTIF(H$3:H$102,\"=\"&H3)),\"\")","v":""},{"$f":"IF(Registration!$E2=\"o\",MTA!G2,\"\")","v":""},{"$f":"IF(AND(Registration!$E2=\"o\",COUNTBLANK(J3)=0),RANK(J3,J$3:J$101,0),\"\")","v":""},{"$f":"IF(AND(Registration!$E2=\"o\",COUNTBLANK(K3)=0),placingpoints(K3,COUNTIF(K$3:K$101,\"=\"&K3)),\"\")","v":""},{"$f":"IF(Registration!$E2=\"o\",'Trick Catch'!X3,\"\")","v":""},{"$f":"IF(AND(Registration!$E2=\"o\",COUNTBLANK(M3)=0),RANK(M3,M$3:M$101,0),\"\")","v":""},{"$f":"IF(AND(Registration!$E2=\"o\",COUNTBLANK(N3)=0),placingpoints(N3,COUNTIF(N$3:N$101,\"=\"&N3)),\"\")","v":""},{"$f":"IF(Registration!$E2=\"o\",'Fast Catch'!F2,\"\")","v":""},{"$f":"IF(AND(Registration!$E2=\"o\",COUNTBLANK(P3)=0),RANK(P3,P$3:P$101,1),\"\")","v":""},{"$f":"IF(AND(Registration!$E2=\"o\",COUNTBLANK(Q3)=0),placingpoints(Q3,COUNTIF(Q$3:Q$101,\"=\"&Q3)),\"\")","v":""},{"$f":"IF(Registration!$E2=\"o\",Endurance!C2,\"\")","v":""},{"$f":"IF(AND(Registration!$E2=\"o\",COUNTBLANK(S3)=0),RANK(S3,S$3:S$101,0),\"\")","v":""},{"$f":"IF(AND(Registration!$E2=\"o\",COUNTBLANK(T3)=0),placingpoints(T3,COUNTIF(T$3:T$101,\"=\"&T3)),\"\")","v":""}]
[{"$f":"IF(Registration!E3=\"o\",RANK(B4,$B$3:$B$101,1),\"\")","v":""},{"$f":"IF(Registration!E3=\"O\",SUM(F4,I4,L4,O4,R4,U4),\"\")","v":""},{"$f":"IF(COUNTBLANK(Registration!B3)=1,\"\",IF(Registration!E3=\"o\",Registration!B3,\"\"))","v":""},{"$f":"IF(Registration!E3=\"o\",'Aussie Round'!V4,\"\")","v":""},{"$f":"IF(AND(Registration!$E3=\"o\",COUNTBLANK(D4)=0),RANK(D4,D$3:D$101,0),\"\")","v":""},{"$f":"IF(AND(Registration!$E3=\"o\",COUNTBLANK(E4)=0),placingpoints(E4,COUNTIF(E$3:E$101,\"=\"&E4)),\"\")","v":""},{"$f":"IF(Registration!$E3=\"o\",Accuracy!L3,\"\")","v":""},{"$f":"IF(AND(Registration!$E3=\"o\",COUNTBLANK(G4)=0),RANK(G4,G$3:G$102,0),\"\")","v":""},{"$f":"IF(AND(Registration!$E3=\"o\",COUNTBLANK(H4)=0),placingpoints(H4,COUNTIF(H$3:H$102,\"=\"&H4)),\"\")","v":""},{"$f":"IF(Registration!$E3=\"o\",MTA!G3,\"\")","v":""},{"$f":"IF(AND(Registration!$E3=\"o\",COUNTBLANK(J4)=0),RANK(J4,J$3:J$101,0),\"\")","v":""},{"$f":"IF(AND(Registration!$E3=\"o\",COUNTBLANK(K4)=0),placingpoints(K4,COUNTIF(K$3:K$101,\"=\"&K4)),\"\")","v":""},{"$f":"IF(Registration!$E3=\"o\",'Trick Catch'!X4,\"\")","v":""},{"$f":"IF(AND(Registration!$E3=\"o\",COUNTBLANK(M4)=0),RANK(M4,M$3:M$101,0),\"\")","v":""},{"$f":"IF(AND(Registration!$E3=\"o\",COUNTBLANK(N4)=0),placingpoints(N4,COUNTIF(N$3:N$101,\"=\"&N4)),\"\")","v":""},{"$f":"IF(Registration!$E3=\"o\",'Fast Catch'!F3,\"\")","v":""},{"$f":"IF(AND(Registration!$E3=\"o\",COUNTBLANK(P4)=0),RANK(P4,P$3:P$101,1),\"\")","v":""},{"$f":"IF(AND(Registration!$E3=\"o\",COUNTBLANK(Q4)=0),placingpoints(Q4,COUNTIF(Q$3:Q$101,\"=\"&Q4)),\"\")","v":""},{"$f":"IF(Registration!$E3=\"o\",Endurance!C3,\"\")","v":""},{"$f":"IF(AND(Registration!$E3=\"o\",COUNTBLANK(S4)=0),RANK(S4,S$3:S$101,0),\"\")","v":""},{"$f":"IF(AND(Registration!$E3=\"o\",COUNTBLANK(T4)=0),placingpoints(T4,COUNTIF(T$3:T$101,\"=\"&T4)),\"\")","v":""}]
[{"$f":"IF(Registration!E4=\"o\",RANK(B5,$B$3:$B$101,1),\"\")","v":""},{"$f":"IF(Registration!E4=\"O\",SUM(F5,I5,L5,O5,R5,U5),\"\")","v":""},{"$f":"IF(COUNTBLANK(Registration!B4)=1,\"\",IF(Registration!E4=\"o\",Registration!B4,\"\"))","v":""},{"$f":"IF(Registration!E4=\"o\",'Aussie Round'!V5,\"\")","v":""},{"$f":"IF(AND(Registration!$E4=\"o\",COUNTBLANK(D5)=0),RANK(D5,D$3:D$101,0),\"\")","v":""},{"$f":"IF(AND(Registration!$E4=\"o\",COUNTBLANK(E5)=0),placingpoints(E5,COUNTIF(E$3:E$101,\"=\"&E5)),\"\")","v":""},{"$f":"IF(Registration!$E4=\"o\",Accuracy!L4,\"\")","v":""},{"$f":"IF(AND(Registration!$E4=\"o\",COUNTBLANK(G5)=0),RANK(G5,G$3:G$102,0),\"\")","v":""},{"$f":"IF(AND(Registration!$E4=\"o\",COUNTBLANK(H5)=0),placingpoints(H5,COUNTIF(H$3:H$102,\"=\"&H5)),\"\")","v":""},{"$f":"IF(Registration!$E4=\"o\",MTA!G4,\"\")","v":""},{"$f":"IF(AND(Registration!$E4=\"o\",COUNTBLANK(J5)=0),RANK(J5,J$3:J$101,0),\"\")","v":""},{"$f":"IF(AND(Registration!$E4=\"o\",COUNTBLANK(K5)=0),placingpoints(K5,COUNTIF(K$3:K$101,\"=\"&K5)),\"\")","v":""},{"$f":"IF(Registration!$E4=\"o\",'Trick Catch'!X5,\"\")","v":""},{"$f":"IF(AND(Registration!$E4=\"o\",COUNTBLANK(M5)=0),RANK(M5,M$3:M$101,0),\"\")","v":""},{"$f":"IF(AND(Registration!$E4=\"o\",COUNTBLANK(N5)=0),placingpoints(N5,COUNTIF(N$3:N$101,\"=\"&N5)),\"\")","v":""},{"$f":"IF(Registration!$E4=\"o\",'Fast Catch'!F4,\"\")","v":""},{"$f":"IF(AND(Registration!$E4=\"o\",COUNTBLANK(P5)=0),RANK(P5,P$3:P$101,1),\"\")","v":""},{"$f":"IF(AND(Registration!$E4=\"o\",COUNTBLANK(Q5)=0),placingpoints(Q5,COUNTIF(Q$3:Q$101,\"=\"&Q5)),\"\")","v":""},{"$f":"IF(Registration!$E4=\"o\",Endurance!C4,\"\")","v":""},{"$f":"IF(AND(Registration!$E4=\"o\",COUNTBLANK(S5)=0),RANK(S5,S$3:S$101,0),\"\")","v":""},{"$f":"IF(AND(Registration!$E4=\"o\",COUNTBLANK(T5)=0),placingpoints(T5,COUNTIF(T$3:T$101,\"=\"&T5)),\"\")","v":""}]
[{"$f":"IF(Registration!E5=\"o\",RANK(B6,$B$3:$B$101,1),\"\")","v":""},{"$f":"IF(Registration!E5=\"O\",SUM(F6,I6,L6,O6,R6,U6),\"\")","v":""},{"$f":"IF(COUNTBLANK(Registration!B5)=1,\"\",IF(Registration!E5=\"o\",Registration!B5,\"\"))","v":""},{"$f":"IF(Registration!E5=\"o\",'Aussie Round'!V6,\"\")","v":""},{"$f":"IF(AND(Registration!$E5=\"o\",COUNTBLANK(D6)=0),RANK(D6,D$3:D$101,0),\"\")","v":""},{"$f":"IF(AND(Registration!$E5=\"o\",COUNTBLANK(E6)=0),placingpoints(E6,COUNTIF(E$3:E$101,\"=\"&E6)),\"\")","v":""},{"$f":"IF(Registration!$E5=\"o\",Accuracy!L5,\"\")","v":""},{"$f":"IF(AND(Registration!$E5=\"o\",COUNTBLANK(G6)=0),RANK(G6,G$3:G$102,0),\"\")","v":""},{"$f":"IF(AND(Registration!$E5=\"o\",COUNTBLANK(H6)=0),placingpoints(H6,COUNTIF(H$3:H$102,\"=\"&H6)),\"\")","v":""},{"$f":"IF(Registration!$E5=\"o\",MTA!G5,\"\")","v":""},{"$f":"IF(AND(Registration!$E5=\"o\",COUNTBLANK(J6)=0),RANK(J6,J$3:J$101,0),\"\")","v":""},{"$f":"IF(AND(Registration!$E5=\"o\",COUNTBLANK(K6)=0),placingpoints(K6,COUNTIF(K$3:K$101,\"=\"&K6)),\"\")","v":""},{"$f":"IF(Registration!$E5=\"o\",'Trick Catch'!X6,\"\")","v":""},{"$f":"IF(AND(Registration!$E5=\"o\",COUNTBLANK(M6)=0),RANK(M6,M$3:M$101,0),\"\")","v":""},{"$f":"IF(AND(Registration!$E5=\"o\",COUNTBLANK(N6)=0),placingpoints(N6,COUNTIF(N$3:N$101,\"=\"&N6)),\"\")","v":""},{"$f":"IF(Registration!$E5=\"o\",'Fast Catch'!F5,\"\")","v":""},{"$f":"IF(AND(Registration!$E5=\"o\",COUNTBLANK(P6)=0),RANK(P6,P$3:P$101,1),\"\")","v":""},{"$f":"IF(AND(Registration!$E5=\"o\",COUNTBLANK(Q6)=0),placingpoints(Q6,COUNTIF(Q$3:Q$101,\"=\"&Q6)),\"\")","v":""},{"$f":"IF(Registration!$E5=\"o\",Endurance!C5,\"\")","v":""},{"$f":"IF(AND(Registration!$E5=\"o\",COUNTBLANK(S6)=0),RANK(S6,S$3:S$101,0),\"\")","v":""},{"$f":"IF(AND(Registration!$E5=\"o\",COUNTBLANK(T6)=0),placingpoints(T6,COUNTIF(T$3:T$101,\"=\"&T6)),\"\")","v":""}]
[{"$f":"IF(Registration!E6=\"o\",RANK(B7,$B$3:$B$101,1),\"\")","v":""},{"$f":"IF(Registration!E6=\"O\",SUM(F7,I7,L7,O7,R7,U7),\"\")","v":""},{"$f":"IF(COUNTBLANK(Registration!B6)=1,\"\",IF(Registration!E6=\"o\",Registration!B6,\"\"))","v":""},{"$f":"IF(Registration!E6=\"o\",'Aussie Round'!V7,\"\")","v":""},{"$f":"IF(AND(Registration!$E6=\"o\",COUNTBLANK(D7)=0),RANK(D7,D$3:D$101,0),\"\")","v":""},{"$f":"IF(AND(Registration!$E6=\"o\",COUNTBLANK(E7)=0),placingpoints(E7,COUNTIF(E$3:E$101,\"=\"&E7)),\"\")","v":""},{"$f":"IF(Registration!$E6=\"o\",Accuracy!L6,\"\")","v":""},{"$f":"IF(AND(Registration!$E6=\"o\",COUNTBLANK(G7)=0),RANK(G7,G$3:G$102,0),\"\")","v":""},{"$f":"IF(AND(Registration!$E6=\"o\",COUNTBLANK(H7)=0),placingpoints(H7,COUNTIF(H$3:H$102,\"=\"&H7)),\"\")","v":""},{"$f":"IF(Registration!$E6=\"o\",MTA!G6,\"\")","v":""},{"$f":"IF(AND(Registration!$E6=\"o\",COUNTBLANK(J7)=0),RANK(J7,J$3:J$101,0),\"\")","v":""},{"$f":"IF(AND(Registration!$E6=\"o\",COUNTBLANK(K7)=0),placingpoints(K7,COUNTIF(K$3:K$101,\"=\"&K7)),\"\")","v":""},{"$f":"IF(Registration!$E6=\"o\",'Trick Catch'!X7,\"\")","v":""},{"$f":"IF(AND(Registration!$E6=\"o\",COUNTBLANK(M7)=0),RANK(M7,M$3:M$101,0),\"\")","v":""},{"$f":"IF(AND(Registration!$E6=\"o\",COUNTBLANK(N7)=0),placingpoints(N7,COUNTIF(N$3:N$101,\"=\"&N7)),\"\")","v":""},{"$f":"IF(Registration!$E6=\"o\",'Fast Catch'!F6,\"\")","v":""},{"$f":"IF(AND(Registration!$E6=\"o\",COUNTBLANK(P7)=0),RANK(P7,P$3:P$101,1),\"\")","v":""},{"$f":"IF(AND(Registration!$E6=\"o\",COUNTBLANK(Q7)=0),placingpoints(Q7,COUNTIF(Q$3:Q$101,\"=\"&Q7)),\"\")","v":""},{"$f":"IF(Registration!$E6=\"o\",Endurance!C6,\"\")","v":""},{"$f":"IF(AND(Registration!$E6=\"o\",COUNTBLANK(S7)=0),RANK(S7,S$3:S$101,0),\"\")","v":""},{"$f":"IF(AND(Registration!$E6=\"o\",COUNTBLANK(T7)=0),placingpoints(T7,COUNTIF(T$3:T$101,\"=\"&T7)),\"\")","v":""}]
[{"$f":"IF(Registration!E7=\"o\",RANK(B8,$B$3:$B$101,1),\"\")","v":""},{"$f":"IF(Registration!E7=\"O\",SUM(F8,I8,L8,O8,R8,U8),\"\")","v":""},{"$f":"IF(COUNTBLANK(Registration!B7)=1,\"\",IF(Registration!E7=\"o\",Registration!B7,\"\"))","v":""},{"$f":"IF(Registration!E7=\"o\",'Aussie Round'!V8,\"\")","v":""},{"$f":"IF(AND(Registration!$E7=\"o\",COUNTBLANK(D8)=0),RANK(D8,D$3:D$101,0),\"\")","v":""},{"$f":"IF(AND(Registration!$E7=\"o\",COUNTBLANK(E8)=0),placingpoints(E8,COUNTIF(E$3:E$101,\"=\"&E8)),\"\")","v":""},{"$f":"IF(Registration!$E7=\"o\",Accuracy!L7,\"\")","v":""},{"$f":"IF(AND(Registration!$E7=\"o\",COUNTBLANK(G8)=0),RANK(G8,G$3:G$102,0),\"\")","v":""},{"$f":"IF(AND(Registration!$E7=\"o\",COUNTBLANK(H8)=0),placingpoints(H8,COUNTIF(H$3:H$102,\"=\"&H8)),\"\")","v":""},{"$f":"IF(Registration!$E7=\"o\",MTA!G7,\"\")","v":""},{"$f":"IF(AND(Registration!$E7=\"o\",COUNTBLANK(J8)=0),RANK(J8,J$3:J$101,0),\"\")","v":""},{"$f":"IF(AND(Registration!$E7=\"o\",COUNTBLANK(K8)=0),placingpoints(K8,COUNTIF(K$3:K$101,\"=\"&K8)),\"\")","v":""},{"$f":"IF(Registration!$E7=\"o\",'Trick Catch'!X8,\"\")","v":""},{"$f":"IF(AND(Registration!$E7=\"o\",COUNTBLANK(M8)=0),RANK(M8,M$3:M$101,0),\"\")","v":""},{"$f":"IF(AND(Registration!$E7=\"o\",COUNTBLANK(N8)=0),placingpoints(N8,COUNTIF(N$3:N$101,\"=\"&N8)),\"\")","v":""},{"$f":"IF(Registration!$E7=\"o\",'Fast Catch'!F7,\"\")","v":""},{"$f":"IF(AND(Registration!$E7=\"o\",COUNTBLANK(P8)=0),RANK(P8,P$3:P$101,1),\"\")","v":""},{"$f":"IF(AND(Registration!$E7=\"o\",COUNTBLANK(Q8)=0),placingpoints(Q8,COUNTIF(Q$3:Q$101,\"=\"&Q8)),\"\")","v":""},{"$f":"IF(Registration!$E7=\"o\",Endurance!C7,\"\")","v":""},{"$f":"IF(AND(Registration!$E7=\"o\",COUNTBLANK(S8)=0),RANK(S8,S$3:S$101,0),\"\")","v":""},{"$f":"IF(AND(Registration!$E7=\"o\",COUNTBLANK(T8)=0),placingpoints(T8,COUNTIF(T$3:T$101,\"=\"&T8)),\"\")","v":""}]
[{"$f":"IF(Registration!E8=\"o\",RANK(B9,$B$3:$B$101,1),\"\")","v":""},{"$f":"IF(Registration!E8=\"O\",SUM(F9,I9,L9,O9,R9,U9),\"\")","v":""},{"$f":"IF(COUNTBLANK(Registration!B8)=1,\"\",IF(Registration!E8=\"o\",Registration!B8,\"\"))","v":""},{"$f":"IF(Registration!E8=\"o\",'Aussie Round'!V9,\"\")","v":""},{"$f":"IF(AND(Registration!$E8=\"o\",COUNTBLANK(D9)=0),RANK(D9,D$3:D$101,0),\"\")","v":""},{"$f":"IF(AND(Registration!$E8=\"o\",COUNTBLANK(E9)=0),placingpoints(E9,COUNTIF(E$3:E$101,\"=\"&E9)),\"\")","v":""},{"$f":"IF(Registration!$E8=\"o\",Accuracy!L8,\"\")","v":""},{"$f":"IF(AND(Registration!$E8=\"o\",COUNTBLANK(G9)=0),RANK(G9,G$3:G$102,0),\"\")","v":""},{"$f":"IF(AND(Registration!$E8=\"o\",COUNTBLANK(H9)=0),placingpoints(H9,COUNTIF(H$3:H$102,\"=\"&H9)),\"\")","v":""},{"$f":"IF(Registration!$E8=\"o\",MTA!G8,\"\")","v":""},{"$f":"IF(AND(Registration!$E8=\"o\",COUNTBLANK(J9)=0),RANK(J9,J$3:J$101,0),\"\")","v":""},{"$f":"IF(AND(Registration!$E8=\"o\",COUNTBLANK(K9)=0),placingpoints(K9,COUNTIF(K$3:K$101,\"=\"&K9)),\"\")","v":""},{"$f":"IF(Registration!$E8=\"o\",'Trick Catch'!X9,\"\")","v":""},{"$f":"IF(AND(Registration!$E8=\"o\",COUNTBLANK(M9)=0),RANK(M9,M$3:M$101,0),\"\")","v":""},{"$f":"IF(AND(Registration!$E8=\"o\",COUNTBLANK(N9)=0),placingpoints(N9,COUNTIF(N$3:N$101,\"=\"&N9)),\"\")","v":""},{"$f":"IF(Registration!$E8=\"o\",'Fast Catch'!F8,\"\")","v":""},{"$f":"IF(AND(Registration!$E8=\"o\",COUNTBLANK(P9)=0),RANK(P9,P$3:P$101,1),\"\")","v":""},{"$f":"IF(AND(Registration!$E8=\"o\",COUNTBLANK(Q9)=0),placingpoints(Q9,COUNTIF(Q$3:Q$101,\"=\"&Q9)),\"\")","v":""},{"$f":"IF(Registration!$E8=\"o\",Endurance!C8,\"\")","v":""},{"$f":"IF(AND(Registration!$E8=\"o\",COUNTBLANK(S9)=0),RANK(S9,S$3:S$101,0),\"\")","v":""},{"$f":"IF(AND(Registration!$E8=\"o\",COUNTBLANK(T9)=0),placingpoints(T9,COUNTIF(T$3:T$101,\"=\"&T9)),\"\")","v":""}]
[{"$f":"IF(Registration!E9=\"o\",RANK(B10,$B$3:$B$101,1),\"\")","v":""},{"$f":"IF(Registration!E9=\"O\",SUM(F10,I10,L10,O10,R10,U10),\"\")","v":""},{"$f":"IF(COUNTBLANK(Registration!B9)=1,\"\",IF(Registration!E9=\"o\",Registration!B9,\"\"))","v":""},{"$f":"IF(Registration!E9=\"o\",'Aussie Round'!V10,\"\")","v":""},{"$f":"IF(AND(Registration!$E9=\"o\",COUNTBLANK(D10)=0),RANK(D10,D$3:D$101,0),\"\")","v":""},{"$f":"IF(AND(Registration!$E9=\"o\",COUNTBLANK(E10)=0),placingpoints(E10,COUNTIF(E$3:E$101,\"=\"&E10)),\"\")","v":""},{"$f":"IF(Registration!$E9=\"o\",Accuracy!L9,\"\")","v":""},{"$f":"IF(AND(Registration!$E9=\"o\",COUNTBLANK(G10)=0),RANK(G10,G$3:G$102,0),\"\")","v":""},{"$f":"IF(AND(Registration!$E9=\"o\",COUNTBLANK(H10)=0),placingpoints(H10,COUNTIF(H$3:H$102,\"=\"&H10)),\"\")","v":""},{"$f":"IF(Registration!$E9=\"o\",MTA!G9,\"\")","v":""},{"$f":"IF(AND(Registration!$E9=\"o\",COUNTBLANK(J10)=0),RANK(J10,J$3:J$101,0),\"\")","v":""},{"$f":"IF(AND(Registration!$E9=\"o\",COUNTBLANK(K10)=0),placingpoints(K10,COUNTIF(K$3:K$101,\"=\"&K10)),\"\")","v":""},{"$f":"IF(Registration!$E9=\"o\",'Trick Catch'!X10,\"\")","v":""},{"$f":"IF(AND(Registration!$E9=\"o\",COUNTBLANK(M10)=0),RANK(M10,M$3:M$101,0),\"\")","v":""},{"$f":"IF(AND(Registration!$E9=\"o\",COUNTBLANK(N10)=0),placingpoints(N10,COUNTIF(N$3:N$101,\"=\"&N10)),\"\")","v":""},{"$f":"IF(Registration!$E9=\"o\",'Fast Catch'!F9,\"\")","v":""},{"$f":"IF(AND(Registration!$E9=\"o\",COUNTBLANK(P10)=0),RANK(P10,P$3:P$101,1),\"\")","v":""},{"$f":"IF(AND(Registration!$E9=\"o\",COUNTBLANK(Q10)=0),placingpoints(Q10,COUNTIF(Q$3:Q$101,\"=\"&Q10)),\"\")","v":""},{"$f":"IF(Registration!$E9=\"o\",Endurance!C9,\"\")","v":""},{"$f":"IF(AND(Registration!$E9=\"o\",COUNTBLANK(S10)=0),RANK(S10,S$3:S$101,0),\"\")","v":""},{"$f":"IF(AND(Registration!$E9=\"o\",COUNTBLANK(T10)=0),placingpoints(T10,COUNTIF(T$3:T$101,\"=\"&T10)),\"\")","v":""}]
[{"$f":"IF(Registration!E10=\"o\",RANK(B11,$B$3:$B$101,1),\"\")","v":""},{"$f":"IF(Registration!E10=\"O\",SUM(F11,I11,L11,O11,R11,U11),\"\")","v":""},{"$f":"IF(COUNTBLANK(Registration!B10)=1,\"\",IF(Registration!E10=\"o\",Registration!B10,\"\"))","v":""},{"$f":"IF(Registration!E10=\"o\",'Aussie Round'!V11,\"\")","v":""},{"$f":"IF(AND(Registration!$E10=\"o\",COUNTBLANK(D11)=0),RANK(D11,D$3:D$101,0),\"\")","v":""},{"$f":"IF(AND(Registration!$E10=\"o\",COUNTBLANK(E11)=0),placingpoints(E11,COUNTIF(E$3:E$101,\"=\"&E11)),\"\")","v":""},{"$f":"IF(Registration!$E10=\"o\",Accuracy!L10,\"\")","v":""},{"$f":"IF(AND(Registration!$E10=\"o\",COUNTBLANK(G11)=0),RANK(G11,G$3:G$102,0),\"\")","v":""},{"$f":"IF(AND(Registration!$E10=\"o\",COUNTBLANK(H11)=0),placingpoints(H11,COUNTIF(H$3:H$102,\"=\"&H11)),\"\")","v":""},{"$f":"IF(Registration!$E10=\"o\",MTA!G10,\"\")","v":""},{"$f":"IF(AND(Registration!$E10=\"o\",COUNTBLANK(J11)=0),RANK(J11,J$3:J$101,0),\"\")","v":""},{"$f":"IF(AND(Registration!$E10=\"o\",COUNTBLANK(K11)=0),placingpoints(K11,COUNTIF(K$3:K$101,\"=\"&K11)),\"\")","v":""},{"$f":"IF(Registration!$E10=\"o\",'Trick Catch'!X11,\"\")","v":""},{"$f":"IF(AND(Registration!$E10=\"o\",COUNTBLANK(M11)=0),RANK(M11,M$3:M$101,0),\"\")","v":""},{"$f":"IF(AND(Registration!$E10=\"o\",COUNTBLANK(N11)=0),placingpoints(N11,COUNTIF(N$3:N$101,\"=\"&N11)),\"\")","v":""},{"$f":"IF(Registration!$E10=\"o\",'Fast Catch'!F10,\"\")","v":""},{"$f":"IF(AND(Registration!$E10=\"o\",COUNTBLANK(P11)=0),RANK(P11,P$3:P$101,1),\"\")","v":""},{"$f":"IF(AND(Registration!$E10=\"o\",COUNTBLANK(Q11)=0),placingpoints(Q11,COUNTIF(Q$3:Q$101,\"=\"&Q11)),\"\")","v":""},{"$f":"IF(Registration!$E10=\"o\",Endurance!C10,\"\")","v":""},{"$f":"IF(AND(Registration!$E10=\"o\",COUNTBLANK(S11)=0),RANK(S11,S$3:S$101,0),\"\")","v":""},{"$f":"IF(AND(Registration!$E10=\"o\",COUNTBLANK(T11)=0),placingpoints(T11,COUNTIF(T$3:T$101,\"=\"&T11)),\"\")","v":""}]
[{"$f":"IF(Registration!E11=\"o\",RANK(B12,$B$3:$B$101,1),\"\")","v":""},{"$f":"IF(Registration!E11=\"O\",SUM(F12,I12,L12,O12,R12,U12),\"\")","v":""},{"$f":"IF(COUNTBLANK(Registration!B11)=1,\"\",IF(Registration!E11=\"o\",Registration!B11,\"\"))","v":""},{"$f":"IF(Registration!E11=\"o\",'Aussie Round'!V12,\"\")","v":""},{"$f":"IF(AND(Registration!$E11=\"o\",COUNTBLANK(D12)=0),RANK(D12,D$3:D$101,0),\"\")","v":""},{"$f":"IF(AND(Registration!$E11=\"o\",COUNTBLANK(E12)=0),placingpoints(E12,COUNTIF(E$3:E$101,\"=\"&E12)),\"\")","v":""},{"$f":"IF(Registration!$E11=\"o\",Accuracy!L11,\"\")","v":""},{"$f":"IF(AND(Registration!$E11=\"o\",COUNTBLANK(G12)=0),RANK(G12,G$3:G$102,0),\"\")","v":""},{"$f":"IF(AND(Registration!$E11=\"o\",COUNTBLANK(H12)=0),placingpoints(H12,COUNTIF(H$3:H$102,\"=\"&H12)),\"\")","v":""},{"$f":"IF(Registration!$E11=\"o\",MTA!G11,\"\")","v":""},{"$f":"IF(AND(Registration!$E11=\"o\",COUNTBLANK(J12)=0),RANK(J12,J$3:J$101,0),\"\")","v":""},{"$f":"IF(AND(Registration!$E11=\"o\",COUNTBLANK(K12)=0),placingpoints(K12,COUNTIF(K$3:K$101,\"=\"&K12)),\"\")","v":""},{"$f":"IF(Registration!$E11=\"o\",'Trick Catch'!X12,\"\")","v":""},{"$f":"IF(AND(Registration!$E11=\"o\",COUNTBLANK(M12)=0),RANK(M12,M$3:M$101,0),\"\")","v":""},{"$f":"IF(AND(Registration!$E11=\"o\",COUNTBLANK(N12)=0),placingpoints(N12,COUNTIF(N$3:N$101,\"=\"&N12)),\"\")","v":""},{"$f":"IF(Registration!$E11=\"o\",'Fast Catch'!F11,\"\")","v":""},{"$f":"IF(AND(Registration!$E11=\"o\",COUNTBLANK(P12)=0),RANK(P12,P$3:P$101,1),\"\")","v":""},{"$f":"IF(AND(Registration!$E11=\"o\",COUNTBLANK(Q12)=0),placingpoints(Q12,COUNTIF(Q$3:Q$101,\"=\"&Q12)),\"\")","v":""},{"$f":"IF(Registration!$E11=\"o\",Endurance!C11,\"\")","v":""},{"$f":"IF(AND(Registration!$E11=\"o\",COUNTBLANK(S12)=0),RANK(S12,S$3:S$101,0),\"\")","v":""},{"$f":"IF(AND(Registration!$E11=\"o\",COUNTBLANK(T12)=0),placingpoints(T12,COUNTIF(T$3:T$101,\"=\"&T12)),\"\")","v":""}]
[{"$f":"IF(Registration!E12=\"o\",RANK(B13,$B$3:$B$101,1),\"\")","v":""},{"$f":"IF(Registration!E12=\"O\",SUM(F13,I13,L13,O13,R13,U13),\"\")","v":""},{"$f":"IF(COUNTBLANK(Registration!B12)=1,\"\",IF(Registration!E12=\"o\",Registration!B12,\"\"))","v":""},{"$f":"IF(Registration!E12=\"o\",'Aussie Round'!V13,\"\")","v":""},{"$f":"IF(AND(Registration!$E12=\"o\",COUNTBLANK(D13)=0),RANK(D13,D$3:D$101,0),\"\")","v":""},{"$f":"IF(AND(Registration!$E12=\"o\",COUNTBLANK(E13)=0),placingpoints(E13,COUNTIF(E$3:E$101,\"=\"&E13)),\"\")","v":""},{"$f":"IF(Registration!$E12=\"o\",Accuracy!L12,\"\")","v":""},{"$f":"IF(AND(Registration!$E12=\"o\",COUNTBLANK(G13)=0),RANK(G13,G$3:G$102,0),\"\")","v":""},{"$f":"IF(AND(Registration!$E12=\"o\",COUNTBLANK(H13)=0),placingpoints(H13,COUNTIF(H$3:H$102,\"=\"&H13)),\"\")","v":""},{"$f":"IF(Registration!$E12=\"o\",MTA!G12,\"\")","v":""},{"$f":"IF(AND(Registration!$E12=\"o\",COUNTBLANK(J13)=0),RANK(J13,J$3:J$101,0),\"\")","v":""},{"$f":"IF(AND(Registration!$E12=\"o\",COUNTBLANK(K13)=0),placingpoints(K13,COUNTIF(K$3:K$101,\"=\"&K13)),\"\")","v":""},{"$f":"IF(Registration!$E12=\"o\",'Trick Catch'!X13,\"\")","v":""},{"$f":"IF(AND(Registration!$E12=\"o\",COUNTBLANK(M13)=0),RANK(M13,M$3:M$101,0),\"\")","v":""},{"$f":"IF(AND(Registration!$E12=\"o\",COUNTBLANK(N13)=0),placingpoints(N13,COUNTIF(N$3:N$101,\"=\"&N13)),\"\")","v":""},{"$f":"IF(Registration!$E12=\"o\",'Fast Catch'!F12,\"\")","v":""},{"$f":"IF(AND(Registration!$E12=\"o\",COUNTBLANK(P13)=0),RANK(P13,P$3:P$101,1),\"\")","v":""},{"$f":"IF(AND(Registration!$E12=\"o\",COUNTBLANK(Q13)=0),placingpoints(Q13,COUNTIF(Q$3:Q$101,\"=\"&Q13)),\"\")","v":""},{"$f":"IF(Registration!$E12=\"o\",Endurance!C12,\"\")","v":""},{"$f":"IF(AND(Registration!$E12=\"o\",COUNTBLANK(S13)=0),RANK(S13,S$3:S$101,0),\"\")","v":""},{"$f":"IF(AND(Registration!$E12=\"o\",COUNTBLANK(T13)=0),placingpoints(T13,COUNTIF(T$3:T$101,\"=\"&T13)),\"\")","v":""}]
[{"$f":"IF(Registration!E13=\"o\",RANK(B14,$B$3:$B$101,1),\"\")","v":""},{"$f":"IF(Registration!E13=\"O\",SUM(F14,I14,L14,O14,R14,U14),\"\")","v":""},{"$f":"IF(COUNTBLANK(Registration!B13)=1,\"\",IF(Registration!E13=\"o\",Registration!B13,\"\"))","v":""},{"$f":"IF(Registration!E13=\"o\",'Aussie Round'!V14,\"\")","v":""},{"$f":"IF(AND(Registration!$E13=\"o\",COUNTBLANK(D14)=0),RANK(D14,D$3:D$101,0),\"\")","v":""},{"$f":"IF(AND(Registration!$E13=\"o\",COUNTBLANK(E14)=0),placingpoints(E14,COUNTIF(E$3:E$101,\"=\"&E14)),\"\")","v":""},{"$f":"IF(Registration!$E13=\"o\",Accuracy!L13,\"\")","v":""},{"$f":"IF(AND(Registration!$E13=\"o\",COUNTBLANK(G14)=0),RANK(G14,G$3:G$102,0),\"\")","v":""},{"$f":"IF(AND(Registration!$E13=\"o\",COUNTBLANK(H14)=0),placingpoints(H14,COUNTIF(H$3:H$102,\"=\"&H14)),\"\")","v":""},{"$f":"IF(Registration!$E13=\"o\",MTA!G13,\"\")","v":""},{"$f":"IF(AND(Registration!$E13=\"o\",COUNTBLANK(J14)=0),RANK(J14,J$3:J$101,0),\"\")","v":""},{"$f":"IF(AND(Registration!$E13=\"o\",COUNTBLANK(K14)=0),placingpoints(K14,COUNTIF(K$3:K$101,\"=\"&K14)),\"\")","v":""},{"$f":"IF(Registration!$E13=\"o\",'Trick Catch'!X14,\"\")","v":""},{"$f":"IF(AND(Registration!$E13=\"o\",COUNTBLANK(M14)=0),RANK(M14,M$3:M$101,0),\"\")","v":""},{"$f":"IF(AND(Registration!$E13=\"o\",COUNTBLANK(N14)=0),placingpoints(N14,COUNTIF(N$3:N$101,\"=\"&N14)),\"\")","v":""},{"$f":"IF(Registration!$E13=\"o\",'Fast Catch'!F13,\"\")","v":""},{"$f":"IF(AND(Registration!$E13=\"o\",COUNTBLANK(P14)=0),RANK(P14,P$3:P$101,1),\"\")","v":""},{"$f":"IF(AND(Registration!$E13=\"o\",COUNTBLANK(Q14)=0),placingpoints(Q14,COUNTIF(Q$3:Q$101,\"=\"&Q14)),\"\")","v":""},{"$f":"IF(Registration!$E13=\"o\",Endurance!C13,\"\")","v":""},{"$f":"IF(AND(Registration!$E13=\"o\",COUNTBLANK(S14)=0),RANK(S14,S$3:S$101,0),\"\")","v":""},{"$f":"IF(AND(Registration!$E13=\"o\",COUNTBLANK(T14)=0),placingpoints(T14,COUNTIF(T$3:T$101,\"=\"&T14)),\"\")","v":""}]
[{"$f":"IF(Registration!E14=\"o\",RANK(B15,$B$3:$B$101,1),\"\")","v":""},{"$f":"IF(Registration!E14=\"O\",SUM(F15,I15,L15,O15,R15,U15),\"\")","v":""},{"$f":"IF(COUNTBLANK(Registration!B14)=1,\"\",IF(Registration!E14=\"o\",Registration!B14,\"\"))","v":""},{"$f":"IF(Registration!E14=\"o\",'Aussie Round'!V15,\"\")","v":""},{"$f":"IF(AND(Registration!$E14=\"o\",COUNTBLANK(D15)=0),RANK(D15,D$3:D$101,0),\"\")","v":""},{"$f":"IF(AND(Registration!$E14=\"o\",COUNTBLANK(E15)=0),placingpoints(E15,COUNTIF(E$3:E$101,\"=\"&E15)),\"\")","v":""},{"$f":"IF(Registration!$E14=\"o\",Accuracy!L14,\"\")","v":""},{"$f":"IF(AND(Registration!$E14=\"o\",COUNTBLANK(G15)=0),RANK(G15,G$3:G$102,0),\"\")","v":""},{"$f":"IF(AND(Registration!$E14=\"o\",COUNTBLANK(H15)=0),placingpoints(H15,COUNTIF(H$3:H$102,\"=\"&H15)),\"\")","v":""},{"$f":"IF(Registration!$E14=\"o\",MTA!G14,\"\")","v":""},{"$f":"IF(AND(Registration!$E14=\"o\",COUNTBLANK(J15)=0),RANK(J15,J$3:J$101,0),\"\")","v":""},{"$f":"IF(AND(Registration!$E14=\"o\",COUNTBLANK(K15)=0),placingpoints(K15,COUNTIF(K$3:K$101,\"=\"&K15)),\"\")","v":""},{"$f":"IF(Registration!$E14=\"o\",'Trick Catch'!X15,\"\")","v":""},{"$f":"IF(AND(Registration!$E14=\"o\",COUNTBLANK(M15)=0),RANK(M15,M$3:M$101,0),\"\")","v":""},{"$f":"IF(AND(Registration!$E14=\"o\",COUNTBLANK(N15)=0),placingpoints(N15,COUNTIF(N$3:N$101,\"=\"&N15)),\"\")","v":""},{"$f":"IF(Registration!$E14=\"o\",'Fast Catch'!F14,\"\")","v":""},{"$f":"IF(AND(Registration!$E14=\"o\",COUNTBLANK(P15)=0),RANK(P15,P$3:P$101,1),\"\")","v":""},{"$f":"IF(AND(Registration!$E14=\"o\",COUNTBLANK(Q15)=0),placingpoints(Q15,COUNTIF(Q$3:Q$101,\"=\"&Q15)),\"\")","v":""},{"$f":"IF(Registration!$E14=\"o\",Endurance!C14,\"\")","v":""},{"$f":"IF(AND(Registration!$E14=\"o\",COUNTBLANK(S15)=0),RANK(S15,S$3:S$101,0),\"\")","v":""},{"$f":"IF(AND(Registration!$E14=\"o\",COUNTBLANK(T15)=0),placingpoints(T15,COUNTIF(T$3:T$101,\"=\"&T15)),\"\")","v":""}]
[{"$f":"IF(Registration!E15=\"o\",RANK(B16,$B$3:$B$101,1),\"\")","v":""},{"$f":"IF(Registration!E15=\"O\",SUM(F16,I16,L16,O16,R16,U16),\"\")","v":""},{"$f":"IF(COUNTBLANK(Registration!B15)=1,\"\",IF(Registration!E15=\"o\",Registration!B15,\"\"))","v":""},{"$f":"IF(Registration!E15=\"o\",'Aussie Round'!V16,\"\")","v":""},{"$f":"IF(AND(Registration!$E15=\"o\",COUNTBLANK(D16)=0),RANK(D16,D$3:D$101,0),\"\")","v":""},{"$f":"IF(AND(Registration!$E15=\"o\",COUNTBLANK(E16)=0),placingpoints(E16,COUNTIF(E$3:E$101,\"=\"&E16)),\"\")","v":""},{"$f":"IF(Registration!$E15=\"o\",Accuracy!L15,\"\")","v":""},{"$f":"IF(AND(Registration!$E15=\"o\",COUNTBLANK(G16)=0),RANK(G16,G$3:G$102,0),\"\")","v":""},{"$f":"IF(AND(Registration!$E15=\"o\",COUNTBLANK(H16)=0),placingpoints(H16,COUNTIF(H$3:H$102,\"=\"&H16)),\"\")","v":""},{"$f":"IF(Registration!$E15=\"o\",MTA!G15,\"\")","v":""},{"$f":"IF(AND(Registration!$E15=\"o\",COUNTBLANK(J16)=0),RANK(J16,J$3:J$101,0),\"\")","v":""},{"$f":"IF(AND(Registration!$E15=\"o\",COUNTBLANK(K16)=0),placingpoints(K16,COUNTIF(K$3:K$101,\"=\"&K16)),\"\")","v":""},{"$f":"IF(Registration!$E15=\"o\",'Trick Catch'!X16,\"\")","v":""},{"$f":"IF(AND(Registration!$E15=\"o\",COUNTBLANK(M16)=0),RANK(M16,M$3:M$101,0),\"\")","v":""},{"$f":"IF(AND(Registration!$E15=\"o\",COUNTBLANK(N16)=0),placingpoints(N16,COUNTIF(N$3:N$101,\"=\"&N16)),\"\")","v":""},{"$f":"IF(Registration!$E15=\"o\",'Fast Catch'!F15,\"\")","v":""},{"$f":"IF(AND(Registration!$E15=\"o\",COUNTBLANK(P16)=0),RANK(P16,P$3:P$101,1),\"\")","v":""},{"$f":"IF(AND(Registration!$E15=\"o\",COUNTBLANK(Q16)=0),placingpoints(Q16,COUNTIF(Q$3:Q$101,\"=\"&Q16)),\"\")","v":""},{"$f":"IF(Registration!$E15=\"o\",Endurance!C15,\"\")","v":""},{"$f":"IF(AND(Registration!$E15=\"o\",COUNTBLANK(S16)=0),RANK(S16,S$3:S$101,0),\"\")","v":""},{"$f":"IF(AND(Registration!$E15=\"o\",COUNTBLANK(T16)=0),placingpoints(T16,COUNTIF(T$3:T$101,\"=\"&T16)),\"\")","v":""}]
[{"$f":"IF(Registration!E16=\"o\",RANK(B17,$B$3:$B$101,1),\"\")","v":""},{"$f":"IF(Registration!E16=\"O\",SUM(F17,I17,L17,O17,R17,U17),\"\")","v":""},{"$f":"IF(COUNTBLANK(Registration!B16)=1,\"\",IF(Registration!E16=\"o\",Registration!B16,\"\"))","v":""},{"$f":"IF(Registration!E16=\"o\",'Aussie Round'!V17,\"\")","v":""},{"$f":"IF(AND(Registration!$E16=\"o\",COUNTBLANK(D17)=0),RANK(D17,D$3:D$101,0),\"\")","v":""},{"$f":"IF(AND(Registration!$E16=\"o\",COUNTBLANK(E17)=0),placingpoints(E17,COUNTIF(E$3:E$101,\"=\"&E17)),\"\")","v":""},{"$f":"IF(Registration!$E16=\"o\",Accuracy!L16,\"\")","v":""},{"$f":"IF(AND(Registration!$E16=\"o\",COUNTBLANK(G17)=0),RANK(G17,G$3:G$102,0),\"\")","v":""},{"$f":"IF(AND(Registration!$E16=\"o\",COUNTBLANK(H17)=0),placingpoints(H17,COUNTIF(H$3:H$102,\"=\"&H17)),\"\")","v":""},{"$f":"IF(Registration!$E16=\"o\",MTA!G16,\"\")","v":""},{"$f":"IF(AND(Registration!$E16=\"o\",COUNTBLANK(J17)=0),RANK(J17,J$3:J$101,0),\"\")","v":""},{"$f":"IF(AND(Registration!$E16=\"o\",COUNTBLANK(K17)=0),placingpoints(K17,COUNTIF(K$3:K$101,\"=\"&K17)),\"\")","v":""},{"$f":"IF(Registration!$E16=\"o\",'Trick Catch'!X17,\"\")","v":""},{"$f":"IF(AND(Registration!$E16=\"o\",COUNTBLANK(M17)=0),RANK(M17,M$3:M$101,0),\"\")","v":""},{"$f":"IF(AND(Registration!$E16=\"o\",COUNTBLANK(N17)=0),placingpoints(N17,COUNTIF(N$3:N$101,\"=\"&N17)),\"\")","v":""},{"$f":"IF(Registration!$E16=\"o\",'Fast Catch'!F16,\"\")","v":""},{"$f":"IF(AND(Registration!$E16=\"o\",COUNTBLANK(P17)=0),RANK(P17,P$3:P$101,1),\"\")","v":""},{"$f":"IF(AND(Registration!$E16=\"o\",COUNTBLANK(Q17)=0),placingpoints(Q17,COUNTIF(Q$3:Q$101,\"=\"&Q17)),\"\")","v":""},{"$f":"IF(Registration!$E16=\"o\",Endurance!C16,\"\")","v":""},{"$f":"IF(AND(Registration!$E16=\"o\",COUNTBLANK(S17)=0),RANK(S17,S$3:S$101,0),\"\")","v":""},{"$f":"IF(AND(Registration!$E16=\"o\",COUNTBLANK(T17)=0),placingpoints(T17,COUNTIF(T$3:T$101,\"=\"&T17)),\"\")","v":""}]
[{"$f":"IF(Registration!E17=\"o\",RANK(B18,$B$3:$B$101,1),\"\")","v":""},{"$f":"IF(Registration!E17=\"O\",SUM(F18,I18,L18,O18,R18,U18),\"\")","v":""},{"$f":"IF(COUNTBLANK(Registration!B17)=1,\"\",IF(Registration!E17=\"o\",Registration!B17,\"\"))","v":""},{"$f":"IF(Registration!E17=\"o\",'Aussie Round'!V18,\"\")","v":""},{"$f":"IF(AND(Registration!$E17=\"o\",COUNTBLANK(D18)=0),RANK(D18,D$3:D$101,0),\"\")","v":""},{"$f":"IF(AND(Registration!$E17=\"o\",COUNTBLANK(E18)=0),placingpoints(E18,COUNTIF(E$3:E$101,\"=\"&E18)),\"\")","v":""},{"$f":"IF(Registration!$E17=\"o\",Accuracy!L17,\"\")","v":""},{"$f":"IF(AND(Registration!$E17=\"o\",COUNTBLANK(G18)=0),RANK(G18,G$3:G$102,0),\"\")","v":""},{"$f":"IF(AND(Registration!$E17=\"o\",COUNTBLANK(H18)=0),placingpoints(H18,COUNTIF(H$3:H$102,\"=\"&H18)),\"\")","v":""},{"$f":"IF(Registration!$E17=\"o\",MTA!G17,\"\")","v":""},{"$f":"IF(AND(Registration!$E17=\"o\",COUNTBLANK(J18)=0),RANK(J18,J$3:J$101,0),\"\")","v":""},{"$f":"IF(AND(Registration!$E17=\"o\",COUNTBLANK(K18)=0),placingpoints(K18,COUNTIF(K$3:K$101,\"=\"&K18)),\"\")","v":""},{"$f":"IF(Registration!$E17=\"o\",'Trick Catch'!X18,\"\")","v":""},{"$f":"IF(AND(Registration!$E17=\"o\",COUNTBLANK(M18)=0),RANK(M18,M$3:M$101,0),\"\")","v":""},{"$f":"IF(AND(Registration!$E17=\"o\",COUNTBLANK(N18)=0),placingpoints(N18,COUNTIF(N$3:N$101,\"=\"&N18)),\"\")","v":""},{"$f":"IF(Registration!$E17=\"o\",'Fast Catch'!F17,\"\")","v":""},{"$f":"IF(AND(Registration!$E17=\"o\",COUNTBLANK(P18)=0),RANK(P18,P$3:P$101,1),\"\")","v":""},{"$f":"IF(AND(Registration!$E17=\"o\",COUNTBLANK(Q18)=0),placingpoints(Q18,COUNTIF(Q$3:Q$101,\"=\"&Q18)),\"\")","v":""},{"$f":"IF(Registration!$E17=\"o\",Endurance!C17,\"\")","v":""},{"$f":"IF(AND(Registration!$E17=\"o\",COUNTBLANK(S18)=0),RANK(S18,S$3:S$101,0),\"\")","v":""},{"$f":"IF(AND(Registration!$E17=\"o\",COUNTBLANK(T18)=0),placingpoints(T18,COUNTIF(T$3:T$101,\"=\"&T18)),\"\")","v":""}]
[{"$f":"IF(Registration!E18=\"o\",RANK(B19,$B$3:$B$101,1),\"\")","v":""},{"$f":"IF(Registration!E18=\"O\",SUM(F19,I19,L19,O19,R19,U19),\"\")","v":""},{"$f":"IF(COUNTBLANK(Registration!B18)=1,\"\",IF(Registration!E18=\"o\",Registration!B18,\"\"))","v":""},{"$f":"IF(Registration!E18=\"o\",'Aussie Round'!V19,\"\")","v":""},{"$f":"IF(AND(Registration!$E18=\"o\",COUNTBLANK(D19)=0),RANK(D19,D$3:D$101,0),\"\")","v":""},{"$f":"IF(AND(Registration!$E18=\"o\",COUNTBLANK(E19)=0),placingpoints(E19,COUNTIF(E$3:E$101,\"=\"&E19)),\"\")","v":""},{"$f":"IF(Registration!$E18=\"o\",Accuracy!L18,\"\")","v":""},{"$f":"IF(AND(Registration!$E18=\"o\",COUNTBLANK(G19)=0),RANK(G19,G$3:G$102,0),\"\")","v":""},{"$f":"IF(AND(Registration!$E18=\"o\",COUNTBLANK(H19)=0),placingpoints(H19,COUNTIF(H$3:H$102,\"=\"&H19)),\"\")","v":""},{"$f":"IF(Registration!$E18=\"o\",MTA!G18,\"\")","v":""},{"$f":"IF(AND(Registration!$E18=\"o\",COUNTBLANK(J19)=0),RANK(J19,J$3:J$101,0),\"\")","v":""},{"$f":"IF(AND(Registration!$E18=\"o\",COUNTBLANK(K19)=0),placingpoints(K19,COUNTIF(K$3:K$101,\"=\"&K19)),\"\")","v":""},{"$f":"IF(Registration!$E18=\"o\",'Trick Catch'!X19,\"\")","v":""},{"$f":"IF(AND(Registration!$E18=\"o\",COUNTBLANK(M19)=0),RANK(M19,M$3:M$101,0),\"\")","v":""},{"$f":"IF(AND(Registration!$E18=\"o\",COUNTBLANK(N19)=0),placingpoints(N19,COUNTIF(N$3:N$101,\"=\"&N19)),\"\")","v":""},{"$f":"IF(Registration!$E18=\"o\",'Fast Catch'!F18,\"\")","v":""},{"$f":"IF(AND(Registration!$E18=\"o\",COUNTBLANK(P19)=0),RANK(P19,P$3:P$101,1),\"\")","v":""},{"$f":"IF(AND(Registration!$E18=\"o\",COUNTBLANK(Q19)=0),placingpoints(Q19,COUNTIF(Q$3:Q$101,\"=\"&Q19)),\"\")","v":""},{"$f":"IF(Registration!$E18=\"o\",Endurance!C18,\"\")","v":""},{"$f":"IF(AND(Registration!$E18=\"o\",COUNTBLANK(S19)=0),RANK(S19,S$3:S$101,0),\"\")","v":""},{"$f":"IF(AND(Registration!$E18=\"o\",COUNTBLANK(T19)=0),placingpoints(T19,COUNTIF(T$3:T$101,\"=\"&T19)),\"\")","v":""}]
[{"$f":"IF(Registration!E19=\"o\",RANK(B20,$B$3:$B$101,1),\"\")","v":""},{"$f":"IF(Registration!E19=\"O\",SUM(F20,I20,L20,O20,R20,U20),\"\")","v":""},{"$f":"IF(COUNTBLANK(Registration!B19)=1,\"\",IF(Registration!E19=\"o\",Registration!B19,\"\"))","v":""},{"$f":"IF(Registration!E19=\"o\",'Aussie Round'!V20,\"\")","v":""},{"$f":"IF(AND(Registration!$E19=\"o\",COUNTBLANK(D20)=0),RANK(D20,D$3:D$101,0),\"\")","v":""},{"$f":"IF(AND(Registration!$E19=\"o\",COUNTBLANK(E20)=0),placingpoints(E20,COUNTIF(E$3:E$101,\"=\"&E20)),\"\")","v":""},{"$f":"IF(Registration!$E19=\"o\",Accuracy!L19,\"\")","v":""},{"$f":"IF(AND(Registration!$E19=\"o\",COUNTBLANK(G20)=0),RANK(G20,G$3:G$102,0),\"\")","v":""},{"$f":"IF(AND(Registration!$E19=\"o\",COUNTBLANK(H20)=0),placingpoints(H20,COUNTIF(H$3:H$102,\"=\"&H20)),\"\")","v":""},{"$f":"IF(Registration!$E19=\"o\",MTA!G19,\"\")","v":""},{"$f":"IF(AND(Registration!$E19=\"o\",COUNTBLANK(J20)=0),RANK(J20,J$3:J$101,0),\"\")","v":""},{"$f":"IF(AND(Registration!$E19=\"o\",COUNTBLANK(K20)=0),placingpoints(K20,COUNTIF(K$3:K$101,\"=\"&K20)),\"\")","v":""},{"$f":"IF(Registration!$E19=\"o\",'Trick Catch'!X20,\"\")","v":""},{"$f":"IF(AND(Registration!$E19=\"o\",COUNTBLANK(M20)=0),RANK(M20,M$3:M$101,0),\"\")","v":""},{"$f":"IF(AND(Registration!$E19=\"o\",COUNTBLANK(N20)=0),placingpoints(N20,COUNTIF(N$3:N$101,\"=\"&N20)),\"\")","v":""},{"$f":"IF(Registration!$E19=\"o\",'Fast Catch'!F19,\"\")","v":""},{"$f":"IF(AND(Registration!$E19=\"o\",COUNTBLANK(P20)=0),RANK(P20,P$3:P$101,1),\"\")","v":""},{"$f":"IF(AND(Registration!$E19=\"o\",COUNTBLANK(Q20)=0),placingpoints(Q20,COUNTIF(Q$3:Q$101,\"=\"&Q20)),\"\")","v":""},{"$f":"IF(Registration!$E19=\"o\",Endurance!C19,\"\")","v":""},{"$f":"IF(AND(Registration!$E19=\"o\",COUNTBLANK(S20)=0),RANK(S20,S$3:S$101,0),\"\")","v":""},{"$f":"IF(AND(Registration!$E19=\"o\",COUNTBLANK(T20)=0),placingpoints(T20,COUNTIF(T$3:T$101,\"=\"&T20)),\"\")","v":""}]
[{"$f":"IF(Registration!E20=\"o\",RANK(B21,$B$3:$B$101,1),\"\")","v":""},{"$f":"IF(Registration!E20=\"O\",SUM(F21,I21,L21,O21,R21,U21),\"\")","v":""},{"$f":"IF(COUNTBLANK(Registration!B20)=1,\"\",IF(Registration!E20=\"o\",Registration!B20,\"\"))","v":""},{"$f":"IF(Registration!E20=\"o\",'Aussie Round'!V21,\"\")","v":""},{"$f":"IF(AND(Registration!$E20=\"o\",COUNTBLANK(D21)=0),RANK(D21,D$3:D$101,0),\"\")","v":""},{"$f":"IF(AND(Registration!$E20=\"o\",COUNTBLANK(E21)=0),placingpoints(E21,COUNTIF(E$3:E$101,\"=\"&E21)),\"\")","v":""},{"$f":"IF(Registration!$E20=\"o\",Accuracy!L20,\"\")","v":""},{"$f":"IF(AND(Registration!$E20=\"o\",COUNTBLANK(G21)=0),RANK(G21,G$3:G$102,0),\"\")","v":""},{"$f":"IF(AND(Registration!$E20=\"o\",COUNTBLANK(H21)=0),placingpoints(H21,COUNTIF(H$3:H$102,\"=\"&H21)),\"\")","v":""},{"$f":"IF(Registration!$E20=\"o\",MTA!G20,\"\")","v":""},{"$f":"IF(AND(Registration!$E20=\"o\",COUNTBLANK(J21)=0),RANK(J21,J$3:J$101,0),\"\")","v":""},{"$f":"IF(AND(Registration!$E20=\"o\",COUNTBLANK(K21)=0),placingpoints(K21,COUNTIF(K$3:K$101,\"=\"&K21)),\"\")","v":""},{"$f":"IF(Registration!$E20=\"o\",'Trick Catch'!X21,\"\")","v":""},{"$f":"IF(AND(Registration!$E20=\"o\",COUNTBLANK(M21)=0),RANK(M21,M$3:M$101,0),\"\")","v":""},{"$f":"IF(AND(Registration!$E20=\"o\",COUNTBLANK(N21)=0),placingpoints(N21,COUNTIF(N$3:N$101,\"=\"&N21)),\"\")","v":""},{"$f":"IF(Registration!$E20=\"o\",'Fast Catch'!F20,\"\")","v":""},{"$f":"IF(AND(Registration!$E20=\"o\",COUNTBLANK(P21)=0),RANK(P21,P$3:P$101,1),\"\")","v":""},{"$f":"IF(AND(Registration!$E20=\"o\",COUNTBLANK(Q21)=0),placingpoints(Q21,COUNTIF(Q$3:Q$101,\"=\"&Q21)),\"\")","v":""},{"$f":"IF(Registration!$E20=\"o\",Endurance!C20,\"\")","v":""},{"$f":"IF(AND(Registration!$E20=\"o\",COUNTBLANK(S21)=0),RANK(S21,S$3:S$101,0),\"\")","v":""},{"$f":"IF(AND(Registration!$E20=\"o\",COUNTBLANK(T21)=0),placingpoints(T21,COUNTIF(T$3:T$101,\"=\"&T21)),\"\")","v":""}]
[{"$f":"IF(Registration!E21=\"o\",RANK(B22,$B$3:$B$101,1),\"\")","v":""},{"$f":"IF(Registration!E21=\"O\",SUM(F22,I22,L22,O22,R22,U22),\"\")","v":""},{"$f":"IF(COUNTBLANK(Registration!B21)=1,\"\",IF(Registration!E21=\"o\",Registration!B21,\"\"))","v":""},{"$f":"IF(Registration!E21=\"o\",'Aussie Round'!V22,\"\")","v":""},{"$f":"IF(AND(Registration!$E21=\"o\",COUNTBLANK(D22)=0),RANK(D22,D$3:D$101,0),\"\")","v":""},{"$f":"IF(AND(Registration!$E21=\"o\",COUNTBLANK(E22)=0),placingpoints(E22,COUNTIF(E$3:E$101,\"=\"&E22)),\"\")","v":""},{"$f":"IF(Registration!$E21=\"o\",Accuracy!L21,\"\")","v":""},{"$f":"IF(AND(Registration!$E21=\"o\",COUNTBLANK(G22)=0),RANK(G22,G$3:G$102,0),\"\")","v":""},{"$f":"IF(AND(Registration!$E21=\"o\",COUNTBLANK(H22)=0),placingpoints(H22,COUNTIF(H$3:H$102,\"=\"&H22)),\"\")","v":""},{"$f":"IF(Registration!$E21=\"o\",MTA!G21,\"\")","v":""},{"$f":"IF(AND(Registration!$E21=\"o\",COUNTBLANK(J22)=0),RANK(J22,J$3:J$101,0),\"\")","v":""},{"$f":"IF(AND(Registration!$E21=\"o\",COUNTBLANK(K22)=0),placingpoints(K22,COUNTIF(K$3:K$101,\"=\"&K22)),\"\")","v":""},{"$f":"IF(Registration!$E21=\"o\",'Trick Catch'!X22,\"\")","v":""},{"$f":"IF(AND(Registration!$E21=\"o\",COUNTBLANK(M22)=0),RANK(M22,M$3:M$101,0),\"\")","v":""},{"$f":"IF(AND(Registration!$E21=\"o\",COUNTBLANK(N22)=0),placingpoints(N22,COUNTIF(N$3:N$101,\"=\"&N22)),\"\")","v":""},{"$f":"IF(Registration!$E21=\"o\",'Fast Catch'!F21,\"\")","v":""},{"$f":"IF(AND(Registration!$E21=\"o\",COUNTBLANK(P22)=0),RANK(P22,P$3:P$101,1),\"\")","v":""},{"$f":"IF(AND(Registration!$E21=\"o\",COUNTBLANK(Q22)=0),placingpoints(Q22,COUNTIF(Q$3:Q$101,\"=\"&Q22)),\"\")","v":""},{"$f":"IF(Registration!$E21=\"o\",Endurance!C21,\"\")","v":""},{"$f":"IF(AND(Registration!$E21=\"o\",COUNTBLANK(S22)=0),RANK(S22,S$3:S$101,0),\"\")","v":""},{"$f":"IF(AND(Registration!$E21=\"o\",COUNTBLANK(T22)=0),placingpoints(T22,COUNTIF(T$3:T$101,\"=\"&T22)),\"\")","v":""}]
[{"$f":"IF(Registration!E22=\"o\",RANK(B23,$B$3:$B$101,1),\"\")","v":""},{"$f":"IF(Registration!E22=\"O\",SUM(F23,I23,L23,O23,R23,U23),\"\")","v":""},{"$f":"IF(COUNTBLANK(Registration!B22)=1,\"\",IF(Registration!E22=\"o\",Registration!B22,\"\"))","v":""},{"$f":"IF(Registration!E22=\"o\",'Aussie Round'!V23,\"\")","v":""},{"$f":"IF(AND(Registration!$E22=\"o\",COUNTBLANK(D23)=0),RANK(D23,D$3:D$101,0),\"\")","v":""},{"$f":"IF(AND(Registration!$E22=\"o\",COUNTBLANK(E23)=0),placingpoints(E23,COUNTIF(E$3:E$101,\"=\"&E23)),\"\")","v":""},{"$f":"IF(Registration!$E22=\"o\",Accuracy!L22,\"\")","v":""},{"$f":"IF(AND(Registration!$E22=\"o\",COUNTBLANK(G23)=0),RANK(G23,G$3:G$102,0),\"\")","v":""},{"$f":"IF(AND(Registration!$E22=\"o\",COUNTBLANK(H23)=0),placingpoints(H23,COUNTIF(H$3:H$102,\"=\"&H23)),\"\")","v":""},{"$f":"IF(Registration!$E22=\"o\",MTA!G22,\"\")","v":""},{"$f":"IF(AND(Registration!$E22=\"o\",COUNTBLANK(J23)=0),RANK(J23,J$3:J$101,0),\"\")","v":""},{"$f":"IF(AND(Registration!$E22=\"o\",COUNTBLANK(K23)=0),placingpoints(K23,COUNTIF(K$3:K$101,\"=\"&K23)),\"\")","v":""},{"$f":"IF(Registration!$E22=\"o\",'Trick Catch'!X23,\"\")","v":""},{"$f":"IF(AND(Registration!$E22=\"o\",COUNTBLANK(M23)=0),RANK(M23,M$3:M$101,0),\"\")","v":""},{"$f":"IF(AND(Registration!$E22=\"o\",COUNTBLANK(N23)=0),placingpoints(N23,COUNTIF(N$3:N$101,\"=\"&N23)),\"\")","v":""},{"$f":"IF(Registration!$E22=\"o\",'Fast Catch'!F22,\"\")","v":""},{"$f":"IF(AND(Registration!$E22=\"o\",COUNTBLANK(P23)=0),RANK(P23,P$3:P$101,1),\"\")","v":""},{"$f":"IF(AND(Registration!$E22=\"o\",COUNTBLANK(Q23)=0),placingpoints(Q23,COUNTIF(Q$3:Q$101,\"=\"&Q23)),\"\")","v":""},{"$f":"IF(Registration!$E22=\"o\",Endurance!C22,\"\")","v":""},{"$f":"IF(AND(Registration!$E22=\"o\",COUNTBLANK(S23)=0),RANK(S23,S$3:S$101,0),\"\")","v":""},{"$f":"IF(AND(Registration!$E22=\"o\",COUNTBLANK(T23)=0),placingpoints(T23,COUNTIF(T$3:T$101,\"=\"&T23)),\"\")","v":""}]
[{"$f":"IF(Registration!E23=\"o\",RANK(B24,$B$3:$B$101,1),\"\")","v":""},{"$f":"IF(Registration!E23=\"O\",SUM(F24,I24,L24,O24,R24,U24),\"\")","v":""},{"$f":"IF(COUNTBLANK(Registration!B23)=1,\"\",IF(Registration!E23=\"o\",Registration!B23,\"\"))","v":""},{"$f":"IF(Registration!E23=\"o\",'Aussie Round'!V24,\"\")","v":""},{"$f":"IF(AND(Registration!$E23=\"o\",COUNTBLANK(D24)=0),RANK(D24,D$3:D$101,0),\"\")","v":""},{"$f":"IF(AND(Registration!$E23=\"o\",COUNTBLANK(E24)=0),placingpoints(E24,COUNTIF(E$3:E$101,\"=\"&E24)),\"\")","v":""},{"$f":"IF(Registration!$E23=\"o\",Accuracy!L23,\"\")","v":""},{"$f":"IF(AND(Registration!$E23=\"o\",COUNTBLANK(G24)=0),RANK(G24,G$3:G$102,0),\"\")","v":""},{"$f":"IF(AND(Registration!$E23=\"o\",COUNTBLANK(H24)=0),placingpoints(H24,COUNTIF(H$3:H$102,\"=\"&H24)),\"\")","v":""},{"$f":"IF(Registration!$E23=\"o\",MTA!G23,\"\")","v":""},{"$f":"IF(AND(Registration!$E23=\"o\",COUNTBLANK(J24)=0),RANK(J24,J$3:J$101,0),\"\")","v":""},{"$f":"IF(AND(Registration!$E23=\"o\",COUNTBLANK(K24)=0),placingpoints(K24,COUNTIF(K$3:K$101,\"=\"&K24)),\"\")","v":""},{"$f":"IF(Registration!$E23=\"o\",'Trick Catch'!X24,\"\")","v":""},{"$f":"IF(AND(Registration!$E23=\"o\",COUNTBLANK(M24)=0),RANK(M24,M$3:M$101,0),\"\")","v":""},{"$f":"IF(AND(Registration!$E23=\"o\",COUNTBLANK(N24)=0),placingpoints(N24,COUNTIF(N$3:N$101,\"=\"&N24)),\"\")","v":""},{"$f":"IF(Registration!$E23=\"o\",'Fast Catch'!F23,\"\")","v":""},{"$f":"IF(AND(Registration!$E23=\"o\",COUNTBLANK(P24)=0),RANK(P24,P$3:P$101,1),\"\")","v":""},{"$f":"IF(AND(Registration!$E23=\"o\",COUNTBLANK(Q24)=0),placingpoints(Q24,COUNTIF(Q$3:Q$101,\"=\"&Q24)),\"\")","v":""},{"$f":"IF(Registration!$E23=\"o\",Endurance!C23,\"\")","v":""},{"$f":"IF(AND(Registration!$E23=\"o\",COUNTBLANK(S24)=0),RANK(S24,S$3:S$101,0),\"\")","v":""},{"$f":"IF(AND(Registration!$E23=\"o\",COUNTBLANK(T24)=0),placingpoints(T24,COUNTIF(T$3:T$101,\"=\"&T24)),\"\")","v":""}]
[{"$f":"IF(Registration!E24=\"o\",RANK(B25,$B$3:$B$101,1),\"\")","v":""},{"$f":"IF(Registration!E24=\"O\",SUM(F25,I25,L25,O25,R25,U25),\"\")","v":""},{"$f":"IF(COUNTBLANK(Registration!B24)=1,\"\",IF(Registration!E24=\"o\",Registration!B24,\"\"))","v":""},{"$f":"IF(Registration!E24=\"o\",'Aussie Round'!V25,\"\")","v":""},{"$f":"IF(AND(Registration!$E24=\"o\",COUNTBLANK(D25)=0),RANK(D25,D$3:D$101,0),\"\")","v":""},{"$f":"IF(AND(Registration!$E24=\"o\",COUNTBLANK(E25)=0),placingpoints(E25,COUNTIF(E$3:E$101,\"=\"&E25)),\"\")","v":""},{"$f":"IF(Registration!$E24=\"o\",Accuracy!L24,\"\")","v":""},{"$f":"IF(AND(Registration!$E24=\"o\",COUNTBLANK(G25)=0),RANK(G25,G$3:G$102,0),\"\")","v":""},{"$f":"IF(AND(Registration!$E24=\"o\",COUNTBLANK(H25)=0),placingpoints(H25,COUNTIF(H$3:H$102,\"=\"&H25)),\"\")","v":""},{"$f":"IF(Registration!$E24=\"o\",MTA!G24,\"\")","v":""},{"$f":"IF(AND(Registration!$E24=\"o\",COUNTBLANK(J25)=0),RANK(J25,J$3:J$101,0),\"\")","v":""},{"$f":"IF(AND(Registration!$E24=\"o\",COUNTBLANK(K25)=0),placingpoints(K25,COUNTIF(K$3:K$101,\"=\"&K25)),\"\")","v":""},{"$f":"IF(Registration!$E24=\"o\",'Trick Catch'!X25,\"\")","v":""},{"$f":"IF(AND(Registration!$E24=\"o\",COUNTBLANK(M25)=0),RANK(M25,M$3:M$101,0),\"\")","v":""},{"$f":"IF(AND(Registration!$E24=\"o\",COUNTBLANK(N25)=0),placingpoints(N25,COUNTIF(N$3:N$101,\"=\"&N25)),\"\")","v":""},{"$f":"IF(Registration!$E24=\"o\",'Fast Catch'!F24,\"\")","v":""},{"$f":"IF(AND(Registration!$E24=\"o\",COUNTBLANK(P25)=0),RANK(P25,P$3:P$101,1),\"\")","v":""},{"$f":"IF(AND(Registration!$E24=\"o\",COUNTBLANK(Q25)=0),placingpoints(Q25,COUNTIF(Q$3:Q$101,\"=\"&Q25)),\"\")","v":""},{"$f":"IF(Registration!$E24=\"o\",Endurance!C24,\"\")","v":""},{"$f":"IF(AND(Registration!$E24=\"o\",COUNTBLANK(S25)=0),RANK(S25,S$3:S$101,0),\"\")","v":""},{"$f":"IF(AND(Registration!$E24=\"o\",COUNTBLANK(T25)=0),placingpoints(T25,COUNTIF(T$3:T$101,\"=\"&T25)),\"\")","v":""}]
[{"$f":"IF(Registration!E25=\"o\",RANK(B26,$B$3:$B$101,1),\"\")","v":""},{"$f":"IF(Registration!E25=\"O\",SUM(F26,I26,L26,O26,R26,U26),\"\")","v":""},{"$f":"IF(COUNTBLANK(Registration!B25)=1,\"\",IF(Registration!E25=\"o\",Registration!B25,\"\"))","v":""},{"$f":"IF(Registration!E25=\"o\",'Aussie Round'!V26,\"\")","v":""},{"$f":"IF(AND(Registration!$E25=\"o\",COUNTBLANK(D26)=0),RANK(D26,D$3:D$101,0),\"\")","v":""},{"$f":"IF(AND(Registration!$E25=\"o\",COUNTBLANK(E26)=0),placingpoints(E26,COUNTIF(E$3:E$101,\"=\"&E26)),\"\")","v":""},{"$f":"IF(Registration!$E25=\"o\",Accuracy!L25,\"\")","v":""},{"$f":"IF(AND(Registration!$E25=\"o\",COUNTBLANK(G26)=0),RANK(G26,G$3:G$102,0),\"\")","v":""},{"$f":"IF(AND(Registration!$E25=\"o\",COUNTBLANK(H26)=0),placingpoints(H26,COUNTIF(H$3:H$102,\"=\"&H26)),\"\")","v":""},{"$f":"IF(Registration!$E25=\"o\",MTA!G25,\"\")","v":""},{"$f":"IF(AND(Registration!$E25=\"o\",COUNTBLANK(J26)=0),RANK(J26,J$3:J$101,0),\"\")","v":""},{"$f":"IF(AND(Registration!$E25=\"o\",COUNTBLANK(K26)=0),placingpoints(K26,COUNTIF(K$3:K$101,\"=\"&K26)),\"\")","v":""},{"$f":"IF(Registration!$E25=\"o\",'Trick Catch'!X26,\"\")","v":""},{"$f":"IF(AND(Registration!$E25=\"o\",COUNTBLANK(M26)=0),RANK(M26,M$3:M$101,0),\"\")","v":""},{"$f":"IF(AND(Registration!$E25=\"o\",COUNTBLANK(N26)=0),placingpoints(N26,COUNTIF(N$3:N$101,\"=\"&N26)),\"\")","v":""},{"$f":"IF(Registration!$E25=\"o\",'Fast Catch'!F25,\"\")","v":""},{"$f":"IF(AND(Registration!$E25=\"o\",COUNTBLANK(P26)=0),RANK(P26,P$3:P$101,1),\"\")","v":""},{"$f":"IF(AND(Registration!$E25=\"o\",COUNTBLANK(Q26)=0),placingpoints(Q26,COUNTIF(Q$3:Q$101,\"=\"&Q26)),\"\")","v":""},{"$f":"IF(Registration!$E25=\"o\",Endurance!C25,\"\")","v":""},{"$f":"IF(AND(Registration!$E25=\"o\",COUNTBLANK(S26)=0),RANK(S26,S$3:S$101,0),\"\")","v":""},{"$f":"IF(AND(Registration!$E25=\"o\",COUNTBLANK(T26)=0),placingpoints(T26,COUNTIF(T$3:T$101,\"=\"&T26)),\"\")","v":""}]
[{"$f":"IF(Registration!E26=\"o\",RANK(B27,$B$3:$B$101,1),\"\")","v":""},{"$f":"IF(Registration!E26=\"O\",SUM(F27,I27,L27,O27,R27,U27),\"\")","v":""},{"$f":"IF(COUNTBLANK(Registration!B26)=1,\"\",IF(Registration!E26=\"o\",Registration!B26,\"\"))","v":""},{"$f":"IF(Registration!E26=\"o\",'Aussie Round'!V27,\"\")","v":""},{"$f":"IF(AND(Registration!$E26=\"o\",COUNTBLANK(D27)=0),RANK(D27,D$3:D$101,0),\"\")","v":""},{"$f":"IF(AND(Registration!$E26=\"o\",COUNTBLANK(E27)=0),placingpoints(E27,COUNTIF(E$3:E$101,\"=\"&E27)),\"\")","v":""},{"$f":"IF(Registration!$E26=\"o\",Accuracy!L26,\"\")","v":""},{"$f":"IF(AND(Registration!$E26=\"o\",COUNTBLANK(G27)=0),RANK(G27,G$3:G$102,0),\"\")","v":""},{"$f":"IF(AND(Registration!$E26=\"o\",COUNTBLANK(H27)=0),placingpoints(H27,COUNTIF(H$3:H$102,\"=\"&H27)),\"\")","v":""},{"$f":"IF(Registration!$E26=\"o\",MTA!G26,\"\")","v":""},{"$f":"IF(AND(Registration!$E26=\"o\",COUNTBLANK(J27)=0),RANK(J27,J$3:J$101,0),\"\")","v":""},{"$f":"IF(AND(Registration!$E26=\"o\",COUNTBLANK(K27)=0),placingpoints(K27,COUNTIF(K$3:K$101,\"=\"&K27)),\"\")","v":""},{"$f":"IF(Registration!$E26=\"o\",'Trick Catch'!X27,\"\")","v":""},{"$f":"IF(AND(Registration!$E26=\"o\",COUNTBLANK(M27)=0),RANK(M27,M$3:M$101,0),\"\")","v":""},{"$f":"IF(AND(Registration!$E26=\"o\",COUNTBLANK(N27)=0),placingpoints(N27,COUNTIF(N$3:N$101,\"=\"&N27)),\"\")","v":""},{"$f":"IF(Registration!$E26=\"o\",'Fast Catch'!F26,\"\")","v":""},{"$f":"IF(AND(Registration!$E26=\"o\",COUNTBLANK(P27)=0),RANK(P27,P$3:P$101,1),\"\")","v":""},{"$f":"IF(AND(Registration!$E26=\"o\",COUNTBLANK(Q27)=0),placingpoints(Q27,COUNTIF(Q$3:Q$101,\"=\"&Q27)),\"\")","v":""},{"$f":"IF(Registration!$E26=\"o\",Endurance!C26,\"\")","v":""},{"$f":"IF(AND(Registration!$E26=\"o\",COUNTBLANK(S27)=0),RANK(S27,S$3:S$101,0),\"\")","v":""},{"$f":"IF(AND(Registration!$E26=\"o\",COUNTBLANK(T27)=0),placingpoints(T27,COUNTIF(T$3:T$101,\"=\"&T27)),\"\")","v":""}]
[{"$f":"IF(Registration!E27=\"o\",RANK(B28,$B$3:$B$101,1),\"\")","v":""},{"$f":"IF(Registration!E27=\"O\",SUM(F28,I28,L28,O28,R28,U28),\"\")","v":""},{"$f":"IF(COUNTBLANK(Registration!B27)=1,\"\",IF(Registration!E27=\"o\",Registration!B27,\"\"))","v":""},{"$f":"IF(Registration!E27=\"o\",'Aussie Round'!V28,\"\")","v":""},{"$f":"IF(AND(Registration!$E27=\"o\",COUNTBLANK(D28)=0),RANK(D28,D$3:D$101,0),\"\")","v":""},{"$f":"IF(AND(Registration!$E27=\"o\",COUNTBLANK(E28)=0),placingpoints(E28,COUNTIF(E$3:E$101,\"=\"&E28)),\"\")","v":""},{"$f":"IF(Registration!$E27=\"o\",Accuracy!L27,\"\")","v":""},{"$f":"IF(AND(Registration!$E27=\"o\",COUNTBLANK(G28)=0),RANK(G28,G$3:G$102,0),\"\")","v":""},{"$f":"IF(AND(Registration!$E27=\"o\",COUNTBLANK(H28)=0),placingpoints(H28,COUNTIF(H$3:H$102,\"=\"&H28)),\"\")","v":""},{"$f":"IF(Registration!$E27=\"o\",MTA!G27,\"\")","v":""},{"$f":"IF(AND(Registration!$E27=\"o\",COUNTBLANK(J28)=0),RANK(J28,J$3:J$101,0),\"\")","v":""},{"$f":"IF(AND(Registration!$E27=\"o\",COUNTBLANK(K28)=0),placingpoints(K28,COUNTIF(K$3:K$101,\"=\"&K28)),\"\")","v":""},{"$f":"IF(Registration!$E27=\"o\",'Trick Catch'!X28,\"\")","v":""},{"$f":"IF(AND(Registration!$E27=\"o\",COUNTBLANK(M28)=0),RANK(M28,M$3:M$101,0),\"\")","v":""},{"$f":"IF(AND(Registration!$E27=\"o\",COUNTBLANK(N28)=0),placingpoints(N28,COUNTIF(N$3:N$101,\"=\"&N28)),\"\")","v":""},{"$f":"IF(Registration!$E27=\"o\",'Fast Catch'!F27,\"\")","v":""},{"$f":"IF(AND(Registration!$E27=\"o\",COUNTBLANK(P28)=0),RANK(P28,P$3:P$101,1),\"\")","v":""},{"$f":"IF(AND(Registration!$E27=\"o\",COUNTBLANK(Q28)=0),placingpoints(Q28,COUNTIF(Q$3:Q$101,\"=\"&Q28)),\"\")","v":""},{"$f":"IF(Registration!$E27=\"o\",Endurance!C27,\"\")","v":""},{"$f":"IF(AND(Registration!$E27=\"o\",COUNTBLANK(S28)=0),RANK(S28,S$3:S$101,0),\"\")","v":""},{"$f":"IF(AND(Registration!$E27=\"o\",COUNTBLANK(T28)=0),placingpoints(T28,COUNTIF(T$3:T$101,\"=\"&T28)),\"\")","v":""}]
[{"$f":"IF(Registration!E28=\"o\",RANK(B29,$B$3:$B$101,1),\"\")","v":""},{"$f":"IF(Registration!E28=\"O\",SUM(F29,I29,L29,O29,R29,U29),\"\")","v":""},{"$f":"IF(COUNTBLANK(Registration!B28)=1,\"\",IF(Registration!E28=\"o\",Registration!B28,\"\"))","v":""},{"$f":"IF(Registration!E28=\"o\",'Aussie Round'!V29,\"\")","v":""},{"$f":"IF(AND(Registration!$E28=\"o\",COUNTBLANK(D29)=0),RANK(D29,D$3:D$101,0),\"\")","v":""},{"$f":"IF(AND(Registration!$E28=\"o\",COUNTBLANK(E29)=0),placingpoints(E29,COUNTIF(E$3:E$101,\"=\"&E29)),\"\")","v":""},{"$f":"IF(Registration!$E28=\"o\",Accuracy!L28,\"\")","v":""},{"$f":"IF(AND(Registration!$E28=\"o\",COUNTBLANK(G29)=0),RANK(G29,G$3:G$102,0),\"\")","v":""},{"$f":"IF(AND(Registration!$E28=\"o\",COUNTBLANK(H29)=0),placingpoints(H29,COUNTIF(H$3:H$102,\"=\"&H29)),\"\")","v":""},{"$f":"IF(Registration!$E28=\"o\",MTA!G28,\"\")","v":""},{"$f":"IF(AND(Registration!$E28=\"o\",COUNTBLANK(J29)=0),RANK(J29,J$3:J$101,0),\"\")","v":""},{"$f":"IF(AND(Registration!$E28=\"o\",COUNTBLANK(K29)=0),placingpoints(K29,COUNTIF(K$3:K$101,\"=\"&K29)),\"\")","v":""},{"$f":"IF(Registration!$E28=\"o\",'Trick Catch'!X29,\"\")","v":""},{"$f":"IF(AND(Registration!$E28=\"o\",COUNTBLANK(M29)=0),RANK(M29,M$3:M$101,0),\"\")","v":""},{"$f":"IF(AND(Registration!$E28=\"o\",COUNTBLANK(N29)=0),placingpoints(N29,COUNTIF(N$3:N$101,\"=\"&N29)),\"\")","v":""},{"$f":"IF(Registration!$E28=\"o\",'Fast Catch'!F28,\"\")","v":""},{"$f":"IF(AND(Registration!$E28=\"o\",COUNTBLANK(P29)=0),RANK(P29,P$3:P$101,1),\"\")","v":""},{"$f":"IF(AND(Registration!$E28=\"o\",COUNTBLANK(Q29)=0),placingpoints(Q29,COUNTIF(Q$3:Q$101,\"=\"&Q29)),\"\")","v":""},{"$f":"IF(Registration!$E28=\"o\",Endurance!C28,\"\")","v":""},{"$f":"IF(AND(Registration!$E28=\"o\",COUNTBLANK(S29)=0),RANK(S29,S$3:S$101,0),\"\")","v":""},{"$f":"IF(AND(Registration!$E28=\"o\",COUNTBLANK(T29)=0),placingpoints(T29,COUNTIF(T$3:T$101,\"=\"&T29)),\"\")","v":""}]
[{"$f":"IF(Registration!E29=\"o\",RANK(B30,$B$3:$B$101,1),\"\")","v":""},{"$f":"IF(Registration!E29=\"O\",SUM(F30,I30,L30,O30,R30,U30),\"\")","v":""},{"$f":"IF(COUNTBLANK(Registration!B29)=1,\"\",IF(Registration!E29=\"o\",Registration!B29,\"\"))","v":""},{"$f":"IF(Registration!E29=\"o\",'Aussie Round'!V30,\"\")","v":""},{"$f":"IF(AND(Registration!$E29=\"o\",COUNTBLANK(D30)=0),RANK(D30,D$3:D$101,0),\"\")","v":""},{"$f":"IF(AND(Registration!$E29=\"o\",COUNTBLANK(E30)=0),placingpoints(E30,COUNTIF(E$3:E$101,\"=\"&E30)),\"\")","v":""},{"$f":"IF(Registration!$E29=\"o\",Accuracy!L29,\"\")","v":""},{"$f":"IF(AND(Registration!$E29=\"o\",COUNTBLANK(G30)=0),RANK(G30,G$3:G$102,0),\"\")","v":""},{"$f":"IF(AND(Registration!$E29=\"o\",COUNTBLANK(H30)=0),placingpoints(H30,COUNTIF(H$3:H$102,\"=\"&H30)),\"\")","v":""},{"$f":"IF(Registration!$E29=\"o\",MTA!G29,\"\")","v":""},{"$f":"IF(AND(Registration!$E29=\"o\",COUNTBLANK(J30)=0),RANK(J30,J$3:J$101,0),\"\")","v":""},{"$f":"IF(AND(Registration!$E29=\"o\",COUNTBLANK(K30)=0),placingpoints(K30,COUNTIF(K$3:K$101,\"=\"&K30)),\"\")","v":""},{"$f":"IF(Registration!$E29=\"o\",'Trick Catch'!X30,\"\")","v":""},{"$f":"IF(AND(Registration!$E29=\"o\",COUNTBLANK(M30)=0),RANK(M30,M$3:M$101,0),\"\")","v":""},{"$f":"IF(AND(Registration!$E29=\"o\",COUNTBLANK(N30)=0),placingpoints(N30,COUNTIF(N$3:N$101,\"=\"&N30)),\"\")","v":""},{"$f":"IF(Registration!$E29=\"o\",'Fast Catch'!F29,\"\")","v":""},{"$f":"IF(AND(Registration!$E29=\"o\",COUNTBLANK(P30)=0),RANK(P30,P$3:P$101,1),\"\")","v":""},{"$f":"IF(AND(Registration!$E29=\"o\",COUNTBLANK(Q30)=0),placingpoints(Q30,COUNTIF(Q$3:Q$101,\"=\"&Q30)),\"\")","v":""},{"$f":"IF(Registration!$E29=\"o\",Endurance!C29,\"\")","v":""},{"$f":"IF(AND(Registration!$E29=\"o\",COUNTBLANK(S30)=0),RANK(S30,S$3:S$101,0),\"\")","v":""},{"$f":"IF(AND(Registration!$E29=\"o\",COUNTBLANK(T30)=0),placingpoints(T30,COUNTIF(T$3:T$101,\"=\"&T30)),\"\")","v":""}]
[{"$f":"IF(Registration!E30=\"o\",RANK(B31,$B$3:$B$101,1),\"\")","v":""},{"$f":"IF(Registration!E30=\"O\",SUM(F31,I31,L31,O31,R31,U31),\"\")","v":""},{"$f":"IF(COUNTBLANK(Registration!B30)=1,\"\",IF(Registration!E30=\"o\",Registration!B30,\"\"))","v":""},{"$f":"IF(Registration!E30=\"o\",'Aussie Round'!V31,\"\")","v":""},{"$f":"IF(AND(Registration!$E30=\"o\",COUNTBLANK(D31)=0),RANK(D31,D$3:D$101,0),\"\")","v":""},{"$f":"IF(AND(Registration!$E30=\"o\",COUNTBLANK(E31)=0),placingpoints(E31,COUNTIF(E$3:E$101,\"=\"&E31)),\"\")","v":""},{"$f":"IF(Registration!$E30=\"o\",Accuracy!L30,\"\")","v":""},{"$f":"IF(AND(Registration!$E30=\"o\",COUNTBLANK(G31)=0),RANK(G31,G$3:G$102,0),\"\")","v":""},{"$f":"IF(AND(Registration!$E30=\"o\",COUNTBLANK(H31)=0),placingpoints(H31,COUNTIF(H$3:H$102,\"=\"&H31)),\"\")","v":""},{"$f":"IF(Registration!$E30=\"o\",MTA!G30,\"\")","v":""},{"$f":"IF(AND(Registration!$E30=\"o\",COUNTBLANK(J31)=0),RANK(J31,J$3:J$101,0),\"\")","v":""},{"$f":"IF(AND(Registration!$E30=\"o\",COUNTBLANK(K31)=0),placingpoints(K31,COUNTIF(K$3:K$101,\"=\"&K31)),\"\")","v":""},{"$f":"IF(Registration!$E30=\"o\",'Trick Catch'!X31,\"\")","v":""},{"$f":"IF(AND(Registration!$E30=\"o\",COUNTBLANK(M31)=0),RANK(M31,M$3:M$101,0),\"\")","v":""},{"$f":"IF(AND(Registration!$E30=\"o\",COUNTBLANK(N31)=0),placingpoints(N31,COUNTIF(N$3:N$101,\"=\"&N31)),\"\")","v":""},{"$f":"IF(Registration!$E30=\"o\",'Fast Catch'!F30,\"\")","v":""},{"$f":"IF(AND(Registration!$E30=\"o\",COUNTBLANK(P31)=0),RANK(P31,P$3:P$101,1),\"\")","v":""},{"$f":"IF(AND(Registration!$E30=\"o\",COUNTBLANK(Q31)=0),placingpoints(Q31,COUNTIF(Q$3:Q$101,\"=\"&Q31)),\"\")","v":""},{"$f":"IF(Registration!$E30=\"o\",Endurance!C30,\"\")","v":""},{"$f":"IF(AND(Registration!$E30=\"o\",COUNTBLANK(S31)=0),RANK(S31,S$3:S$101,0),\"\")","v":""},{"$f":"IF(AND(Registration!$E30=\"o\",COUNTBLANK(T31)=0),placingpoints(T31,COUNTIF(T$3:T$101,\"=\"&T31)),\"\")","v":""}]
[{"$f":"IF(Registration!E31=\"o\",RANK(B32,$B$3:$B$101,1),\"\")","v":""},{"$f":"IF(Registration!E31=\"O\",SUM(F32,I32,L32,O32,R32,U32),\"\")","v":""},{"$f":"IF(COUNTBLANK(Registration!B31)=1,\"\",IF(Registration!E31=\"o\",Registration!B31,\"\"))","v":""},{"$f":"IF(Registration!E31=\"o\",'Aussie Round'!V32,\"\")","v":""},{"$f":"IF(AND(Registration!$E31=\"o\",COUNTBLANK(D32)=0),RANK(D32,D$3:D$101,0),\"\")","v":""},{"$f":"IF(AND(Registration!$E31=\"o\",COUNTBLANK(E32)=0),placingpoints(E32,COUNTIF(E$3:E$101,\"=\"&E32)),\"\")","v":""},{"$f":"IF(Registration!$E31=\"o\",Accuracy!L31,\"\")","v":""},{"$f":"IF(AND(Registration!$E31=\"o\",COUNTBLANK(G32)=0),RANK(G32,G$3:G$102,0),\"\")","v":""},{"$f":"IF(AND(Registration!$E31=\"o\",COUNTBLANK(H32)=0),placingpoints(H32,COUNTIF(H$3:H$102,\"=\"&H32)),\"\")","v":""},{"$f":"IF(Registration!$E31=\"o\",MTA!G31,\"\")","v":""},{"$f":"IF(AND(Registration!$E31=\"o\",COUNTBLANK(J32)=0),RANK(J32,J$3:J$101,0),\"\")","v":""},{"$f":"IF(AND(Registration!$E31=\"o\",COUNTBLANK(K32)=0),placingpoints(K32,COUNTIF(K$3:K$101,\"=\"&K32)),\"\")","v":""},{"$f":"IF(Registration!$E31=\"o\",'Trick Catch'!X32,\"\")","v":""},{"$f":"IF(AND(Registration!$E31=\"o\",COUNTBLANK(M32)=0),RANK(M32,M$3:M$101,0),\"\")","v":""},{"$f":"IF(AND(Registration!$E31=\"o\",COUNTBLANK(N32)=0),placingpoints(N32,COUNTIF(N$3:N$101,\"=\"&N32)),\"\")","v":""},{"$f":"IF(Registration!$E31=\"o\",'Fast Catch'!F31,\"\")","v":""},{"$f":"IF(AND(Registration!$E31=\"o\",COUNTBLANK(P32)=0),RANK(P32,P$3:P$101,1),\"\")","v":""},{"$f":"IF(AND(Registration!$E31=\"o\",COUNTBLANK(Q32)=0),placingpoints(Q32,COUNTIF(Q$3:Q$101,\"=\"&Q32)),\"\")","v":""},{"$f":"IF(Registration!$E31=\"o\",Endurance!C31,\"\")","v":""},{"$f":"IF(AND(Registration!$E31=\"o\",COUNTBLANK(S32)=0),RANK(S32,S$3:S$101,0),\"\")","v":""},{"$f":"IF(AND(Registration!$E31=\"o\",COUNTBLANK(T32)=0),placingpoints(T32,COUNTIF(T$3:T$101,\"=\"&T32)),\"\")","v":""}]
[{"$f":"IF(Registration!E32=\"o\",RANK(B33,$B$3:$B$101,1),\"\")","v":""},{"$f":"IF(Registration!E32=\"O\",SUM(F33,I33,L33,O33,R33,U33),\"\")","v":""},{"$f":"IF(COUNTBLANK(Registration!B32)=1,\"\",IF(Registration!E32=\"o\",Registration!B32,\"\"))","v":""},{"$f":"IF(Registration!E32=\"o\",'Aussie Round'!V33,\"\")","v":""},{"$f":"IF(AND(Registration!$E32=\"o\",COUNTBLANK(D33)=0),RANK(D33,D$3:D$101,0),\"\")","v":""},{"$f":"IF(AND(Registration!$E32=\"o\",COUNTBLANK(E33)=0),placingpoints(E33,COUNTIF(E$3:E$101,\"=\"&E33)),\"\")","v":""},{"$f":"IF(Registration!$E32=\"o\",Accuracy!L32,\"\")","v":""},{"$f":"IF(AND(Registration!$E32=\"o\",COUNTBLANK(G33)=0),RANK(G33,G$3:G$102,0),\"\")","v":""},{"$f":"IF(AND(Registration!$E32=\"o\",COUNTBLANK(H33)=0),placingpoints(H33,COUNTIF(H$3:H$102,\"=\"&H33)),\"\")","v":""},{"$f":"IF(Registration!$E32=\"o\",MTA!G32,\"\")","v":""},{"$f":"IF(AND(Registration!$E32=\"o\",COUNTBLANK(J33)=0),RANK(J33,J$3:J$101,0),\"\")","v":""},{"$f":"IF(AND(Registration!$E32=\"o\",COUNTBLANK(K33)=0),placingpoints(K33,COUNTIF(K$3:K$101,\"=\"&K33)),\"\")","v":""},{"$f":"IF(Registration!$E32=\"o\",'Trick Catch'!X33,\"\")","v":""},{"$f":"IF(AND(Registration!$E32=\"o\",COUNTBLANK(M33)=0),RANK(M33,M$3:M$101,0),\"\")","v":""},{"$f":"IF(AND(Registration!$E32=\"o\",COUNTBLANK(N33)=0),placingpoints(N33,COUNTIF(N$3:N$101,\"=\"&N33)),\"\")","v":""},{"$f":"IF(Registration!$E32=\"o\",'Fast Catch'!F32,\"\")","v":""},{"$f":"IF(AND(Registration!$E32=\"o\",COUNTBLANK(P33)=0),RANK(P33,P$3:P$101,1),\"\")","v":""},{"$f":"IF(AND(Registration!$E32=\"o\",COUNTBLANK(Q33)=0),placingpoints(Q33,COUNTIF(Q$3:Q$101,\"=\"&Q33)),\"\")","v":""},{"$f":"IF(Registration!$E32=\"o\",Endurance!C32,\"\")","v":""},{"$f":"IF(AND(Registration!$E32=\"o\",COUNTBLANK(S33)=0),RANK(S33,S$3:S$101,0),\"\")","v":""},{"$f":"IF(AND(Registration!$E32=\"o\",COUNTBLANK(T33)=0),placingpoints(T33,COUNTIF(T$3:T$101,\"=\"&T33)),\"\")","v":""}]
[{"$f":"IF(Registration!E33=\"o\",RANK(B34,$B$3:$B$101,1),\"\")","v":""},{"$f":"IF(Registration!E33=\"O\",SUM(F34,I34,L34,O34,R34,U34),\"\")","v":""},{"$f":"IF(COUNTBLANK(Registration!B33)=1,\"\",IF(Registration!E33=\"o\",Registration!B33,\"\"))","v":""},{"$f":"IF(Registration!E33=\"o\",'Aussie Round'!V34,\"\")","v":""},{"$f":"IF(AND(Registration!$E33=\"o\",COUNTBLANK(D34)=0),RANK(D34,D$3:D$101,0),\"\")","v":""},{"$f":"IF(AND(Registration!$E33=\"o\",COUNTBLANK(E34)=0),placingpoints(E34,COUNTIF(E$3:E$101,\"=\"&E34)),\"\")","v":""},{"$f":"IF(Registration!$E33=\"o\",Accuracy!L33,\"\")","v":""},{"$f":"IF(AND(Registration!$E33=\"o\",COUNTBLANK(G34)=0),RANK(G34,G$3:G$102,0),\"\")","v":""},{"$f":"IF(AND(Registration!$E33=\"o\",COUNTBLANK(H34)=0),placingpoints(H34,COUNTIF(H$3:H$102,\"=\"&H34)),\"\")","v":""},{"$f":"IF(Registration!$E33=\"o\",MTA!G33,\"\")","v":""},{"$f":"IF(AND(Registration!$E33=\"o\",COUNTBLANK(J34)=0),RANK(J34,J$3:J$101,0),\"\")","v":""},{"$f":"IF(AND(Registration!$E33=\"o\",COUNTBLANK(K34)=0),placingpoints(K34,COUNTIF(K$3:K$101,\"=\"&K34)),\"\")","v":""},{"$f":"IF(Registration!$E33=\"o\",'Trick Catch'!X34,\"\")","v":""},{"$f":"IF(AND(Registration!$E33=\"o\",COUNTBLANK(M34)=0),RANK(M34,M$3:M$101,0),\"\")","v":""},{"$f":"IF(AND(Registration!$E33=\"o\",COUNTBLANK(N34)=0),placingpoints(N34,COUNTIF(N$3:N$101,\"=\"&N34)),\"\")","v":""},{"$f":"IF(Registration!$E33=\"o\",'Fast Catch'!F33,\"\")","v":""},{"$f":"IF(AND(Registration!$E33=\"o\",COUNTBLANK(P34)=0),RANK(P34,P$3:P$101,1),\"\")","v":""},{"$f":"IF(AND(Registration!$E33=\"o\",COUNTBLANK(Q34)=0),placingpoints(Q34,COUNTIF(Q$3:Q$101,\"=\"&Q34)),\"\")","v":""},{"$f":"IF(Registration!$E33=\"o\",Endurance!C33,\"\")","v":""},{"$f":"IF(AND(Registration!$E33=\"o\",COUNTBLANK(S34)=0),RANK(S34,S$3:S$101,0),\"\")","v":""},{"$f":"IF(AND(Registration!$E33=\"o\",COUNTBLANK(T34)=0),placingpoints(T34,COUNTIF(T$3:T$101,\"=\"&T34)),\"\")","v":""}]
[{"$f":"IF(Registration!E34=\"o\",RANK(B35,$B$3:$B$101,1),\"\")","v":""},{"$f":"IF(Registration!E34=\"O\",SUM(F35,I35,L35,O35,R35,U35),\"\")","v":""},{"$f":"IF(COUNTBLANK(Registration!B34)=1,\"\",IF(Registration!E34=\"o\",Registration!B34,\"\"))","v":""},{"$f":"IF(Registration!E34=\"o\",'Aussie Round'!V35,\"\")","v":""},{"$f":"IF(AND(Registration!$E34=\"o\",COUNTBLANK(D35)=0),RANK(D35,D$3:D$101,0),\"\")","v":""},{"$f":"IF(AND(Registration!$E34=\"o\",COUNTBLANK(E35)=0),placingpoints(E35,COUNTIF(E$3:E$101,\"=\"&E35)),\"\")","v":""},{"$f":"IF(Registration!$E34=\"o\",Accuracy!L34,\"\")","v":""},{"$f":"IF(AND(Registration!$E34=\"o\",COUNTBLANK(G35)=0),RANK(G35,G$3:G$102,0),\"\")","v":""},{"$f":"IF(AND(Registration!$E34=\"o\",COUNTBLANK(H35)=0),placingpoints(H35,COUNTIF(H$3:H$102,\"=\"&H35)),\"\")","v":""},{"$f":"IF(Registration!$E34=\"o\",MTA!G34,\"\")","v":""},{"$f":"IF(AND(Registration!$E34=\"o\",COUNTBLANK(J35)=0),RANK(J35,J$3:J$101,0),\"\")","v":""},{"$f":"IF(AND(Registration!$E34=\"o\",COUNTBLANK(K35)=0),placingpoints(K35,COUNTIF(K$3:K$101,\"=\"&K35)),\"\")","v":""},{"$f":"IF(Registration!$E34=\"o\",'Trick Catch'!X35,\"\")","v":""},{"$f":"IF(AND(Registration!$E34=\"o\",COUNTBLANK(M35)=0),RANK(M35,M$3:M$101,0),\"\")","v":""},{"$f":"IF(AND(Registration!$E34=\"o\",COUNTBLANK(N35)=0),placingpoints(N35,COUNTIF(N$3:N$101,\"=\"&N35)),\"\")","v":""},{"$f":"IF(Registration!$E34=\"o\",'Fast Catch'!F34,\"\")","v":""},{"$f":"IF(AND(Registration!$E34=\"o\",COUNTBLANK(P35)=0),RANK(P35,P$3:P$101,1),\"\")","v":""},{"$f":"IF(AND(Registration!$E34=\"o\",COUNTBLANK(Q35)=0),placingpoints(Q35,COUNTIF(Q$3:Q$101,\"=\"&Q35)),\"\")","v":""},{"$f":"IF(Registration!$E34=\"o\",Endurance!C34,\"\")","v":""},{"$f":"IF(AND(Registration!$E34=\"o\",COUNTBLANK(S35)=0),RANK(S35,S$3:S$101,0),\"\")","v":""},{"$f":"IF(AND(Registration!$E34=\"o\",COUNTBLANK(T35)=0),placingpoints(T35,COUNTIF(T$3:T$101,\"=\"&T35)),\"\")","v":""}]
[{"$f":"IF(Registration!E35=\"o\",RANK(B36,$B$3:$B$101,1),\"\")","v":""},{"$f":"IF(Registration!E35=\"O\",SUM(F36,I36,L36,O36,R36,U36),\"\")","v":""},{"$f":"IF(COUNTBLANK(Registration!B35)=1,\"\",IF(Registration!E35=\"o\",Registration!B35,\"\"))","v":""},{"$f":"IF(Registration!E35=\"o\",'Aussie Round'!V36,\"\")","v":""},{"$f":"IF(AND(Registration!$E35=\"o\",COUNTBLANK(D36)=0),RANK(D36,D$3:D$101,0),\"\")","v":""},{"$f":"IF(AND(Registration!$E35=\"o\",COUNTBLANK(E36)=0),placingpoints(E36,COUNTIF(E$3:E$101,\"=\"&E36)),\"\")","v":""},{"$f":"IF(Registration!$E35=\"o\",Accuracy!L35,\"\")","v":""},{"$f":"IF(AND(Registration!$E35=\"o\",COUNTBLANK(G36)=0),RANK(G36,G$3:G$102,0),\"\")","v":""},{"$f":"IF(AND(Registration!$E35=\"o\",COUNTBLANK(H36)=0),placingpoints(H36,COUNTIF(H$3:H$102,\"=\"&H36)),\"\")","v":""},{"$f":"IF(Registration!$E35=\"o\",MTA!G35,\"\")","v":""},{"$f":"IF(AND(Registration!$E35=\"o\",COUNTBLANK(J36)=0),RANK(J36,J$3:J$101,0),\"\")","v":""},{"$f":"IF(AND(Registration!$E35=\"o\",COUNTBLANK(K36)=0),placingpoints(K36,COUNTIF(K$3:K$101,\"=\"&K36)),\"\")","v":""},{"$f":"IF(Registration!$E35=\"o\",'Trick Catch'!X36,\"\")","v":""},{"$f":"IF(AND(Registration!$E35=\"o\",COUNTBLANK(M36)=0),RANK(M36,M$3:M$101,0),\"\")","v":""},{"$f":"IF(AND(Registration!$E35=\"o\",COUNTBLANK(N36)=0),placingpoints(N36,COUNTIF(N$3:N$101,\"=\"&N36)),\"\")","v":""},{"$f":"IF(Registration!$E35=\"o\",'Fast Catch'!F35,\"\")","v":""},{"$f":"IF(AND(Registration!$E35=\"o\",COUNTBLANK(P36)=0),RANK(P36,P$3:P$101,1),\"\")","v":""},{"$f":"IF(AND(Registration!$E35=\"o\",COUNTBLANK(Q36)=0),placingpoints(Q36,COUNTIF(Q$3:Q$101,\"=\"&Q36)),\"\")","v":""},{"$f":"IF(Registration!$E35=\"o\",Endurance!C35,\"\")","v":""},{"$f":"IF(AND(Registration!$E35=\"o\",COUNTBLANK(S36)=0),RANK(S36,S$3:S$101,0),\"\")","v":""},{"$f":"IF(AND(Registration!$E35=\"o\",COUNTBLANK(T36)=0),placingpoints(T36,COUNTIF(T$3:T$101,\"=\"&T36)),\"\")","v":""}]
[{"$f":"IF(Registration!E36=\"o\",RANK(B37,$B$3:$B$101,1),\"\")","v":""},{"$f":"IF(Registration!E36=\"O\",SUM(F37,I37,L37,O37,R37,U37),\"\")","v":""},{"$f":"IF(COUNTBLANK(Registration!B36)=1,\"\",IF(Registration!E36=\"o\",Registration!B36,\"\"))","v":""},{"$f":"IF(Registration!E36=\"o\",'Aussie Round'!V37,\"\")","v":""},{"$f":"IF(AND(Registration!$E36=\"o\",COUNTBLANK(D37)=0),RANK(D37,D$3:D$101,0),\"\")","v":""},{"$f":"IF(AND(Registration!$E36=\"o\",COUNTBLANK(E37)=0),placingpoints(E37,COUNTIF(E$3:E$101,\"=\"&E37)),\"\")","v":""},{"$f":"IF(Registration!$E36=\"o\",Accuracy!L36,\"\")","v":""},{"$f":"IF(AND(Registration!$E36=\"o\",COUNTBLANK(G37)=0),RANK(G37,G$3:G$102,0),\"\")","v":""},{"$f":"IF(AND(Registration!$E36=\"o\",COUNTBLANK(H37)=0),placingpoints(H37,COUNTIF(H$3:H$102,\"=\"&H37)),\"\")","v":""},{"$f":"IF(Registration!$E36=\"o\",MTA!G36,\"\")","v":""},{"$f":"IF(AND(Registration!$E36=\"o\",COUNTBLANK(J37)=0),RANK(J37,J$3:J$101,0),\"\")","v":""},{"$f":"IF(AND(Registration!$E36=\"o\",COUNTBLANK(K37)=0),placingpoints(K37,COUNTIF(K$3:K$101,\"=\"&K37)),\"\")","v":""},{"$f":"IF(Registration!$E36=\"o\",'Trick Catch'!X37,\"\")","v":""},{"$f":"IF(AND(Registration!$E36=\"o\",COUNTBLANK(M37)=0),RANK(M37,M$3:M$101,0),\"\")","v":""},{"$f":"IF(AND(Registration!$E36=\"o\",COUNTBLANK(N37)=0),placingpoints(N37,COUNTIF(N$3:N$101,\"=\"&N37)),\"\")","v":""},{"$f":"IF(Registration!$E36=\"o\",'Fast Catch'!F36,\"\")","v":""},{"$f":"IF(AND(Registration!$E36=\"o\",COUNTBLANK(P37)=0),RANK(P37,P$3:P$101,1),\"\")","v":""},{"$f":"IF(AND(Registration!$E36=\"o\",COUNTBLANK(Q37)=0),placingpoints(Q37,COUNTIF(Q$3:Q$101,\"=\"&Q37)),\"\")","v":""},{"$f":"IF(Registration!$E36=\"o\",Endurance!C36,\"\")","v":""},{"$f":"IF(AND(Registration!$E36=\"o\",COUNTBLANK(S37)=0),RANK(S37,S$3:S$101,0),\"\")","v":""},{"$f":"IF(AND(Registration!$E36=\"o\",COUNTBLANK(T37)=0),placingpoints(T37,COUNTIF(T$3:T$101,\"=\"&T37)),\"\")","v":""}]
[{"$f":"IF(Registration!E37=\"o\",RANK(B38,$B$3:$B$101,1),\"\")","v":""},{"$f":"IF(Registration!E37=\"O\",SUM(F38,I38,L38,O38,R38,U38),\"\")","v":""},{"$f":"IF(COUNTBLANK(Registration!B37)=1,\"\",IF(Registration!E37=\"o\",Registration!B37,\"\"))","v":""},{"$f":"IF(Registration!E37=\"o\",'Aussie Round'!V38,\"\")","v":""},{"$f":"IF(AND(Registration!$E37=\"o\",COUNTBLANK(D38)=0),RANK(D38,D$3:D$101,0),\"\")","v":""},{"$f":"IF(AND(Registration!$E37=\"o\",COUNTBLANK(E38)=0),placingpoints(E38,COUNTIF(E$3:E$101,\"=\"&E38)),\"\")","v":""},{"$f":"IF(Registration!$E37=\"o\",Accuracy!L37,\"\")","v":""},{"$f":"IF(AND(Registration!$E37=\"o\",COUNTBLANK(G38)=0),RANK(G38,G$3:G$102,0),\"\")","v":""},{"$f":"IF(AND(Registration!$E37=\"o\",COUNTBLANK(H38)=0),placingpoints(H38,COUNTIF(H$3:H$102,\"=\"&H38)),\"\")","v":""},{"$f":"IF(Registration!$E37=\"o\",MTA!G37,\"\")","v":""},{"$f":"IF(AND(Registration!$E37=\"o\",COUNTBLANK(J38)=0),RANK(J38,J$3:J$101,0),\"\")","v":""},{"$f":"IF(AND(Registration!$E37=\"o\",COUNTBLANK(K38)=0),placingpoints(K38,COUNTIF(K$3:K$101,\"=\"&K38)),\"\")","v":""},{"$f":"IF(Registration!$E37=\"o\",'Trick Catch'!X38,\"\")","v":""},{"$f":"IF(AND(Registration!$E37=\"o\",COUNTBLANK(M38)=0),RANK(M38,M$3:M$101,0),\"\")","v":""},{"$f":"IF(AND(Registration!$E37=\"o\",COUNTBLANK(N38)=0),placingpoints(N38,COUNTIF(N$3:N$101,\"=\"&N38)),\"\")","v":""},{"$f":"IF(Registration!$E37=\"o\",'Fast Catch'!F37,\"\")","v":""},{"$f":"IF(AND(Registration!$E37=\"o\",COUNTBLANK(P38)=0),RANK(P38,P$3:P$101,1),\"\")","v":""},{"$f":"IF(AND(Registration!$E37=\"o\",COUNTBLANK(Q38)=0),placingpoints(Q38,COUNTIF(Q$3:Q$101,\"=\"&Q38)),\"\")","v":""},{"$f":"IF(Registration!$E37=\"o\",Endurance!C37,\"\")","v":""},{"$f":"IF(AND(Registration!$E37=\"o\",COUNTBLANK(S38)=0),RANK(S38,S$3:S$101,0),\"\")","v":""},{"$f":"IF(AND(Registration!$E37=\"o\",COUNTBLANK(T38)=0),placingpoints(T38,COUNTIF(T$3:T$101,\"=\"&T38)),\"\")","v":""}]
[{"$f":"IF(Registration!E38=\"o\",RANK(B39,$B$3:$B$101,1),\"\")","v":""},{"$f":"IF(Registration!E38=\"O\",SUM(F39,I39,L39,O39,R39,U39),\"\")","v":""},{"$f":"IF(COUNTBLANK(Registration!B38)=1,\"\",IF(Registration!E38=\"o\",Registration!B38,\"\"))","v":""},{"$f":"IF(Registration!E38=\"o\",'Aussie Round'!V39,\"\")","v":""},{"$f":"IF(AND(Registration!$E38=\"o\",COUNTBLANK(D39)=0),RANK(D39,D$3:D$101,0),\"\")","v":""},{"$f":"IF(AND(Registration!$E38=\"o\",COUNTBLANK(E39)=0),placingpoints(E39,COUNTIF(E$3:E$101,\"=\"&E39)),\"\")","v":""},{"$f":"IF(Registration!$E38=\"o\",Accuracy!L38,\"\")","v":""},{"$f":"IF(AND(Registration!$E38=\"o\",COUNTBLANK(G39)=0),RANK(G39,G$3:G$102,0),\"\")","v":""},{"$f":"IF(AND(Registration!$E38=\"o\",COUNTBLANK(H39)=0),placingpoints(H39,COUNTIF(H$3:H$102,\"=\"&H39)),\"\")","v":""},{"$f":"IF(Registration!$E38=\"o\",MTA!G38,\"\")","v":""},{"$f":"IF(AND(Registration!$E38=\"o\",COUNTBLANK(J39)=0),RANK(J39,J$3:J$101,0),\"\")","v":""},{"$f":"IF(AND(Registration!$E38=\"o\",COUNTBLANK(K39)=0),placingpoints(K39,COUNTIF(K$3:K$101,\"=\"&K39)),\"\")","v":""},{"$f":"IF(Registration!$E38=\"o\",'Trick Catch'!X39,\"\")","v":""},{"$f":"IF(AND(Registration!$E38=\"o\",COUNTBLANK(M39)=0),RANK(M39,M$3:M$101,0),\"\")","v":""},{"$f":"IF(AND(Registration!$E38=\"o\",COUNTBLANK(N39)=0),placingpoints(N39,COUNTIF(N$3:N$101,\"=\"&N39)),\"\")","v":""},{"$f":"IF(Registration!$E38=\"o\",'Fast Catch'!F38,\"\")","v":""},{"$f":"IF(AND(Registration!$E38=\"o\",COUNTBLANK(P39)=0),RANK(P39,P$3:P$101,1),\"\")","v":""},{"$f":"IF(AND(Registration!$E38=\"o\",COUNTBLANK(Q39)=0),placingpoints(Q39,COUNTIF(Q$3:Q$101,\"=\"&Q39)),\"\")","v":""},{"$f":"IF(Registration!$E38=\"o\",Endurance!C38,\"\")","v":""},{"$f":"IF(AND(Registration!$E38=\"o\",COUNTBLANK(S39)=0),RANK(S39,S$3:S$101,0),\"\")","v":""},{"$f":"IF(AND(Registration!$E38=\"o\",COUNTBLANK(T39)=0),placingpoints(T39,COUNTIF(T$3:T$101,\"=\"&T39)),\"\")","v":""}]
[{"$f":"IF(Registration!E39=\"o\",RANK(B40,$B$3:$B$101,1),\"\")","v":""},{"$f":"IF(Registration!E39=\"O\",SUM(F40,I40,L40,O40,R40,U40),\"\")","v":""},{"$f":"IF(COUNTBLANK(Registration!B39)=1,\"\",IF(Registration!E39=\"o\",Registration!B39,\"\"))","v":""},{"$f":"IF(Registration!E39=\"o\",'Aussie Round'!V40,\"\")","v":""},{"$f":"IF(AND(Registration!$E39=\"o\",COUNTBLANK(D40)=0),RANK(D40,D$3:D$101,0),\"\")","v":""},{"$f":"IF(AND(Registration!$E39=\"o\",COUNTBLANK(E40)=0),placingpoints(E40,COUNTIF(E$3:E$101,\"=\"&E40)),\"\")","v":""},{"$f":"IF(Registration!$E39=\"o\",Accuracy!L39,\"\")","v":""},{"$f":"IF(AND(Registration!$E39=\"o\",COUNTBLANK(G40)=0),RANK(G40,G$3:G$102,0),\"\")","v":""},{"$f":"IF(AND(Registration!$E39=\"o\",COUNTBLANK(H40)=0),placingpoints(H40,COUNTIF(H$3:H$102,\"=\"&H40)),\"\")","v":""},{"$f":"IF(Registration!$E39=\"o\",MTA!G39,\"\")","v":""},{"$f":"IF(AND(Registration!$E39=\"o\",COUNTBLANK(J40)=0),RANK(J40,J$3:J$101,0),\"\")","v":""},{"$f":"IF(AND(Registration!$E39=\"o\",COUNTBLANK(K40)=0),placingpoints(K40,COUNTIF(K$3:K$101,\"=\"&K40)),\"\")","v":""},{"$f":"IF(Registration!$E39=\"o\",'Trick Catch'!X40,\"\")","v":""},{"$f":"IF(AND(Registration!$E39=\"o\",COUNTBLANK(M40)=0),RANK(M40,M$3:M$101,0),\"\")","v":""},{"$f":"IF(AND(Registration!$E39=\"o\",COUNTBLANK(N40)=0),placingpoints(N40,COUNTIF(N$3:N$101,\"=\"&N40)),\"\")","v":""},{"$f":"IF(Registration!$E39=\"o\",'Fast Catch'!F39,\"\")","v":""},{"$f":"IF(AND(Registration!$E39=\"o\",COUNTBLANK(P40)=0),RANK(P40,P$3:P$101,1),\"\")","v":""},{"$f":"IF(AND(Registration!$E39=\"o\",COUNTBLANK(Q40)=0),placingpoints(Q40,COUNTIF(Q$3:Q$101,\"=\"&Q40)),\"\")","v":""},{"$f":"IF(Registration!$E39=\"o\",Endurance!C39,\"\")","v":""},{"$f":"IF(AND(Registration!$E39=\"o\",COUNTBLANK(S40)=0),RANK(S40,S$3:S$101,0),\"\")","v":""},{"$f":"IF(AND(Registration!$E39=\"o\",COUNTBLANK(T40)=0),placingpoints(T40,COUNTIF(T$3:T$101,\"=\"&T40)),\"\")","v":""}]
[{"$f":"IF(Registration!E40=\"o\",RANK(B41,$B$3:$B$101,1),\"\")","v":""},{"$f":"IF(Registration!E40=\"O\",SUM(F41,I41,L41,O41,R41,U41),\"\")","v":""},{"$f":"IF(COUNTBLANK(Registration!B40)=1,\"\",IF(Registration!E40=\"o\",Registration!B40,\"\"))","v":""},{"$f":"IF(Registration!E40=\"o\",'Aussie Round'!V41,\"\")","v":""},{"$f":"IF(AND(Registration!$E40=\"o\",COUNTBLANK(D41)=0),RANK(D41,D$3:D$101,0),\"\")","v":""},{"$f":"IF(AND(Registration!$E40=\"o\",COUNTBLANK(E41)=0),placingpoints(E41,COUNTIF(E$3:E$101,\"=\"&E41)),\"\")","v":""},{"$f":"IF(Registration!$E40=\"o\",Accuracy!L40,\"\")","v":""},{"$f":"IF(AND(Registration!$E40=\"o\",COUNTBLANK(G41)=0),RANK(G41,G$3:G$102,0),\"\")","v":""},{"$f":"IF(AND(Registration!$E40=\"o\",COUNTBLANK(H41)=0),placingpoints(H41,COUNTIF(H$3:H$102,\"=\"&H41)),\"\")","v":""},{"$f":"IF(Registration!$E40=\"o\",MTA!G40,\"\")","v":""},{"$f":"IF(AND(Registration!$E40=\"o\",COUNTBLANK(J41)=0),RANK(J41,J$3:J$101,0),\"\")","v":""},{"$f":"IF(AND(Registration!$E40=\"o\",COUNTBLANK(K41)=0),placingpoints(K41,COUNTIF(K$3:K$101,\"=\"&K41)),\"\")","v":""},{"$f":"IF(Registration!$E40=\"o\",'Trick Catch'!X41,\"\")","v":""},{"$f":"IF(AND(Registration!$E40=\"o\",COUNTBLANK(M41)=0),RANK(M41,M$3:M$101,0),\"\")","v":""},{"$f":"IF(AND(Registration!$E40=\"o\",COUNTBLANK(N41)=0),placingpoints(N41,COUNTIF(N$3:N$101,\"=\"&N41)),\"\")","v":""},{"$f":"IF(Registration!$E40=\"o\",'Fast Catch'!F40,\"\")","v":""},{"$f":"IF(AND(Registration!$E40=\"o\",COUNTBLANK(P41)=0),RANK(P41,P$3:P$101,1),\"\")","v":""},{"$f":"IF(AND(Registration!$E40=\"o\",COUNTBLANK(Q41)=0),placingpoints(Q41,COUNTIF(Q$3:Q$101,\"=\"&Q41)),\"\")","v":""},{"$f":"IF(Registration!$E40=\"o\",Endurance!C40,\"\")","v":""},{"$f":"IF(AND(Registration!$E40=\"o\",COUNTBLANK(S41)=0),RANK(S41,S$3:S$101,0),\"\")","v":""},{"$f":"IF(AND(Registration!$E40=\"o\",COUNTBLANK(T41)=0),placingpoints(T41,COUNTIF(T$3:T$101,\"=\"&T41)),\"\")","v":""}]
[{"$f":"IF(Registration!E41=\"o\",RANK(B42,$B$3:$B$101,1),\"\")","v":""},{"$f":"IF(Registration!E41=\"O\",SUM(F42,I42,L42,O42,R42,U42),\"\")","v":""},{"$f":"IF(COUNTBLANK(Registration!B41)=1,\"\",IF(Registration!E41=\"o\",Registration!B41,\"\"))","v":""},{"$f":"IF(Registration!E41=\"o\",'Aussie Round'!V42,\"\")","v":""},{"$f":"IF(AND(Registration!$E41=\"o\",COUNTBLANK(D42)=0),RANK(D42,D$3:D$101,0),\"\")","v":""},{"$f":"IF(AND(Registration!$E41=\"o\",COUNTBLANK(E42)=0),placingpoints(E42,COUNTIF(E$3:E$101,\"=\"&E42)),\"\")","v":""},{"$f":"IF(Registration!$E41=\"o\",Accuracy!L41,\"\")","v":""},{"$f":"IF(AND(Registration!$E41=\"o\",COUNTBLANK(G42)=0),RANK(G42,G$3:G$102,0),\"\")","v":""},{"$f":"IF(AND(Registration!$E41=\"o\",COUNTBLANK(H42)=0),placingpoints(H42,COUNTIF(H$3:H$102,\"=\"&H42)),\"\")","v":""},{"$f":"IF(Registration!$E41=\"o\",MTA!G41,\"\")","v":""},{"$f":"IF(AND(Registration!$E41=\"o\",COUNTBLANK(J42)=0),RANK(J42,J$3:J$101,0),\"\")","v":""},{"$f":"IF(AND(Registration!$E41=\"o\",COUNTBLANK(K42)=0),placingpoints(K42,COUNTIF(K$3:K$101,\"=\"&K42)),\"\")","v":""},{"$f":"IF(Registration!$E41=\"o\",'Trick Catch'!X42,\"\")","v":""},{"$f":"IF(AND(Registration!$E41=\"o\",COUNTBLANK(M42)=0),RANK(M42,M$3:M$101,0),\"\")","v":""},{"$f":"IF(AND(Registration!$E41=\"o\",COUNTBLANK(N42)=0),placingpoints(N42,COUNTIF(N$3:N$101,\"=\"&N42)),\"\")","v":""},{"$f":"IF(Registration!$E41=\"o\",'Fast Catch'!F41,\"\")","v":""},{"$f":"IF(AND(Registration!$E41=\"o\",COUNTBLANK(P42)=0),RANK(P42,P$3:P$101,1),\"\")","v":""},{"$f":"IF(AND(Registration!$E41=\"o\",COUNTBLANK(Q42)=0),placingpoints(Q42,COUNTIF(Q$3:Q$101,\"=\"&Q42)),\"\")","v":""},{"$f":"IF(Registration!$E41=\"o\",Endurance!C41,\"\")","v":""},{"$f":"IF(AND(Registration!$E41=\"o\",COUNTBLANK(S42)=0),RANK(S42,S$3:S$101,0),\"\")","v":""},{"$f":"IF(AND(Registration!$E41=\"o\",COUNTBLANK(T42)=0),placingpoints(T42,COUNTIF(T$3:T$101,\"=\"&T42)),\"\")","v":""}]
[{"$f":"IF(Registration!E42=\"o\",RANK(B43,$B$3:$B$101,1),\"\")","v":""},{"$f":"IF(Registration!E42=\"O\",SUM(F43,I43,L43,O43,R43,U43),\"\")","v":""},{"$f":"IF(COUNTBLANK(Registration!B42)=1,\"\",IF(Registration!E42=\"o\",Registration!B42,\"\"))","v":""},{"$f":"IF(Registration!E42=\"o\",'Aussie Round'!V43,\"\")","v":""},{"$f":"IF(AND(Registration!$E42=\"o\",COUNTBLANK(D43)=0),RANK(D43,D$3:D$101,0),\"\")","v":""},{"$f":"IF(AND(Registration!$E42=\"o\",COUNTBLANK(E43)=0),placingpoints(E43,COUNTIF(E$3:E$101,\"=\"&E43)),\"\")","v":""},{"$f":"IF(Registration!$E42=\"o\",Accuracy!L42,\"\")","v":""},{"$f":"IF(AND(Registration!$E42=\"o\",COUNTBLANK(G43)=0),RANK(G43,G$3:G$102,0),\"\")","v":""},{"$f":"IF(AND(Registration!$E42=\"o\",COUNTBLANK(H43)=0),placingpoints(H43,COUNTIF(H$3:H$102,\"=\"&H43)),\"\")","v":""},{"$f":"IF(Registration!$E42=\"o\",MTA!G42,\"\")","v":""},{"$f":"IF(AND(Registration!$E42=\"o\",COUNTBLANK(J43)=0),RANK(J43,J$3:J$101,0),\"\")","v":""},{"$f":"IF(AND(Registration!$E42=\"o\",COUNTBLANK(K43)=0),placingpoints(K43,COUNTIF(K$3:K$101,\"=\"&K43)),\"\")","v":""},{"$f":"IF(Registration!$E42=\"o\",'Trick Catch'!X43,\"\")","v":""},{"$f":"IF(AND(Registration!$E42=\"o\",COUNTBLANK(M43)=0),RANK(M43,M$3:M$101,0),\"\")","v":""},{"$f":"IF(AND(Registration!$E42=\"o\",COUNTBLANK(N43)=0),placingpoints(N43,COUNTIF(N$3:N$101,\"=\"&N43)),\"\")","v":""},{"$f":"IF(Registration!$E42=\"o\",'Fast Catch'!F42,\"\")","v":""},{"$f":"IF(AND(Registration!$E42=\"o\",COUNTBLANK(P43)=0),RANK(P43,P$3:P$101,1),\"\")","v":""},{"$f":"IF(AND(Registration!$E42=\"o\",COUNTBLANK(Q43)=0),placingpoints(Q43,COUNTIF(Q$3:Q$101,\"=\"&Q43)),\"\")","v":""},{"$f":"IF(Registration!$E42=\"o\",Endurance!C42,\"\")","v":""},{"$f":"IF(AND(Registration!$E42=\"o\",COUNTBLANK(S43)=0),RANK(S43,S$3:S$101,0),\"\")","v":""},{"$f":"IF(AND(Registration!$E42=\"o\",COUNTBLANK(T43)=0),placingpoints(T43,COUNTIF(T$3:T$101,\"=\"&T43)),\"\")","v":""}]
[{"$f":"IF(Registration!E43=\"o\",RANK(B44,$B$3:$B$101,1),\"\")","v":""},{"$f":"IF(Registration!E43=\"O\",SUM(F44,I44,L44,O44,R44,U44),\"\")","v":""},{"$f":"IF(COUNTBLANK(Registration!B43)=1,\"\",IF(Registration!E43=\"o\",Registration!B43,\"\"))","v":""},{"$f":"IF(Registration!E43=\"o\",'Aussie Round'!V44,\"\")","v":""},{"$f":"IF(AND(Registration!$E43=\"o\",COUNTBLANK(D44)=0),RANK(D44,D$3:D$101,0),\"\")","v":""},{"$f":"IF(AND(Registration!$E43=\"o\",COUNTBLANK(E44)=0),placingpoints(E44,COUNTIF(E$3:E$101,\"=\"&E44)),\"\")","v":""},{"$f":"IF(Registration!$E43=\"o\",Accuracy!L43,\"\")","v":""},{"$f":"IF(AND(Registration!$E43=\"o\",COUNTBLANK(G44)=0),RANK(G44,G$3:G$102,0),\"\")","v":""},{"$f":"IF(AND(Registration!$E43=\"o\",COUNTBLANK(H44)=0),placingpoints(H44,COUNTIF(H$3:H$102,\"=\"&H44)),\"\")","v":""},{"$f":"IF(Registration!$E43=\"o\",MTA!G43,\"\")","v":""},{"$f":"IF(AND(Registration!$E43=\"o\",COUNTBLANK(J44)=0),RANK(J44,J$3:J$101,0),\"\")","v":""},{"$f":"IF(AND(Registration!$E43=\"o\",COUNTBLANK(K44)=0),placingpoints(K44,COUNTIF(K$3:K$101,\"=\"&K44)),\"\")","v":""},{"$f":"IF(Registration!$E43=\"o\",'Trick Catch'!X44,\"\")","v":""},{"$f":"IF(AND(Registration!$E43=\"o\",COUNTBLANK(M44)=0),RANK(M44,M$3:M$101,0),\"\")","v":""},{"$f":"IF(AND(Registration!$E43=\"o\",COUNTBLANK(N44)=0),placingpoints(N44,COUNTIF(N$3:N$101,\"=\"&N44)),\"\")","v":""},{"$f":"IF(Registration!$E43=\"o\",'Fast Catch'!F43,\"\")","v":""},{"$f":"IF(AND(Registration!$E43=\"o\",COUNTBLANK(P44)=0),RANK(P44,P$3:P$101,1),\"\")","v":""},{"$f":"IF(AND(Registration!$E43=\"o\",COUNTBLANK(Q44)=0),placingpoints(Q44,COUNTIF(Q$3:Q$101,\"=\"&Q44)),\"\")","v":""},{"$f":"IF(Registration!$E43=\"o\",Endurance!C43,\"\")","v":""},{"$f":"IF(AND(Registration!$E43=\"o\",COUNTBLANK(S44)=0),RANK(S44,S$3:S$101,0),\"\")","v":""},{"$f":"IF(AND(Registration!$E43=\"o\",COUNTBLANK(T44)=0),placingpoints(T44,COUNTIF(T$3:T$101,\"=\"&T44)),\"\")","v":""}]
[{"$f":"IF(Registration!E44=\"o\",RANK(B45,$B$3:$B$101,1),\"\")","v":""},{"$f":"IF(Registration!E44=\"O\",SUM(F45,I45,L45,O45,R45,U45),\"\")","v":""},{"$f":"IF(COUNTBLANK(Registration!B44)=1,\"\",IF(Registration!E44=\"o\",Registration!B44,\"\"))","v":""},{"$f":"IF(Registration!E44=\"o\",'Aussie Round'!V45,\"\")","v":""},{"$f":"IF(AND(Registration!$E44=\"o\",COUNTBLANK(D45)=0),RANK(D45,D$3:D$101,0),\"\")","v":""},{"$f":"IF(AND(Registration!$E44=\"o\",COUNTBLANK(E45)=0),placingpoints(E45,COUNTIF(E$3:E$101,\"=\"&E45)),\"\")","v":""},{"$f":"IF(Registration!$E44=\"o\",Accuracy!L44,\"\")","v":""},{"$f":"IF(AND(Registration!$E44=\"o\",COUNTBLANK(G45)=0),RANK(G45,G$3:G$102,0),\"\")","v":""},{"$f":"IF(AND(Registration!$E44=\"o\",COUNTBLANK(H45)=0),placingpoints(H45,COUNTIF(H$3:H$102,\"=\"&H45)),\"\")","v":""},{"$f":"IF(Registration!$E44=\"o\",MTA!G44,\"\")","v":""},{"$f":"IF(AND(Registration!$E44=\"o\",COUNTBLANK(J45)=0),RANK(J45,J$3:J$101,0),\"\")","v":""},{"$f":"IF(AND(Registration!$E44=\"o\",COUNTBLANK(K45)=0),placingpoints(K45,COUNTIF(K$3:K$101,\"=\"&K45)),\"\")","v":""},{"$f":"IF(Registration!$E44=\"o\",'Trick Catch'!X45,\"\")","v":""},{"$f":"IF(AND(Registration!$E44=\"o\",COUNTBLANK(M45)=0),RANK(M45,M$3:M$101,0),\"\")","v":""},{"$f":"IF(AND(Registration!$E44=\"o\",COUNTBLANK(N45)=0),placingpoints(N45,COUNTIF(N$3:N$101,\"=\"&N45)),\"\")","v":""},{"$f":"IF(Registration!$E44=\"o\",'Fast Catch'!F44,\"\")","v":""},{"$f":"IF(AND(Registration!$E44=\"o\",COUNTBLANK(P45)=0),RANK(P45,P$3:P$101,1),\"\")","v":""},{"$f":"IF(AND(Registration!$E44=\"o\",COUNTBLANK(Q45)=0),placingpoints(Q45,COUNTIF(Q$3:Q$101,\"=\"&Q45)),\"\")","v":""},{"$f":"IF(Registration!$E44=\"o\",Endurance!C44,\"\")","v":""},{"$f":"IF(AND(Registration!$E44=\"o\",COUNTBLANK(S45)=0),RANK(S45,S$3:S$101,0),\"\")","v":""},{"$f":"IF(AND(Registration!$E44=\"o\",COUNTBLANK(T45)=0),placingpoints(T45,COUNTIF(T$3:T$101,\"=\"&T45)),\"\")","v":""}]
[{"$f":"IF(Registration!E45=\"o\",RANK(B46,$B$3:$B$101,1),\"\")","v":""},{"$f":"IF(Registration!E45=\"O\",SUM(F46,I46,L46,O46,R46,U46),\"\")","v":""},{"$f":"IF(COUNTBLANK(Registration!B45)=1,\"\",IF(Registration!E45=\"o\",Registration!B45,\"\"))","v":""},{"$f":"IF(Registration!E45=\"o\",'Aussie Round'!V46,\"\")","v":""},{"$f":"IF(AND(Registration!$E45=\"o\",COUNTBLANK(D46)=0),RANK(D46,D$3:D$101,0),\"\")","v":""},{"$f":"IF(AND(Registration!$E45=\"o\",COUNTBLANK(E46)=0),placingpoints(E46,COUNTIF(E$3:E$101,\"=\"&E46)),\"\")","v":""},{"$f":"IF(Registration!$E45=\"o\",Accuracy!L45,\"\")","v":""},{"$f":"IF(AND(Registration!$E45=\"o\",COUNTBLANK(G46)=0),RANK(G46,G$3:G$102,0),\"\")","v":""},{"$f":"IF(AND(Registration!$E45=\"o\",COUNTBLANK(H46)=0),placingpoints(H46,COUNTIF(H$3:H$102,\"=\"&H46)),\"\")","v":""},{"$f":"IF(Registration!$E45=\"o\",MTA!G45,\"\")","v":""},{"$f":"IF(AND(Registration!$E45=\"o\",COUNTBLANK(J46)=0),RANK(J46,J$3:J$101,0),\"\")","v":""},{"$f":"IF(AND(Registration!$E45=\"o\",COUNTBLANK(K46)=0),placingpoints(K46,COUNTIF(K$3:K$101,\"=\"&K46)),\"\")","v":""},{"$f":"IF(Registration!$E45=\"o\",'Trick Catch'!X46,\"\")","v":""},{"$f":"IF(AND(Registration!$E45=\"o\",COUNTBLANK(M46)=0),RANK(M46,M$3:M$101,0),\"\")","v":""},{"$f":"IF(AND(Registration!$E45=\"o\",COUNTBLANK(N46)=0),placingpoints(N46,COUNTIF(N$3:N$101,\"=\"&N46)),\"\")","v":""},{"$f":"IF(Registration!$E45=\"o\",'Fast Catch'!F45,\"\")","v":""},{"$f":"IF(AND(Registration!$E45=\"o\",COUNTBLANK(P46)=0),RANK(P46,P$3:P$101,1),\"\")","v":""},{"$f":"IF(AND(Registration!$E45=\"o\",COUNTBLANK(Q46)=0),placingpoints(Q46,COUNTIF(Q$3:Q$101,\"=\"&Q46)),\"\")","v":""},{"$f":"IF(Registration!$E45=\"o\",Endurance!C45,\"\")","v":""},{"$f":"IF(AND(Registration!$E45=\"o\",COUNTBLANK(S46)=0),RANK(S46,S$3:S$101,0),\"\")","v":""},{"$f":"IF(AND(Registration!$E45=\"o\",COUNTBLANK(T46)=0),placingpoints(T46,COUNTIF(T$3:T$101,\"=\"&T46)),\"\")","v":""}]
[{"$f":"IF(Registration!E46=\"o\",RANK(B47,$B$3:$B$101,1),\"\")","v":""},{"$f":"IF(Registration!E46=\"O\",SUM(F47,I47,L47,O47,R47,U47),\"\")","v":""},{"$f":"IF(COUNTBLANK(Registration!B46)=1,\"\",IF(Registration!E46=\"o\",Registration!B46,\"\"))","v":""},{"$f":"IF(Registration!E46=\"o\",'Aussie Round'!V47,\"\")","v":""},{"$f":"IF(AND(Registration!$E46=\"o\",COUNTBLANK(D47)=0),RANK(D47,D$3:D$101,0),\"\")","v":""},{"$f":"IF(AND(Registration!$E46=\"o\",COUNTBLANK(E47)=0),placingpoints(E47,COUNTIF(E$3:E$101,\"=\"&E47)),\"\")","v":""},{"$f":"IF(Registration!$E46=\"o\",Accuracy!L46,\"\")","v":""},{"$f":"IF(AND(Registration!$E46=\"o\",COUNTBLANK(G47)=0),RANK(G47,G$3:G$102,0),\"\")","v":""},{"$f":"IF(AND(Registration!$E46=\"o\",COUNTBLANK(H47)=0),placingpoints(H47,COUNTIF(H$3:H$102,\"=\"&H47)),\"\")","v":""},{"$f":"IF(Registration!$E46=\"o\",MTA!G46,\"\")","v":""},{"$f":"IF(AND(Registration!$E46=\"o\",COUNTBLANK(J47)=0),RANK(J47,J$3:J$101,0),\"\")","v":""},{"$f":"IF(AND(Registration!$E46=\"o\",COUNTBLANK(K47)=0),placingpoints(K47,COUNTIF(K$3:K$101,\"=\"&K47)),\"\")","v":""},{"$f":"IF(Registration!$E46=\"o\",'Trick Catch'!X47,\"\")","v":""},{"$f":"IF(AND(Registration!$E46=\"o\",COUNTBLANK(M47)=0),RANK(M47,M$3:M$101,0),\"\")","v":""},{"$f":"IF(AND(Registration!$E46=\"o\",COUNTBLANK(N47)=0),placingpoints(N47,COUNTIF(N$3:N$101,\"=\"&N47)),\"\")","v":""},{"$f":"IF(Registration!$E46=\"o\",'Fast Catch'!F46,\"\")","v":""},{"$f":"IF(AND(Registration!$E46=\"o\",COUNTBLANK(P47)=0),RANK(P47,P$3:P$101,1),\"\")","v":""},{"$f":"IF(AND(Registration!$E46=\"o\",COUNTBLANK(Q47)=0),placingpoints(Q47,COUNTIF(Q$3:Q$101,\"=\"&Q47)),\"\")","v":""},{"$f":"IF(Registration!$E46=\"o\",Endurance!C46,\"\")","v":""},{"$f":"IF(AND(Registration!$E46=\"o\",COUNTBLANK(S47)=0),RANK(S47,S$3:S$101,0),\"\")","v":""},{"$f":"IF(AND(Registration!$E46=\"o\",COUNTBLANK(T47)=0),placingpoints(T47,COUNTIF(T$3:T$101,\"=\"&T47)),\"\")","v":""}]
[{"$f":"IF(Registration!E47=\"o\",RANK(B48,$B$3:$B$101,1),\"\")","v":""},{"$f":"IF(Registration!E47=\"O\",SUM(F48,I48,L48,O48,R48,U48),\"\")","v":""},{"$f":"IF(COUNTBLANK(Registration!B47)=1,\"\",IF(Registration!E47=\"o\",Registration!B47,\"\"))","v":""},{"$f":"IF(Registration!E47=\"o\",'Aussie Round'!V48,\"\")","v":""},{"$f":"IF(AND(Registration!$E47=\"o\",COUNTBLANK(D48)=0),RANK(D48,D$3:D$101,0),\"\")","v":""},{"$f":"IF(AND(Registration!$E47=\"o\",COUNTBLANK(E48)=0),placingpoints(E48,COUNTIF(E$3:E$101,\"=\"&E48)),\"\")","v":""},{"$f":"IF(Registration!$E47=\"o\",Accuracy!L47,\"\")","v":""},{"$f":"IF(AND(Registration!$E47=\"o\",COUNTBLANK(G48)=0),RANK(G48,G$3:G$102,0),\"\")","v":""},{"$f":"IF(AND(Registration!$E47=\"o\",COUNTBLANK(H48)=0),placingpoints(H48,COUNTIF(H$3:H$102,\"=\"&H48)),\"\")","v":""},{"$f":"IF(Registration!$E47=\"o\",MTA!G47,\"\")","v":""},{"$f":"IF(AND(Registration!$E47=\"o\",COUNTBLANK(J48)=0),RANK(J48,J$3:J$101,0),\"\")","v":""},{"$f":"IF(AND(Registration!$E47=\"o\",COUNTBLANK(K48)=0),placingpoints(K48,COUNTIF(K$3:K$101,\"=\"&K48)),\"\")","v":""},{"$f":"IF(Registration!$E47=\"o\",'Trick Catch'!X48,\"\")","v":""},{"$f":"IF(AND(Registration!$E47=\"o\",COUNTBLANK(M48)=0),RANK(M48,M$3:M$101,0),\"\")","v":""},{"$f":"IF(AND(Registration!$E47=\"o\",COUNTBLANK(N48)=0),placingpoints(N48,COUNTIF(N$3:N$101,\"=\"&N48)),\"\")","v":""},{"$f":"IF(Registration!$E47=\"o\",'Fast Catch'!F47,\"\")","v":""},{"$f":"IF(AND(Registration!$E47=\"o\",COUNTBLANK(P48)=0),RANK(P48,P$3:P$101,1),\"\")","v":""},{"$f":"IF(AND(Registration!$E47=\"o\",COUNTBLANK(Q48)=0),placingpoints(Q48,COUNTIF(Q$3:Q$101,\"=\"&Q48)),\"\")","v":""},{"$f":"IF(Registration!$E47=\"o\",Endurance!C47,\"\")","v":""},{"$f":"IF(AND(Registration!$E47=\"o\",COUNTBLANK(S48)=0),RANK(S48,S$3:S$101,0),\"\")","v":""},{"$f":"IF(AND(Registration!$E47=\"o\",COUNTBLANK(T48)=0),placingpoints(T48,COUNTIF(T$3:T$101,\"=\"&T48)),\"\")","v":""}]
[{"$f":"IF(Registration!E48=\"o\",RANK(B49,$B$3:$B$101,1),\"\")","v":""},{"$f":"IF(Registration!E48=\"O\",SUM(F49,I49,L49,O49,R49,U49),\"\")","v":""},{"$f":"IF(COUNTBLANK(Registration!B48)=1,\"\",IF(Registration!E48=\"o\",Registration!B48,\"\"))","v":""},{"$f":"IF(Registration!E48=\"o\",'Aussie Round'!V49,\"\")","v":""},{"$f":"IF(AND(Registration!$E48=\"o\",COUNTBLANK(D49)=0),RANK(D49,D$3:D$101,0),\"\")","v":""},{"$f":"IF(AND(Registration!$E48=\"o\",COUNTBLANK(E49)=0),placingpoints(E49,COUNTIF(E$3:E$101,\"=\"&E49)),\"\")","v":""},{"$f":"IF(Registration!$E48=\"o\",Accuracy!L48,\"\")","v":""},{"$f":"IF(AND(Registration!$E48=\"o\",COUNTBLANK(G49)=0),RANK(G49,G$3:G$102,0),\"\")","v":""},{"$f":"IF(AND(Registration!$E48=\"o\",COUNTBLANK(H49)=0),placingpoints(H49,COUNTIF(H$3:H$102,\"=\"&H49)),\"\")","v":""},{"$f":"IF(Registration!$E48=\"o\",MTA!G48,\"\")","v":""},{"$f":"IF(AND(Registration!$E48=\"o\",COUNTBLANK(J49)=0),RANK(J49,J$3:J$101,0),\"\")","v":""},{"$f":"IF(AND(Registration!$E48=\"o\",COUNTBLANK(K49)=0),placingpoints(K49,COUNTIF(K$3:K$101,\"=\"&K49)),\"\")","v":""},{"$f":"IF(Registration!$E48=\"o\",'Trick Catch'!X49,\"\")","v":""},{"$f":"IF(AND(Registration!$E48=\"o\",COUNTBLANK(M49)=0),RANK(M49,M$3:M$101,0),\"\")","v":""},{"$f":"IF(AND(Registration!$E48=\"o\",COUNTBLANK(N49)=0),placingpoints(N49,COUNTIF(N$3:N$101,\"=\"&N49)),\"\")","v":""},{"$f":"IF(Registration!$E48=\"o\",'Fast Catch'!F48,\"\")","v":""},{"$f":"IF(AND(Registration!$E48=\"o\",COUNTBLANK(P49)=0),RANK(P49,P$3:P$101,1),\"\")","v":""},{"$f":"IF(AND(Registration!$E48=\"o\",COUNTBLANK(Q49)=0),placingpoints(Q49,COUNTIF(Q$3:Q$101,\"=\"&Q49)),\"\")","v":""},{"$f":"IF(Registration!$E48=\"o\",Endurance!C48,\"\")","v":""},{"$f":"IF(AND(Registration!$E48=\"o\",COUNTBLANK(S49)=0),RANK(S49,S$3:S$101,0),\"\")","v":""},{"$f":"IF(AND(Registration!$E48=\"o\",COUNTBLANK(T49)=0),placingpoints(T49,COUNTIF(T$3:T$101,\"=\"&T49)),\"\")","v":""}]
[{"$f":"IF(Registration!E49=\"o\",RANK(B50,$B$3:$B$101,1),\"\")","v":""},{"$f":"IF(Registration!E49=\"O\",SUM(F50,I50,L50,O50,R50,U50),\"\")","v":""},{"$f":"IF(COUNTBLANK(Registration!B49)=1,\"\",IF(Registration!E49=\"o\",Registration!B49,\"\"))","v":""},{"$f":"IF(Registration!E49=\"o\",'Aussie Round'!V50,\"\")","v":""},{"$f":"IF(AND(Registration!$E49=\"o\",COUNTBLANK(D50)=0),RANK(D50,D$3:D$101,0),\"\")","v":""},{"$f":"IF(AND(Registration!$E49=\"o\",COUNTBLANK(E50)=0),placingpoints(E50,COUNTIF(E$3:E$101,\"=\"&E50)),\"\")","v":""},{"$f":"IF(Registration!$E49=\"o\",Accuracy!L49,\"\")","v":""},{"$f":"IF(AND(Registration!$E49=\"o\",COUNTBLANK(G50)=0),RANK(G50,G$3:G$102,0),\"\")","v":""},{"$f":"IF(AND(Registration!$E49=\"o\",COUNTBLANK(H50)=0),placingpoints(H50,COUNTIF(H$3:H$102,\"=\"&H50)),\"\")","v":""},{"$f":"IF(Registration!$E49=\"o\",MTA!G49,\"\")","v":""},{"$f":"IF(AND(Registration!$E49=\"o\",COUNTBLANK(J50)=0),RANK(J50,J$3:J$101,0),\"\")","v":""},{"$f":"IF(AND(Registration!$E49=\"o\",COUNTBLANK(K50)=0),placingpoints(K50,COUNTIF(K$3:K$101,\"=\"&K50)),\"\")","v":""},{"$f":"IF(Registration!$E49=\"o\",'Trick Catch'!X50,\"\")","v":""},{"$f":"IF(AND(Registration!$E49=\"o\",COUNTBLANK(M50)=0),RANK(M50,M$3:M$101,0),\"\")","v":""},{"$f":"IF(AND(Registration!$E49=\"o\",COUNTBLANK(N50)=0),placingpoints(N50,COUNTIF(N$3:N$101,\"=\"&N50)),\"\")","v":""},{"$f":"IF(Registration!$E49=\"o\",'Fast Catch'!F49,\"\")","v":""},{"$f":"IF(AND(Registration!$E49=\"o\",COUNTBLANK(P50)=0),RANK(P50,P$3:P$101,1),\"\")","v":""},{"$f":"IF(AND(Registration!$E49=\"o\",COUNTBLANK(Q50)=0),placingpoints(Q50,COUNTIF(Q$3:Q$101,\"=\"&Q50)),\"\")","v":""},{"$f":"IF(Registration!$E49=\"o\",Endurance!C49,\"\")","v":""},{"$f":"IF(AND(Registration!$E49=\"o\",COUNTBLANK(S50)=0),RANK(S50,S$3:S$101,0),\"\")","v":""},{"$f":"IF(AND(Registration!$E49=\"o\",COUNTBLANK(T50)=0),placingpoints(T50,COUNTIF(T$3:T$101,\"=\"&T50)),\"\")","v":""}]
[{"$f":"IF(Registration!E50=\"o\",RANK(B51,$B$3:$B$101,1),\"\")","v":""},{"$f":"IF(Registration!E50=\"O\",SUM(F51,I51,L51,O51,R51,U51),\"\")","v":""},{"$f":"IF(COUNTBLANK(Registration!B50)=1,\"\",IF(Registration!E50=\"o\",Registration!B50,\"\"))","v":""},{"$f":"IF(Registration!E50=\"o\",'Aussie Round'!V51,\"\")","v":""},{"$f":"IF(AND(Registration!$E50=\"o\",COUNTBLANK(D51)=0),RANK(D51,D$3:D$101,0),\"\")","v":""},{"$f":"IF(AND(Registration!$E50=\"o\",COUNTBLANK(E51)=0),placingpoints(E51,COUNTIF(E$3:E$101,\"=\"&E51)),\"\")","v":""},{"$f":"IF(Registration!$E50=\"o\",Accuracy!L50,\"\")","v":""},{"$f":"IF(AND(Registration!$E50=\"o\",COUNTBLANK(G51)=0),RANK(G51,G$3:G$102,0),\"\")","v":""},{"$f":"IF(AND(Registration!$E50=\"o\",COUNTBLANK(H51)=0),placingpoints(H51,COUNTIF(H$3:H$102,\"=\"&H51)),\"\")","v":""},{"$f":"IF(Registration!$E50=\"o\",MTA!G50,\"\")","v":""},{"$f":"IF(AND(Registration!$E50=\"o\",COUNTBLANK(J51)=0),RANK(J51,J$3:J$101,0),\"\")","v":""},{"$f":"IF(AND(Registration!$E50=\"o\",COUNTBLANK(K51)=0),placingpoints(K51,COUNTIF(K$3:K$101,\"=\"&K51)),\"\")","v":""},{"$f":"IF(Registration!$E50=\"o\",'Trick Catch'!X51,\"\")","v":""},{"$f":"IF(AND(Registration!$E50=\"o\",COUNTBLANK(M51)=0),RANK(M51,M$3:M$101,0),\"\")","v":""},{"$f":"IF(AND(Registration!$E50=\"o\",COUNTBLANK(N51)=0),placingpoints(N51,COUNTIF(N$3:N$101,\"=\"&N51)),\"\")","v":""},{"$f":"IF(Registration!$E50=\"o\",'Fast Catch'!F50,\"\")","v":""},{"$f":"IF(AND(Registration!$E50=\"o\",COUNTBLANK(P51)=0),RANK(P51,P$3:P$101,1),\"\")","v":""},{"$f":"IF(AND(Registration!$E50=\"o\",COUNTBLANK(Q51)=0),placingpoints(Q51,COUNTIF(Q$3:Q$101,\"=\"&Q51)),\"\")","v":""},{"$f":"IF(Registration!$E50=\"o\",Endurance!C50,\"\")","v":""},{"$f":"IF(AND(Registration!$E50=\"o\",COUNTBLANK(S51)=0),RANK(S51,S$3:S$101,0),\"\")","v":""},{"$f":"IF(AND(Registration!$E50=\"o\",COUNTBLANK(T51)=0),placingpoints(T51,COUNTIF(T$3:T$101,\"=\"&T51)),\"\")","v":""}]
[{"$f":"IF(Registration!E51=\"o\",RANK(B52,$B$3:$B$101,1),\"\")","v":""},{"$f":"IF(Registration!E51=\"O\",SUM(F52,I52,L52,O52,R52,U52),\"\")","v":""},{"$f":"IF(COUNTBLANK(Registration!B51)=1,\"\",IF(Registration!E51=\"o\",Registration!B51,\"\"))","v":""},{"$f":"IF(Registration!E51=\"o\",'Aussie Round'!V52,\"\")","v":""},{"$f":"IF(AND(Registration!$E51=\"o\",COUNTBLANK(D52)=0),RANK(D52,D$3:D$101,0),\"\")","v":""},{"$f":"IF(AND(Registration!$E51=\"o\",COUNTBLANK(E52)=0),placingpoints(E52,COUNTIF(E$3:E$101,\"=\"&E52)),\"\")","v":""},{"$f":"IF(Registration!$E51=\"o\",Accuracy!L51,\"\")","v":""},{"$f":"IF(AND(Registration!$E51=\"o\",COUNTBLANK(G52)=0),RANK(G52,G$3:G$102,0),\"\")","v":""},{"$f":"IF(AND(Registration!$E51=\"o\",COUNTBLANK(H52)=0),placingpoints(H52,COUNTIF(H$3:H$102,\"=\"&H52)),\"\")","v":""},{"$f":"IF(Registration!$E51=\"o\",MTA!G51,\"\")","v":""},{"$f":"IF(AND(Registration!$E51=\"o\",COUNTBLANK(J52)=0),RANK(J52,J$3:J$101,0),\"\")","v":""},{"$f":"IF(AND(Registration!$E51=\"o\",COUNTBLANK(K52)=0),placingpoints(K52,COUNTIF(K$3:K$101,\"=\"&K52)),\"\")","v":""},{"$f":"IF(Registration!$E51=\"o\",'Trick Catch'!X52,\"\")","v":""},{"$f":"IF(AND(Registration!$E51=\"o\",COUNTBLANK(M52)=0),RANK(M52,M$3:M$101,0),\"\")","v":""},{"$f":"IF(AND(Registration!$E51=\"o\",COUNTBLANK(N52)=0),placingpoints(N52,COUNTIF(N$3:N$101,\"=\"&N52)),\"\")","v":""},{"$f":"IF(Registration!$E51=\"o\",'Fast Catch'!F51,\"\")","v":""},{"$f":"IF(AND(Registration!$E51=\"o\",COUNTBLANK(P52)=0),RANK(P52,P$3:P$101,1),\"\")","v":""},{"$f":"IF(AND(Registration!$E51=\"o\",COUNTBLANK(Q52)=0),placingpoints(Q52,COUNTIF(Q$3:Q$101,\"=\"&Q52)),\"\")","v":""},{"$f":"IF(Registration!$E51=\"o\",Endurance!C51,\"\")","v":""},{"$f":"IF(AND(Registration!$E51=\"o\",COUNTBLANK(S52)=0),RANK(S52,S$3:S$101,0),\"\")","v":""},{"$f":"IF(AND(Registration!$E51=\"o\",COUNTBLANK(T52)=0),placingpoints(T52,COUNTIF(T$3:T$101,\"=\"&T52)),\"\")","v":""}]
[{"$f":"IF(Registration!E52=\"o\",RANK(B53,$B$3:$B$101,1),\"\")","v":""},{"$f":"IF(Registration!E52=\"O\",SUM(F53,I53,L53,O53,R53,U53),\"\")","v":""},{"$f":"IF(COUNTBLANK(Registration!B52)=1,\"\",IF(Registration!E52=\"o\",Registration!B52,\"\"))","v":""},{"$f":"IF(Registration!E52=\"o\",'Aussie Round'!V53,\"\")","v":""},{"$f":"IF(AND(Registration!$E52=\"o\",COUNTBLANK(D53)=0),RANK(D53,D$3:D$101,0),\"\")","v":""},{"$f":"IF(AND(Registration!$E52=\"o\",COUNTBLANK(E53)=0),placingpoints(E53,COUNTIF(E$3:E$101,\"=\"&E53)),\"\")","v":""},{"$f":"IF(Registration!$E52=\"o\",Accuracy!L52,\"\")","v":""},{"$f":"IF(AND(Registration!$E52=\"o\",COUNTBLANK(G53)=0),RANK(G53,G$3:G$102,0),\"\")","v":""},{"$f":"IF(AND(Registration!$E52=\"o\",COUNTBLANK(H53)=0),placingpoints(H53,COUNTIF(H$3:H$102,\"=\"&H53)),\"\")","v":""},{"$f":"IF(Registration!$E52=\"o\",MTA!G52,\"\")","v":""},{"$f":"IF(AND(Registration!$E52=\"o\",COUNTBLANK(J53)=0),RANK(J53,J$3:J$101,0),\"\")","v":""},{"$f":"IF(AND(Registration!$E52=\"o\",COUNTBLANK(K53)=0),placingpoints(K53,COUNTIF(K$3:K$101,\"=\"&K53)),\"\")","v":""},{"$f":"IF(Registration!$E52=\"o\",'Trick Catch'!X53,\"\")","v":""},{"$f":"IF(AND(Registration!$E52=\"o\",COUNTBLANK(M53)=0),RANK(M53,M$3:M$101,0),\"\")","v":""},{"$f":"IF(AND(Registration!$E52=\"o\",COUNTBLANK(N53)=0),placingpoints(N53,COUNTIF(N$3:N$101,\"=\"&N53)),\"\")","v":""},{"$f":"IF(Registration!$E52=\"o\",'Fast Catch'!F52,\"\")","v":""},{"$f":"IF(AND(Registration!$E52=\"o\",COUNTBLANK(P53)=0),RANK(P53,P$3:P$101,1),\"\")","v":""},{"$f":"IF(AND(Registration!$E52=\"o\",COUNTBLANK(Q53)=0),placingpoints(Q53,COUNTIF(Q$3:Q$101,\"=\"&Q53)),\"\")","v":""},{"$f":"IF(Registration!$E52=\"o\",Endurance!C52,\"\")","v":""},{"$f":"IF(AND(Registration!$E52=\"o\",COUNTBLANK(S53)=0),RANK(S53,S$3:S$101,0),\"\")","v":""},{"$f":"IF(AND(Registration!$E52=\"o\",COUNTBLANK(T53)=0),placingpoints(T53,COUNTIF(T$3:T$101,\"=\"&T53)),\"\")","v":""}]
[{"$f":"IF(Registration!E53=\"o\",RANK(B54,$B$3:$B$101,1),\"\")","v":""},{"$f":"IF(Registration!E53=\"O\",SUM(F54,I54,L54,O54,R54,U54),\"\")","v":""},{"$f":"IF(COUNTBLANK(Registration!B53)=1,\"\",IF(Registration!E53=\"o\",Registration!B53,\"\"))","v":""},{"$f":"IF(Registration!E53=\"o\",'Aussie Round'!V54,\"\")","v":""},{"$f":"IF(AND(Registration!$E53=\"o\",COUNTBLANK(D54)=0),RANK(D54,D$3:D$101,0),\"\")","v":""},{"$f":"IF(AND(Registration!$E53=\"o\",COUNTBLANK(E54)=0),placingpoints(E54,COUNTIF(E$3:E$101,\"=\"&E54)),\"\")","v":""},{"$f":"IF(Registration!$E53=\"o\",Accuracy!L53,\"\")","v":""},{"$f":"IF(AND(Registration!$E53=\"o\",COUNTBLANK(G54)=0),RANK(G54,G$3:G$102,0),\"\")","v":""},{"$f":"IF(AND(Registration!$E53=\"o\",COUNTBLANK(H54)=0),placingpoints(H54,COUNTIF(H$3:H$102,\"=\"&H54)),\"\")","v":""},{"$f":"IF(Registration!$E53=\"o\",MTA!G53,\"\")","v":""},{"$f":"IF(AND(Registration!$E53=\"o\",COUNTBLANK(J54)=0),RANK(J54,J$3:J$101,0),\"\")","v":""},{"$f":"IF(AND(Registration!$E53=\"o\",COUNTBLANK(K54)=0),placingpoints(K54,COUNTIF(K$3:K$101,\"=\"&K54)),\"\")","v":""},{"$f":"IF(Registration!$E53=\"o\",'Trick Catch'!X54,\"\")","v":""},{"$f":"IF(AND(Registration!$E53=\"o\",COUNTBLANK(M54)=0),RANK(M54,M$3:M$101,0),\"\")","v":""},{"$f":"IF(AND(Registration!$E53=\"o\",COUNTBLANK(N54)=0),placingpoints(N54,COUNTIF(N$3:N$101,\"=\"&N54)),\"\")","v":""},{"$f":"IF(Registration!$E53=\"o\",'Fast Catch'!F53,\"\")","v":""},{"$f":"IF(AND(Registration!$E53=\"o\",COUNTBLANK(P54)=0),RANK(P54,P$3:P$101,1),\"\")","v":""},{"$f":"IF(AND(Registration!$E53=\"o\",COUNTBLANK(Q54)=0),placingpoints(Q54,COUNTIF(Q$3:Q$101,\"=\"&Q54)),\"\")","v":""},{"$f":"IF(Registration!$E53=\"o\",Endurance!C53,\"\")","v":""},{"$f":"IF(AND(Registration!$E53=\"o\",COUNTBLANK(S54)=0),RANK(S54,S$3:S$101,0),\"\")","v":""},{"$f":"IF(AND(Registration!$E53=\"o\",COUNTBLANK(T54)=0),placingpoints(T54,COUNTIF(T$3:T$101,\"=\"&T54)),\"\")","v":""}]
[{"$f":"IF(Registration!E54=\"o\",RANK(B55,$B$3:$B$101,1),\"\")","v":""},{"$f":"IF(Registration!E54=\"O\",SUM(F55,I55,L55,O55,R55,U55),\"\")","v":""},{"$f":"IF(COUNTBLANK(Registration!B54)=1,\"\",IF(Registration!E54=\"o\",Registration!B54,\"\"))","v":""},{"$f":"IF(Registration!E54=\"o\",'Aussie Round'!V55,\"\")","v":""},{"$f":"IF(AND(Registration!$E54=\"o\",COUNTBLANK(D55)=0),RANK(D55,D$3:D$101,0),\"\")","v":""},{"$f":"IF(AND(Registration!$E54=\"o\",COUNTBLANK(E55)=0),placingpoints(E55,COUNTIF(E$3:E$101,\"=\"&E55)),\"\")","v":""},{"$f":"IF(Registration!$E54=\"o\",Accuracy!L54,\"\")","v":""},{"$f":"IF(AND(Registration!$E54=\"o\",COUNTBLANK(G55)=0),RANK(G55,G$3:G$102,0),\"\")","v":""},{"$f":"IF(AND(Registration!$E54=\"o\",COUNTBLANK(H55)=0),placingpoints(H55,COUNTIF(H$3:H$102,\"=\"&H55)),\"\")","v":""},{"$f":"IF(Registration!$E54=\"o\",MTA!G54,\"\")","v":""},{"$f":"IF(AND(Registration!$E54=\"o\",COUNTBLANK(J55)=0),RANK(J55,J$3:J$101,0),\"\")","v":""},{"$f":"IF(AND(Registration!$E54=\"o\",COUNTBLANK(K55)=0),placingpoints(K55,COUNTIF(K$3:K$101,\"=\"&K55)),\"\")","v":""},{"$f":"IF(Registration!$E54=\"o\",'Trick Catch'!X55,\"\")","v":""},{"$f":"IF(AND(Registration!$E54=\"o\",COUNTBLANK(M55)=0),RANK(M55,M$3:M$101,0),\"\")","v":""},{"$f":"IF(AND(Registration!$E54=\"o\",COUNTBLANK(N55)=0),placingpoints(N55,COUNTIF(N$3:N$101,\"=\"&N55)),\"\")","v":""},{"$f":"IF(Registration!$E54=\"o\",'Fast Catch'!F54,\"\")","v":""},{"$f":"IF(AND(Registration!$E54=\"o\",COUNTBLANK(P55)=0),RANK(P55,P$3:P$101,1),\"\")","v":""},{"$f":"IF(AND(Registration!$E54=\"o\",COUNTBLANK(Q55)=0),placingpoints(Q55,COUNTIF(Q$3:Q$101,\"=\"&Q55)),\"\")","v":""},{"$f":"IF(Registration!$E54=\"o\",Endurance!C54,\"\")","v":""},{"$f":"IF(AND(Registration!$E54=\"o\",COUNTBLANK(S55)=0),RANK(S55,S$3:S$101,0),\"\")","v":""},{"$f":"IF(AND(Registration!$E54=\"o\",COUNTBLANK(T55)=0),placingpoints(T55,COUNTIF(T$3:T$101,\"=\"&T55)),\"\")","v":""}]
[{"$f":"IF(Registration!E55=\"o\",RANK(B56,$B$3:$B$101,1),\"\")","v":""},{"$f":"IF(Registration!E55=\"O\",SUM(F56,I56,L56,O56,R56,U56),\"\")","v":""},{"$f":"IF(COUNTBLANK(Registration!B55)=1,\"\",IF(Registration!E55=\"o\",Registration!B55,\"\"))","v":""},{"$f":"IF(Registration!E55=\"o\",'Aussie Round'!V56,\"\")","v":""},{"$f":"IF(AND(Registration!$E55=\"o\",COUNTBLANK(D56)=0),RANK(D56,D$3:D$101,0),\"\")","v":""},{"$f":"IF(AND(Registration!$E55=\"o\",COUNTBLANK(E56)=0),placingpoints(E56,COUNTIF(E$3:E$101,\"=\"&E56)),\"\")","v":""},{"$f":"IF(Registration!$E55=\"o\",Accuracy!L55,\"\")","v":""},{"$f":"IF(AND(Registration!$E55=\"o\",COUNTBLANK(G56)=0),RANK(G56,G$3:G$102,0),\"\")","v":""},{"$f":"IF(AND(Registration!$E55=\"o\",COUNTBLANK(H56)=0),placingpoints(H56,COUNTIF(H$3:H$102,\"=\"&H56)),\"\")","v":""},{"$f":"IF(Registration!$E55=\"o\",MTA!G55,\"\")","v":""},{"$f":"IF(AND(Registration!$E55=\"o\",COUNTBLANK(J56)=0),RANK(J56,J$3:J$101,0),\"\")","v":""},{"$f":"IF(AND(Registration!$E55=\"o\",COUNTBLANK(K56)=0),placingpoints(K56,COUNTIF(K$3:K$101,\"=\"&K56)),\"\")","v":""},{"$f":"IF(Registration!$E55=\"o\",'Trick Catch'!X56,\"\")","v":""},{"$f":"IF(AND(Registration!$E55=\"o\",COUNTBLANK(M56)=0),RANK(M56,M$3:M$101,0),\"\")","v":""},{"$f":"IF(AND(Registration!$E55=\"o\",COUNTBLANK(N56)=0),placingpoints(N56,COUNTIF(N$3:N$101,\"=\"&N56)),\"\")","v":""},{"$f":"IF(Registration!$E55=\"o\",'Fast Catch'!F55,\"\")","v":""},{"$f":"IF(AND(Registration!$E55=\"o\",COUNTBLANK(P56)=0),RANK(P56,P$3:P$101,1),\"\")","v":""},{"$f":"IF(AND(Registration!$E55=\"o\",COUNTBLANK(Q56)=0),placingpoints(Q56,COUNTIF(Q$3:Q$101,\"=\"&Q56)),\"\")","v":""},{"$f":"IF(Registration!$E55=\"o\",Endurance!C55,\"\")","v":""},{"$f":"IF(AND(Registration!$E55=\"o\",COUNTBLANK(S56)=0),RANK(S56,S$3:S$101,0),\"\")","v":""},{"$f":"IF(AND(Registration!$E55=\"o\",COUNTBLANK(T56)=0),placingpoints(T56,COUNTIF(T$3:T$101,\"=\"&T56)),\"\")","v":""}]
[{"$f":"IF(Registration!E56=\"o\",RANK(B57,$B$3:$B$101,1),\"\")","v":""},{"$f":"IF(Registration!E56=\"O\",SUM(F57,I57,L57,O57,R57,U57),\"\")","v":""},{"$f":"IF(COUNTBLANK(Registration!B56)=1,\"\",IF(Registration!E56=\"o\",Registration!B56,\"\"))","v":""},{"$f":"IF(Registration!E56=\"o\",'Aussie Round'!V57,\"\")","v":""},{"$f":"IF(AND(Registration!$E56=\"o\",COUNTBLANK(D57)=0),RANK(D57,D$3:D$101,0),\"\")","v":""},{"$f":"IF(AND(Registration!$E56=\"o\",COUNTBLANK(E57)=0),placingpoints(E57,COUNTIF(E$3:E$101,\"=\"&E57)),\"\")","v":""},{"$f":"IF(Registration!$E56=\"o\",Accuracy!L56,\"\")","v":""},{"$f":"IF(AND(Registration!$E56=\"o\",COUNTBLANK(G57)=0),RANK(G57,G$3:G$102,0),\"\")","v":""},{"$f":"IF(AND(Registration!$E56=\"o\",COUNTBLANK(H57)=0),placingpoints(H57,COUNTIF(H$3:H$102,\"=\"&H57)),\"\")","v":""},{"$f":"IF(Registration!$E56=\"o\",MTA!G56,\"\")","v":""},{"$f":"IF(AND(Registration!$E56=\"o\",COUNTBLANK(J57)=0),RANK(J57,J$3:J$101,0),\"\")","v":""},{"$f":"IF(AND(Registration!$E56=\"o\",COUNTBLANK(K57)=0),placingpoints(K57,COUNTIF(K$3:K$101,\"=\"&K57)),\"\")","v":""},{"$f":"IF(Registration!$E56=\"o\",'Trick Catch'!X57,\"\")","v":""},{"$f":"IF(AND(Registration!$E56=\"o\",COUNTBLANK(M57)=0),RANK(M57,M$3:M$101,0),\"\")","v":""},{"$f":"IF(AND(Registration!$E56=\"o\",COUNTBLANK(N57)=0),placingpoints(N57,COUNTIF(N$3:N$101,\"=\"&N57)),\"\")","v":""},{"$f":"IF(Registration!$E56=\"o\",'Fast Catch'!F56,\"\")","v":""},{"$f":"IF(AND(Registration!$E56=\"o\",COUNTBLANK(P57)=0),RANK(P57,P$3:P$101,1),\"\")","v":""},{"$f":"IF(AND(Registration!$E56=\"o\",COUNTBLANK(Q57)=0),placingpoints(Q57,COUNTIF(Q$3:Q$101,\"=\"&Q57)),\"\")","v":""},{"$f":"IF(Registration!$E56=\"o\",Endurance!C56,\"\")","v":""},{"$f":"IF(AND(Registration!$E56=\"o\",COUNTBLANK(S57)=0),RANK(S57,S$3:S$101,0),\"\")","v":""},{"$f":"IF(AND(Registration!$E56=\"o\",COUNTBLANK(T57)=0),placingpoints(T57,COUNTIF(T$3:T$101,\"=\"&T57)),\"\")","v":""}]
[{"$f":"IF(Registration!E57=\"o\",RANK(B58,$B$3:$B$101,1),\"\")","v":""},{"$f":"IF(Registration!E57=\"O\",SUM(F58,I58,L58,O58,R58,U58),\"\")","v":""},{"$f":"IF(COUNTBLANK(Registration!B57)=1,\"\",IF(Registration!E57=\"o\",Registration!B57,\"\"))","v":""},{"$f":"IF(Registration!E57=\"o\",'Aussie Round'!V58,\"\")","v":""},{"$f":"IF(AND(Registration!$E57=\"o\",COUNTBLANK(D58)=0),RANK(D58,D$3:D$101,0),\"\")","v":""},{"$f":"IF(AND(Registration!$E57=\"o\",COUNTBLANK(E58)=0),placingpoints(E58,COUNTIF(E$3:E$101,\"=\"&E58)),\"\")","v":""},{"$f":"IF(Registration!$E57=\"o\",Accuracy!L57,\"\")","v":""},{"$f":"IF(AND(Registration!$E57=\"o\",COUNTBLANK(G58)=0),RANK(G58,G$3:G$102,0),\"\")","v":""},{"$f":"IF(AND(Registration!$E57=\"o\",COUNTBLANK(H58)=0),placingpoints(H58,COUNTIF(H$3:H$102,\"=\"&H58)),\"\")","v":""},{"$f":"IF(Registration!$E57=\"o\",MTA!G57,\"\")","v":""},{"$f":"IF(AND(Registration!$E57=\"o\",COUNTBLANK(J58)=0),RANK(J58,J$3:J$101,0),\"\")","v":""},{"$f":"IF(AND(Registration!$E57=\"o\",COUNTBLANK(K58)=0),placingpoints(K58,COUNTIF(K$3:K$101,\"=\"&K58)),\"\")","v":""},{"$f":"IF(Registration!$E57=\"o\",'Trick Catch'!X58,\"\")","v":""},{"$f":"IF(AND(Registration!$E57=\"o\",COUNTBLANK(M58)=0),RANK(M58,M$3:M$101,0),\"\")","v":""},{"$f":"IF(AND(Registration!$E57=\"o\",COUNTBLANK(N58)=0),placingpoints(N58,COUNTIF(N$3:N$101,\"=\"&N58)),\"\")","v":""},{"$f":"IF(Registration!$E57=\"o\",'Fast Catch'!F57,\"\")","v":""},{"$f":"IF(AND(Registration!$E57=\"o\",COUNTBLANK(P58)=0),RANK(P58,P$3:P$101,1),\"\")","v":""},{"$f":"IF(AND(Registration!$E57=\"o\",COUNTBLANK(Q58)=0),placingpoints(Q58,COUNTIF(Q$3:Q$101,\"=\"&Q58)),\"\")","v":""},{"$f":"IF(Registration!$E57=\"o\",Endurance!C57,\"\")","v":""},{"$f":"IF(AND(Registration!$E57=\"o\",COUNTBLANK(S58)=0),RANK(S58,S$3:S$101,0),\"\")","v":""},{"$f":"IF(AND(Registration!$E57=\"o\",COUNTBLANK(T58)=0),placingpoints(T58,COUNTIF(T$3:T$101,\"=\"&T58)),\"\")","v":""}]
[{"$f":"IF(Registration!E58=\"o\",RANK(B59,$B$3:$B$101,1),\"\")","v":""},{"$f":"IF(Registration!E58=\"O\",SUM(F59,I59,L59,O59,R59,U59),\"\")","v":""},{"$f":"IF(COUNTBLANK(Registration!B58)=1,\"\",IF(Registration!E58=\"o\",Registration!B58,\"\"))","v":""},{"$f":"IF(Registration!E58=\"o\",'Aussie Round'!V59,\"\")","v":""},{"$f":"IF(AND(Registration!$E58=\"o\",COUNTBLANK(D59)=0),RANK(D59,D$3:D$101,0),\"\")","v":""},{"$f":"IF(AND(Registration!$E58=\"o\",COUNTBLANK(E59)=0),placingpoints(E59,COUNTIF(E$3:E$101,\"=\"&E59)),\"\")","v":""},{"$f":"IF(Registration!$E58=\"o\",Accuracy!L58,\"\")","v":""},{"$f":"IF(AND(Registration!$E58=\"o\",COUNTBLANK(G59)=0),RANK(G59,G$3:G$102,0),\"\")","v":""},{"$f":"IF(AND(Registration!$E58=\"o\",COUNTBLANK(H59)=0),placingpoints(H59,COUNTIF(H$3:H$102,\"=\"&H59)),\"\")","v":""},{"$f":"IF(Registration!$E58=\"o\",MTA!G58,\"\")","v":""},{"$f":"IF(AND(Registration!$E58=\"o\",COUNTBLANK(J59)=0),RANK(J59,J$3:J$101,0),\"\")","v":""},{"$f":"IF(AND(Registration!$E58=\"o\",COUNTBLANK(K59)=0),placingpoints(K59,COUNTIF(K$3:K$101,\"=\"&K59)),\"\")","v":""},{"$f":"IF(Registration!$E58=\"o\",'Trick Catch'!X59,\"\")","v":""},{"$f":"IF(AND(Registration!$E58=\"o\",COUNTBLANK(M59)=0),RANK(M59,M$3:M$101,0),\"\")","v":""},{"$f":"IF(AND(Registration!$E58=\"o\",COUNTBLANK(N59)=0),placingpoints(N59,COUNTIF(N$3:N$101,\"=\"&N59)),\"\")","v":""},{"$f":"IF(Registration!$E58=\"o\",'Fast Catch'!F58,\"\")","v":""},{"$f":"IF(AND(Registration!$E58=\"o\",COUNTBLANK(P59)=0),RANK(P59,P$3:P$101,1),\"\")","v":""},{"$f":"IF(AND(Registration!$E58=\"o\",COUNTBLANK(Q59)=0),placingpoints(Q59,COUNTIF(Q$3:Q$101,\"=\"&Q59)),\"\")","v":""},{"$f":"IF(Registration!$E58=\"o\",Endurance!C58,\"\")","v":""},{"$f":"IF(AND(Registration!$E58=\"o\",COUNTBLANK(S59)=0),RANK(S59,S$3:S$101,0),\"\")","v":""},{"$f":"IF(AND(Registration!$E58=\"o\",COUNTBLANK(T59)=0),placingpoints(T59,COUNTIF(T$3:T$101,\"=\"&T59)),\"\")","v":""}]
[{"$f":"IF(Registration!E59=\"o\",RANK(B60,$B$3:$B$101,1),\"\")","v":""},{"$f":"IF(Registration!E59=\"O\",SUM(F60,I60,L60,O60,R60,U60),\"\")","v":""},{"$f":"IF(COUNTBLANK(Registration!B59)=1,\"\",IF(Registration!E59=\"o\",Registration!B59,\"\"))","v":""},{"$f":"IF(Registration!E59=\"o\",'Aussie Round'!V60,\"\")","v":""},{"$f":"IF(AND(Registration!$E59=\"o\",COUNTBLANK(D60)=0),RANK(D60,D$3:D$101,0),\"\")","v":""},{"$f":"IF(AND(Registration!$E59=\"o\",COUNTBLANK(E60)=0),placingpoints(E60,COUNTIF(E$3:E$101,\"=\"&E60)),\"\")","v":""},{"$f":"IF(Registration!$E59=\"o\",Accuracy!L59,\"\")","v":""},{"$f":"IF(AND(Registration!$E59=\"o\",COUNTBLANK(G60)=0),RANK(G60,G$3:G$102,0),\"\")","v":""},{"$f":"IF(AND(Registration!$E59=\"o\",COUNTBLANK(H60)=0),placingpoints(H60,COUNTIF(H$3:H$102,\"=\"&H60)),\"\")","v":""},{"$f":"IF(Registration!$E59=\"o\",MTA!G59,\"\")","v":""},{"$f":"IF(AND(Registration!$E59=\"o\",COUNTBLANK(J60)=0),RANK(J60,J$3:J$101,0),\"\")","v":""},{"$f":"IF(AND(Registration!$E59=\"o\",COUNTBLANK(K60)=0),placingpoints(K60,COUNTIF(K$3:K$101,\"=\"&K60)),\"\")","v":""},{"$f":"IF(Registration!$E59=\"o\",'Trick Catch'!X60,\"\")","v":""},{"$f":"IF(AND(Registration!$E59=\"o\",COUNTBLANK(M60)=0),RANK(M60,M$3:M$101,0),\"\")","v":""},{"$f":"IF(AND(Registration!$E59=\"o\",COUNTBLANK(N60)=0),placingpoints(N60,COUNTIF(N$3:N$101,\"=\"&N60)),\"\")","v":""},{"$f":"IF(Registration!$E59=\"o\",'Fast Catch'!F59,\"\")","v":""},{"$f":"IF(AND(Registration!$E59=\"o\",COUNTBLANK(P60)=0),RANK(P60,P$3:P$101,1),\"\")","v":""},{"$f":"IF(AND(Registration!$E59=\"o\",COUNTBLANK(Q60)=0),placingpoints(Q60,COUNTIF(Q$3:Q$101,\"=\"&Q60)),\"\")","v":""},{"$f":"IF(Registration!$E59=\"o\",Endurance!C59,\"\")","v":""},{"$f":"IF(AND(Registration!$E59=\"o\",COUNTBLANK(S60)=0),RANK(S60,S$3:S$101,0),\"\")","v":""},{"$f":"IF(AND(Registration!$E59=\"o\",COUNTBLANK(T60)=0),placingpoints(T60,COUNTIF(T$3:T$101,\"=\"&T60)),\"\")","v":""}]
[{"$f":"IF(Registration!E60=\"o\",RANK(B61,$B$3:$B$101,1),\"\")","v":""},{"$f":"IF(Registration!E60=\"O\",SUM(F61,I61,L61,O61,R61,U61),\"\")","v":""},{"$f":"IF(COUNTBLANK(Registration!B60)=1,\"\",IF(Registration!E60=\"o\",Registration!B60,\"\"))","v":""},{"$f":"IF(Registration!E60=\"o\",'Aussie Round'!V61,\"\")","v":""},{"$f":"IF(AND(Registration!$E60=\"o\",COUNTBLANK(D61)=0),RANK(D61,D$3:D$101,0),\"\")","v":""},{"$f":"IF(AND(Registration!$E60=\"o\",COUNTBLANK(E61)=0),placingpoints(E61,COUNTIF(E$3:E$101,\"=\"&E61)),\"\")","v":""},{"$f":"IF(Registration!$E60=\"o\",Accuracy!L60,\"\")","v":""},{"$f":"IF(AND(Registration!$E60=\"o\",COUNTBLANK(G61)=0),RANK(G61,G$3:G$102,0),\"\")","v":""},{"$f":"IF(AND(Registration!$E60=\"o\",COUNTBLANK(H61)=0),placingpoints(H61,COUNTIF(H$3:H$102,\"=\"&H61)),\"\")","v":""},{"$f":"IF(Registration!$E60=\"o\",MTA!G60,\"\")","v":""},{"$f":"IF(AND(Registration!$E60=\"o\",COUNTBLANK(J61)=0),RANK(J61,J$3:J$101,0),\"\")","v":""},{"$f":"IF(AND(Registration!$E60=\"o\",COUNTBLANK(K61)=0),placingpoints(K61,COUNTIF(K$3:K$101,\"=\"&K61)),\"\")","v":""},{"$f":"IF(Registration!$E60=\"o\",'Trick Catch'!X61,\"\")","v":""},{"$f":"IF(AND(Registration!$E60=\"o\",COUNTBLANK(M61)=0),RANK(M61,M$3:M$101,0),\"\")","v":""},{"$f":"IF(AND(Registration!$E60=\"o\",COUNTBLANK(N61)=0),placingpoints(N61,COUNTIF(N$3:N$101,\"=\"&N61)),\"\")","v":""},{"$f":"IF(Registration!$E60=\"o\",'Fast Catch'!F60,\"\")","v":""},{"$f":"IF(AND(Registration!$E60=\"o\",COUNTBLANK(P61)=0),RANK(P61,P$3:P$101,1),\"\")","v":""},{"$f":"IF(AND(Registration!$E60=\"o\",COUNTBLANK(Q61)=0),placingpoints(Q61,COUNTIF(Q$3:Q$101,\"=\"&Q61)),\"\")","v":""},{"$f":"IF(Registration!$E60=\"o\",Endurance!C60,\"\")","v":""},{"$f":"IF(AND(Registration!$E60=\"o\",COUNTBLANK(S61)=0),RANK(S61,S$3:S$101,0),\"\")","v":""},{"$f":"IF(AND(Registration!$E60=\"o\",COUNTBLANK(T61)=0),placingpoints(T61,COUNTIF(T$3:T$101,\"=\"&T61)),\"\")","v":""}]
[{"$f":"IF(Registration!E61=\"o\",RANK(B62,$B$3:$B$101,1),\"\")","v":""},{"$f":"IF(Registration!E61=\"O\",SUM(F62,I62,L62,O62,R62,U62),\"\")","v":""},{"$f":"IF(COUNTBLANK(Registration!B61)=1,\"\",IF(Registration!E61=\"o\",Registration!B61,\"\"))","v":""},{"$f":"IF(Registration!E61=\"o\",'Aussie Round'!V62,\"\")","v":""},{"$f":"IF(AND(Registration!$E61=\"o\",COUNTBLANK(D62)=0),RANK(D62,D$3:D$101,0),\"\")","v":""},{"$f":"IF(AND(Registration!$E61=\"o\",COUNTBLANK(E62)=0),placingpoints(E62,COUNTIF(E$3:E$101,\"=\"&E62)),\"\")","v":""},{"$f":"IF(Registration!$E61=\"o\",Accuracy!L61,\"\")","v":""},{"$f":"IF(AND(Registration!$E61=\"o\",COUNTBLANK(G62)=0),RANK(G62,G$3:G$102,0),\"\")","v":""},{"$f":"IF(AND(Registration!$E61=\"o\",COUNTBLANK(H62)=0),placingpoints(H62,COUNTIF(H$3:H$102,\"=\"&H62)),\"\")","v":""},{"$f":"IF(Registration!$E61=\"o\",MTA!G61,\"\")","v":""},{"$f":"IF(AND(Registration!$E61=\"o\",COUNTBLANK(J62)=0),RANK(J62,J$3:J$101,0),\"\")","v":""},{"$f":"IF(AND(Registration!$E61=\"o\",COUNTBLANK(K62)=0),placingpoints(K62,COUNTIF(K$3:K$101,\"=\"&K62)),\"\")","v":""},{"$f":"IF(Registration!$E61=\"o\",'Trick Catch'!X62,\"\")","v":""},{"$f":"IF(AND(Registration!$E61=\"o\",COUNTBLANK(M62)=0),RANK(M62,M$3:M$101,0),\"\")","v":""},{"$f":"IF(AND(Registration!$E61=\"o\",COUNTBLANK(N62)=0),placingpoints(N62,COUNTIF(N$3:N$101,\"=\"&N62)),\"\")","v":""},{"$f":"IF(Registration!$E61=\"o\",'Fast Catch'!F61,\"\")","v":""},{"$f":"IF(AND(Registration!$E61=\"o\",COUNTBLANK(P62)=0),RANK(P62,P$3:P$101,1),\"\")","v":""},{"$f":"IF(AND(Registration!$E61=\"o\",COUNTBLANK(Q62)=0),placingpoints(Q62,COUNTIF(Q$3:Q$101,\"=\"&Q62)),\"\")","v":""},{"$f":"IF(Registration!$E61=\"o\",Endurance!C61,\"\")","v":""},{"$f":"IF(AND(Registration!$E61=\"o\",COUNTBLANK(S62)=0),RANK(S62,S$3:S$101,0),\"\")","v":""},{"$f":"IF(AND(Registration!$E61=\"o\",COUNTBLANK(T62)=0),placingpoints(T62,COUNTIF(T$3:T$101,\"=\"&T62)),\"\")","v":""}]
[{"$f":"IF(Registration!E62=\"o\",RANK(B63,$B$3:$B$101,1),\"\")","v":""},{"$f":"IF(Registration!E62=\"O\",SUM(F63,I63,L63,O63,R63,U63),\"\")","v":""},{"$f":"IF(COUNTBLANK(Registration!B62)=1,\"\",IF(Registration!E62=\"o\",Registration!B62,\"\"))","v":""},{"$f":"IF(Registration!E62=\"o\",'Aussie Round'!V63,\"\")","v":""},{"$f":"IF(AND(Registration!$E62=\"o\",COUNTBLANK(D63)=0),RANK(D63,D$3:D$101,0),\"\")","v":""},{"$f":"IF(AND(Registration!$E62=\"o\",COUNTBLANK(E63)=0),placingpoints(E63,COUNTIF(E$3:E$101,\"=\"&E63)),\"\")","v":""},{"$f":"IF(Registration!$E62=\"o\",Accuracy!L62,\"\")","v":""},{"$f":"IF(AND(Registration!$E62=\"o\",COUNTBLANK(G63)=0),RANK(G63,G$3:G$102,0),\"\")","v":""},{"$f":"IF(AND(Registration!$E62=\"o\",COUNTBLANK(H63)=0),placingpoints(H63,COUNTIF(H$3:H$102,\"=\"&H63)),\"\")","v":""},{"$f":"IF(Registration!$E62=\"o\",MTA!G62,\"\")","v":""},{"$f":"IF(AND(Registration!$E62=\"o\",COUNTBLANK(J63)=0),RANK(J63,J$3:J$101,0),\"\")","v":""},{"$f":"IF(AND(Registration!$E62=\"o\",COUNTBLANK(K63)=0),placingpoints(K63,COUNTIF(K$3:K$101,\"=\"&K63)),\"\")","v":""},{"$f":"IF(Registration!$E62=\"o\",'Trick Catch'!X63,\"\")","v":""},{"$f":"IF(AND(Registration!$E62=\"o\",COUNTBLANK(M63)=0),RANK(M63,M$3:M$101,0),\"\")","v":""},{"$f":"IF(AND(Registration!$E62=\"o\",COUNTBLANK(N63)=0),placingpoints(N63,COUNTIF(N$3:N$101,\"=\"&N63)),\"\")","v":""},{"$f":"IF(Registration!$E62=\"o\",'Fast Catch'!F62,\"\")","v":""},{"$f":"IF(AND(Registration!$E62=\"o\",COUNTBLANK(P63)=0),RANK(P63,P$3:P$101,1),\"\")","v":""},{"$f":"IF(AND(Registration!$E62=\"o\",COUNTBLANK(Q63)=0),placingpoints(Q63,COUNTIF(Q$3:Q$101,\"=\"&Q63)),\"\")","v":""},{"$f":"IF(Registration!$E62=\"o\",Endurance!C62,\"\")","v":""},{"$f":"IF(AND(Registration!$E62=\"o\",COUNTBLANK(S63)=0),RANK(S63,S$3:S$101,0),\"\")","v":""},{"$f":"IF(AND(Registration!$E62=\"o\",COUNTBLANK(T63)=0),placingpoints(T63,COUNTIF(T$3:T$101,\"=\"&T63)),\"\")","v":""}]
[{"$f":"IF(Registration!E63=\"o\",RANK(B64,$B$3:$B$101,1),\"\")","v":""},{"$f":"IF(Registration!E63=\"O\",SUM(F64,I64,L64,O64,R64,U64),\"\")","v":""},{"$f":"IF(COUNTBLANK(Registration!B63)=1,\"\",IF(Registration!E63=\"o\",Registration!B63,\"\"))","v":""},{"$f":"IF(Registration!E63=\"o\",'Aussie Round'!V64,\"\")","v":""},{"$f":"IF(AND(Registration!$E63=\"o\",COUNTBLANK(D64)=0),RANK(D64,D$3:D$101,0),\"\")","v":""},{"$f":"IF(AND(Registration!$E63=\"o\",COUNTBLANK(E64)=0),placingpoints(E64,COUNTIF(E$3:E$101,\"=\"&E64)),\"\")","v":""},{"$f":"IF(Registration!$E63=\"o\",Accuracy!L63,\"\")","v":""},{"$f":"IF(AND(Registration!$E63=\"o\",COUNTBLANK(G64)=0),RANK(G64,G$3:G$102,0),\"\")","v":""},{"$f":"IF(AND(Registration!$E63=\"o\",COUNTBLANK(H64)=0),placingpoints(H64,COUNTIF(H$3:H$102,\"=\"&H64)),\"\")","v":""},{"$f":"IF(Registration!$E63=\"o\",MTA!G63,\"\")","v":""},{"$f":"IF(AND(Registration!$E63=\"o\",COUNTBLANK(J64)=0),RANK(J64,J$3:J$101,0),\"\")","v":""},{"$f":"IF(AND(Registration!$E63=\"o\",COUNTBLANK(K64)=0),placingpoints(K64,COUNTIF(K$3:K$101,\"=\"&K64)),\"\")","v":""},{"$f":"IF(Registration!$E63=\"o\",'Trick Catch'!X64,\"\")","v":""},{"$f":"IF(AND(Registration!$E63=\"o\",COUNTBLANK(M64)=0),RANK(M64,M$3:M$101,0),\"\")","v":""},{"$f":"IF(AND(Registration!$E63=\"o\",COUNTBLANK(N64)=0),placingpoints(N64,COUNTIF(N$3:N$101,\"=\"&N64)),\"\")","v":""},{"$f":"IF(Registration!$E63=\"o\",'Fast Catch'!F63,\"\")","v":""},{"$f":"IF(AND(Registration!$E63=\"o\",COUNTBLANK(P64)=0),RANK(P64,P$3:P$101,1),\"\")","v":""},{"$f":"IF(AND(Registration!$E63=\"o\",COUNTBLANK(Q64)=0),placingpoints(Q64,COUNTIF(Q$3:Q$101,\"=\"&Q64)),\"\")","v":""},{"$f":"IF(Registration!$E63=\"o\",Endurance!C63,\"\")","v":""},{"$f":"IF(AND(Registration!$E63=\"o\",COUNTBLANK(S64)=0),RANK(S64,S$3:S$101,0),\"\")","v":""},{"$f":"IF(AND(Registration!$E63=\"o\",COUNTBLANK(T64)=0),placingpoints(T64,COUNTIF(T$3:T$101,\"=\"&T64)),\"\")","v":""}]
[{"$f":"IF(Registration!E64=\"o\",RANK(B65,$B$3:$B$101,1),\"\")","v":""},{"$f":"IF(Registration!E64=\"O\",SUM(F65,I65,L65,O65,R65,U65),\"\")","v":""},{"$f":"IF(COUNTBLANK(Registration!B64)=1,\"\",IF(Registration!E64=\"o\",Registration!B64,\"\"))","v":""},{"$f":"IF(Registration!E64=\"o\",'Aussie Round'!V65,\"\")","v":""},{"$f":"IF(AND(Registration!$E64=\"o\",COUNTBLANK(D65)=0),RANK(D65,D$3:D$101,0),\"\")","v":""},{"$f":"IF(AND(Registration!$E64=\"o\",COUNTBLANK(E65)=0),placingpoints(E65,COUNTIF(E$3:E$101,\"=\"&E65)),\"\")","v":""},{"$f":"IF(Registration!$E64=\"o\",Accuracy!L64,\"\")","v":""},{"$f":"IF(AND(Registration!$E64=\"o\",COUNTBLANK(G65)=0),RANK(G65,G$3:G$102,0),\"\")","v":""},{"$f":"IF(AND(Registration!$E64=\"o\",COUNTBLANK(H65)=0),placingpoints(H65,COUNTIF(H$3:H$102,\"=\"&H65)),\"\")","v":""},{"$f":"IF(Registration!$E64=\"o\",MTA!G64,\"\")","v":""},{"$f":"IF(AND(Registration!$E64=\"o\",COUNTBLANK(J65)=0),RANK(J65,J$3:J$101,0),\"\")","v":""},{"$f":"IF(AND(Registration!$E64=\"o\",COUNTBLANK(K65)=0),placingpoints(K65,COUNTIF(K$3:K$101,\"=\"&K65)),\"\")","v":""},{"$f":"IF(Registration!$E64=\"o\",'Trick Catch'!X65,\"\")","v":""},{"$f":"IF(AND(Registration!$E64=\"o\",COUNTBLANK(M65)=0),RANK(M65,M$3:M$101,0),\"\")","v":""},{"$f":"IF(AND(Registration!$E64=\"o\",COUNTBLANK(N65)=0),placingpoints(N65,COUNTIF(N$3:N$101,\"=\"&N65)),\"\")","v":""},{"$f":"IF(Registration!$E64=\"o\",'Fast Catch'!F64,\"\")","v":""},{"$f":"IF(AND(Registration!$E64=\"o\",COUNTBLANK(P65)=0),RANK(P65,P$3:P$101,1),\"\")","v":""},{"$f":"IF(AND(Registration!$E64=\"o\",COUNTBLANK(Q65)=0),placingpoints(Q65,COUNTIF(Q$3:Q$101,\"=\"&Q65)),\"\")","v":""},{"$f":"IF(Registration!$E64=\"o\",Endurance!C64,\"\")","v":""},{"$f":"IF(AND(Registration!$E64=\"o\",COUNTBLANK(S65)=0),RANK(S65,S$3:S$101,0),\"\")","v":""},{"$f":"IF(AND(Registration!$E64=\"o\",COUNTBLANK(T65)=0),placingpoints(T65,COUNTIF(T$3:T$101,\"=\"&T65)),\"\")","v":""}]
[{"$f":"IF(Registration!E65=\"o\",RANK(B66,$B$3:$B$101,1),\"\")","v":""},{"$f":"IF(Registration!E65=\"O\",SUM(F66,I66,L66,O66,R66,U66),\"\")","v":""},{"$f":"IF(COUNTBLANK(Registration!B65)=1,\"\",IF(Registration!E65=\"o\",Registration!B65,\"\"))","v":""},{"$f":"IF(Registration!E65=\"o\",'Aussie Round'!V66,\"\")","v":""},{"$f":"IF(AND(Registration!$E65=\"o\",COUNTBLANK(D66)=0),RANK(D66,D$3:D$101,0),\"\")","v":""},{"$f":"IF(AND(Registration!$E65=\"o\",COUNTBLANK(E66)=0),placingpoints(E66,COUNTIF(E$3:E$101,\"=\"&E66)),\"\")","v":""},{"$f":"IF(Registration!$E65=\"o\",Accuracy!L65,\"\")","v":""},{"$f":"IF(AND(Registration!$E65=\"o\",COUNTBLANK(G66)=0),RANK(G66,G$3:G$102,0),\"\")","v":""},{"$f":"IF(AND(Registration!$E65=\"o\",COUNTBLANK(H66)=0),placingpoints(H66,COUNTIF(H$3:H$102,\"=\"&H66)),\"\")","v":""},{"$f":"IF(Registration!$E65=\"o\",MTA!G65,\"\")","v":""},{"$f":"IF(AND(Registration!$E65=\"o\",COUNTBLANK(J66)=0),RANK(J66,J$3:J$101,0),\"\")","v":""},{"$f":"IF(AND(Registration!$E65=\"o\",COUNTBLANK(K66)=0),placingpoints(K66,COUNTIF(K$3:K$101,\"=\"&K66)),\"\")","v":""},{"$f":"IF(Registration!$E65=\"o\",'Trick Catch'!X66,\"\")","v":""},{"$f":"IF(AND(Registration!$E65=\"o\",COUNTBLANK(M66)=0),RANK(M66,M$3:M$101,0),\"\")","v":""},{"$f":"IF(AND(Registration!$E65=\"o\",COUNTBLANK(N66)=0),placingpoints(N66,COUNTIF(N$3:N$101,\"=\"&N66)),\"\")","v":""},{"$f":"IF(Registration!$E65=\"o\",'Fast Catch'!F65,\"\")","v":""},{"$f":"IF(AND(Registration!$E65=\"o\",COUNTBLANK(P66)=0),RANK(P66,P$3:P$101,1),\"\")","v":""},{"$f":"IF(AND(Registration!$E65=\"o\",COUNTBLANK(Q66)=0),placingpoints(Q66,COUNTIF(Q$3:Q$101,\"=\"&Q66)),\"\")","v":""},{"$f":"IF(Registration!$E65=\"o\",Endurance!C65,\"\")","v":""},{"$f":"IF(AND(Registration!$E65=\"o\",COUNTBLANK(S66)=0),RANK(S66,S$3:S$101,0),\"\")","v":""},{"$f":"IF(AND(Registration!$E65=\"o\",COUNTBLANK(T66)=0),placingpoints(T66,COUNTIF(T$3:T$101,\"=\"&T66)),\"\")","v":""}]
[{"$f":"IF(Registration!E66=\"o\",RANK(B67,$B$3:$B$101,1),\"\")","v":""},{"$f":"IF(Registration!E66=\"O\",SUM(F67,I67,L67,O67,R67,U67),\"\")","v":""},{"$f":"IF(COUNTBLANK(Registration!B66)=1,\"\",IF(Registration!E66=\"o\",Registration!B66,\"\"))","v":""},{"$f":"IF(Registration!E66=\"o\",'Aussie Round'!V67,\"\")","v":""},{"$f":"IF(AND(Registration!$E66=\"o\",COUNTBLANK(D67)=0),RANK(D67,D$3:D$101,0),\"\")","v":""},{"$f":"IF(AND(Registration!$E66=\"o\",COUNTBLANK(E67)=0),placingpoints(E67,COUNTIF(E$3:E$101,\"=\"&E67)),\"\")","v":""},{"$f":"IF(Registration!$E66=\"o\",Accuracy!L66,\"\")","v":""},{"$f":"IF(AND(Registration!$E66=\"o\",COUNTBLANK(G67)=0),RANK(G67,G$3:G$102,0),\"\")","v":""},{"$f":"IF(AND(Registration!$E66=\"o\",COUNTBLANK(H67)=0),placingpoints(H67,COUNTIF(H$3:H$102,\"=\"&H67)),\"\")","v":""},{"$f":"IF(Registration!$E66=\"o\",MTA!G66,\"\")","v":""},{"$f":"IF(AND(Registration!$E66=\"o\",COUNTBLANK(J67)=0),RANK(J67,J$3:J$101,0),\"\")","v":""},{"$f":"IF(AND(Registration!$E66=\"o\",COUNTBLANK(K67)=0),placingpoints(K67,COUNTIF(K$3:K$101,\"=\"&K67)),\"\")","v":""},{"$f":"IF(Registration!$E66=\"o\",'Trick Catch'!X67,\"\")","v":""},{"$f":"IF(AND(Registration!$E66=\"o\",COUNTBLANK(M67)=0),RANK(M67,M$3:M$101,0),\"\")","v":""},{"$f":"IF(AND(Registration!$E66=\"o\",COUNTBLANK(N67)=0),placingpoints(N67,COUNTIF(N$3:N$101,\"=\"&N67)),\"\")","v":""},{"$f":"IF(Registration!$E66=\"o\",'Fast Catch'!F66,\"\")","v":""},{"$f":"IF(AND(Registration!$E66=\"o\",COUNTBLANK(P67)=0),RANK(P67,P$3:P$101,1),\"\")","v":""},{"$f":"IF(AND(Registration!$E66=\"o\",COUNTBLANK(Q67)=0),placingpoints(Q67,COUNTIF(Q$3:Q$101,\"=\"&Q67)),\"\")","v":""},{"$f":"IF(Registration!$E66=\"o\",Endurance!C66,\"\")","v":""},{"$f":"IF(AND(Registration!$E66=\"o\",COUNTBLANK(S67)=0),RANK(S67,S$3:S$101,0),\"\")","v":""},{"$f":"IF(AND(Registration!$E66=\"o\",COUNTBLANK(T67)=0),placingpoints(T67,COUNTIF(T$3:T$101,\"=\"&T67)),\"\")","v":""}]
[{"$f":"IF(Registration!E67=\"o\",RANK(B68,$B$3:$B$101,1),\"\")","v":""},{"$f":"IF(Registration!E67=\"O\",SUM(F68,I68,L68,O68,R68,U68),\"\")","v":""},{"$f":"IF(COUNTBLANK(Registration!B67)=1,\"\",IF(Registration!E67=\"o\",Registration!B67,\"\"))","v":""},{"$f":"IF(Registration!E67=\"o\",'Aussie Round'!V68,\"\")","v":""},{"$f":"IF(AND(Registration!$E67=\"o\",COUNTBLANK(D68)=0),RANK(D68,D$3:D$101,0),\"\")","v":""},{"$f":"IF(AND(Registration!$E67=\"o\",COUNTBLANK(E68)=0),placingpoints(E68,COUNTIF(E$3:E$101,\"=\"&E68)),\"\")","v":""},{"$f":"IF(Registration!$E67=\"o\",Accuracy!L67,\"\")","v":""},{"$f":"IF(AND(Registration!$E67=\"o\",COUNTBLANK(G68)=0),RANK(G68,G$3:G$102,0),\"\")","v":""},{"$f":"IF(AND(Registration!$E67=\"o\",COUNTBLANK(H68)=0),placingpoints(H68,COUNTIF(H$3:H$102,\"=\"&H68)),\"\")","v":""},{"$f":"IF(Registration!$E67=\"o\",MTA!G67,\"\")","v":""},{"$f":"IF(AND(Registration!$E67=\"o\",COUNTBLANK(J68)=0),RANK(J68,J$3:J$101,0),\"\")","v":""},{"$f":"IF(AND(Registration!$E67=\"o\",COUNTBLANK(K68)=0),placingpoints(K68,COUNTIF(K$3:K$101,\"=\"&K68)),\"\")","v":""},{"$f":"IF(Registration!$E67=\"o\",'Trick Catch'!X68,\"\")","v":""},{"$f":"IF(AND(Registration!$E67=\"o\",COUNTBLANK(M68)=0),RANK(M68,M$3:M$101,0),\"\")","v":""},{"$f":"IF(AND(Registration!$E67=\"o\",COUNTBLANK(N68)=0),placingpoints(N68,COUNTIF(N$3:N$101,\"=\"&N68)),\"\")","v":""},{"$f":"IF(Registration!$E67=\"o\",'Fast Catch'!F67,\"\")","v":""},{"$f":"IF(AND(Registration!$E67=\"o\",COUNTBLANK(P68)=0),RANK(P68,P$3:P$101,1),\"\")","v":""},{"$f":"IF(AND(Registration!$E67=\"o\",COUNTBLANK(Q68)=0),placingpoints(Q68,COUNTIF(Q$3:Q$101,\"=\"&Q68)),\"\")","v":""},{"$f":"IF(Registration!$E67=\"o\",Endurance!C67,\"\")","v":""},{"$f":"IF(AND(Registration!$E67=\"o\",COUNTBLANK(S68)=0),RANK(S68,S$3:S$101,0),\"\")","v":""},{"$f":"IF(AND(Registration!$E67=\"o\",COUNTBLANK(T68)=0),placingpoints(T68,COUNTIF(T$3:T$101,\"=\"&T68)),\"\")","v":""}]
[{"$f":"IF(Registration!E68=\"o\",RANK(B69,$B$3:$B$101,1),\"\")","v":""},{"$f":"IF(Registration!E68=\"O\",SUM(F69,I69,L69,O69,R69,U69),\"\")","v":""},{"$f":"IF(COUNTBLANK(Registration!B68)=1,\"\",IF(Registration!E68=\"o\",Registration!B68,\"\"))","v":""},{"$f":"IF(Registration!E68=\"o\",'Aussie Round'!V69,\"\")","v":""},{"$f":"IF(AND(Registration!$E68=\"o\",COUNTBLANK(D69)=0),RANK(D69,D$3:D$101,0),\"\")","v":""},{"$f":"IF(AND(Registration!$E68=\"o\",COUNTBLANK(E69)=0),placingpoints(E69,COUNTIF(E$3:E$101,\"=\"&E69)),\"\")","v":""},{"$f":"IF(Registration!$E68=\"o\",Accuracy!L68,\"\")","v":""},{"$f":"IF(AND(Registration!$E68=\"o\",COUNTBLANK(G69)=0),RANK(G69,G$3:G$102,0),\"\")","v":""},{"$f":"IF(AND(Registration!$E68=\"o\",COUNTBLANK(H69)=0),placingpoints(H69,COUNTIF(H$3:H$102,\"=\"&H69)),\"\")","v":""},{"$f":"IF(Registration!$E68=\"o\",MTA!G68,\"\")","v":""},{"$f":"IF(AND(Registration!$E68=\"o\",COUNTBLANK(J69)=0),RANK(J69,J$3:J$101,0),\"\")","v":""},{"$f":"IF(AND(Registration!$E68=\"o\",COUNTBLANK(K69)=0),placingpoints(K69,COUNTIF(K$3:K$101,\"=\"&K69)),\"\")","v":""},{"$f":"IF(Registration!$E68=\"o\",'Trick Catch'!X69,\"\")","v":""},{"$f":"IF(AND(Registration!$E68=\"o\",COUNTBLANK(M69)=0),RANK(M69,M$3:M$101,0),\"\")","v":""},{"$f":"IF(AND(Registration!$E68=\"o\",COUNTBLANK(N69)=0),placingpoints(N69,COUNTIF(N$3:N$101,\"=\"&N69)),\"\")","v":""},{"$f":"IF(Registration!$E68=\"o\",'Fast Catch'!F68,\"\")","v":""},{"$f":"IF(AND(Registration!$E68=\"o\",COUNTBLANK(P69)=0),RANK(P69,P$3:P$101,1),\"\")","v":""},{"$f":"IF(AND(Registration!$E68=\"o\",COUNTBLANK(Q69)=0),placingpoints(Q69,COUNTIF(Q$3:Q$101,\"=\"&Q69)),\"\")","v":""},{"$f":"IF(Registration!$E68=\"o\",Endurance!C68,\"\")","v":""},{"$f":"IF(AND(Registration!$E68=\"o\",COUNTBLANK(S69)=0),RANK(S69,S$3:S$101,0),\"\")","v":""},{"$f":"IF(AND(Registration!$E68=\"o\",COUNTBLANK(T69)=0),placingpoints(T69,COUNTIF(T$3:T$101,\"=\"&T69)),\"\")","v":""}]
[{"$f":"IF(Registration!E69=\"o\",RANK(B70,$B$3:$B$101,1),\"\")","v":""},{"$f":"IF(Registration!E69=\"O\",SUM(F70,I70,L70,O70,R70,U70),\"\")","v":""},{"$f":"IF(COUNTBLANK(Registration!B69)=1,\"\",IF(Registration!E69=\"o\",Registration!B69,\"\"))","v":""},{"$f":"IF(Registration!E69=\"o\",'Aussie Round'!V70,\"\")","v":""},{"$f":"IF(AND(Registration!$E69=\"o\",COUNTBLANK(D70)=0),RANK(D70,D$3:D$101,0),\"\")","v":""},{"$f":"IF(AND(Registration!$E69=\"o\",COUNTBLANK(E70)=0),placingpoints(E70,COUNTIF(E$3:E$101,\"=\"&E70)),\"\")","v":""},{"$f":"IF(Registration!$E69=\"o\",Accuracy!L69,\"\")","v":""},{"$f":"IF(AND(Registration!$E69=\"o\",COUNTBLANK(G70)=0),RANK(G70,G$3:G$102,0),\"\")","v":""},{"$f":"IF(AND(Registration!$E69=\"o\",COUNTBLANK(H70)=0),placingpoints(H70,COUNTIF(H$3:H$102,\"=\"&H70)),\"\")","v":""},{"$f":"IF(Registration!$E69=\"o\",MTA!G69,\"\")","v":""},{"$f":"IF(AND(Registration!$E69=\"o\",COUNTBLANK(J70)=0),RANK(J70,J$3:J$101,0),\"\")","v":""},{"$f":"IF(AND(Registration!$E69=\"o\",COUNTBLANK(K70)=0),placingpoints(K70,COUNTIF(K$3:K$101,\"=\"&K70)),\"\")","v":""},{"$f":"IF(Registration!$E69=\"o\",'Trick Catch'!X70,\"\")","v":""},{"$f":"IF(AND(Registration!$E69=\"o\",COUNTBLANK(M70)=0),RANK(M70,M$3:M$101,0),\"\")","v":""},{"$f":"IF(AND(Registration!$E69=\"o\",COUNTBLANK(N70)=0),placingpoints(N70,COUNTIF(N$3:N$101,\"=\"&N70)),\"\")","v":""},{"$f":"IF(Registration!$E69=\"o\",'Fast Catch'!F69,\"\")","v":""},{"$f":"IF(AND(Registration!$E69=\"o\",COUNTBLANK(P70)=0),RANK(P70,P$3:P$101,1),\"\")","v":""},{"$f":"IF(AND(Registration!$E69=\"o\",COUNTBLANK(Q70)=0),placingpoints(Q70,COUNTIF(Q$3:Q$101,\"=\"&Q70)),\"\")","v":""},{"$f":"IF(Registration!$E69=\"o\",Endurance!C69,\"\")","v":""},{"$f":"IF(AND(Registration!$E69=\"o\",COUNTBLANK(S70)=0),RANK(S70,S$3:S$101,0),\"\")","v":""},{"$f":"IF(AND(Registration!$E69=\"o\",COUNTBLANK(T70)=0),placingpoints(T70,COUNTIF(T$3:T$101,\"=\"&T70)),\"\")","v":""}]
[{"$f":"IF(Registration!E70=\"o\",RANK(B71,$B$3:$B$101,1),\"\")","v":""},{"$f":"IF(Registration!E70=\"O\",SUM(F71,I71,L71,O71,R71,U71),\"\")","v":""},{"$f":"IF(COUNTBLANK(Registration!B70)=1,\"\",IF(Registration!E70=\"o\",Registration!B70,\"\"))","v":""},{"$f":"IF(Registration!E70=\"o\",'Aussie Round'!V71,\"\")","v":""},{"$f":"IF(AND(Registration!$E70=\"o\",COUNTBLANK(D71)=0),RANK(D71,D$3:D$101,0),\"\")","v":""},{"$f":"IF(AND(Registration!$E70=\"o\",COUNTBLANK(E71)=0),placingpoints(E71,COUNTIF(E$3:E$101,\"=\"&E71)),\"\")","v":""},{"$f":"IF(Registration!$E70=\"o\",Accuracy!L70,\"\")","v":""},{"$f":"IF(AND(Registration!$E70=\"o\",COUNTBLANK(G71)=0),RANK(G71,G$3:G$102,0),\"\")","v":""},{"$f":"IF(AND(Registration!$E70=\"o\",COUNTBLANK(H71)=0),placingpoints(H71,COUNTIF(H$3:H$102,\"=\"&H71)),\"\")","v":""},{"$f":"IF(Registration!$E70=\"o\",MTA!G70,\"\")","v":""},{"$f":"IF(AND(Registration!$E70=\"o\",COUNTBLANK(J71)=0),RANK(J71,J$3:J$101,0),\"\")","v":""},{"$f":"IF(AND(Registration!$E70=\"o\",COUNTBLANK(K71)=0),placingpoints(K71,COUNTIF(K$3:K$101,\"=\"&K71)),\"\")","v":""},{"$f":"IF(Registration!$E70=\"o\",'Trick Catch'!X71,\"\")","v":""},{"$f":"IF(AND(Registration!$E70=\"o\",COUNTBLANK(M71)=0),RANK(M71,M$3:M$101,0),\"\")","v":""},{"$f":"IF(AND(Registration!$E70=\"o\",COUNTBLANK(N71)=0),placingpoints(N71,COUNTIF(N$3:N$101,\"=\"&N71)),\"\")","v":""},{"$f":"IF(Registration!$E70=\"o\",'Fast Catch'!F70,\"\")","v":""},{"$f":"IF(AND(Registration!$E70=\"o\",COUNTBLANK(P71)=0),RANK(P71,P$3:P$101,1),\"\")","v":""},{"$f":"IF(AND(Registration!$E70=\"o\",COUNTBLANK(Q71)=0),placingpoints(Q71,COUNTIF(Q$3:Q$101,\"=\"&Q71)),\"\")","v":""},{"$f":"IF(Registration!$E70=\"o\",Endurance!C70,\"\")","v":""},{"$f":"IF(AND(Registration!$E70=\"o\",COUNTBLANK(S71)=0),RANK(S71,S$3:S$101,0),\"\")","v":""},{"$f":"IF(AND(Registration!$E70=\"o\",COUNTBLANK(T71)=0),placingpoints(T71,COUNTIF(T$3:T$101,\"=\"&T71)),\"\")","v":""}]
[{"$f":"IF(Registration!E71=\"o\",RANK(B72,$B$3:$B$101,1),\"\")","v":""},{"$f":"IF(Registration!E71=\"O\",SUM(F72,I72,L72,O72,R72,U72),\"\")","v":""},{"$f":"IF(COUNTBLANK(Registration!B71)=1,\"\",IF(Registration!E71=\"o\",Registration!B71,\"\"))","v":""},{"$f":"IF(Registration!E71=\"o\",'Aussie Round'!V72,\"\")","v":""},{"$f":"IF(AND(Registration!$E71=\"o\",COUNTBLANK(D72)=0),RANK(D72,D$3:D$101,0),\"\")","v":""},{"$f":"IF(AND(Registration!$E71=\"o\",COUNTBLANK(E72)=0),placingpoints(E72,COUNTIF(E$3:E$101,\"=\"&E72)),\"\")","v":""},{"$f":"IF(Registration!$E71=\"o\",Accuracy!L71,\"\")","v":""},{"$f":"IF(AND(Registration!$E71=\"o\",COUNTBLANK(G72)=0),RANK(G72,G$3:G$102,0),\"\")","v":""},{"$f":"IF(AND(Registration!$E71=\"o\",COUNTBLANK(H72)=0),placingpoints(H72,COUNTIF(H$3:H$102,\"=\"&H72)),\"\")","v":""},{"$f":"IF(Registration!$E71=\"o\",MTA!G71,\"\")","v":""},{"$f":"IF(AND(Registration!$E71=\"o\",COUNTBLANK(J72)=0),RANK(J72,J$3:J$101,0),\"\")","v":""},{"$f":"IF(AND(Registration!$E71=\"o\",COUNTBLANK(K72)=0),placingpoints(K72,COUNTIF(K$3:K$101,\"=\"&K72)),\"\")","v":""},{"$f":"IF(Registration!$E71=\"o\",'Trick Catch'!X72,\"\")","v":""},{"$f":"IF(AND(Registration!$E71=\"o\",COUNTBLANK(M72)=0),RANK(M72,M$3:M$101,0),\"\")","v":""},{"$f":"IF(AND(Registration!$E71=\"o\",COUNTBLANK(N72)=0),placingpoints(N72,COUNTIF(N$3:N$101,\"=\"&N72)),\"\")","v":""},{"$f":"IF(Registration!$E71=\"o\",'Fast Catch'!F71,\"\")","v":""},{"$f":"IF(AND(Registration!$E71=\"o\",COUNTBLANK(P72)=0),RANK(P72,P$3:P$101,1),\"\")","v":""},{"$f":"IF(AND(Registration!$E71=\"o\",COUNTBLANK(Q72)=0),placingpoints(Q72,COUNTIF(Q$3:Q$101,\"=\"&Q72)),\"\")","v":""},{"$f":"IF(Registration!$E71=\"o\",Endurance!C71,\"\")","v":""},{"$f":"IF(AND(Registration!$E71=\"o\",COUNTBLANK(S72)=0),RANK(S72,S$3:S$101,0),\"\")","v":""},{"$f":"IF(AND(Registration!$E71=\"o\",COUNTBLANK(T72)=0),placingpoints(T72,COUNTIF(T$3:T$101,\"=\"&T72)),\"\")","v":""}]
[{"$f":"IF(Registration!E72=\"o\",RANK(B73,$B$3:$B$101,1),\"\")","v":""},{"$f":"IF(Registration!E72=\"O\",SUM(F73,I73,L73,O73,R73,U73),\"\")","v":""},{"$f":"IF(COUNTBLANK(Registration!B72)=1,\"\",IF(Registration!E72=\"o\",Registration!B72,\"\"))","v":""},{"$f":"IF(Registration!E72=\"o\",'Aussie Round'!V73,\"\")","v":""},{"$f":"IF(AND(Registration!$E72=\"o\",COUNTBLANK(D73)=0),RANK(D73,D$3:D$101,0),\"\")","v":""},{"$f":"IF(AND(Registration!$E72=\"o\",COUNTBLANK(E73)=0),placingpoints(E73,COUNTIF(E$3:E$101,\"=\"&E73)),\"\")","v":""},{"$f":"IF(Registration!$E72=\"o\",Accuracy!L72,\"\")","v":""},{"$f":"IF(AND(Registration!$E72=\"o\",COUNTBLANK(G73)=0),RANK(G73,G$3:G$102,0),\"\")","v":""},{"$f":"IF(AND(Registration!$E72=\"o\",COUNTBLANK(H73)=0),placingpoints(H73,COUNTIF(H$3:H$102,\"=\"&H73)),\"\")","v":""},{"$f":"IF(Registration!$E72=\"o\",MTA!G72,\"\")","v":""},{"$f":"IF(AND(Registration!$E72=\"o\",COUNTBLANK(J73)=0),RANK(J73,J$3:J$101,0),\"\")","v":""},{"$f":"IF(AND(Registration!$E72=\"o\",COUNTBLANK(K73)=0),placingpoints(K73,COUNTIF(K$3:K$101,\"=\"&K73)),\"\")","v":""},{"$f":"IF(Registration!$E72=\"o\",'Trick Catch'!X73,\"\")","v":""},{"$f":"IF(AND(Registration!$E72=\"o\",COUNTBLANK(M73)=0),RANK(M73,M$3:M$101,0),\"\")","v":""},{"$f":"IF(AND(Registration!$E72=\"o\",COUNTBLANK(N73)=0),placingpoints(N73,COUNTIF(N$3:N$101,\"=\"&N73)),\"\")","v":""},{"$f":"IF(Registration!$E72=\"o\",'Fast Catch'!F72,\"\")","v":""},{"$f":"IF(AND(Registration!$E72=\"o\",COUNTBLANK(P73)=0),RANK(P73,P$3:P$101,1),\"\")","v":""},{"$f":"IF(AND(Registration!$E72=\"o\",COUNTBLANK(Q73)=0),placingpoints(Q73,COUNTIF(Q$3:Q$101,\"=\"&Q73)),\"\")","v":""},{"$f":"IF(Registration!$E72=\"o\",Endurance!C72,\"\")","v":""},{"$f":"IF(AND(Registration!$E72=\"o\",COUNTBLANK(S73)=0),RANK(S73,S$3:S$101,0),\"\")","v":""},{"$f":"IF(AND(Registration!$E72=\"o\",COUNTBLANK(T73)=0),placingpoints(T73,COUNTIF(T$3:T$101,\"=\"&T73)),\"\")","v":""}]
[{"$f":"IF(Registration!E73=\"o\",RANK(B74,$B$3:$B$101,1),\"\")","v":""},{"$f":"IF(Registration!E73=\"O\",SUM(F74,I74,L74,O74,R74,U74),\"\")","v":""},{"$f":"IF(COUNTBLANK(Registration!B73)=1,\"\",IF(Registration!E73=\"o\",Registration!B73,\"\"))","v":""},{"$f":"IF(Registration!E73=\"o\",'Aussie Round'!V74,\"\")","v":""},{"$f":"IF(AND(Registration!$E73=\"o\",COUNTBLANK(D74)=0),RANK(D74,D$3:D$101,0),\"\")","v":""},{"$f":"IF(AND(Registration!$E73=\"o\",COUNTBLANK(E74)=0),placingpoints(E74,COUNTIF(E$3:E$101,\"=\"&E74)),\"\")","v":""},{"$f":"IF(Registration!$E73=\"o\",Accuracy!L73,\"\")","v":""},{"$f":"IF(AND(Registration!$E73=\"o\",COUNTBLANK(G74)=0),RANK(G74,G$3:G$102,0),\"\")","v":""},{"$f":"IF(AND(Registration!$E73=\"o\",COUNTBLANK(H74)=0),placingpoints(H74,COUNTIF(H$3:H$102,\"=\"&H74)),\"\")","v":""},{"$f":"IF(Registration!$E73=\"o\",MTA!G73,\"\")","v":""},{"$f":"IF(AND(Registration!$E73=\"o\",COUNTBLANK(J74)=0),RANK(J74,J$3:J$101,0),\"\")","v":""},{"$f":"IF(AND(Registration!$E73=\"o\",COUNTBLANK(K74)=0),placingpoints(K74,COUNTIF(K$3:K$101,\"=\"&K74)),\"\")","v":""},{"$f":"IF(Registration!$E73=\"o\",'Trick Catch'!X74,\"\")","v":""},{"$f":"IF(AND(Registration!$E73=\"o\",COUNTBLANK(M74)=0),RANK(M74,M$3:M$101,0),\"\")","v":""},{"$f":"IF(AND(Registration!$E73=\"o\",COUNTBLANK(N74)=0),placingpoints(N74,COUNTIF(N$3:N$101,\"=\"&N74)),\"\")","v":""},{"$f":"IF(Registration!$E73=\"o\",'Fast Catch'!F73,\"\")","v":""},{"$f":"IF(AND(Registration!$E73=\"o\",COUNTBLANK(P74)=0),RANK(P74,P$3:P$101,1),\"\")","v":""},{"$f":"IF(AND(Registration!$E73=\"o\",COUNTBLANK(Q74)=0),placingpoints(Q74,COUNTIF(Q$3:Q$101,\"=\"&Q74)),\"\")","v":""},{"$f":"IF(Registration!$E73=\"o\",Endurance!C73,\"\")","v":""},{"$f":"IF(AND(Registration!$E73=\"o\",COUNTBLANK(S74)=0),RANK(S74,S$3:S$101,0),\"\")","v":""},{"$f":"IF(AND(Registration!$E73=\"o\",COUNTBLANK(T74)=0),placingpoints(T74,COUNTIF(T$3:T$101,\"=\"&T74)),\"\")","v":""}]
[{"$f":"IF(Registration!E74=\"o\",RANK(B75,$B$3:$B$101,1),\"\")","v":""},{"$f":"IF(Registration!E74=\"O\",SUM(F75,I75,L75,O75,R75,U75),\"\")","v":""},{"$f":"IF(COUNTBLANK(Registration!B74)=1,\"\",IF(Registration!E74=\"o\",Registration!B74,\"\"))","v":""},{"$f":"IF(Registration!E74=\"o\",'Aussie Round'!V75,\"\")","v":""},{"$f":"IF(AND(Registration!$E74=\"o\",COUNTBLANK(D75)=0),RANK(D75,D$3:D$101,0),\"\")","v":""},{"$f":"IF(AND(Registration!$E74=\"o\",COUNTBLANK(E75)=0),placingpoints(E75,COUNTIF(E$3:E$101,\"=\"&E75)),\"\")","v":""},{"$f":"IF(Registration!$E74=\"o\",Accuracy!L74,\"\")","v":""},{"$f":"IF(AND(Registration!$E74=\"o\",COUNTBLANK(G75)=0),RANK(G75,G$3:G$102,0),\"\")","v":""},{"$f":"IF(AND(Registration!$E74=\"o\",COUNTBLANK(H75)=0),placingpoints(H75,COUNTIF(H$3:H$102,\"=\"&H75)),\"\")","v":""},{"$f":"IF(Registration!$E74=\"o\",MTA!G74,\"\")","v":""},{"$f":"IF(AND(Registration!$E74=\"o\",COUNTBLANK(J75)=0),RANK(J75,J$3:J$101,0),\"\")","v":""},{"$f":"IF(AND(Registration!$E74=\"o\",COUNTBLANK(K75)=0),placingpoints(K75,COUNTIF(K$3:K$101,\"=\"&K75)),\"\")","v":""},{"$f":"IF(Registration!$E74=\"o\",'Trick Catch'!X75,\"\")","v":""},{"$f":"IF(AND(Registration!$E74=\"o\",COUNTBLANK(M75)=0),RANK(M75,M$3:M$101,0),\"\")","v":""},{"$f":"IF(AND(Registration!$E74=\"o\",COUNTBLANK(N75)=0),placingpoints(N75,COUNTIF(N$3:N$101,\"=\"&N75)),\"\")","v":""},{"$f":"IF(Registration!$E74=\"o\",'Fast Catch'!F74,\"\")","v":""},{"$f":"IF(AND(Registration!$E74=\"o\",COUNTBLANK(P75)=0),RANK(P75,P$3:P$101,1),\"\")","v":""},{"$f":"IF(AND(Registration!$E74=\"o\",COUNTBLANK(Q75)=0),placingpoints(Q75,COUNTIF(Q$3:Q$101,\"=\"&Q75)),\"\")","v":""},{"$f":"IF(Registration!$E74=\"o\",Endurance!C74,\"\")","v":""},{"$f":"IF(AND(Registration!$E74=\"o\",COUNTBLANK(S75)=0),RANK(S75,S$3:S$101,0),\"\")","v":""},{"$f":"IF(AND(Registration!$E74=\"o\",COUNTBLANK(T75)=0),placingpoints(T75,COUNTIF(T$3:T$101,\"=\"&T75)),\"\")","v":""}]
[{"$f":"IF(Registration!E75=\"o\",RANK(B76,$B$3:$B$101,1),\"\")","v":""},{"$f":"IF(Registration!E75=\"O\",SUM(F76,I76,L76,O76,R76,U76),\"\")","v":""},{"$f":"IF(COUNTBLANK(Registration!B75)=1,\"\",IF(Registration!E75=\"o\",Registration!B75,\"\"))","v":""},{"$f":"IF(Registration!E75=\"o\",'Aussie Round'!V76,\"\")","v":""},{"$f":"IF(AND(Registration!$E75=\"o\",COUNTBLANK(D76)=0),RANK(D76,D$3:D$101,0),\"\")","v":""},{"$f":"IF(AND(Registration!$E75=\"o\",COUNTBLANK(E76)=0),placingpoints(E76,COUNTIF(E$3:E$101,\"=\"&E76)),\"\")","v":""},{"$f":"IF(Registration!$E75=\"o\",Accuracy!L75,\"\")","v":""},{"$f":"IF(AND(Registration!$E75=\"o\",COUNTBLANK(G76)=0),RANK(G76,G$3:G$102,0),\"\")","v":""},{"$f":"IF(AND(Registration!$E75=\"o\",COUNTBLANK(H76)=0),placingpoints(H76,COUNTIF(H$3:H$102,\"=\"&H76)),\"\")","v":""},{"$f":"IF(Registration!$E75=\"o\",MTA!G75,\"\")","v":""},{"$f":"IF(AND(Registration!$E75=\"o\",COUNTBLANK(J76)=0),RANK(J76,J$3:J$101,0),\"\")","v":""},{"$f":"IF(AND(Registration!$E75=\"o\",COUNTBLANK(K76)=0),placingpoints(K76,COUNTIF(K$3:K$101,\"=\"&K76)),\"\")","v":""},{"$f":"IF(Registration!$E75=\"o\",'Trick Catch'!X76,\"\")","v":""},{"$f":"IF(AND(Registration!$E75=\"o\",COUNTBLANK(M76)=0),RANK(M76,M$3:M$101,0),\"\")","v":""},{"$f":"IF(AND(Registration!$E75=\"o\",COUNTBLANK(N76)=0),placingpoints(N76,COUNTIF(N$3:N$101,\"=\"&N76)),\"\")","v":""},{"$f":"IF(Registration!$E75=\"o\",'Fast Catch'!F75,\"\")","v":""},{"$f":"IF(AND(Registration!$E75=\"o\",COUNTBLANK(P76)=0),RANK(P76,P$3:P$101,1),\"\")","v":""},{"$f":"IF(AND(Registration!$E75=\"o\",COUNTBLANK(Q76)=0),placingpoints(Q76,COUNTIF(Q$3:Q$101,\"=\"&Q76)),\"\")","v":""},{"$f":"IF(Registration!$E75=\"o\",Endurance!C75,\"\")","v":""},{"$f":"IF(AND(Registration!$E75=\"o\",COUNTBLANK(S76)=0),RANK(S76,S$3:S$101,0),\"\")","v":""},{"$f":"IF(AND(Registration!$E75=\"o\",COUNTBLANK(T76)=0),placingpoints(T76,COUNTIF(T$3:T$101,\"=\"&T76)),\"\")","v":""}]
[{"$f":"IF(Registration!E76=\"o\",RANK(B77,$B$3:$B$101,1),\"\")","v":""},{"$f":"IF(Registration!E76=\"O\",SUM(F77,I77,L77,O77,R77,U77),\"\")","v":""},{"$f":"IF(COUNTBLANK(Registration!B76)=1,\"\",IF(Registration!E76=\"o\",Registration!B76,\"\"))","v":""},{"$f":"IF(Registration!E76=\"o\",'Aussie Round'!V77,\"\")","v":""},{"$f":"IF(AND(Registration!$E76=\"o\",COUNTBLANK(D77)=0),RANK(D77,D$3:D$101,0),\"\")","v":""},{"$f":"IF(AND(Registration!$E76=\"o\",COUNTBLANK(E77)=0),placingpoints(E77,COUNTIF(E$3:E$101,\"=\"&E77)),\"\")","v":""},{"$f":"IF(Registration!$E76=\"o\",Accuracy!L76,\"\")","v":""},{"$f":"IF(AND(Registration!$E76=\"o\",COUNTBLANK(G77)=0),RANK(G77,G$3:G$102,0),\"\")","v":""},{"$f":"IF(AND(Registration!$E76=\"o\",COUNTBLANK(H77)=0),placingpoints(H77,COUNTIF(H$3:H$102,\"=\"&H77)),\"\")","v":""},{"$f":"IF(Registration!$E76=\"o\",MTA!G76,\"\")","v":""},{"$f":"IF(AND(Registration!$E76=\"o\",COUNTBLANK(J77)=0),RANK(J77,J$3:J$101,0),\"\")","v":""},{"$f":"IF(AND(Registration!$E76=\"o\",COUNTBLANK(K77)=0),placingpoints(K77,COUNTIF(K$3:K$101,\"=\"&K77)),\"\")","v":""},{"$f":"IF(Registration!$E76=\"o\",'Trick Catch'!X77,\"\")","v":""},{"$f":"IF(AND(Registration!$E76=\"o\",COUNTBLANK(M77)=0),RANK(M77,M$3:M$101,0),\"\")","v":""},{"$f":"IF(AND(Registration!$E76=\"o\",COUNTBLANK(N77)=0),placingpoints(N77,COUNTIF(N$3:N$101,\"=\"&N77)),\"\")","v":""},{"$f":"IF(Registration!$E76=\"o\",'Fast Catch'!F76,\"\")","v":""},{"$f":"IF(AND(Registration!$E76=\"o\",COUNTBLANK(P77)=0),RANK(P77,P$3:P$101,1),\"\")","v":""},{"$f":"IF(AND(Registration!$E76=\"o\",COUNTBLANK(Q77)=0),placingpoints(Q77,COUNTIF(Q$3:Q$101,\"=\"&Q77)),\"\")","v":""},{"$f":"IF(Registration!$E76=\"o\",Endurance!C76,\"\")","v":""},{"$f":"IF(AND(Registration!$E76=\"o\",COUNTBLANK(S77)=0),RANK(S77,S$3:S$101,0),\"\")","v":""},{"$f":"IF(AND(Registration!$E76=\"o\",COUNTBLANK(T77)=0),placingpoints(T77,COUNTIF(T$3:T$101,\"=\"&T77)),\"\")","v":""}]
[{"$f":"IF(Registration!E77=\"o\",RANK(B78,$B$3:$B$101,1),\"\")","v":""},{"$f":"IF(Registration!E77=\"O\",SUM(F78,I78,L78,O78,R78,U78),\"\")","v":""},{"$f":"IF(COUNTBLANK(Registration!B77)=1,\"\",IF(Registration!E77=\"o\",Registration!B77,\"\"))","v":""},{"$f":"IF(Registration!E77=\"o\",'Aussie Round'!V78,\"\")","v":""},{"$f":"IF(AND(Registration!$E77=\"o\",COUNTBLANK(D78)=0),RANK(D78,D$3:D$101,0),\"\")","v":""},{"$f":"IF(AND(Registration!$E77=\"o\",COUNTBLANK(E78)=0),placingpoints(E78,COUNTIF(E$3:E$101,\"=\"&E78)),\"\")","v":""},{"$f":"IF(Registration!$E77=\"o\",Accuracy!L77,\"\")","v":""},{"$f":"IF(AND(Registration!$E77=\"o\",COUNTBLANK(G78)=0),RANK(G78,G$3:G$102,0),\"\")","v":""},{"$f":"IF(AND(Registration!$E77=\"o\",COUNTBLANK(H78)=0),placingpoints(H78,COUNTIF(H$3:H$102,\"=\"&H78)),\"\")","v":""},{"$f":"IF(Registration!$E77=\"o\",MTA!G77,\"\")","v":""},{"$f":"IF(AND(Registration!$E77=\"o\",COUNTBLANK(J78)=0),RANK(J78,J$3:J$101,0),\"\")","v":""},{"$f":"IF(AND(Registration!$E77=\"o\",COUNTBLANK(K78)=0),placingpoints(K78,COUNTIF(K$3:K$101,\"=\"&K78)),\"\")","v":""},{"$f":"IF(Registration!$E77=\"o\",'Trick Catch'!X78,\"\")","v":""},{"$f":"IF(AND(Registration!$E77=\"o\",COUNTBLANK(M78)=0),RANK(M78,M$3:M$101,0),\"\")","v":""},{"$f":"IF(AND(Registration!$E77=\"o\",COUNTBLANK(N78)=0),placingpoints(N78,COUNTIF(N$3:N$101,\"=\"&N78)),\"\")","v":""},{"$f":"IF(Registration!$E77=\"o\",'Fast Catch'!F77,\"\")","v":""},{"$f":"IF(AND(Registration!$E77=\"o\",COUNTBLANK(P78)=0),RANK(P78,P$3:P$101,1),\"\")","v":""},{"$f":"IF(AND(Registration!$E77=\"o\",COUNTBLANK(Q78)=0),placingpoints(Q78,COUNTIF(Q$3:Q$101,\"=\"&Q78)),\"\")","v":""},{"$f":"IF(Registration!$E77=\"o\",Endurance!C77,\"\")","v":""},{"$f":"IF(AND(Registration!$E77=\"o\",COUNTBLANK(S78)=0),RANK(S78,S$3:S$101,0),\"\")","v":""},{"$f":"IF(AND(Registration!$E77=\"o\",COUNTBLANK(T78)=0),placingpoints(T78,COUNTIF(T$3:T$101,\"=\"&T78)),\"\")","v":""}]
[{"$f":"IF(Registration!E78=\"o\",RANK(B79,$B$3:$B$101,1),\"\")","v":""},{"$f":"IF(Registration!E78=\"O\",SUM(F79,I79,L79,O79,R79,U79),\"\")","v":""},{"$f":"IF(COUNTBLANK(Registration!B78)=1,\"\",IF(Registration!E78=\"o\",Registration!B78,\"\"))","v":""},{"$f":"IF(Registration!E78=\"o\",'Aussie Round'!V79,\"\")","v":""},{"$f":"IF(AND(Registration!$E78=\"o\",COUNTBLANK(D79)=0),RANK(D79,D$3:D$101,0),\"\")","v":""},{"$f":"IF(AND(Registration!$E78=\"o\",COUNTBLANK(E79)=0),placingpoints(E79,COUNTIF(E$3:E$101,\"=\"&E79)),\"\")","v":""},{"$f":"IF(Registration!$E78=\"o\",Accuracy!L78,\"\")","v":""},{"$f":"IF(AND(Registration!$E78=\"o\",COUNTBLANK(G79)=0),RANK(G79,G$3:G$102,0),\"\")","v":""},{"$f":"IF(AND(Registration!$E78=\"o\",COUNTBLANK(H79)=0),placingpoints(H79,COUNTIF(H$3:H$102,\"=\"&H79)),\"\")","v":""},{"$f":"IF(Registration!$E78=\"o\",MTA!G78,\"\")","v":""},{"$f":"IF(AND(Registration!$E78=\"o\",COUNTBLANK(J79)=0),RANK(J79,J$3:J$101,0),\"\")","v":""},{"$f":"IF(AND(Registration!$E78=\"o\",COUNTBLANK(K79)=0),placingpoints(K79,COUNTIF(K$3:K$101,\"=\"&K79)),\"\")","v":""},{"$f":"IF(Registration!$E78=\"o\",'Trick Catch'!X79,\"\")","v":""},{"$f":"IF(AND(Registration!$E78=\"o\",COUNTBLANK(M79)=0),RANK(M79,M$3:M$101,0),\"\")","v":""},{"$f":"IF(AND(Registration!$E78=\"o\",COUNTBLANK(N79)=0),placingpoints(N79,COUNTIF(N$3:N$101,\"=\"&N79)),\"\")","v":""},{"$f":"IF(Registration!$E78=\"o\",'Fast Catch'!F78,\"\")","v":""},{"$f":"IF(AND(Registration!$E78=\"o\",COUNTBLANK(P79)=0),RANK(P79,P$3:P$101,1),\"\")","v":""},{"$f":"IF(AND(Registration!$E78=\"o\",COUNTBLANK(Q79)=0),placingpoints(Q79,COUNTIF(Q$3:Q$101,\"=\"&Q79)),\"\")","v":""},{"$f":"IF(Registration!$E78=\"o\",Endurance!C78,\"\")","v":""},{"$f":"IF(AND(Registration!$E78=\"o\",COUNTBLANK(S79)=0),RANK(S79,S$3:S$101,0),\"\")","v":""},{"$f":"IF(AND(Registration!$E78=\"o\",COUNTBLANK(T79)=0),placingpoints(T79,COUNTIF(T$3:T$101,\"=\"&T79)),\"\")","v":""}]
[{"$f":"IF(Registration!E79=\"o\",RANK(B80,$B$3:$B$101,1),\"\")","v":""},{"$f":"IF(Registration!E79=\"O\",SUM(F80,I80,L80,O80,R80,U80),\"\")","v":""},{"$f":"IF(COUNTBLANK(Registration!B79)=1,\"\",IF(Registration!E79=\"o\",Registration!B79,\"\"))","v":""},{"$f":"IF(Registration!E79=\"o\",'Aussie Round'!V80,\"\")","v":""},{"$f":"IF(AND(Registration!$E79=\"o\",COUNTBLANK(D80)=0),RANK(D80,D$3:D$101,0),\"\")","v":""},{"$f":"IF(AND(Registration!$E79=\"o\",COUNTBLANK(E80)=0),placingpoints(E80,COUNTIF(E$3:E$101,\"=\"&E80)),\"\")","v":""},{"$f":"IF(Registration!$E79=\"o\",Accuracy!L79,\"\")","v":""},{"$f":"IF(AND(Registration!$E79=\"o\",COUNTBLANK(G80)=0),RANK(G80,G$3:G$102,0),\"\")","v":""},{"$f":"IF(AND(Registration!$E79=\"o\",COUNTBLANK(H80)=0),placingpoints(H80,COUNTIF(H$3:H$102,\"=\"&H80)),\"\")","v":""},{"$f":"IF(Registration!$E79=\"o\",MTA!G79,\"\")","v":""},{"$f":"IF(AND(Registration!$E79=\"o\",COUNTBLANK(J80)=0),RANK(J80,J$3:J$101,0),\"\")","v":""},{"$f":"IF(AND(Registration!$E79=\"o\",COUNTBLANK(K80)=0),placingpoints(K80,COUNTIF(K$3:K$101,\"=\"&K80)),\"\")","v":""},{"$f":"IF(Registration!$E79=\"o\",'Trick Catch'!X80,\"\")","v":""},{"$f":"IF(AND(Registration!$E79=\"o\",COUNTBLANK(M80)=0),RANK(M80,M$3:M$101,0),\"\")","v":""},{"$f":"IF(AND(Registration!$E79=\"o\",COUNTBLANK(N80)=0),placingpoints(N80,COUNTIF(N$3:N$101,\"=\"&N80)),\"\")","v":""},{"$f":"IF(Registration!$E79=\"o\",'Fast Catch'!F79,\"\")","v":""},{"$f":"IF(AND(Registration!$E79=\"o\",COUNTBLANK(P80)=0),RANK(P80,P$3:P$101,1),\"\")","v":""},{"$f":"IF(AND(Registration!$E79=\"o\",COUNTBLANK(Q80)=0),placingpoints(Q80,COUNTIF(Q$3:Q$101,\"=\"&Q80)),\"\")","v":""},{"$f":"IF(Registration!$E79=\"o\",Endurance!C79,\"\")","v":""},{"$f":"IF(AND(Registration!$E79=\"o\",COUNTBLANK(S80)=0),RANK(S80,S$3:S$101,0),\"\")","v":""},{"$f":"IF(AND(Registration!$E79=\"o\",COUNTBLANK(T80)=0),placingpoints(T80,COUNTIF(T$3:T$101,\"=\"&T80)),\"\")","v":""}]
[{"$f":"IF(Registration!E80=\"o\",RANK(B81,$B$3:$B$101,1),\"\")","v":""},{"$f":"IF(Registration!E80=\"O\",SUM(F81,I81,L81,O81,R81,U81),\"\")","v":""},{"$f":"IF(COUNTBLANK(Registration!B80)=1,\"\",IF(Registration!E80=\"o\",Registration!B80,\"\"))","v":""},{"$f":"IF(Registration!E80=\"o\",'Aussie Round'!V81,\"\")","v":""},{"$f":"IF(AND(Registration!$E80=\"o\",COUNTBLANK(D81)=0),RANK(D81,D$3:D$101,0),\"\")","v":""},{"$f":"IF(AND(Registration!$E80=\"o\",COUNTBLANK(E81)=0),placingpoints(E81,COUNTIF(E$3:E$101,\"=\"&E81)),\"\")","v":""},{"$f":"IF(Registration!$E80=\"o\",Accuracy!L80,\"\")","v":""},{"$f":"IF(AND(Registration!$E80=\"o\",COUNTBLANK(G81)=0),RANK(G81,G$3:G$102,0),\"\")","v":""},{"$f":"IF(AND(Registration!$E80=\"o\",COUNTBLANK(H81)=0),placingpoints(H81,COUNTIF(H$3:H$102,\"=\"&H81)),\"\")","v":""},{"$f":"IF(Registration!$E80=\"o\",MTA!G80,\"\")","v":""},{"$f":"IF(AND(Registration!$E80=\"o\",COUNTBLANK(J81)=0),RANK(J81,J$3:J$101,0),\"\")","v":""},{"$f":"IF(AND(Registration!$E80=\"o\",COUNTBLANK(K81)=0),placingpoints(K81,COUNTIF(K$3:K$101,\"=\"&K81)),\"\")","v":""},{"$f":"IF(Registration!$E80=\"o\",'Trick Catch'!X81,\"\")","v":""},{"$f":"IF(AND(Registration!$E80=\"o\",COUNTBLANK(M81)=0),RANK(M81,M$3:M$101,0),\"\")","v":""},{"$f":"IF(AND(Registration!$E80=\"o\",COUNTBLANK(N81)=0),placingpoints(N81,COUNTIF(N$3:N$101,\"=\"&N81)),\"\")","v":""},{"$f":"IF(Registration!$E80=\"o\",'Fast Catch'!F80,\"\")","v":""},{"$f":"IF(AND(Registration!$E80=\"o\",COUNTBLANK(P81)=0),RANK(P81,P$3:P$101,1),\"\")","v":""},{"$f":"IF(AND(Registration!$E80=\"o\",COUNTBLANK(Q81)=0),placingpoints(Q81,COUNTIF(Q$3:Q$101,\"=\"&Q81)),\"\")","v":""},{"$f":"IF(Registration!$E80=\"o\",Endurance!C80,\"\")","v":""},{"$f":"IF(AND(Registration!$E80=\"o\",COUNTBLANK(S81)=0),RANK(S81,S$3:S$101,0),\"\")","v":""},{"$f":"IF(AND(Registration!$E80=\"o\",COUNTBLANK(T81)=0),placingpoints(T81,COUNTIF(T$3:T$101,\"=\"&T81)),\"\")","v":""}]
[{"$f":"IF(Registration!E81=\"o\",RANK(B82,$B$3:$B$101,1),\"\")","v":""},{"$f":"IF(Registration!E81=\"O\",SUM(F82,I82,L82,O82,R82,U82),\"\")","v":""},{"$f":"IF(COUNTBLANK(Registration!B81)=1,\"\",IF(Registration!E81=\"o\",Registration!B81,\"\"))","v":""},{"$f":"IF(Registration!E81=\"o\",'Aussie Round'!V82,\"\")","v":""},{"$f":"IF(AND(Registration!$E81=\"o\",COUNTBLANK(D82)=0),RANK(D82,D$3:D$101,0),\"\")","v":""},{"$f":"IF(AND(Registration!$E81=\"o\",COUNTBLANK(E82)=0),placingpoints(E82,COUNTIF(E$3:E$101,\"=\"&E82)),\"\")","v":""},{"$f":"IF(Registration!$E81=\"o\",Accuracy!L81,\"\")","v":""},{"$f":"IF(AND(Registration!$E81=\"o\",COUNTBLANK(G82)=0),RANK(G82,G$3:G$102,0),\"\")","v":""},{"$f":"IF(AND(Registration!$E81=\"o\",COUNTBLANK(H82)=0),placingpoints(H82,COUNTIF(H$3:H$102,\"=\"&H82)),\"\")","v":""},{"$f":"IF(Registration!$E81=\"o\",MTA!G81,\"\")","v":""},{"$f":"IF(AND(Registration!$E81=\"o\",COUNTBLANK(J82)=0),RANK(J82,J$3:J$101,0),\"\")","v":""},{"$f":"IF(AND(Registration!$E81=\"o\",COUNTBLANK(K82)=0),placingpoints(K82,COUNTIF(K$3:K$101,\"=\"&K82)),\"\")","v":""},{"$f":"IF(Registration!$E81=\"o\",'Trick Catch'!X82,\"\")","v":""},{"$f":"IF(AND(Registration!$E81=\"o\",COUNTBLANK(M82)=0),RANK(M82,M$3:M$101,0),\"\")","v":""},{"$f":"IF(AND(Registration!$E81=\"o\",COUNTBLANK(N82)=0),placingpoints(N82,COUNTIF(N$3:N$101,\"=\"&N82)),\"\")","v":""},{"$f":"IF(Registration!$E81=\"o\",'Fast Catch'!F81,\"\")","v":""},{"$f":"IF(AND(Registration!$E81=\"o\",COUNTBLANK(P82)=0),RANK(P82,P$3:P$101,1),\"\")","v":""},{"$f":"IF(AND(Registration!$E81=\"o\",COUNTBLANK(Q82)=0),placingpoints(Q82,COUNTIF(Q$3:Q$101,\"=\"&Q82)),\"\")","v":""},{"$f":"IF(Registration!$E81=\"o\",Endurance!C81,\"\")","v":""},{"$f":"IF(AND(Registration!$E81=\"o\",COUNTBLANK(S82)=0),RANK(S82,S$3:S$101,0),\"\")","v":""},{"$f":"IF(AND(Registration!$E81=\"o\",COUNTBLANK(T82)=0),placingpoints(T82,COUNTIF(T$3:T$101,\"=\"&T82)),\"\")","v":""}]
[{"$f":"IF(Registration!E82=\"o\",RANK(B83,$B$3:$B$101,1),\"\")","v":""},{"$f":"IF(Registration!E82=\"O\",SUM(F83,I83,L83,O83,R83,U83),\"\")","v":""},{"$f":"IF(COUNTBLANK(Registration!B82)=1,\"\",IF(Registration!E82=\"o\",Registration!B82,\"\"))","v":""},{"$f":"IF(Registration!E82=\"o\",'Aussie Round'!V83,\"\")","v":""},{"$f":"IF(AND(Registration!$E82=\"o\",COUNTBLANK(D83)=0),RANK(D83,D$3:D$101,0),\"\")","v":""},{"$f":"IF(AND(Registration!$E82=\"o\",COUNTBLANK(E83)=0),placingpoints(E83,COUNTIF(E$3:E$101,\"=\"&E83)),\"\")","v":""},{"$f":"IF(Registration!$E82=\"o\",Accuracy!L82,\"\")","v":""},{"$f":"IF(AND(Registration!$E82=\"o\",COUNTBLANK(G83)=0),RANK(G83,G$3:G$102,0),\"\")","v":""},{"$f":"IF(AND(Registration!$E82=\"o\",COUNTBLANK(H83)=0),placingpoints(H83,COUNTIF(H$3:H$102,\"=\"&H83)),\"\")","v":""},{"$f":"IF(Registration!$E82=\"o\",MTA!G82,\"\")","v":""},{"$f":"IF(AND(Registration!$E82=\"o\",COUNTBLANK(J83)=0),RANK(J83,J$3:J$101,0),\"\")","v":""},{"$f":"IF(AND(Registration!$E82=\"o\",COUNTBLANK(K83)=0),placingpoints(K83,COUNTIF(K$3:K$101,\"=\"&K83)),\"\")","v":""},{"$f":"IF(Registration!$E82=\"o\",'Trick Catch'!X83,\"\")","v":""},{"$f":"IF(AND(Registration!$E82=\"o\",COUNTBLANK(M83)=0),RANK(M83,M$3:M$101,0),\"\")","v":""},{"$f":"IF(AND(Registration!$E82=\"o\",COUNTBLANK(N83)=0),placingpoints(N83,COUNTIF(N$3:N$101,\"=\"&N83)),\"\")","v":""},{"$f":"IF(Registration!$E82=\"o\",'Fast Catch'!F82,\"\")","v":""},{"$f":"IF(AND(Registration!$E82=\"o\",COUNTBLANK(P83)=0),RANK(P83,P$3:P$101,1),\"\")","v":""},{"$f":"IF(AND(Registration!$E82=\"o\",COUNTBLANK(Q83)=0),placingpoints(Q83,COUNTIF(Q$3:Q$101,\"=\"&Q83)),\"\")","v":""},{"$f":"IF(Registration!$E82=\"o\",Endurance!C82,\"\")","v":""},{"$f":"IF(AND(Registration!$E82=\"o\",COUNTBLANK(S83)=0),RANK(S83,S$3:S$101,0),\"\")","v":""},{"$f":"IF(AND(Registration!$E82=\"o\",COUNTBLANK(T83)=0),placingpoints(T83,COUNTIF(T$3:T$101,\"=\"&T83)),\"\")","v":""}]
[{"$f":"IF(Registration!E83=\"o\",RANK(B84,$B$3:$B$101,1),\"\")","v":""},{"$f":"IF(Registration!E83=\"O\",SUM(F84,I84,L84,O84,R84,U84),\"\")","v":""},{"$f":"IF(COUNTBLANK(Registration!B83)=1,\"\",IF(Registration!E83=\"o\",Registration!B83,\"\"))","v":""},{"$f":"IF(Registration!E83=\"o\",'Aussie Round'!V84,\"\")","v":""},{"$f":"IF(AND(Registration!$E83=\"o\",COUNTBLANK(D84)=0),RANK(D84,D$3:D$101,0),\"\")","v":""},{"$f":"IF(AND(Registration!$E83=\"o\",COUNTBLANK(E84)=0),placingpoints(E84,COUNTIF(E$3:E$101,\"=\"&E84)),\"\")","v":""},{"$f":"IF(Registration!$E83=\"o\",Accuracy!L83,\"\")","v":""},{"$f":"IF(AND(Registration!$E83=\"o\",COUNTBLANK(G84)=0),RANK(G84,G$3:G$102,0),\"\")","v":""},{"$f":"IF(AND(Registration!$E83=\"o\",COUNTBLANK(H84)=0),placingpoints(H84,COUNTIF(H$3:H$102,\"=\"&H84)),\"\")","v":""},{"$f":"IF(Registration!$E83=\"o\",MTA!G83,\"\")","v":""},{"$f":"IF(AND(Registration!$E83=\"o\",COUNTBLANK(J84)=0),RANK(J84,J$3:J$101,0),\"\")","v":""},{"$f":"IF(AND(Registration!$E83=\"o\",COUNTBLANK(K84)=0),placingpoints(K84,COUNTIF(K$3:K$101,\"=\"&K84)),\"\")","v":""},{"$f":"IF(Registration!$E83=\"o\",'Trick Catch'!X84,\"\")","v":""},{"$f":"IF(AND(Registration!$E83=\"o\",COUNTBLANK(M84)=0),RANK(M84,M$3:M$101,0),\"\")","v":""},{"$f":"IF(AND(Registration!$E83=\"o\",COUNTBLANK(N84)=0),placingpoints(N84,COUNTIF(N$3:N$101,\"=\"&N84)),\"\")","v":""},{"$f":"IF(Registration!$E83=\"o\",'Fast Catch'!F83,\"\")","v":""},{"$f":"IF(AND(Registration!$E83=\"o\",COUNTBLANK(P84)=0),RANK(P84,P$3:P$101,1),\"\")","v":""},{"$f":"IF(AND(Registration!$E83=\"o\",COUNTBLANK(Q84)=0),placingpoints(Q84,COUNTIF(Q$3:Q$101,\"=\"&Q84)),\"\")","v":""},{"$f":"IF(Registration!$E83=\"o\",Endurance!C83,\"\")","v":""},{"$f":"IF(AND(Registration!$E83=\"o\",COUNTBLANK(S84)=0),RANK(S84,S$3:S$101,0),\"\")","v":""},{"$f":"IF(AND(Registration!$E83=\"o\",COUNTBLANK(T84)=0),placingpoints(T84,COUNTIF(T$3:T$101,\"=\"&T84)),\"\")","v":""}]
[{"$f":"IF(Registration!E84=\"o\",RANK(B85,$B$3:$B$101,1),\"\")","v":""},{"$f":"IF(Registration!E84=\"O\",SUM(F85,I85,L85,O85,R85,U85),\"\")","v":""},{"$f":"IF(COUNTBLANK(Registration!B84)=1,\"\",IF(Registration!E84=\"o\",Registration!B84,\"\"))","v":""},{"$f":"IF(Registration!E84=\"o\",'Aussie Round'!V85,\"\")","v":""},{"$f":"IF(AND(Registration!$E84=\"o\",COUNTBLANK(D85)=0),RANK(D85,D$3:D$101,0),\"\")","v":""},{"$f":"IF(AND(Registration!$E84=\"o\",COUNTBLANK(E85)=0),placingpoints(E85,COUNTIF(E$3:E$101,\"=\"&E85)),\"\")","v":""},{"$f":"IF(Registration!$E84=\"o\",Accuracy!L84,\"\")","v":""},{"$f":"IF(AND(Registration!$E84=\"o\",COUNTBLANK(G85)=0),RANK(G85,G$3:G$102,0),\"\")","v":""},{"$f":"IF(AND(Registration!$E84=\"o\",COUNTBLANK(H85)=0),placingpoints(H85,COUNTIF(H$3:H$102,\"=\"&H85)),\"\")","v":""},{"$f":"IF(Registration!$E84=\"o\",MTA!G84,\"\")","v":""},{"$f":"IF(AND(Registration!$E84=\"o\",COUNTBLANK(J85)=0),RANK(J85,J$3:J$101,0),\"\")","v":""},{"$f":"IF(AND(Registration!$E84=\"o\",COUNTBLANK(K85)=0),placingpoints(K85,COUNTIF(K$3:K$101,\"=\"&K85)),\"\")","v":""},{"$f":"IF(Registration!$E84=\"o\",'Trick Catch'!X85,\"\")","v":""},{"$f":"IF(AND(Registration!$E84=\"o\",COUNTBLANK(M85)=0),RANK(M85,M$3:M$101,0),\"\")","v":""},{"$f":"IF(AND(Registration!$E84=\"o\",COUNTBLANK(N85)=0),placingpoints(N85,COUNTIF(N$3:N$101,\"=\"&N85)),\"\")","v":""},{"$f":"IF(Registration!$E84=\"o\",'Fast Catch'!F84,\"\")","v":""},{"$f":"IF(AND(Registration!$E84=\"o\",COUNTBLANK(P85)=0),RANK(P85,P$3:P$101,1),\"\")","v":""},{"$f":"IF(AND(Registration!$E84=\"o\",COUNTBLANK(Q85)=0),placingpoints(Q85,COUNTIF(Q$3:Q$101,\"=\"&Q85)),\"\")","v":""},{"$f":"IF(Registration!$E84=\"o\",Endurance!C84,\"\")","v":""},{"$f":"IF(AND(Registration!$E84=\"o\",COUNTBLANK(S85)=0),RANK(S85,S$3:S$101,0),\"\")","v":""},{"$f":"IF(AND(Registration!$E84=\"o\",COUNTBLANK(T85)=0),placingpoints(T85,COUNTIF(T$3:T$101,\"=\"&T85)),\"\")","v":""}]
[{"$f":"IF(Registration!E85=\"o\",RANK(B86,$B$3:$B$101,1),\"\")","v":""},{"$f":"IF(Registration!E85=\"O\",SUM(F86,I86,L86,O86,R86,U86),\"\")","v":""},{"$f":"IF(COUNTBLANK(Registration!B85)=1,\"\",IF(Registration!E85=\"o\",Registration!B85,\"\"))","v":""},{"$f":"IF(Registration!E85=\"o\",'Aussie Round'!V86,\"\")","v":""},{"$f":"IF(AND(Registration!$E85=\"o\",COUNTBLANK(D86)=0),RANK(D86,D$3:D$101,0),\"\")","v":""},{"$f":"IF(AND(Registration!$E85=\"o\",COUNTBLANK(E86)=0),placingpoints(E86,COUNTIF(E$3:E$101,\"=\"&E86)),\"\")","v":""},{"$f":"IF(Registration!$E85=\"o\",Accuracy!L85,\"\")","v":""},{"$f":"IF(AND(Registration!$E85=\"o\",COUNTBLANK(G86)=0),RANK(G86,G$3:G$102,0),\"\")","v":""},{"$f":"IF(AND(Registration!$E85=\"o\",COUNTBLANK(H86)=0),placingpoints(H86,COUNTIF(H$3:H$102,\"=\"&H86)),\"\")","v":""},{"$f":"IF(Registration!$E85=\"o\",MTA!G85,\"\")","v":""},{"$f":"IF(AND(Registration!$E85=\"o\",COUNTBLANK(J86)=0),RANK(J86,J$3:J$101,0),\"\")","v":""},{"$f":"IF(AND(Registration!$E85=\"o\",COUNTBLANK(K86)=0),placingpoints(K86,COUNTIF(K$3:K$101,\"=\"&K86)),\"\")","v":""},{"$f":"IF(Registration!$E85=\"o\",'Trick Catch'!X86,\"\")","v":""},{"$f":"IF(AND(Registration!$E85=\"o\",COUNTBLANK(M86)=0),RANK(M86,M$3:M$101,0),\"\")","v":""},{"$f":"IF(AND(Registration!$E85=\"o\",COUNTBLANK(N86)=0),placingpoints(N86,COUNTIF(N$3:N$101,\"=\"&N86)),\"\")","v":""},{"$f":"IF(Registration!$E85=\"o\",'Fast Catch'!F85,\"\")","v":""},{"$f":"IF(AND(Registration!$E85=\"o\",COUNTBLANK(P86)=0),RANK(P86,P$3:P$101,1),\"\")","v":""},{"$f":"IF(AND(Registration!$E85=\"o\",COUNTBLANK(Q86)=0),placingpoints(Q86,COUNTIF(Q$3:Q$101,\"=\"&Q86)),\"\")","v":""},{"$f":"IF(Registration!$E85=\"o\",Endurance!C85,\"\")","v":""},{"$f":"IF(AND(Registration!$E85=\"o\",COUNTBLANK(S86)=0),RANK(S86,S$3:S$101,0),\"\")","v":""},{"$f":"IF(AND(Registration!$E85=\"o\",COUNTBLANK(T86)=0),placingpoints(T86,COUNTIF(T$3:T$101,\"=\"&T86)),\"\")","v":""}]
[{"$f":"IF(Registration!E86=\"o\",RANK(B87,$B$3:$B$101,1),\"\")","v":""},{"$f":"IF(Registration!E86=\"O\",SUM(F87,I87,L87,O87,R87,U87),\"\")","v":""},{"$f":"IF(COUNTBLANK(Registration!B86)=1,\"\",IF(Registration!E86=\"o\",Registration!B86,\"\"))","v":""},{"$f":"IF(Registration!E86=\"o\",'Aussie Round'!V87,\"\")","v":""},{"$f":"IF(AND(Registration!$E86=\"o\",COUNTBLANK(D87)=0),RANK(D87,D$3:D$101,0),\"\")","v":""},{"$f":"IF(AND(Registration!$E86=\"o\",COUNTBLANK(E87)=0),placingpoints(E87,COUNTIF(E$3:E$101,\"=\"&E87)),\"\")","v":""},{"$f":"IF(Registration!$E86=\"o\",Accuracy!L86,\"\")","v":""},{"$f":"IF(AND(Registration!$E86=\"o\",COUNTBLANK(G87)=0),RANK(G87,G$3:G$102,0),\"\")","v":""},{"$f":"IF(AND(Registration!$E86=\"o\",COUNTBLANK(H87)=0),placingpoints(H87,COUNTIF(H$3:H$102,\"=\"&H87)),\"\")","v":""},{"$f":"IF(Registration!$E86=\"o\",MTA!G86,\"\")","v":""},{"$f":"IF(AND(Registration!$E86=\"o\",COUNTBLANK(J87)=0),RANK(J87,J$3:J$101,0),\"\")","v":""},{"$f":"IF(AND(Registration!$E86=\"o\",COUNTBLANK(K87)=0),placingpoints(K87,COUNTIF(K$3:K$101,\"=\"&K87)),\"\")","v":""},{"$f":"IF(Registration!$E86=\"o\",'Trick Catch'!X87,\"\")","v":""},{"$f":"IF(AND(Registration!$E86=\"o\",COUNTBLANK(M87)=0),RANK(M87,M$3:M$101,0),\"\")","v":""},{"$f":"IF(AND(Registration!$E86=\"o\",COUNTBLANK(N87)=0),placingpoints(N87,COUNTIF(N$3:N$101,\"=\"&N87)),\"\")","v":""},{"$f":"IF(Registration!$E86=\"o\",'Fast Catch'!F86,\"\")","v":""},{"$f":"IF(AND(Registration!$E86=\"o\",COUNTBLANK(P87)=0),RANK(P87,P$3:P$101,1),\"\")","v":""},{"$f":"IF(AND(Registration!$E86=\"o\",COUNTBLANK(Q87)=0),placingpoints(Q87,COUNTIF(Q$3:Q$101,\"=\"&Q87)),\"\")","v":""},{"$f":"IF(Registration!$E86=\"o\",Endurance!C86,\"\")","v":""},{"$f":"IF(AND(Registration!$E86=\"o\",COUNTBLANK(S87)=0),RANK(S87,S$3:S$101,0),\"\")","v":""},{"$f":"IF(AND(Registration!$E86=\"o\",COUNTBLANK(T87)=0),placingpoints(T87,COUNTIF(T$3:T$101,\"=\"&T87)),\"\")","v":""}]
[{"$f":"IF(Registration!E87=\"o\",RANK(B88,$B$3:$B$101,1),\"\")","v":""},{"$f":"IF(Registration!E87=\"O\",SUM(F88,I88,L88,O88,R88,U88),\"\")","v":""},{"$f":"IF(COUNTBLANK(Registration!B87)=1,\"\",IF(Registration!E87=\"o\",Registration!B87,\"\"))","v":""},{"$f":"IF(Registration!E87=\"o\",'Aussie Round'!V88,\"\")","v":""},{"$f":"IF(AND(Registration!$E87=\"o\",COUNTBLANK(D88)=0),RANK(D88,D$3:D$101,0),\"\")","v":""},{"$f":"IF(AND(Registration!$E87=\"o\",COUNTBLANK(E88)=0),placingpoints(E88,COUNTIF(E$3:E$101,\"=\"&E88)),\"\")","v":""},{"$f":"IF(Registration!$E87=\"o\",Accuracy!L87,\"\")","v":""},{"$f":"IF(AND(Registration!$E87=\"o\",COUNTBLANK(G88)=0),RANK(G88,G$3:G$102,0),\"\")","v":""},{"$f":"IF(AND(Registration!$E87=\"o\",COUNTBLANK(H88)=0),placingpoints(H88,COUNTIF(H$3:H$102,\"=\"&H88)),\"\")","v":""},{"$f":"IF(Registration!$E87=\"o\",MTA!G87,\"\")","v":""},{"$f":"IF(AND(Registration!$E87=\"o\",COUNTBLANK(J88)=0),RANK(J88,J$3:J$101,0),\"\")","v":""},{"$f":"IF(AND(Registration!$E87=\"o\",COUNTBLANK(K88)=0),placingpoints(K88,COUNTIF(K$3:K$101,\"=\"&K88)),\"\")","v":""},{"$f":"IF(Registration!$E87=\"o\",'Trick Catch'!X88,\"\")","v":""},{"$f":"IF(AND(Registration!$E87=\"o\",COUNTBLANK(M88)=0),RANK(M88,M$3:M$101,0),\"\")","v":""},{"$f":"IF(AND(Registration!$E87=\"o\",COUNTBLANK(N88)=0),placingpoints(N88,COUNTIF(N$3:N$101,\"=\"&N88)),\"\")","v":""},{"$f":"IF(Registration!$E87=\"o\",'Fast Catch'!F87,\"\")","v":""},{"$f":"IF(AND(Registration!$E87=\"o\",COUNTBLANK(P88)=0),RANK(P88,P$3:P$101,1),\"\")","v":""},{"$f":"IF(AND(Registration!$E87=\"o\",COUNTBLANK(Q88)=0),placingpoints(Q88,COUNTIF(Q$3:Q$101,\"=\"&Q88)),\"\")","v":""},{"$f":"IF(Registration!$E87=\"o\",Endurance!C87,\"\")","v":""},{"$f":"IF(AND(Registration!$E87=\"o\",COUNTBLANK(S88)=0),RANK(S88,S$3:S$101,0),\"\")","v":""},{"$f":"IF(AND(Registration!$E87=\"o\",COUNTBLANK(T88)=0),placingpoints(T88,COUNTIF(T$3:T$101,\"=\"&T88)),\"\")","v":""}]
[{"$f":"IF(Registration!E88=\"o\",RANK(B89,$B$3:$B$101,1),\"\")","v":""},{"$f":"IF(Registration!E88=\"O\",SUM(F89,I89,L89,O89,R89,U89),\"\")","v":""},{"$f":"IF(COUNTBLANK(Registration!B88)=1,\"\",IF(Registration!E88=\"o\",Registration!B88,\"\"))","v":""},{"$f":"IF(Registration!E88=\"o\",'Aussie Round'!V89,\"\")","v":""},{"$f":"IF(AND(Registration!$E88=\"o\",COUNTBLANK(D89)=0),RANK(D89,D$3:D$101,0),\"\")","v":""},{"$f":"IF(AND(Registration!$E88=\"o\",COUNTBLANK(E89)=0),placingpoints(E89,COUNTIF(E$3:E$101,\"=\"&E89)),\"\")","v":""},{"$f":"IF(Registration!$E88=\"o\",Accuracy!L88,\"\")","v":""},{"$f":"IF(AND(Registration!$E88=\"o\",COUNTBLANK(G89)=0),RANK(G89,G$3:G$102,0),\"\")","v":""},{"$f":"IF(AND(Registration!$E88=\"o\",COUNTBLANK(H89)=0),placingpoints(H89,COUNTIF(H$3:H$102,\"=\"&H89)),\"\")","v":""},{"$f":"IF(Registration!$E88=\"o\",MTA!G88,\"\")","v":""},{"$f":"IF(AND(Registration!$E88=\"o\",COUNTBLANK(J89)=0),RANK(J89,J$3:J$101,0),\"\")","v":""},{"$f":"IF(AND(Registration!$E88=\"o\",COUNTBLANK(K89)=0),placingpoints(K89,COUNTIF(K$3:K$101,\"=\"&K89)),\"\")","v":""},{"$f":"IF(Registration!$E88=\"o\",'Trick Catch'!X89,\"\")","v":""},{"$f":"IF(AND(Registration!$E88=\"o\",COUNTBLANK(M89)=0),RANK(M89,M$3:M$101,0),\"\")","v":""},{"$f":"IF(AND(Registration!$E88=\"o\",COUNTBLANK(N89)=0),placingpoints(N89,COUNTIF(N$3:N$101,\"=\"&N89)),\"\")","v":""},{"$f":"IF(Registration!$E88=\"o\",'Fast Catch'!F88,\"\")","v":""},{"$f":"IF(AND(Registration!$E88=\"o\",COUNTBLANK(P89)=0),RANK(P89,P$3:P$101,1),\"\")","v":""},{"$f":"IF(AND(Registration!$E88=\"o\",COUNTBLANK(Q89)=0),placingpoints(Q89,COUNTIF(Q$3:Q$101,\"=\"&Q89)),\"\")","v":""},{"$f":"IF(Registration!$E88=\"o\",Endurance!C88,\"\")","v":""},{"$f":"IF(AND(Registration!$E88=\"o\",COUNTBLANK(S89)=0),RANK(S89,S$3:S$101,0),\"\")","v":""},{"$f":"IF(AND(Registration!$E88=\"o\",COUNTBLANK(T89)=0),placingpoints(T89,COUNTIF(T$3:T$101,\"=\"&T89)),\"\")","v":""}]
[{"$f":"IF(Registration!E89=\"o\",RANK(B90,$B$3:$B$101,1),\"\")","v":""},{"$f":"IF(Registration!E89=\"O\",SUM(F90,I90,L90,O90,R90,U90),\"\")","v":""},{"$f":"IF(COUNTBLANK(Registration!B89)=1,\"\",IF(Registration!E89=\"o\",Registration!B89,\"\"))","v":""},{"$f":"IF(Registration!E89=\"o\",'Aussie Round'!V90,\"\")","v":""},{"$f":"IF(AND(Registration!$E89=\"o\",COUNTBLANK(D90)=0),RANK(D90,D$3:D$101,0),\"\")","v":""},{"$f":"IF(AND(Registration!$E89=\"o\",COUNTBLANK(E90)=0),placingpoints(E90,COUNTIF(E$3:E$101,\"=\"&E90)),\"\")","v":""},{"$f":"IF(Registration!$E89=\"o\",Accuracy!L89,\"\")","v":""},{"$f":"IF(AND(Registration!$E89=\"o\",COUNTBLANK(G90)=0),RANK(G90,G$3:G$102,0),\"\")","v":""},{"$f":"IF(AND(Registration!$E89=\"o\",COUNTBLANK(H90)=0),placingpoints(H90,COUNTIF(H$3:H$102,\"=\"&H90)),\"\")","v":""},{"$f":"IF(Registration!$E89=\"o\",MTA!G89,\"\")","v":""},{"$f":"IF(AND(Registration!$E89=\"o\",COUNTBLANK(J90)=0),RANK(J90,J$3:J$101,0),\"\")","v":""},{"$f":"IF(AND(Registration!$E89=\"o\",COUNTBLANK(K90)=0),placingpoints(K90,COUNTIF(K$3:K$101,\"=\"&K90)),\"\")","v":""},{"$f":"IF(Registration!$E89=\"o\",'Trick Catch'!X90,\"\")","v":""},{"$f":"IF(AND(Registration!$E89=\"o\",COUNTBLANK(M90)=0),RANK(M90,M$3:M$101,0),\"\")","v":""},{"$f":"IF(AND(Registration!$E89=\"o\",COUNTBLANK(N90)=0),placingpoints(N90,COUNTIF(N$3:N$101,\"=\"&N90)),\"\")","v":""},{"$f":"IF(Registration!$E89=\"o\",'Fast Catch'!F89,\"\")","v":""},{"$f":"IF(AND(Registration!$E89=\"o\",COUNTBLANK(P90)=0),RANK(P90,P$3:P$101,1),\"\")","v":""},{"$f":"IF(AND(Registration!$E89=\"o\",COUNTBLANK(Q90)=0),placingpoints(Q90,COUNTIF(Q$3:Q$101,\"=\"&Q90)),\"\")","v":""},{"$f":"IF(Registration!$E89=\"o\",Endurance!C89,\"\")","v":""},{"$f":"IF(AND(Registration!$E89=\"o\",COUNTBLANK(S90)=0),RANK(S90,S$3:S$101,0),\"\")","v":""},{"$f":"IF(AND(Registration!$E89=\"o\",COUNTBLANK(T90)=0),placingpoints(T90,COUNTIF(T$3:T$101,\"=\"&T90)),\"\")","v":""}]
[{"$f":"IF(Registration!E90=\"o\",RANK(B91,$B$3:$B$101,1),\"\")","v":""},{"$f":"IF(Registration!E90=\"O\",SUM(F91,I91,L91,O91,R91,U91),\"\")","v":""},{"$f":"IF(COUNTBLANK(Registration!B90)=1,\"\",IF(Registration!E90=\"o\",Registration!B90,\"\"))","v":""},{"$f":"IF(Registration!E90=\"o\",'Aussie Round'!V91,\"\")","v":""},{"$f":"IF(AND(Registration!$E90=\"o\",COUNTBLANK(D91)=0),RANK(D91,D$3:D$101,0),\"\")","v":""},{"$f":"IF(AND(Registration!$E90=\"o\",COUNTBLANK(E91)=0),placingpoints(E91,COUNTIF(E$3:E$101,\"=\"&E91)),\"\")","v":""},{"$f":"IF(Registration!$E90=\"o\",Accuracy!L90,\"\")","v":""},{"$f":"IF(AND(Registration!$E90=\"o\",COUNTBLANK(G91)=0),RANK(G91,G$3:G$102,0),\"\")","v":""},{"$f":"IF(AND(Registration!$E90=\"o\",COUNTBLANK(H91)=0),placingpoints(H91,COUNTIF(H$3:H$102,\"=\"&H91)),\"\")","v":""},{"$f":"IF(Registration!$E90=\"o\",MTA!G90,\"\")","v":""},{"$f":"IF(AND(Registration!$E90=\"o\",COUNTBLANK(J91)=0),RANK(J91,J$3:J$101,0),\"\")","v":""},{"$f":"IF(AND(Registration!$E90=\"o\",COUNTBLANK(K91)=0),placingpoints(K91,COUNTIF(K$3:K$101,\"=\"&K91)),\"\")","v":""},{"$f":"IF(Registration!$E90=\"o\",'Trick Catch'!X91,\"\")","v":""},{"$f":"IF(AND(Registration!$E90=\"o\",COUNTBLANK(M91)=0),RANK(M91,M$3:M$101,0),\"\")","v":""},{"$f":"IF(AND(Registration!$E90=\"o\",COUNTBLANK(N91)=0),placingpoints(N91,COUNTIF(N$3:N$101,\"=\"&N91)),\"\")","v":""},{"$f":"IF(Registration!$E90=\"o\",'Fast Catch'!F90,\"\")","v":""},{"$f":"IF(AND(Registration!$E90=\"o\",COUNTBLANK(P91)=0),RANK(P91,P$3:P$101,1),\"\")","v":""},{"$f":"IF(AND(Registration!$E90=\"o\",COUNTBLANK(Q91)=0),placingpoints(Q91,COUNTIF(Q$3:Q$101,\"=\"&Q91)),\"\")","v":""},{"$f":"IF(Registration!$E90=\"o\",Endurance!C90,\"\")","v":""},{"$f":"IF(AND(Registration!$E90=\"o\",COUNTBLANK(S91)=0),RANK(S91,S$3:S$101,0),\"\")","v":""},{"$f":"IF(AND(Registration!$E90=\"o\",COUNTBLANK(T91)=0),placingpoints(T91,COUNTIF(T$3:T$101,\"=\"&T91)),\"\")","v":""}]
[{"$f":"IF(Registration!E91=\"o\",RANK(B92,$B$3:$B$101,1),\"\")","v":""},{"$f":"IF(Registration!E91=\"O\",SUM(F92,I92,L92,O92,R92,U92),\"\")","v":""},{"$f":"IF(COUNTBLANK(Registration!B91)=1,\"\",IF(Registration!E91=\"o\",Registration!B91,\"\"))","v":""},{"$f":"IF(Registration!E91=\"o\",'Aussie Round'!V92,\"\")","v":""},{"$f":"IF(AND(Registration!$E91=\"o\",COUNTBLANK(D92)=0),RANK(D92,D$3:D$101,0),\"\")","v":""},{"$f":"IF(AND(Registration!$E91=\"o\",COUNTBLANK(E92)=0),placingpoints(E92,COUNTIF(E$3:E$101,\"=\"&E92)),\"\")","v":""},{"$f":"IF(Registration!$E91=\"o\",Accuracy!L91,\"\")","v":""},{"$f":"IF(AND(Registration!$E91=\"o\",COUNTBLANK(G92)=0),RANK(G92,G$3:G$102,0),\"\")","v":""},{"$f":"IF(AND(Registration!$E91=\"o\",COUNTBLANK(H92)=0),placingpoints(H92,COUNTIF(H$3:H$102,\"=\"&H92)),\"\")","v":""},{"$f":"IF(Registration!$E91=\"o\",MTA!G91,\"\")","v":""},{"$f":"IF(AND(Registration!$E91=\"o\",COUNTBLANK(J92)=0),RANK(J92,J$3:J$101,0),\"\")","v":""},{"$f":"IF(AND(Registration!$E91=\"o\",COUNTBLANK(K92)=0),placingpoints(K92,COUNTIF(K$3:K$101,\"=\"&K92)),\"\")","v":""},{"$f":"IF(Registration!$E91=\"o\",'Trick Catch'!X92,\"\")","v":""},{"$f":"IF(AND(Registration!$E91=\"o\",COUNTBLANK(M92)=0),RANK(M92,M$3:M$101,0),\"\")","v":""},{"$f":"IF(AND(Registration!$E91=\"o\",COUNTBLANK(N92)=0),placingpoints(N92,COUNTIF(N$3:N$101,\"=\"&N92)),\"\")","v":""},{"$f":"IF(Registration!$E91=\"o\",'Fast Catch'!F91,\"\")","v":""},{"$f":"IF(AND(Registration!$E91=\"o\",COUNTBLANK(P92)=0),RANK(P92,P$3:P$101,1),\"\")","v":""},{"$f":"IF(AND(Registration!$E91=\"o\",COUNTBLANK(Q92)=0),placingpoints(Q92,COUNTIF(Q$3:Q$101,\"=\"&Q92)),\"\")","v":""},{"$f":"IF(Registration!$E91=\"o\",Endurance!C91,\"\")","v":""},{"$f":"IF(AND(Registration!$E91=\"o\",COUNTBLANK(S92)=0),RANK(S92,S$3:S$101,0),\"\")","v":""},{"$f":"IF(AND(Registration!$E91=\"o\",COUNTBLANK(T92)=0),placingpoints(T92,COUNTIF(T$3:T$101,\"=\"&T92)),\"\")","v":""}]
[{"$f":"IF(Registration!E92=\"o\",RANK(B93,$B$3:$B$101,1),\"\")","v":""},{"$f":"IF(Registration!E92=\"O\",SUM(F93,I93,L93,O93,R93,U93),\"\")","v":""},{"$f":"IF(COUNTBLANK(Registration!B92)=1,\"\",IF(Registration!E92=\"o\",Registration!B92,\"\"))","v":""},{"$f":"IF(Registration!E92=\"o\",'Aussie Round'!V93,\"\")","v":""},{"$f":"IF(AND(Registration!$E92=\"o\",COUNTBLANK(D93)=0),RANK(D93,D$3:D$101,0),\"\")","v":""},{"$f":"IF(AND(Registration!$E92=\"o\",COUNTBLANK(E93)=0),placingpoints(E93,COUNTIF(E$3:E$101,\"=\"&E93)),\"\")","v":""},{"$f":"IF(Registration!$E92=\"o\",Accuracy!L92,\"\")","v":""},{"$f":"IF(AND(Registration!$E92=\"o\",COUNTBLANK(G93)=0),RANK(G93,G$3:G$102,0),\"\")","v":""},{"$f":"IF(AND(Registration!$E92=\"o\",COUNTBLANK(H93)=0),placingpoints(H93,COUNTIF(H$3:H$102,\"=\"&H93)),\"\")","v":""},{"$f":"IF(Registration!$E92=\"o\",MTA!G92,\"\")","v":""},{"$f":"IF(AND(Registration!$E92=\"o\",COUNTBLANK(J93)=0),RANK(J93,J$3:J$101,0),\"\")","v":""},{"$f":"IF(AND(Registration!$E92=\"o\",COUNTBLANK(K93)=0),placingpoints(K93,COUNTIF(K$3:K$101,\"=\"&K93)),\"\")","v":""},{"$f":"IF(Registration!$E92=\"o\",'Trick Catch'!X93,\"\")","v":""},{"$f":"IF(AND(Registration!$E92=\"o\",COUNTBLANK(M93)=0),RANK(M93,M$3:M$101,0),\"\")","v":""},{"$f":"IF(AND(Registration!$E92=\"o\",COUNTBLANK(N93)=0),placingpoints(N93,COUNTIF(N$3:N$101,\"=\"&N93)),\"\")","v":""},{"$f":"IF(Registration!$E92=\"o\",'Fast Catch'!F92,\"\")","v":""},{"$f":"IF(AND(Registration!$E92=\"o\",COUNTBLANK(P93)=0),RANK(P93,P$3:P$101,1),\"\")","v":""},{"$f":"IF(AND(Registration!$E92=\"o\",COUNTBLANK(Q93)=0),placingpoints(Q93,COUNTIF(Q$3:Q$101,\"=\"&Q93)),\"\")","v":""},{"$f":"IF(Registration!$E92=\"o\",Endurance!C92,\"\")","v":""},{"$f":"IF(AND(Registration!$E92=\"o\",COUNTBLANK(S93)=0),RANK(S93,S$3:S$101,0),\"\")","v":""},{"$f":"IF(AND(Registration!$E92=\"o\",COUNTBLANK(T93)=0),placingpoints(T93,COUNTIF(T$3:T$101,\"=\"&T93)),\"\")","v":""}]
[{"$f":"IF(Registration!E93=\"o\",RANK(B94,$B$3:$B$101,1),\"\")","v":""},{"$f":"IF(Registration!E93=\"O\",SUM(F94,I94,L94,O94,R94,U94),\"\")","v":""},{"$f":"IF(COUNTBLANK(Registration!B93)=1,\"\",IF(Registration!E93=\"o\",Registration!B93,\"\"))","v":""},{"$f":"IF(Registration!E93=\"o\",'Aussie Round'!V94,\"\")","v":""},{"$f":"IF(AND(Registration!$E93=\"o\",COUNTBLANK(D94)=0),RANK(D94,D$3:D$101,0),\"\")","v":""},{"$f":"IF(AND(Registration!$E93=\"o\",COUNTBLANK(E94)=0),placingpoints(E94,COUNTIF(E$3:E$101,\"=\"&E94)),\"\")","v":""},{"$f":"IF(Registration!$E93=\"o\",Accuracy!L93,\"\")","v":""},{"$f":"IF(AND(Registration!$E93=\"o\",COUNTBLANK(G94)=0),RANK(G94,G$3:G$102,0),\"\")","v":""},{"$f":"IF(AND(Registration!$E93=\"o\",COUNTBLANK(H94)=0),placingpoints(H94,COUNTIF(H$3:H$102,\"=\"&H94)),\"\")","v":""},{"$f":"IF(Registration!$E93=\"o\",MTA!G93,\"\")","v":""},{"$f":"IF(AND(Registration!$E93=\"o\",COUNTBLANK(J94)=0),RANK(J94,J$3:J$101,0),\"\")","v":""},{"$f":"IF(AND(Registration!$E93=\"o\",COUNTBLANK(K94)=0),placingpoints(K94,COUNTIF(K$3:K$101,\"=\"&K94)),\"\")","v":""},{"$f":"IF(Registration!$E93=\"o\",'Trick Catch'!X94,\"\")","v":""},{"$f":"IF(AND(Registration!$E93=\"o\",COUNTBLANK(M94)=0),RANK(M94,M$3:M$101,0),\"\")","v":""},{"$f":"IF(AND(Registration!$E93=\"o\",COUNTBLANK(N94)=0),placingpoints(N94,COUNTIF(N$3:N$101,\"=\"&N94)),\"\")","v":""},{"$f":"IF(Registration!$E93=\"o\",'Fast Catch'!F93,\"\")","v":""},{"$f":"IF(AND(Registration!$E93=\"o\",COUNTBLANK(P94)=0),RANK(P94,P$3:P$101,1),\"\")","v":""},{"$f":"IF(AND(Registration!$E93=\"o\",COUNTBLANK(Q94)=0),placingpoints(Q94,COUNTIF(Q$3:Q$101,\"=\"&Q94)),\"\")","v":""},{"$f":"IF(Registration!$E93=\"o\",Endurance!C93,\"\")","v":""},{"$f":"IF(AND(Registration!$E93=\"o\",COUNTBLANK(S94)=0),RANK(S94,S$3:S$101,0),\"\")","v":""},{"$f":"IF(AND(Registration!$E93=\"o\",COUNTBLANK(T94)=0),placingpoints(T94,COUNTIF(T$3:T$101,\"=\"&T94)),\"\")","v":""}]
[{"$f":"IF(Registration!E94=\"o\",RANK(B95,$B$3:$B$101,1),\"\")","v":""},{"$f":"IF(Registration!E94=\"O\",SUM(F95,I95,L95,O95,R95,U95),\"\")","v":""},{"$f":"IF(COUNTBLANK(Registration!B94)=1,\"\",IF(Registration!E94=\"o\",Registration!B94,\"\"))","v":""},{"$f":"IF(Registration!E94=\"o\",'Aussie Round'!V95,\"\")","v":""},{"$f":"IF(AND(Registration!$E94=\"o\",COUNTBLANK(D95)=0),RANK(D95,D$3:D$101,0),\"\")","v":""},{"$f":"IF(AND(Registration!$E94=\"o\",COUNTBLANK(E95)=0),placingpoints(E95,COUNTIF(E$3:E$101,\"=\"&E95)),\"\")","v":""},{"$f":"IF(Registration!$E94=\"o\",Accuracy!L94,\"\")","v":""},{"$f":"IF(AND(Registration!$E94=\"o\",COUNTBLANK(G95)=0),RANK(G95,G$3:G$102,0),\"\")","v":""},{"$f":"IF(AND(Registration!$E94=\"o\",COUNTBLANK(H95)=0),placingpoints(H95,COUNTIF(H$3:H$102,\"=\"&H95)),\"\")","v":""},{"$f":"IF(Registration!$E94=\"o\",MTA!G94,\"\")","v":""},{"$f":"IF(AND(Registration!$E94=\"o\",COUNTBLANK(J95)=0),RANK(J95,J$3:J$101,0),\"\")","v":""},{"$f":"IF(AND(Registration!$E94=\"o\",COUNTBLANK(K95)=0),placingpoints(K95,COUNTIF(K$3:K$101,\"=\"&K95)),\"\")","v":""},{"$f":"IF(Registration!$E94=\"o\",'Trick Catch'!X95,\"\")","v":""},{"$f":"IF(AND(Registration!$E94=\"o\",COUNTBLANK(M95)=0),RANK(M95,M$3:M$101,0),\"\")","v":""},{"$f":"IF(AND(Registration!$E94=\"o\",COUNTBLANK(N95)=0),placingpoints(N95,COUNTIF(N$3:N$101,\"=\"&N95)),\"\")","v":""},{"$f":"IF(Registration!$E94=\"o\",'Fast Catch'!F94,\"\")","v":""},{"$f":"IF(AND(Registration!$E94=\"o\",COUNTBLANK(P95)=0),RANK(P95,P$3:P$101,1),\"\")","v":""},{"$f":"IF(AND(Registration!$E94=\"o\",COUNTBLANK(Q95)=0),placingpoints(Q95,COUNTIF(Q$3:Q$101,\"=\"&Q95)),\"\")","v":""},{"$f":"IF(Registration!$E94=\"o\",Endurance!C94,\"\")","v":""},{"$f":"IF(AND(Registration!$E94=\"o\",COUNTBLANK(S95)=0),RANK(S95,S$3:S$101,0),\"\")","v":""},{"$f":"IF(AND(Registration!$E94=\"o\",COUNTBLANK(T95)=0),placingpoints(T95,COUNTIF(T$3:T$101,\"=\"&T95)),\"\")","v":""}]
[{"$f":"IF(Registration!E95=\"o\",RANK(B96,$B$3:$B$101,1),\"\")","v":""},{"$f":"IF(Registration!E95=\"O\",SUM(F96,I96,L96,O96,R96,U96),\"\")","v":""},{"$f":"IF(COUNTBLANK(Registration!B95)=1,\"\",IF(Registration!E95=\"o\",Registration!B95,\"\"))","v":""},{"$f":"IF(Registration!E95=\"o\",'Aussie Round'!V96,\"\")","v":""},{"$f":"IF(AND(Registration!$E95=\"o\",COUNTBLANK(D96)=0),RANK(D96,D$3:D$101,0),\"\")","v":""},{"$f":"IF(AND(Registration!$E95=\"o\",COUNTBLANK(E96)=0),placingpoints(E96,COUNTIF(E$3:E$101,\"=\"&E96)),\"\")","v":""},{"$f":"IF(Registration!$E95=\"o\",Accuracy!L95,\"\")","v":""},{"$f":"IF(AND(Registration!$E95=\"o\",COUNTBLANK(G96)=0),RANK(G96,G$3:G$102,0),\"\")","v":""},{"$f":"IF(AND(Registration!$E95=\"o\",COUNTBLANK(H96)=0),placingpoints(H96,COUNTIF(H$3:H$102,\"=\"&H96)),\"\")","v":""},{"$f":"IF(Registration!$E95=\"o\",MTA!G95,\"\")","v":""},{"$f":"IF(AND(Registration!$E95=\"o\",COUNTBLANK(J96)=0),RANK(J96,J$3:J$101,0),\"\")","v":""},{"$f":"IF(AND(Registration!$E95=\"o\",COUNTBLANK(K96)=0),placingpoints(K96,COUNTIF(K$3:K$101,\"=\"&K96)),\"\")","v":""},{"$f":"IF(Registration!$E95=\"o\",'Trick Catch'!X96,\"\")","v":""},{"$f":"IF(AND(Registration!$E95=\"o\",COUNTBLANK(M96)=0),RANK(M96,M$3:M$101,0),\"\")","v":""},{"$f":"IF(AND(Registration!$E95=\"o\",COUNTBLANK(N96)=0),placingpoints(N96,COUNTIF(N$3:N$101,\"=\"&N96)),\"\")","v":""},{"$f":"IF(Registration!$E95=\"o\",'Fast Catch'!F95,\"\")","v":""},{"$f":"IF(AND(Registration!$E95=\"o\",COUNTBLANK(P96)=0),RANK(P96,P$3:P$101,1),\"\")","v":""},{"$f":"IF(AND(Registration!$E95=\"o\",COUNTBLANK(Q96)=0),placingpoints(Q96,COUNTIF(Q$3:Q$101,\"=\"&Q96)),\"\")","v":""},{"$f":"IF(Registration!$E95=\"o\",Endurance!C95,\"\")","v":""},{"$f":"IF(AND(Registration!$E95=\"o\",COUNTBLANK(S96)=0),RANK(S96,S$3:S$101,0),\"\")","v":""},{"$f":"IF(AND(Registration!$E95=\"o\",COUNTBLANK(T96)=0),placingpoints(T96,COUNTIF(T$3:T$101,\"=\"&T96)),\"\")","v":""}]
[{"$f":"IF(Registration!E96=\"o\",RANK(B97,$B$3:$B$101,1),\"\")","v":""},{"$f":"IF(Registration!E96=\"O\",SUM(F97,I97,L97,O97,R97,U97),\"\")","v":""},{"$f":"IF(COUNTBLANK(Registration!B96)=1,\"\",IF(Registration!E96=\"o\",Registration!B96,\"\"))","v":""},{"$f":"IF(Registration!E96=\"o\",'Aussie Round'!V97,\"\")","v":""},{"$f":"IF(AND(Registration!$E96=\"o\",COUNTBLANK(D97)=0),RANK(D97,D$3:D$101,0),\"\")","v":""},{"$f":"IF(AND(Registration!$E96=\"o\",COUNTBLANK(E97)=0),placingpoints(E97,COUNTIF(E$3:E$101,\"=\"&E97)),\"\")","v":""},{"$f":"IF(Registration!$E96=\"o\",Accuracy!L96,\"\")","v":""},{"$f":"IF(AND(Registration!$E96=\"o\",COUNTBLANK(G97)=0),RANK(G97,G$3:G$102,0),\"\")","v":""},{"$f":"IF(AND(Registration!$E96=\"o\",COUNTBLANK(H97)=0),placingpoints(H97,COUNTIF(H$3:H$102,\"=\"&H97)),\"\")","v":""},{"$f":"IF(Registration!$E96=\"o\",MTA!G96,\"\")","v":""},{"$f":"IF(AND(Registration!$E96=\"o\",COUNTBLANK(J97)=0),RANK(J97,J$3:J$101,0),\"\")","v":""},{"$f":"IF(AND(Registration!$E96=\"o\",COUNTBLANK(K97)=0),placingpoints(K97,COUNTIF(K$3:K$101,\"=\"&K97)),\"\")","v":""},{"$f":"IF(Registration!$E96=\"o\",'Trick Catch'!X97,\"\")","v":""},{"$f":"IF(AND(Registration!$E96=\"o\",COUNTBLANK(M97)=0),RANK(M97,M$3:M$101,0),\"\")","v":""},{"$f":"IF(AND(Registration!$E96=\"o\",COUNTBLANK(N97)=0),placingpoints(N97,COUNTIF(N$3:N$101,\"=\"&N97)),\"\")","v":""},{"$f":"IF(Registration!$E96=\"o\",'Fast Catch'!F96,\"\")","v":""},{"$f":"IF(AND(Registration!$E96=\"o\",COUNTBLANK(P97)=0),RANK(P97,P$3:P$101,1),\"\")","v":""},{"$f":"IF(AND(Registration!$E96=\"o\",COUNTBLANK(Q97)=0),placingpoints(Q97,COUNTIF(Q$3:Q$101,\"=\"&Q97)),\"\")","v":""},{"$f":"IF(Registration!$E96=\"o\",Endurance!C96,\"\")","v":""},{"$f":"IF(AND(Registration!$E96=\"o\",COUNTBLANK(S97)=0),RANK(S97,S$3:S$101,0),\"\")","v":""},{"$f":"IF(AND(Registration!$E96=\"o\",COUNTBLANK(T97)=0),placingpoints(T97,COUNTIF(T$3:T$101,\"=\"&T97)),\"\")","v":""}]
[{"$f":"IF(Registration!E97=\"o\",RANK(B98,$B$3:$B$101,1),\"\")","v":""},{"$f":"IF(Registration!E97=\"O\",SUM(F98,I98,L98,O98,R98,U98),\"\")","v":""},{"$f":"IF(COUNTBLANK(Registration!B97)=1,\"\",IF(Registration!E97=\"o\",Registration!B97,\"\"))","v":""},{"$f":"IF(Registration!E97=\"o\",'Aussie Round'!V98,\"\")","v":""},{"$f":"IF(AND(Registration!$E97=\"o\",COUNTBLANK(D98)=0),RANK(D98,D$3:D$101,0),\"\")","v":""},{"$f":"IF(AND(Registration!$E97=\"o\",COUNTBLANK(E98)=0),placingpoints(E98,COUNTIF(E$3:E$101,\"=\"&E98)),\"\")","v":""},{"$f":"IF(Registration!$E97=\"o\",Accuracy!L97,\"\")","v":""},{"$f":"IF(AND(Registration!$E97=\"o\",COUNTBLANK(G98)=0),RANK(G98,G$3:G$102,0),\"\")","v":""},{"$f":"IF(AND(Registration!$E97=\"o\",COUNTBLANK(H98)=0),placingpoints(H98,COUNTIF(H$3:H$102,\"=\"&H98)),\"\")","v":""},{"$f":"IF(Registration!$E97=\"o\",MTA!G97,\"\")","v":""},{"$f":"IF(AND(Registration!$E97=\"o\",COUNTBLANK(J98)=0),RANK(J98,J$3:J$101,0),\"\")","v":""},{"$f":"IF(AND(Registration!$E97=\"o\",COUNTBLANK(K98)=0),placingpoints(K98,COUNTIF(K$3:K$101,\"=\"&K98)),\"\")","v":""},{"$f":"IF(Registration!$E97=\"o\",'Trick Catch'!X98,\"\")","v":""},{"$f":"IF(AND(Registration!$E97=\"o\",COUNTBLANK(M98)=0),RANK(M98,M$3:M$101,0),\"\")","v":""},{"$f":"IF(AND(Registration!$E97=\"o\",COUNTBLANK(N98)=0),placingpoints(N98,COUNTIF(N$3:N$101,\"=\"&N98)),\"\")","v":""},{"$f":"IF(Registration!$E97=\"o\",'Fast Catch'!F97,\"\")","v":""},{"$f":"IF(AND(Registration!$E97=\"o\",COUNTBLANK(P98)=0),RANK(P98,P$3:P$101,1),\"\")","v":""},{"$f":"IF(AND(Registration!$E97=\"o\",COUNTBLANK(Q98)=0),placingpoints(Q98,COUNTIF(Q$3:Q$101,\"=\"&Q98)),\"\")","v":""},{"$f":"IF(Registration!$E97=\"o\",Endurance!C97,\"\")","v":""},{"$f":"IF(AND(Registration!$E97=\"o\",COUNTBLANK(S98)=0),RANK(S98,S$3:S$101,0),\"\")","v":""},{"$f":"IF(AND(Registration!$E97=\"o\",COUNTBLANK(T98)=0),placingpoints(T98,COUNTIF(T$3:T$101,\"=\"&T98)),\"\")","v":""}]
[{"$f":"IF(Registration!E98=\"o\",RANK(B99,$B$3:$B$101,1),\"\")","v":""},{"$f":"IF(Registration!E98=\"O\",SUM(F99,I99,L99,O99,R99,U99),\"\")","v":""},{"$f":"IF(COUNTBLANK(Registration!B98)=1,\"\",IF(Registration!E98=\"o\",Registration!B98,\"\"))","v":""},{"$f":"IF(Registration!E98=\"o\",'Aussie Round'!V99,\"\")","v":""},{"$f":"IF(AND(Registration!$E98=\"o\",COUNTBLANK(D99)=0),RANK(D99,D$3:D$101,0),\"\")","v":""},{"$f":"IF(AND(Registration!$E98=\"o\",COUNTBLANK(E99)=0),placingpoints(E99,COUNTIF(E$3:E$101,\"=\"&E99)),\"\")","v":""},{"$f":"IF(Registration!$E98=\"o\",Accuracy!L98,\"\")","v":""},{"$f":"IF(AND(Registration!$E98=\"o\",COUNTBLANK(G99)=0),RANK(G99,G$3:G$102,0),\"\")","v":""},{"$f":"IF(AND(Registration!$E98=\"o\",COUNTBLANK(H99)=0),placingpoints(H99,COUNTIF(H$3:H$102,\"=\"&H99)),\"\")","v":""},{"$f":"IF(Registration!$E98=\"o\",MTA!G98,\"\")","v":""},{"$f":"IF(AND(Registration!$E98=\"o\",COUNTBLANK(J99)=0),RANK(J99,J$3:J$101,0),\"\")","v":""},{"$f":"IF(AND(Registration!$E98=\"o\",COUNTBLANK(K99)=0),placingpoints(K99,COUNTIF(K$3:K$101,\"=\"&K99)),\"\")","v":""},{"$f":"IF(Registration!$E98=\"o\",'Trick Catch'!X99,\"\")","v":""},{"$f":"IF(AND(Registration!$E98=\"o\",COUNTBLANK(M99)=0),RANK(M99,M$3:M$101,0),\"\")","v":""},{"$f":"IF(AND(Registration!$E98=\"o\",COUNTBLANK(N99)=0),placingpoints(N99,COUNTIF(N$3:N$101,\"=\"&N99)),\"\")","v":""},{"$f":"IF(Registration!$E98=\"o\",'Fast Catch'!F98,\"\")","v":""},{"$f":"IF(AND(Registration!$E98=\"o\",COUNTBLANK(P99)=0),RANK(P99,P$3:P$101,1),\"\")","v":""},{"$f":"IF(AND(Registration!$E98=\"o\",COUNTBLANK(Q99)=0),placingpoints(Q99,COUNTIF(Q$3:Q$101,\"=\"&Q99)),\"\")","v":""},{"$f":"IF(Registration!$E98=\"o\",Endurance!C98,\"\")","v":""},{"$f":"IF(AND(Registration!$E98=\"o\",COUNTBLANK(S99)=0),RANK(S99,S$3:S$101,0),\"\")","v":""},{"$f":"IF(AND(Registration!$E98=\"o\",COUNTBLANK(T99)=0),placingpoints(T99,COUNTIF(T$3:T$101,\"=\"&T99)),\"\")","v":""}]
[{"$f":"IF(Registration!E99=\"o\",RANK(B100,$B$3:$B$101,1),\"\")","v":""},{"$f":"IF(Registration!E99=\"O\",SUM(F100,I100,L100,O100,R100,U100),\"\")","v":""},{"$f":"IF(COUNTBLANK(Registration!B99)=1,\"\",IF(Registration!E99=\"o\",Registration!B99,\"\"))","v":""},{"$f":"IF(Registration!E99=\"o\",'Aussie Round'!V101,\"\")","v":""},{"$f":"IF(AND(Registration!$E99=\"o\",COUNTBLANK(D100)=0),RANK(D100,D$3:D$101,0),\"\")","v":""},{"$f":"IF(AND(Registration!$E99=\"o\",COUNTBLANK(E100)=0),placingpoints(E100,COUNTIF(E$3:E$101,\"=\"&E100)),\"\")","v":""},{"$f":"IF(Registration!$E99=\"o\",Accuracy!L99,\"\")","v":""},{"$f":"IF(AND(Registration!$E99=\"o\",COUNTBLANK(G100)=0),RANK(G100,G$3:G$102,0),\"\")","v":""},{"$f":"IF(AND(Registration!$E99=\"o\",COUNTBLANK(H100)=0),placingpoints(H100,COUNTIF(H$3:H$102,\"=\"&H100)),\"\")","v":""},{"$f":"IF(Registration!$E99=\"o\",MTA!G99,\"\")","v":""},{"$f":"IF(AND(Registration!$E99=\"o\",COUNTBLANK(J100)=0),RANK(J100,J$3:J$101,0),\"\")","v":""},{"$f":"IF(AND(Registration!$E99=\"o\",COUNTBLANK(K100)=0),placingpoints(K100,COUNTIF(K$3:K$101,\"=\"&K100)),\"\")","v":""},{"$f":"IF(Registration!$E99=\"o\",'Trick Catch'!X100,\"\")","v":""},{"$f":"IF(AND(Registration!$E99=\"o\",COUNTBLANK(M100)=0),RANK(M100,M$3:M$101,0),\"\")","v":""},{"$f":"IF(AND(Registration!$E99=\"o\",COUNTBLANK(N100)=0),placingpoints(N100,COUNTIF(N$3:N$101,\"=\"&N100)),\"\")","v":""},{"$f":"IF(Registration!$E99=\"o\",'Fast Catch'!F99,\"\")","v":""},{"$f":"IF(AND(Registration!$E99=\"o\",COUNTBLANK(P100)=0),RANK(P100,P$3:P$101,1),\"\")","v":""},{"$f":"IF(AND(Registration!$E99=\"o\",COUNTBLANK(Q100)=0),placingpoints(Q100,COUNTIF(Q$3:Q$101,\"=\"&Q100)),\"\")","v":""},{"$f":"IF(Registration!$E99=\"o\",Endurance!C99,\"\")","v":""},{"$f":"IF(AND(Registration!$E99=\"o\",COUNTBLANK(S100)=0),RANK(S100,S$3:S$101,0),\"\")","v":""},{"$f":"IF(AND(Registration!$E99=\"o\",COUNTBLANK(T100)=0),placingpoints(T100,COUNTIF(T$3:T$101,\"=\"&T100)),\"\")","v":""}]
[{"$f":"IF(Registration!E100=\"o\",RANK(B101,$B$3:$B$101,1),\"\")","v":""},{"$f":"IF(Registration!E100=\"O\",SUM(F101,I101,L101,O101,R101,U101),\"\")","v":""},{"$f":"IF(COUNTBLANK(Registration!B100)=1,\"\",IF(Registration!E100=\"o\",Registration!B100,\"\"))","v":""},{"$f":"IF(Registration!E100=\"o\",'Aussie Round'!V102,\"\")","v":""},{"$f":"IF(AND(Registration!$E100=\"o\",COUNTBLANK(D101)=0),RANK(D101,D$3:D$101,0),\"\")","v":""},{"$f":"IF(AND(Registration!$E100=\"o\",COUNTBLANK(E101)=0),placingpoints(E101,COUNTIF(E$3:E$101,\"=\"&E101)),\"\")","v":""},{"$f":"IF(Registration!$E100=\"o\",Accuracy!L100,\"\")","v":""},{"$f":"IF(AND(Registration!$E100=\"o\",COUNTBLANK(G101)=0),RANK(G101,G$3:G$102,0),\"\")","v":""},{"$f":"IF(AND(Registration!$E100=\"o\",COUNTBLANK(H101)=0),placingpoints(H101,COUNTIF(H$3:H$102,\"=\"&H101)),\"\")","v":""},{"$f":"IF(Registration!$E100=\"o\",MTA!G100,\"\")","v":""},{"$f":"IF(AND(Registration!$E100=\"o\",COUNTBLANK(J101)=0),RANK(J101,J$3:J$101,0),\"\")","v":""},{"$f":"IF(AND(Registration!$E100=\"o\",COUNTBLANK(K101)=0),placingpoints(K101,COUNTIF(K$3:K$101,\"=\"&K101)),\"\")","v":""},{"$f":"IF(Registration!$E100=\"o\",'Trick Catch'!X101,\"\")","v":""},{"$f":"IF(AND(Registration!$E100=\"o\",COUNTBLANK(M101)=0),RANK(M101,M$3:M$101,0),\"\")","v":""},{"$f":"IF(AND(Registration!$E100=\"o\",COUNTBLANK(N101)=0),placingpoints(N101,COUNTIF(N$3:N$101,\"=\"&N101)),\"\")","v":""},{"$f":"IF(Registration!$E100=\"o\",'Fast Catch'!F100,\"\")","v":""},{"$f":"IF(AND(Registration!$E100=\"o\",COUNTBLANK(P101)=0),RANK(P101,P$3:P$101,1),\"\")","v":""},{"$f":"IF(AND(Registration!$E100=\"o\",COUNTBLANK(Q101)=0),placingpoints(Q101,COUNTIF(Q$3:Q$101,\"=\"&Q101)),\"\")","v":""},{"$f":"IF(Registration!$E100=\"o\",Endurance!C100,\"\")","v":""},{"$f":"IF(AND(Registration!$E100=\"o\",COUNTBLANK(S101)=0),RANK(S101,S$3:S$101,0),\"\")","v":""},{"$f":"IF(AND(Registration!$E100=\"o\",COUNTBLANK(T101)=0),placingpoints(T101,COUNTIF(T$3:T$101,\"=\"&T101)),\"\")","v":""}]

{"sheet":"Beginner Score Sheet","index":10,"n_rows":101,"n_cols":21,"rows_kept":101,"cut":false,"hidden":false,"merged":[[0,0,0,1],[0,15,0,17],[0,18,0,20],[0,3,0,5],[0,9,0,11],[0,12,0,14],[0,6,0,8]]}
["Final",null,{"$f":"Registration!B1","v":"Name"},"Aussie Round",null,null,"Accuracy",null,null,"MTA",null,null,"Trick Catch",null,null,"Fast Catch",null,null,"Endurance"]
["Place","Score",null,"Score","Place","Points","Score","Place","Points","Score","Place","Points","Score","Place","Points","Score","Place","Points","Score","Place","Points"]
[{"$f":"IF(Registration!E2=\"n\",RANK(B3,$B$3:$B$101,1),\"\")","v":""},{"$f":"IF(Registration!E2=\"n\",SUM(F3,I3,L3,O3,R3,U3),\"\")","v":""},{"$f":"IF(COUNTBLANK(Registration!B2)=1,\"\",IF(Registration!E2=\"n\",Registration!B2,\"\"))","v":""},{"$f":"IF(Registration!E2=\"n\",'Aussie Round'!V3,\"\")","v":""},{"$f":"IF(AND(Registration!$E2=\"n\",COUNTBLANK(D3)=0),RANK(D3,D$3:D$101,0),\"\")","v":""},{"$f":"IF(AND(Registration!$E2=\"n\",COUNTBLANK(E3)=0),placingpoints(E3,COUNTIF(E$3:E$101,\"=\"&E3)),\"\")","v":""},{"$f":"IF(Registration!$E2=\"n\",Accuracy!L2,\"\")","v":""},{"$f":"IF(AND(Registration!$E2=\"n\",COUNTBLANK(G3)=0),RANK(G3,G$3:G$102,0),\"\")","v":""},{"$f":"IF(AND(Registration!$E2=\"n\",COUNTBLANK(H3)=0),placingpoints(H3,COUNTIF(H$3:H$102,\"=\"&H3)),\"\")","v":""},{"$f":"IF(Registration!$E2=\"n\",MTA!G2,\"\")","v":""},{"$f":"IF(AND(Registration!$E2=\"n\",COUNTBLANK(J3)=0),RANK(J3,J$3:J$101,0),\"\")","v":""},{"$f":"IF(AND(Registration!$E2=\"n\",COUNTBLANK(K3)=0),placingpoints(K3,COUNTIF(K$3:K$101,\"=\"&K3)),\"\")","v":""},{"$f":"IF(Registration!$E2=\"n\",'Trick Catch'!X3,\"\")","v":""},{"$f":"IF(AND(Registration!$E2=\"n\",COUNTBLANK(M3)=0),RANK(M3,M$3:M$101,0),\"\")","v":""},{"$f":"IF(AND(Registration!$E2=\"n\",COUNTBLANK(N3)=0),placingpoints(N3,COUNTIF(N$3:N$101,\"=\"&N3)),\"\")","v":""},{"$f":"IF(Registration!$E2=\"n\",'Fast Catch'!F2,\"\")","v":""},{"$f":"IF(AND(Registration!$E2=\"n\",COUNTBLANK(P3)=0),RANK(P3,P$3:P$101,1),\"\")","v":""},{"$f":"IF(AND(Registration!$E2=\"n\",COUNTBLANK(Q3)=0),placingpoints(Q3,COUNTIF(Q$3:Q$101,\"=\"&Q3)),\"\")","v":""},{"$f":"IF(Registration!$E2=\"n\",Endurance!C2,\"\")","v":""},{"$f":"IF(AND(Registration!$E2=\"n\",COUNTBLANK(S3)=0),RANK(S3,S$3:S$101,0),\"\")","v":""},{"$f":"IF(AND(Registration!$E2=\"n\",COUNTBLANK(T3)=0),placingpoints(T3,COUNTIF(T$3:T$101,\"=\"&T3)),\"\")","v":""}]
[{"$f":"IF(Registration!E3=\"n\",RANK(B4,$B$3:$B$101,1),\"\")","v":""},{"$f":"IF(Registration!E3=\"n\",SUM(F4,I4,L4,O4,R4,U4),\"\")","v":""},{"$f":"IF(COUNTBLANK(Registration!B3)=1,\"\",IF(Registration!E3=\"n\",Registration!B3,\"\"))","v":""},{"$f":"IF(Registration!E3=\"n\",'Aussie Round'!V4,\"\")","v":""},{"$f":"IF(AND(Registration!$E3=\"n\",COUNTBLANK(D4)=0),RANK(D4,D$3:D$101,0),\"\")","v":""},{"$f":"IF(AND(Registration!$E3=\"n\",COUNTBLANK(E4)=0),placingpoints(E4,COUNTIF(E$3:E$101,\"=\"&E4)),\"\")","v":""},{"$f":"IF(Registration!$E3=\"n\",Accuracy!L3,\"\")","v":""},{"$f":"IF(AND(Registration!$E3=\"n\",COUNTBLANK(G4)=0),RANK(G4,G$3:G$102,0),\"\")","v":""},{"$f":"IF(AND(Registration!$E3=\"n\",COUNTBLANK(H4)=0),placingpoints(H4,COUNTIF(H$3:H$102,\"=\"&H4)),\"\")","v":""},{"$f":"IF(Registration!$E3=\"n\",MTA!G3,\"\")","v":""},{"$f":"IF(AND(Registration!$E3=\"n\",COUNTBLANK(J4)=0),RANK(J4,J$3:J$101,0),\"\")","v":""},{"$f":"IF(AND(Registration!$E3=\"n\",COUNTBLANK(K4)=0),placingpoints(K4,COUNTIF(K$3:K$101,\"=\"&K4)),\"\")","v":""},{"$f":"IF(Registration!$E3=\"n\",'Trick Catch'!X4,\"\")","v":""},{"$f":"IF(AND(Registration!$E3=\"n\",COUNTBLANK(M4)=0),RANK(M4,M$3:M$101,0),\"\")","v":""},{"$f":"IF(AND(Registration!$E3=\"n\",COUNTBLANK(N4)=0),placingpoints(N4,COUNTIF(N$3:N$101,\"=\"&N4)),\"\")","v":""},{"$f":"IF(Registration!$E3=\"n\",'Fast Catch'!F3,\"\")","v":""},{"$f":"IF(AND(Registration!$E3=\"n\",COUNTBLANK(P4)=0),RANK(P4,P$3:P$101,1),\"\")","v":""},{"$f":"IF(AND(Registration!$E3=\"n\",COUNTBLANK(Q4)=0),placingpoints(Q4,COUNTIF(Q$3:Q$101,\"=\"&Q4)),\"\")","v":""},{"$f":"IF(Registration!$E3=\"n\",Endurance!C3,\"\")","v":""},{"$f":"IF(AND(Registration!$E3=\"n\",COUNTBLANK(S4)=0),RANK(S4,S$3:S$101,0),\"\")","v":""},{"$f":"IF(AND(Registration!$E3=\"n\",COUNTBLANK(T4)=0),placingpoints(T4,COUNTIF(T$3:T$101,\"=\"&T4)),\"\")","v":""}]
[{"$f":"IF(Registration!E4=\"n\",RANK(B5,$B$3:$B$101,1),\"\")","v":""},{"$f":"IF(Registration!E4=\"n\",SUM(F5,I5,L5,O5,R5,U5),\"\")","v":""},{"$f":"IF(COUNTBLANK(Registration!B4)=1,\"\",IF(Registration!E4=\"n\",Registration!B4,\"\"))","v":""},{"$f":"IF(Registration!E4=\"n\",'Aussie Round'!V5,\"\")","v":""},{"$f":"IF(AND(Registration!$E4=\"n\",COUNTBLANK(D5)=0),RANK(D5,D$3:D$101,0),\"\")","v":""},{"$f":"IF(AND(Registration!$E4=\"n\",COUNTBLANK(E5)=0),placingpoints(E5,COUNTIF(E$3:E$101,\"=\"&E5)),\"\")","v":""},{"$f":"IF(Registration!$E4=\"n\",Accuracy!L4,\"\")","v":""},{"$f":"IF(AND(Registration!$E4=\"n\",COUNTBLANK(G5)=0),RANK(G5,G$3:G$102,0),\"\")","v":""},{"$f":"IF(AND(Registration!$E4=\"n\",COUNTBLANK(H5)=0),placingpoints(H5,COUNTIF(H$3:H$102,\"=\"&H5)),\"\")","v":""},{"$f":"IF(Registration!$E4=\"n\",MTA!G4,\"\")","v":""},{"$f":"IF(AND(Registration!$E4=\"n\",COUNTBLANK(J5)=0),RANK(J5,J$3:J$101,0),\"\")","v":""},{"$f":"IF(AND(Registration!$E4=\"n\",COUNTBLANK(K5)=0),placingpoints(K5,COUNTIF(K$3:K$101,\"=\"&K5)),\"\")","v":""},{"$f":"IF(Registration!$E4=\"n\",'Trick Catch'!X5,\"\")","v":""},{"$f":"IF(AND(Registration!$E4=\"n\",COUNTBLANK(M5)=0),RANK(M5,M$3:M$101,0),\"\")","v":""},{"$f":"IF(AND(Registration!$E4=\"n\",COUNTBLANK(N5)=0),placingpoints(N5,COUNTIF(N$3:N$101,\"=\"&N5)),\"\")","v":""},{"$f":"IF(Registration!$E4=\"n\",'Fast Catch'!F4,\"\")","v":""},{"$f":"IF(AND(Registration!$E4=\"n\",COUNTBLANK(P5)=0),RANK(P5,P$3:P$101,1),\"\")","v":""},{"$f":"IF(AND(Registration!$E4=\"n\",COUNTBLANK(Q5)=0),placingpoints(Q5,COUNTIF(Q$3:Q$101,\"=\"&Q5)),\"\")","v":""},{"$f":"IF(Registration!$E4=\"n\",Endurance!C4,\"\")","v":""},{"$f":"IF(AND(Registration!$E4=\"n\",COUNTBLANK(S5)=0),RANK(S5,S$3:S$101,0),\"\")","v":""},{"$f":"IF(AND(Registration!$E4=\"n\",COUNTBLANK(T5)=0),placingpoints(T5,COUNTIF(T$3:T$101,\"=\"&T5)),\"\")","v":""}]
[{"$f":"IF(Registration!E5=\"n\",RANK(B6,$B$3:$B$101,1),\"\")","v":""},{"$f":"IF(Registration!E5=\"n\",SUM(F6,I6,L6,O6,R6,U6),\"\")","v":""},{"$f":"IF(COUNTBLANK(Registration!B5)=1,\"\",IF(Registration!E5=\"n\",Registration!B5,\"\"))","v":""},{"$f":"IF(Registration!E5=\"n\",'Aussie Round'!V6,\"\")","v":""},{"$f":"IF(AND(Registration!$E5=\"n\",COUNTBLANK(D6)=0),RANK(D6,D$3:D$101,0),\"\")","v":""},{"$f":"IF(AND(Registration!$E5=\"n\",COUNTBLANK(E6)=0),placingpoints(E6,COUNTIF(E$3:E$101,\"=\"&E6)),\"\")","v":""},{"$f":"IF(Registration!$E5=\"n\",Accuracy!L5,\"\")","v":""},{"$f":"IF(AND(Registration!$E5=\"n\",COUNTBLANK(G6)=0),RANK(G6,G$3:G$102,0),\"\")","v":""},{"$f":"IF(AND(Registration!$E5=\"n\",COUNTBLANK(H6)=0),placingpoints(H6,COUNTIF(H$3:H$102,\"=\"&H6)),\"\")","v":""},{"$f":"IF(Registration!$E5=\"n\",MTA!G5,\"\")","v":""},{"$f":"IF(AND(Registration!$E5=\"n\",COUNTBLANK(J6)=0),RANK(J6,J$3:J$101,0),\"\")","v":""},{"$f":"IF(AND(Registration!$E5=\"n\",COUNTBLANK(K6)=0),placingpoints(K6,COUNTIF(K$3:K$101,\"=\"&K6)),\"\")","v":""},{"$f":"IF(Registration!$E5=\"n\",'Trick Catch'!X6,\"\")","v":""},{"$f":"IF(AND(Registration!$E5=\"n\",COUNTBLANK(M6)=0),RANK(M6,M$3:M$101,0),\"\")","v":""},{"$f":"IF(AND(Registration!$E5=\"n\",COUNTBLANK(N6)=0),placingpoints(N6,COUNTIF(N$3:N$101,\"=\"&N6)),\"\")","v":""},{"$f":"IF(Registration!$E5=\"n\",'Fast Catch'!F5,\"\")","v":""},{"$f":"IF(AND(Registration!$E5=\"n\",COUNTBLANK(P6)=0),RANK(P6,P$3:P$101,1),\"\")","v":""},{"$f":"IF(AND(Registration!$E5=\"n\",COUNTBLANK(Q6)=0),placingpoints(Q6,COUNTIF(Q$3:Q$101,\"=\"&Q6)),\"\")","v":""},{"$f":"IF(Registration!$E5=\"n\",Endurance!C5,\"\")","v":""},{"$f":"IF(AND(Registration!$E5=\"n\",COUNTBLANK(S6)=0),RANK(S6,S$3:S$101,0),\"\")","v":""},{"$f":"IF(AND(Registration!$E5=\"n\",COUNTBLANK(T6)=0),placingpoints(T6,COUNTIF(T$3:T$101,\"=\"&T6)),\"\")","v":""}]
[{"$f":"IF(Registration!E6=\"n\",RANK(B7,$B$3:$B$101,1),\"\")","v":""},{"$f":"IF(Registration!E6=\"n\",SUM(F7,I7,L7,O7,R7,U7),\"\")","v":""},{"$f":"IF(COUNTBLANK(Registration!B6)=1,\"\",IF(Registration!E6=\"n\",Registration!B6,\"\"))","v":""},{"$f":"IF(Registration!E6=\"n\",'Aussie Round'!V7,\"\")","v":""},{"$f":"IF(AND(Registration!$E6=\"n\",COUNTBLANK(D7)=0),RANK(D7,D$3:D$101,0),\"\")","v":""},{"$f":"IF(AND(Registration!$E6=\"n\",COUNTBLANK(E7)=0),placingpoints(E7,COUNTIF(E$3:E$101,\"=\"&E7)),\"\")","v":""},{"$f":"IF(Registration!$E6=\"n\",Accuracy!L6,\"\")","v":""},{"$f":"IF(AND(Registration!$E6=\"n\",COUNTBLANK(G7)=0),RANK(G7,G$3:G$102,0),\"\")","v":""},{"$f":"IF(AND(Registration!$E6=\"n\",COUNTBLANK(H7)=0),placingpoints(H7,COUNTIF(H$3:H$102,\"=\"&H7)),\"\")","v":""},{"$f":"IF(Registration!$E6=\"n\",MTA!G6,\"\")","v":""},{"$f":"IF(AND(Registration!$E6=\"n\",COUNTBLANK(J7)=0),RANK(J7,J$3:J$101,0),\"\")","v":""},{"$f":"IF(AND(Registration!$E6=\"n\",COUNTBLANK(K7)=0),placingpoints(K7,COUNTIF(K$3:K$101,\"=\"&K7)),\"\")","v":""},{"$f":"IF(Registration!$E6=\"n\",'Trick Catch'!X7,\"\")","v":""},{"$f":"IF(AND(Registration!$E6=\"n\",COUNTBLANK(M7)=0),RANK(M7,M$3:M$101,0),\"\")","v":""},{"$f":"IF(AND(Registration!$E6=\"n\",COUNTBLANK(N7)=0),placingpoints(N7,COUNTIF(N$3:N$101,\"=\"&N7)),\"\")","v":""},{"$f":"IF(Registration!$E6=\"n\",'Fast Catch'!F6,\"\")","v":""},{"$f":"IF(AND(Registration!$E6=\"n\",COUNTBLANK(P7)=0),RANK(P7,P$3:P$101,1),\"\")","v":""},{"$f":"IF(AND(Registration!$E6=\"n\",COUNTBLANK(Q7)=0),placingpoints(Q7,COUNTIF(Q$3:Q$101,\"=\"&Q7)),\"\")","v":""},{"$f":"IF(Registration!$E6=\"n\",Endurance!C6,\"\")","v":""},{"$f":"IF(AND(Registration!$E6=\"n\",COUNTBLANK(S7)=0),RANK(S7,S$3:S$101,0),\"\")","v":""},{"$f":"IF(AND(Registration!$E6=\"n\",COUNTBLANK(T7)=0),placingpoints(T7,COUNTIF(T$3:T$101,\"=\"&T7)),\"\")","v":""}]
[{"$f":"IF(Registration!E7=\"n\",RANK(B8,$B$3:$B$101,1),\"\")","v":""},{"$f":"IF(Registration!E7=\"n\",SUM(F8,I8,L8,O8,R8,U8),\"\")","v":""},{"$f":"IF(COUNTBLANK(Registration!B7)=1,\"\",IF(Registration!E7=\"n\",Registration!B7,\"\"))","v":""},{"$f":"IF(Registration!E7=\"n\",'Aussie Round'!V8,\"\")","v":""},{"$f":"IF(AND(Registration!$E7=\"n\",COUNTBLANK(D8)=0),RANK(D8,D$3:D$101,0),\"\")","v":""},{"$f":"IF(AND(Registration!$E7=\"n\",COUNTBLANK(E8)=0),placingpoints(E8,COUNTIF(E$3:E$101,\"=\"&E8)),\"\")","v":""},{"$f":"IF(Registration!$E7=\"n\",Accuracy!L7,\"\")","v":""},{"$f":"IF(AND(Registration!$E7=\"n\",COUNTBLANK(G8)=0),RANK(G8,G$3:G$102,0),\"\")","v":""},{"$f":"IF(AND(Registration!$E7=\"n\",COUNTBLANK(H8)=0),placingpoints(H8,COUNTIF(H$3:H$102,\"=\"&H8)),\"\")","v":""},{"$f":"IF(Registration!$E7=\"n\",MTA!G7,\"\")","v":""},{"$f":"IF(AND(Registration!$E7=\"n\",COUNTBLANK(J8)=0),RANK(J8,J$3:J$101,0),\"\")","v":""},{"$f":"IF(AND(Registration!$E7=\"n\",COUNTBLANK(K8)=0),placingpoints(K8,COUNTIF(K$3:K$101,\"=\"&K8)),\"\")","v":""},{"$f":"IF(Registration!$E7=\"n\",'Trick Catch'!X8,\"\")","v":""},{"$f":"IF(AND(Registration!$E7=\"n\",COUNTBLANK(M8)=0),RANK(M8,M$3:M$101,0),\"\")","v":""},{"$f":"IF(AND(Registration!$E7=\"n\",COUNTBLANK(N8)=0),placingpoints(N8,COUNTIF(N$3:N$101,\"=\"&N8)),\"\")","v":""},{"$f":"IF(Registration!$E7=\"n\",'Fast Catch'!F7,\"\")","v":""},{"$f":"IF(AND(Registration!$E7=\"n\",COUNTBLANK(P8)=0),RANK(P8,P$3:P$101,1),\"\")","v":""},{"$f":"IF(AND(Registration!$E7=\"n\",COUNTBLANK(Q8)=0),placingpoints(Q8,COUNTIF(Q$3:Q$101,\"=\"&Q8)),\"\")","v":""},{"$f":"IF(Registration!$E7=\"n\",Endurance!C7,\"\")","v":""},{"$f":"IF(AND(Registration!$E7=\"n\",COUNTBLANK(S8)=0),RANK(S8,S$3:S$101,0),\"\")","v":""},{"$f":"IF(AND(Registration!$E7=\"n\",COUNTBLANK(T8)=0),placingpoints(T8,COUNTIF(T$3:T$101,\"=\"&T8)),\"\")","v":""}]
[{"$f":"IF(Registration!E8=\"n\",RANK(B9,$B$3:$B$101,1),\"\")","v":""},{"$f":"IF(Registration!E8=\"n\",SUM(F9,I9,L9,O9,R9,U9),\"\")","v":""},{"$f":"IF(COUNTBLANK(Registration!B8)=1,\"\",IF(Registration!E8=\"n\",Registration!B8,\"\"))","v":""},{"$f":"IF(Registration!E8=\"n\",'Aussie Round'!V9,\"\")","v":""},{"$f":"IF(AND(Registration!$E8=\"n\",COUNTBLANK(D9)=0),RANK(D9,D$3:D$101,0),\"\")","v":""},{"$f":"IF(AND(Registration!$E8=\"n\",COUNTBLANK(E9)=0),placingpoints(E9,COUNTIF(E$3:E$101,\"=\"&E9)),\"\")","v":""},{"$f":"IF(Registration!$E8=\"n\",Accuracy!L8,\"\")","v":""},{"$f":"IF(AND(Registration!$E8=\"n\",COUNTBLANK(G9)=0),RANK(G9,G$3:G$102,0),\"\")","v":""},{"$f":"IF(AND(Registration!$E8=\"n\",COUNTBLANK(H9)=0),placingpoints(H9,COUNTIF(H$3:H$102,\"=\"&H9)),\"\")","v":""},{"$f":"IF(Registration!$E8=\"n\",MTA!G8,\"\")","v":""},{"$f":"IF(AND(Registration!$E8=\"n\",COUNTBLANK(J9)=0),RANK(J9,J$3:J$101,0),\"\")","v":""},{"$f":"IF(AND(Registration!$E8=\"n\",COUNTBLANK(K9)=0),placingpoints(K9,COUNTIF(K$3:K$101,\"=\"&K9)),\"\")","v":""},{"$f":"IF(Registration!$E8=\"n\",'Trick Catch'!X9,\"\")","v":""},{"$f":"IF(AND(Registration!$E8=\"n\",COUNTBLANK(M9)=0),RANK(M9,M$3:M$101,0),\"\")","v":""},{"$f":"IF(AND(Registration!$E8=\"n\",COUNTBLANK(N9)=0),placingpoints(N9,COUNTIF(N$3:N$101,\"=\"&N9)),\"\")","v":""},{"$f":"IF(Registration!$E8=\"n\",'Fast Catch'!F8,\"\")","v":""},{"$f":"IF(AND(Registration!$E8=\"n\",COUNTBLANK(P9)=0),RANK(P9,P$3:P$101,1),\"\")","v":""},{"$f":"IF(AND(Registration!$E8=\"n\",COUNTBLANK(Q9)=0),placingpoints(Q9,COUNTIF(Q$3:Q$101,\"=\"&Q9)),\"\")","v":""},{"$f":"IF(Registration!$E8=\"n\",Endurance!C8,\"\")","v":""},{"$f":"IF(AND(Registration!$E8=\"n\",COUNTBLANK(S9)=0),RANK(S9,S$3:S$101,0),\"\")","v":""},{"$f":"IF(AND(Registration!$E8=\"n\",COUNTBLANK(T9)=0),placingpoints(T9,COUNTIF(T$3:T$101,\"=\"&T9)),\"\")","v":""}]
[{"$f":"IF(Registration!E9=\"n\",RANK(B10,$B$3:$B$101,1),\"\")","v":""},{"$f":"IF(Registration!E9=\"n\",SUM(F10,I10,L10,O10,R10,U10),\"\")","v":""},{"$f":"IF(COUNTBLANK(Registration!B9)=1,\"\",IF(Registration!E9=\"n\",Registration!B9,\"\"))","v":""},{"$f":"IF(Registration!E9=\"n\",'Aussie Round'!V10,\"\")","v":""},{"$f":"IF(AND(Registration!$E9=\"n\",COUNTBLANK(D10)=0),RANK(D10,D$3:D$101,0),\"\")","v":""},{"$f":"IF(AND(Registration!$E9=\"n\",COUNTBLANK(E10)=0),placingpoints(E10,COUNTIF(E$3:E$101,\"=\"&E10)),\"\")","v":""},{"$f":"IF(Registration!$E9=\"n\",Accuracy!L9,\"\")","v":""},{"$f":"IF(AND(Registration!$E9=\"n\",COUNTBLANK(G10)=0),RANK(G10,G$3:G$102,0),\"\")","v":""},{"$f":"IF(AND(Registration!$E9=\"n\",COUNTBLANK(H10)=0),placingpoints(H10,COUNTIF(H$3:H$102,\"=\"&H10)),\"\")","v":""},{"$f":"IF(Registration!$E9=\"n\",MTA!G9,\"\")","v":""},{"$f":"IF(AND(Registration!$E9=\"n\",COUNTBLANK(J10)=0),RANK(J10,J$3:J$101,0),\"\")","v":""},{"$f":"IF(AND(Registration!$E9=\"n\",COUNTBLANK(K10)=0),placingpoints(K10,COUNTIF(K$3:K$101,\"=\"&K10)),\"\")","v":""},{"$f":"IF(Registration!$E9=\"n\",'Trick Catch'!X10,\"\")","v":""},{"$f":"IF(AND(Registration!$E9=\"n\",COUNTBLANK(M10)=0),RANK(M10,M$3:M$101,0),\"\")","v":""},{"$f":"IF(AND(Registration!$E9=\"n\",COUNTBLANK(N10)=0),placingpoints(N10,COUNTIF(N$3:N$101,\"=\"&N10)),\"\")","v":""},{"$f":"IF(Registration!$E9=\"n\",'Fast Catch'!F9,\"\")","v":""},{"$f":"IF(AND(Registration!$E9=\"n\",COUNTBLANK(P10)=0),RANK(P10,P$3:P$101,1),\"\")","v":""},{"$f":"IF(AND(Registration!$E9=\"n\",COUNTBLANK(Q10)=0),placingpoints(Q10,COUNTIF(Q$3:Q$101,\"=\"&Q10)),\"\")","v":""},{"$f":"IF(Registration!$E9=\"n\",Endurance!C9,\"\")","v":""},{"$f":"IF(AND(Registration!$E9=\"n\",COUNTBLANK(S10)=0),RANK(S10,S$3:S$101,0),\"\")","v":""},{"$f":"IF(AND(Registration!$E9=\"n\",COUNTBLANK(T10)=0),placingpoints(T10,COUNTIF(T$3:T$101,\"=\"&T10)),\"\")","v":""}]
[{"$f":"IF(Registration!E10=\"n\",RANK(B11,$B$3:$B$101,1),\"\")","v":""},{"$f":"IF(Registration!E10=\"n\",SUM(F11,I11,L11,O11,R11,U11),\"\")","v":""},{"$f":"IF(COUNTBLANK(Registration!B10)=1,\"\",IF(Registration!E10=\"n\",Registration!B10,\"\"))","v":""},{"$f":"IF(Registration!E10=\"n\",'Aussie Round'!V11,\"\")","v":""},{"$f":"IF(AND(Registration!$E10=\"n\",COUNTBLANK(D11)=0),RANK(D11,D$3:D$101,0),\"\")","v":""},{"$f":"IF(AND(Registration!$E10=\"n\",COUNTBLANK(E11)=0),placingpoints(E11,COUNTIF(E$3:E$101,\"=\"&E11)),\"\")","v":""},{"$f":"IF(Registration!$E10=\"n\",Accuracy!L10,\"\")","v":""},{"$f":"IF(AND(Registration!$E10=\"n\",COUNTBLANK(G11)=0),RANK(G11,G$3:G$102,0),\"\")","v":""},{"$f":"IF(AND(Registration!$E10=\"n\",COUNTBLANK(H11)=0),placingpoints(H11,COUNTIF(H$3:H$102,\"=\"&H11)),\"\")","v":""},{"$f":"IF(Registration!$E10=\"n\",MTA!G10,\"\")","v":""},{"$f":"IF(AND(Registration!$E10=\"n\",COUNTBLANK(J11)=0),RANK(J11,J$3:J$101,0),\"\")","v":""},{"$f":"IF(AND(Registration!$E10=\"n\",COUNTBLANK(K11)=0),placingpoints(K11,COUNTIF(K$3:K$101,\"=\"&K11)),\"\")","v":""},{"$f":"IF(Registration!$E10=\"n\",'Trick Catch'!X11,\"\")","v":""},{"$f":"IF(AND(Registration!$E10=\"n\",COUNTBLANK(M11)=0),RANK(M11,M$3:M$101,0),\"\")","v":""},{"$f":"IF(AND(Registration!$E10=\"n\",COUNTBLANK(N11)=0),placingpoints(N11,COUNTIF(N$3:N$101,\"=\"&N11)),\"\")","v":""},{"$f":"IF(Registration!$E10=\"n\",'Fast Catch'!F10,\"\")","v":""},{"$f":"IF(AND(Registration!$E10=\"n\",COUNTBLANK(P11)=0),RANK(P11,P$3:P$101,1),\"\")","v":""},{"$f":"IF(AND(Registration!$E10=\"n\",COUNTBLANK(Q11)=0),placingpoints(Q11,COUNTIF(Q$3:Q$101,\"=\"&Q11)),\"\")","v":""},{"$f":"IF(Registration!$E10=\"n\",Endurance!C10,\"\")","v":""},{"$f":"IF(AND(Registration!$E10=\"n\",COUNTBLANK(S11)=0),RANK(S11,S$3:S$101,0),\"\")","v":""},{"$f":"IF(AND(Registration!$E10=\"n\",COUNTBLANK(T11)=0),placingpoints(T11,COUNTIF(T$3:T$101,\"=\"&T11)),\"\")","v":""}]
[{"$f":"IF(Registration!E11=\"n\",RANK(B12,$B$3:$B$101,1),\"\")","v":""},{"$f":"IF(Registration!E11=\"n\",SUM(F12,I12,L12,O12,R12,U12),\"\")","v":""},{"$f":"IF(COUNTBLANK(Registration!B11)=1,\"\",IF(Registration!E11=\"n\",Registration!B11,\"\"))","v":""},{"$f":"IF(Registration!E11=\"n\",'Aussie Round'!V12,\"\")","v":""},{"$f":"IF(AND(Registration!$E11=\"n\",COUNTBLANK(D12)=0),RANK(D12,D$3:D$101,0),\"\")","v":""},{"$f":"IF(AND(Registration!$E11=\"n\",COUNTBLANK(E12)=0),placingpoints(E12,COUNTIF(E$3:E$101,\"=\"&E12)),\"\")","v":""},{"$f":"IF(Registration!$E11=\"n\",Accuracy!L11,\"\")","v":""},{"$f":"IF(AND(Registration!$E11=\"n\",COUNTBLANK(G12)=0),RANK(G12,G$3:G$102,0),\"\")","v":""},{"$f":"IF(AND(Registration!$E11=\"n\",COUNTBLANK(H12)=0),placingpoints(H12,COUNTIF(H$3:H$102,\"=\"&H12)),\"\")","v":""},{"$f":"IF(Registration!$E11=\"n\",MTA!G11,\"\")","v":""},{"$f":"IF(AND(Registration!$E11=\"n\",COUNTBLANK(J12)=0),RANK(J12,J$3:J$101,0),\"\")","v":""},{"$f":"IF(AND(Registration!$E11=\"n\",COUNTBLANK(K12)=0),placingpoints(K12,COUNTIF(K$3:K$101,\"=\"&K12)),\"\")","v":""},{"$f":"IF(Registration!$E11=\"n\",'Trick Catch'!X12,\"\")","v":""},{"$f":"IF(AND(Registration!$E11=\"n\",COUNTBLANK(M12)=0),RANK(M12,M$3:M$101,0),\"\")","v":""},{"$f":"IF(AND(Registration!$E11=\"n\",COUNTBLANK(N12)=0),placingpoints(N12,COUNTIF(N$3:N$101,\"=\"&N12)),\"\")","v":""},{"$f":"IF(Registration!$E11=\"n\",'Fast Catch'!F11,\"\")","v":""},{"$f":"IF(AND(Registration!$E11=\"n\",COUNTBLANK(P12)=0),RANK(P12,P$3:P$101,1),\"\")","v":""},{"$f":"IF(AND(Registration!$E11=\"n\",COUNTBLANK(Q12)=0),placingpoints(Q12,COUNTIF(Q$3:Q$101,\"=\"&Q12)),\"\")","v":""},{"$f":"IF(Registration!$E11=\"n\",Endurance!C11,\"\")","v":""},{"$f":"IF(AND(Registration!$E11=\"n\",COUNTBLANK(S12)=0),RANK(S12,S$3:S$101,0),\"\")","v":""},{"$f":"IF(AND(Registration!$E11=\"n\",COUNTBLANK(T12)=0),placingpoints(T12,COUNTIF(T$3:T$101,\"=\"&T12)),\"\")","v":""}]
[{"$f":"IF(Registration!E12=\"n\",RANK(B13,$B$3:$B$101,1),\"\")","v":""},{"$f":"IF(Registration!E12=\"n\",SUM(F13,I13,L13,O13,R13,U13),\"\")","v":""},{"$f":"IF(COUNTBLANK(Registration!B12)=1,\"\",IF(Registration!E12=\"n\",Registration!B12,\"\"))","v":""},{"$f":"IF(Registration!E12=\"n\",'Aussie Round'!V13,\"\")","v":""},{"$f":"IF(AND(Registration!$E12=\"n\",COUNTBLANK(D13)=0),RANK(D13,D$3:D$101,0),\"\")","v":""},{"$f":"IF(AND(Registration!$E12=\"n\",COUNTBLANK(E13)=0),placingpoints(E13,COUNTIF(E$3:E$101,\"=\"&E13)),\"\")","v":""},{"$f":"IF(Registration!$E12=\"n\",Accuracy!L12,\"\")","v":""},{"$f":"IF(AND(Registration!$E12=\"n\",COUNTBLANK(G13)=0),RANK(G13,G$3:G$102,0),\"\")","v":""},{"$f":"IF(AND(Registration!$E12=\"n\",COUNTBLANK(H13)=0),placingpoints(H13,COUNTIF(H$3:H$102,\"=\"&H13)),\"\")","v":""},{"$f":"IF(Registration!$E12=\"n\",MTA!G12,\"\")","v":""},{"$f":"IF(AND(Registration!$E12=\"n\",COUNTBLANK(J13)=0),RANK(J13,J$3:J$101,0),\"\")","v":""},{"$f":"IF(AND(Registration!$E12=\"n\",COUNTBLANK(K13)=0),placingpoints(K13,COUNTIF(K$3:K$101,\"=\"&K13)),\"\")","v":""},{"$f":"IF(Registration!$E12=\"n\",'Trick Catch'!X13,\"\")","v":""},{"$f":"IF(AND(Registration!$E12=\"n\",COUNTBLANK(M13)=0),RANK(M13,M$3:M$101,0),\"\")","v":""},{"$f":"IF(AND(Registration!$E12=\"n\",COUNTBLANK(N13)=0),placingpoints(N13,COUNTIF(N$3:N$101,\"=\"&N13)),\"\")","v":""},{"$f":"IF(Registration!$E12=\"n\",'Fast Catch'!F12,\"\")","v":""},{"$f":"IF(AND(Registration!$E12=\"n\",COUNTBLANK(P13)=0),RANK(P13,P$3:P$101,1),\"\")","v":""},{"$f":"IF(AND(Registration!$E12=\"n\",COUNTBLANK(Q13)=0),placingpoints(Q13,COUNTIF(Q$3:Q$101,\"=\"&Q13)),\"\")","v":""},{"$f":"IF(Registration!$E12=\"n\",Endurance!C12,\"\")","v":""},{"$f":"IF(AND(Registration!$E12=\"n\",COUNTBLANK(S13)=0),RANK(S13,S$3:S$101,0),\"\")","v":""},{"$f":"IF(AND(Registration!$E12=\"n\",COUNTBLANK(T13)=0),placingpoints(T13,COUNTIF(T$3:T$101,\"=\"&T13)),\"\")","v":""}]
[{"$f":"IF(Registration!E13=\"n\",RANK(B14,$B$3:$B$101,1),\"\")","v":""},{"$f":"IF(Registration!E13=\"n\",SUM(F14,I14,L14,O14,R14,U14),\"\")","v":""},{"$f":"IF(COUNTBLANK(Registration!B13)=1,\"\",IF(Registration!E13=\"n\",Registration!B13,\"\"))","v":""},{"$f":"IF(Registration!E13=\"n\",'Aussie Round'!V14,\"\")","v":""},{"$f":"IF(AND(Registration!$E13=\"n\",COUNTBLANK(D14)=0),RANK(D14,D$3:D$101,0),\"\")","v":""},{"$f":"IF(AND(Registration!$E13=\"n\",COUNTBLANK(E14)=0),placingpoints(E14,COUNTIF(E$3:E$101,\"=\"&E14)),\"\")","v":""},{"$f":"IF(Registration!$E13=\"n\",Accuracy!L13,\"\")","v":""},{"$f":"IF(AND(Registration!$E13=\"n\",COUNTBLANK(G14)=0),RANK(G14,G$3:G$102,0),\"\")","v":""},{"$f":"IF(AND(Registration!$E13=\"n\",COUNTBLANK(H14)=0),placingpoints(H14,COUNTIF(H$3:H$102,\"=\"&H14)),\"\")","v":""},{"$f":"IF(Registration!$E13=\"n\",MTA!G13,\"\")","v":""},{"$f":"IF(AND(Registration!$E13=\"n\",COUNTBLANK(J14)=0),RANK(J14,J$3:J$101,0),\"\")","v":""},{"$f":"IF(AND(Registration!$E13=\"n\",COUNTBLANK(K14)=0),placingpoints(K14,COUNTIF(K$3:K$101,\"=\"&K14)),\"\")","v":""},{"$f":"IF(Registration!$E13=\"n\",'Trick Catch'!X14,\"\")","v":""},{"$f":"IF(AND(Registration!$E13=\"n\",COUNTBLANK(M14)=0),RANK(M14,M$3:M$101,0),\"\")","v":""},{"$f":"IF(AND(Registration!$E13=\"n\",COUNTBLANK(N14)=0),placingpoints(N14,COUNTIF(N$3:N$101,\"=\"&N14)),\"\")","v":""},{"$f":"IF(Registration!$E13=\"n\",'Fast Catch'!F13,\"\")","v":""},{"$f":"IF(AND(Registration!$E13=\"n\",COUNTBLANK(P14)=0),RANK(P14,P$3:P$101,1),\"\")","v":""},{"$f":"IF(AND(Registration!$E13=\"n\",COUNTBLANK(Q14)=0),placingpoints(Q14,COUNTIF(Q$3:Q$101,\"=\"&Q14)),\"\")","v":""},{"$f":"IF(Registration!$E13=\"n\",Endurance!C13,\"\")","v":""},{"$f":"IF(AND(Registration!$E13=\"n\",COUNTBLANK(S14)=0),RANK(S14,S$3:S$101,0),\"\")","v":""},{"$f":"IF(AND(Registration!$E13=\"n\",COUNTBLANK(T14)=0),placingpoints(T14,COUNTIF(T$3:T$101,\"=\"&T14)),\"\")","v":""}]
[{"$f":"IF(Registration!E14=\"n\",RANK(B15,$B$3:$B$101,1),\"\")","v":""},{"$f":"IF(Registration!E14=\"n\",SUM(F15,I15,L15,O15,R15,U15),\"\")","v":""},{"$f":"IF(COUNTBLANK(Registration!B14)=1,\"\",IF(Registration!E14=\"n\",Registration!B14,\"\"))","v":""},{"$f":"IF(Registration!E14=\"n\",'Aussie Round'!V15,\"\")","v":""},{"$f":"IF(AND(Registration!$E14=\"n\",COUNTBLANK(D15)=0),RANK(D15,D$3:D$101,0),\"\")","v":""},{"$f":"IF(AND(Registration!$E14=\"n\",COUNTBLANK(E15)=0),placingpoints(E15,COUNTIF(E$3:E$101,\"=\"&E15)),\"\")","v":""},{"$f":"IF(Registration!$E14=\"n\",Accuracy!L14,\"\")","v":""},{"$f":"IF(AND(Registration!$E14=\"n\",COUNTBLANK(G15)=0),RANK(G15,G$3:G$102,0),\"\")","v":""},{"$f":"IF(AND(Registration!$E14=\"n\",COUNTBLANK(H15)=0),placingpoints(H15,COUNTIF(H$3:H$102,\"=\"&H15)),\"\")","v":""},{"$f":"IF(Registration!$E14=\"n\",MTA!G14,\"\")","v":""},{"$f":"IF(AND(Registration!$E14=\"n\",COUNTBLANK(J15)=0),RANK(J15,J$3:J$101,0),\"\")","v":""},{"$f":"IF(AND(Registration!$E14=\"n\",COUNTBLANK(K15)=0),placingpoints(K15,COUNTIF(K$3:K$101,\"=\"&K15)),\"\")","v":""},{"$f":"IF(Registration!$E14=\"n\",'Trick Catch'!X15,\"\")","v":""},{"$f":"IF(AND(Registration!$E14=\"n\",COUNTBLANK(M15)=0),RANK(M15,M$3:M$101,0),\"\")","v":""},{"$f":"IF(AND(Registration!$E14=\"n\",COUNTBLANK(N15)=0),placingpoints(N15,COUNTIF(N$3:N$101,\"=\"&N15)),\"\")","v":""},{"$f":"IF(Registration!$E14=\"n\",'Fast Catch'!F14,\"\")","v":""},{"$f":"IF(AND(Registration!$E14=\"n\",COUNTBLANK(P15)=0),RANK(P15,P$3:P$101,1),\"\")","v":""},{"$f":"IF(AND(Registration!$E14=\"n\",COUNTBLANK(Q15)=0),placingpoints(Q15,COUNTIF(Q$3:Q$101,\"=\"&Q15)),\"\")","v":""},{"$f":"IF(Registration!$E14=\"n\",Endurance!C14,\"\")","v":""},{"$f":"IF(AND(Registration!$E14=\"n\",COUNTBLANK(S15)=0),RANK(S15,S$3:S$101,0),\"\")","v":""},{"$f":"IF(AND(Registration!$E14=\"n\",COUNTBLANK(T15)=0),placingpoints(T15,COUNTIF(T$3:T$101,\"=\"&T15)),\"\")","v":""}]
[{"$f":"IF(Registration!E15=\"n\",RANK(B16,$B$3:$B$101,1),\"\")","v":""},{"$f":"IF(Registration!E15=\"n\",SUM(F16,I16,L16,O16,R16,U16),\"\")","v":""},{"$f":"IF(COUNTBLANK(Registration!B15)=1,\"\",IF(Registration!E15=\"n\",Registration!B15,\"\"))","v":""},{"$f":"IF(Registration!E15=\"n\",'Aussie Round'!V16,\"\")","v":""},{"$f":"IF(AND(Registration!$E15=\"n\",COUNTBLANK(D16)=0),RANK(D16,D$3:D$101,0),\"\")","v":""},{"$f":"IF(AND(Registration!$E15=\"n\",COUNTBLANK(E16)=0),placingpoints(E16,COUNTIF(E$3:E$101,\"=\"&E16)),\"\")","v":""},{"$f":"IF(Registration!$E15=\"n\",Accuracy!L15,\"\")","v":""},{"$f":"IF(AND(Registration!$E15=\"n\",COUNTBLANK(G16)=0),RANK(G16,G$3:G$102,0),\"\")","v":""},{"$f":"IF(AND(Registration!$E15=\"n\",COUNTBLANK(H16)=0),placingpoints(H16,COUNTIF(H$3:H$102,\"=\"&H16)),\"\")","v":""},{"$f":"IF(Registration!$E15=\"n\",MTA!G15,\"\")","v":""},{"$f":"IF(AND(Registration!$E15=\"n\",COUNTBLANK(J16)=0),RANK(J16,J$3:J$101,0),\"\")","v":""},{"$f":"IF(AND(Registration!$E15=\"n\",COUNTBLANK(K16)=0),placingpoints(K16,COUNTIF(K$3:K$101,\"=\"&K16)),\"\")","v":""},{"$f":"IF(Registration!$E15=\"n\",'Trick Catch'!X16,\"\")","v":""},{"$f":"IF(AND(Registration!$E15=\"n\",COUNTBLANK(M16)=0),RANK(M16,M$3:M$101,0),\"\")","v":""},{"$f":"IF(AND(Registration!$E15=\"n\",COUNTBLANK(N16)=0),placingpoints(N16,COUNTIF(N$3:N$101,\"=\"&N16)),\"\")","v":""},{"$f":"IF(Registration!$E15=\"n\",'Fast Catch'!F15,\"\")","v":""},{"$f":"IF(AND(Registration!$E15=\"n\",COUNTBLANK(P16)=0),RANK(P16,P$3:P$101,1),\"\")","v":""},{"$f":"IF(AND(Registration!$E15=\"n\",COUNTBLANK(Q16)=0),placingpoints(Q16,COUNTIF(Q$3:Q$101,\"=\"&Q16)),\"\")","v":""},{"$f":"IF(Registration!$E15=\"n\",Endurance!C15,\"\")","v":""},{"$f":"IF(AND(Registration!$E15=\"n\",COUNTBLANK(S16)=0),RANK(S16,S$3:S$101,0),\"\")","v":""},{"$f":"IF(AND(Registration!$E15=\"n\",COUNTBLANK(T16)=0),placingpoints(T16,COUNTIF(T$3:T$101,\"=\"&T16)),\"\")","v":""}]
[{"$f":"IF(Registration!E16=\"n\",RANK(B17,$B$3:$B$101,1),\"\")","v":""},{"$f":"IF(Registration!E16=\"n\",SUM(F17,I17,L17,O17,R17,U17),\"\")","v":""},{"$f":"IF(COUNTBLANK(Registration!B16)=1,\"\",IF(Registration!E16=\"n\",Registration!B16,\"\"))","v":""},{"$f":"IF(Registration!E16=\"n\",'Aussie Round'!V17,\"\")","v":""},{"$f":"IF(AND(Registration!$E16=\"n\",COUNTBLANK(D17)=0),RANK(D17,D$3:D$101,0),\"\")","v":""},{"$f":"IF(AND(Registration!$E16=\"n\",COUNTBLANK(E17)=0),placingpoints(E17,COUNTIF(E$3:E$101,\"=\"&E17)),\"\")","v":""},{"$f":"IF(Registration!$E16=\"n\",Accuracy!L16,\"\")","v":""},{"$f":"IF(AND(Registration!$E16=\"n\",COUNTBLANK(G17)=0),RANK(G17,G$3:G$102,0),\"\")","v":""},{"$f":"IF(AND(Registration!$E16=\"n\",COUNTBLANK(H17)=0),placingpoints(H17,COUNTIF(H$3:H$102,\"=\"&H17)),\"\")","v":""},{"$f":"IF(Registration!$E16=\"n\",MTA!G16,\"\")","v":""},{"$f":"IF(AND(Registration!$E16=\"n\",COUNTBLANK(J17)=0),RANK(J17,J$3:J$101,0),\"\")","v":""},{"$f":"IF(AND(Registration!$E16=\"n\",COUNTBLANK(K17)=0),placingpoints(K17,COUNTIF(K$3:K$101,\"=\"&K17)),\"\")","v":""},{"$f":"IF(Registration!$E16=\"n\",'Trick Catch'!X17,\"\")","v":""},{"$f":"IF(AND(Registration!$E16=\"n\",COUNTBLANK(M17)=0),RANK(M17,M$3:M$101,0),\"\")","v":""},{"$f":"IF(AND(Registration!$E16=\"n\",COUNTBLANK(N17)=0),placingpoints(N17,COUNTIF(N$3:N$101,\"=\"&N17)),\"\")","v":""},{"$f":"IF(Registration!$E16=\"n\",'Fast Catch'!F16,\"\")","v":""},{"$f":"IF(AND(Registration!$E16=\"n\",COUNTBLANK(P17)=0),RANK(P17,P$3:P$101,1),\"\")","v":""},{"$f":"IF(AND(Registration!$E16=\"n\",COUNTBLANK(Q17)=0),placingpoints(Q17,COUNTIF(Q$3:Q$101,\"=\"&Q17)),\"\")","v":""},{"$f":"IF(Registration!$E16=\"n\",Endurance!C16,\"\")","v":""},{"$f":"IF(AND(Registration!$E16=\"n\",COUNTBLANK(S17)=0),RANK(S17,S$3:S$101,0),\"\")","v":""},{"$f":"IF(AND(Registration!$E16=\"n\",COUNTBLANK(T17)=0),placingpoints(T17,COUNTIF(T$3:T$101,\"=\"&T17)),\"\")","v":""}]
[{"$f":"IF(Registration!E17=\"n\",RANK(B18,$B$3:$B$101,1),\"\")","v":""},{"$f":"IF(Registration!E17=\"n\",SUM(F18,I18,L18,O18,R18,U18),\"\")","v":""},{"$f":"IF(COUNTBLANK(Registration!B17)=1,\"\",IF(Registration!E17=\"n\",Registration!B17,\"\"))","v":""},{"$f":"IF(Registration!E17=\"n\",'Aussie Round'!V18,\"\")","v":""},{"$f":"IF(AND(Registration!$E17=\"n\",COUNTBLANK(D18)=0),RANK(D18,D$3:D$101,0),\"\")","v":""},{"$f":"IF(AND(Registration!$E17=\"n\",COUNTBLANK(E18)=0),placingpoints(E18,COUNTIF(E$3:E$101,\"=\"&E18)),\"\")","v":""},{"$f":"IF(Registration!$E17=\"n\",Accuracy!L17,\"\")","v":""},{"$f":"IF(AND(Registration!$E17=\"n\",COUNTBLANK(G18)=0),RANK(G18,G$3:G$102,0),\"\")","v":""},{"$f":"IF(AND(Registration!$E17=\"n\",COUNTBLANK(H18)=0),placingpoints(H18,COUNTIF(H$3:H$102,\"=\"&H18)),\"\")","v":""},{"$f":"IF(Registration!$E17=\"n\",MTA!G17,\"\")","v":""},{"$f":"IF(AND(Registration!$E17=\"n\",COUNTBLANK(J18)=0),RANK(J18,J$3:J$101,0),\"\")","v":""},{"$f":"IF(AND(Registration!$E17=\"n\",COUNTBLANK(K18)=0),placingpoints(K18,COUNTIF(K$3:K$101,\"=\"&K18)),\"\")","v":""},{"$f":"IF(Registration!$E17=\"n\",'Trick Catch'!X18,\"\")","v":""},{"$f":"IF(AND(Registration!$E17=\"n\",COUNTBLANK(M18)=0),RANK(M18,M$3:M$101,0),\"\")","v":""},{"$f":"IF(AND(Registration!$E17=\"n\",COUNTBLANK(N18)=0),placingpoints(N18,COUNTIF(N$3:N$101,\"=\"&N18)),\"\")","v":""},{"$f":"IF(Registration!$E17=\"n\",'Fast Catch'!F17,\"\")","v":""},{"$f":"IF(AND(Registration!$E17=\"n\",COUNTBLANK(P18)=0),RANK(P18,P$3:P$101,1),\"\")","v":""},{"$f":"IF(AND(Registration!$E17=\"n\",COUNTBLANK(Q18)=0),placingpoints(Q18,COUNTIF(Q$3:Q$101,\"=\"&Q18)),\"\")","v":""},{"$f":"IF(Registration!$E17=\"n\",Endurance!C17,\"\")","v":""},{"$f":"IF(AND(Registration!$E17=\"n\",COUNTBLANK(S18)=0),RANK(S18,S$3:S$101,0),\"\")","v":""},{"$f":"IF(AND(Registration!$E17=\"n\",COUNTBLANK(T18)=0),placingpoints(T18,COUNTIF(T$3:T$101,\"=\"&T18)),\"\")","v":""}]
[{"$f":"IF(Registration!E18=\"n\",RANK(B19,$B$3:$B$101,1),\"\")","v":""},{"$f":"IF(Registration!E18=\"n\",SUM(F19,I19,L19,O19,R19,U19),\"\")","v":""},{"$f":"IF(COUNTBLANK(Registration!B18)=1,\"\",IF(Registration!E18=\"n\",Registration!B18,\"\"))","v":""},{"$f":"IF(Registration!E18=\"n\",'Aussie Round'!V19,\"\")","v":""},{"$f":"IF(AND(Registration!$E18=\"n\",COUNTBLANK(D19)=0),RANK(D19,D$3:D$101,0),\"\")","v":""},{"$f":"IF(AND(Registration!$E18=\"n\",COUNTBLANK(E19)=0),placingpoints(E19,COUNTIF(E$3:E$101,\"=\"&E19)),\"\")","v":""},{"$f":"IF(Registration!$E18=\"n\",Accuracy!L18,\"\")","v":""},{"$f":"IF(AND(Registration!$E18=\"n\",COUNTBLANK(G19)=0),RANK(G19,G$3:G$102,0),\"\")","v":""},{"$f":"IF(AND(Registration!$E18=\"n\",COUNTBLANK(H19)=0),placingpoints(H19,COUNTIF(H$3:H$102,\"=\"&H19)),\"\")","v":""},{"$f":"IF(Registration!$E18=\"n\",MTA!G18,\"\")","v":""},{"$f":"IF(AND(Registration!$E18=\"n\",COUNTBLANK(J19)=0),RANK(J19,J$3:J$101,0),\"\")","v":""},{"$f":"IF(AND(Registration!$E18=\"n\",COUNTBLANK(K19)=0),placingpoints(K19,COUNTIF(K$3:K$101,\"=\"&K19)),\"\")","v":""},{"$f":"IF(Registration!$E18=\"n\",'Trick Catch'!X19,\"\")","v":""},{"$f":"IF(AND(Registration!$E18=\"n\",COUNTBLANK(M19)=0),RANK(M19,M$3:M$101,0),\"\")","v":""},{"$f":"IF(AND(Registration!$E18=\"n\",COUNTBLANK(N19)=0),placingpoints(N19,COUNTIF(N$3:N$101,\"=\"&N19)),\"\")","v":""},{"$f":"IF(Registration!$E18=\"n\",'Fast Catch'!F18,\"\")","v":""},{"$f":"IF(AND(Registration!$E18=\"n\",COUNTBLANK(P19)=0),RANK(P19,P$3:P$101,1),\"\")","v":""},{"$f":"IF(AND(Registration!$E18=\"n\",COUNTBLANK(Q19)=0),placingpoints(Q19,COUNTIF(Q$3:Q$101,\"=\"&Q19)),\"\")","v":""},{"$f":"IF(Registration!$E18=\"n\",Endurance!C18,\"\")","v":""},{"$f":"IF(AND(Registration!$E18=\"n\",COUNTBLANK(S19)=0),RANK(S19,S$3:S$101,0),\"\")","v":""},{"$f":"IF(AND(Registration!$E18=\"n\",COUNTBLANK(T19)=0),placingpoints(T19,COUNTIF(T$3:T$101,\"=\"&T19)),\"\")","v":""}]
[{"$f":"IF(Registration!E19=\"n\",RANK(B20,$B$3:$B$101,1),\"\")","v":""},{"$f":"IF(Registration!E19=\"n\",SUM(F20,I20,L20,O20,R20,U20),\"\")","v":""},{"$f":"IF(COUNTBLANK(Registration!B19)=1,\"\",IF(Registration!E19=\"n\",Registration!B19,\"\"))","v":""},{"$f":"IF(Registration!E19=\"n\",'Aussie Round'!V20,\"\")","v":""},{"$f":"IF(AND(Registration!$E19=\"n\",COUNTBLANK(D20)=0),RANK(D20,D$3:D$101,0),\"\")","v":""},{"$f":"IF(AND(Registration!$E19=\"n\",COUNTBLANK(E20)=0),placingpoints(E20,COUNTIF(E$3:E$101,\"=\"&E20)),\"\")","v":""},{"$f":"IF(Registration!$E19=\"n\",Accuracy!L19,\"\")","v":""},{"$f":"IF(AND(Registration!$E19=\"n\",COUNTBLANK(G20)=0),RANK(G20,G$3:G$102,0),\"\")","v":""},{"$f":"IF(AND(Registration!$E19=\"n\",COUNTBLANK(H20)=0),placingpoints(H20,COUNTIF(H$3:H$102,\"=\"&H20)),\"\")","v":""},{"$f":"IF(Registration!$E19=\"n\",MTA!G19,\"\")","v":""},{"$f":"IF(AND(Registration!$E19=\"n\",COUNTBLANK(J20)=0),RANK(J20,J$3:J$101,0),\"\")","v":""},{"$f":"IF(AND(Registration!$E19=\"n\",COUNTBLANK(K20)=0),placingpoints(K20,COUNTIF(K$3:K$101,\"=\"&K20)),\"\")","v":""},{"$f":"IF(Registration!$E19=\"n\",'Trick Catch'!X20,\"\")","v":""},{"$f":"IF(AND(Registration!$E19=\"n\",COUNTBLANK(M20)=0),RANK(M20,M$3:M$101,0),\"\")","v":""},{"$f":"IF(AND(Registration!$E19=\"n\",COUNTBLANK(N20)=0),placingpoints(N20,COUNTIF(N$3:N$101,\"=\"&N20)),\"\")","v":""},{"$f":"IF(Registration!$E19=\"n\",'Fast Catch'!F19,\"\")","v":""},{"$f":"IF(AND(Registration!$E19=\"n\",COUNTBLANK(P20)=0),RANK(P20,P$3:P$101,1),\"\")","v":""},{"$f":"IF(AND(Registration!$E19=\"n\",COUNTBLANK(Q20)=0),placingpoints(Q20,COUNTIF(Q$3:Q$101,\"=\"&Q20)),\"\")","v":""},{"$f":"IF(Registration!$E19=\"n\",Endurance!C19,\"\")","v":""},{"$f":"IF(AND(Registration!$E19=\"n\",COUNTBLANK(S20)=0),RANK(S20,S$3:S$101,0),\"\")","v":""},{"$f":"IF(AND(Registration!$E19=\"n\",COUNTBLANK(T20)=0),placingpoints(T20,COUNTIF(T$3:T$101,\"=\"&T20)),\"\")","v":""}]
[{"$f":"IF(Registration!E20=\"n\",RANK(B21,$B$3:$B$101,1),\"\")","v":""},{"$f":"IF(Registration!E20=\"n\",SUM(F21,I21,L21,O21,R21,U21),\"\")","v":""},{"$f":"IF(COUNTBLANK(Registration!B20)=1,\"\",IF(Registration!E20=\"n\",Registration!B20,\"\"))","v":""},{"$f":"IF(Registration!E20=\"n\",'Aussie Round'!V21,\"\")","v":""},{"$f":"IF(AND(Registration!$E20=\"n\",COUNTBLANK(D21)=0),RANK(D21,D$3:D$101,0),\"\")","v":""},{"$f":"IF(AND(Registration!$E20=\"n\",COUNTBLANK(E21)=0),placingpoints(E21,COUNTIF(E$3:E$101,\"=\"&E21)),\"\")","v":""},{"$f":"IF(Registration!$E20=\"n\",Accuracy!L20,\"\")","v":""},{"$f":"IF(AND(Registration!$E20=\"n\",COUNTBLANK(G21)=0),RANK(G21,G$3:G$102,0),\"\")","v":""},{"$f":"IF(AND(Registration!$E20=\"n\",COUNTBLANK(H21)=0),placingpoints(H21,COUNTIF(H$3:H$102,\"=\"&H21)),\"\")","v":""},{"$f":"IF(Registration!$E20=\"n\",MTA!G20,\"\")","v":""},{"$f":"IF(AND(Registration!$E20=\"n\",COUNTBLANK(J21)=0),RANK(J21,J$3:J$101,0),\"\")","v":""},{"$f":"IF(AND(Registration!$E20=\"n\",COUNTBLANK(K21)=0),placingpoints(K21,COUNTIF(K$3:K$101,\"=\"&K21)),\"\")","v":""},{"$f":"IF(Registration!$E20=\"n\",'Trick Catch'!X21,\"\")","v":""},{"$f":"IF(AND(Registration!$E20=\"n\",COUNTBLANK(M21)=0),RANK(M21,M$3:M$101,0),\"\")","v":""},{"$f":"IF(AND(Registration!$E20=\"n\",COUNTBLANK(N21)=0),placingpoints(N21,COUNTIF(N$3:N$101,\"=\"&N21)),\"\")","v":""},{"$f":"IF(Registration!$E20=\"n\",'Fast Catch'!F20,\"\")","v":""},{"$f":"IF(AND(Registration!$E20=\"n\",COUNTBLANK(P21)=0),RANK(P21,P$3:P$101,1),\"\")","v":""},{"$f":"IF(AND(Registration!$E20=\"n\",COUNTBLANK(Q21)=0),placingpoints(Q21,COUNTIF(Q$3:Q$101,\"=\"&Q21)),\"\")","v":""},{"$f":"IF(Registration!$E20=\"n\",Endurance!C20,\"\")","v":""},{"$f":"IF(AND(Registration!$E20=\"n\",COUNTBLANK(S21)=0),RANK(S21,S$3:S$101,0),\"\")","v":""},{"$f":"IF(AND(Registration!$E20=\"n\",COUNTBLANK(T21)=0),placingpoints(T21,COUNTIF(T$3:T$101,\"=\"&T21)),\"\")","v":""}]
[{"$f":"IF(Registration!E21=\"n\",RANK(B22,$B$3:$B$101,1),\"\")","v":""},{"$f":"IF(Registration!E21=\"n\",SUM(F22,I22,L22,O22,R22,U22),\"\")","v":""},{"$f":"IF(COUNTBLANK(Registration!B21)=1,\"\",IF(Registration!E21=\"n\",Registration!B21,\"\"))","v":""},{"$f":"IF(Registration!E21=\"n\",'Aussie Round'!V22,\"\")","v":""},{"$f":"IF(AND(Registration!$E21=\"n\",COUNTBLANK(D22)=0),RANK(D22,D$3:D$101,0),\"\")","v":""},{"$f":"IF(AND(Registration!$E21=\"n\",COUNTBLANK(E22)=0),placingpoints(E22,COUNTIF(E$3:E$101,\"=\"&E22)),\"\")","v":""},{"$f":"IF(Registration!$E21=\"n\",Accuracy!L21,\"\")","v":""},{"$f":"IF(AND(Registration!$E21=\"n\",COUNTBLANK(G22)=0),RANK(G22,G$3:G$102,0),\"\")","v":""},{"$f":"IF(AND(Registration!$E21=\"n\",COUNTBLANK(H22)=0),placingpoints(H22,COUNTIF(H$3:H$102,\"=\"&H22)),\"\")","v":""},{"$f":"IF(Registration!$E21=\"n\",MTA!G21,\"\")","v":""},{"$f":"IF(AND(Registration!$E21=\"n\",COUNTBLANK(J22)=0),RANK(J22,J$3:J$101,0),\"\")","v":""},{"$f":"IF(AND(Registration!$E21=\"n\",COUNTBLANK(K22)=0),placingpoints(K22,COUNTIF(K$3:K$101,\"=\"&K22)),\"\")","v":""},{"$f":"IF(Registration!$E21=\"n\",'Trick Catch'!X22,\"\")","v":""},{"$f":"IF(AND(Registration!$E21=\"n\",COUNTBLANK(M22)=0),RANK(M22,M$3:M$101,0),\"\")","v":""},{"$f":"IF(AND(Registration!$E21=\"n\",COUNTBLANK(N22)=0),placingpoints(N22,COUNTIF(N$3:N$101,\"=\"&N22)),\"\")","v":""},{"$f":"IF(Registration!$E21=\"n\",'Fast Catch'!F21,\"\")","v":""},{"$f":"IF(AND(Registration!$E21=\"n\",COUNTBLANK(P22)=0),RANK(P22,P$3:P$101,1),\"\")","v":""},{"$f":"IF(AND(Registration!$E21=\"n\",COUNTBLANK(Q22)=0),placingpoints(Q22,COUNTIF(Q$3:Q$101,\"=\"&Q22)),\"\")","v":""},{"$f":"IF(Registration!$E21=\"n\",Endurance!C21,\"\")","v":""},{"$f":"IF(AND(Registration!$E21=\"n\",COUNTBLANK(S22)=0),RANK(S22,S$3:S$101,0),\"\")","v":""},{"$f":"IF(AND(Registration!$E21=\"n\",COUNTBLANK(T22)=0),placingpoints(T22,COUNTIF(T$3:T$101,\"=\"&T22)),\"\")","v":""}]
[{"$f":"IF(Registration!E22=\"n\",RANK(B23,$B$3:$B$101,1),\"\")","v":""},{"$f":"IF(Registration!E22=\"n\",SUM(F23,I23,L23,O23,R23,U23),\"\")","v":""},{"$f":"IF(COUNTBLANK(Registration!B22)=1,\"\",IF(Registration!E22=\"n\",Registration!B22,\"\"))","v":""},{"$f":"IF(Registration!E22=\"n\",'Aussie Round'!V23,\"\")","v":""},{"$f":"IF(AND(Registration!$E22=\"n\",COUNTBLANK(D23)=0),RANK(D23,D$3:D$101,0),\"\")","v":""},{"$f":"IF(AND(Registration!$E22=\"n\",COUNTBLANK(E23)=0),placingpoints(E23,COUNTIF(E$3:E$101,\"=\"&E23)),\"\")","v":""},{"$f":"IF(Registration!$E22=\"n\",Accuracy!L22,\"\")","v":""},{"$f":"IF(AND(Registration!$E22=\"n\",COUNTBLANK(G23)=0),RANK(G23,G$3:G$102,0),\"\")","v":""},{"$f":"IF(AND(Registration!$E22=\"n\",COUNTBLANK(H23)=0),placingpoints(H23,COUNTIF(H$3:H$102,\"=\"&H23)),\"\")","v":""},{"$f":"IF(Registration!$E22=\"n\",MTA!G22,\"\")","v":""},{"$f":"IF(AND(Registration!$E22=\"n\",COUNTBLANK(J23)=0),RANK(J23,J$3:J$101,0),\"\")","v":""},{"$f":"IF(AND(Registration!$E22=\"n\",COUNTBLANK(K23)=0),placingpoints(K23,COUNTIF(K$3:K$101,\"=\"&K23)),\"\")","v":""},{"$f":"IF(Registration!$E22=\"n\",'Trick Catch'!X23,\"\")","v":""},{"$f":"IF(AND(Registration!$E22=\"n\",COUNTBLANK(M23)=0),RANK(M23,M$3:M$101,0),\"\")","v":""},{"$f":"IF(AND(Registration!$E22=\"n\",COUNTBLANK(N23)=0),placingpoints(N23,COUNTIF(N$3:N$101,\"=\"&N23)),\"\")","v":""},{"$f":"IF(Registration!$E22=\"n\",'Fast Catch'!F22,\"\")","v":""},{"$f":"IF(AND(Registration!$E22=\"n\",COUNTBLANK(P23)=0),RANK(P23,P$3:P$101,1),\"\")","v":""},{"$f":"IF(AND(Registration!$E22=\"n\",COUNTBLANK(Q23)=0),placingpoints(Q23,COUNTIF(Q$3:Q$101,\"=\"&Q23)),\"\")","v":""},{"$f":"IF(Registration!$E22=\"n\",Endurance!C22,\"\")","v":""},{"$f":"IF(AND(Registration!$E22=\"n\",COUNTBLANK(S23)=0),RANK(S23,S$3:S$101,0),\"\")","v":""},{"$f":"IF(AND(Registration!$E22=\"n\",COUNTBLANK(T23)=0),placingpoints(T23,COUNTIF(T$3:T$101,\"=\"&T23)),\"\")","v":""}]
[{"$f":"IF(Registration!E23=\"n\",RANK(B24,$B$3:$B$101,1),\"\")","v":""},{"$f":"IF(Registration!E23=\"n\",SUM(F24,I24,L24,O24,R24,U24),\"\")","v":""},{"$f":"IF(COUNTBLANK(Registration!B23)=1,\"\",IF(Registration!E23=\"n\",Registration!B23,\"\"))","v":""},{"$f":"IF(Registration!E23=\"n\",'Aussie Round'!V24,\"\")","v":""},{"$f":"IF(AND(Registration!$E23=\"n\",COUNTBLANK(D24)=0),RANK(D24,D$3:D$101,0),\"\")","v":""},{"$f":"IF(AND(Registration!$E23=\"n\",COUNTBLANK(E24)=0),placingpoints(E24,COUNTIF(E$3:E$101,\"=\"&E24)),\"\")","v":""},{"$f":"IF(Registration!$E23=\"n\",Accuracy!L23,\"\")","v":""},{"$f":"IF(AND(Registration!$E23=\"n\",COUNTBLANK(G24)=0),RANK(G24,G$3:G$102,0),\"\")","v":""},{"$f":"IF(AND(Registration!$E23=\"n\",COUNTBLANK(H24)=0),placingpoints(H24,COUNTIF(H$3:H$102,\"=\"&H24)),\"\")","v":""},{"$f":"IF(Registration!$E23=\"n\",MTA!G23,\"\")","v":""},{"$f":"IF(AND(Registration!$E23=\"n\",COUNTBLANK(J24)=0),RANK(J24,J$3:J$101,0),\"\")","v":""},{"$f":"IF(AND(Registration!$E23=\"n\",COUNTBLANK(K24)=0),placingpoints(K24,COUNTIF(K$3:K$101,\"=\"&K24)),\"\")","v":""},{"$f":"IF(Registration!$E23=\"n\",'Trick Catch'!X24,\"\")","v":""},{"$f":"IF(AND(Registration!$E23=\"n\",COUNTBLANK(M24)=0),RANK(M24,M$3:M$101,0),\"\")","v":""},{"$f":"IF(AND(Registration!$E23=\"n\",COUNTBLANK(N24)=0),placingpoints(N24,COUNTIF(N$3:N$101,\"=\"&N24)),\"\")","v":""},{"$f":"IF(Registration!$E23=\"n\",'Fast Catch'!F23,\"\")","v":""},{"$f":"IF(AND(Registration!$E23=\"n\",COUNTBLANK(P24)=0),RANK(P24,P$3:P$101,1),\"\")","v":""},{"$f":"IF(AND(Registration!$E23=\"n\",COUNTBLANK(Q24)=0),placingpoints(Q24,COUNTIF(Q$3:Q$101,\"=\"&Q24)),\"\")","v":""},{"$f":"IF(Registration!$E23=\"n\",Endurance!C23,\"\")","v":""},{"$f":"IF(AND(Registration!$E23=\"n\",COUNTBLANK(S24)=0),RANK(S24,S$3:S$101,0),\"\")","v":""},{"$f":"IF(AND(Registration!$E23=\"n\",COUNTBLANK(T24)=0),placingpoints(T24,COUNTIF(T$3:T$101,\"=\"&T24)),\"\")","v":""}]
[{"$f":"IF(Registration!E24=\"n\",RANK(B25,$B$3:$B$101,1),\"\")","v":""},{"$f":"IF(Registration!E24=\"n\",SUM(F25,I25,L25,O25,R25,U25),\"\")","v":""},{"$f":"IF(COUNTBLANK(Registration!B24)=1,\"\",IF(Registration!E24=\"n\",Registration!B24,\"\"))","v":""},{"$f":"IF(Registration!E24=\"n\",'Aussie Round'!V25,\"\")","v":""},{"$f":"IF(AND(Registration!$E24=\"n\",COUNTBLANK(D25)=0),RANK(D25,D$3:D$101,0),\"\")","v":""},{"$f":"IF(AND(Registration!$E24=\"n\",COUNTBLANK(E25)=0),placingpoints(E25,COUNTIF(E$3:E$101,\"=\"&E25)),\"\")","v":""},{"$f":"IF(Registration!$E24=\"n\",Accuracy!L24,\"\")","v":""},{"$f":"IF(AND(Registration!$E24=\"n\",COUNTBLANK(G25)=0),RANK(G25,G$3:G$102,0),\"\")","v":""},{"$f":"IF(AND(Registration!$E24=\"n\",COUNTBLANK(H25)=0),placingpoints(H25,COUNTIF(H$3:H$102,\"=\"&H25)),\"\")","v":""},{"$f":"IF(Registration!$E24=\"n\",MTA!G24,\"\")","v":""},{"$f":"IF(AND(Registration!$E24=\"n\",COUNTBLANK(J25)=0),RANK(J25,J$3:J$101,0),\"\")","v":""},{"$f":"IF(AND(Registration!$E24=\"n\",COUNTBLANK(K25)=0),placingpoints(K25,COUNTIF(K$3:K$101,\"=\"&K25)),\"\")","v":""},{"$f":"IF(Registration!$E24=\"n\",'Trick Catch'!X25,\"\")","v":""},{"$f":"IF(AND(Registration!$E24=\"n\",COUNTBLANK(M25)=0),RANK(M25,M$3:M$101,0),\"\")","v":""},{"$f":"IF(AND(Registration!$E24=\"n\",COUNTBLANK(N25)=0),placingpoints(N25,COUNTIF(N$3:N$101,\"=\"&N25)),\"\")","v":""},{"$f":"IF(Registration!$E24=\"n\",'Fast Catch'!F24,\"\")","v":""},{"$f":"IF(AND(Registration!$E24=\"n\",COUNTBLANK(P25)=0),RANK(P25,P$3:P$101,1),\"\")","v":""},{"$f":"IF(AND(Registration!$E24=\"n\",COUNTBLANK(Q25)=0),placingpoints(Q25,COUNTIF(Q$3:Q$101,\"=\"&Q25)),\"\")","v":""},{"$f":"IF(Registration!$E24=\"n\",Endurance!C24,\"\")","v":""},{"$f":"IF(AND(Registration!$E24=\"n\",COUNTBLANK(S25)=0),RANK(S25,S$3:S$101,0),\"\")","v":""},{"$f":"IF(AND(Registration!$E24=\"n\",COUNTBLANK(T25)=0),placingpoints(T25,COUNTIF(T$3:T$101,\"=\"&T25)),\"\")","v":""}]
[{"$f":"IF(Registration!E25=\"n\",RANK(B26,$B$3:$B$101,1),\"\")","v":""},{"$f":"IF(Registration!E25=\"n\",SUM(F26,I26,L26,O26,R26,U26),\"\")","v":""},{"$f":"IF(COUNTBLANK(Registration!B25)=1,\"\",IF(Registration!E25=\"n\",Registration!B25,\"\"))","v":""},{"$f":"IF(Registration!E25=\"n\",'Aussie Round'!V26,\"\")","v":""},{"$f":"IF(AND(Registration!$E25=\"n\",COUNTBLANK(D26)=0),RANK(D26,D$3:D$101,0),\"\")","v":""},{"$f":"IF(AND(Registration!$E25=\"n\",COUNTBLANK(E26)=0),placingpoints(E26,COUNTIF(E$3:E$101,\"=\"&E26)),\"\")","v":""},{"$f":"IF(Registration!$E25=\"n\",Accuracy!L25,\"\")","v":""},{"$f":"IF(AND(Registration!$E25=\"n\",COUNTBLANK(G26)=0),RANK(G26,G$3:G$102,0),\"\")","v":""},{"$f":"IF(AND(Registration!$E25=\"n\",COUNTBLANK(H26)=0),placingpoints(H26,COUNTIF(H$3:H$102,\"=\"&H26)),\"\")","v":""},{"$f":"IF(Registration!$E25=\"n\",MTA!G25,\"\")","v":""},{"$f":"IF(AND(Registration!$E25=\"n\",COUNTBLANK(J26)=0),RANK(J26,J$3:J$101,0),\"\")","v":""},{"$f":"IF(AND(Registration!$E25=\"n\",COUNTBLANK(K26)=0),placingpoints(K26,COUNTIF(K$3:K$101,\"=\"&K26)),\"\")","v":""},{"$f":"IF(Registration!$E25=\"n\",'Trick Catch'!X26,\"\")","v":""},{"$f":"IF(AND(Registration!$E25=\"n\",COUNTBLANK(M26)=0),RANK(M26,M$3:M$101,0),\"\")","v":""},{"$f":"IF(AND(Registration!$E25=\"n\",COUNTBLANK(N26)=0),placingpoints(N26,COUNTIF(N$3:N$101,\"=\"&N26)),\"\")","v":""},{"$f":"IF(Registration!$E25=\"n\",'Fast Catch'!F25,\"\")","v":""},{"$f":"IF(AND(Registration!$E25=\"n\",COUNTBLANK(P26)=0),RANK(P26,P$3:P$101,1),\"\")","v":""},{"$f":"IF(AND(Registration!$E25=\"n\",COUNTBLANK(Q26)=0),placingpoints(Q26,COUNTIF(Q$3:Q$101,\"=\"&Q26)),\"\")","v":""},{"$f":"IF(Registration!$E25=\"n\",Endurance!C25,\"\")","v":""},{"$f":"IF(AND(Registration!$E25=\"n\",COUNTBLANK(S26)=0),RANK(S26,S$3:S$101,0),\"\")","v":""},{"$f":"IF(AND(Registration!$E25=\"n\",COUNTBLANK(T26)=0),placingpoints(T26,COUNTIF(T$3:T$101,\"=\"&T26)),\"\")","v":""}]
[{"$f":"IF(Registration!E26=\"n\",RANK(B27,$B$3:$B$101,1),\"\")","v":""},{"$f":"IF(Registration!E26=\"n\",SUM(F27,I27,L27,O27,R27,U27),\"\")","v":""},{"$f":"IF(COUNTBLANK(Registration!B26)=1,\"\",IF(Registration!E26=\"n\",Registration!B26,\"\"))","v":""},{"$f":"IF(Registration!E26=\"n\",'Aussie Round'!V27,\"\")","v":""},{"$f":"IF(AND(Registration!$E26=\"n\",COUNTBLANK(D27)=0),RANK(D27,D$3:D$101,0),\"\")","v":""},{"$f":"IF(AND(Registration!$E26=\"n\",COUNTBLANK(E27)=0),placingpoints(E27,COUNTIF(E$3:E$101,\"=\"&E27)),\"\")","v":""},{"$f":"IF(Registration!$E26=\"n\",Accuracy!L26,\"\")","v":""},{"$f":"IF(AND(Registration!$E26=\"n\",COUNTBLANK(G27)=0),RANK(G27,G$3:G$102,0),\"\")","v":""},{"$f":"IF(AND(Registration!$E26=\"n\",COUNTBLANK(H27)=0),placingpoints(H27,COUNTIF(H$3:H$102,\"=\"&H27)),\"\")","v":""},{"$f":"IF(Registration!$E26=\"n\",MTA!G26,\"\")","v":""},{"$f":"IF(AND(Registration!$E26=\"n\",COUNTBLANK(J27)=0),RANK(J27,J$3:J$101,0),\"\")","v":""},{"$f":"IF(AND(Registration!$E26=\"n\",COUNTBLANK(K27)=0),placingpoints(K27,COUNTIF(K$3:K$101,\"=\"&K27)),\"\")","v":""},{"$f":"IF(Registration!$E26=\"n\",'Trick Catch'!X27,\"\")","v":""},{"$f":"IF(AND(Registration!$E26=\"n\",COUNTBLANK(M27)=0),RANK(M27,M$3:M$101,0),\"\")","v":""},{"$f":"IF(AND(Registration!$E26=\"n\",COUNTBLANK(N27)=0),placingpoints(N27,COUNTIF(N$3:N$101,\"=\"&N27)),\"\")","v":""},{"$f":"IF(Registration!$E26=\"n\",'Fast Catch'!F26,\"\")","v":""},{"$f":"IF(AND(Registration!$E26=\"n\",COUNTBLANK(P27)=0),RANK(P27,P$3:P$101,1),\"\")","v":""},{"$f":"IF(AND(Registration!$E26=\"n\",COUNTBLANK(Q27)=0),placingpoints(Q27,COUNTIF(Q$3:Q$101,\"=\"&Q27)),\"\")","v":""},{"$f":"IF(Registration!$E26=\"n\",Endurance!C26,\"\")","v":""},{"$f":"IF(AND(Registration!$E26=\"n\",COUNTBLANK(S27)=0),RANK(S27,S$3:S$101,0),\"\")","v":""},{"$f":"IF(AND(Registration!$E26=\"n\",COUNTBLANK(T27)=0),placingpoints(T27,COUNTIF(T$3:T$101,\"=\"&T27)),\"\")","v":""}]
[{"$f":"IF(Registration!E27=\"n\",RANK(B28,$B$3:$B$101,1),\"\")","v":""},{"$f":"IF(Registration!E27=\"n\",SUM(F28,I28,L28,O28,R28,U28),\"\")","v":""},{"$f":"IF(COUNTBLANK(Registration!B27)=1,\"\",IF(Registration!E27=\"n\",Registration!B27,\"\"))","v":""},{"$f":"IF(Registration!E27=\"n\",'Aussie Round'!V28,\"\")","v":""},{"$f":"IF(AND(Registration!$E27=\"n\",COUNTBLANK(D28)=0),RANK(D28,D$3:D$101,0),\"\")","v":""},{"$f":"IF(AND(Registration!$E27=\"n\",COUNTBLANK(E28)=0),placingpoints(E28,COUNTIF(E$3:E$101,\"=\"&E28)),\"\")","v":""},{"$f":"IF(Registration!$E27=\"n\",Accuracy!L27,\"\")","v":""},{"$f":"IF(AND(Registration!$E27=\"n\",COUNTBLANK(G28)=0),RANK(G28,G$3:G$102,0),\"\")","v":""},{"$f":"IF(AND(Registration!$E27=\"n\",COUNTBLANK(H28)=0),placingpoints(H28,COUNTIF(H$3:H$102,\"=\"&H28)),\"\")","v":""},{"$f":"IF(Registration!$E27=\"n\",MTA!G27,\"\")","v":""},{"$f":"IF(AND(Registration!$E27=\"n\",COUNTBLANK(J28)=0),RANK(J28,J$3:J$101,0),\"\")","v":""},{"$f":"IF(AND(Registration!$E27=\"n\",COUNTBLANK(K28)=0),placingpoints(K28,COUNTIF(K$3:K$101,\"=\"&K28)),\"\")","v":""},{"$f":"IF(Registration!$E27=\"n\",'Trick Catch'!X28,\"\")","v":""},{"$f":"IF(AND(Registration!$E27=\"n\",COUNTBLANK(M28)=0),RANK(M28,M$3:M$101,0),\"\")","v":""},{"$f":"IF(AND(Registration!$E27=\"n\",COUNTBLANK(N28)=0),placingpoints(N28,COUNTIF(N$3:N$101,\"=\"&N28)),\"\")","v":""},{"$f":"IF(Registration!$E27=\"n\",'Fast Catch'!F27,\"\")","v":""},{"$f":"IF(AND(Registration!$E27=\"n\",COUNTBLANK(P28)=0),RANK(P28,P$3:P$101,1),\"\")","v":""},{"$f":"IF(AND(Registration!$E27=\"n\",COUNTBLANK(Q28)=0),placingpoints(Q28,COUNTIF(Q$3:Q$101,\"=\"&Q28)),\"\")","v":""},{"$f":"IF(Registration!$E27=\"n\",Endurance!C27,\"\")","v":""},{"$f":"IF(AND(Registration!$E27=\"n\",COUNTBLANK(S28)=0),RANK(S28,S$3:S$101,0),\"\")","v":""},{"$f":"IF(AND(Registration!$E27=\"n\",COUNTBLANK(T28)=0),placingpoints(T28,COUNTIF(T$3:T$101,\"=\"&T28)),\"\")","v":""}]
[{"$f":"IF(Registration!E28=\"n\",RANK(B29,$B$3:$B$101,1),\"\")","v":""},{"$f":"IF(Registration!E28=\"n\",SUM(F29,I29,L29,O29,R29,U29),\"\")","v":""},{"$f":"IF(COUNTBLANK(Registration!B28)=1,\"\",IF(Registration!E28=\"n\",Registration!B28,\"\"))","v":""},{"$f":"IF(Registration!E28=\"n\",'Aussie Round'!V29,\"\")","v":""},{"$f":"IF(AND(Registration!$E28=\"n\",COUNTBLANK(D29)=0),RANK(D29,D$3:D$101,0),\"\")","v":""},{"$f":"IF(AND(Registration!$E28=\"n\",COUNTBLANK(E29)=0),placingpoints(E29,COUNTIF(E$3:E$101,\"=\"&E29)),\"\")","v":""},{"$f":"IF(Registration!$E28=\"n\",Accuracy!L28,\"\")","v":""},{"$f":"IF(AND(Registration!$E28=\"n\",COUNTBLANK(G29)=0),RANK(G29,G$3:G$102,0),\"\")","v":""},{"$f":"IF(AND(Registration!$E28=\"n\",COUNTBLANK(H29)=0),placingpoints(H29,COUNTIF(H$3:H$102,\"=\"&H29)),\"\")","v":""},{"$f":"IF(Registration!$E28=\"n\",MTA!G28,\"\")","v":""},{"$f":"IF(AND(Registration!$E28=\"n\",COUNTBLANK(J29)=0),RANK(J29,J$3:J$101,0),\"\")","v":""},{"$f":"IF(AND(Registration!$E28=\"n\",COUNTBLANK(K29)=0),placingpoints(K29,COUNTIF(K$3:K$101,\"=\"&K29)),\"\")","v":""},{"$f":"IF(Registration!$E28=\"n\",'Trick Catch'!X29,\"\")","v":""},{"$f":"IF(AND(Registration!$E28=\"n\",COUNTBLANK(M29)=0),RANK(M29,M$3:M$101,0),\"\")","v":""},{"$f":"IF(AND(Registration!$E28=\"n\",COUNTBLANK(N29)=0),placingpoints(N29,COUNTIF(N$3:N$101,\"=\"&N29)),\"\")","v":""},{"$f":"IF(Registration!$E28=\"n\",'Fast Catch'!F28,\"\")","v":""},{"$f":"IF(AND(Registration!$E28=\"n\",COUNTBLANK(P29)=0),RANK(P29,P$3:P$101,1),\"\")","v":""},{"$f":"IF(AND(Registration!$E28=\"n\",COUNTBLANK(Q29)=0),placingpoints(Q29,COUNTIF(Q$3:Q$101,\"=\"&Q29)),\"\")","v":""},{"$f":"IF(Registration!$E28=\"n\",Endurance!C28,\"\")","v":""},{"$f":"IF(AND(Registration!$E28=\"n\",COUNTBLANK(S29)=0),RANK(S29,S$3:S$101,0),\"\")","v":""},{"$f":"IF(AND(Registration!$E28=\"n\",COUNTBLANK(T29)=0),placingpoints(T29,COUNTIF(T$3:T$101,\"=\"&T29)),\"\")","v":""}]
[{"$f":"IF(Registration!E29=\"n\",RANK(B30,$B$3:$B$101,1),\"\")","v":""},{"$f":"IF(Registration!E29=\"n\",SUM(F30,I30,L30,O30,R30,U30),\"\")","v":""},{"$f":"IF(COUNTBLANK(Registration!B29)=1,\"\",IF(Registration!E29=\"n\",Registration!B29,\"\"))","v":""},{"$f":"IF(Registration!E29=\"n\",'Aussie Round'!V30,\"\")","v":""},{"$f":"IF(AND(Registration!$E29=\"n\",COUNTBLANK(D30)=0),RANK(D30,D$3:D$101,0),\"\")","v":""},{"$f":"IF(AND(Registration!$E29=\"n\",COUNTBLANK(E30)=0),placingpoints(E30,COUNTIF(E$3:E$101,\"=\"&E30)),\"\")","v":""},{"$f":"IF(Registration!$E29=\"n\",Accuracy!L29,\"\")","v":""},{"$f":"IF(AND(Registration!$E29=\"n\",COUNTBLANK(G30)=0),RANK(G30,G$3:G$102,0),\"\")","v":""},{"$f":"IF(AND(Registration!$E29=\"n\",COUNTBLANK(H30)=0),placingpoints(H30,COUNTIF(H$3:H$102,\"=\"&H30)),\"\")","v":""},{"$f":"IF(Registration!$E29=\"n\",MTA!G29,\"\")","v":""},{"$f":"IF(AND(Registration!$E29=\"n\",COUNTBLANK(J30)=0),RANK(J30,J$3:J$101,0),\"\")","v":""},{"$f":"IF(AND(Registration!$E29=\"n\",COUNTBLANK(K30)=0),placingpoints(K30,COUNTIF(K$3:K$101,\"=\"&K30)),\"\")","v":""},{"$f":"IF(Registration!$E29=\"n\",'Trick Catch'!X30,\"\")","v":""},{"$f":"IF(AND(Registration!$E29=\"n\",COUNTBLANK(M30)=0),RANK(M30,M$3:M$101,0),\"\")","v":""},{"$f":"IF(AND(Registration!$E29=\"n\",COUNTBLANK(N30)=0),placingpoints(N30,COUNTIF(N$3:N$101,\"=\"&N30)),\"\")","v":""},{"$f":"IF(Registration!$E29=\"n\",'Fast Catch'!F29,\"\")","v":""},{"$f":"IF(AND(Registration!$E29=\"n\",COUNTBLANK(P30)=0),RANK(P30,P$3:P$101,1),\"\")","v":""},{"$f":"IF(AND(Registration!$E29=\"n\",COUNTBLANK(Q30)=0),placingpoints(Q30,COUNTIF(Q$3:Q$101,\"=\"&Q30)),\"\")","v":""},{"$f":"IF(Registration!$E29=\"n\",Endurance!C29,\"\")","v":""},{"$f":"IF(AND(Registration!$E29=\"n\",COUNTBLANK(S30)=0),RANK(S30,S$3:S$101,0),\"\")","v":""},{"$f":"IF(AND(Registration!$E29=\"n\",COUNTBLANK(T30)=0),placingpoints(T30,COUNTIF(T$3:T$101,\"=\"&T30)),\"\")","v":""}]
[{"$f":"IF(Registration!E30=\"n\",RANK(B31,$B$3:$B$101,1),\"\")","v":""},{"$f":"IF(Registration!E30=\"n\",SUM(F31,I31,L31,O31,R31,U31),\"\")","v":""},{"$f":"IF(COUNTBLANK(Registration!B30)=1,\"\",IF(Registration!E30=\"n\",Registration!B30,\"\"))","v":""},{"$f":"IF(Registration!E30=\"n\",'Aussie Round'!V31,\"\")","v":""},{"$f":"IF(AND(Registration!$E30=\"n\",COUNTBLANK(D31)=0),RANK(D31,D$3:D$101,0),\"\")","v":""},{"$f":"IF(AND(Registration!$E30=\"n\",COUNTBLANK(E31)=0),placingpoints(E31,COUNTIF(E$3:E$101,\"=\"&E31)),\"\")","v":""},{"$f":"IF(Registration!$E30=\"n\",Accuracy!L30,\"\")","v":""},{"$f":"IF(AND(Registration!$E30=\"n\",COUNTBLANK(G31)=0),RANK(G31,G$3:G$102,0),\"\")","v":""},{"$f":"IF(AND(Registration!$E30=\"n\",COUNTBLANK(H31)=0),placingpoints(H31,COUNTIF(H$3:H$102,\"=\"&H31)),\"\")","v":""},{"$f":"IF(Registration!$E30=\"n\",MTA!G30,\"\")","v":""},{"$f":"IF(AND(Registration!$E30=\"n\",COUNTBLANK(J31)=0),RANK(J31,J$3:J$101,0),\"\")","v":""},{"$f":"IF(AND(Registration!$E30=\"n\",COUNTBLANK(K31)=0),placingpoints(K31,COUNTIF(K$3:K$101,\"=\"&K31)),\"\")","v":""},{"$f":"IF(Registration!$E30=\"n\",'Trick Catch'!X31,\"\")","v":""},{"$f":"IF(AND(Registration!$E30=\"n\",COUNTBLANK(M31)=0),RANK(M31,M$3:M$101,0),\"\")","v":""},{"$f":"IF(AND(Registration!$E30=\"n\",COUNTBLANK(N31)=0),placingpoints(N31,COUNTIF(N$3:N$101,\"=\"&N31)),\"\")","v":""},{"$f":"IF(Registration!$E30=\"n\",'Fast Catch'!F30,\"\")","v":""},{"$f":"IF(AND(Registration!$E30=\"n\",COUNTBLANK(P31)=0),RANK(P31,P$3:P$101,1),\"\")","v":""},{"$f":"IF(AND(Registration!$E30=\"n\",COUNTBLANK(Q31)=0),placingpoints(Q31,COUNTIF(Q$3:Q$101,\"=\"&Q31)),\"\")","v":""},{"$f":"IF(Registration!$E30=\"n\",Endurance!C30,\"\")","v":""},{"$f":"IF(AND(Registration!$E30=\"n\",COUNTBLANK(S31)=0),RANK(S31,S$3:S$101,0),\"\")","v":""},{"$f":"IF(AND(Registration!$E30=\"n\",COUNTBLANK(T31)=0),placingpoints(T31,COUNTIF(T$3:T$101,\"=\"&T31)),\"\")","v":""}]
[{"$f":"IF(Registration!E31=\"n\",RANK(B32,$B$3:$B$101,1),\"\")","v":""},{"$f":"IF(Registration!E31=\"n\",SUM(F32,I32,L32,O32,R32,U32),\"\")","v":""},{"$f":"IF(COUNTBLANK(Registration!B31)=1,\"\",IF(Registration!E31=\"n\",Registration!B31,\"\"))","v":""},{"$f":"IF(Registration!E31=\"n\",'Aussie Round'!V32,\"\")","v":""},{"$f":"IF(AND(Registration!$E31=\"n\",COUNTBLANK(D32)=0),RANK(D32,D$3:D$101,0),\"\")","v":""},{"$f":"IF(AND(Registration!$E31=\"n\",COUNTBLANK(E32)=0),placingpoints(E32,COUNTIF(E$3:E$101,\"=\"&E32)),\"\")","v":""},{"$f":"IF(Registration!$E31=\"n\",Accuracy!L31,\"\")","v":""},{"$f":"IF(AND(Registration!$E31=\"n\",COUNTBLANK(G32)=0),RANK(G32,G$3:G$102,0),\"\")","v":""},{"$f":"IF(AND(Registration!$E31=\"n\",COUNTBLANK(H32)=0),placingpoints(H32,COUNTIF(H$3:H$102,\"=\"&H32)),\"\")","v":""},{"$f":"IF(Registration!$E31=\"n\",MTA!G31,\"\")","v":""},{"$f":"IF(AND(Registration!$E31=\"n\",COUNTBLANK(J32)=0),RANK(J32,J$3:J$101,0),\"\")","v":""},{"$f":"IF(AND(Registration!$E31=\"n\",COUNTBLANK(K32)=0),placingpoints(K32,COUNTIF(K$3:K$101,\"=\"&K32)),\"\")","v":""},{"$f":"IF(Registration!$E31=\"n\",'Trick Catch'!X32,\"\")","v":""},{"$f":"IF(AND(Registration!$E31=\"n\",COUNTBLANK(M32)=0),RANK(M32,M$3:M$101,0),\"\")","v":""},{"$f":"IF(AND(Registration!$E31=\"n\",COUNTBLANK(N32)=0),placingpoints(N32,COUNTIF(N$3:N$101,\"=\"&N32)),\"\")","v":""},{"$f":"IF(Registration!$E31=\"n\",'Fast Catch'!F31,\"\")","v":""},{"$f":"IF(AND(Registration!$E31=\"n\",COUNTBLANK(P32)=0),RANK(P32,P$3:P$101,1),\"\")","v":""},{"$f":"IF(AND(Registration!$E31=\"n\",COUNTBLANK(Q32)=0),placingpoints(Q32,COUNTIF(Q$3:Q$101,\"=\"&Q32)),\"\")","v":""},{"$f":"IF(Registration!$E31=\"n\",Endurance!C31,\"\")","v":""},{"$f":"IF(AND(Registration!$E31=\"n\",COUNTBLANK(S32)=0),RANK(S32,S$3:S$101,0),\"\")","v":""},{"$f":"IF(AND(Registration!$E31=\"n\",COUNTBLANK(T32)=0),placingpoints(T32,COUNTIF(T$3:T$101,\"=\"&T32)),\"\")","v":""}]
[{"$f":"IF(Registration!E32=\"n\",RANK(B33,$B$3:$B$101,1),\"\")","v":""},{"$f":"IF(Registration!E32=\"n\",SUM(F33,I33,L33,O33,R33,U33),\"\")","v":""},{"$f":"IF(COUNTBLANK(Registration!B32)=1,\"\",IF(Registration!E32=\"n\",Registration!B32,\"\"))","v":""},{"$f":"IF(Registration!E32=\"n\",'Aussie Round'!V33,\"\")","v":""},{"$f":"IF(AND(Registration!$E32=\"n\",COUNTBLANK(D33)=0),RANK(D33,D$3:D$101,0),\"\")","v":""},{"$f":"IF(AND(Registration!$E32=\"n\",COUNTBLANK(E33)=0),placingpoints(E33,COUNTIF(E$3:E$101,\"=\"&E33)),\"\")","v":""},{"$f":"IF(Registration!$E32=\"n\",Accuracy!L32,\"\")","v":""},{"$f":"IF(AND(Registration!$E32=\"n\",COUNTBLANK(G33)=0),RANK(G33,G$3:G$102,0),\"\")","v":""},{"$f":"IF(AND(Registration!$E32=\"n\",COUNTBLANK(H33)=0),placingpoints(H33,COUNTIF(H$3:H$102,\"=\"&H33)),\"\")","v":""},{"$f":"IF(Registration!$E32=\"n\",MTA!G32,\"\")","v":""},{"$f":"IF(AND(Registration!$E32=\"n\",COUNTBLANK(J33)=0),RANK(J33,J$3:J$101,0),\"\")","v":""},{"$f":"IF(AND(Registration!$E32=\"n\",COUNTBLANK(K33)=0),placingpoints(K33,COUNTIF(K$3:K$101,\"=\"&K33)),\"\")","v":""},{"$f":"IF(Registration!$E32=\"n\",'Trick Catch'!X33,\"\")","v":""},{"$f":"IF(AND(Registration!$E32=\"n\",COUNTBLANK(M33)=0),RANK(M33,M$3:M$101,0),\"\")","v":""},{"$f":"IF(AND(Registration!$E32=\"n\",COUNTBLANK(N33)=0),placingpoints(N33,COUNTIF(N$3:N$101,\"=\"&N33)),\"\")","v":""},{"$f":"IF(Registration!$E32=\"n\",'Fast Catch'!F32,\"\")","v":""},{"$f":"IF(AND(Registration!$E32=\"n\",COUNTBLANK(P33)=0),RANK(P33,P$3:P$101,1),\"\")","v":""},{"$f":"IF(AND(Registration!$E32=\"n\",COUNTBLANK(Q33)=0),placingpoints(Q33,COUNTIF(Q$3:Q$101,\"=\"&Q33)),\"\")","v":""},{"$f":"IF(Registration!$E32=\"n\",Endurance!C32,\"\")","v":""},{"$f":"IF(AND(Registration!$E32=\"n\",COUNTBLANK(S33)=0),RANK(S33,S$3:S$101,0),\"\")","v":""},{"$f":"IF(AND(Registration!$E32=\"n\",COUNTBLANK(T33)=0),placingpoints(T33,COUNTIF(T$3:T$101,\"=\"&T33)),\"\")","v":""}]
[{"$f":"IF(Registration!E33=\"n\",RANK(B34,$B$3:$B$101,1),\"\")","v":""},{"$f":"IF(Registration!E33=\"n\",SUM(F34,I34,L34,O34,R34,U34),\"\")","v":""},{"$f":"IF(COUNTBLANK(Registration!B33)=1,\"\",IF(Registration!E33=\"n\",Registration!B33,\"\"))","v":""},{"$f":"IF(Registration!E33=\"n\",'Aussie Round'!V34,\"\")","v":""},{"$f":"IF(AND(Registration!$E33=\"n\",COUNTBLANK(D34)=0),RANK(D34,D$3:D$101,0),\"\")","v":""},{"$f":"IF(AND(Registration!$E33=\"n\",COUNTBLANK(E34)=0),placingpoints(E34,COUNTIF(E$3:E$101,\"=\"&E34)),\"\")","v":""},{"$f":"IF(Registration!$E33=\"n\",Accuracy!L33,\"\")","v":""},{"$f":"IF(AND(Registration!$E33=\"n\",COUNTBLANK(G34)=0),RANK(G34,G$3:G$102,0),\"\")","v":""},{"$f":"IF(AND(Registration!$E33=\"n\",COUNTBLANK(H34)=0),placingpoints(H34,COUNTIF(H$3:H$102,\"=\"&H34)),\"\")","v":""},{"$f":"IF(Registration!$E33=\"n\",MTA!G33,\"\")","v":""},{"$f":"IF(AND(Registration!$E33=\"n\",COUNTBLANK(J34)=0),RANK(J34,J$3:J$101,0),\"\")","v":""},{"$f":"IF(AND(Registration!$E33=\"n\",COUNTBLANK(K34)=0),placingpoints(K34,COUNTIF(K$3:K$101,\"=\"&K34)),\"\")","v":""},{"$f":"IF(Registration!$E33=\"n\",'Trick Catch'!X34,\"\")","v":""},{"$f":"IF(AND(Registration!$E33=\"n\",COUNTBLANK(M34)=0),RANK(M34,M$3:M$101,0),\"\")","v":""},{"$f":"IF(AND(Registration!$E33=\"n\",COUNTBLANK(N34)=0),placingpoints(N34,COUNTIF(N$3:N$101,\"=\"&N34)),\"\")","v":""},{"$f":"IF(Registration!$E33=\"n\",'Fast Catch'!F33,\"\")","v":""},{"$f":"IF(AND(Registration!$E33=\"n\",COUNTBLANK(P34)=0),RANK(P34,P$3:P$101,1),\"\")","v":""},{"$f":"IF(AND(Registration!$E33=\"n\",COUNTBLANK(Q34)=0),placingpoints(Q34,COUNTIF(Q$3:Q$101,\"=\"&Q34)),\"\")","v":""},{"$f":"IF(Registration!$E33=\"n\",Endurance!C33,\"\")","v":""},{"$f":"IF(AND(Registration!$E33=\"n\",COUNTBLANK(S34)=0),RANK(S34,S$3:S$101,0),\"\")","v":""},{"$f":"IF(AND(Registration!$E33=\"n\",COUNTBLANK(T34)=0),placingpoints(T34,COUNTIF(T$3:T$101,\"=\"&T34)),\"\")","v":""}]
[{"$f":"IF(Registration!E34=\"n\",RANK(B35,$B$3:$B$101,1),\"\")","v":""},{"$f":"IF(Registration!E34=\"n\",SUM(F35,I35,L35,O35,R35,U35),\"\")","v":""},{"$f":"IF(COUNTBLANK(Registration!B34)=1,\"\",IF(Registration!E34=\"n\",Registration!B34,\"\"))","v":""},{"$f":"IF(Registration!E34=\"n\",'Aussie Round'!V35,\"\")","v":""},{"$f":"IF(AND(Registration!$E34=\"n\",COUNTBLANK(D35)=0),RANK(D35,D$3:D$101,0),\"\")","v":""},{"$f":"IF(AND(Registration!$E34=\"n\",COUNTBLANK(E35)=0),placingpoints(E35,COUNTIF(E$3:E$101,\"=\"&E35)),\"\")","v":""},{"$f":"IF(Registration!$E34=\"n\",Accuracy!L34,\"\")","v":""},{"$f":"IF(AND(Registration!$E34=\"n\",COUNTBLANK(G35)=0),RANK(G35,G$3:G$102,0),\"\")","v":""},{"$f":"IF(AND(Registration!$E34=\"n\",COUNTBLANK(H35)=0),placingpoints(H35,COUNTIF(H$3:H$102,\"=\"&H35)),\"\")","v":""},{"$f":"IF(Registration!$E34=\"n\",MTA!G34,\"\")","v":""},{"$f":"IF(AND(Registration!$E34=\"n\",COUNTBLANK(J35)=0),RANK(J35,J$3:J$101,0),\"\")","v":""},{"$f":"IF(AND(Registration!$E34=\"n\",COUNTBLANK(K35)=0),placingpoints(K35,COUNTIF(K$3:K$101,\"=\"&K35)),\"\")","v":""},{"$f":"IF(Registration!$E34=\"n\",'Trick Catch'!X35,\"\")","v":""},{"$f":"IF(AND(Registration!$E34=\"n\",COUNTBLANK(M35)=0),RANK(M35,M$3:M$101,0),\"\")","v":""},{"$f":"IF(AND(Registration!$E34=\"n\",COUNTBLANK(N35)=0),placingpoints(N35,COUNTIF(N$3:N$101,\"=\"&N35)),\"\")","v":""},{"$f":"IF(Registration!$E34=\"n\",'Fast Catch'!F34,\"\")","v":""},{"$f":"IF(AND(Registration!$E34=\"n\",COUNTBLANK(P35)=0),RANK(P35,P$3:P$101,1),\"\")","v":""},{"$f":"IF(AND(Registration!$E34=\"n\",COUNTBLANK(Q35)=0),placingpoints(Q35,COUNTIF(Q$3:Q$101,\"=\"&Q35)),\"\")","v":""},{"$f":"IF(Registration!$E34=\"n\",Endurance!C34,\"\")","v":""},{"$f":"IF(AND(Registration!$E34=\"n\",COUNTBLANK(S35)=0),RANK(S35,S$3:S$101,0),\"\")","v":""},{"$f":"IF(AND(Registration!$E34=\"n\",COUNTBLANK(T35)=0),placingpoints(T35,COUNTIF(T$3:T$101,\"=\"&T35)),\"\")","v":""}]
[{"$f":"IF(Registration!E35=\"n\",RANK(B36,$B$3:$B$101,1),\"\")","v":""},{"$f":"IF(Registration!E35=\"n\",SUM(F36,I36,L36,O36,R36,U36),\"\")","v":""},{"$f":"IF(COUNTBLANK(Registration!B35)=1,\"\",IF(Registration!E35=\"n\",Registration!B35,\"\"))","v":""},{"$f":"IF(Registration!E35=\"n\",'Aussie Round'!V36,\"\")","v":""},{"$f":"IF(AND(Registration!$E35=\"n\",COUNTBLANK(D36)=0),RANK(D36,D$3:D$101,0),\"\")","v":""},{"$f":"IF(AND(Registration!$E35=\"n\",COUNTBLANK(E36)=0),placingpoints(E36,COUNTIF(E$3:E$101,\"=\"&E36)),\"\")","v":""},{"$f":"IF(Registration!$E35=\"n\",Accuracy!L35,\"\")","v":""},{"$f":"IF(AND(Registration!$E35=\"n\",COUNTBLANK(G36)=0),RANK(G36,G$3:G$102,0),\"\")","v":""},{"$f":"IF(AND(Registration!$E35=\"n\",COUNTBLANK(H36)=0),placingpoints(H36,COUNTIF(H$3:H$102,\"=\"&H36)),\"\")","v":""},{"$f":"IF(Registration!$E35=\"n\",MTA!G35,\"\")","v":""},{"$f":"IF(AND(Registration!$E35=\"n\",COUNTBLANK(J36)=0),RANK(J36,J$3:J$101,0),\"\")","v":""},{"$f":"IF(AND(Registration!$E35=\"n\",COUNTBLANK(K36)=0),placingpoints(K36,COUNTIF(K$3:K$101,\"=\"&K36)),\"\")","v":""},{"$f":"IF(Registration!$E35=\"n\",'Trick Catch'!X36,\"\")","v":""},{"$f":"IF(AND(Registration!$E35=\"n\",COUNTBLANK(M36)=0),RANK(M36,M$3:M$101,0),\"\")","v":""},{"$f":"IF(AND(Registration!$E35=\"n\",COUNTBLANK(N36)=0),placingpoints(N36,COUNTIF(N$3:N$101,\"=\"&N36)),\"\")","v":""},{"$f":"IF(Registration!$E35=\"n\",'Fast Catch'!F35,\"\")","v":""},{"$f":"IF(AND(Registration!$E35=\"n\",COUNTBLANK(P36)=0),RANK(P36,P$3:P$101,1),\"\")","v":""},{"$f":"IF(AND(Registration!$E35=\"n\",COUNTBLANK(Q36)=0),placingpoints(Q36,COUNTIF(Q$3:Q$101,\"=\"&Q36)),\"\")","v":""},{"$f":"IF(Registration!$E35=\"n\",Endurance!C35,\"\")","v":""},{"$f":"IF(AND(Registration!$E35=\"n\",COUNTBLANK(S36)=0),RANK(S36,S$3:S$101,0),\"\")","v":""},{"$f":"IF(AND(Registration!$E35=\"n\",COUNTBLANK(T36)=0),placingpoints(T36,COUNTIF(T$3:T$101,\"=\"&T36)),\"\")","v":""}]
[{"$f":"IF(Registration!E36=\"n\",RANK(B37,$B$3:$B$101,1),\"\")","v":""},{"$f":"IF(Registration!E36=\"n\",SUM(F37,I37,L37,O37,R37,U37),\"\")","v":""},{"$f":"IF(COUNTBLANK(Registration!B36)=1,\"\",IF(Registration!E36=\"n\",Registration!B36,\"\"))","v":""},{"$f":"IF(Registration!E36=\"n\",'Aussie Round'!V37,\"\")","v":""},{"$f":"IF(AND(Registration!$E36=\"n\",COUNTBLANK(D37)=0),RANK(D37,D$3:D$101,0),\"\")","v":""},{"$f":"IF(AND(Registration!$E36=\"n\",COUNTBLANK(E37)=0),placingpoints(E37,COUNTIF(E$3:E$101,\"=\"&E37)),\"\")","v":""},{"$f":"IF(Registration!$E36=\"n\",Accuracy!L36,\"\")","v":""},{"$f":"IF(AND(Registration!$E36=\"n\",COUNTBLANK(G37)=0),RANK(G37,G$3:G$102,0),\"\")","v":""},{"$f":"IF(AND(Registration!$E36=\"n\",COUNTBLANK(H37)=0),placingpoints(H37,COUNTIF(H$3:H$102,\"=\"&H37)),\"\")","v":""},{"$f":"IF(Registration!$E36=\"n\",MTA!G36,\"\")","v":""},{"$f":"IF(AND(Registration!$E36=\"n\",COUNTBLANK(J37)=0),RANK(J37,J$3:J$101,0),\"\")","v":""},{"$f":"IF(AND(Registration!$E36=\"n\",COUNTBLANK(K37)=0),placingpoints(K37,COUNTIF(K$3:K$101,\"=\"&K37)),\"\")","v":""},{"$f":"IF(Registration!$E36=\"n\",'Trick Catch'!X37,\"\")","v":""},{"$f":"IF(AND(Registration!$E36=\"n\",COUNTBLANK(M37)=0),RANK(M37,M$3:M$101,0),\"\")","v":""},{"$f":"IF(AND(Registration!$E36=\"n\",COUNTBLANK(N37)=0),placingpoints(N37,COUNTIF(N$3:N$101,\"=\"&N37)),\"\")","v":""},{"$f":"IF(Registration!$E36=\"n\",'Fast Catch'!F36,\"\")","v":""},{"$f":"IF(AND(Registration!$E36=\"n\",COUNTBLANK(P37)=0),RANK(P37,P$3:P$101,1),\"\")","v":""},{"$f":"IF(AND(Registration!$E36=\"n\",COUNTBLANK(Q37)=0),placingpoints(Q37,COUNTIF(Q$3:Q$101,\"=\"&Q37)),\"\")","v":""},{"$f":"IF(Registration!$E36=\"n\",Endurance!C36,\"\")","v":""},{"$f":"IF(AND(Registration!$E36=\"n\",COUNTBLANK(S37)=0),RANK(S37,S$3:S$101,0),\"\")","v":""},{"$f":"IF(AND(Registration!$E36=\"n\",COUNTBLANK(T37)=0),placingpoints(T37,COUNTIF(T$3:T$101,\"=\"&T37)),\"\")","v":""}]
[{"$f":"IF(Registration!E37=\"n\",RANK(B38,$B$3:$B$101,1),\"\")","v":""},{"$f":"IF(Registration!E37=\"n\",SUM(F38,I38,L38,O38,R38,U38),\"\")","v":""},{"$f":"IF(COUNTBLANK(Registration!B37)=1,\"\",IF(Registration!E37=\"n\",Registration!B37,\"\"))","v":""},{"$f":"IF(Registration!E37=\"n\",'Aussie Round'!V38,\"\")","v":""},{"$f":"IF(AND(Registration!$E37=\"n\",COUNTBLANK(D38)=0),RANK(D38,D$3:D$101,0),\"\")","v":""},{"$f":"IF(AND(Registration!$E37=\"n\",COUNTBLANK(E38)=0),placingpoints(E38,COUNTIF(E$3:E$101,\"=\"&E38)),\"\")","v":""},{"$f":"IF(Registration!$E37=\"n\",Accuracy!L37,\"\")","v":""},{"$f":"IF(AND(Registration!$E37=\"n\",COUNTBLANK(G38)=0),RANK(G38,G$3:G$102,0),\"\")","v":""},{"$f":"IF(AND(Registration!$E37=\"n\",COUNTBLANK(H38)=0),placingpoints(H38,COUNTIF(H$3:H$102,\"=\"&H38)),\"\")","v":""},{"$f":"IF(Registration!$E37=\"n\",MTA!G37,\"\")","v":""},{"$f":"IF(AND(Registration!$E37=\"n\",COUNTBLANK(J38)=0),RANK(J38,J$3:J$101,0),\"\")","v":""},{"$f":"IF(AND(Registration!$E37=\"n\",COUNTBLANK(K38)=0),placingpoints(K38,COUNTIF(K$3:K$101,\"=\"&K38)),\"\")","v":""},{"$f":"IF(Registration!$E37=\"n\",'Trick Catch'!X38,\"\")","v":""},{"$f":"IF(AND(Registration!$E37=\"n\",COUNTBLANK(M38)=0),RANK(M38,M$3:M$101,0),\"\")","v":""},{"$f":"IF(AND(Registration!$E37=\"n\",COUNTBLANK(N38)=0),placingpoints(N38,COUNTIF(N$3:N$101,\"=\"&N38)),\"\")","v":""},{"$f":"IF(Registration!$E37=\"n\",'Fast Catch'!F37,\"\")","v":""},{"$f":"IF(AND(Registration!$E37=\"n\",COUNTBLANK(P38)=0),RANK(P38,P$3:P$101,1),\"\")","v":""},{"$f":"IF(AND(Registration!$E37=\"n\",COUNTBLANK(Q38)=0),placingpoints(Q38,COUNTIF(Q$3:Q$101,\"=\"&Q38)),\"\")","v":""},{"$f":"IF(Registration!$E37=\"n\",Endurance!C37,\"\")","v":""},{"$f":"IF(AND(Registration!$E37=\"n\",COUNTBLANK(S38)=0),RANK(S38,S$3:S$101,0),\"\")","v":""},{"$f":"IF(AND(Registration!$E37=\"n\",COUNTBLANK(T38)=0),placingpoints(T38,COUNTIF(T$3:T$101,\"=\"&T38)),\"\")","v":""}]
[{"$f":"IF(Registration!E38=\"n\",RANK(B39,$B$3:$B$101,1),\"\")","v":""},{"$f":"IF(Registration!E38=\"n\",SUM(F39,I39,L39,O39,R39,U39),\"\")","v":""},{"$f":"IF(COUNTBLANK(Registration!B38)=1,\"\",IF(Registration!E38=\"n\",Registration!B38,\"\"))","v":""},{"$f":"IF(Registration!E38=\"n\",'Aussie Round'!V39,\"\")","v":""},{"$f":"IF(AND(Registration!$E38=\"n\",COUNTBLANK(D39)=0),RANK(D39,D$3:D$101,0),\"\")","v":""},{"$f":"IF(AND(Registration!$E38=\"n\",COUNTBLANK(E39)=0),placingpoints(E39,COUNTIF(E$3:E$101,\"=\"&E39)),\"\")","v":""},{"$f":"IF(Registration!$E38=\"n\",Accuracy!L38,\"\")","v":""},{"$f":"IF(AND(Registration!$E38=\"n\",COUNTBLANK(G39)=0),RANK(G39,G$3:G$102,0),\"\")","v":""},{"$f":"IF(AND(Registration!$E38=\"n\",COUNTBLANK(H39)=0),placingpoints(H39,COUNTIF(H$3:H$102,\"=\"&H39)),\"\")","v":""},{"$f":"IF(Registration!$E38=\"n\",MTA!G38,\"\")","v":""},{"$f":"IF(AND(Registration!$E38=\"n\",COUNTBLANK(J39)=0),RANK(J39,J$3:J$101,0),\"\")","v":""},{"$f":"IF(AND(Registration!$E38=\"n\",COUNTBLANK(K39)=0),placingpoints(K39,COUNTIF(K$3:K$101,\"=\"&K39)),\"\")","v":""},{"$f":"IF(Registration!$E38=\"n\",'Trick Catch'!X39,\"\")","v":""},{"$f":"IF(AND(Registration!$E38=\"n\",COUNTBLANK(M39)=0),RANK(M39,M$3:M$101,0),\"\")","v":""},{"$f":"IF(AND(Registration!$E38=\"n\",COUNTBLANK(N39)=0),placingpoints(N39,COUNTIF(N$3:N$101,\"=\"&N39)),\"\")","v":""},{"$f":"IF(Registration!$E38=\"n\",'Fast Catch'!F38,\"\")","v":""},{"$f":"IF(AND(Registration!$E38=\"n\",COUNTBLANK(P39)=0),RANK(P39,P$3:P$101,1),\"\")","v":""},{"$f":"IF(AND(Registration!$E38=\"n\",COUNTBLANK(Q39)=0),placingpoints(Q39,COUNTIF(Q$3:Q$101,\"=\"&Q39)),\"\")","v":""},{"$f":"IF(Registration!$E38=\"n\",Endurance!C38,\"\")","v":""},{"$f":"IF(AND(Registration!$E38=\"n\",COUNTBLANK(S39)=0),RANK(S39,S$3:S$101,0),\"\")","v":""},{"$f":"IF(AND(Registration!$E38=\"n\",COUNTBLANK(T39)=0),placingpoints(T39,COUNTIF(T$3:T$101,\"=\"&T39)),\"\")","v":""}]
[{"$f":"IF(Registration!E39=\"n\",RANK(B40,$B$3:$B$101,1),\"\")","v":""},{"$f":"IF(Registration!E39=\"n\",SUM(F40,I40,L40,O40,R40,U40),\"\")","v":""},{"$f":"IF(COUNTBLANK(Registration!B39)=1,\"\",IF(Registration!E39=\"n\",Registration!B39,\"\"))","v":""},{"$f":"IF(Registration!E39=\"n\",'Aussie Round'!V40,\"\")","v":""},{"$f":"IF(AND(Registration!$E39=\"n\",COUNTBLANK(D40)=0),RANK(D40,D$3:D$101,0),\"\")","v":""},{"$f":"IF(AND(Registration!$E39=\"n\",COUNTBLANK(E40)=0),placingpoints(E40,COUNTIF(E$3:E$101,\"=\"&E40)),\"\")","v":""},{"$f":"IF(Registration!$E39=\"n\",Accuracy!L39,\"\")","v":""},{"$f":"IF(AND(Registration!$E39=\"n\",COUNTBLANK(G40)=0),RANK(G40,G$3:G$102,0),\"\")","v":""},{"$f":"IF(AND(Registration!$E39=\"n\",COUNTBLANK(H40)=0),placingpoints(H40,COUNTIF(H$3:H$102,\"=\"&H40)),\"\")","v":""},{"$f":"IF(Registration!$E39=\"n\",MTA!G39,\"\")","v":""},{"$f":"IF(AND(Registration!$E39=\"n\",COUNTBLANK(J40)=0),RANK(J40,J$3:J$101,0),\"\")","v":""},{"$f":"IF(AND(Registration!$E39=\"n\",COUNTBLANK(K40)=0),placingpoints(K40,COUNTIF(K$3:K$101,\"=\"&K40)),\"\")","v":""},{"$f":"IF(Registration!$E39=\"n\",'Trick Catch'!X40,\"\")","v":""},{"$f":"IF(AND(Registration!$E39=\"n\",COUNTBLANK(M40)=0),RANK(M40,M$3:M$101,0),\"\")","v":""},{"$f":"IF(AND(Registration!$E39=\"n\",COUNTBLANK(N40)=0),placingpoints(N40,COUNTIF(N$3:N$101,\"=\"&N40)),\"\")","v":""},{"$f":"IF(Registration!$E39=\"n\",'Fast Catch'!F39,\"\")","v":""},{"$f":"IF(AND(Registration!$E39=\"n\",COUNTBLANK(P40)=0),RANK(P40,P$3:P$101,1),\"\")","v":""},{"$f":"IF(AND(Registration!$E39=\"n\",COUNTBLANK(Q40)=0),placingpoints(Q40,COUNTIF(Q$3:Q$101,\"=\"&Q40)),\"\")","v":""},{"$f":"IF(Registration!$E39=\"n\",Endurance!C39,\"\")","v":""},{"$f":"IF(AND(Registration!$E39=\"n\",COUNTBLANK(S40)=0),RANK(S40,S$3:S$101,0),\"\")","v":""},{"$f":"IF(AND(Registration!$E39=\"n\",COUNTBLANK(T40)=0),placingpoints(T40,COUNTIF(T$3:T$101,\"=\"&T40)),\"\")","v":""}]
[{"$f":"IF(Registration!E40=\"n\",RANK(B41,$B$3:$B$101,1),\"\")","v":""},{"$f":"IF(Registration!E40=\"n\",SUM(F41,I41,L41,O41,R41,U41),\"\")","v":""},{"$f":"IF(COUNTBLANK(Registration!B40)=1,\"\",IF(Registration!E40=\"n\",Registration!B40,\"\"))","v":""},{"$f":"IF(Registration!E40=\"n\",'Aussie Round'!V41,\"\")","v":""},{"$f":"IF(AND(Registration!$E40=\"n\",COUNTBLANK(D41)=0),RANK(D41,D$3:D$101,0),\"\")","v":""},{"$f":"IF(AND(Registration!$E40=\"n\",COUNTBLANK(E41)=0),placingpoints(E41,COUNTIF(E$3:E$101,\"=\"&E41)),\"\")","v":""},{"$f":"IF(Registration!$E40=\"n\",Accuracy!L40,\"\")","v":""},{"$f":"IF(AND(Registration!$E40=\"n\",COUNTBLANK(G41)=0),RANK(G41,G$3:G$102,0),\"\")","v":""},{"$f":"IF(AND(Registration!$E40=\"n\",COUNTBLANK(H41)=0),placingpoints(H41,COUNTIF(H$3:H$102,\"=\"&H41)),\"\")","v":""},{"$f":"IF(Registration!$E40=\"n\",MTA!G40,\"\")","v":""},{"$f":"IF(AND(Registration!$E40=\"n\",COUNTBLANK(J41)=0),RANK(J41,J$3:J$101,0),\"\")","v":""},{"$f":"IF(AND(Registration!$E40=\"n\",COUNTBLANK(K41)=0),placingpoints(K41,COUNTIF(K$3:K$101,\"=\"&K41)),\"\")","v":""},{"$f":"IF(Registration!$E40=\"n\",'Trick Catch'!X41,\"\")","v":""},{"$f":"IF(AND(Registration!$E40=\"n\",COUNTBLANK(M41)=0),RANK(M41,M$3:M$101,0),\"\")","v":""},{"$f":"IF(AND(Registration!$E40=\"n\",COUNTBLANK(N41)=0),placingpoints(N41,COUNTIF(N$3:N$101,\"=\"&N41)),\"\")","v":""},{"$f":"IF(Registration!$E40=\"n\",'Fast Catch'!F40,\"\")","v":""},{"$f":"IF(AND(Registration!$E40=\"n\",COUNTBLANK(P41)=0),RANK(P41,P$3:P$101,1),\"\")","v":""},{"$f":"IF(AND(Registration!$E40=\"n\",COUNTBLANK(Q41)=0),placingpoints(Q41,COUNTIF(Q$3:Q$101,\"=\"&Q41)),\"\")","v":""},{"$f":"IF(Registration!$E40=\"n\",Endurance!C40,\"\")","v":""},{"$f":"IF(AND(Registration!$E40=\"n\",COUNTBLANK(S41)=0),RANK(S41,S$3:S$101,0),\"\")","v":""},{"$f":"IF(AND(Registration!$E40=\"n\",COUNTBLANK(T41)=0),placingpoints(T41,COUNTIF(T$3:T$101,\"=\"&T41)),\"\")","v":""}]
[{"$f":"IF(Registration!E41=\"n\",RANK(B42,$B$3:$B$101,1),\"\")","v":""},{"$f":"IF(Registration!E41=\"n\",SUM(F42,I42,L42,O42,R42,U42),\"\")","v":""},{"$f":"IF(COUNTBLANK(Registration!B41)=1,\"\",IF(Registration!E41=\"n\",Registration!B41,\"\"))","v":""},{"$f":"IF(Registration!E41=\"n\",'Aussie Round'!V42,\"\")","v":""},{"$f":"IF(AND(Registration!$E41=\"n\",COUNTBLANK(D42)=0),RANK(D42,D$3:D$101,0),\"\")","v":""},{"$f":"IF(AND(Registration!$E41=\"n\",COUNTBLANK(E42)=0),placingpoints(E42,COUNTIF(E$3:E$101,\"=\"&E42)),\"\")","v":""},{"$f":"IF(Registration!$E41=\"n\",Accuracy!L41,\"\")","v":""},{"$f":"IF(AND(Registration!$E41=\"n\",COUNTBLANK(G42)=0),RANK(G42,G$3:G$102,0),\"\")","v":""},{"$f":"IF(AND(Registration!$E41=\"n\",COUNTBLANK(H42)=0),placingpoints(H42,COUNTIF(H$3:H$102,\"=\"&H42)),\"\")","v":""},{"$f":"IF(Registration!$E41=\"n\",MTA!G41,\"\")","v":""},{"$f":"IF(AND(Registration!$E41=\"n\",COUNTBLANK(J42)=0),RANK(J42,J$3:J$101,0),\"\")","v":""},{"$f":"IF(AND(Registration!$E41=\"n\",COUNTBLANK(K42)=0),placingpoints(K42,COUNTIF(K$3:K$101,\"=\"&K42)),\"\")","v":""},{"$f":"IF(Registration!$E41=\"n\",'Trick Catch'!X42,\"\")","v":""},{"$f":"IF(AND(Registration!$E41=\"n\",COUNTBLANK(M42)=0),RANK(M42,M$3:M$101,0),\"\")","v":""},{"$f":"IF(AND(Registration!$E41=\"n\",COUNTBLANK(N42)=0),placingpoints(N42,COUNTIF(N$3:N$101,\"=\"&N42)),\"\")","v":""},{"$f":"IF(Registration!$E41=\"n\",'Fast Catch'!F41,\"\")","v":""},{"$f":"IF(AND(Registration!$E41=\"n\",COUNTBLANK(P42)=0),RANK(P42,P$3:P$101,1),\"\")","v":""},{"$f":"IF(AND(Registration!$E41=\"n\",COUNTBLANK(Q42)=0),placingpoints(Q42,COUNTIF(Q$3:Q$101,\"=\"&Q42)),\"\")","v":""},{"$f":"IF(Registration!$E41=\"n\",Endurance!C41,\"\")","v":""},{"$f":"IF(AND(Registration!$E41=\"n\",COUNTBLANK(S42)=0),RANK(S42,S$3:S$101,0),\"\")","v":""},{"$f":"IF(AND(Registration!$E41=\"n\",COUNTBLANK(T42)=0),placingpoints(T42,COUNTIF(T$3:T$101,\"=\"&T42)),\"\")","v":""}]
[{"$f":"IF(Registration!E42=\"n\",RANK(B43,$B$3:$B$101,1),\"\")","v":""},{"$f":"IF(Registration!E42=\"n\",SUM(F43,I43,L43,O43,R43,U43),\"\")","v":""},{"$f":"IF(COUNTBLANK(Registration!B42)=1,\"\",IF(Registration!E42=\"n\",Registration!B42,\"\"))","v":""},{"$f":"IF(Registration!E42=\"n\",'Aussie Round'!V43,\"\")","v":""},{"$f":"IF(AND(Registration!$E42=\"n\",COUNTBLANK(D43)=0),RANK(D43,D$3:D$101,0),\"\")","v":""},{"$f":"IF(AND(Registration!$E42=\"n\",COUNTBLANK(E43)=0),placingpoints(E43,COUNTIF(E$3:E$101,\"=\"&E43)),\"\")","v":""},{"$f":"IF(Registration!$E42=\"n\",Accuracy!L42,\"\")","v":""},{"$f":"IF(AND(Registration!$E42=\"n\",COUNTBLANK(G43)=0),RANK(G43,G$3:G$102,0),\"\")","v":""},{"$f":"IF(AND(Registration!$E42=\"n\",COUNTBLANK(H43)=0),placingpoints(H43,COUNTIF(H$3:H$102,\"=\"&H43)),\"\")","v":""},{"$f":"IF(Registration!$E42=\"n\",MTA!G42,\"\")","v":""},{"$f":"IF(AND(Registration!$E42=\"n\",COUNTBLANK(J43)=0),RANK(J43,J$3:J$101,0),\"\")","v":""},{"$f":"IF(AND(Registration!$E42=\"n\",COUNTBLANK(K43)=0),placingpoints(K43,COUNTIF(K$3:K$101,\"=\"&K43)),\"\")","v":""},{"$f":"IF(Registration!$E42=\"n\",'Trick Catch'!X43,\"\")","v":""},{"$f":"IF(AND(Registration!$E42=\"n\",COUNTBLANK(M43)=0),RANK(M43,M$3:M$101,0),\"\")","v":""},{"$f":"IF(AND(Registration!$E42=\"n\",COUNTBLANK(N43)=0),placingpoints(N43,COUNTIF(N$3:N$101,\"=\"&N43)),\"\")","v":""},{"$f":"IF(Registration!$E42=\"n\",'Fast Catch'!F42,\"\")","v":""},{"$f":"IF(AND(Registration!$E42=\"n\",COUNTBLANK(P43)=0),RANK(P43,P$3:P$101,1),\"\")","v":""},{"$f":"IF(AND(Registration!$E42=\"n\",COUNTBLANK(Q43)=0),placingpoints(Q43,COUNTIF(Q$3:Q$101,\"=\"&Q43)),\"\")","v":""},{"$f":"IF(Registration!$E42=\"n\",Endurance!C42,\"\")","v":""},{"$f":"IF(AND(Registration!$E42=\"n\",COUNTBLANK(S43)=0),RANK(S43,S$3:S$101,0),\"\")","v":""},{"$f":"IF(AND(Registration!$E42=\"n\",COUNTBLANK(T43)=0),placingpoints(T43,COUNTIF(T$3:T$101,\"=\"&T43)),\"\")","v":""}]
[{"$f":"IF(Registration!E43=\"n\",RANK(B44,$B$3:$B$101,1),\"\")","v":""},{"$f":"IF(Registration!E43=\"n\",SUM(F44,I44,L44,O44,R44,U44),\"\")","v":""},{"$f":"IF(COUNTBLANK(Registration!B43)=1,\"\",IF(Registration!E43=\"n\",Registration!B43,\"\"))","v":""},{"$f":"IF(Registration!E43=\"n\",'Aussie Round'!V44,\"\")","v":""},{"$f":"IF(AND(Registration!$E43=\"n\",COUNTBLANK(D44)=0),RANK(D44,D$3:D$101,0),\"\")","v":""},{"$f":"IF(AND(Registration!$E43=\"n\",COUNTBLANK(E44)=0),placingpoints(E44,COUNTIF(E$3:E$101,\"=\"&E44)),\"\")","v":""},{"$f":"IF(Registration!$E43=\"n\",Accuracy!L43,\"\")","v":""},{"$f":"IF(AND(Registration!$E43=\"n\",COUNTBLANK(G44)=0),RANK(G44,G$3:G$102,0),\"\")","v":""},{"$f":"IF(AND(Registration!$E43=\"n\",COUNTBLANK(H44)=0),placingpoints(H44,COUNTIF(H$3:H$102,\"=\"&H44)),\"\")","v":""},{"$f":"IF(Registration!$E43=\"n\",MTA!G43,\"\")","v":""},{"$f":"IF(AND(Registration!$E43=\"n\",COUNTBLANK(J44)=0),RANK(J44,J$3:J$101,0),\"\")","v":""},{"$f":"IF(AND(Registration!$E43=\"n\",COUNTBLANK(K44)=0),placingpoints(K44,COUNTIF(K$3:K$101,\"=\"&K44)),\"\")","v":""},{"$f":"IF(Registration!$E43=\"n\",'Trick Catch'!X44,\"\")","v":""},{"$f":"IF(AND(Registration!$E43=\"n\",COUNTBLANK(M44)=0),RANK(M44,M$3:M$101,0),\"\")","v":""},{"$f":"IF(AND(Registration!$E43=\"n\",COUNTBLANK(N44)=0),placingpoints(N44,COUNTIF(N$3:N$101,\"=\"&N44)),\"\")","v":""},{"$f":"IF(Registration!$E43=\"n\",'Fast Catch'!F43,\"\")","v":""},{"$f":"IF(AND(Registration!$E43=\"n\",COUNTBLANK(P44)=0),RANK(P44,P$3:P$101,1),\"\")","v":""},{"$f":"IF(AND(Registration!$E43=\"n\",COUNTBLANK(Q44)=0),placingpoints(Q44,COUNTIF(Q$3:Q$101,\"=\"&Q44)),\"\")","v":""},{"$f":"IF(Registration!$E43=\"n\",Endurance!C43,\"\")","v":""},{"$f":"IF(AND(Registration!$E43=\"n\",COUNTBLANK(S44)=0),RANK(S44,S$3:S$101,0),\"\")","v":""},{"$f":"IF(AND(Registration!$E43=\"n\",COUNTBLANK(T44)=0),placingpoints(T44,COUNTIF(T$3:T$101,\"=\"&T44)),\"\")","v":""}]
[{"$f":"IF(Registration!E44=\"n\",RANK(B45,$B$3:$B$101,1),\"\")","v":""},{"$f":"IF(Registration!E44=\"n\",SUM(F45,I45,L45,O45,R45,U45),\"\")","v":""},{"$f":"IF(COUNTBLANK(Registration!B44)=1,\"\",IF(Registration!E44=\"n\",Registration!B44,\"\"))","v":""},{"$f":"IF(Registration!E44=\"n\",'Aussie Round'!V45,\"\")","v":""},{"$f":"IF(AND(Registration!$E44=\"n\",COUNTBLANK(D45)=0),RANK(D45,D$3:D$101,0),\"\")","v":""},{"$f":"IF(AND(Registration!$E44=\"n\",COUNTBLANK(E45)=0),placingpoints(E45,COUNTIF(E$3:E$101,\"=\"&E45)),\"\")","v":""},{"$f":"IF(Registration!$E44=\"n\",Accuracy!L44,\"\")","v":""},{"$f":"IF(AND(Registration!$E44=\"n\",COUNTBLANK(G45)=0),RANK(G45,G$3:G$102,0),\"\")","v":""},{"$f":"IF(AND(Registration!$E44=\"n\",COUNTBLANK(H45)=0),placingpoints(H45,COUNTIF(H$3:H$102,\"=\"&H45)),\"\")","v":""},{"$f":"IF(Registration!$E44=\"n\",MTA!G44,\"\")","v":""},{"$f":"IF(AND(Registration!$E44=\"n\",COUNTBLANK(J45)=0),RANK(J45,J$3:J$101,0),\"\")","v":""},{"$f":"IF(AND(Registration!$E44=\"n\",COUNTBLANK(K45)=0),placingpoints(K45,COUNTIF(K$3:K$101,\"=\"&K45)),\"\")","v":""},{"$f":"IF(Registration!$E44=\"n\",'Trick Catch'!X45,\"\")","v":""},{"$f":"IF(AND(Registration!$E44=\"n\",COUNTBLANK(M45)=0),RANK(M45,M$3:M$101,0),\"\")","v":""},{"$f":"IF(AND(Registration!$E44=\"n\",COUNTBLANK(N45)=0),placingpoints(N45,COUNTIF(N$3:N$101,\"=\"&N45)),\"\")","v":""},{"$f":"IF(Registration!$E44=\"n\",'Fast Catch'!F44,\"\")","v":""},{"$f":"IF(AND(Registration!$E44=\"n\",COUNTBLANK(P45)=0),RANK(P45,P$3:P$101,1),\"\")","v":""},{"$f":"IF(AND(Registration!$E44=\"n\",COUNTBLANK(Q45)=0),placingpoints(Q45,COUNTIF(Q$3:Q$101,\"=\"&Q45)),\"\")","v":""},{"$f":"IF(Registration!$E44=\"n\",Endurance!C44,\"\")","v":""},{"$f":"IF(AND(Registration!$E44=\"n\",COUNTBLANK(S45)=0),RANK(S45,S$3:S$101,0),\"\")","v":""},{"$f":"IF(AND(Registration!$E44=\"n\",COUNTBLANK(T45)=0),placingpoints(T45,COUNTIF(T$3:T$101,\"=\"&T45)),\"\")","v":""}]
[{"$f":"IF(Registration!E45=\"n\",RANK(B46,$B$3:$B$101,1),\"\")","v":""},{"$f":"IF(Registration!E45=\"n\",SUM(F46,I46,L46,O46,R46,U46),\"\")","v":""},{"$f":"IF(COUNTBLANK(Registration!B45)=1,\"\",IF(Registration!E45=\"n\",Registration!B45,\"\"))","v":""},{"$f":"IF(Registration!E45=\"n\",'Aussie Round'!V46,\"\")","v":""},{"$f":"IF(AND(Registration!$E45=\"n\",COUNTBLANK(D46)=0),RANK(D46,D$3:D$101,0),\"\")","v":""},{"$f":"IF(AND(Registration!$E45=\"n\",COUNTBLANK(E46)=0),placingpoints(E46,COUNTIF(E$3:E$101,\"=\"&E46)),\"\")","v":""},{"$f":"IF(Registration!$E45=\"n\",Accuracy!L45,\"\")","v":""},{"$f":"IF(AND(Registration!$E45=\"n\",COUNTBLANK(G46)=0),RANK(G46,G$3:G$102,0),\"\")","v":""},{"$f":"IF(AND(Registration!$E45=\"n\",COUNTBLANK(H46)=0),placingpoints(H46,COUNTIF(H$3:H$102,\"=\"&H46)),\"\")","v":""},{"$f":"IF(Registration!$E45=\"n\",MTA!G45,\"\")","v":""},{"$f":"IF(AND(Registration!$E45=\"n\",COUNTBLANK(J46)=0),RANK(J46,J$3:J$101,0),\"\")","v":""},{"$f":"IF(AND(Registration!$E45=\"n\",COUNTBLANK(K46)=0),placingpoints(K46,COUNTIF(K$3:K$101,\"=\"&K46)),\"\")","v":""},{"$f":"IF(Registration!$E45=\"n\",'Trick Catch'!X46,\"\")","v":""},{"$f":"IF(AND(Registration!$E45=\"n\",COUNTBLANK(M46)=0),RANK(M46,M$3:M$101,0),\"\")","v":""},{"$f":"IF(AND(Registration!$E45=\"n\",COUNTBLANK(N46)=0),placingpoints(N46,COUNTIF(N$3:N$101,\"=\"&N46)),\"\")","v":""},{"$f":"IF(Registration!$E45=\"n\",'Fast Catch'!F45,\"\")","v":""},{"$f":"IF(AND(Registration!$E45=\"n\",COUNTBLANK(P46)=0),RANK(P46,P$3:P$101,1),\"\")","v":""},{"$f":"IF(AND(Registration!$E45=\"n\",COUNTBLANK(Q46)=0),placingpoints(Q46,COUNTIF(Q$3:Q$101,\"=\"&Q46)),\"\")","v":""},{"$f":"IF(Registration!$E45=\"n\",Endurance!C45,\"\")","v":""},{"$f":"IF(AND(Registration!$E45=\"n\",COUNTBLANK(S46)=0),RANK(S46,S$3:S$101,0),\"\")","v":""},{"$f":"IF(AND(Registration!$E45=\"n\",COUNTBLANK(T46)=0),placingpoints(T46,COUNTIF(T$3:T$101,\"=\"&T46)),\"\")","v":""}]
[{"$f":"IF(Registration!E46=\"n\",RANK(B47,$B$3:$B$101,1),\"\")","v":""},{"$f":"IF(Registration!E46=\"n\",SUM(F47,I47,L47,O47,R47,U47),\"\")","v":""},{"$f":"IF(COUNTBLANK(Registration!B46)=1,\"\",IF(Registration!E46=\"n\",Registration!B46,\"\"))","v":""},{"$f":"IF(Registration!E46=\"n\",'Aussie Round'!V47,\"\")","v":""},{"$f":"IF(AND(Registration!$E46=\"n\",COUNTBLANK(D47)=0),RANK(D47,D$3:D$101,0),\"\")","v":""},{"$f":"IF(AND(Registration!$E46=\"n\",COUNTBLANK(E47)=0),placingpoints(E47,COUNTIF(E$3:E$101,\"=\"&E47)),\"\")","v":""},{"$f":"IF(Registration!$E46=\"n\",Accuracy!L46,\"\")","v":""},{"$f":"IF(AND(Registration!$E46=\"n\",COUNTBLANK(G47)=0),RANK(G47,G$3:G$102,0),\"\")","v":""},{"$f":"IF(AND(Registration!$E46=\"n\",COUNTBLANK(H47)=0),placingpoints(H47,COUNTIF(H$3:H$102,\"=\"&H47)),\"\")","v":""},{"$f":"IF(Registration!$E46=\"n\",MTA!G46,\"\")","v":""},{"$f":"IF(AND(Registration!$E46=\"n\",COUNTBLANK(J47)=0),RANK(J47,J$3:J$101,0),\"\")","v":""},{"$f":"IF(AND(Registration!$E46=\"n\",COUNTBLANK(K47)=0),placingpoints(K47,COUNTIF(K$3:K$101,\"=\"&K47)),\"\")","v":""},{"$f":"IF(Registration!$E46=\"n\",'Trick Catch'!X47,\"\")","v":""},{"$f":"IF(AND(Registration!$E46=\"n\",COUNTBLANK(M47)=0),RANK(M47,M$3:M$101,0),\"\")","v":""},{"$f":"IF(AND(Registration!$E46=\"n\",COUNTBLANK(N47)=0),placingpoints(N47,COUNTIF(N$3:N$101,\"=\"&N47)),\"\")","v":""},{"$f":"IF(Registration!$E46=\"n\",'Fast Catch'!F46,\"\")","v":""},{"$f":"IF(AND(Registration!$E46=\"n\",COUNTBLANK(P47)=0),RANK(P47,P$3:P$101,1),\"\")","v":""},{"$f":"IF(AND(Registration!$E46=\"n\",COUNTBLANK(Q47)=0),placingpoints(Q47,COUNTIF(Q$3:Q$101,\"=\"&Q47)),\"\")","v":""},{"$f":"IF(Registration!$E46=\"n\",Endurance!C46,\"\")","v":""},{"$f":"IF(AND(Registration!$E46=\"n\",COUNTBLANK(S47)=0),RANK(S47,S$3:S$101,0),\"\")","v":""},{"$f":"IF(AND(Registration!$E46=\"n\",COUNTBLANK(T47)=0),placingpoints(T47,COUNTIF(T$3:T$101,\"=\"&T47)),\"\")","v":""}]
[{"$f":"IF(Registration!E47=\"n\",RANK(B48,$B$3:$B$101,1),\"\")","v":""},{"$f":"IF(Registration!E47=\"n\",SUM(F48,I48,L48,O48,R48,U48),\"\")","v":""},{"$f":"IF(COUNTBLANK(Registration!B47)=1,\"\",IF(Registration!E47=\"n\",Registration!B47,\"\"))","v":""},{"$f":"IF(Registration!E47=\"n\",'Aussie Round'!V48,\"\")","v":""},{"$f":"IF(AND(Registration!$E47=\"n\",COUNTBLANK(D48)=0),RANK(D48,D$3:D$101,0),\"\")","v":""},{"$f":"IF(AND(Registration!$E47=\"n\",COUNTBLANK(E48)=0),placingpoints(E48,COUNTIF(E$3:E$101,\"=\"&E48)),\"\")","v":""},{"$f":"IF(Registration!$E47=\"n\",Accuracy!L47,\"\")","v":""},{"$f":"IF(AND(Registration!$E47=\"n\",COUNTBLANK(G48)=0),RANK(G48,G$3:G$102,0),\"\")","v":""},{"$f":"IF(AND(Registration!$E47=\"n\",COUNTBLANK(H48)=0),placingpoints(H48,COUNTIF(H$3:H$102,\"=\"&H48)),\"\")","v":""},{"$f":"IF(Registration!$E47=\"n\",MTA!G47,\"\")","v":""},{"$f":"IF(AND(Registration!$E47=\"n\",COUNTBLANK(J48)=0),RANK(J48,J$3:J$101,0),\"\")","v":""},{"$f":"IF(AND(Registration!$E47=\"n\",COUNTBLANK(K48)=0),placingpoints(K48,COUNTIF(K$3:K$101,\"=\"&K48)),\"\")","v":""},{"$f":"IF(Registration!$E47=\"n\",'Trick Catch'!X48,\"\")","v":""},{"$f":"IF(AND(Registration!$E47=\"n\",COUNTBLANK(M48)=0),RANK(M48,M$3:M$101,0),\"\")","v":""},{"$f":"IF(AND(Registration!$E47=\"n\",COUNTBLANK(N48)=0),placingpoints(N48,COUNTIF(N$3:N$101,\"=\"&N48)),\"\")","v":""},{"$f":"IF(Registration!$E47=\"n\",'Fast Catch'!F47,\"\")","v":""},{"$f":"IF(AND(Registration!$E47=\"n\",COUNTBLANK(P48)=0),RANK(P48,P$3:P$101,1),\"\")","v":""},{"$f":"IF(AND(Registration!$E47=\"n\",COUNTBLANK(Q48)=0),placingpoints(Q48,COUNTIF(Q$3:Q$101,\"=\"&Q48)),\"\")","v":""},{"$f":"IF(Registration!$E47=\"n\",Endurance!C47,\"\")","v":""},{"$f":"IF(AND(Registration!$E47=\"n\",COUNTBLANK(S48)=0),RANK(S48,S$3:S$101,0),\"\")","v":""},{"$f":"IF(AND(Registration!$E47=\"n\",COUNTBLANK(T48)=0),placingpoints(T48,COUNTIF(T$3:T$101,\"=\"&T48)),\"\")","v":""}]
[{"$f":"IF(Registration!E48=\"n\",RANK(B49,$B$3:$B$101,1),\"\")","v":""},{"$f":"IF(Registration!E48=\"n\",SUM(F49,I49,L49,O49,R49,U49),\"\")","v":""},{"$f":"IF(COUNTBLANK(Registration!B48)=1,\"\",IF(Registration!E48=\"n\",Registration!B48,\"\"))","v":""},{"$f":"IF(Registration!E48=\"n\",'Aussie Round'!V49,\"\")","v":""},{"$f":"IF(AND(Registration!$E48=\"n\",COUNTBLANK(D49)=0),RANK(D49,D$3:D$101,0),\"\")","v":""},{"$f":"IF(AND(Registration!$E48=\"n\",COUNTBLANK(E49)=0),placingpoints(E49,COUNTIF(E$3:E$101,\"=\"&E49)),\"\")","v":""},{"$f":"IF(Registration!$E48=\"n\",Accuracy!L48,\"\")","v":""},{"$f":"IF(AND(Registration!$E48=\"n\",COUNTBLANK(G49)=0),RANK(G49,G$3:G$102,0),\"\")","v":""},{"$f":"IF(AND(Registration!$E48=\"n\",COUNTBLANK(H49)=0),placingpoints(H49,COUNTIF(H$3:H$102,\"=\"&H49)),\"\")","v":""},{"$f":"IF(Registration!$E48=\"n\",MTA!G48,\"\")","v":""},{"$f":"IF(AND(Registration!$E48=\"n\",COUNTBLANK(J49)=0),RANK(J49,J$3:J$101,0),\"\")","v":""},{"$f":"IF(AND(Registration!$E48=\"n\",COUNTBLANK(K49)=0),placingpoints(K49,COUNTIF(K$3:K$101,\"=\"&K49)),\"\")","v":""},{"$f":"IF(Registration!$E48=\"n\",'Trick Catch'!X49,\"\")","v":""},{"$f":"IF(AND(Registration!$E48=\"n\",COUNTBLANK(M49)=0),RANK(M49,M$3:M$101,0),\"\")","v":""},{"$f":"IF(AND(Registration!$E48=\"n\",COUNTBLANK(N49)=0),placingpoints(N49,COUNTIF(N$3:N$101,\"=\"&N49)),\"\")","v":""},{"$f":"IF(Registration!$E48=\"n\",'Fast Catch'!F48,\"\")","v":""},{"$f":"IF(AND(Registration!$E48=\"n\",COUNTBLANK(P49)=0),RANK(P49,P$3:P$101,1),\"\")","v":""},{"$f":"IF(AND(Registration!$E48=\"n\",COUNTBLANK(Q49)=0),placingpoints(Q49,COUNTIF(Q$3:Q$101,\"=\"&Q49)),\"\")","v":""},{"$f":"IF(Registration!$E48=\"n\",Endurance!C48,\"\")","v":""},{"$f":"IF(AND(Registration!$E48=\"n\",COUNTBLANK(S49)=0),RANK(S49,S$3:S$101,0),\"\")","v":""},{"$f":"IF(AND(Registration!$E48=\"n\",COUNTBLANK(T49)=0),placingpoints(T49,COUNTIF(T$3:T$101,\"=\"&T49)),\"\")","v":""}]
[{"$f":"IF(Registration!E49=\"n\",RANK(B50,$B$3:$B$101,1),\"\")","v":""},{"$f":"IF(Registration!E49=\"n\",SUM(F50,I50,L50,O50,R50,U50),\"\")","v":""},{"$f":"IF(COUNTBLANK(Registration!B49)=1,\"\",IF(Registration!E49=\"n\",Registration!B49,\"\"))","v":""},{"$f":"IF(Registration!E49=\"n\",'Aussie Round'!V50,\"\")","v":""},{"$f":"IF(AND(Registration!$E49=\"n\",COUNTBLANK(D50)=0),RANK(D50,D$3:D$101,0),\"\")","v":""},{"$f":"IF(AND(Registration!$E49=\"n\",COUNTBLANK(E50)=0),placingpoints(E50,COUNTIF(E$3:E$101,\"=\"&E50)),\"\")","v":""},{"$f":"IF(Registration!$E49=\"n\",Accuracy!L49,\"\")","v":""},{"$f":"IF(AND(Registration!$E49=\"n\",COUNTBLANK(G50)=0),RANK(G50,G$3:G$102,0),\"\")","v":""},{"$f":"IF(AND(Registration!$E49=\"n\",COUNTBLANK(H50)=0),placingpoints(H50,COUNTIF(H$3:H$102,\"=\"&H50)),\"\")","v":""},{"$f":"IF(Registration!$E49=\"n\",MTA!G49,\"\")","v":""},{"$f":"IF(AND(Registration!$E49=\"n\",COUNTBLANK(J50)=0),RANK(J50,J$3:J$101,0),\"\")","v":""},{"$f":"IF(AND(Registration!$E49=\"n\",COUNTBLANK(K50)=0),placingpoints(K50,COUNTIF(K$3:K$101,\"=\"&K50)),\"\")","v":""},{"$f":"IF(Registration!$E49=\"n\",'Trick Catch'!X50,\"\")","v":""},{"$f":"IF(AND(Registration!$E49=\"n\",COUNTBLANK(M50)=0),RANK(M50,M$3:M$101,0),\"\")","v":""},{"$f":"IF(AND(Registration!$E49=\"n\",COUNTBLANK(N50)=0),placingpoints(N50,COUNTIF(N$3:N$101,\"=\"&N50)),\"\")","v":""},{"$f":"IF(Registration!$E49=\"n\",'Fast Catch'!F49,\"\")","v":""},{"$f":"IF(AND(Registration!$E49=\"n\",COUNTBLANK(P50)=0),RANK(P50,P$3:P$101,1),\"\")","v":""},{"$f":"IF(AND(Registration!$E49=\"n\",COUNTBLANK(Q50)=0),placingpoints(Q50,COUNTIF(Q$3:Q$101,\"=\"&Q50)),\"\")","v":""},{"$f":"IF(Registration!$E49=\"n\",Endurance!C49,\"\")","v":""},{"$f":"IF(AND(Registration!$E49=\"n\",COUNTBLANK(S50)=0),RANK(S50,S$3:S$101,0),\"\")","v":""},{"$f":"IF(AND(Registration!$E49=\"n\",COUNTBLANK(T50)=0),placingpoints(T50,COUNTIF(T$3:T$101,\"=\"&T50)),\"\")","v":""}]
[{"$f":"IF(Registration!E50=\"n\",RANK(B51,$B$3:$B$101,1),\"\")","v":""},{"$f":"IF(Registration!E50=\"n\",SUM(F51,I51,L51,O51,R51,U51),\"\")","v":""},{"$f":"IF(COUNTBLANK(Registration!B50)=1,\"\",IF(Registration!E50=\"n\",Registration!B50,\"\"))","v":""},{"$f":"IF(Registration!E50=\"n\",'Aussie Round'!V51,\"\")","v":""},{"$f":"IF(AND(Registration!$E50=\"n\",COUNTBLANK(D51)=0),RANK(D51,D$3:D$101,0),\"\")","v":""},{"$f":"IF(AND(Registration!$E50=\"n\",COUNTBLANK(E51)=0),placingpoints(E51,COUNTIF(E$3:E$101,\"=\"&E51)),\"\")","v":""},{"$f":"IF(Registration!$E50=\"n\",Accuracy!L50,\"\")","v":""},{"$f":"IF(AND(Registration!$E50=\"n\",COUNTBLANK(G51)=0),RANK(G51,G$3:G$102,0),\"\")","v":""},{"$f":"IF(AND(Registration!$E50=\"n\",COUNTBLANK(H51)=0),placingpoints(H51,COUNTIF(H$3:H$102,\"=\"&H51)),\"\")","v":""},{"$f":"IF(Registration!$E50=\"n\",MTA!G50,\"\")","v":""},{"$f":"IF(AND(Registration!$E50=\"n\",COUNTBLANK(J51)=0),RANK(J51,J$3:J$101,0),\"\")","v":""},{"$f":"IF(AND(Registration!$E50=\"n\",COUNTBLANK(K51)=0),placingpoints(K51,COUNTIF(K$3:K$101,\"=\"&K51)),\"\")","v":""},{"$f":"IF(Registration!$E50=\"n\",'Trick Catch'!X51,\"\")","v":""},{"$f":"IF(AND(Registration!$E50=\"n\",COUNTBLANK(M51)=0),RANK(M51,M$3:M$101,0),\"\")","v":""},{"$f":"IF(AND(Registration!$E50=\"n\",COUNTBLANK(N51)=0),placingpoints(N51,COUNTIF(N$3:N$101,\"=\"&N51)),\"\")","v":""},{"$f":"IF(Registration!$E50=\"n\",'Fast Catch'!F50,\"\")","v":""},{"$f":"IF(AND(Registration!$E50=\"n\",COUNTBLANK(P51)=0),RANK(P51,P$3:P$101,1),\"\")","v":""},{"$f":"IF(AND(Registration!$E50=\"n\",COUNTBLANK(Q51)=0),placingpoints(Q51,COUNTIF(Q$3:Q$101,\"=\"&Q51)),\"\")","v":""},{"$f":"IF(Registration!$E50=\"n\",Endurance!C50,\"\")","v":""},{"$f":"IF(AND(Registration!$E50=\"n\",COUNTBLANK(S51)=0),RANK(S51,S$3:S$101,0),\"\")","v":""},{"$f":"IF(AND(Registration!$E50=\"n\",COUNTBLANK(T51)=0),placingpoints(T51,COUNTIF(T$3:T$101,\"=\"&T51)),\"\")","v":""}]
[{"$f":"IF(Registration!E51=\"n\",RANK(B52,$B$3:$B$101,1),\"\")","v":""},{"$f":"IF(Registration!E51=\"n\",SUM(F52,I52,L52,O52,R52,U52),\"\")","v":""},{"$f":"IF(COUNTBLANK(Registration!B51)=1,\"\",IF(Registration!E51=\"n\",Registration!B51,\"\"))","v":""},{"$f":"IF(Registration!E51=\"n\",'Aussie Round'!V52,\"\")","v":""},{"$f":"IF(AND(Registration!$E51=\"n\",COUNTBLANK(D52)=0),RANK(D52,D$3:D$101,0),\"\")","v":""},{"$f":"IF(AND(Registration!$E51=\"n\",COUNTBLANK(E52)=0),placingpoints(E52,COUNTIF(E$3:E$101,\"=\"&E52)),\"\")","v":""},{"$f":"IF(Registration!$E51=\"n\",Accuracy!L51,\"\")","v":""},{"$f":"IF(AND(Registration!$E51=\"n\",COUNTBLANK(G52)=0),RANK(G52,G$3:G$102,0),\"\")","v":""},{"$f":"IF(AND(Registration!$E51=\"n\",COUNTBLANK(H52)=0),placingpoints(H52,COUNTIF(H$3:H$102,\"=\"&H52)),\"\")","v":""},{"$f":"IF(Registration!$E51=\"n\",MTA!G51,\"\")","v":""},{"$f":"IF(AND(Registration!$E51=\"n\",COUNTBLANK(J52)=0),RANK(J52,J$3:J$101,0),\"\")","v":""},{"$f":"IF(AND(Registration!$E51=\"n\",COUNTBLANK(K52)=0),placingpoints(K52,COUNTIF(K$3:K$101,\"=\"&K52)),\"\")","v":""},{"$f":"IF(Registration!$E51=\"n\",'Trick Catch'!X52,\"\")","v":""},{"$f":"IF(AND(Registration!$E51=\"n\",COUNTBLANK(M52)=0),RANK(M52,M$3:M$101,0),\"\")","v":""},{"$f":"IF(AND(Registration!$E51=\"n\",COUNTBLANK(N52)=0),placingpoints(N52,COUNTIF(N$3:N$101,\"=\"&N52)),\"\")","v":""},{"$f":"IF(Registration!$E51=\"n\",'Fast Catch'!F51,\"\")","v":""},{"$f":"IF(AND(Registration!$E51=\"n\",COUNTBLANK(P52)=0),RANK(P52,P$3:P$101,1),\"\")","v":""},{"$f":"IF(AND(Registration!$E51=\"n\",COUNTBLANK(Q52)=0),placingpoints(Q52,COUNTIF(Q$3:Q$101,\"=\"&Q52)),\"\")","v":""},{"$f":"IF(Registration!$E51=\"n\",Endurance!C51,\"\")","v":""},{"$f":"IF(AND(Registration!$E51=\"n\",COUNTBLANK(S52)=0),RANK(S52,S$3:S$101,0),\"\")","v":""},{"$f":"IF(AND(Registration!$E51=\"n\",COUNTBLANK(T52)=0),placingpoints(T52,COUNTIF(T$3:T$101,\"=\"&T52)),\"\")","v":""}]
[{"$f":"IF(Registration!E52=\"n\",RANK(B53,$B$3:$B$101,1),\"\")","v":""},{"$f":"IF(Registration!E52=\"n\",SUM(F53,I53,L53,O53,R53,U53),\"\")","v":""},{"$f":"IF(COUNTBLANK(Registration!B52)=1,\"\",IF(Registration!E52=\"n\",Registration!B52,\"\"))","v":""},{"$f":"IF(Registration!E52=\"n\",'Aussie Round'!V53,\"\")","v":""},{"$f":"IF(AND(Registration!$E52=\"n\",COUNTBLANK(D53)=0),RANK(D53,D$3:D$101,0),\"\")","v":""},{"$f":"IF(AND(Registration!$E52=\"n\",COUNTBLANK(E53)=0),placingpoints(E53,COUNTIF(E$3:E$101,\"=\"&E53)),\"\")","v":""},{"$f":"IF(Registration!$E52=\"n\",Accuracy!L52,\"\")","v":""},{"$f":"IF(AND(Registration!$E52=\"n\",COUNTBLANK(G53)=0),RANK(G53,G$3:G$102,0),\"\")","v":""},{"$f":"IF(AND(Registration!$E52=\"n\",COUNTBLANK(H53)=0),placingpoints(H53,COUNTIF(H$3:H$102,\"=\"&H53)),\"\")","v":""},{"$f":"IF(Registration!$E52=\"n\",MTA!G52,\"\")","v":""},{"$f":"IF(AND(Registration!$E52=\"n\",COUNTBLANK(J53)=0),RANK(J53,J$3:J$101,0),\"\")","v":""},{"$f":"IF(AND(Registration!$E52=\"n\",COUNTBLANK(K53)=0),placingpoints(K53,COUNTIF(K$3:K$101,\"=\"&K53)),\"\")","v":""},{"$f":"IF(Registration!$E52=\"n\",'Trick Catch'!X53,\"\")","v":""},{"$f":"IF(AND(Registration!$E52=\"n\",COUNTBLANK(M53)=0),RANK(M53,M$3:M$101,0),\"\")","v":""},{"$f":"IF(AND(Registration!$E52=\"n\",COUNTBLANK(N53)=0),placingpoints(N53,COUNTIF(N$3:N$101,\"=\"&N53)),\"\")","v":""},{"$f":"IF(Registration!$E52=\"n\",'Fast Catch'!F52,\"\")","v":""},{"$f":"IF(AND(Registration!$E52=\"n\",COUNTBLANK(P53)=0),RANK(P53,P$3:P$101,1),\"\")","v":""},{"$f":"IF(AND(Registration!$E52=\"n\",COUNTBLANK(Q53)=0),placingpoints(Q53,COUNTIF(Q$3:Q$101,\"=\"&Q53)),\"\")","v":""},{"$f":"IF(Registration!$E52=\"n\",Endurance!C52,\"\")","v":""},{"$f":"IF(AND(Registration!$E52=\"n\",COUNTBLANK(S53)=0),RANK(S53,S$3:S$101,0),\"\")","v":""},{"$f":"IF(AND(Registration!$E52=\"n\",COUNTBLANK(T53)=0),placingpoints(T53,COUNTIF(T$3:T$101,\"=\"&T53)),\"\")","v":""}]
[{"$f":"IF(Registration!E53=\"n\",RANK(B54,$B$3:$B$101,1),\"\")","v":""},{"$f":"IF(Registration!E53=\"n\",SUM(F54,I54,L54,O54,R54,U54),\"\")","v":""},{"$f":"IF(COUNTBLANK(Registration!B53)=1,\"\",IF(Registration!E53=\"n\",Registration!B53,\"\"))","v":""},{"$f":"IF(Registration!E53=\"n\",'Aussie Round'!V54,\"\")","v":""},{"$f":"IF(AND(Registration!$E53=\"n\",COUNTBLANK(D54)=0),RANK(D54,D$3:D$101,0),\"\")","v":""},{"$f":"IF(AND(Registration!$E53=\"n\",COUNTBLANK(E54)=0),placingpoints(E54,COUNTIF(E$3:E$101,\"=\"&E54)),\"\")","v":""},{"$f":"IF(Registration!$E53=\"n\",Accuracy!L53,\"\")","v":""},{"$f":"IF(AND(Registration!$E53=\"n\",COUNTBLANK(G54)=0),RANK(G54,G$3:G$102,0),\"\")","v":""},{"$f":"IF(AND(Registration!$E53=\"n\",COUNTBLANK(H54)=0),placingpoints(H54,COUNTIF(H$3:H$102,\"=\"&H54)),\"\")","v":""},{"$f":"IF(Registration!$E53=\"n\",MTA!G53,\"\")","v":""},{"$f":"IF(AND(Registration!$E53=\"n\",COUNTBLANK(J54)=0),RANK(J54,J$3:J$101,0),\"\")","v":""},{"$f":"IF(AND(Registration!$E53=\"n\",COUNTBLANK(K54)=0),placingpoints(K54,COUNTIF(K$3:K$101,\"=\"&K54)),\"\")","v":""},{"$f":"IF(Registration!$E53=\"n\",'Trick Catch'!X54,\"\")","v":""},{"$f":"IF(AND(Registration!$E53=\"n\",COUNTBLANK(M54)=0),RANK(M54,M$3:M$101,0),\"\")","v":""},{"$f":"IF(AND(Registration!$E53=\"n\",COUNTBLANK(N54)=0),placingpoints(N54,COUNTIF(N$3:N$101,\"=\"&N54)),\"\")","v":""},{"$f":"IF(Registration!$E53=\"n\",'Fast Catch'!F53,\"\")","v":""},{"$f":"IF(AND(Registration!$E53=\"n\",COUNTBLANK(P54)=0),RANK(P54,P$3:P$101,1),\"\")","v":""},{"$f":"IF(AND(Registration!$E53=\"n\",COUNTBLANK(Q54)=0),placingpoints(Q54,COUNTIF(Q$3:Q$101,\"=\"&Q54)),\"\")","v":""},{"$f":"IF(Registration!$E53=\"n\",Endurance!C53,\"\")","v":""},{"$f":"IF(AND(Registration!$E53=\"n\",COUNTBLANK(S54)=0),RANK(S54,S$3:S$101,0),\"\")","v":""},{"$f":"IF(AND(Registration!$E53=\"n\",COUNTBLANK(T54)=0),placingpoints(T54,COUNTIF(T$3:T$101,\"=\"&T54)),\"\")","v":""}]
[{"$f":"IF(Registration!E54=\"n\",RANK(B55,$B$3:$B$101,1),\"\")","v":""},{"$f":"IF(Registration!E54=\"n\",SUM(F55,I55,L55,O55,R55,U55),\"\")","v":""},{"$f":"IF(COUNTBLANK(Registration!B54)=1,\"\",IF(Registration!E54=\"n\",Registration!B54,\"\"))","v":""},{"$f":"IF(Registration!E54=\"n\",'Aussie Round'!V55,\"\")","v":""},{"$f":"IF(AND(Registration!$E54=\"n\",COUNTBLANK(D55)=0),RANK(D55,D$3:D$101,0),\"\")","v":""},{"$f":"IF(AND(Registration!$E54=\"n\",COUNTBLANK(E55)=0),placingpoints(E55,COUNTIF(E$3:E$101,\"=\"&E55)),\"\")","v":""},{"$f":"IF(Registration!$E54=\"n\",Accuracy!L54,\"\")","v":""},{"$f":"IF(AND(Registration!$E54=\"n\",COUNTBLANK(G55)=0),RANK(G55,G$3:G$102,0),\"\")","v":""},{"$f":"IF(AND(Registration!$E54=\"n\",COUNTBLANK(H55)=0),placingpoints(H55,COUNTIF(H$3:H$102,\"=\"&H55)),\"\")","v":""},{"$f":"IF(Registration!$E54=\"n\",MTA!G54,\"\")","v":""},{"$f":"IF(AND(Registration!$E54=\"n\",COUNTBLANK(J55)=0),RANK(J55,J$3:J$101,0),\"\")","v":""},{"$f":"IF(AND(Registration!$E54=\"n\",COUNTBLANK(K55)=0),placingpoints(K55,COUNTIF(K$3:K$101,\"=\"&K55)),\"\")","v":""},{"$f":"IF(Registration!$E54=\"n\",'Trick Catch'!X55,\"\")","v":""},{"$f":"IF(AND(Registration!$E54=\"n\",COUNTBLANK(M55)=0),RANK(M55,M$3:M$101,0),\"\")","v":""},{"$f":"IF(AND(Registration!$E54=\"n\",COUNTBLANK(N55)=0),placingpoints(N55,COUNTIF(N$3:N$101,\"=\"&N55)),\"\")","v":""},{"$f":"IF(Registration!$E54=\"n\",'Fast Catch'!F54,\"\")","v":""},{"$f":"IF(AND(Registration!$E54=\"n\",COUNTBLANK(P55)=0),RANK(P55,P$3:P$101,1),\"\")","v":""},{"$f":"IF(AND(Registration!$E54=\"n\",COUNTBLANK(Q55)=0),placingpoints(Q55,COUNTIF(Q$3:Q$101,\"=\"&Q55)),\"\")","v":""},{"$f":"IF(Registration!$E54=\"n\",Endurance!C54,\"\")","v":""},{"$f":"IF(AND(Registration!$E54=\"n\",COUNTBLANK(S55)=0),RANK(S55,S$3:S$101,0),\"\")","v":""},{"$f":"IF(AND(Registration!$E54=\"n\",COUNTBLANK(T55)=0),placingpoints(T55,COUNTIF(T$3:T$101,\"=\"&T55)),\"\")","v":""}]
[{"$f":"IF(Registration!E55=\"n\",RANK(B56,$B$3:$B$101,1),\"\")","v":""},{"$f":"IF(Registration!E55=\"n\",SUM(F56,I56,L56,O56,R56,U56),\"\")","v":""},{"$f":"IF(COUNTBLANK(Registration!B55)=1,\"\",IF(Registration!E55=\"n\",Registration!B55,\"\"))","v":""},{"$f":"IF(Registration!E55=\"n\",'Aussie Round'!V56,\"\")","v":""},{"$f":"IF(AND(Registration!$E55=\"n\",COUNTBLANK(D56)=0),RANK(D56,D$3:D$101,0),\"\")","v":""},{"$f":"IF(AND(Registration!$E55=\"n\",COUNTBLANK(E56)=0),placingpoints(E56,COUNTIF(E$3:E$101,\"=\"&E56)),\"\")","v":""},{"$f":"IF(Registration!$E55=\"n\",Accuracy!L55,\"\")","v":""},{"$f":"IF(AND(Registration!$E55=\"n\",COUNTBLANK(G56)=0),RANK(G56,G$3:G$102,0),\"\")","v":""},{"$f":"IF(AND(Registration!$E55=\"n\",COUNTBLANK(H56)=0),placingpoints(H56,COUNTIF(H$3:H$102,\"=\"&H56)),\"\")","v":""},{"$f":"IF(Registration!$E55=\"n\",MTA!G55,\"\")","v":""},{"$f":"IF(AND(Registration!$E55=\"n\",COUNTBLANK(J56)=0),RANK(J56,J$3:J$101,0),\"\")","v":""},{"$f":"IF(AND(Registration!$E55=\"n\",COUNTBLANK(K56)=0),placingpoints(K56,COUNTIF(K$3:K$101,\"=\"&K56)),\"\")","v":""},{"$f":"IF(Registration!$E55=\"n\",'Trick Catch'!X56,\"\")","v":""},{"$f":"IF(AND(Registration!$E55=\"n\",COUNTBLANK(M56)=0),RANK(M56,M$3:M$101,0),\"\")","v":""},{"$f":"IF(AND(Registration!$E55=\"n\",COUNTBLANK(N56)=0),placingpoints(N56,COUNTIF(N$3:N$101,\"=\"&N56)),\"\")","v":""},{"$f":"IF(Registration!$E55=\"n\",'Fast Catch'!F55,\"\")","v":""},{"$f":"IF(AND(Registration!$E55=\"n\",COUNTBLANK(P56)=0),RANK(P56,P$3:P$101,1),\"\")","v":""},{"$f":"IF(AND(Registration!$E55=\"n\",COUNTBLANK(Q56)=0),placingpoints(Q56,COUNTIF(Q$3:Q$101,\"=\"&Q56)),\"\")","v":""},{"$f":"IF(Registration!$E55=\"n\",Endurance!C55,\"\")","v":""},{"$f":"IF(AND(Registration!$E55=\"n\",COUNTBLANK(S56)=0),RANK(S56,S$3:S$101,0),\"\")","v":""},{"$f":"IF(AND(Registration!$E55=\"n\",COUNTBLANK(T56)=0),placingpoints(T56,COUNTIF(T$3:T$101,\"=\"&T56)),\"\")","v":""}]
[{"$f":"IF(Registration!E56=\"n\",RANK(B57,$B$3:$B$101,1),\"\")","v":""},{"$f":"IF(Registration!E56=\"n\",SUM(F57,I57,L57,O57,R57,U57),\"\")","v":""},{"$f":"IF(COUNTBLANK(Registration!B56)=1,\"\",IF(Registration!E56=\"n\",Registration!B56,\"\"))","v":""},{"$f":"IF(Registration!E56=\"n\",'Aussie Round'!V57,\"\")","v":""},{"$f":"IF(AND(Registration!$E56=\"n\",COUNTBLANK(D57)=0),RANK(D57,D$3:D$101,0),\"\")","v":""},{"$f":"IF(AND(Registration!$E56=\"n\",COUNTBLANK(E57)=0),placingpoints(E57,COUNTIF(E$3:E$101,\"=\"&E57)),\"\")","v":""},{"$f":"IF(Registration!$E56=\"n\",Accuracy!L56,\"\")","v":""},{"$f":"IF(AND(Registration!$E56=\"n\",COUNTBLANK(G57)=0),RANK(G57,G$3:G$102,0),\"\")","v":""},{"$f":"IF(AND(Registration!$E56=\"n\",COUNTBLANK(H57)=0),placingpoints(H57,COUNTIF(H$3:H$102,\"=\"&H57)),\"\")","v":""},{"$f":"IF(Registration!$E56=\"n\",MTA!G56,\"\")","v":""},{"$f":"IF(AND(Registration!$E56=\"n\",COUNTBLANK(J57)=0),RANK(J57,J$3:J$101,0),\"\")","v":""},{"$f":"IF(AND(Registration!$E56=\"n\",COUNTBLANK(K57)=0),placingpoints(K57,COUNTIF(K$3:K$101,\"=\"&K57)),\"\")","v":""},{"$f":"IF(Registration!$E56=\"n\",'Trick Catch'!X57,\"\")","v":""},{"$f":"IF(AND(Registration!$E56=\"n\",COUNTBLANK(M57)=0),RANK(M57,M$3:M$101,0),\"\")","v":""},{"$f":"IF(AND(Registration!$E56=\"n\",COUNTBLANK(N57)=0),placingpoints(N57,COUNTIF(N$3:N$101,\"=\"&N57)),\"\")","v":""},{"$f":"IF(Registration!$E56=\"n\",'Fast Catch'!F56,\"\")","v":""},{"$f":"IF(AND(Registration!$E56=\"n\",COUNTBLANK(P57)=0),RANK(P57,P$3:P$101,1),\"\")","v":""},{"$f":"IF(AND(Registration!$E56=\"n\",COUNTBLANK(Q57)=0),placingpoints(Q57,COUNTIF(Q$3:Q$101,\"=\"&Q57)),\"\")","v":""},{"$f":"IF(Registration!$E56=\"n\",Endurance!C56,\"\")","v":""},{"$f":"IF(AND(Registration!$E56=\"n\",COUNTBLANK(S57)=0),RANK(S57,S$3:S$101,0),\"\")","v":""},{"$f":"IF(AND(Registration!$E56=\"n\",COUNTBLANK(T57)=0),placingpoints(T57,COUNTIF(T$3:T$101,\"=\"&T57)),\"\")","v":""}]
[{"$f":"IF(Registration!E57=\"n\",RANK(B58,$B$3:$B$101,1),\"\")","v":""},{"$f":"IF(Registration!E57=\"n\",SUM(F58,I58,L58,O58,R58,U58),\"\")","v":""},{"$f":"IF(COUNTBLANK(Registration!B57)=1,\"\",IF(Registration!E57=\"n\",Registration!B57,\"\"))","v":""},{"$f":"IF(Registration!E57=\"n\",'Aussie Round'!V58,\"\")","v":""},{"$f":"IF(AND(Registration!$E57=\"n\",COUNTBLANK(D58)=0),RANK(D58,D$3:D$101,0),\"\")","v":""},{"$f":"IF(AND(Registration!$E57=\"n\",COUNTBLANK(E58)=0),placingpoints(E58,COUNTIF(E$3:E$101,\"=\"&E58)),\"\")","v":""},{"$f":"IF(Registration!$E57=\"n\",Accuracy!L57,\"\")","v":""},{"$f":"IF(AND(Registration!$E57=\"n\",COUNTBLANK(G58)=0),RANK(G58,G$3:G$102,0),\"\")","v":""},{"$f":"IF(AND(Registration!$E57=\"n\",COUNTBLANK(H58)=0),placingpoints(H58,COUNTIF(H$3:H$102,\"=\"&H58)),\"\")","v":""},{"$f":"IF(Registration!$E57=\"n\",MTA!G57,\"\")","v":""},{"$f":"IF(AND(Registration!$E57=\"n\",COUNTBLANK(J58)=0),RANK(J58,J$3:J$101,0),\"\")","v":""},{"$f":"IF(AND(Registration!$E57=\"n\",COUNTBLANK(K58)=0),placingpoints(K58,COUNTIF(K$3:K$101,\"=\"&K58)),\"\")","v":""},{"$f":"IF(Registration!$E57=\"n\",'Trick Catch'!X58,\"\")","v":""},{"$f":"IF(AND(Registration!$E57=\"n\",COUNTBLANK(M58)=0),RANK(M58,M$3:M$101,0),\"\")","v":""},{"$f":"IF(AND(Registration!$E57=\"n\",COUNTBLANK(N58)=0),placingpoints(N58,COUNTIF(N$3:N$101,\"=\"&N58)),\"\")","v":""},{"$f":"IF(Registration!$E57=\"n\",'Fast Catch'!F57,\"\")","v":""},{"$f":"IF(AND(Registration!$E57=\"n\",COUNTBLANK(P58)=0),RANK(P58,P$3:P$101,1),\"\")","v":""},{"$f":"IF(AND(Registration!$E57=\"n\",COUNTBLANK(Q58)=0),placingpoints(Q58,COUNTIF(Q$3:Q$101,\"=\"&Q58)),\"\")","v":""},{"$f":"IF(Registration!$E57=\"n\",Endurance!C57,\"\")","v":""},{"$f":"IF(AND(Registration!$E57=\"n\",COUNTBLANK(S58)=0),RANK(S58,S$3:S$101,0),\"\")","v":""},{"$f":"IF(AND(Registration!$E57=\"n\",COUNTBLANK(T58)=0),placingpoints(T58,COUNTIF(T$3:T$101,\"=\"&T58)),\"\")","v":""}]
[{"$f":"IF(Registration!E58=\"n\",RANK(B59,$B$3:$B$101,1),\"\")","v":""},{"$f":"IF(Registration!E58=\"n\",SUM(F59,I59,L59,O59,R59,U59),\"\")","v":""},{"$f":"IF(COUNTBLANK(Registration!B58)=1,\"\",IF(Registration!E58=\"n\",Registration!B58,\"\"))","v":""},{"$f":"IF(Registration!E58=\"n\",'Aussie Round'!V59,\"\")","v":""},{"$f":"IF(AND(Registration!$E58=\"n\",COUNTBLANK(D59)=0),RANK(D59,D$3:D$101,0),\"\")","v":""},{"$f":"IF(AND(Registration!$E58=\"n\",COUNTBLANK(E59)=0),placingpoints(E59,COUNTIF(E$3:E$101,\"=\"&E59)),\"\")","v":""},{"$f":"IF(Registration!$E58=\"n\",Accuracy!L58,\"\")","v":""},{"$f":"IF(AND(Registration!$E58=\"n\",COUNTBLANK(G59)=0),RANK(G59,G$3:G$102,0),\"\")","v":""},{"$f":"IF(AND(Registration!$E58=\"n\",COUNTBLANK(H59)=0),placingpoints(H59,COUNTIF(H$3:H$102,\"=\"&H59)),\"\")","v":""},{"$f":"IF(Registration!$E58=\"n\",MTA!G58,\"\")","v":""},{"$f":"IF(AND(Registration!$E58=\"n\",COUNTBLANK(J59)=0),RANK(J59,J$3:J$101,0),\"\")","v":""},{"$f":"IF(AND(Registration!$E58=\"n\",COUNTBLANK(K59)=0),placingpoints(K59,COUNTIF(K$3:K$101,\"=\"&K59)),\"\")","v":""},{"$f":"IF(Registration!$E58=\"n\",'Trick Catch'!X59,\"\")","v":""},{"$f":"IF(AND(Registration!$E58=\"n\",COUNTBLANK(M59)=0),RANK(M59,M$3:M$101,0),\"\")","v":""},{"$f":"IF(AND(Registration!$E58=\"n\",COUNTBLANK(N59)=0),placingpoints(N59,COUNTIF(N$3:N$101,\"=\"&N59)),\"\")","v":""},{"$f":"IF(Registration!$E58=\"n\",'Fast Catch'!F58,\"\")","v":""},{"$f":"IF(AND(Registration!$E58=\"n\",COUNTBLANK(P59)=0),RANK(P59,P$3:P$101,1),\"\")","v":""},{"$f":"IF(AND(Registration!$E58=\"n\",COUNTBLANK(Q59)=0),placingpoints(Q59,COUNTIF(Q$3:Q$101,\"=\"&Q59)),\"\")","v":""},{"$f":"IF(Registration!$E58=\"n\",Endurance!C58,\"\")","v":""},{"$f":"IF(AND(Registration!$E58=\"n\",COUNTBLANK(S59)=0),RANK(S59,S$3:S$101,0),\"\")","v":""},{"$f":"IF(AND(Registration!$E58=\"n\",COUNTBLANK(T59)=0),placingpoints(T59,COUNTIF(T$3:T$101,\"=\"&T59)),\"\")","v":""}]
[{"$f":"IF(Registration!E59=\"n\",RANK(B60,$B$3:$B$101,1),\"\")","v":""},{"$f":"IF(Registration!E59=\"n\",SUM(F60,I60,L60,O60,R60,U60),\"\")","v":""},{"$f":"IF(COUNTBLANK(Registration!B59)=1,\"\",IF(Registration!E59=\"n\",Registration!B59,\"\"))","v":""},{"$f":"IF(Registration!E59=\"n\",'Aussie Round'!V60,\"\")","v":""},{"$f":"IF(AND(Registration!$E59=\"n\",COUNTBLANK(D60)=0),RANK(D60,D$3:D$101,0),\"\")","v":""},{"$f":"IF(AND(Registration!$E59=\"n\",COUNTBLANK(E60)=0),placingpoints(E60,COUNTIF(E$3:E$101,\"=\"&E60)),\"\")","v":""},{"$f":"IF(Registration!$E59=\"n\",Accuracy!L59,\"\")","v":""},{"$f":"IF(AND(Registration!$E59=\"n\",COUNTBLANK(G60)=0),RANK(G60,G$3:G$102,0),\"\")","v":""},{"$f":"IF(AND(Registration!$E59=\"n\",COUNTBLANK(H60)=0),placingpoints(H60,COUNTIF(H$3:H$102,\"=\"&H60)),\"\")","v":""},{"$f":"IF(Registration!$E59=\"n\",MTA!G59,\"\")","v":""},{"$f":"IF(AND(Registration!$E59=\"n\",COUNTBLANK(J60)=0),RANK(J60,J$3:J$101,0),\"\")","v":""},{"$f":"IF(AND(Registration!$E59=\"n\",COUNTBLANK(K60)=0),placingpoints(K60,COUNTIF(K$3:K$101,\"=\"&K60)),\"\")","v":""},{"$f":"IF(Registration!$E59=\"n\",'Trick Catch'!X60,\"\")","v":""},{"$f":"IF(AND(Registration!$E59=\"n\",COUNTBLANK(M60)=0),RANK(M60,M$3:M$101,0),\"\")","v":""},{"$f":"IF(AND(Registration!$E59=\"n\",COUNTBLANK(N60)=0),placingpoints(N60,COUNTIF(N$3:N$101,\"=\"&N60)),\"\")","v":""},{"$f":"IF(Registration!$E59=\"n\",'Fast Catch'!F59,\"\")","v":""},{"$f":"IF(AND(Registration!$E59=\"n\",COUNTBLANK(P60)=0),RANK(P60,P$3:P$101,1),\"\")","v":""},{"$f":"IF(AND(Registration!$E59=\"n\",COUNTBLANK(Q60)=0),placingpoints(Q60,COUNTIF(Q$3:Q$101,\"=\"&Q60)),\"\")","v":""},{"$f":"IF(Registration!$E59=\"n\",Endurance!C59,\"\")","v":""},{"$f":"IF(AND(Registration!$E59=\"n\",COUNTBLANK(S60)=0),RANK(S60,S$3:S$101,0),\"\")","v":""},{"$f":"IF(AND(Registration!$E59=\"n\",COUNTBLANK(T60)=0),placingpoints(T60,COUNTIF(T$3:T$101,\"=\"&T60)),\"\")","v":""}]
[{"$f":"IF(Registration!E60=\"n\",RANK(B61,$B$3:$B$101,1),\"\")","v":""},{"$f":"IF(Registration!E60=\"n\",SUM(F61,I61,L61,O61,R61,U61),\"\")","v":""},{"$f":"IF(COUNTBLANK(Registration!B60)=1,\"\",IF(Registration!E60=\"n\",Registration!B60,\"\"))","v":""},{"$f":"IF(Registration!E60=\"n\",'Aussie Round'!V61,\"\")","v":""},{"$f":"IF(AND(Registration!$E60=\"n\",COUNTBLANK(D61)=0),RANK(D61,D$3:D$101,0),\"\")","v":""},{"$f":"IF(AND(Registration!$E60=\"n\",COUNTBLANK(E61)=0),placingpoints(E61,COUNTIF(E$3:E$101,\"=\"&E61)),\"\")","v":""},{"$f":"IF(Registration!$E60=\"n\",Accuracy!L60,\"\")","v":""},{"$f":"IF(AND(Registration!$E60=\"n\",COUNTBLANK(G61)=0),RANK(G61,G$3:G$102,0),\"\")","v":""},{"$f":"IF(AND(Registration!$E60=\"n\",COUNTBLANK(H61)=0),placingpoints(H61,COUNTIF(H$3:H$102,\"=\"&H61)),\"\")","v":""},{"$f":"IF(Registration!$E60=\"n\",MTA!G60,\"\")","v":""},{"$f":"IF(AND(Registration!$E60=\"n\",COUNTBLANK(J61)=0),RANK(J61,J$3:J$101,0),\"\")","v":""},{"$f":"IF(AND(Registration!$E60=\"n\",COUNTBLANK(K61)=0),placingpoints(K61,COUNTIF(K$3:K$101,\"=\"&K61)),\"\")","v":""},{"$f":"IF(Registration!$E60=\"n\",'Trick Catch'!X61,\"\")","v":""},{"$f":"IF(AND(Registration!$E60=\"n\",COUNTBLANK(M61)=0),RANK(M61,M$3:M$101,0),\"\")","v":""},{"$f":"IF(AND(Registration!$E60=\"n\",COUNTBLANK(N61)=0),placingpoints(N61,COUNTIF(N$3:N$101,\"=\"&N61)),\"\")","v":""},{"$f":"IF(Registration!$E60=\"n\",'Fast Catch'!F60,\"\")","v":""},{"$f":"IF(AND(Registration!$E60=\"n\",COUNTBLANK(P61)=0),RANK(P61,P$3:P$101,1),\"\")","v":""},{"$f":"IF(AND(Registration!$E60=\"n\",COUNTBLANK(Q61)=0),placingpoints(Q61,COUNTIF(Q$3:Q$101,\"=\"&Q61)),\"\")","v":""},{"$f":"IF(Registration!$E60=\"n\",Endurance!C60,\"\")","v":""},{"$f":"IF(AND(Registration!$E60=\"n\",COUNTBLANK(S61)=0),RANK(S61,S$3:S$101,0),\"\")","v":""},{"$f":"IF(AND(Registration!$E60=\"n\",COUNTBLANK(T61)=0),placingpoints(T61,COUNTIF(T$3:T$101,\"=\"&T61)),\"\")","v":""}]
[{"$f":"IF(Registration!E61=\"n\",RANK(B62,$B$3:$B$101,1),\"\")","v":""},{"$f":"IF(Registration!E61=\"n\",SUM(F62,I62,L62,O62,R62,U62),\"\")","v":""},{"$f":"IF(COUNTBLANK(Registration!B61)=1,\"\",IF(Registration!E61=\"n\",Registration!B61,\"\"))","v":""},{"$f":"IF(Registration!E61=\"n\",'Aussie Round'!V62,\"\")","v":""},{"$f":"IF(AND(Registration!$E61=\"n\",COUNTBLANK(D62)=0),RANK(D62,D$3:D$101,0),\"\")","v":""},{"$f":"IF(AND(Registration!$E61=\"n\",COUNTBLANK(E62)=0),placingpoints(E62,COUNTIF(E$3:E$101,\"=\"&E62)),\"\")","v":""},{"$f":"IF(Registration!$E61=\"n\",Accuracy!L61,\"\")","v":""},{"$f":"IF(AND(Registration!$E61=\"n\",COUNTBLANK(G62)=0),RANK(G62,G$3:G$102,0),\"\")","v":""},{"$f":"IF(AND(Registration!$E61=\"n\",COUNTBLANK(H62)=0),placingpoints(H62,COUNTIF(H$3:H$102,\"=\"&H62)),\"\")","v":""},{"$f":"IF(Registration!$E61=\"n\",MTA!G61,\"\")","v":""},{"$f":"IF(AND(Registration!$E61=\"n\",COUNTBLANK(J62)=0),RANK(J62,J$3:J$101,0),\"\")","v":""},{"$f":"IF(AND(Registration!$E61=\"n\",COUNTBLANK(K62)=0),placingpoints(K62,COUNTIF(K$3:K$101,\"=\"&K62)),\"\")","v":""},{"$f":"IF(Registration!$E61=\"n\",'Trick Catch'!X62,\"\")","v":""},{"$f":"IF(AND(Registration!$E61=\"n\",COUNTBLANK(M62)=0),RANK(M62,M$3:M$101,0),\"\")","v":""},{"$f":"IF(AND(Registration!$E61=\"n\",COUNTBLANK(N62)=0),placingpoints(N62,COUNTIF(N$3:N$101,\"=\"&N62)),\"\")","v":""},{"$f":"IF(Registration!$E61=\"n\",'Fast Catch'!F61,\"\")","v":""},{"$f":"IF(AND(Registration!$E61=\"n\",COUNTBLANK(P62)=0),RANK(P62,P$3:P$101,1),\"\")","v":""},{"$f":"IF(AND(Registration!$E61=\"n\",COUNTBLANK(Q62)=0),placingpoints(Q62,COUNTIF(Q$3:Q$101,\"=\"&Q62)),\"\")","v":""},{"$f":"IF(Registration!$E61=\"n\",Endurance!C61,\"\")","v":""},{"$f":"IF(AND(Registration!$E61=\"n\",COUNTBLANK(S62)=0),RANK(S62,S$3:S$101,0),\"\")","v":""},{"$f":"IF(AND(Registration!$E61=\"n\",COUNTBLANK(T62)=0),placingpoints(T62,COUNTIF(T$3:T$101,\"=\"&T62)),\"\")","v":""}]
[{"$f":"IF(Registration!E62=\"n\",RANK(B63,$B$3:$B$101,1),\"\")","v":""},{"$f":"IF(Registration!E62=\"n\",SUM(F63,I63,L63,O63,R63,U63),\"\")","v":""},{"$f":"IF(COUNTBLANK(Registration!B62)=1,\"\",IF(Registration!E62=\"n\",Registration!B62,\"\"))","v":""},{"$f":"IF(Registration!E62=\"n\",'Aussie Round'!V63,\"\")","v":""},{"$f":"IF(AND(Registration!$E62=\"n\",COUNTBLANK(D63)=0),RANK(D63,D$3:D$101,0),\"\")","v":""},{"$f":"IF(AND(Registration!$E62=\"n\",COUNTBLANK(E63)=0),placingpoints(E63,COUNTIF(E$3:E$101,\"=\"&E63)),\"\")","v":""},{"$f":"IF(Registration!$E62=\"n\",Accuracy!L62,\"\")","v":""},{"$f":"IF(AND(Registration!$E62=\"n\",COUNTBLANK(G63)=0),RANK(G63,G$3:G$102,0),\"\")","v":""},{"$f":"IF(AND(Registration!$E62=\"n\",COUNTBLANK(H63)=0),placingpoints(H63,COUNTIF(H$3:H$102,\"=\"&H63)),\"\")","v":""},{"$f":"IF(Registration!$E62=\"n\",MTA!G62,\"\")","v":""},{"$f":"IF(AND(Registration!$E62=\"n\",COUNTBLANK(J63)=0),RANK(J63,J$3:J$101,0),\"\")","v":""},{"$f":"IF(AND(Registration!$E62=\"n\",COUNTBLANK(K63)=0),placingpoints(K63,COUNTIF(K$3:K$101,\"=\"&K63)),\"\")","v":""},{"$f":"IF(Registration!$E62=\"n\",'Trick Catch'!X63,\"\")","v":""},{"$f":"IF(AND(Registration!$E62=\"n\",COUNTBLANK(M63)=0),RANK(M63,M$3:M$101,0),\"\")","v":""},{"$f":"IF(AND(Registration!$E62=\"n\",COUNTBLANK(N63)=0),placingpoints(N63,COUNTIF(N$3:N$101,\"=\"&N63)),\"\")","v":""},{"$f":"IF(Registration!$E62=\"n\",'Fast Catch'!F62,\"\")","v":""},{"$f":"IF(AND(Registration!$E62=\"n\",COUNTBLANK(P63)=0),RANK(P63,P$3:P$101,1),\"\")","v":""},{"$f":"IF(AND(Registration!$E62=\"n\",COUNTBLANK(Q63)=0),placingpoints(Q63,COUNTIF(Q$3:Q$101,\"=\"&Q63)),\"\")","v":""},{"$f":"IF(Registration!$E62=\"n\",Endurance!C62,\"\")","v":""},{"$f":"IF(AND(Registration!$E62=\"n\",COUNTBLANK(S63)=0),RANK(S63,S$3:S$101,0),\"\")","v":""},{"$f":"IF(AND(Registration!$E62=\"n\",COUNTBLANK(T63)=0),placingpoints(T63,COUNTIF(T$3:T$101,\"=\"&T63)),\"\")","v":""}]
[{"$f":"IF(Registration!E63=\"n\",RANK(B64,$B$3:$B$101,1),\"\")","v":""},{"$f":"IF(Registration!E63=\"n\",SUM(F64,I64,L64,O64,R64,U64),\"\")","v":""},{"$f":"IF(COUNTBLANK(Registration!B63)=1,\"\",IF(Registration!E63=\"n\",Registration!B63,\"\"))","v":""},{"$f":"IF(Registration!E63=\"n\",'Aussie Round'!V64,\"\")","v":""},{"$f":"IF(AND(Registration!$E63=\"n\",COUNTBLANK(D64)=0),RANK(D64,D$3:D$101,0),\"\")","v":""},{"$f":"IF(AND(Registration!$E63=\"n\",COUNTBLANK(E64)=0),placingpoints(E64,COUNTIF(E$3:E$101,\"=\"&E64)),\"\")","v":""},{"$f":"IF(Registration!$E63=\"n\",Accuracy!L63,\"\")","v":""},{"$f":"IF(AND(Registration!$E63=\"n\",COUNTBLANK(G64)=0),RANK(G64,G$3:G$102,0),\"\")","v":""},{"$f":"IF(AND(Registration!$E63=\"n\",COUNTBLANK(H64)=0),placingpoints(H64,COUNTIF(H$3:H$102,\"=\"&H64)),\"\")","v":""},{"$f":"IF(Registration!$E63=\"n\",MTA!G63,\"\")","v":""},{"$f":"IF(AND(Registration!$E63=\"n\",COUNTBLANK(J64)=0),RANK(J64,J$3:J$101,0),\"\")","v":""},{"$f":"IF(AND(Registration!$E63=\"n\",COUNTBLANK(K64)=0),placingpoints(K64,COUNTIF(K$3:K$101,\"=\"&K64)),\"\")","v":""},{"$f":"IF(Registration!$E63=\"n\",'Trick Catch'!X64,\"\")","v":""},{"$f":"IF(AND(Registration!$E63=\"n\",COUNTBLANK(M64)=0),RANK(M64,M$3:M$101,0),\"\")","v":""},{"$f":"IF(AND(Registration!$E63=\"n\",COUNTBLANK(N64)=0),placingpoints(N64,COUNTIF(N$3:N$101,\"=\"&N64)),\"\")","v":""},{"$f":"IF(Registration!$E63=\"n\",'Fast Catch'!F63,\"\")","v":""},{"$f":"IF(AND(Registration!$E63=\"n\",COUNTBLANK(P64)=0),RANK(P64,P$3:P$101,1),\"\")","v":""},{"$f":"IF(AND(Registration!$E63=\"n\",COUNTBLANK(Q64)=0),placingpoints(Q64,COUNTIF(Q$3:Q$101,\"=\"&Q64)),\"\")","v":""},{"$f":"IF(Registration!$E63=\"n\",Endurance!C63,\"\")","v":""},{"$f":"IF(AND(Registration!$E63=\"n\",COUNTBLANK(S64)=0),RANK(S64,S$3:S$101,0),\"\")","v":""},{"$f":"IF(AND(Registration!$E63=\"n\",COUNTBLANK(T64)=0),placingpoints(T64,COUNTIF(T$3:T$101,\"=\"&T64)),\"\")","v":""}]
[{"$f":"IF(Registration!E64=\"n\",RANK(B65,$B$3:$B$101,1),\"\")","v":""},{"$f":"IF(Registration!E64=\"n\",SUM(F65,I65,L65,O65,R65,U65),\"\")","v":""},{"$f":"IF(COUNTBLANK(Registration!B64)=1,\"\",IF(Registration!E64=\"n\",Registration!B64,\"\"))","v":""},{"$f":"IF(Registration!E64=\"n\",'Aussie Round'!V65,\"\")","v":""},{"$f":"IF(AND(Registration!$E64=\"n\",COUNTBLANK(D65)=0),RANK(D65,D$3:D$101,0),\"\")","v":""},{"$f":"IF(AND(Registration!$E64=\"n\",COUNTBLANK(E65)=0),placingpoints(E65,COUNTIF(E$3:E$101,\"=\"&E65)),\"\")","v":""},{"$f":"IF(Registration!$E64=\"n\",Accuracy!L64,\"\")","v":""},{"$f":"IF(AND(Registration!$E64=\"n\",COUNTBLANK(G65)=0),RANK(G65,G$3:G$102,0),\"\")","v":""},{"$f":"IF(AND(Registration!$E64=\"n\",COUNTBLANK(H65)=0),placingpoints(H65,COUNTIF(H$3:H$102,\"=\"&H65)),\"\")","v":""},{"$f":"IF(Registration!$E64=\"n\",MTA!G64,\"\")","v":""},{"$f":"IF(AND(Registration!$E64=\"n\",COUNTBLANK(J65)=0),RANK(J65,J$3:J$101,0),\"\")","v":""},{"$f":"IF(AND(Registration!$E64=\"n\",COUNTBLANK(K65)=0),placingpoints(K65,COUNTIF(K$3:K$101,\"=\"&K65)),\"\")","v":""},{"$f":"IF(Registration!$E64=\"n\",'Trick Catch'!X65,\"\")","v":""},{"$f":"IF(AND(Registration!$E64=\"n\",COUNTBLANK(M65)=0),RANK(M65,M$3:M$101,0),\"\")","v":""},{"$f":"IF(AND(Registration!$E64=\"n\",COUNTBLANK(N65)=0),placingpoints(N65,COUNTIF(N$3:N$101,\"=\"&N65)),\"\")","v":""},{"$f":"IF(Registration!$E64=\"n\",'Fast Catch'!F64,\"\")","v":""},{"$f":"IF(AND(Registration!$E64=\"n\",COUNTBLANK(P65)=0),RANK(P65,P$3:P$101,1),\"\")","v":""},{"$f":"IF(AND(Registration!$E64=\"n\",COUNTBLANK(Q65)=0),placingpoints(Q65,COUNTIF(Q$3:Q$101,\"=\"&Q65)),\"\")","v":""},{"$f":"IF(Registration!$E64=\"n\",Endurance!C64,\"\")","v":""},{"$f":"IF(AND(Registration!$E64=\"n\",COUNTBLANK(S65)=0),RANK(S65,S$3:S$101,0),\"\")","v":""},{"$f":"IF(AND(Registration!$E64=\"n\",COUNTBLANK(T65)=0),placingpoints(T65,COUNTIF(T$3:T$101,\"=\"&T65)),\"\")","v":""}]
[{"$f":"IF(Registration!E65=\"n\",RANK(B66,$B$3:$B$101,1),\"\")","v":""},{"$f":"IF(Registration!E65=\"n\",SUM(F66,I66,L66,O66,R66,U66),\"\")","v":""},{"$f":"IF(COUNTBLANK(Registration!B65)=1,\"\",IF(Registration!E65=\"n\",Registration!B65,\"\"))","v":""},{"$f":"IF(Registration!E65=\"n\",'Aussie Round'!V66,\"\")","v":""},{"$f":"IF(AND(Registration!$E65=\"n\",COUNTBLANK(D66)=0),RANK(D66,D$3:D$101,0),\"\")","v":""},{"$f":"IF(AND(Registration!$E65=\"n\",COUNTBLANK(E66)=0),placingpoints(E66,COUNTIF(E$3:E$101,\"=\"&E66)),\"\")","v":""},{"$f":"IF(Registration!$E65=\"n\",Accuracy!L65,\"\")","v":""},{"$f":"IF(AND(Registration!$E65=\"n\",COUNTBLANK(G66)=0),RANK(G66,G$3:G$102,0),\"\")","v":""},{"$f":"IF(AND(Registration!$E65=\"n\",COUNTBLANK(H66)=0),placingpoints(H66,COUNTIF(H$3:H$102,\"=\"&H66)),\"\")","v":""},{"$f":"IF(Registration!$E65=\"n\",MTA!G65,\"\")","v":""},{"$f":"IF(AND(Registration!$E65=\"n\",COUNTBLANK(J66)=0),RANK(J66,J$3:J$101,0),\"\")","v":""},{"$f":"IF(AND(Registration!$E65=\"n\",COUNTBLANK(K66)=0),placingpoints(K66,COUNTIF(K$3:K$101,\"=\"&K66)),\"\")","v":""},{"$f":"IF(Registration!$E65=\"n\",'Trick Catch'!X66,\"\")","v":""},{"$f":"IF(AND(Registration!$E65=\"n\",COUNTBLANK(M66)=0),RANK(M66,M$3:M$101,0),\"\")","v":""},{"$f":"IF(AND(Registration!$E65=\"n\",COUNTBLANK(N66)=0),placingpoints(N66,COUNTIF(N$3:N$101,\"=\"&N66)),\"\")","v":""},{"$f":"IF(Registration!$E65=\"n\",'Fast Catch'!F65,\"\")","v":""},{"$f":"IF(AND(Registration!$E65=\"n\",COUNTBLANK(P66)=0),RANK(P66,P$3:P$101,1),\"\")","v":""},{"$f":"IF(AND(Registration!$E65=\"n\",COUNTBLANK(Q66)=0),placingpoints(Q66,COUNTIF(Q$3:Q$101,\"=\"&Q66)),\"\")","v":""},{"$f":"IF(Registration!$E65=\"n\",Endurance!C65,\"\")","v":""},{"$f":"IF(AND(Registration!$E65=\"n\",COUNTBLANK(S66)=0),RANK(S66,S$3:S$101,0),\"\")","v":""},{"$f":"IF(AND(Registration!$E65=\"n\",COUNTBLANK(T66)=0),placingpoints(T66,COUNTIF(T$3:T$101,\"=\"&T66)),\"\")","v":""}]
[{"$f":"IF(Registration!E66=\"n\",RANK(B67,$B$3:$B$101,1),\"\")","v":""},{"$f":"IF(Registration!E66=\"n\",SUM(F67,I67,L67,O67,R67,U67),\"\")","v":""},{"$f":"IF(COUNTBLANK(Registration!B66)=1,\"\",IF(Registration!E66=\"n\",Registration!B66,\"\"))","v":""},{"$f":"IF(Registration!E66=\"n\",'Aussie Round'!V67,\"\")","v":""},{"$f":"IF(AND(Registration!$E66=\"n\",COUNTBLANK(D67)=0),RANK(D67,D$3:D$101,0),\"\")","v":""},{"$f":"IF(AND(Registration!$E66=\"n\",COUNTBLANK(E67)=0),placingpoints(E67,COUNTIF(E$3:E$101,\"=\"&E67)),\"\")","v":""},{"$f":"IF(Registration!$E66=\"n\",Accuracy!L66,\"\")","v":""},{"$f":"IF(AND(Registration!$E66=\"n\",COUNTBLANK(G67)=0),RANK(G67,G$3:G$102,0),\"\")","v":""},{"$f":"IF(AND(Registration!$E66=\"n\",COUNTBLANK(H67)=0),placingpoints(H67,COUNTIF(H$3:H$102,\"=\"&H67)),\"\")","v":""},{"$f":"IF(Registration!$E66=\"n\",MTA!G66,\"\")","v":""},{"$f":"IF(AND(Registration!$E66=\"n\",COUNTBLANK(J67)=0),RANK(J67,J$3:J$101,0),\"\")","v":""},{"$f":"IF(AND(Registration!$E66=\"n\",COUNTBLANK(K67)=0),placingpoints(K67,COUNTIF(K$3:K$101,\"=\"&K67)),\"\")","v":""},{"$f":"IF(Registration!$E66=\"n\",'Trick Catch'!X67,\"\")","v":""},{"$f":"IF(AND(Registration!$E66=\"n\",COUNTBLANK(M67)=0),RANK(M67,M$3:M$101,0),\"\")","v":""},{"$f":"IF(AND(Registration!$E66=\"n\",COUNTBLANK(N67)=0),placingpoints(N67,COUNTIF(N$3:N$101,\"=\"&N67)),\"\")","v":""},{"$f":"IF(Registration!$E66=\"n\",'Fast Catch'!F66,\"\")","v":""},{"$f":"IF(AND(Registration!$E66=\"n\",COUNTBLANK(P67)=0),RANK(P67,P$3:P$101,1),\"\")","v":""},{"$f":"IF(AND(Registration!$E66=\"n\",COUNTBLANK(Q67)=0),placingpoints(Q67,COUNTIF(Q$3:Q$101,\"=\"&Q67)),\"\")","v":""},{"$f":"IF(Registration!$E66=\"n\",Endurance!C66,\"\")","v":""},{"$f":"IF(AND(Registration!$E66=\"n\",COUNTBLANK(S67)=0),RANK(S67,S$3:S$101,0),\"\")","v":""},{"$f":"IF(AND(Registration!$E66=\"n\",COUNTBLANK(T67)=0),placingpoints(T67,COUNTIF(T$3:T$101,\"=\"&T67)),\"\")","v":""}]
[{"$f":"IF(Registration!E67=\"n\",RANK(B68,$B$3:$B$101,1),\"\")","v":""},{"$f":"IF(Registration!E67=\"n\",SUM(F68,I68,L68,O68,R68,U68),\"\")","v":""},{"$f":"IF(COUNTBLANK(Registration!B67)=1,\"\",IF(Registration!E67=\"n\",Registration!B67,\"\"))","v":""},{"$f":"IF(Registration!E67=\"n\",'Aussie Round'!V68,\"\")","v":""},{"$f":"IF(AND(Registration!$E67=\"n\",COUNTBLANK(D68)=0),RANK(D68,D$3:D$101,0),\"\")","v":""},{"$f":"IF(AND(Registration!$E67=\"n\",COUNTBLANK(E68)=0),placingpoints(E68,COUNTIF(E$3:E$101,\"=\"&E68)),\"\")","v":""},{"$f":"IF(Registration!$E67=\"n\",Accuracy!L67,\"\")","v":""},{"$f":"IF(AND(Registration!$E67=\"n\",COUNTBLANK(G68)=0),RANK(G68,G$3:G$102,0),\"\")","v":""},{"$f":"IF(AND(Registration!$E67=\"n\",COUNTBLANK(H68)=0),placingpoints(H68,COUNTIF(H$3:H$102,\"=\"&H68)),\"\")","v":""},{"$f":"IF(Registration!$E67=\"n\",MTA!G67,\"\")","v":""},{"$f":"IF(AND(Registration!$E67=\"n\",COUNTBLANK(J68)=0),RANK(J68,J$3:J$101,0),\"\")","v":""},{"$f":"IF(AND(Registration!$E67=\"n\",COUNTBLANK(K68)=0),placingpoints(K68,COUNTIF(K$3:K$101,\"=\"&K68)),\"\")","v":""},{"$f":"IF(Registration!$E67=\"n\",'Trick Catch'!X68,\"\")","v":""},{"$f":"IF(AND(Registration!$E67=\"n\",COUNTBLANK(M68)=0),RANK(M68,M$3:M$101,0),\"\")","v":""},{"$f":"IF(AND(Registration!$E67=\"n\",COUNTBLANK(N68)=0),placingpoints(N68,COUNTIF(N$3:N$101,\"=\"&N68)),\"\")","v":""},{"$f":"IF(Registration!$E67=\"n\",'Fast Catch'!F67,\"\")","v":""},{"$f":"IF(AND(Registration!$E67=\"n\",COUNTBLANK(P68)=0),RANK(P68,P$3:P$101,1),\"\")","v":""},{"$f":"IF(AND(Registration!$E67=\"n\",COUNTBLANK(Q68)=0),placingpoints(Q68,COUNTIF(Q$3:Q$101,\"=\"&Q68)),\"\")","v":""},{"$f":"IF(Registration!$E67=\"n\",Endurance!C67,\"\")","v":""},{"$f":"IF(AND(Registration!$E67=\"n\",COUNTBLANK(S68)=0),RANK(S68,S$3:S$101,0),\"\")","v":""},{"$f":"IF(AND(Registration!$E67=\"n\",COUNTBLANK(T68)=0),placingpoints(T68,COUNTIF(T$3:T$101,\"=\"&T68)),\"\")","v":""}]
[{"$f":"IF(Registration!E68=\"n\",RANK(B69,$B$3:$B$101,1),\"\")","v":""},{"$f":"IF(Registration!E68=\"n\",SUM(F69,I69,L69,O69,R69,U69),\"\")","v":""},{"$f":"IF(COUNTBLANK(Registration!B68)=1,\"\",IF(Registration!E68=\"n\",Registration!B68,\"\"))","v":""},{"$f":"IF(Registration!E68=\"n\",'Aussie Round'!V69,\"\")","v":""},{"$f":"IF(AND(Registration!$E68=\"n\",COUNTBLANK(D69)=0),RANK(D69,D$3:D$101,0),\"\")","v":""},{"$f":"IF(AND(Registration!$E68=\"n\",COUNTBLANK(E69)=0),placingpoints(E69,COUNTIF(E$3:E$101,\"=\"&E69)),\"\")","v":""},{"$f":"IF(Registration!$E68=\"n\",Accuracy!L68,\"\")","v":""},{"$f":"IF(AND(Registration!$E68=\"n\",COUNTBLANK(G69)=0),RANK(G69,G$3:G$102,0),\"\")","v":""},{"$f":"IF(AND(Registration!$E68=\"n\",COUNTBLANK(H69)=0),placingpoints(H69,COUNTIF(H$3:H$102,\"=\"&H69)),\"\")","v":""},{"$f":"IF(Registration!$E68=\"n\",MTA!G68,\"\")","v":""},{"$f":"IF(AND(Registration!$E68=\"n\",COUNTBLANK(J69)=0),RANK(J69,J$3:J$101,0),\"\")","v":""},{"$f":"IF(AND(Registration!$E68=\"n\",COUNTBLANK(K69)=0),placingpoints(K69,COUNTIF(K$3:K$101,\"=\"&K69)),\"\")","v":""},{"$f":"IF(Registration!$E68=\"n\",'Trick Catch'!X69,\"\")","v":""},{"$f":"IF(AND(Registration!$E68=\"n\",COUNTBLANK(M69)=0),RANK(M69,M$3:M$101,0),\"\")","v":""},{"$f":"IF(AND(Registration!$E68=\"n\",COUNTBLANK(N69)=0),placingpoints(N69,COUNTIF(N$3:N$101,\"=\"&N69)),\"\")","v":""},{"$f":"IF(Registration!$E68=\"n\",'Fast Catch'!F68,\"\")","v":""},{"$f":"IF(AND(Registration!$E68=\"n\",COUNTBLANK(P69)=0),RANK(P69,P$3:P$101,1),\"\")","v":""},{"$f":"IF(AND(Registration!$E68=\"n\",COUNTBLANK(Q69)=0),placingpoints(Q69,COUNTIF(Q$3:Q$101,\"=\"&Q69)),\"\")","v":""},{"$f":"IF(Registration!$E68=\"n\",Endurance!C68,\"\")","v":""},{"$f":"IF(AND(Registration!$E68=\"n\",COUNTBLANK(S69)=0),RANK(S69,S$3:S$101,0),\"\")","v":""},{"$f":"IF(AND(Registration!$E68=\"n\",COUNTBLANK(T69)=0),placingpoints(T69,COUNTIF(T$3:T$101,\"=\"&T69)),\"\")","v":""}]
[{"$f":"IF(Registration!E69=\"n\",RANK(B70,$B$3:$B$101,1),\"\")","v":""},{"$f":"IF(Registration!E69=\"n\",SUM(F70,I70,L70,O70,R70,U70),\"\")","v":""},{"$f":"IF(COUNTBLANK(Registration!B69)=1,\"\",IF(Registration!E69=\"n\",Registration!B69,\"\"))","v":""},{"$f":"IF(Registration!E69=\"n\",'Aussie Round'!V70,\"\")","v":""},{"$f":"IF(AND(Registration!$E69=\"n\",COUNTBLANK(D70)=0),RANK(D70,D$3:D$101,0),\"\")","v":""},{"$f":"IF(AND(Registration!$E69=\"n\",COUNTBLANK(E70)=0),placingpoints(E70,COUNTIF(E$3:E$101,\"=\"&E70)),\"\")","v":""},{"$f":"IF(Registration!$E69=\"n\",Accuracy!L69,\"\")","v":""},{"$f":"IF(AND(Registration!$E69=\"n\",COUNTBLANK(G70)=0),RANK(G70,G$3:G$102,0),\"\")","v":""},{"$f":"IF(AND(Registration!$E69=\"n\",COUNTBLANK(H70)=0),placingpoints(H70,COUNTIF(H$3:H$102,\"=\"&H70)),\"\")","v":""},{"$f":"IF(Registration!$E69=\"n\",MTA!G69,\"\")","v":""},{"$f":"IF(AND(Registration!$E69=\"n\",COUNTBLANK(J70)=0),RANK(J70,J$3:J$101,0),\"\")","v":""},{"$f":"IF(AND(Registration!$E69=\"n\",COUNTBLANK(K70)=0),placingpoints(K70,COUNTIF(K$3:K$101,\"=\"&K70)),\"\")","v":""},{"$f":"IF(Registration!$E69=\"n\",'Trick Catch'!X70,\"\")","v":""},{"$f":"IF(AND(Registration!$E69=\"n\",COUNTBLANK(M70)=0),RANK(M70,M$3:M$101,0),\"\")","v":""},{"$f":"IF(AND(Registration!$E69=\"n\",COUNTBLANK(N70)=0),placingpoints(N70,COUNTIF(N$3:N$101,\"=\"&N70)),\"\")","v":""},{"$f":"IF(Registration!$E69=\"n\",'Fast Catch'!F69,\"\")","v":""},{"$f":"IF(AND(Registration!$E69=\"n\",COUNTBLANK(P70)=0),RANK(P70,P$3:P$101,1),\"\")","v":""},{"$f":"IF(AND(Registration!$E69=\"n\",COUNTBLANK(Q70)=0),placingpoints(Q70,COUNTIF(Q$3:Q$101,\"=\"&Q70)),\"\")","v":""},{"$f":"IF(Registration!$E69=\"n\",Endurance!C69,\"\")","v":""},{"$f":"IF(AND(Registration!$E69=\"n\",COUNTBLANK(S70)=0),RANK(S70,S$3:S$101,0),\"\")","v":""},{"$f":"IF(AND(Registration!$E69=\"n\",COUNTBLANK(T70)=0),placingpoints(T70,COUNTIF(T$3:T$101,\"=\"&T70)),\"\")","v":""}]
[{"$f":"IF(Registration!E70=\"n\",RANK(B71,$B$3:$B$101,1),\"\")","v":""},{"$f":"IF(Registration!E70=\"n\",SUM(F71,I71,L71,O71,R71,U71),\"\")","v":""},{"$f":"IF(COUNTBLANK(Registration!B70)=1,\"\",IF(Registration!E70=\"n\",Registration!B70,\"\"))","v":""},{"$f":"IF(Registration!E70=\"n\",'Aussie Round'!V71,\"\")","v":""},{"$f":"IF(AND(Registration!$E70=\"n\",COUNTBLANK(D71)=0),RANK(D71,D$3:D$101,0),\"\")","v":""},{"$f":"IF(AND(Registration!$E70=\"n\",COUNTBLANK(E71)=0),placingpoints(E71,COUNTIF(E$3:E$101,\"=\"&E71)),\"\")","v":""},{"$f":"IF(Registration!$E70=\"n\",Accuracy!L70,\"\")","v":""},{"$f":"IF(AND(Registration!$E70=\"n\",COUNTBLANK(G71)=0),RANK(G71,G$3:G$102,0),\"\")","v":""},{"$f":"IF(AND(Registration!$E70=\"n\",COUNTBLANK(H71)=0),placingpoints(H71,COUNTIF(H$3:H$102,\"=\"&H71)),\"\")","v":""},{"$f":"IF(Registration!$E70=\"n\",MTA!G70,\"\")","v":""},{"$f":"IF(AND(Registration!$E70=\"n\",COUNTBLANK(J71)=0),RANK(J71,J$3:J$101,0),\"\")","v":""},{"$f":"IF(AND(Registration!$E70=\"n\",COUNTBLANK(K71)=0),placingpoints(K71,COUNTIF(K$3:K$101,\"=\"&K71)),\"\")","v":""},{"$f":"IF(Registration!$E70=\"n\",'Trick Catch'!X71,\"\")","v":""},{"$f":"IF(AND(Registration!$E70=\"n\",COUNTBLANK(M71)=0),RANK(M71,M$3:M$101,0),\"\")","v":""},{"$f":"IF(AND(Registration!$E70=\"n\",COUNTBLANK(N71)=0),placingpoints(N71,COUNTIF(N$3:N$101,\"=\"&N71)),\"\")","v":""},{"$f":"IF(Registration!$E70=\"n\",'Fast Catch'!F70,\"\")","v":""},{"$f":"IF(AND(Registration!$E70=\"n\",COUNTBLANK(P71)=0),RANK(P71,P$3:P$101,1),\"\")","v":""},{"$f":"IF(AND(Registration!$E70=\"n\",COUNTBLANK(Q71)=0),placingpoints(Q71,COUNTIF(Q$3:Q$101,\"=\"&Q71)),\"\")","v":""},{"$f":"IF(Registration!$E70=\"n\",Endurance!C70,\"\")","v":""},{"$f":"IF(AND(Registration!$E70=\"n\",COUNTBLANK(S71)=0),RANK(S71,S$3:S$101,0),\"\")","v":""},{"$f":"IF(AND(Registration!$E70=\"n\",COUNTBLANK(T71)=0),placingpoints(T71,COUNTIF(T$3:T$101,\"=\"&T71)),\"\")","v":""}]
[{"$f":"IF(Registration!E71=\"n\",RANK(B72,$B$3:$B$101,1),\"\")","v":""},{"$f":"IF(Registration!E71=\"n\",SUM(F72,I72,L72,O72,R72,U72),\"\")","v":""},{"$f":"IF(COUNTBLANK(Registration!B71)=1,\"\",IF(Registration!E71=\"n\",Registration!B71,\"\"))","v":""},{"$f":"IF(Registration!E71=\"n\",'Aussie Round'!V72,\"\")","v":""},{"$f":"IF(AND(Registration!$E71=\"n\",COUNTBLANK(D72)=0),RANK(D72,D$3:D$101,0),\"\")","v":""},{"$f":"IF(AND(Registration!$E71=\"n\",COUNTBLANK(E72)=0),placingpoints(E72,COUNTIF(E$3:E$101,\"=\"&E72)),\"\")","v":""},{"$f":"IF(Registration!$E71=\"n\",Accuracy!L71,\"\")","v":""},{"$f":"IF(AND(Registration!$E71=\"n\",COUNTBLANK(G72)=0),RANK(G72,G$3:G$102,0),\"\")","v":""},{"$f":"IF(AND(Registration!$E71=\"n\",COUNTBLANK(H72)=0),placingpoints(H72,COUNTIF(H$3:H$102,\"=\"&H72)),\"\")","v":""},{"$f":"IF(Registration!$E71=\"n\",MTA!G71,\"\")","v":""},{"$f":"IF(AND(Registration!$E71=\"n\",COUNTBLANK(J72)=0),RANK(J72,J$3:J$101,0),\"\")","v":""},{"$f":"IF(AND(Registration!$E71=\"n\",COUNTBLANK(K72)=0),placingpoints(K72,COUNTIF(K$3:K$101,\"=\"&K72)),\"\")","v":""},{"$f":"IF(Registration!$E71=\"n\",'Trick Catch'!X72,\"\")","v":""},{"$f":"IF(AND(Registration!$E71=\"n\",COUNTBLANK(M72)=0),RANK(M72,M$3:M$101,0),\"\")","v":""},{"$f":"IF(AND(Registration!$E71=\"n\",COUNTBLANK(N72)=0),placingpoints(N72,COUNTIF(N$3:N$101,\"=\"&N72)),\"\")","v":""},{"$f":"IF(Registration!$E71=\"n\",'Fast Catch'!F71,\"\")","v":""},{"$f":"IF(AND(Registration!$E71=\"n\",COUNTBLANK(P72)=0),RANK(P72,P$3:P$101,1),\"\")","v":""},{"$f":"IF(AND(Registration!$E71=\"n\",COUNTBLANK(Q72)=0),placingpoints(Q72,COUNTIF(Q$3:Q$101,\"=\"&Q72)),\"\")","v":""},{"$f":"IF(Registration!$E71=\"n\",Endurance!C71,\"\")","v":""},{"$f":"IF(AND(Registration!$E71=\"n\",COUNTBLANK(S72)=0),RANK(S72,S$3:S$101,0),\"\")","v":""},{"$f":"IF(AND(Registration!$E71=\"n\",COUNTBLANK(T72)=0),placingpoints(T72,COUNTIF(T$3:T$101,\"=\"&T72)),\"\")","v":""}]
[{"$f":"IF(Registration!E72=\"n\",RANK(B73,$B$3:$B$101,1),\"\")","v":""},{"$f":"IF(Registration!E72=\"n\",SUM(F73,I73,L73,O73,R73,U73),\"\")","v":""},{"$f":"IF(COUNTBLANK(Registration!B72)=1,\"\",IF(Registration!E72=\"n\",Registration!B72,\"\"))","v":""},{"$f":"IF(Registration!E72=\"n\",'Aussie Round'!V73,\"\")","v":""},{"$f":"IF(AND(Registration!$E72=\"n\",COUNTBLANK(D73)=0),RANK(D73,D$3:D$101,0),\"\")","v":""},{"$f":"IF(AND(Registration!$E72=\"n\",COUNTBLANK(E73)=0),placingpoints(E73,COUNTIF(E$3:E$101,\"=\"&E73)),\"\")","v":""},{"$f":"IF(Registration!$E72=\"n\",Accuracy!L72,\"\")","v":""},{"$f":"IF(AND(Registration!$E72=\"n\",COUNTBLANK(G73)=0),RANK(G73,G$3:G$102,0),\"\")","v":""},{"$f":"IF(AND(Registration!$E72=\"n\",COUNTBLANK(H73)=0),placingpoints(H73,COUNTIF(H$3:H$102,\"=\"&H73)),\"\")","v":""},{"$f":"IF(Registration!$E72=\"n\",MTA!G72,\"\")","v":""},{"$f":"IF(AND(Registration!$E72=\"n\",COUNTBLANK(J73)=0),RANK(J73,J$3:J$101,0),\"\")","v":""},{"$f":"IF(AND(Registration!$E72=\"n\",COUNTBLANK(K73)=0),placingpoints(K73,COUNTIF(K$3:K$101,\"=\"&K73)),\"\")","v":""},{"$f":"IF(Registration!$E72=\"n\",'Trick Catch'!X73,\"\")","v":""},{"$f":"IF(AND(Registration!$E72=\"n\",COUNTBLANK(M73)=0),RANK(M73,M$3:M$101,0),\"\")","v":""},{"$f":"IF(AND(Registration!$E72=\"n\",COUNTBLANK(N73)=0),placingpoints(N73,COUNTIF(N$3:N$101,\"=\"&N73)),\"\")","v":""},{"$f":"IF(Registration!$E72=\"n\",'Fast Catch'!F72,\"\")","v":""},{"$f":"IF(AND(Registration!$E72=\"n\",COUNTBLANK(P73)=0),RANK(P73,P$3:P$101,1),\"\")","v":""},{"$f":"IF(AND(Registration!$E72=\"n\",COUNTBLANK(Q73)=0),placingpoints(Q73,COUNTIF(Q$3:Q$101,\"=\"&Q73)),\"\")","v":""},{"$f":"IF(Registration!$E72=\"n\",Endurance!C72,\"\")","v":""},{"$f":"IF(AND(Registration!$E72=\"n\",COUNTBLANK(S73)=0),RANK(S73,S$3:S$101,0),\"\")","v":""},{"$f":"IF(AND(Registration!$E72=\"n\",COUNTBLANK(T73)=0),placingpoints(T73,COUNTIF(T$3:T$101,\"=\"&T73)),\"\")","v":""}]
[{"$f":"IF(Registration!E73=\"n\",RANK(B74,$B$3:$B$101,1),\"\")","v":""},{"$f":"IF(Registration!E73=\"n\",SUM(F74,I74,L74,O74,R74,U74),\"\")","v":""},{"$f":"IF(COUNTBLANK(Registration!B73)=1,\"\",IF(Registration!E73=\"n\",Registration!B73,\"\"))","v":""},{"$f":"IF(Registration!E73=\"n\",'Aussie Round'!V74,\"\")","v":""},{"$f":"IF(AND(Registration!$E73=\"n\",COUNTBLANK(D74)=0),RANK(D74,D$3:D$101,0),\"\")","v":""},{"$f":"IF(AND(Registration!$E73=\"n\",COUNTBLANK(E74)=0),placingpoints(E74,COUNTIF(E$3:E$101,\"=\"&E74)),\"\")","v":""},{"$f":"IF(Registration!$E73=\"n\",Accuracy!L73,\"\")","v":""},{"$f":"IF(AND(Registration!$E73=\"n\",COUNTBLANK(G74)=0),RANK(G74,G$3:G$102,0),\"\")","v":""},{"$f":"IF(AND(Registration!$E73=\"n\",COUNTBLANK(H74)=0),placingpoints(H74,COUNTIF(H$3:H$102,\"=\"&H74)),\"\")","v":""},{"$f":"IF(Registration!$E73=\"n\",MTA!G73,\"\")","v":""},{"$f":"IF(AND(Registration!$E73=\"n\",COUNTBLANK(J74)=0),RANK(J74,J$3:J$101,0),\"\")","v":""},{"$f":"IF(AND(Registration!$E73=\"n\",COUNTBLANK(K74)=0),placingpoints(K74,COUNTIF(K$3:K$101,\"=\"&K74)),\"\")","v":""},{"$f":"IF(Registration!$E73=\"n\",'Trick Catch'!X74,\"\")","v":""},{"$f":"IF(AND(Registration!$E73=\"n\",COUNTBLANK(M74)=0),RANK(M74,M$3:M$101,0),\"\")","v":""},{"$f":"IF(AND(Registration!$E73=\"n\",COUNTBLANK(N74)=0),placingpoints(N74,COUNTIF(N$3:N$101,\"=\"&N74)),\"\")","v":""},{"$f":"IF(Registration!$E73=\"n\",'Fast Catch'!F73,\"\")","v":""},{"$f":"IF(AND(Registration!$E73=\"n\",COUNTBLANK(P74)=0),RANK(P74,P$3:P$101,1),\"\")","v":""},{"$f":"IF(AND(Registration!$E73=\"n\",COUNTBLANK(Q74)=0),placingpoints(Q74,COUNTIF(Q$3:Q$101,\"=\"&Q74)),\"\")","v":""},{"$f":"IF(Registration!$E73=\"n\",Endurance!C73,\"\")","v":""},{"$f":"IF(AND(Registration!$E73=\"n\",COUNTBLANK(S74)=0),RANK(S74,S$3:S$101,0),\"\")","v":""},{"$f":"IF(AND(Registration!$E73=\"n\",COUNTBLANK(T74)=0),placingpoints(T74,COUNTIF(T$3:T$101,\"=\"&T74)),\"\")","v":""}]
[{"$f":"IF(Registration!E74=\"n\",RANK(B75,$B$3:$B$101,1),\"\")","v":""},{"$f":"IF(Registration!E74=\"n\",SUM(F75,I75,L75,O75,R75,U75),\"\")","v":""},{"$f":"IF(COUNTBLANK(Registration!B74)=1,\"\",IF(Registration!E74=\"n\",Registration!B74,\"\"))","v":""},{"$f":"IF(Registration!E74=\"n\",'Aussie Round'!V75,\"\")","v":""},{"$f":"IF(AND(Registration!$E74=\"n\",COUNTBLANK(D75)=0),RANK(D75,D$3:D$101,0),\"\")","v":""},{"$f":"IF(AND(Registration!$E74=\"n\",COUNTBLANK(E75)=0),placingpoints(E75,COUNTIF(E$3:E$101,\"=\"&E75)),\"\")","v":""},{"$f":"IF(Registration!$E74=\"n\",Accuracy!L74,\"\")","v":""},{"$f":"IF(AND(Registration!$E74=\"n\",COUNTBLANK(G75)=0),RANK(G75,G$3:G$102,0),\"\")","v":""},{"$f":"IF(AND(Registration!$E74=\"n\",COUNTBLANK(H75)=0),placingpoints(H75,COUNTIF(H$3:H$102,\"=\"&H75)),\"\")","v":""},{"$f":"IF(Registration!$E74=\"n\",MTA!G74,\"\")","v":""},{"$f":"IF(AND(Registration!$E74=\"n\",COUNTBLANK(J75)=0),RANK(J75,J$3:J$101,0),\"\")","v":""},{"$f":"IF(AND(Registration!$E74=\"n\",COUNTBLANK(K75)=0),placingpoints(K75,COUNTIF(K$3:K$101,\"=\"&K75)),\"\")","v":""},{"$f":"IF(Registration!$E74=\"n\",'Trick Catch'!X75,\"\")","v":""},{"$f":"IF(AND(Registration!$E74=\"n\",COUNTBLANK(M75)=0),RANK(M75,M$3:M$101,0),\"\")","v":""},{"$f":"IF(AND(Registration!$E74=\"n\",COUNTBLANK(N75)=0),placingpoints(N75,COUNTIF(N$3:N$101,\"=\"&N75)),\"\")","v":""},{"$f":"IF(Registration!$E74=\"n\",'Fast Catch'!F74,\"\")","v":""},{"$f":"IF(AND(Registration!$E74=\"n\",COUNTBLANK(P75)=0),RANK(P75,P$3:P$101,1),\"\")","v":""},{"$f":"IF(AND(Registration!$E74=\"n\",COUNTBLANK(Q75)=0),placingpoints(Q75,COUNTIF(Q$3:Q$101,\"=\"&Q75)),\"\")","v":""},{"$f":"IF(Registration!$E74=\"n\",Endurance!C74,\"\")","v":""},{"$f":"IF(AND(Registration!$E74=\"n\",COUNTBLANK(S75)=0),RANK(S75,S$3:S$101,0),\"\")","v":""},{"$f":"IF(AND(Registration!$E74=\"n\",COUNTBLANK(T75)=0),placingpoints(T75,COUNTIF(T$3:T$101,\"=\"&T75)),\"\")","v":""}]
[{"$f":"IF(Registration!E75=\"n\",RANK(B76,$B$3:$B$101,1),\"\")","v":""},{"$f":"IF(Registration!E75=\"n\",SUM(F76,I76,L76,O76,R76,U76),\"\")","v":""},{"$f":"IF(COUNTBLANK(Registration!B75)=1,\"\",IF(Registration!E75=\"n\",Registration!B75,\"\"))","v":""},{"$f":"IF(Registration!E75=\"n\",'Aussie Round'!V76,\"\")","v":""},{"$f":"IF(AND(Registration!$E75=\"n\",COUNTBLANK(D76)=0),RANK(D76,D$3:D$101,0),\"\")","v":""},{"$f":"IF(AND(Registration!$E75=\"n\",COUNTBLANK(E76)=0),placingpoints(E76,COUNTIF(E$3:E$101,\"=\"&E76)),\"\")","v":""},{"$f":"IF(Registration!$E75=\"n\",Accuracy!L75,\"\")","v":""},{"$f":"IF(AND(Registration!$E75=\"n\",COUNTBLANK(G76)=0),RANK(G76,G$3:G$102,0),\"\")","v":""},{"$f":"IF(AND(Registration!$E75=\"n\",COUNTBLANK(H76)=0),placingpoints(H76,COUNTIF(H$3:H$102,\"=\"&H76)),\"\")","v":""},{"$f":"IF(Registration!$E75=\"n\",MTA!G75,\"\")","v":""},{"$f":"IF(AND(Registration!$E75=\"n\",COUNTBLANK(J76)=0),RANK(J76,J$3:J$101,0),\"\")","v":""},{"$f":"IF(AND(Registration!$E75=\"n\",COUNTBLANK(K76)=0),placingpoints(K76,COUNTIF(K$3:K$101,\"=\"&K76)),\"\")","v":""},{"$f":"IF(Registration!$E75=\"n\",'Trick Catch'!X76,\"\")","v":""},{"$f":"IF(AND(Registration!$E75=\"n\",COUNTBLANK(M76)=0),RANK(M76,M$3:M$101,0),\"\")","v":""},{"$f":"IF(AND(Registration!$E75=\"n\",COUNTBLANK(N76)=0),placingpoints(N76,COUNTIF(N$3:N$101,\"=\"&N76)),\"\")","v":""},{"$f":"IF(Registration!$E75=\"n\",'Fast Catch'!F75,\"\")","v":""},{"$f":"IF(AND(Registration!$E75=\"n\",COUNTBLANK(P76)=0),RANK(P76,P$3:P$101,1),\"\")","v":""},{"$f":"IF(AND(Registration!$E75=\"n\",COUNTBLANK(Q76)=0),placingpoints(Q76,COUNTIF(Q$3:Q$101,\"=\"&Q76)),\"\")","v":""},{"$f":"IF(Registration!$E75=\"n\",Endurance!C75,\"\")","v":""},{"$f":"IF(AND(Registration!$E75=\"n\",COUNTBLANK(S76)=0),RANK(S76,S$3:S$101,0),\"\")","v":""},{"$f":"IF(AND(Registration!$E75=\"n\",COUNTBLANK(T76)=0),placingpoints(T76,COUNTIF(T$3:T$101,\"=\"&T76)),\"\")","v":""}]
[{"$f":"IF(Registration!E76=\"n\",RANK(B77,$B$3:$B$101,1),\"\")","v":""},{"$f":"IF(Registration!E76=\"n\",SUM(F77,I77,L77,O77,R77,U77),\"\")","v":""},{"$f":"IF(COUNTBLANK(Registration!B76)=1,\"\",IF(Registration!E76=\"n\",Registration!B76,\"\"))","v":""},{"$f":"IF(Registration!E76=\"n\",'Aussie Round'!V77,\"\")","v":""},{"$f":"IF(AND(Registration!$E76=\"n\",COUNTBLANK(D77)=0),RANK(D77,D$3:D$101,0),\"\")","v":""},{"$f":"IF(AND(Registration!$E76=\"n\",COUNTBLANK(E77)=0),placingpoints(E77,COUNTIF(E$3:E$101,\"=\"&E77)),\"\")","v":""},{"$f":"IF(Registration!$E76=\"n\",Accuracy!L76,\"\")","v":""},{"$f":"IF(AND(Registration!$E76=\"n\",COUNTBLANK(G77)=0),RANK(G77,G$3:G$102,0),\"\")","v":""},{"$f":"IF(AND(Registration!$E76=\"n\",COUNTBLANK(H77)=0),placingpoints(H77,COUNTIF(H$3:H$102,\"=\"&H77)),\"\")","v":""},{"$f":"IF(Registration!$E76=\"n\",MTA!G76,\"\")","v":""},{"$f":"IF(AND(Registration!$E76=\"n\",COUNTBLANK(J77)=0),RANK(J77,J$3:J$101,0),\"\")","v":""},{"$f":"IF(AND(Registration!$E76=\"n\",COUNTBLANK(K77)=0),placingpoints(K77,COUNTIF(K$3:K$101,\"=\"&K77)),\"\")","v":""},{"$f":"IF(Registration!$E76=\"n\",'Trick Catch'!X77,\"\")","v":""},{"$f":"IF(AND(Registration!$E76=\"n\",COUNTBLANK(M77)=0),RANK(M77,M$3:M$101,0),\"\")","v":""},{"$f":"IF(AND(Registration!$E76=\"n\",COUNTBLANK(N77)=0),placingpoints(N77,COUNTIF(N$3:N$101,\"=\"&N77)),\"\")","v":""},{"$f":"IF(Registration!$E76=\"n\",'Fast Catch'!F76,\"\")","v":""},{"$f":"IF(AND(Registration!$E76=\"n\",COUNTBLANK(P77)=0),RANK(P77,P$3:P$101,1),\"\")","v":""},{"$f":"IF(AND(Registration!$E76=\"n\",COUNTBLANK(Q77)=0),placingpoints(Q77,COUNTIF(Q$3:Q$101,\"=\"&Q77)),\"\")","v":""},{"$f":"IF(Registration!$E76=\"n\",Endurance!C76,\"\")","v":""},{"$f":"IF(AND(Registration!$E76=\"n\",COUNTBLANK(S77)=0),RANK(S77,S$3:S$101,0),\"\")","v":""},{"$f":"IF(AND(Registration!$E76=\"n\",COUNTBLANK(T77)=0),placingpoints(T77,COUNTIF(T$3:T$101,\"=\"&T77)),\"\")","v":""}]
[{"$f":"IF(Registration!E77=\"n\",RANK(B78,$B$3:$B$101,1),\"\")","v":""},{"$f":"IF(Registration!E77=\"n\",SUM(F78,I78,L78,O78,R78,U78),\"\")","v":""},{"$f":"IF(COUNTBLANK(Registration!B77)=1,\"\",IF(Registration!E77=\"n\",Registration!B77,\"\"))","v":""},{"$f":"IF(Registration!E77=\"n\",'Aussie Round'!V78,\"\")","v":""},{"$f":"IF(AND(Registration!$E77=\"n\",COUNTBLANK(D78)=0),RANK(D78,D$3:D$101,0),\"\")","v":""},{"$f":"IF(AND(Registration!$E77=\"n\",COUNTBLANK(E78)=0),placingpoints(E78,COUNTIF(E$3:E$101,\"=\"&E78)),\"\")","v":""},{"$f":"IF(Registration!$E77=\"n\",Accuracy!L77,\"\")","v":""},{"$f":"IF(AND(Registration!$E77=\"n\",COUNTBLANK(G78)=0),RANK(G78,G$3:G$102,0),\"\")","v":""},{"$f":"IF(AND(Registration!$E77=\"n\",COUNTBLANK(H78)=0),placingpoints(H78,COUNTIF(H$3:H$102,\"=\"&H78)),\"\")","v":""},{"$f":"IF(Registration!$E77=\"n\",MTA!G77,\"\")","v":""},{"$f":"IF(AND(Registration!$E77=\"n\",COUNTBLANK(J78)=0),RANK(J78,J$3:J$101,0),\"\")","v":""},{"$f":"IF(AND(Registration!$E77=\"n\",COUNTBLANK(K78)=0),placingpoints(K78,COUNTIF(K$3:K$101,\"=\"&K78)),\"\")","v":""},{"$f":"IF(Registration!$E77=\"n\",'Trick Catch'!X78,\"\")","v":""},{"$f":"IF(AND(Registration!$E77=\"n\",COUNTBLANK(M78)=0),RANK(M78,M$3:M$101,0),\"\")","v":""},{"$f":"IF(AND(Registration!$E77=\"n\",COUNTBLANK(N78)=0),placingpoints(N78,COUNTIF(N$3:N$101,\"=\"&N78)),\"\")","v":""},{"$f":"IF(Registration!$E77=\"n\",'Fast Catch'!F77,\"\")","v":""},{"$f":"IF(AND(Registration!$E77=\"n\",COUNTBLANK(P78)=0),RANK(P78,P$3:P$101,1),\"\")","v":""},{"$f":"IF(AND(Registration!$E77=\"n\",COUNTBLANK(Q78)=0),placingpoints(Q78,COUNTIF(Q$3:Q$101,\"=\"&Q78)),\"\")","v":""},{"$f":"IF(Registration!$E77=\"n\",Endurance!C77,\"\")","v":""},{"$f":"IF(AND(Registration!$E77=\"n\",COUNTBLANK(S78)=0),RANK(S78,S$3:S$101,0),\"\")","v":""},{"$f":"IF(AND(Registration!$E77=\"n\",COUNTBLANK(T78)=0),placingpoints(T78,COUNTIF(T$3:T$101,\"=\"&T78)),\"\")","v":""}]
[{"$f":"IF(Registration!E78=\"n\",RANK(B79,$B$3:$B$101,1),\"\")","v":""},{"$f":"IF(Registration!E78=\"n\",SUM(F79,I79,L79,O79,R79,U79),\"\")","v":""},{"$f":"IF(COUNTBLANK(Registration!B78)=1,\"\",IF(Registration!E78=\"n\",Registration!B78,\"\"))","v":""},{"$f":"IF(Registration!E78=\"n\",'Aussie Round'!V79,\"\")","v":""},{"$f":"IF(AND(Registration!$E78=\"n\",COUNTBLANK(D79)=0),RANK(D79,D$3:D$101,0),\"\")","v":""},{"$f":"IF(AND(Registration!$E78=\"n\",COUNTBLANK(E79)=0),placingpoints(E79,COUNTIF(E$3:E$101,\"=\"&E79)),\"\")","v":""},{"$f":"IF(Registration!$E78=\"n\",Accuracy!L78,\"\")","v":""},{"$f":"IF(AND(Registration!$E78=\"n\",COUNTBLANK(G79)=0),RANK(G79,G$3:G$102,0),\"\")","v":""},{"$f":"IF(AND(Registration!$E78=\"n\",COUNTBLANK(H79)=0),placingpoints(H79,COUNTIF(H$3:H$102,\"=\"&H79)),\"\")","v":""},{"$f":"IF(Registration!$E78=\"n\",MTA!G78,\"\")","v":""},{"$f":"IF(AND(Registration!$E78=\"n\",COUNTBLANK(J79)=0),RANK(J79,J$3:J$101,0),\"\")","v":""},{"$f":"IF(AND(Registration!$E78=\"n\",COUNTBLANK(K79)=0),placingpoints(K79,COUNTIF(K$3:K$101,\"=\"&K79)),\"\")","v":""},{"$f":"IF(Registration!$E78=\"n\",'Trick Catch'!X79,\"\")","v":""},{"$f":"IF(AND(Registration!$E78=\"n\",COUNTBLANK(M79)=0),RANK(M79,M$3:M$101,0),\"\")","v":""},{"$f":"IF(AND(Registration!$E78=\"n\",COUNTBLANK(N79)=0),placingpoints(N79,COUNTIF(N$3:N$101,\"=\"&N79)),\"\")","v":""},{"$f":"IF(Registration!$E78=\"n\",'Fast Catch'!F78,\"\")","v":""},{"$f":"IF(AND(Registration!$E78=\"n\",COUNTBLANK(P79)=0),RANK(P79,P$3:P$101,1),\"\")","v":""},{"$f":"IF(AND(Registration!$E78=\"n\",COUNTBLANK(Q79)=0),placingpoints(Q79,COUNTIF(Q$3:Q$101,\"=\"&Q79)),\"\")","v":""},{"$f":"IF(Registration!$E78=\"n\",Endurance!C78,\"\")","v":""},{"$f":"IF(AND(Registration!$E78=\"n\",COUNTBLANK(S79)=0),RANK(S79,S$3:S$101,0),\"\")","v":""},{"$f":"IF(AND(Registration!$E78=\"n\",COUNTBLANK(T79)=0),placingpoints(T79,COUNTIF(T$3:T$101,\"=\"&T79)),\"\")","v":""}]
[{"$f":"IF(Registration!E79=\"n\",RANK(B80,$B$3:$B$101,1),\"\")","v":""},{"$f":"IF(Registration!E79=\"n\",SUM(F80,I80,L80,O80,R80,U80),\"\")","v":""},{"$f":"IF(COUNTBLANK(Registration!B79)=1,\"\",IF(Registration!E79=\"n\",Registration!B79,\"\"))","v":""},{"$f":"IF(Registration!E79=\"n\",'Aussie Round'!V80,\"\")","v":""},{"$f":"IF(AND(Registration!$E79=\"n\",COUNTBLANK(D80)=0),RANK(D80,D$3:D$101,0),\"\")","v":""},{"$f":"IF(AND(Registration!$E79=\"n\",COUNTBLANK(E80)=0),placingpoints(E80,COUNTIF(E$3:E$101,\"=\"&E80)),\"\")","v":""},{"$f":"IF(Registration!$E79=\"n\",Accuracy!L79,\"\")","v":""},{"$f":"IF(AND(Registration!$E79=\"n\",COUNTBLANK(G80)=0),RANK(G80,G$3:G$102,0),\"\")","v":""},{"$f":"IF(AND(Registration!$E79=\"n\",COUNTBLANK(H80)=0),placingpoints(H80,COUNTIF(H$3:H$102,\"=\"&H80)),\"\")","v":""},{"$f":"IF(Registration!$E79=\"n\",MTA!G79,\"\")","v":""},{"$f":"IF(AND(Registration!$E79=\"n\",COUNTBLANK(J80)=0),RANK(J80,J$3:J$101,0),\"\")","v":""},{"$f":"IF(AND(Registration!$E79=\"n\",COUNTBLANK(K80)=0),placingpoints(K80,COUNTIF(K$3:K$101,\"=\"&K80)),\"\")","v":""},{"$f":"IF(Registration!$E79=\"n\",'Trick Catch'!X80,\"\")","v":""},{"$f":"IF(AND(Registration!$E79=\"n\",COUNTBLANK(M80)=0),RANK(M80,M$3:M$101,0),\"\")","v":""},{"$f":"IF(AND(Registration!$E79=\"n\",COUNTBLANK(N80)=0),placingpoints(N80,COUNTIF(N$3:N$101,\"=\"&N80)),\"\")","v":""},{"$f":"IF(Registration!$E79=\"n\",'Fast Catch'!F79,\"\")","v":""},{"$f":"IF(AND(Registration!$E79=\"n\",COUNTBLANK(P80)=0),RANK(P80,P$3:P$101,1),\"\")","v":""},{"$f":"IF(AND(Registration!$E79=\"n\",COUNTBLANK(Q80)=0),placingpoints(Q80,COUNTIF(Q$3:Q$101,\"=\"&Q80)),\"\")","v":""},{"$f":"IF(Registration!$E79=\"n\",Endurance!C79,\"\")","v":""},{"$f":"IF(AND(Registration!$E79=\"n\",COUNTBLANK(S80)=0),RANK(S80,S$3:S$101,0),\"\")","v":""},{"$f":"IF(AND(Registration!$E79=\"n\",COUNTBLANK(T80)=0),placingpoints(T80,COUNTIF(T$3:T$101,\"=\"&T80)),\"\")","v":""}]
[{"$f":"IF(Registration!E80=\"n\",RANK(B81,$B$3:$B$101,1),\"\")","v":""},{"$f":"IF(Registration!E80=\"n\",SUM(F81,I81,L81,O81,R81,U81),\"\")","v":""},{"$f":"IF(COUNTBLANK(Registration!B80)=1,\"\",IF(Registration!E80=\"n\",Registration!B80,\"\"))","v":""},{"$f":"IF(Registration!E80=\"n\",'Aussie Round'!V81,\"\")","v":""},{"$f":"IF(AND(Registration!$E80=\"n\",COUNTBLANK(D81)=0),RANK(D81,D$3:D$101,0),\"\")","v":""},{"$f":"IF(AND(Registration!$E80=\"n\",COUNTBLANK(E81)=0),placingpoints(E81,COUNTIF(E$3:E$101,\"=\"&E81)),\"\")","v":""},{"$f":"IF(Registration!$E80=\"n\",Accuracy!L80,\"\")","v":""},{"$f":"IF(AND(Registration!$E80=\"n\",COUNTBLANK(G81)=0),RANK(G81,G$3:G$102,0),\"\")","v":""},{"$f":"IF(AND(Registration!$E80=\"n\",COUNTBLANK(H81)=0),placingpoints(H81,COUNTIF(H$3:H$102,\"=\"&H81)),\"\")","v":""},{"$f":"IF(Registration!$E80=\"n\",MTA!G80,\"\")","v":""},{"$f":"IF(AND(Registration!$E80=\"n\",COUNTBLANK(J81)=0),RANK(J81,J$3:J$101,0),\"\")","v":""},{"$f":"IF(AND(Registration!$E80=\"n\",COUNTBLANK(K81)=0),placingpoints(K81,COUNTIF(K$3:K$101,\"=\"&K81)),\"\")","v":""},{"$f":"IF(Registration!$E80=\"n\",'Trick Catch'!X81,\"\")","v":""},{"$f":"IF(AND(Registration!$E80=\"n\",COUNTBLANK(M81)=0),RANK(M81,M$3:M$101,0),\"\")","v":""},{"$f":"IF(AND(Registration!$E80=\"n\",COUNTBLANK(N81)=0),placingpoints(N81,COUNTIF(N$3:N$101,\"=\"&N81)),\"\")","v":""},{"$f":"IF(Registration!$E80=\"n\",'Fast Catch'!F80,\"\")","v":""},{"$f":"IF(AND(Registration!$E80=\"n\",COUNTBLANK(P81)=0),RANK(P81,P$3:P$101,1),\"\")","v":""},{"$f":"IF(AND(Registration!$E80=\"n\",COUNTBLANK(Q81)=0),placingpoints(Q81,COUNTIF(Q$3:Q$101,\"=\"&Q81)),\"\")","v":""},{"$f":"IF(Registration!$E80=\"n\",Endurance!C80,\"\")","v":""},{"$f":"IF(AND(Registration!$E80=\"n\",COUNTBLANK(S81)=0),RANK(S81,S$3:S$101,0),\"\")","v":""},{"$f":"IF(AND(Registration!$E80=\"n\",COUNTBLANK(T81)=0),placingpoints(T81,COUNTIF(T$3:T$101,\"=\"&T81)),\"\")","v":""}]
[{"$f":"IF(Registration!E81=\"n\",RANK(B82,$B$3:$B$101,1),\"\")","v":""},{"$f":"IF(Registration!E81=\"n\",SUM(F82,I82,L82,O82,R82,U82),\"\")","v":""},{"$f":"IF(COUNTBLANK(Registration!B81)=1,\"\",IF(Registration!E81=\"n\",Registration!B81,\"\"))","v":""},{"$f":"IF(Registration!E81=\"n\",'Aussie Round'!V82,\"\")","v":""},{"$f":"IF(AND(Registration!$E81=\"n\",COUNTBLANK(D82)=0),RANK(D82,D$3:D$101,0),\"\")","v":""},{"$f":"IF(AND(Registration!$E81=\"n\",COUNTBLANK(E82)=0),placingpoints(E82,COUNTIF(E$3:E$101,\"=\"&E82)),\"\")","v":""},{"$f":"IF(Registration!$E81=\"n\",Accuracy!L81,\"\")","v":""},{"$f":"IF(AND(Registration!$E81=\"n\",COUNTBLANK(G82)=0),RANK(G82,G$3:G$102,0),\"\")","v":""},{"$f":"IF(AND(Registration!$E81=\"n\",COUNTBLANK(H82)=0),placingpoints(H82,COUNTIF(H$3:H$102,\"=\"&H82)),\"\")","v":""},{"$f":"IF(Registration!$E81=\"n\",MTA!G81,\"\")","v":""},{"$f":"IF(AND(Registration!$E81=\"n\",COUNTBLANK(J82)=0),RANK(J82,J$3:J$101,0),\"\")","v":""},{"$f":"IF(AND(Registration!$E81=\"n\",COUNTBLANK(K82)=0),placingpoints(K82,COUNTIF(K$3:K$101,\"=\"&K82)),\"\")","v":""},{"$f":"IF(Registration!$E81=\"n\",'Trick Catch'!X82,\"\")","v":""},{"$f":"IF(AND(Registration!$E81=\"n\",COUNTBLANK(M82)=0),RANK(M82,M$3:M$101,0),\"\")","v":""},{"$f":"IF(AND(Registration!$E81=\"n\",COUNTBLANK(N82)=0),placingpoints(N82,COUNTIF(N$3:N$101,\"=\"&N82)),\"\")","v":""},{"$f":"IF(Registration!$E81=\"n\",'Fast Catch'!F81,\"\")","v":""},{"$f":"IF(AND(Registration!$E81=\"n\",COUNTBLANK(P82)=0),RANK(P82,P$3:P$101,1),\"\")","v":""},{"$f":"IF(AND(Registration!$E81=\"n\",COUNTBLANK(Q82)=0),placingpoints(Q82,COUNTIF(Q$3:Q$101,\"=\"&Q82)),\"\")","v":""},{"$f":"IF(Registration!$E81=\"n\",Endurance!C81,\"\")","v":""},{"$f":"IF(AND(Registration!$E81=\"n\",COUNTBLANK(S82)=0),RANK(S82,S$3:S$101,0),\"\")","v":""},{"$f":"IF(AND(Registration!$E81=\"n\",COUNTBLANK(T82)=0),placingpoints(T82,COUNTIF(T$3:T$101,\"=\"&T82)),\"\")","v":""}]
[{"$f":"IF(Registration!E82=\"n\",RANK(B83,$B$3:$B$101,1),\"\")","v":""},{"$f":"IF(Registration!E82=\"n\",SUM(F83,I83,L83,O83,R83,U83),\"\")","v":""},{"$f":"IF(COUNTBLANK(Registration!B82)=1,\"\",IF(Registration!E82=\"n\",Registration!B82,\"\"))","v":""},{"$f":"IF(Registration!E82=\"n\",'Aussie Round'!V83,\"\")","v":""},{"$f":"IF(AND(Registration!$E82=\"n\",COUNTBLANK(D83)=0),RANK(D83,D$3:D$101,0),\"\")","v":""},{"$f":"IF(AND(Registration!$E82=\"n\",COUNTBLANK(E83)=0),placingpoints(E83,COUNTIF(E$3:E$101,\"=\"&E83)),\"\")","v":""},{"$f":"IF(Registration!$E82=\"n\",Accuracy!L82,\"\")","v":""},{"$f":"IF(AND(Registration!$E82=\"n\",COUNTBLANK(G83)=0),RANK(G83,G$3:G$102,0),\"\")","v":""},{"$f":"IF(AND(Registration!$E82=\"n\",COUNTBLANK(H83)=0),placingpoints(H83,COUNTIF(H$3:H$102,\"=\"&H83)),\"\")","v":""},{"$f":"IF(Registration!$E82=\"n\",MTA!G82,\"\")","v":""},{"$f":"IF(AND(Registration!$E82=\"n\",COUNTBLANK(J83)=0),RANK(J83,J$3:J$101,0),\"\")","v":""},{"$f":"IF(AND(Registration!$E82=\"n\",COUNTBLANK(K83)=0),placingpoints(K83,COUNTIF(K$3:K$101,\"=\"&K83)),\"\")","v":""},{"$f":"IF(Registration!$E82=\"n\",'Trick Catch'!X83,\"\")","v":""},{"$f":"IF(AND(Registration!$E82=\"n\",COUNTBLANK(M83)=0),RANK(M83,M$3:M$101,0),\"\")","v":""},{"$f":"IF(AND(Registration!$E82=\"n\",COUNTBLANK(N83)=0),placingpoints(N83,COUNTIF(N$3:N$101,\"=\"&N83)),\"\")","v":""},{"$f":"IF(Registration!$E82=\"n\",'Fast Catch'!F82,\"\")","v":""},{"$f":"IF(AND(Registration!$E82=\"n\",COUNTBLANK(P83)=0),RANK(P83,P$3:P$101,1),\"\")","v":""},{"$f":"IF(AND(Registration!$E82=\"n\",COUNTBLANK(Q83)=0),placingpoints(Q83,COUNTIF(Q$3:Q$101,\"=\"&Q83)),\"\")","v":""},{"$f":"IF(Registration!$E82=\"n\",Endurance!C82,\"\")","v":""},{"$f":"IF(AND(Registration!$E82=\"n\",COUNTBLANK(S83)=0),RANK(S83,S$3:S$101,0),\"\")","v":""},{"$f":"IF(AND(Registration!$E82=\"n\",COUNTBLANK(T83)=0),placingpoints(T83,COUNTIF(T$3:T$101,\"=\"&T83)),\"\")","v":""}]
[{"$f":"IF(Registration!E83=\"n\",RANK(B84,$B$3:$B$101,1),\"\")","v":""},{"$f":"IF(Registration!E83=\"n\",SUM(F84,I84,L84,O84,R84,U84),\"\")","v":""},{"$f":"IF(COUNTBLANK(Registration!B83)=1,\"\",IF(Registration!E83=\"n\",Registration!B83,\"\"))","v":""},{"$f":"IF(Registration!E83=\"n\",'Aussie Round'!V84,\"\")","v":""},{"$f":"IF(AND(Registration!$E83=\"n\",COUNTBLANK(D84)=0),RANK(D84,D$3:D$101,0),\"\")","v":""},{"$f":"IF(AND(Registration!$E83=\"n\",COUNTBLANK(E84)=0),placingpoints(E84,COUNTIF(E$3:E$101,\"=\"&E84)),\"\")","v":""},{"$f":"IF(Registration!$E83=\"n\",Accuracy!L83,\"\")","v":""},{"$f":"IF(AND(Registration!$E83=\"n\",COUNTBLANK(G84)=0),RANK(G84,G$3:G$102,0),\"\")","v":""},{"$f":"IF(AND(Registration!$E83=\"n\",COUNTBLANK(H84)=0),placingpoints(H84,COUNTIF(H$3:H$102,\"=\"&H84)),\"\")","v":""},{"$f":"IF(Registration!$E83=\"n\",MTA!G83,\"\")","v":""},{"$f":"IF(AND(Registration!$E83=\"n\",COUNTBLANK(J84)=0),RANK(J84,J$3:J$101,0),\"\")","v":""},{"$f":"IF(AND(Registration!$E83=\"n\",COUNTBLANK(K84)=0),placingpoints(K84,COUNTIF(K$3:K$101,\"=\"&K84)),\"\")","v":""},{"$f":"IF(Registration!$E83=\"n\",'Trick Catch'!X84,\"\")","v":""},{"$f":"IF(AND(Registration!$E83=\"n\",COUNTBLANK(M84)=0),RANK(M84,M$3:M$101,0),\"\")","v":""},{"$f":"IF(AND(Registration!$E83=\"n\",COUNTBLANK(N84)=0),placingpoints(N84,COUNTIF(N$3:N$101,\"=\"&N84)),\"\")","v":""},{"$f":"IF(Registration!$E83=\"n\",'Fast Catch'!F83,\"\")","v":""},{"$f":"IF(AND(Registration!$E83=\"n\",COUNTBLANK(P84)=0),RANK(P84,P$3:P$101,1),\"\")","v":""},{"$f":"IF(AND(Registration!$E83=\"n\",COUNTBLANK(Q84)=0),placingpoints(Q84,COUNTIF(Q$3:Q$101,\"=\"&Q84)),\"\")","v":""},{"$f":"IF(Registration!$E83=\"n\",Endurance!C83,\"\")","v":""},{"$f":"IF(AND(Registration!$E83=\"n\",COUNTBLANK(S84)=0),RANK(S84,S$3:S$101,0),\"\")","v":""},{"$f":"IF(AND(Registration!$E83=\"n\",COUNTBLANK(T84)=0),placingpoints(T84,COUNTIF(T$3:T$101,\"=\"&T84)),\"\")","v":""}]
[{"$f":"IF(Registration!E84=\"n\",RANK(B85,$B$3:$B$101,1),\"\")","v":""},{"$f":"IF(Registration!E84=\"n\",SUM(F85,I85,L85,O85,R85,U85),\"\")","v":""},{"$f":"IF(COUNTBLANK(Registration!B84)=1,\"\",IF(Registration!E84=\"n\",Registration!B84,\"\"))","v":""},{"$f":"IF(Registration!E84=\"n\",'Aussie Round'!V85,\"\")","v":""},{"$f":"IF(AND(Registration!$E84=\"n\",COUNTBLANK(D85)=0),RANK(D85,D$3:D$101,0),\"\")","v":""},{"$f":"IF(AND(Registration!$E84=\"n\",COUNTBLANK(E85)=0),placingpoints(E85,COUNTIF(E$3:E$101,\"=\"&E85)),\"\")","v":""},{"$f":"IF(Registration!$E84=\"n\",Accuracy!L84,\"\")","v":""},{"$f":"IF(AND(Registration!$E84=\"n\",COUNTBLANK(G85)=0),RANK(G85,G$3:G$102,0),\"\")","v":""},{"$f":"IF(AND(Registration!$E84=\"n\",COUNTBLANK(H85)=0),placingpoints(H85,COUNTIF(H$3:H$102,\"=\"&H85)),\"\")","v":""},{"$f":"IF(Registration!$E84=\"n\",MTA!G84,\"\")","v":""},{"$f":"IF(AND(Registration!$E84=\"n\",COUNTBLANK(J85)=0),RANK(J85,J$3:J$101,0),\"\")","v":""},{"$f":"IF(AND(Registration!$E84=\"n\",COUNTBLANK(K85)=0),placingpoints(K85,COUNTIF(K$3:K$101,\"=\"&K85)),\"\")","v":""},{"$f":"IF(Registration!$E84=\"n\",'Trick Catch'!X85,\"\")","v":""},{"$f":"IF(AND(Registration!$E84=\"n\",COUNTBLANK(M85)=0),RANK(M85,M$3:M$101,0),\"\")","v":""},{"$f":"IF(AND(Registration!$E84=\"n\",COUNTBLANK(N85)=0),placingpoints(N85,COUNTIF(N$3:N$101,\"=\"&N85)),\"\")","v":""},{"$f":"IF(Registration!$E84=\"n\",'Fast Catch'!F84,\"\")","v":""},{"$f":"IF(AND(Registration!$E84=\"n\",COUNTBLANK(P85)=0),RANK(P85,P$3:P$101,1),\"\")","v":""},{"$f":"IF(AND(Registration!$E84=\"n\",COUNTBLANK(Q85)=0),placingpoints(Q85,COUNTIF(Q$3:Q$101,\"=\"&Q85)),\"\")","v":""},{"$f":"IF(Registration!$E84=\"n\",Endurance!C84,\"\")","v":""},{"$f":"IF(AND(Registration!$E84=\"n\",COUNTBLANK(S85)=0),RANK(S85,S$3:S$101,0),\"\")","v":""},{"$f":"IF(AND(Registration!$E84=\"n\",COUNTBLANK(T85)=0),placingpoints(T85,COUNTIF(T$3:T$101,\"=\"&T85)),\"\")","v":""}]
[{"$f":"IF(Registration!E85=\"n\",RANK(B86,$B$3:$B$101,1),\"\")","v":""},{"$f":"IF(Registration!E85=\"n\",SUM(F86,I86,L86,O86,R86,U86),\"\")","v":""},{"$f":"IF(COUNTBLANK(Registration!B85)=1,\"\",IF(Registration!E85=\"n\",Registration!B85,\"\"))","v":""},{"$f":"IF(Registration!E85=\"n\",'Aussie Round'!V86,\"\")","v":""},{"$f":"IF(AND(Registration!$E85=\"n\",COUNTBLANK(D86)=0),RANK(D86,D$3:D$101,0),\"\")","v":""},{"$f":"IF(AND(Registration!$E85=\"n\",COUNTBLANK(E86)=0),placingpoints(E86,COUNTIF(E$3:E$101,\"=\"&E86)),\"\")","v":""},{"$f":"IF(Registration!$E85=\"n\",Accuracy!L85,\"\")","v":""},{"$f":"IF(AND(Registration!$E85=\"n\",COUNTBLANK(G86)=0),RANK(G86,G$3:G$102,0),\"\")","v":""},{"$f":"IF(AND(Registration!$E85=\"n\",COUNTBLANK(H86)=0),placingpoints(H86,COUNTIF(H$3:H$102,\"=\"&H86)),\"\")","v":""},{"$f":"IF(Registration!$E85=\"n\",MTA!G85,\"\")","v":""},{"$f":"IF(AND(Registration!$E85=\"n\",COUNTBLANK(J86)=0),RANK(J86,J$3:J$101,0),\"\")","v":""},{"$f":"IF(AND(Registration!$E85=\"n\",COUNTBLANK(K86)=0),placingpoints(K86,COUNTIF(K$3:K$101,\"=\"&K86)),\"\")","v":""},{"$f":"IF(Registration!$E85=\"n\",'Trick Catch'!X86,\"\")","v":""},{"$f":"IF(AND(Registration!$E85=\"n\",COUNTBLANK(M86)=0),RANK(M86,M$3:M$101,0),\"\")","v":""},{"$f":"IF(AND(Registration!$E85=\"n\",COUNTBLANK(N86)=0),placingpoints(N86,COUNTIF(N$3:N$101,\"=\"&N86)),\"\")","v":""},{"$f":"IF(Registration!$E85=\"n\",'Fast Catch'!F85,\"\")","v":""},{"$f":"IF(AND(Registration!$E85=\"n\",COUNTBLANK(P86)=0),RANK(P86,P$3:P$101,1),\"\")","v":""},{"$f":"IF(AND(Registration!$E85=\"n\",COUNTBLANK(Q86)=0),placingpoints(Q86,COUNTIF(Q$3:Q$101,\"=\"&Q86)),\"\")","v":""},{"$f":"IF(Registration!$E85=\"n\",Endurance!C85,\"\")","v":""},{"$f":"IF(AND(Registration!$E85=\"n\",COUNTBLANK(S86)=0),RANK(S86,S$3:S$101,0),\"\")","v":""},{"$f":"IF(AND(Registration!$E85=\"n\",COUNTBLANK(T86)=0),placingpoints(T86,COUNTIF(T$3:T$101,\"=\"&T86)),\"\")","v":""}]
[{"$f":"IF(Registration!E86=\"n\",RANK(B87,$B$3:$B$101,1),\"\")","v":""},{"$f":"IF(Registration!E86=\"n\",SUM(F87,I87,L87,O87,R87,U87),\"\")","v":""},{"$f":"IF(COUNTBLANK(Registration!B86)=1,\"\",IF(Registration!E86=\"n\",Registration!B86,\"\"))","v":""},{"$f":"IF(Registration!E86=\"n\",'Aussie Round'!V87,\"\")","v":""},{"$f":"IF(AND(Registration!$E86=\"n\",COUNTBLANK(D87)=0),RANK(D87,D$3:D$101,0),\"\")","v":""},{"$f":"IF(AND(Registration!$E86=\"n\",COUNTBLANK(E87)=0),placingpoints(E87,COUNTIF(E$3:E$101,\"=\"&E87)),\"\")","v":""},{"$f":"IF(Registration!$E86=\"n\",Accuracy!L86,\"\")","v":""},{"$f":"IF(AND(Registration!$E86=\"n\",COUNTBLANK(G87)=0),RANK(G87,G$3:G$102,0),\"\")","v":""},{"$f":"IF(AND(Registration!$E86=\"n\",COUNTBLANK(H87)=0),placingpoints(H87,COUNTIF(H$3:H$102,\"=\"&H87)),\"\")","v":""},{"$f":"IF(Registration!$E86=\"n\",MTA!G86,\"\")","v":""},{"$f":"IF(AND(Registration!$E86=\"n\",COUNTBLANK(J87)=0),RANK(J87,J$3:J$101,0),\"\")","v":""},{"$f":"IF(AND(Registration!$E86=\"n\",COUNTBLANK(K87)=0),placingpoints(K87,COUNTIF(K$3:K$101,\"=\"&K87)),\"\")","v":""},{"$f":"IF(Registration!$E86=\"n\",'Trick Catch'!X87,\"\")","v":""},{"$f":"IF(AND(Registration!$E86=\"n\",COUNTBLANK(M87)=0),RANK(M87,M$3:M$101,0),\"\")","v":""},{"$f":"IF(AND(Registration!$E86=\"n\",COUNTBLANK(N87)=0),placingpoints(N87,COUNTIF(N$3:N$101,\"=\"&N87)),\"\")","v":""},{"$f":"IF(Registration!$E86=\"n\",'Fast Catch'!F86,\"\")","v":""},{"$f":"IF(AND(Registration!$E86=\"n\",COUNTBLANK(P87)=0),RANK(P87,P$3:P$101,1),\"\")","v":""},{"$f":"IF(AND(Registration!$E86=\"n\",COUNTBLANK(Q87)=0),placingpoints(Q87,COUNTIF(Q$3:Q$101,\"=\"&Q87)),\"\")","v":""},{"$f":"IF(Registration!$E86=\"n\",Endurance!C86,\"\")","v":""},{"$f":"IF(AND(Registration!$E86=\"n\",COUNTBLANK(S87)=0),RANK(S87,S$3:S$101,0),\"\")","v":""},{"$f":"IF(AND(Registration!$E86=\"n\",COUNTBLANK(T87)=0),placingpoints(T87,COUNTIF(T$3:T$101,\"=\"&T87)),\"\")","v":""}]
[{"$f":"IF(Registration!E87=\"n\",RANK(B88,$B$3:$B$101,1),\"\")","v":""},{"$f":"IF(Registration!E87=\"n\",SUM(F88,I88,L88,O88,R88,U88),\"\")","v":""},{"$f":"IF(COUNTBLANK(Registration!B87)=1,\"\",IF(Registration!E87=\"n\",Registration!B87,\"\"))","v":""},{"$f":"IF(Registration!E87=\"n\",'Aussie Round'!V88,\"\")","v":""},{"$f":"IF(AND(Registration!$E87=\"n\",COUNTBLANK(D88)=0),RANK(D88,D$3:D$101,0),\"\")","v":""},{"$f":"IF(AND(Registration!$E87=\"n\",COUNTBLANK(E88)=0),placingpoints(E88,COUNTIF(E$3:E$101,\"=\"&E88)),\"\")","v":""},{"$f":"IF(Registration!$E87=\"n\",Accuracy!L87,\"\")","v":""},{"$f":"IF(AND(Registration!$E87=\"n\",COUNTBLANK(G88)=0),RANK(G88,G$3:G$102,0),\"\")","v":""},{"$f":"IF(AND(Registration!$E87=\"n\",COUNTBLANK(H88)=0),placingpoints(H88,COUNTIF(H$3:H$102,\"=\"&H88)),\"\")","v":""},{"$f":"IF(Registration!$E87=\"n\",MTA!G87,\"\")","v":""},{"$f":"IF(AND(Registration!$E87=\"n\",COUNTBLANK(J88)=0),RANK(J88,J$3:J$101,0),\"\")","v":""},{"$f":"IF(AND(Registration!$E87=\"n\",COUNTBLANK(K88)=0),placingpoints(K88,COUNTIF(K$3:K$101,\"=\"&K88)),\"\")","v":""},{"$f":"IF(Registration!$E87=\"n\",'Trick Catch'!X88,\"\")","v":""},{"$f":"IF(AND(Registration!$E87=\"n\",COUNTBLANK(M88)=0),RANK(M88,M$3:M$101,0),\"\")","v":""},{"$f":"IF(AND(Registration!$E87=\"n\",COUNTBLANK(N88)=0),placingpoints(N88,COUNTIF(N$3:N$101,\"=\"&N88)),\"\")","v":""},{"$f":"IF(Registration!$E87=\"n\",'Fast Catch'!F87,\"\")","v":""},{"$f":"IF(AND(Registration!$E87=\"n\",COUNTBLANK(P88)=0),RANK(P88,P$3:P$101,1),\"\")","v":""},{"$f":"IF(AND(Registration!$E87=\"n\",COUNTBLANK(Q88)=0),placingpoints(Q88,COUNTIF(Q$3:Q$101,\"=\"&Q88)),\"\")","v":""},{"$f":"IF(Registration!$E87=\"n\",Endurance!C87,\"\")","v":""},{"$f":"IF(AND(Registration!$E87=\"n\",COUNTBLANK(S88)=0),RANK(S88,S$3:S$101,0),\"\")","v":""},{"$f":"IF(AND(Registration!$E87=\"n\",COUNTBLANK(T88)=0),placingpoints(T88,COUNTIF(T$3:T$101,\"=\"&T88)),\"\")","v":""}]
[{"$f":"IF(Registration!E88=\"n\",RANK(B89,$B$3:$B$101,1),\"\")","v":""},{"$f":"IF(Registration!E88=\"n\",SUM(F89,I89,L89,O89,R89,U89),\"\")","v":""},{"$f":"IF(COUNTBLANK(Registration!B88)=1,\"\",IF(Registration!E88=\"n\",Registration!B88,\"\"))","v":""},{"$f":"IF(Registration!E88=\"n\",'Aussie Round'!V89,\"\")","v":""},{"$f":"IF(AND(Registration!$E88=\"n\",COUNTBLANK(D89)=0),RANK(D89,D$3:D$101,0),\"\")","v":""},{"$f":"IF(AND(Registration!$E88=\"n\",COUNTBLANK(E89)=0),placingpoints(E89,COUNTIF(E$3:E$101,\"=\"&E89)),\"\")","v":""},{"$f":"IF(Registration!$E88=\"n\",Accuracy!L88,\"\")","v":""},{"$f":"IF(AND(Registration!$E88=\"n\",COUNTBLANK(G89)=0),RANK(G89,G$3:G$102,0),\"\")","v":""},{"$f":"IF(AND(Registration!$E88=\"n\",COUNTBLANK(H89)=0),placingpoints(H89,COUNTIF(H$3:H$102,\"=\"&H89)),\"\")","v":""},{"$f":"IF(Registration!$E88=\"n\",MTA!G88,\"\")","v":""},{"$f":"IF(AND(Registration!$E88=\"n\",COUNTBLANK(J89)=0),RANK(J89,J$3:J$101,0),\"\")","v":""},{"$f":"IF(AND(Registration!$E88=\"n\",COUNTBLANK(K89)=0),placingpoints(K89,COUNTIF(K$3:K$101,\"=\"&K89)),\"\")","v":""},{"$f":"IF(Registration!$E88=\"n\",'Trick Catch'!X89,\"\")","v":""},{"$f":"IF(AND(Registration!$E88=\"n\",COUNTBLANK(M89)=0),RANK(M89,M$3:M$101,0),\"\")","v":""},{"$f":"IF(AND(Registration!$E88=\"n\",COUNTBLANK(N89)=0),placingpoints(N89,COUNTIF(N$3:N$101,\"=\"&N89)),\"\")","v":""},{"$f":"IF(Registration!$E88=\"n\",'Fast Catch'!F88,\"\")","v":""},{"$f":"IF(AND(Registration!$E88=\"n\",COUNTBLANK(P89)=0),RANK(P89,P$3:P$101,1),\"\")","v":""},{"$f":"IF(AND(Registration!$E88=\"n\",COUNTBLANK(Q89)=0),placingpoints(Q89,COUNTIF(Q$3:Q$101,\"=\"&Q89)),\"\")","v":""},{"$f":"IF(Registration!$E88=\"n\",Endurance!C88,\"\")","v":""},{"$f":"IF(AND(Registration!$E88=\"n\",COUNTBLANK(S89)=0),RANK(S89,S$3:S$101,0),\"\")","v":""},{"$f":"IF(AND(Registration!$E88=\"n\",COUNTBLANK(T89)=0),placingpoints(T89,COUNTIF(T$3:T$101,\"=\"&T89)),\"\")","v":""}]
[{"$f":"IF(Registration!E89=\"n\",RANK(B90,$B$3:$B$101,1),\"\")","v":""},{"$f":"IF(Registration!E89=\"n\",SUM(F90,I90,L90,O90,R90,U90),\"\")","v":""},{"$f":"IF(COUNTBLANK(Registration!B89)=1,\"\",IF(Registration!E89=\"n\",Registration!B89,\"\"))","v":""},{"$f":"IF(Registration!E89=\"n\",'Aussie Round'!V90,\"\")","v":""},{"$f":"IF(AND(Registration!$E89=\"n\",COUNTBLANK(D90)=0),RANK(D90,D$3:D$101,0),\"\")","v":""},{"$f":"IF(AND(Registration!$E89=\"n\",COUNTBLANK(E90)=0),placingpoints(E90,COUNTIF(E$3:E$101,\"=\"&E90)),\"\")","v":""},{"$f":"IF(Registration!$E89=\"n\",Accuracy!L89,\"\")","v":""},{"$f":"IF(AND(Registration!$E89=\"n\",COUNTBLANK(G90)=0),RANK(G90,G$3:G$102,0),\"\")","v":""},{"$f":"IF(AND(Registration!$E89=\"n\",COUNTBLANK(H90)=0),placingpoints(H90,COUNTIF(H$3:H$102,\"=\"&H90)),\"\")","v":""},{"$f":"IF(Registration!$E89=\"n\",MTA!G89,\"\")","v":""},{"$f":"IF(AND(Registration!$E89=\"n\",COUNTBLANK(J90)=0),RANK(J90,J$3:J$101,0),\"\")","v":""},{"$f":"IF(AND(Registration!$E89=\"n\",COUNTBLANK(K90)=0),placingpoints(K90,COUNTIF(K$3:K$101,\"=\"&K90)),\"\")","v":""},{"$f":"IF(Registration!$E89=\"n\",'Trick Catch'!X90,\"\")","v":""},{"$f":"IF(AND(Registration!$E89=\"n\",COUNTBLANK(M90)=0),RANK(M90,M$3:M$101,0),\"\")","v":""},{"$f":"IF(AND(Registration!$E89=\"n\",COUNTBLANK(N90)=0),placingpoints(N90,COUNTIF(N$3:N$101,\"=\"&N90)),\"\")","v":""},{"$f":"IF(Registration!$E89=\"n\",'Fast Catch'!F89,\"\")","v":""},{"$f":"IF(AND(Registration!$E89=\"n\",COUNTBLANK(P90)=0),RANK(P90,P$3:P$101,1),\"\")","v":""},{"$f":"IF(AND(Registration!$E89=\"n\",COUNTBLANK(Q90)=0),placingpoints(Q90,COUNTIF(Q$3:Q$101,\"=\"&Q90)),\"\")","v":""},{"$f":"IF(Registration!$E89=\"n\",Endurance!C89,\"\")","v":""},{"$f":"IF(AND(Registration!$E89=\"n\",COUNTBLANK(S90)=0),RANK(S90,S$3:S$101,0),\"\")","v":""},{"$f":"IF(AND(Registration!$E89=\"n\",COUNTBLANK(T90)=0),placingpoints(T90,COUNTIF(T$3:T$101,\"=\"&T90)),\"\")","v":""}]
[{"$f":"IF(Registration!E90=\"n\",RANK(B91,$B$3:$B$101,1),\"\")","v":""},{"$f":"IF(Registration!E90=\"n\",SUM(F91,I91,L91,O91,R91,U91),\"\")","v":""},{"$f":"IF(COUNTBLANK(Registration!B90)=1,\"\",IF(Registration!E90=\"n\",Registration!B90,\"\"))","v":""},{"$f":"IF(Registration!E90=\"n\",'Aussie Round'!V91,\"\")","v":""},{"$f":"IF(AND(Registration!$E90=\"n\",COUNTBLANK(D91)=0),RANK(D91,D$3:D$101,0),\"\")","v":""},{"$f":"IF(AND(Registration!$E90=\"n\",COUNTBLANK(E91)=0),placingpoints(E91,COUNTIF(E$3:E$101,\"=\"&E91)),\"\")","v":""},{"$f":"IF(Registration!$E90=\"n\",Accuracy!L90,\"\")","v":""},{"$f":"IF(AND(Registration!$E90=\"n\",COUNTBLANK(G91)=0),RANK(G91,G$3:G$102,0),\"\")","v":""},{"$f":"IF(AND(Registration!$E90=\"n\",COUNTBLANK(H91)=0),placingpoints(H91,COUNTIF(H$3:H$102,\"=\"&H91)),\"\")","v":""},{"$f":"IF(Registration!$E90=\"n\",MTA!G90,\"\")","v":""},{"$f":"IF(AND(Registration!$E90=\"n\",COUNTBLANK(J91)=0),RANK(J91,J$3:J$101,0),\"\")","v":""},{"$f":"IF(AND(Registration!$E90=\"n\",COUNTBLANK(K91)=0),placingpoints(K91,COUNTIF(K$3:K$101,\"=\"&K91)),\"\")","v":""},{"$f":"IF(Registration!$E90=\"n\",'Trick Catch'!X91,\"\")","v":""},{"$f":"IF(AND(Registration!$E90=\"n\",COUNTBLANK(M91)=0),RANK(M91,M$3:M$101,0),\"\")","v":""},{"$f":"IF(AND(Registration!$E90=\"n\",COUNTBLANK(N91)=0),placingpoints(N91,COUNTIF(N$3:N$101,\"=\"&N91)),\"\")","v":""},{"$f":"IF(Registration!$E90=\"n\",'Fast Catch'!F90,\"\")","v":""},{"$f":"IF(AND(Registration!$E90=\"n\",COUNTBLANK(P91)=0),RANK(P91,P$3:P$101,1),\"\")","v":""},{"$f":"IF(AND(Registration!$E90=\"n\",COUNTBLANK(Q91)=0),placingpoints(Q91,COUNTIF(Q$3:Q$101,\"=\"&Q91)),\"\")","v":""},{"$f":"IF(Registration!$E90=\"n\",Endurance!C90,\"\")","v":""},{"$f":"IF(AND(Registration!$E90=\"n\",COUNTBLANK(S91)=0),RANK(S91,S$3:S$101,0),\"\")","v":""},{"$f":"IF(AND(Registration!$E90=\"n\",COUNTBLANK(T91)=0),placingpoints(T91,COUNTIF(T$3:T$101,\"=\"&T91)),\"\")","v":""}]
[{"$f":"IF(Registration!E91=\"n\",RANK(B92,$B$3:$B$101,1),\"\")","v":""},{"$f":"IF(Registration!E91=\"n\",SUM(F92,I92,L92,O92,R92,U92),\"\")","v":""},{"$f":"IF(COUNTBLANK(Registration!B91)=1,\"\",IF(Registration!E91=\"n\",Registration!B91,\"\"))","v":""},{"$f":"IF(Registration!E91=\"n\",'Aussie Round'!V92,\"\")","v":""},{"$f":"IF(AND(Registration!$E91=\"n\",COUNTBLANK(D92)=0),RANK(D92,D$3:D$101,0),\"\")","v":""},{"$f":"IF(AND(Registration!$E91=\"n\",COUNTBLANK(E92)=0),placingpoints(E92,COUNTIF(E$3:E$101,\"=\"&E92)),\"\")","v":""},{"$f":"IF(Registration!$E91=\"n\",Accuracy!L91,\"\")","v":""},{"$f":"IF(AND(Registration!$E91=\"n\",COUNTBLANK(G92)=0),RANK(G92,G$3:G$102,0),\"\")","v":""},{"$f":"IF(AND(Registration!$E91=\"n\",COUNTBLANK(H92)=0),placingpoints(H92,COUNTIF(H$3:H$102,\"=\"&H92)),\"\")","v":""},{"$f":"IF(Registration!$E91=\"n\",MTA!G91,\"\")","v":""},{"$f":"IF(AND(Registration!$E91=\"n\",COUNTBLANK(J92)=0),RANK(J92,J$3:J$101,0),\"\")","v":""},{"$f":"IF(AND(Registration!$E91=\"n\",COUNTBLANK(K92)=0),placingpoints(K92,COUNTIF(K$3:K$101,\"=\"&K92)),\"\")","v":""},{"$f":"IF(Registration!$E91=\"n\",'Trick Catch'!X92,\"\")","v":""},{"$f":"IF(AND(Registration!$E91=\"n\",COUNTBLANK(M92)=0),RANK(M92,M$3:M$101,0),\"\")","v":""},{"$f":"IF(AND(Registration!$E91=\"n\",COUNTBLANK(N92)=0),placingpoints(N92,COUNTIF(N$3:N$101,\"=\"&N92)),\"\")","v":""},{"$f":"IF(Registration!$E91=\"n\",'Fast Catch'!F91,\"\")","v":""},{"$f":"IF(AND(Registration!$E91=\"n\",COUNTBLANK(P92)=0),RANK(P92,P$3:P$101,1),\"\")","v":""},{"$f":"IF(AND(Registration!$E91=\"n\",COUNTBLANK(Q92)=0),placingpoints(Q92,COUNTIF(Q$3:Q$101,\"=\"&Q92)),\"\")","v":""},{"$f":"IF(Registration!$E91=\"n\",Endurance!C91,\"\")","v":""},{"$f":"IF(AND(Registration!$E91=\"n\",COUNTBLANK(S92)=0),RANK(S92,S$3:S$101,0),\"\")","v":""},{"$f":"IF(AND(Registration!$E91=\"n\",COUNTBLANK(T92)=0),placingpoints(T92,COUNTIF(T$3:T$101,\"=\"&T92)),\"\")","v":""}]
[{"$f":"IF(Registration!E92=\"n\",RANK(B93,$B$3:$B$101,1),\"\")","v":""},{"$f":"IF(Registration!E92=\"n\",SUM(F93,I93,L93,O93,R93,U93),\"\")","v":""},{"$f":"IF(COUNTBLANK(Registration!B92)=1,\"\",IF(Registration!E92=\"n\",Registration!B92,\"\"))","v":""},{"$f":"IF(Registration!E92=\"n\",'Aussie Round'!V93,\"\")","v":""},{"$f":"IF(AND(Registration!$E92=\"n\",COUNTBLANK(D93)=0),RANK(D93,D$3:D$101,0),\"\")","v":""},{"$f":"IF(AND(Registration!$E92=\"n\",COUNTBLANK(E93)=0),placingpoints(E93,COUNTIF(E$3:E$101,\"=\"&E93)),\"\")","v":""},{"$f":"IF(Registration!$E92=\"n\",Accuracy!L92,\"\")","v":""},{"$f":"IF(AND(Registration!$E92=\"n\",COUNTBLANK(G93)=0),RANK(G93,G$3:G$102,0),\"\")","v":""},{"$f":"IF(AND(Registration!$E92=\"n\",COUNTBLANK(H93)=0),placingpoints(H93,COUNTIF(H$3:H$102,\"=\"&H93)),\"\")","v":""},{"$f":"IF(Registration!$E92=\"n\",MTA!G92,\"\")","v":""},{"$f":"IF(AND(Registration!$E92=\"n\",COUNTBLANK(J93)=0),RANK(J93,J$3:J$101,0),\"\")","v":""},{"$f":"IF(AND(Registration!$E92=\"n\",COUNTBLANK(K93)=0),placingpoints(K93,COUNTIF(K$3:K$101,\"=\"&K93)),\"\")","v":""},{"$f":"IF(Registration!$E92=\"n\",'Trick Catch'!X93,\"\")","v":""},{"$f":"IF(AND(Registration!$E92=\"n\",COUNTBLANK(M93)=0),RANK(M93,M$3:M$101,0),\"\")","v":""},{"$f":"IF(AND(Registration!$E92=\"n\",COUNTBLANK(N93)=0),placingpoints(N93,COUNTIF(N$3:N$101,\"=\"&N93)),\"\")","v":""},{"$f":"IF(Registration!$E92=\"n\",'Fast Catch'!F92,\"\")","v":""},{"$f":"IF(AND(Registration!$E92=\"n\",COUNTBLANK(P93)=0),RANK(P93,P$3:P$101,1),\"\")","v":""},{"$f":"IF(AND(Registration!$E92=\"n\",COUNTBLANK(Q93)=0),placingpoints(Q93,COUNTIF(Q$3:Q$101,\"=\"&Q93)),\"\")","v":""},{"$f":"IF(Registration!$E92=\"n\",Endurance!C92,\"\")","v":""},{"$f":"IF(AND(Registration!$E92=\"n\",COUNTBLANK(S93)=0),RANK(S93,S$3:S$101,0),\"\")","v":""},{"$f":"IF(AND(Registration!$E92=\"n\",COUNTBLANK(T93)=0),placingpoints(T93,COUNTIF(T$3:T$101,\"=\"&T93)),\"\")","v":""}]
[{"$f":"IF(Registration!E93=\"n\",RANK(B94,$B$3:$B$101,1),\"\")","v":""},{"$f":"IF(Registration!E93=\"n\",SUM(F94,I94,L94,O94,R94,U94),\"\")","v":""},{"$f":"IF(COUNTBLANK(Registration!B93)=1,\"\",IF(Registration!E93=\"n\",Registration!B93,\"\"))","v":""},{"$f":"IF(Registration!E93=\"n\",'Aussie Round'!V94,\"\")","v":""},{"$f":"IF(AND(Registration!$E93=\"n\",COUNTBLANK(D94)=0),RANK(D94,D$3:D$101,0),\"\")","v":""},{"$f":"IF(AND(Registration!$E93=\"n\",COUNTBLANK(E94)=0),placingpoints(E94,COUNTIF(E$3:E$101,\"=\"&E94)),\"\")","v":""},{"$f":"IF(Registration!$E93=\"n\",Accuracy!L93,\"\")","v":""},{"$f":"IF(AND(Registration!$E93=\"n\",COUNTBLANK(G94)=0),RANK(G94,G$3:G$102,0),\"\")","v":""},{"$f":"IF(AND(Registration!$E93=\"n\",COUNTBLANK(H94)=0),placingpoints(H94,COUNTIF(H$3:H$102,\"=\"&H94)),\"\")","v":""},{"$f":"IF(Registration!$E93=\"n\",MTA!G93,\"\")","v":""},{"$f":"IF(AND(Registration!$E93=\"n\",COUNTBLANK(J94)=0),RANK(J94,J$3:J$101,0),\"\")","v":""},{"$f":"IF(AND(Registration!$E93=\"n\",COUNTBLANK(K94)=0),placingpoints(K94,COUNTIF(K$3:K$101,\"=\"&K94)),\"\")","v":""},{"$f":"IF(Registration!$E93=\"n\",'Trick Catch'!X94,\"\")","v":""},{"$f":"IF(AND(Registration!$E93=\"n\",COUNTBLANK(M94)=0),RANK(M94,M$3:M$101,0),\"\")","v":""},{"$f":"IF(AND(Registration!$E93=\"n\",COUNTBLANK(N94)=0),placingpoints(N94,COUNTIF(N$3:N$101,\"=\"&N94)),\"\")","v":""},{"$f":"IF(Registration!$E93=\"n\",'Fast Catch'!F93,\"\")","v":""},{"$f":"IF(AND(Registration!$E93=\"n\",COUNTBLANK(P94)=0),RANK(P94,P$3:P$101,1),\"\")","v":""},{"$f":"IF(AND(Registration!$E93=\"n\",COUNTBLANK(Q94)=0),placingpoints(Q94,COUNTIF(Q$3:Q$101,\"=\"&Q94)),\"\")","v":""},{"$f":"IF(Registration!$E93=\"n\",Endurance!C93,\"\")","v":""},{"$f":"IF(AND(Registration!$E93=\"n\",COUNTBLANK(S94)=0),RANK(S94,S$3:S$101,0),\"\")","v":""},{"$f":"IF(AND(Registration!$E93=\"n\",COUNTBLANK(T94)=0),placingpoints(T94,COUNTIF(T$3:T$101,\"=\"&T94)),\"\")","v":""}]
[{"$f":"IF(Registration!E94=\"n\",RANK(B95,$B$3:$B$101,1),\"\")","v":""},{"$f":"IF(Registration!E94=\"n\",SUM(F95,I95,L95,O95,R95,U95),\"\")","v":""},{"$f":"IF(COUNTBLANK(Registration!B94)=1,\"\",IF(Registration!E94=\"n\",Registration!B94,\"\"))","v":""},{"$f":"IF(Registration!E94=\"n\",'Aussie Round'!V95,\"\")","v":""},{"$f":"IF(AND(Registration!$E94=\"n\",COUNTBLANK(D95)=0),RANK(D95,D$3:D$101,0),\"\")","v":""},{"$f":"IF(AND(Registration!$E94=\"n\",COUNTBLANK(E95)=0),placingpoints(E95,COUNTIF(E$3:E$101,\"=\"&E95)),\"\")","v":""},{"$f":"IF(Registration!$E94=\"n\",Accuracy!L94,\"\")","v":""},{"$f":"IF(AND(Registration!$E94=\"n\",COUNTBLANK(G95)=0),RANK(G95,G$3:G$102,0),\"\")","v":""},{"$f":"IF(AND(Registration!$E94=\"n\",COUNTBLANK(H95)=0),placingpoints(H95,COUNTIF(H$3:H$102,\"=\"&H95)),\"\")","v":""},{"$f":"IF(Registration!$E94=\"n\",MTA!G94,\"\")","v":""},{"$f":"IF(AND(Registration!$E94=\"n\",COUNTBLANK(J95)=0),RANK(J95,J$3:J$101,0),\"\")","v":""},{"$f":"IF(AND(Registration!$E94=\"n\",COUNTBLANK(K95)=0),placingpoints(K95,COUNTIF(K$3:K$101,\"=\"&K95)),\"\")","v":""},{"$f":"IF(Registration!$E94=\"n\",'Trick Catch'!X95,\"\")","v":""},{"$f":"IF(AND(Registration!$E94=\"n\",COUNTBLANK(M95)=0),RANK(M95,M$3:M$101,0),\"\")","v":""},{"$f":"IF(AND(Registration!$E94=\"n\",COUNTBLANK(N95)=0),placingpoints(N95,COUNTIF(N$3:N$101,\"=\"&N95)),\"\")","v":""},{"$f":"IF(Registration!$E94=\"n\",'Fast Catch'!F94,\"\")","v":""},{"$f":"IF(AND(Registration!$E94=\"n\",COUNTBLANK(P95)=0),RANK(P95,P$3:P$101,1),\"\")","v":""},{"$f":"IF(AND(Registration!$E94=\"n\",COUNTBLANK(Q95)=0),placingpoints(Q95,COUNTIF(Q$3:Q$101,\"=\"&Q95)),\"\")","v":""},{"$f":"IF(Registration!$E94=\"n\",Endurance!C94,\"\")","v":""},{"$f":"IF(AND(Registration!$E94=\"n\",COUNTBLANK(S95)=0),RANK(S95,S$3:S$101,0),\"\")","v":""},{"$f":"IF(AND(Registration!$E94=\"n\",COUNTBLANK(T95)=0),placingpoints(T95,COUNTIF(T$3:T$101,\"=\"&T95)),\"\")","v":""}]
[{"$f":"IF(Registration!E95=\"n\",RANK(B96,$B$3:$B$101,1),\"\")","v":""},{"$f":"IF(Registration!E95=\"n\",SUM(F96,I96,L96,O96,R96,U96),\"\")","v":""},{"$f":"IF(COUNTBLANK(Registration!B95)=1,\"\",IF(Registration!E95=\"n\",Registration!B95,\"\"))","v":""},{"$f":"IF(Registration!E95=\"n\",'Aussie Round'!V96,\"\")","v":""},{"$f":"IF(AND(Registration!$E95=\"n\",COUNTBLANK(D96)=0),RANK(D96,D$3:D$101,0),\"\")","v":""},{"$f":"IF(AND(Registration!$E95=\"n\",COUNTBLANK(E96)=0),placingpoints(E96,COUNTIF(E$3:E$101,\"=\"&E96)),\"\")","v":""},{"$f":"IF(Registration!$E95=\"n\",Accuracy!L95,\"\")","v":""},{"$f":"IF(AND(Registration!$E95=\"n\",COUNTBLANK(G96)=0),RANK(G96,G$3:G$102,0),\"\")","v":""},{"$f":"IF(AND(Registration!$E95=\"n\",COUNTBLANK(H96)=0),placingpoints(H96,COUNTIF(H$3:H$102,\"=\"&H96)),\"\")","v":""},{"$f":"IF(Registration!$E95=\"n\",MTA!G95,\"\")","v":""},{"$f":"IF(AND(Registration!$E95=\"n\",COUNTBLANK(J96)=0),RANK(J96,J$3:J$101,0),\"\")","v":""},{"$f":"IF(AND(Registration!$E95=\"n\",COUNTBLANK(K96)=0),placingpoints(K96,COUNTIF(K$3:K$101,\"=\"&K96)),\"\")","v":""},{"$f":"IF(Registration!$E95=\"n\",'Trick Catch'!X96,\"\")","v":""},{"$f":"IF(AND(Registration!$E95=\"n\",COUNTBLANK(M96)=0),RANK(M96,M$3:M$101,0),\"\")","v":""},{"$f":"IF(AND(Registration!$E95=\"n\",COUNTBLANK(N96)=0),placingpoints(N96,COUNTIF(N$3:N$101,\"=\"&N96)),\"\")","v":""},{"$f":"IF(Registration!$E95=\"n\",'Fast Catch'!F95,\"\")","v":""},{"$f":"IF(AND(Registration!$E95=\"n\",COUNTBLANK(P96)=0),RANK(P96,P$3:P$101,1),\"\")","v":""},{"$f":"IF(AND(Registration!$E95=\"n\",COUNTBLANK(Q96)=0),placingpoints(Q96,COUNTIF(Q$3:Q$101,\"=\"&Q96)),\"\")","v":""},{"$f":"IF(Registration!$E95=\"n\",Endurance!C95,\"\")","v":""},{"$f":"IF(AND(Registration!$E95=\"n\",COUNTBLANK(S96)=0),RANK(S96,S$3:S$101,0),\"\")","v":""},{"$f":"IF(AND(Registration!$E95=\"n\",COUNTBLANK(T96)=0),placingpoints(T96,COUNTIF(T$3:T$101,\"=\"&T96)),\"\")","v":""}]
[{"$f":"IF(Registration!E96=\"n\",RANK(B97,$B$3:$B$101,1),\"\")","v":""},{"$f":"IF(Registration!E96=\"n\",SUM(F97,I97,L97,O97,R97,U97),\"\")","v":""},{"$f":"IF(COUNTBLANK(Registration!B96)=1,\"\",IF(Registration!E96=\"n\",Registration!B96,\"\"))","v":""},{"$f":"IF(Registration!E96=\"n\",'Aussie Round'!V97,\"\")","v":""},{"$f":"IF(AND(Registration!$E96=\"n\",COUNTBLANK(D97)=0),RANK(D97,D$3:D$101,0),\"\")","v":""},{"$f":"IF(AND(Registration!$E96=\"n\",COUNTBLANK(E97)=0),placingpoints(E97,COUNTIF(E$3:E$101,\"=\"&E97)),\"\")","v":""},{"$f":"IF(Registration!$E96=\"n\",Accuracy!L96,\"\")","v":""},{"$f":"IF(AND(Registration!$E96=\"n\",COUNTBLANK(G97)=0),RANK(G97,G$3:G$102,0),\"\")","v":""},{"$f":"IF(AND(Registration!$E96=\"n\",COUNTBLANK(H97)=0),placingpoints(H97,COUNTIF(H$3:H$102,\"=\"&H97)),\"\")","v":""},{"$f":"IF(Registration!$E96=\"n\",MTA!G96,\"\")","v":""},{"$f":"IF(AND(Registration!$E96=\"n\",COUNTBLANK(J97)=0),RANK(J97,J$3:J$101,0),\"\")","v":""},{"$f":"IF(AND(Registration!$E96=\"n\",COUNTBLANK(K97)=0),placingpoints(K97,COUNTIF(K$3:K$101,\"=\"&K97)),\"\")","v":""},{"$f":"IF(Registration!$E96=\"n\",'Trick Catch'!X97,\"\")","v":""},{"$f":"IF(AND(Registration!$E96=\"n\",COUNTBLANK(M97)=0),RANK(M97,M$3:M$101,0),\"\")","v":""},{"$f":"IF(AND(Registration!$E96=\"n\",COUNTBLANK(N97)=0),placingpoints(N97,COUNTIF(N$3:N$101,\"=\"&N97)),\"\")","v":""},{"$f":"IF(Registration!$E96=\"n\",'Fast Catch'!F96,\"\")","v":""},{"$f":"IF(AND(Registration!$E96=\"n\",COUNTBLANK(P97)=0),RANK(P97,P$3:P$101,1),\"\")","v":""},{"$f":"IF(AND(Registration!$E96=\"n\",COUNTBLANK(Q97)=0),placingpoints(Q97,COUNTIF(Q$3:Q$101,\"=\"&Q97)),\"\")","v":""},{"$f":"IF(Registration!$E96=\"n\",Endurance!C96,\"\")","v":""},{"$f":"IF(AND(Registration!$E96=\"n\",COUNTBLANK(S97)=0),RANK(S97,S$3:S$101,0),\"\")","v":""},{"$f":"IF(AND(Registration!$E96=\"n\",COUNTBLANK(T97)=0),placingpoints(T97,COUNTIF(T$3:T$101,\"=\"&T97)),\"\")","v":""}]
[{"$f":"IF(Registration!E97=\"n\",RANK(B98,$B$3:$B$101,1),\"\")","v":""},{"$f":"IF(Registration!E97=\"n\",SUM(F98,I98,L98,O98,R98,U98),\"\")","v":""},{"$f":"IF(COUNTBLANK(Registration!B97)=1,\"\",IF(Registration!E97=\"n\",Registration!B97,\"\"))","v":""},{"$f":"IF(Registration!E97=\"n\",'Aussie Round'!V98,\"\")","v":""},{"$f":"IF(AND(Registration!$E97=\"n\",COUNTBLANK(D98)=0),RANK(D98,D$3:D$101,0),\"\")","v":""},{"$f":"IF(AND(Registration!$E97=\"n\",COUNTBLANK(E98)=0),placingpoints(E98,COUNTIF(E$3:E$101,\"=\"&E98)),\"\")","v":""},{"$f":"IF(Registration!$E97=\"n\",Accuracy!L97,\"\")","v":""},{"$f":"IF(AND(Registration!$E97=\"n\",COUNTBLANK(G98)=0),RANK(G98,G$3:G$102,0),\"\")","v":""},{"$f":"IF(AND(Registration!$E97=\"n\",COUNTBLANK(H98)=0),placingpoints(H98,COUNTIF(H$3:H$102,\"=\"&H98)),\"\")","v":""},{"$f":"IF(Registration!$E97=\"n\",MTA!G97,\"\")","v":""},{"$f":"IF(AND(Registration!$E97=\"n\",COUNTBLANK(J98)=0),RANK(J98,J$3:J$101,0),\"\")","v":""},{"$f":"IF(AND(Registration!$E97=\"n\",COUNTBLANK(K98)=0),placingpoints(K98,COUNTIF(K$3:K$101,\"=\"&K98)),\"\")","v":""},{"$f":"IF(Registration!$E97=\"n\",'Trick Catch'!X98,\"\")","v":""},{"$f":"IF(AND(Registration!$E97=\"n\",COUNTBLANK(M98)=0),RANK(M98,M$3:M$101,0),\"\")","v":""},{"$f":"IF(AND(Registration!$E97=\"n\",COUNTBLANK(N98)=0),placingpoints(N98,COUNTIF(N$3:N$101,\"=\"&N98)),\"\")","v":""},{"$f":"IF(Registration!$E97=\"n\",'Fast Catch'!F97,\"\")","v":""},{"$f":"IF(AND(Registration!$E97=\"n\",COUNTBLANK(P98)=0),RANK(P98,P$3:P$101,1),\"\")","v":""},{"$f":"IF(AND(Registration!$E97=\"n\",COUNTBLANK(Q98)=0),placingpoints(Q98,COUNTIF(Q$3:Q$101,\"=\"&Q98)),\"\")","v":""},{"$f":"IF(Registration!$E97=\"n\",Endurance!C97,\"\")","v":""},{"$f":"IF(AND(Registration!$E97=\"n\",COUNTBLANK(S98)=0),RANK(S98,S$3:S$101,0),\"\")","v":""},{"$f":"IF(AND(Registration!$E97=\"n\",COUNTBLANK(T98)=0),placingpoints(T98,COUNTIF(T$3:T$101,\"=\"&T98)),\"\")","v":""}]
[{"$f":"IF(Registration!E98=\"n\",RANK(B99,$B$3:$B$101,1),\"\")","v":""},{"$f":"IF(Registration!E98=\"n\",SUM(F99,I99,L99,O99,R99,U99),\"\")","v":""},{"$f":"IF(COUNTBLANK(Registration!B98)=1,\"\",IF(Registration!E98=\"n\",Registration!B98,\"\"))","v":""},{"$f":"IF(Registration!E98=\"n\",'Aussie Round'!V99,\"\")","v":""},{"$f":"IF(AND(Registration!$E98=\"n\",COUNTBLANK(D99)=0),RANK(D99,D$3:D$101,0),\"\")","v":""},{"$f":"IF(AND(Registration!$E98=\"n\",COUNTBLANK(E99)=0),placingpoints(E99,COUNTIF(E$3:E$101,\"=\"&E99)),\"\")","v":""},{"$f":"IF(Registration!$E98=\"n\",Accuracy!L98,\"\")","v":""},{"$f":"IF(AND(Registration!$E98=\"n\",COUNTBLANK(G99)=0),RANK(G99,G$3:G$102,0),\"\")","v":""},{"$f":"IF(AND(Registration!$E98=\"n\",COUNTBLANK(H99)=0),placingpoints(H99,COUNTIF(H$3:H$102,\"=\"&H99)),\"\")","v":""},{"$f":"IF(Registration!$E98=\"n\",MTA!G98,\"\")","v":""},{"$f":"IF(AND(Registration!$E98=\"n\",COUNTBLANK(J99)=0),RANK(J99,J$3:J$101,0),\"\")","v":""},{"$f":"IF(AND(Registration!$E98=\"n\",COUNTBLANK(K99)=0),placingpoints(K99,COUNTIF(K$3:K$101,\"=\"&K99)),\"\")","v":""},{"$f":"IF(Registration!$E98=\"n\",'Trick Catch'!X99,\"\")","v":""},{"$f":"IF(AND(Registration!$E98=\"n\",COUNTBLANK(M99)=0),RANK(M99,M$3:M$101,0),\"\")","v":""},{"$f":"IF(AND(Registration!$E98=\"n\",COUNTBLANK(N99)=0),placingpoints(N99,COUNTIF(N$3:N$101,\"=\"&N99)),\"\")","v":""},{"$f":"IF(Registration!$E98=\"n\",'Fast Catch'!F98,\"\")","v":""},{"$f":"IF(AND(Registration!$E98=\"n\",COUNTBLANK(P99)=0),RANK(P99,P$3:P$101,1),\"\")","v":""},{"$f":"IF(AND(Registration!$E98=\"n\",COUNTBLANK(Q99)=0),placingpoints(Q99,COUNTIF(Q$3:Q$101,\"=\"&Q99)),\"\")","v":""},{"$f":"IF(Registration!$E98=\"n\",Endurance!C98,\"\")","v":""},{"$f":"IF(AND(Registration!$E98=\"n\",COUNTBLANK(S99)=0),RANK(S99,S$3:S$101,0),\"\")","v":""},{"$f":"IF(AND(Registration!$E98=\"n\",COUNTBLANK(T99)=0),placingpoints(T99,COUNTIF(T$3:T$101,\"=\"&T99)),\"\")","v":""}]
[{"$f":"IF(Registration!E99=\"n\",RANK(B100,$B$3:$B$101,1),\"\")","v":""},{"$f":"IF(Registration!E99=\"n\",SUM(F100,I100,L100,O100,R100,U100),\"\")","v":""},{"$f":"IF(COUNTBLANK(Registration!B99)=1,\"\",IF(Registration!E99=\"n\",Registration!B99,\"\"))","v":""},{"$f":"IF(Registration!E99=\"n\",'Aussie Round'!V101,\"\")","v":""},{"$f":"IF(AND(Registration!$E99=\"n\",COUNTBLANK(D100)=0),RANK(D100,D$3:D$101,0),\"\")","v":""},{"$f":"IF(AND(Registration!$E99=\"n\",COUNTBLANK(E100)=0),placingpoints(E100,COUNTIF(E$3:E$101,\"=\"&E100)),\"\")","v":""},{"$f":"IF(Registration!$E99=\"n\",Accuracy!L99,\"\")","v":""},{"$f":"IF(AND(Registration!$E99=\"n\",COUNTBLANK(G100)=0),RANK(G100,G$3:G$102,0),\"\")","v":""},{"$f":"IF(AND(Registration!$E99=\"n\",COUNTBLANK(H100)=0),placingpoints(H100,COUNTIF(H$3:H$102,\"=\"&H100)),\"\")","v":""},{"$f":"IF(Registration!$E99=\"n\",MTA!G99,\"\")","v":""},{"$f":"IF(AND(Registration!$E99=\"n\",COUNTBLANK(J100)=0),RANK(J100,J$3:J$101,0),\"\")","v":""},{"$f":"IF(AND(Registration!$E99=\"n\",COUNTBLANK(K100)=0),placingpoints(K100,COUNTIF(K$3:K$101,\"=\"&K100)),\"\")","v":""},{"$f":"IF(Registration!$E99=\"n\",'Trick Catch'!X100,\"\")","v":""},{"$f":"IF(AND(Registration!$E99=\"n\",COUNTBLANK(M100)=0),RANK(M100,M$3:M$101,0),\"\")","v":""},{"$f":"IF(AND(Registration!$E99=\"n\",COUNTBLANK(N100)=0),placingpoints(N100,COUNTIF(N$3:N$101,\"=\"&N100)),\"\")","v":""},{"$f":"IF(Registration!$E99=\"n\",'Fast Catch'!F99,\"\")","v":""},{"$f":"IF(AND(Registration!$E99=\"n\",COUNTBLANK(P100)=0),RANK(P100,P$3:P$101,1),\"\")","v":""},{"$f":"IF(AND(Registration!$E99=\"n\",COUNTBLANK(Q100)=0),placingpoints(Q100,COUNTIF(Q$3:Q$101,\"=\"&Q100)),\"\")","v":""},{"$f":"IF(Registration!$E99=\"n\",Endurance!C99,\"\")","v":""},{"$f":"IF(AND(Registration!$E99=\"n\",COUNTBLANK(S100)=0),RANK(S100,S$3:S$101,0),\"\")","v":""},{"$f":"IF(AND(Registration!$E99=\"n\",COUNTBLANK(T100)=0),placingpoints(T100,COUNTIF(T$3:T$101,\"=\"&T100)),\"\")","v":""}]
[{"$f":"IF(Registration!E100=\"n\",RANK(B101,$B$3:$B$101,1),\"\")","v":""},{"$f":"IF(Registration!E100=\"n\",SUM(F101,I101,L101,O101,R101,U101),\"\")","v":""},{"$f":"IF(COUNTBLANK(Registration!B100)=1,\"\",IF(Registration!E100=\"n\",Registration!B100,\"\"))","v":""},{"$f":"IF(Registration!E100=\"n\",'Aussie Round'!V102,\"\")","v":""},{"$f":"IF(AND(Registration!$E100=\"n\",COUNTBLANK(D101)=0),RANK(D101,D$3:D$101,0),\"\")","v":""},{"$f":"IF(AND(Registration!$E100=\"n\",COUNTBLANK(E101)=0),placingpoints(E101,COUNTIF(E$3:E$101,\"=\"&E101)),\"\")","v":""},{"$f":"IF(Registration!$E100=\"n\",Accuracy!L100,\"\")","v":""},{"$f":"IF(AND(Registration!$E100=\"n\",COUNTBLANK(G101)=0),RANK(G101,G$3:G$102,0),\"\")","v":""},{"$f":"IF(AND(Registration!$E100=\"n\",COUNTBLANK(H101)=0),placingpoints(H101,COUNTIF(H$3:H$102,\"=\"&H101)),\"\")","v":""},{"$f":"IF(Registration!$E100=\"n\",MTA!G100,\"\")","v":""},{"$f":"IF(AND(Registration!$E100=\"n\",COUNTBLANK(J101)=0),RANK(J101,J$3:J$101,0),\"\")","v":""},{"$f":"IF(AND(Registration!$E100=\"n\",COUNTBLANK(K101)=0),placingpoints(K101,COUNTIF(K$3:K$101,\"=\"&K101)),\"\")","v":""},{"$f":"IF(Registration!$E100=\"n\",'Trick Catch'!X101,\"\")","v":""},{"$f":"IF(AND(Registration!$E100=\"n\",COUNTBLANK(M101)=0),RANK(M101,M$3:M$101,0),\"\")","v":""},{"$f":"IF(AND(Registration!$E100=\"n\",COUNTBLANK(N101)=0),placingpoints(N101,COUNTIF(N$3:N$101,\"=\"&N101)),\"\")","v":""},{"$f":"IF(Registration!$E100=\"n\",'Fast Catch'!F100,\"\")","v":""},{"$f":"IF(AND(Registration!$E100=\"n\",COUNTBLANK(P101)=0),RANK(P101,P$3:P$101,1),\"\")","v":""},{"$f":"IF(AND(Registration!$E100=\"n\",COUNTBLANK(Q101)=0),placingpoints(Q101,COUNTIF(Q$3:Q$101,\"=\"&Q101)),\"\")","v":""},{"$f":"IF(Registration!$E100=\"n\",Endurance!C100,\"\")","v":""},{"$f":"IF(AND(Registration!$E100=\"n\",COUNTBLANK(S101)=0),RANK(S101,S$3:S$101,0),\"\")","v":""},{"$f":"IF(AND(Registration!$E100=\"n\",COUNTBLANK(T101)=0),placingpoints(T101,COUNTIF(T$3:T$101,\"=\"&T101)),\"\")","v":""}]

{"sheet":"Senior Score Sheet","index":11,"n_rows":101,"n_cols":21,"rows_kept":101,"cut":false,"hidden":false,"merged":[[0,0,0,1],[0,15,0,17],[0,18,0,20],[0,3,0,5],[0,9,0,11],[0,12,0,14],[0,6,0,8]]}
["Final",null,{"$f":"Registration!B1","v":"Name"},"Aussie Round",null,null,"Accuracy",null,null,"MTA",null,null,"Trick Catch",null,null,"Fast Catch",null,null,"Endurance"]
["Place","Score",null,"Score","Place","Points","Score","Place","Points","Score","Place","Points","Score","Place","Points","Score","Place","Points","Score","Place","Points"]
[{"$f":"IF(Registration!E2=\"SR\",RANK(B3,$B$3:$B$101,1),\"\")","v":""},{"$f":"IF(Registration!E2=\"SR\",SUM(F3,I3,L3,O3,R3,U3),\"\")","v":""},{"$f":"IF(COUNTBLANK(Registration!B2)=1,\"\",IF(Registration!E2=\"SR\",Registration!B2,\"\"))","v":""},{"$f":"IF(Registration!E2=\"SR\",'Aussie Round'!V3,\"\")","v":""},{"$f":"IF(AND(Registration!E2=\"SR\",COUNTBLANK(D3)=0),RANK(D3,D$3:D$101,0),\"\")","v":""},{"$f":"IF(AND(Registration!$E2=\"SR\",COUNTBLANK(E3)=0),placingpoints(E3,COUNTIF(E$3:E$101,\"=\"&E3)),\"\")","v":""},{"$f":"IF(Registration!$E2=\"SR\",Accuracy!L2,\"\")","v":""},{"$f":"IF(AND(Registration!$E2=\"SR\",COUNTBLANK(G3)=0),RANK(G3,G$3:G$102,0),\"\")","v":""},{"$f":"IF(AND(Registration!$E2=\"SR\",COUNTBLANK(H3)=0),placingpoints(H3,COUNTIF(H$3:H$102,\"=\"&H3)),\"\")","v":""},{"$f":"IF(Registration!E2=\"SR\",MTA!G2,\"\")","v":""},{"$f":"IF(AND(Registration!E2=\"SR\",COUNTBLANK(J3)=0),RANK(J3,J$3:J$101,0),\"\")","v":""},{"$f":"IF(AND(Registration!$E2=\"SR\",COUNTBLANK(K3)=0),placingpoints(K3,COUNTIF(K$3:K$101,\"=\"&K3)),\"\")","v":""},{"$f":"IF(Registration!E2=\"SR\",'Trick Catch'!X3,\"\")","v":""},{"$f":"IF(AND(Registration!E2=\"SR\",COUNTBLANK(M3)=0),RANK(M3,M$3:M$101,0),\"\")","v":""},{"$f":"IF(AND(Registration!$E2=\"SR\",COUNTBLANK(N3)=0),placingpoints(N3,COUNTIF(N$3:N$101,\"=\"&N3)),\"\")","v":""},{"$f":"IF(Registration!E2=\"SR\",'Fast Catch'!F2,\"\")","v":""},{"$f":"IF(AND(Registration!E2=\"SR\",COUNTBLANK(P3)=0),RANK(P3,P$3:P$101,1),\"\")","v":""},{"$f":"IF(AND(Registration!$E2=\"SR\",COUNTBLANK(Q3)=0),placingpoints(Q3,COUNTIF(Q$3:Q$101,\"=\"&Q3)),\"\")","v":""},{"$f":"IF(Registration!E2=\"SR\",Endurance!C2,\"\")","v":""},{"$f":"IF(AND(Registration!E2=\"SR\",COUNTBLANK(S3)=0),RANK(S3,S$3:S$101,0),\"\")","v":""},{"$f":"IF(AND(Registration!$E2=\"SR\",COUNTBLANK(T3)=0),placingpoints(T3,COUNTIF(T$3:T$101,\"=\"&T3)),\"\")","v":""}]
[{"$f":"IF(Registration!E3=\"SR\",RANK(B4,$B$3:$B$101,1),\"\")","v":""},{"$f":"IF(Registration!E3=\"SR\",SUM(F4,I4,L4,O4,R4,U4),\"\")","v":""},{"$f":"IF(COUNTBLANK(Registration!B3)=1,\"\",IF(Registration!E3=\"SR\",Registration!B3,\"\"))","v":""},{"$f":"IF(Registration!E3=\"SR\",'Aussie Round'!V4,\"\")","v":""},{"$f":"IF(AND(Registration!E3=\"SR\",COUNTBLANK(D4)=0),RANK(D4,D$3:D$101,0),\"\")","v":""},{"$f":"IF(AND(Registration!$E3=\"SR\",COUNTBLANK(E4)=0),placingpoints(E4,COUNTIF(E$3:E$101,\"=\"&E4)),\"\")","v":""},{"$f":"IF(Registration!$E3=\"SR\",Accuracy!L3,\"\")","v":""},{"$f":"IF(AND(Registration!$E3=\"SR\",COUNTBLANK(G4)=0),RANK(G4,G$3:G$102,0),\"\")","v":""},{"$f":"IF(AND(Registration!$E3=\"SR\",COUNTBLANK(H4)=0),placingpoints(H4,COUNTIF(H$3:H$102,\"=\"&H4)),\"\")","v":""},{"$f":"IF(Registration!E3=\"SR\",MTA!G3,\"\")","v":""},{"$f":"IF(AND(Registration!E3=\"SR\",COUNTBLANK(J4)=0),RANK(J4,J$3:J$101,0),\"\")","v":""},{"$f":"IF(AND(Registration!$E3=\"SR\",COUNTBLANK(K4)=0),placingpoints(K4,COUNTIF(K$3:K$101,\"=\"&K4)),\"\")","v":""},{"$f":"IF(Registration!E3=\"SR\",'Trick Catch'!X4,\"\")","v":""},{"$f":"IF(AND(Registration!E3=\"SR\",COUNTBLANK(M4)=0),RANK(M4,M$3:M$101,0),\"\")","v":""},{"$f":"IF(AND(Registration!$E3=\"SR\",COUNTBLANK(N4)=0),placingpoints(N4,COUNTIF(N$3:N$101,\"=\"&N4)),\"\")","v":""},{"$f":"IF(Registration!E3=\"SR\",'Fast Catch'!F3,\"\")","v":""},{"$f":"IF(AND(Registration!E3=\"SR\",COUNTBLANK(P4)=0),RANK(P4,P$3:P$101,1),\"\")","v":""},{"$f":"IF(AND(Registration!$E3=\"SR\",COUNTBLANK(Q4)=0),placingpoints(Q4,COUNTIF(Q$3:Q$101,\"=\"&Q4)),\"\")","v":""},{"$f":"IF(Registration!E3=\"SR\",Endurance!C3,\"\")","v":""},{"$f":"IF(AND(Registration!E3=\"SR\",COUNTBLANK(S4)=0),RANK(S4,S$3:S$101,0),\"\")","v":""},{"$f":"IF(AND(Registration!$E3=\"SR\",COUNTBLANK(T4)=0),placingpoints(T4,COUNTIF(T$3:T$101,\"=\"&T4)),\"\")","v":""}]
[{"$f":"IF(Registration!E4=\"SR\",RANK(B5,$B$3:$B$101,1),\"\")","v":""},{"$f":"IF(Registration!E4=\"SR\",SUM(F5,I5,L5,O5,R5,U5),\"\")","v":""},{"$f":"IF(COUNTBLANK(Registration!B4)=1,\"\",IF(Registration!E4=\"SR\",Registration!B4,\"\"))","v":""},{"$f":"IF(Registration!E4=\"SR\",'Aussie Round'!V5,\"\")","v":""},{"$f":"IF(AND(Registration!E4=\"SR\",COUNTBLANK(D5)=0),RANK(D5,D$3:D$101,0),\"\")","v":""},{"$f":"IF(AND(Registration!$E4=\"SR\",COUNTBLANK(E5)=0),placingpoints(E5,COUNTIF(E$3:E$101,\"=\"&E5)),\"\")","v":""},{"$f":"IF(Registration!$E4=\"SR\",Accuracy!L4,\"\")","v":""},{"$f":"IF(AND(Registration!$E4=\"SR\",COUNTBLANK(G5)=0),RANK(G5,G$3:G$102,0),\"\")","v":""},{"$f":"IF(AND(Registration!$E4=\"SR\",COUNTBLANK(H5)=0),placingpoints(H5,COUNTIF(H$3:H$102,\"=\"&H5)),\"\")","v":""},{"$f":"IF(Registration!E4=\"SR\",MTA!G4,\"\")","v":""},{"$f":"IF(AND(Registration!E4=\"SR\",COUNTBLANK(J5)=0),RANK(J5,J$3:J$101,0),\"\")","v":""},{"$f":"IF(AND(Registration!$E4=\"SR\",COUNTBLANK(K5)=0),placingpoints(K5,COUNTIF(K$3:K$101,\"=\"&K5)),\"\")","v":""},{"$f":"IF(Registration!E4=\"SR\",'Trick Catch'!X5,\"\")","v":""},{"$f":"IF(AND(Registration!E4=\"SR\",COUNTBLANK(M5)=0),RANK(M5,M$3:M$101,0),\"\")","v":""},{"$f":"IF(AND(Registration!$E4=\"SR\",COUNTBLANK(N5)=0),placingpoints(N5,COUNTIF(N$3:N$101,\"=\"&N5)),\"\")","v":""},{"$f":"IF(Registration!E4=\"SR\",'Fast Catch'!F4,\"\")","v":""},{"$f":"IF(AND(Registration!E4=\"SR\",COUNTBLANK(P5)=0),RANK(P5,P$3:P$101,1),\"\")","v":""},{"$f":"IF(AND(Registration!$E4=\"SR\",COUNTBLANK(Q5)=0),placingpoints(Q5,COUNTIF(Q$3:Q$101,\"=\"&Q5)),\"\")","v":""},{"$f":"IF(Registration!E4=\"SR\",Endurance!C4,\"\")","v":""},{"$f":"IF(AND(Registration!E4=\"SR\",COUNTBLANK(S5)=0),RANK(S5,S$3:S$101,0),\"\")","v":""},{"$f":"IF(AND(Registration!$E4=\"SR\",COUNTBLANK(T5)=0),placingpoints(T5,COUNTIF(T$3:T$101,\"=\"&T5)),\"\")","v":""}]
[{"$f":"IF(Registration!E5=\"SR\",RANK(B6,$B$3:$B$101,1),\"\")","v":""},{"$f":"IF(Registration!E5=\"SR\",SUM(F6,I6,L6,O6,R6,U6),\"\")","v":""},{"$f":"IF(COUNTBLANK(Registration!B5)=1,\"\",IF(Registration!E5=\"SR\",Registration!B5,\"\"))","v":""},{"$f":"IF(Registration!E5=\"SR\",'Aussie Round'!V6,\"\")","v":""},{"$f":"IF(AND(Registration!E5=\"SR\",COUNTBLANK(D6)=0),RANK(D6,D$3:D$101,0),\"\")","v":""},{"$f":"IF(AND(Registration!$E5=\"SR\",COUNTBLANK(E6)=0),placingpoints(E6,COUNTIF(E$3:E$101,\"=\"&E6)),\"\")","v":""},{"$f":"IF(Registration!$E5=\"SR\",Accuracy!L5,\"\")","v":""},{"$f":"IF(AND(Registration!$E5=\"SR\",COUNTBLANK(G6)=0),RANK(G6,G$3:G$102,0),\"\")","v":""},{"$f":"IF(AND(Registration!$E5=\"SR\",COUNTBLANK(H6)=0),placingpoints(H6,COUNTIF(H$3:H$102,\"=\"&H6)),\"\")","v":""},{"$f":"IF(Registration!E5=\"SR\",MTA!G5,\"\")","v":""},{"$f":"IF(AND(Registration!E5=\"SR\",COUNTBLANK(J6)=0),RANK(J6,J$3:J$101,0),\"\")","v":""},{"$f":"IF(AND(Registration!$E5=\"SR\",COUNTBLANK(K6)=0),placingpoints(K6,COUNTIF(K$3:K$101,\"=\"&K6)),\"\")","v":""},{"$f":"IF(Registration!E5=\"SR\",'Trick Catch'!X6,\"\")","v":""},{"$f":"IF(AND(Registration!E5=\"SR\",COUNTBLANK(M6)=0),RANK(M6,M$3:M$101,0),\"\")","v":""},{"$f":"IF(AND(Registration!$E5=\"SR\",COUNTBLANK(N6)=0),placingpoints(N6,COUNTIF(N$3:N$101,\"=\"&N6)),\"\")","v":""},{"$f":"IF(Registration!E5=\"SR\",'Fast Catch'!F5,\"\")","v":""},{"$f":"IF(AND(Registration!E5=\"SR\",COUNTBLANK(P6)=0),RANK(P6,P$3:P$101,1),\"\")","v":""},{"$f":"IF(AND(Registration!$E5=\"SR\",COUNTBLANK(Q6)=0),placingpoints(Q6,COUNTIF(Q$3:Q$101,\"=\"&Q6)),\"\")","v":""},{"$f":"IF(Registration!E5=\"SR\",Endurance!C5,\"\")","v":""},{"$f":"IF(AND(Registration!E5=\"SR\",COUNTBLANK(S6)=0),RANK(S6,S$3:S$101,0),\"\")","v":""},{"$f":"IF(AND(Registration!$E5=\"SR\",COUNTBLANK(T6)=0),placingpoints(T6,COUNTIF(T$3:T$101,\"=\"&T6)),\"\")","v":""}]
[{"$f":"IF(Registration!E6=\"SR\",RANK(B7,$B$3:$B$101,1),\"\")","v":""},{"$f":"IF(Registration!E6=\"SR\",SUM(F7,I7,L7,O7,R7,U7),\"\")","v":""},{"$f":"IF(COUNTBLANK(Registration!B6)=1,\"\",IF(Registration!E6=\"SR\",Registration!B6,\"\"))","v":""},{"$f":"IF(Registration!E6=\"SR\",'Aussie Round'!V7,\"\")","v":""},{"$f":"IF(AND(Registration!E6=\"SR\",COUNTBLANK(D7)=0),RANK(D7,D$3:D$101,0),\"\")","v":""},{"$f":"IF(AND(Registration!$E6=\"SR\",COUNTBLANK(E7)=0),placingpoints(E7,COUNTIF(E$3:E$101,\"=\"&E7)),\"\")","v":""},{"$f":"IF(Registration!$E6=\"SR\",Accuracy!L6,\"\")","v":""},{"$f":"IF(AND(Registration!$E6=\"SR\",COUNTBLANK(G7)=0),RANK(G7,G$3:G$102,0),\"\")","v":""},{"$f":"IF(AND(Registration!$E6=\"SR\",COUNTBLANK(H7)=0),placingpoints(H7,COUNTIF(H$3:H$102,\"=\"&H7)),\"\")","v":""},{"$f":"IF(Registration!E6=\"SR\",MTA!G6,\"\")","v":""},{"$f":"IF(AND(Registration!E6=\"SR\",COUNTBLANK(J7)=0),RANK(J7,J$3:J$101,0),\"\")","v":""},{"$f":"IF(AND(Registration!$E6=\"SR\",COUNTBLANK(K7)=0),placingpoints(K7,COUNTIF(K$3:K$101,\"=\"&K7)),\"\")","v":""},{"$f":"IF(Registration!E6=\"SR\",'Trick Catch'!X7,\"\")","v":""},{"$f":"IF(AND(Registration!E6=\"SR\",COUNTBLANK(M7)=0),RANK(M7,M$3:M$101,0),\"\")","v":""},{"$f":"IF(AND(Registration!$E6=\"SR\",COUNTBLANK(N7)=0),placingpoints(N7,COUNTIF(N$3:N$101,\"=\"&N7)),\"\")","v":""},{"$f":"IF(Registration!E6=\"SR\",'Fast Catch'!F6,\"\")","v":""},{"$f":"IF(AND(Registration!E6=\"SR\",COUNTBLANK(P7)=0),RANK(P7,P$3:P$101,1),\"\")","v":""},{"$f":"IF(AND(Registration!$E6=\"SR\",COUNTBLANK(Q7)=0),placingpoints(Q7,COUNTIF(Q$3:Q$101,\"=\"&Q7)),\"\")","v":""},{"$f":"IF(Registration!E6=\"SR\",Endurance!C6,\"\")","v":""},{"$f":"IF(AND(Registration!E6=\"SR\",COUNTBLANK(S7)=0),RANK(S7,S$3:S$101,0),\"\")","v":""},{"$f":"IF(AND(Registration!$E6=\"SR\",COUNTBLANK(T7)=0),placingpoints(T7,COUNTIF(T$3:T$101,\"=\"&T7)),\"\")","v":""}]
[{"$f":"IF(Registration!E7=\"SR\",RANK(B8,$B$3:$B$101,1),\"\")","v":""},{"$f":"IF(Registration!E7=\"SR\",SUM(F8,I8,L8,O8,R8,U8),\"\")","v":""},{"$f":"IF(COUNTBLANK(Registration!B7)=1,\"\",IF(Registration!E7=\"SR\",Registration!B7,\"\"))","v":""},{"$f":"IF(Registration!E7=\"SR\",'Aussie Round'!V8,\"\")","v":""},{"$f":"IF(AND(Registration!E7=\"SR\",COUNTBLANK(D8)=0),RANK(D8,D$3:D$101,0),\"\")","v":""},{"$f":"IF(AND(Registration!$E7=\"SR\",COUNTBLANK(E8)=0),placingpoints(E8,COUNTIF(E$3:E$101,\"=\"&E8)),\"\")","v":""},{"$f":"IF(Registration!$E7=\"SR\",Accuracy!L7,\"\")","v":""},{"$f":"IF(AND(Registration!$E7=\"SR\",COUNTBLANK(G8)=0),RANK(G8,G$3:G$102,0),\"\")","v":""},{"$f":"IF(AND(Registration!$E7=\"SR\",COUNTBLANK(H8)=0),placingpoints(H8,COUNTIF(H$3:H$102,\"=\"&H8)),\"\")","v":""},{"$f":"IF(Registration!E7=\"SR\",MTA!G7,\"\")","v":""},{"$f":"IF(AND(Registration!E7=\"SR\",COUNTBLANK(J8)=0),RANK(J8,J$3:J$101,0),\"\")","v":""},{"$f":"IF(AND(Registration!$E7=\"SR\",COUNTBLANK(K8)=0),placingpoints(K8,COUNTIF(K$3:K$101,\"=\"&K8)),\"\")","v":""},{"$f":"IF(Registration!E7=\"SR\",'Trick Catch'!X8,\"\")","v":""},{"$f":"IF(AND(Registration!E7=\"SR\",COUNTBLANK(M8)=0),RANK(M8,M$3:M$101,0),\"\")","v":""},{"$f":"IF(AND(Registration!$E7=\"SR\",COUNTBLANK(N8)=0),placingpoints(N8,COUNTIF(N$3:N$101,\"=\"&N8)),\"\")","v":""},{"$f":"IF(Registration!E7=\"SR\",'Fast Catch'!F7,\"\")","v":""},{"$f":"IF(AND(Registration!E7=\"SR\",COUNTBLANK(P8)=0),RANK(P8,P$3:P$101,1),\"\")","v":""},{"$f":"IF(AND(Registration!$E7=\"SR\",COUNTBLANK(Q8)=0),placingpoints(Q8,COUNTIF(Q$3:Q$101,\"=\"&Q8)),\"\")","v":""},{"$f":"IF(Registration!E7=\"SR\",Endurance!C7,\"\")","v":""},{"$f":"IF(AND(Registration!E7=\"SR\",COUNTBLANK(S8)=0),RANK(S8,S$3:S$101,0),\"\")","v":""},{"$f":"IF(AND(Registration!$E7=\"SR\",COUNTBLANK(T8)=0),placingpoints(T8,COUNTIF(T$3:T$101,\"=\"&T8)),\"\")","v":""}]
[{"$f":"IF(Registration!E8=\"SR\",RANK(B9,$B$3:$B$101,1),\"\")","v":""},{"$f":"IF(Registration!E8=\"SR\",SUM(F9,I9,L9,O9,R9,U9),\"\")","v":""},{"$f":"IF(COUNTBLANK(Registration!B8)=1,\"\",IF(Registration!E8=\"SR\",Registration!B8,\"\"))","v":""},{"$f":"IF(Registration!E8=\"SR\",'Aussie Round'!V9,\"\")","v":""},{"$f":"IF(AND(Registration!E8=\"SR\",COUNTBLANK(D9)=0),RANK(D9,D$3:D$101,0),\"\")","v":""},{"$f":"IF(AND(Registration!$E8=\"SR\",COUNTBLANK(E9)=0),placingpoints(E9,COUNTIF(E$3:E$101,\"=\"&E9)),\"\")","v":""},{"$f":"IF(Registration!$E8=\"SR\",Accuracy!L8,\"\")","v":""},{"$f":"IF(AND(Registration!$E8=\"SR\",COUNTBLANK(G9)=0),RANK(G9,G$3:G$102,0),\"\")","v":""},{"$f":"IF(AND(Registration!$E8=\"SR\",COUNTBLANK(H9)=0),placingpoints(H9,COUNTIF(H$3:H$102,\"=\"&H9)),\"\")","v":""},{"$f":"IF(Registration!E8=\"SR\",MTA!G8,\"\")","v":""},{"$f":"IF(AND(Registration!E8=\"SR\",COUNTBLANK(J9)=0),RANK(J9,J$3:J$101,0),\"\")","v":""},{"$f":"IF(AND(Registration!$E8=\"SR\",COUNTBLANK(K9)=0),placingpoints(K9,COUNTIF(K$3:K$101,\"=\"&K9)),\"\")","v":""},{"$f":"IF(Registration!E8=\"SR\",'Trick Catch'!X9,\"\")","v":""},{"$f":"IF(AND(Registration!E8=\"SR\",COUNTBLANK(M9)=0),RANK(M9,M$3:M$101,0),\"\")","v":""},{"$f":"IF(AND(Registration!$E8=\"SR\",COUNTBLANK(N9)=0),placingpoints(N9,COUNTIF(N$3:N$101,\"=\"&N9)),\"\")","v":""},{"$f":"IF(Registration!E8=\"SR\",'Fast Catch'!F8,\"\")","v":""},{"$f":"IF(AND(Registration!E8=\"SR\",COUNTBLANK(P9)=0),RANK(P9,P$3:P$101,1),\"\")","v":""},{"$f":"IF(AND(Registration!$E8=\"SR\",COUNTBLANK(Q9)=0),placingpoints(Q9,COUNTIF(Q$3:Q$101,\"=\"&Q9)),\"\")","v":""},{"$f":"IF(Registration!E8=\"SR\",Endurance!C8,\"\")","v":""},{"$f":"IF(AND(Registration!E8=\"SR\",COUNTBLANK(S9)=0),RANK(S9,S$3:S$101,0),\"\")","v":""},{"$f":"IF(AND(Registration!$E8=\"SR\",COUNTBLANK(T9)=0),placingpoints(T9,COUNTIF(T$3:T$101,\"=\"&T9)),\"\")","v":""}]
[{"$f":"IF(Registration!E9=\"SR\",RANK(B10,$B$3:$B$101,1),\"\")","v":""},{"$f":"IF(Registration!E9=\"SR\",SUM(F10,I10,L10,O10,R10,U10),\"\")","v":""},{"$f":"IF(COUNTBLANK(Registration!B9)=1,\"\",IF(Registration!E9=\"SR\",Registration!B9,\"\"))","v":""},{"$f":"IF(Registration!E9=\"SR\",'Aussie Round'!V10,\"\")","v":""},{"$f":"IF(AND(Registration!E9=\"SR\",COUNTBLANK(D10)=0),RANK(D10,D$3:D$101,0),\"\")","v":""},{"$f":"IF(AND(Registration!$E9=\"SR\",COUNTBLANK(E10)=0),placingpoints(E10,COUNTIF(E$3:E$101,\"=\"&E10)),\"\")","v":""},{"$f":"IF(Registration!$E9=\"SR\",Accuracy!L9,\"\")","v":""},{"$f":"IF(AND(Registration!$E9=\"SR\",COUNTBLANK(G10)=0),RANK(G10,G$3:G$102,0),\"\")","v":""},{"$f":"IF(AND(Registration!$E9=\"SR\",COUNTBLANK(H10)=0),placingpoints(H10,COUNTIF(H$3:H$102,\"=\"&H10)),\"\")","v":""},{"$f":"IF(Registration!E9=\"SR\",MTA!G9,\"\")","v":""},{"$f":"IF(AND(Registration!E9=\"SR\",COUNTBLANK(J10)=0),RANK(J10,J$3:J$101,0),\"\")","v":""},{"$f":"IF(AND(Registration!$E9=\"SR\",COUNTBLANK(K10)=0),placingpoints(K10,COUNTIF(K$3:K$101,\"=\"&K10)),\"\")","v":""},{"$f":"IF(Registration!E9=\"SR\",'Trick Catch'!X10,\"\")","v":""},{"$f":"IF(AND(Registration!E9=\"SR\",COUNTBLANK(M10)=0),RANK(M10,M$3:M$101,0),\"\")","v":""},{"$f":"IF(AND(Registration!$E9=\"SR\",COUNTBLANK(N10)=0),placingpoints(N10,COUNTIF(N$3:N$101,\"=\"&N10)),\"\")","v":""},{"$f":"IF(Registration!E9=\"SR\",'Fast Catch'!F9,\"\")","v":""},{"$f":"IF(AND(Registration!E9=\"SR\",COUNTBLANK(P10)=0),RANK(P10,P$3:P$101,1),\"\")","v":""},{"$f":"IF(AND(Registration!$E9=\"SR\",COUNTBLANK(Q10)=0),placingpoints(Q10,COUNTIF(Q$3:Q$101,\"=\"&Q10)),\"\")","v":""},{"$f":"IF(Registration!E9=\"SR\",Endurance!C9,\"\")","v":""},{"$f":"IF(AND(Registration!E9=\"SR\",COUNTBLANK(S10)=0),RANK(S10,S$3:S$101,0),\"\")","v":""},{"$f":"IF(AND(Registration!$E9=\"SR\",COUNTBLANK(T10)=0),placingpoints(T10,COUNTIF(T$3:T$101,\"=\"&T10)),\"\")","v":""}]
[{"$f":"IF(Registration!E10=\"SR\",RANK(B11,$B$3:$B$101,1),\"\")","v":""},{"$f":"IF(Registration!E10=\"SR\",SUM(F11,I11,L11,O11,R11,U11),\"\")","v":""},{"$f":"IF(COUNTBLANK(Registration!B10)=1,\"\",IF(Registration!E10=\"SR\",Registration!B10,\"\"))","v":""},{"$f":"IF(Registration!E10=\"SR\",'Aussie Round'!V11,\"\")","v":""},{"$f":"IF(AND(Registration!E10=\"SR\",COUNTBLANK(D11)=0),RANK(D11,D$3:D$101,0),\"\")","v":""},{"$f":"IF(AND(Registration!$E10=\"SR\",COUNTBLANK(E11)=0),placingpoints(E11,COUNTIF(E$3:E$101,\"=\"&E11)),\"\")","v":""},{"$f":"IF(Registration!$E10=\"SR\",Accuracy!L10,\"\")","v":""},{"$f":"IF(AND(Registration!$E10=\"SR\",COUNTBLANK(G11)=0),RANK(G11,G$3:G$102,0),\"\")","v":""},{"$f":"IF(AND(Registration!$E10=\"SR\",COUNTBLANK(H11)=0),placingpoints(H11,COUNTIF(H$3:H$102,\"=\"&H11)),\"\")","v":""},{"$f":"IF(Registration!E10=\"SR\",MTA!G10,\"\")","v":""},{"$f":"IF(AND(Registration!E10=\"SR\",COUNTBLANK(J11)=0),RANK(J11,J$3:J$101,0),\"\")","v":""},{"$f":"IF(AND(Registration!$E10=\"SR\",COUNTBLANK(K11)=0),placingpoints(K11,COUNTIF(K$3:K$101,\"=\"&K11)),\"\")","v":""},{"$f":"IF(Registration!E10=\"SR\",'Trick Catch'!X11,\"\")","v":""},{"$f":"IF(AND(Registration!E10=\"SR\",COUNTBLANK(M11)=0),RANK(M11,M$3:M$101,0),\"\")","v":""},{"$f":"IF(AND(Registration!$E10=\"SR\",COUNTBLANK(N11)=0),placingpoints(N11,COUNTIF(N$3:N$101,\"=\"&N11)),\"\")","v":""},{"$f":"IF(Registration!E10=\"SR\",'Fast Catch'!F10,\"\")","v":""},{"$f":"IF(AND(Registration!E10=\"SR\",COUNTBLANK(P11)=0),RANK(P11,P$3:P$101,1),\"\")","v":""},{"$f":"IF(AND(Registration!$E10=\"SR\",COUNTBLANK(Q11)=0),placingpoints(Q11,COUNTIF(Q$3:Q$101,\"=\"&Q11)),\"\")","v":""},{"$f":"IF(Registration!E10=\"SR\",Endurance!C10,\"\")","v":""},{"$f":"IF(AND(Registration!E10=\"SR\",COUNTBLANK(S11)=0),RANK(S11,S$3:S$101,0),\"\")","v":""},{"$f":"IF(AND(Registration!$E10=\"SR\",COUNTBLANK(T11)=0),placingpoints(T11,COUNTIF(T$3:T$101,\"=\"&T11)),\"\")","v":""}]
[{"$f":"IF(Registration!E11=\"SR\",RANK(B12,$B$3:$B$101,1),\"\")","v":""},{"$f":"IF(Registration!E11=\"SR\",SUM(F12,I12,L12,O12,R12,U12),\"\")","v":""},{"$f":"IF(COUNTBLANK(Registration!B11)=1,\"\",IF(Registration!E11=\"SR\",Registration!B11,\"\"))","v":""},{"$f":"IF(Registration!E11=\"SR\",'Aussie Round'!V12,\"\")","v":""},{"$f":"IF(AND(Registration!E11=\"SR\",COUNTBLANK(D12)=0),RANK(D12,D$3:D$101,0),\"\")","v":""},{"$f":"IF(AND(Registration!$E11=\"SR\",COUNTBLANK(E12)=0),placingpoints(E12,COUNTIF(E$3:E$101,\"=\"&E12)),\"\")","v":""},{"$f":"IF(Registration!$E11=\"SR\",Accuracy!L11,\"\")","v":""},{"$f":"IF(AND(Registration!$E11=\"SR\",COUNTBLANK(G12)=0),RANK(G12,G$3:G$102,0),\"\")","v":""},{"$f":"IF(AND(Registration!$E11=\"SR\",COUNTBLANK(H12)=0),placingpoints(H12,COUNTIF(H$3:H$102,\"=\"&H12)),\"\")","v":""},{"$f":"IF(Registration!E11=\"SR\",MTA!G11,\"\")","v":""},{"$f":"IF(AND(Registration!E11=\"SR\",COUNTBLANK(J12)=0),RANK(J12,J$3:J$101,0),\"\")","v":""},{"$f":"IF(AND(Registration!$E11=\"SR\",COUNTBLANK(K12)=0),placingpoints(K12,COUNTIF(K$3:K$101,\"=\"&K12)),\"\")","v":""},{"$f":"IF(Registration!E11=\"SR\",'Trick Catch'!X12,\"\")","v":""},{"$f":"IF(AND(Registration!E11=\"SR\",COUNTBLANK(M12)=0),RANK(M12,M$3:M$101,0),\"\")","v":""},{"$f":"IF(AND(Registration!$E11=\"SR\",COUNTBLANK(N12)=0),placingpoints(N12,COUNTIF(N$3:N$101,\"=\"&N12)),\"\")","v":""},{"$f":"IF(Registration!E11=\"SR\",'Fast Catch'!F11,\"\")","v":""},{"$f":"IF(AND(Registration!E11=\"SR\",COUNTBLANK(P12)=0),RANK(P12,P$3:P$101,1),\"\")","v":""},{"$f":"IF(AND(Registration!$E11=\"SR\",COUNTBLANK(Q12)=0),placingpoints(Q12,COUNTIF(Q$3:Q$101,\"=\"&Q12)),\"\")","v":""},{"$f":"IF(Registration!E11=\"SR\",Endurance!C11,\"\")","v":""},{"$f":"IF(AND(Registration!E11=\"SR\",COUNTBLANK(S12)=0),RANK(S12,S$3:S$101,0),\"\")","v":""},{"$f":"IF(AND(Registration!$E11=\"SR\",COUNTBLANK(T12)=0),placingpoints(T12,COUNTIF(T$3:T$101,\"=\"&T12)),\"\")","v":""}]
[{"$f":"IF(Registration!E12=\"SR\",RANK(B13,$B$3:$B$101,1),\"\")","v":""},{"$f":"IF(Registration!E12=\"SR\",SUM(F13,I13,L13,O13,R13,U13),\"\")","v":""},{"$f":"IF(COUNTBLANK(Registration!B12)=1,\"\",IF(Registration!E12=\"SR\",Registration!B12,\"\"))","v":""},{"$f":"IF(Registration!E12=\"SR\",'Aussie Round'!V13,\"\")","v":""},{"$f":"IF(AND(Registration!E12=\"SR\",COUNTBLANK(D13)=0),RANK(D13,D$3:D$101,0),\"\")","v":""},{"$f":"IF(AND(Registration!$E12=\"SR\",COUNTBLANK(E13)=0),placingpoints(E13,COUNTIF(E$3:E$101,\"=\"&E13)),\"\")","v":""},{"$f":"IF(Registration!$E12=\"SR\",Accuracy!L12,\"\")","v":""},{"$f":"IF(AND(Registration!$E12=\"SR\",COUNTBLANK(G13)=0),RANK(G13,G$3:G$102,0),\"\")","v":""},{"$f":"IF(AND(Registration!$E12=\"SR\",COUNTBLANK(H13)=0),placingpoints(H13,COUNTIF(H$3:H$102,\"=\"&H13)),\"\")","v":""},{"$f":"IF(Registration!E12=\"SR\",MTA!G12,\"\")","v":""},{"$f":"IF(AND(Registration!E12=\"SR\",COUNTBLANK(J13)=0),RANK(J13,J$3:J$101,0),\"\")","v":""},{"$f":"IF(AND(Registration!$E12=\"SR\",COUNTBLANK(K13)=0),placingpoints(K13,COUNTIF(K$3:K$101,\"=\"&K13)),\"\")","v":""},{"$f":"IF(Registration!E12=\"SR\",'Trick Catch'!X13,\"\")","v":""},{"$f":"IF(AND(Registration!E12=\"SR\",COUNTBLANK(M13)=0),RANK(M13,M$3:M$101,0),\"\")","v":""},{"$f":"IF(AND(Registration!$E12=\"SR\",COUNTBLANK(N13)=0),placingpoints(N13,COUNTIF(N$3:N$101,\"=\"&N13)),\"\")","v":""},{"$f":"IF(Registration!E12=\"SR\",'Fast Catch'!F12,\"\")","v":""},{"$f":"IF(AND(Registration!E12=\"SR\",COUNTBLANK(P13)=0),RANK(P13,P$3:P$101,1),\"\")","v":""},{"$f":"IF(AND(Registration!$E12=\"SR\",COUNTBLANK(Q13)=0),placingpoints(Q13,COUNTIF(Q$3:Q$101,\"=\"&Q13)),\"\")","v":""},{"$f":"IF(Registration!E12=\"SR\",Endurance!C12,\"\")","v":""},{"$f":"IF(AND(Registration!E12=\"SR\",COUNTBLANK(S13)=0),RANK(S13,S$3:S$101,0),\"\")","v":""},{"$f":"IF(AND(Registration!$E12=\"SR\",COUNTBLANK(T13)=0),placingpoints(T13,COUNTIF(T$3:T$101,\"=\"&T13)),\"\")","v":""}]
[{"$f":"IF(Registration!E13=\"SR\",RANK(B14,$B$3:$B$101,1),\"\")","v":""},{"$f":"IF(Registration!E13=\"SR\",SUM(F14,I14,L14,O14,R14,U14),\"\")","v":""},{"$f":"IF(COUNTBLANK(Registration!B13)=1,\"\",IF(Registration!E13=\"SR\",Registration!B13,\"\"))","v":""},{"$f":"IF(Registration!E13=\"SR\",'Aussie Round'!V14,\"\")","v":""},{"$f":"IF(AND(Registration!E13=\"SR\",COUNTBLANK(D14)=0),RANK(D14,D$3:D$101,0),\"\")","v":""},{"$f":"IF(AND(Registration!$E13=\"SR\",COUNTBLANK(E14)=0),placingpoints(E14,COUNTIF(E$3:E$101,\"=\"&E14)),\"\")","v":""},{"$f":"IF(Registration!$E13=\"SR\",Accuracy!L13,\"\")","v":""},{"$f":"IF(AND(Registration!$E13=\"SR\",COUNTBLANK(G14)=0),RANK(G14,G$3:G$102,0),\"\")","v":""},{"$f":"IF(AND(Registration!$E13=\"SR\",COUNTBLANK(H14)=0),placingpoints(H14,COUNTIF(H$3:H$102,\"=\"&H14)),\"\")","v":""},{"$f":"IF(Registration!E13=\"SR\",MTA!G13,\"\")","v":""},{"$f":"IF(AND(Registration!E13=\"SR\",COUNTBLANK(J14)=0),RANK(J14,J$3:J$101,0),\"\")","v":""},{"$f":"IF(AND(Registration!$E13=\"SR\",COUNTBLANK(K14)=0),placingpoints(K14,COUNTIF(K$3:K$101,\"=\"&K14)),\"\")","v":""},{"$f":"IF(Registration!E13=\"SR\",'Trick Catch'!X14,\"\")","v":""},{"$f":"IF(AND(Registration!E13=\"SR\",COUNTBLANK(M14)=0),RANK(M14,M$3:M$101,0),\"\")","v":""},{"$f":"IF(AND(Registration!$E13=\"SR\",COUNTBLANK(N14)=0),placingpoints(N14,COUNTIF(N$3:N$101,\"=\"&N14)),\"\")","v":""},{"$f":"IF(Registration!E13=\"SR\",'Fast Catch'!F13,\"\")","v":""},{"$f":"IF(AND(Registration!E13=\"SR\",COUNTBLANK(P14)=0),RANK(P14,P$3:P$101,1),\"\")","v":""},{"$f":"IF(AND(Registration!$E13=\"SR\",COUNTBLANK(Q14)=0),placingpoints(Q14,COUNTIF(Q$3:Q$101,\"=\"&Q14)),\"\")","v":""},{"$f":"IF(Registration!E13=\"SR\",Endurance!C13,\"\")","v":""},{"$f":"IF(AND(Registration!E13=\"SR\",COUNTBLANK(S14)=0),RANK(S14,S$3:S$101,0),\"\")","v":""},{"$f":"IF(AND(Registration!$E13=\"SR\",COUNTBLANK(T14)=0),placingpoints(T14,COUNTIF(T$3:T$101,\"=\"&T14)),\"\")","v":""}]
[{"$f":"IF(Registration!E14=\"SR\",RANK(B15,$B$3:$B$101,1),\"\")","v":""},{"$f":"IF(Registration!E14=\"SR\",SUM(F15,I15,L15,O15,R15,U15),\"\")","v":""},{"$f":"IF(COUNTBLANK(Registration!B14)=1,\"\",IF(Registration!E14=\"SR\",Registration!B14,\"\"))","v":""},{"$f":"IF(Registration!E14=\"SR\",'Aussie Round'!V15,\"\")","v":""},{"$f":"IF(AND(Registration!E14=\"SR\",COUNTBLANK(D15)=0),RANK(D15,D$3:D$101,0),\"\")","v":""},{"$f":"IF(AND(Registration!$E14=\"SR\",COUNTBLANK(E15)=0),placingpoints(E15,COUNTIF(E$3:E$101,\"=\"&E15)),\"\")","v":""},{"$f":"IF(Registration!$E14=\"SR\",Accuracy!L14,\"\")","v":""},{"$f":"IF(AND(Registration!$E14=\"SR\",COUNTBLANK(G15)=0),RANK(G15,G$3:G$102,0),\"\")","v":""},{"$f":"IF(AND(Registration!$E14=\"SR\",COUNTBLANK(H15)=0),placingpoints(H15,COUNTIF(H$3:H$102,\"=\"&H15)),\"\")","v":""},{"$f":"IF(Registration!E14=\"SR\",MTA!G14,\"\")","v":""},{"$f":"IF(AND(Registration!E14=\"SR\",COUNTBLANK(J15)=0),RANK(J15,J$3:J$101,0),\"\")","v":""},{"$f":"IF(AND(Registration!$E14=\"SR\",COUNTBLANK(K15)=0),placingpoints(K15,COUNTIF(K$3:K$101,\"=\"&K15)),\"\")","v":""},{"$f":"IF(Registration!E14=\"SR\",'Trick Catch'!X15,\"\")","v":""},{"$f":"IF(AND(Registration!E14=\"SR\",COUNTBLANK(M15)=0),RANK(M15,M$3:M$101,0),\"\")","v":""},{"$f":"IF(AND(Registration!$E14=\"SR\",COUNTBLANK(N15)=0),placingpoints(N15,COUNTIF(N$3:N$101,\"=\"&N15)),\"\")","v":""},{"$f":"IF(Registration!E14=\"SR\",'Fast Catch'!F14,\"\")","v":""},{"$f":"IF(AND(Registration!E14=\"SR\",COUNTBLANK(P15)=0),RANK(P15,P$3:P$101,1),\"\")","v":""},{"$f":"IF(AND(Registration!$E14=\"SR\",COUNTBLANK(Q15)=0),placingpoints(Q15,COUNTIF(Q$3:Q$101,\"=\"&Q15)),\"\")","v":""},{"$f":"IF(Registration!E14=\"SR\",Endurance!C14,\"\")","v":""},{"$f":"IF(AND(Registration!E14=\"SR\",COUNTBLANK(S15)=0),RANK(S15,S$3:S$101,0),\"\")","v":""},{"$f":"IF(AND(Registration!$E14=\"SR\",COUNTBLANK(T15)=0),placingpoints(T15,COUNTIF(T$3:T$101,\"=\"&T15)),\"\")","v":""}]
[{"$f":"IF(Registration!E15=\"SR\",RANK(B16,$B$3:$B$101,1),\"\")","v":""},{"$f":"IF(Registration!E15=\"SR\",SUM(F16,I16,L16,O16,R16,U16),\"\")","v":""},{"$f":"IF(COUNTBLANK(Registration!B15)=1,\"\",IF(Registration!E15=\"SR\",Registration!B15,\"\"))","v":""},{"$f":"IF(Registration!E15=\"SR\",'Aussie Round'!V16,\"\")","v":""},{"$f":"IF(AND(Registration!E15=\"SR\",COUNTBLANK(D16)=0),RANK(D16,D$3:D$101,0),\"\")","v":""},{"$f":"IF(AND(Registration!$E15=\"SR\",COUNTBLANK(E16)=0),placingpoints(E16,COUNTIF(E$3:E$101,\"=\"&E16)),\"\")","v":""},{"$f":"IF(Registration!$E15=\"SR\",Accuracy!L15,\"\")","v":""},{"$f":"IF(AND(Registration!$E15=\"SR\",COUNTBLANK(G16)=0),RANK(G16,G$3:G$102,0),\"\")","v":""},{"$f":"IF(AND(Registration!$E15=\"SR\",COUNTBLANK(H16)=0),placingpoints(H16,COUNTIF(H$3:H$102,\"=\"&H16)),\"\")","v":""},{"$f":"IF(Registration!E15=\"SR\",MTA!G15,\"\")","v":""},{"$f":"IF(AND(Registration!E15=\"SR\",COUNTBLANK(J16)=0),RANK(J16,J$3:J$101,0),\"\")","v":""},{"$f":"IF(AND(Registration!$E15=\"SR\",COUNTBLANK(K16)=0),placingpoints(K16,COUNTIF(K$3:K$101,\"=\"&K16)),\"\")","v":""},{"$f":"IF(Registration!E15=\"SR\",'Trick Catch'!X16,\"\")","v":""},{"$f":"IF(AND(Registration!E15=\"SR\",COUNTBLANK(M16)=0),RANK(M16,M$3:M$101,0),\"\")","v":""},{"$f":"IF(AND(Registration!$E15=\"SR\",COUNTBLANK(N16)=0),placingpoints(N16,COUNTIF(N$3:N$101,\"=\"&N16)),\"\")","v":""},{"$f":"IF(Registration!E15=\"SR\",'Fast Catch'!F15,\"\")","v":""},{"$f":"IF(AND(Registration!E15=\"SR\",COUNTBLANK(P16)=0),RANK(P16,P$3:P$101,1),\"\")","v":""},{"$f":"IF(AND(Registration!$E15=\"SR\",COUNTBLANK(Q16)=0),placingpoints(Q16,COUNTIF(Q$3:Q$101,\"=\"&Q16)),\"\")","v":""},{"$f":"IF(Registration!E15=\"SR\",Endurance!C15,\"\")","v":""},{"$f":"IF(AND(Registration!E15=\"SR\",COUNTBLANK(S16)=0),RANK(S16,S$3:S$101,0),\"\")","v":""},{"$f":"IF(AND(Registration!$E15=\"SR\",COUNTBLANK(T16)=0),placingpoints(T16,COUNTIF(T$3:T$101,\"=\"&T16)),\"\")","v":""}]
[{"$f":"IF(Registration!E16=\"SR\",RANK(B17,$B$3:$B$101,1),\"\")","v":""},{"$f":"IF(Registration!E16=\"SR\",SUM(F17,I17,L17,O17,R17,U17),\"\")","v":""},{"$f":"IF(COUNTBLANK(Registration!B16)=1,\"\",IF(Registration!E16=\"SR\",Registration!B16,\"\"))","v":""},{"$f":"IF(Registration!E16=\"SR\",'Aussie Round'!V17,\"\")","v":""},{"$f":"IF(AND(Registration!E16=\"SR\",COUNTBLANK(D17)=0),RANK(D17,D$3:D$101,0),\"\")","v":""},{"$f":"IF(AND(Registration!$E16=\"SR\",COUNTBLANK(E17)=0),placingpoints(E17,COUNTIF(E$3:E$101,\"=\"&E17)),\"\")","v":""},{"$f":"IF(Registration!$E16=\"SR\",Accuracy!L16,\"\")","v":""},{"$f":"IF(AND(Registration!$E16=\"SR\",COUNTBLANK(G17)=0),RANK(G17,G$3:G$102,0),\"\")","v":""},{"$f":"IF(AND(Registration!$E16=\"SR\",COUNTBLANK(H17)=0),placingpoints(H17,COUNTIF(H$3:H$102,\"=\"&H17)),\"\")","v":""},{"$f":"IF(Registration!E16=\"SR\",MTA!G16,\"\")","v":""},{"$f":"IF(AND(Registration!E16=\"SR\",COUNTBLANK(J17)=0),RANK(J17,J$3:J$101,0),\"\")","v":""},{"$f":"IF(AND(Registration!$E16=\"SR\",COUNTBLANK(K17)=0),placingpoints(K17,COUNTIF(K$3:K$101,\"=\"&K17)),\"\")","v":""},{"$f":"IF(Registration!E16=\"SR\",'Trick Catch'!X17,\"\")","v":""},{"$f":"IF(AND(Registration!E16=\"SR\",COUNTBLANK(M17)=0),RANK(M17,M$3:M$101,0),\"\")","v":""},{"$f":"IF(AND(Registration!$E16=\"SR\",COUNTBLANK(N17)=0),placingpoints(N17,COUNTIF(N$3:N$101,\"=\"&N17)),\"\")","v":""},{"$f":"IF(Registration!E16=\"SR\",'Fast Catch'!F16,\"\")","v":""},{"$f":"IF(AND(Registration!E16=\"SR\",COUNTBLANK(P17)=0),RANK(P17,P$3:P$101,1),\"\")","v":""},{"$f":"IF(AND(Registration!$E16=\"SR\",COUNTBLANK(Q17)=0),placingpoints(Q17,COUNTIF(Q$3:Q$101,\"=\"&Q17)),\"\")","v":""},{"$f":"IF(Registration!E16=\"SR\",Endurance!C16,\"\")","v":""},{"$f":"IF(AND(Registration!E16=\"SR\",COUNTBLANK(S17)=0),RANK(S17,S$3:S$101,0),\"\")","v":""},{"$f":"IF(AND(Registration!$E16=\"SR\",COUNTBLANK(T17)=0),placingpoints(T17,COUNTIF(T$3:T$101,\"=\"&T17)),\"\")","v":""}]
[{"$f":"IF(Registration!E17=\"SR\",RANK(B18,$B$3:$B$101,1),\"\")","v":""},{"$f":"IF(Registration!E17=\"SR\",SUM(F18,I18,L18,O18,R18,U18),\"\")","v":""},{"$f":"IF(COUNTBLANK(Registration!B17)=1,\"\",IF(Registration!E17=\"SR\",Registration!B17,\"\"))","v":""},{"$f":"IF(Registration!E17=\"SR\",'Aussie Round'!V18,\"\")","v":""},{"$f":"IF(AND(Registration!E17=\"SR\",COUNTBLANK(D18)=0),RANK(D18,D$3:D$101,0),\"\")","v":""},{"$f":"IF(AND(Registration!$E17=\"SR\",COUNTBLANK(E18)=0),placingpoints(E18,COUNTIF(E$3:E$101,\"=\"&E18)),\"\")","v":""},{"$f":"IF(Registration!$E17=\"SR\",Accuracy!L17,\"\")","v":""},{"$f":"IF(AND(Registration!$E17=\"SR\",COUNTBLANK(G18)=0),RANK(G18,G$3:G$102,0),\"\")","v":""},{"$f":"IF(AND(Registration!$E17=\"SR\",COUNTBLANK(H18)=0),placingpoints(H18,COUNTIF(H$3:H$102,\"=\"&H18)),\"\")","v":""},{"$f":"IF(Registration!E17=\"SR\",MTA!G17,\"\")","v":""},{"$f":"IF(AND(Registration!E17=\"SR\",COUNTBLANK(J18)=0),RANK(J18,J$3:J$101,0),\"\")","v":""},{"$f":"IF(AND(Registration!$E17=\"SR\",COUNTBLANK(K18)=0),placingpoints(K18,COUNTIF(K$3:K$101,\"=\"&K18)),\"\")","v":""},{"$f":"IF(Registration!E17=\"SR\",'Trick Catch'!X18,\"\")","v":""},{"$f":"IF(AND(Registration!E17=\"SR\",COUNTBLANK(M18)=0),RANK(M18,M$3:M$101,0),\"\")","v":""},{"$f":"IF(AND(Registration!$E17=\"SR\",COUNTBLANK(N18)=0),placingpoints(N18,COUNTIF(N$3:N$101,\"=\"&N18)),\"\")","v":""},{"$f":"IF(Registration!E17=\"SR\",'Fast Catch'!F17,\"\")","v":""},{"$f":"IF(AND(Registration!E17=\"SR\",COUNTBLANK(P18)=0),RANK(P18,P$3:P$101,1),\"\")","v":""},{"$f":"IF(AND(Registration!$E17=\"SR\",COUNTBLANK(Q18)=0),placingpoints(Q18,COUNTIF(Q$3:Q$101,\"=\"&Q18)),\"\")","v":""},{"$f":"IF(Registration!E17=\"SR\",Endurance!C17,\"\")","v":""},{"$f":"IF(AND(Registration!E17=\"SR\",COUNTBLANK(S18)=0),RANK(S18,S$3:S$101,0),\"\")","v":""},{"$f":"IF(AND(Registration!$E17=\"SR\",COUNTBLANK(T18)=0),placingpoints(T18,COUNTIF(T$3:T$101,\"=\"&T18)),\"\")","v":""}]
[{"$f":"IF(Registration!E18=\"SR\",RANK(B19,$B$3:$B$101,1),\"\")","v":""},{"$f":"IF(Registration!E18=\"SR\",SUM(F19,I19,L19,O19,R19,U19),\"\")","v":""},{"$f":"IF(COUNTBLANK(Registration!B18)=1,\"\",IF(Registration!E18=\"SR\",Registration!B18,\"\"))","v":""},{"$f":"IF(Registration!E18=\"SR\",'Aussie Round'!V19,\"\")","v":""},{"$f":"IF(AND(Registration!E18=\"SR\",COUNTBLANK(D19)=0),RANK(D19,D$3:D$101,0),\"\")","v":""},{"$f":"IF(AND(Registration!$E18=\"SR\",COUNTBLANK(E19)=0),placingpoints(E19,COUNTIF(E$3:E$101,\"=\"&E19)),\"\")","v":""},{"$f":"IF(Registration!$E18=\"SR\",Accuracy!L18,\"\")","v":""},{"$f":"IF(AND(Registration!$E18=\"SR\",COUNTBLANK(G19)=0),RANK(G19,G$3:G$102,0),\"\")","v":""},{"$f":"IF(AND(Registration!$E18=\"SR\",COUNTBLANK(H19)=0),placingpoints(H19,COUNTIF(H$3:H$102,\"=\"&H19)),\"\")","v":""},{"$f":"IF(Registration!E18=\"SR\",MTA!G18,\"\")","v":""},{"$f":"IF(AND(Registration!E18=\"SR\",COUNTBLANK(J19)=0),RANK(J19,J$3:J$101,0),\"\")","v":""},{"$f":"IF(AND(Registration!$E18=\"SR\",COUNTBLANK(K19)=0),placingpoints(K19,COUNTIF(K$3:K$101,\"=\"&K19)),\"\")","v":""},{"$f":"IF(Registration!E18=\"SR\",'Trick Catch'!X19,\"\")","v":""},{"$f":"IF(AND(Registration!E18=\"SR\",COUNTBLANK(M19)=0),RANK(M19,M$3:M$101,0),\"\")","v":""},{"$f":"IF(AND(Registration!$E18=\"SR\",COUNTBLANK(N19)=0),placingpoints(N19,COUNTIF(N$3:N$101,\"=\"&N19)),\"\")","v":""},{"$f":"IF(Registration!E18=\"SR\",'Fast Catch'!F18,\"\")","v":""},{"$f":"IF(AND(Registration!E18=\"SR\",COUNTBLANK(P19)=0),RANK(P19,P$3:P$101,1),\"\")","v":""},{"$f":"IF(AND(Registration!$E18=\"SR\",COUNTBLANK(Q19)=0),placingpoints(Q19,COUNTIF(Q$3:Q$101,\"=\"&Q19)),\"\")","v":""},{"$f":"IF(Registration!E18=\"SR\",Endurance!C18,\"\")","v":""},{"$f":"IF(AND(Registration!E18=\"SR\",COUNTBLANK(S19)=0),RANK(S19,S$3:S$101,0),\"\")","v":""},{"$f":"IF(AND(Registration!$E18=\"SR\",COUNTBLANK(T19)=0),placingpoints(T19,COUNTIF(T$3:T$101,\"=\"&T19)),\"\")","v":""}]
[{"$f":"IF(Registration!E19=\"SR\",RANK(B20,$B$3:$B$101,1),\"\")","v":""},{"$f":"IF(Registration!E19=\"SR\",SUM(F20,I20,L20,O20,R20,U20),\"\")","v":""},{"$f":"IF(COUNTBLANK(Registration!B19)=1,\"\",IF(Registration!E19=\"SR\",Registration!B19,\"\"))","v":""},{"$f":"IF(Registration!E19=\"SR\",'Aussie Round'!V20,\"\")","v":""},{"$f":"IF(AND(Registration!E19=\"SR\",COUNTBLANK(D20)=0),RANK(D20,D$3:D$101,0),\"\")","v":""},{"$f":"IF(AND(Registration!$E19=\"SR\",COUNTBLANK(E20)=0),placingpoints(E20,COUNTIF(E$3:E$101,\"=\"&E20)),\"\")","v":""},{"$f":"IF(Registration!$E19=\"SR\",Accuracy!L19,\"\")","v":""},{"$f":"IF(AND(Registration!$E19=\"SR\",COUNTBLANK(G20)=0),RANK(G20,G$3:G$102,0),\"\")","v":""},{"$f":"IF(AND(Registration!$E19=\"SR\",COUNTBLANK(H20)=0),placingpoints(H20,COUNTIF(H$3:H$102,\"=\"&H20)),\"\")","v":""},{"$f":"IF(Registration!E19=\"SR\",MTA!G19,\"\")","v":""},{"$f":"IF(AND(Registration!E19=\"SR\",COUNTBLANK(J20)=0),RANK(J20,J$3:J$101,0),\"\")","v":""},{"$f":"IF(AND(Registration!$E19=\"SR\",COUNTBLANK(K20)=0),placingpoints(K20,COUNTIF(K$3:K$101,\"=\"&K20)),\"\")","v":""},{"$f":"IF(Registration!E19=\"SR\",'Trick Catch'!X20,\"\")","v":""},{"$f":"IF(AND(Registration!E19=\"SR\",COUNTBLANK(M20)=0),RANK(M20,M$3:M$101,0),\"\")","v":""},{"$f":"IF(AND(Registration!$E19=\"SR\",COUNTBLANK(N20)=0),placingpoints(N20,COUNTIF(N$3:N$101,\"=\"&N20)),\"\")","v":""},{"$f":"IF(Registration!E19=\"SR\",'Fast Catch'!F19,\"\")","v":""},{"$f":"IF(AND(Registration!E19=\"SR\",COUNTBLANK(P20)=0),RANK(P20,P$3:P$101,1),\"\")","v":""},{"$f":"IF(AND(Registration!$E19=\"SR\",COUNTBLANK(Q20)=0),placingpoints(Q20,COUNTIF(Q$3:Q$101,\"=\"&Q20)),\"\")","v":""},{"$f":"IF(Registration!E19=\"SR\",Endurance!C19,\"\")","v":""},{"$f":"IF(AND(Registration!E19=\"SR\",COUNTBLANK(S20)=0),RANK(S20,S$3:S$101,0),\"\")","v":""},{"$f":"IF(AND(Registration!$E19=\"SR\",COUNTBLANK(T20)=0),placingpoints(T20,COUNTIF(T$3:T$101,\"=\"&T20)),\"\")","v":""}]
[{"$f":"IF(Registration!E20=\"SR\",RANK(B21,$B$3:$B$101,1),\"\")","v":""},{"$f":"IF(Registration!E20=\"SR\",SUM(F21,I21,L21,O21,R21,U21),\"\")","v":""},{"$f":"IF(COUNTBLANK(Registration!B20)=1,\"\",IF(Registration!E20=\"SR\",Registration!B20,\"\"))","v":""},{"$f":"IF(Registration!E20=\"SR\",'Aussie Round'!V21,\"\")","v":""},{"$f":"IF(AND(Registration!E20=\"SR\",COUNTBLANK(D21)=0),RANK(D21,D$3:D$101,0),\"\")","v":""},{"$f":"IF(AND(Registration!$E20=\"SR\",COUNTBLANK(E21)=0),placingpoints(E21,COUNTIF(E$3:E$101,\"=\"&E21)),\"\")","v":""},{"$f":"IF(Registration!$E20=\"SR\",Accuracy!L20,\"\")","v":""},{"$f":"IF(AND(Registration!$E20=\"SR\",COUNTBLANK(G21)=0),RANK(G21,G$3:G$102,0),\"\")","v":""},{"$f":"IF(AND(Registration!$E20=\"SR\",COUNTBLANK(H21)=0),placingpoints(H21,COUNTIF(H$3:H$102,\"=\"&H21)),\"\")","v":""},{"$f":"IF(Registration!E20=\"SR\",MTA!G20,\"\")","v":""},{"$f":"IF(AND(Registration!E20=\"SR\",COUNTBLANK(J21)=0),RANK(J21,J$3:J$101,0),\"\")","v":""},{"$f":"IF(AND(Registration!$E20=\"SR\",COUNTBLANK(K21)=0),placingpoints(K21,COUNTIF(K$3:K$101,\"=\"&K21)),\"\")","v":""},{"$f":"IF(Registration!E20=\"SR\",'Trick Catch'!X21,\"\")","v":""},{"$f":"IF(AND(Registration!E20=\"SR\",COUNTBLANK(M21)=0),RANK(M21,M$3:M$101,0),\"\")","v":""},{"$f":"IF(AND(Registration!$E20=\"SR\",COUNTBLANK(N21)=0),placingpoints(N21,COUNTIF(N$3:N$101,\"=\"&N21)),\"\")","v":""},{"$f":"IF(Registration!E20=\"SR\",'Fast Catch'!F20,\"\")","v":""},{"$f":"IF(AND(Registration!E20=\"SR\",COUNTBLANK(P21)=0),RANK(P21,P$3:P$101,1),\"\")","v":""},{"$f":"IF(AND(Registration!$E20=\"SR\",COUNTBLANK(Q21)=0),placingpoints(Q21,COUNTIF(Q$3:Q$101,\"=\"&Q21)),\"\")","v":""},{"$f":"IF(Registration!E20=\"SR\",Endurance!C20,\"\")","v":""},{"$f":"IF(AND(Registration!E20=\"SR\",COUNTBLANK(S21)=0),RANK(S21,S$3:S$101,0),\"\")","v":""},{"$f":"IF(AND(Registration!$E20=\"SR\",COUNTBLANK(T21)=0),placingpoints(T21,COUNTIF(T$3:T$101,\"=\"&T21)),\"\")","v":""}]
[{"$f":"IF(Registration!E21=\"SR\",RANK(B22,$B$3:$B$101,1),\"\")","v":""},{"$f":"IF(Registration!E21=\"SR\",SUM(F22,I22,L22,O22,R22,U22),\"\")","v":""},{"$f":"IF(COUNTBLANK(Registration!B21)=1,\"\",IF(Registration!E21=\"SR\",Registration!B21,\"\"))","v":""},{"$f":"IF(Registration!E21=\"SR\",'Aussie Round'!V22,\"\")","v":""},{"$f":"IF(AND(Registration!E21=\"SR\",COUNTBLANK(D22)=0),RANK(D22,D$3:D$101,0),\"\")","v":""},{"$f":"IF(AND(Registration!$E21=\"SR\",COUNTBLANK(E22)=0),placingpoints(E22,COUNTIF(E$3:E$101,\"=\"&E22)),\"\")","v":""},{"$f":"IF(Registration!$E21=\"SR\",Accuracy!L21,\"\")","v":""},{"$f":"IF(AND(Registration!$E21=\"SR\",COUNTBLANK(G22)=0),RANK(G22,G$3:G$102,0),\"\")","v":""},{"$f":"IF(AND(Registration!$E21=\"SR\",COUNTBLANK(H22)=0),placingpoints(H22,COUNTIF(H$3:H$102,\"=\"&H22)),\"\")","v":""},{"$f":"IF(Registration!E21=\"SR\",MTA!G21,\"\")","v":""},{"$f":"IF(AND(Registration!E21=\"SR\",COUNTBLANK(J22)=0),RANK(J22,J$3:J$101,0),\"\")","v":""},{"$f":"IF(AND(Registration!$E21=\"SR\",COUNTBLANK(K22)=0),placingpoints(K22,COUNTIF(K$3:K$101,\"=\"&K22)),\"\")","v":""},{"$f":"IF(Registration!E21=\"SR\",'Trick Catch'!X22,\"\")","v":""},{"$f":"IF(AND(Registration!E21=\"SR\",COUNTBLANK(M22)=0),RANK(M22,M$3:M$101,0),\"\")","v":""},{"$f":"IF(AND(Registration!$E21=\"SR\",COUNTBLANK(N22)=0),placingpoints(N22,COUNTIF(N$3:N$101,\"=\"&N22)),\"\")","v":""},{"$f":"IF(Registration!E21=\"SR\",'Fast Catch'!F21,\"\")","v":""},{"$f":"IF(AND(Registration!E21=\"SR\",COUNTBLANK(P22)=0),RANK(P22,P$3:P$101,1),\"\")","v":""},{"$f":"IF(AND(Registration!$E21=\"SR\",COUNTBLANK(Q22)=0),placingpoints(Q22,COUNTIF(Q$3:Q$101,\"=\"&Q22)),\"\")","v":""},{"$f":"IF(Registration!E21=\"SR\",Endurance!C21,\"\")","v":""},{"$f":"IF(AND(Registration!E21=\"SR\",COUNTBLANK(S22)=0),RANK(S22,S$3:S$101,0),\"\")","v":""},{"$f":"IF(AND(Registration!$E21=\"SR\",COUNTBLANK(T22)=0),placingpoints(T22,COUNTIF(T$3:T$101,\"=\"&T22)),\"\")","v":""}]
[{"$f":"IF(Registration!E22=\"SR\",RANK(B23,$B$3:$B$101,1),\"\")","v":""},{"$f":"IF(Registration!E22=\"SR\",SUM(F23,I23,L23,O23,R23,U23),\"\")","v":""},{"$f":"IF(COUNTBLANK(Registration!B22)=1,\"\",IF(Registration!E22=\"SR\",Registration!B22,\"\"))","v":""},{"$f":"IF(Registration!E22=\"SR\",'Aussie Round'!V23,\"\")","v":""},{"$f":"IF(AND(Registration!E22=\"SR\",COUNTBLANK(D23)=0),RANK(D23,D$3:D$101,0),\"\")","v":""},{"$f":"IF(AND(Registration!$E22=\"SR\",COUNTBLANK(E23)=0),placingpoints(E23,COUNTIF(E$3:E$101,\"=\"&E23)),\"\")","v":""},{"$f":"IF(Registration!$E22=\"SR\",Accuracy!L22,\"\")","v":""},{"$f":"IF(AND(Registration!$E22=\"SR\",COUNTBLANK(G23)=0),RANK(G23,G$3:G$102,0),\"\")","v":""},{"$f":"IF(AND(Registration!$E22=\"SR\",COUNTBLANK(H23)=0),placingpoints(H23,COUNTIF(H$3:H$102,\"=\"&H23)),\"\")","v":""},{"$f":"IF(Registration!E22=\"SR\",MTA!G22,\"\")","v":""},{"$f":"IF(AND(Registration!E22=\"SR\",COUNTBLANK(J23)=0),RANK(J23,J$3:J$101,0),\"\")","v":""},{"$f":"IF(AND(Registration!$E22=\"SR\",COUNTBLANK(K23)=0),placingpoints(K23,COUNTIF(K$3:K$101,\"=\"&K23)),\"\")","v":""},{"$f":"IF(Registration!E22=\"SR\",'Trick Catch'!X23,\"\")","v":""},{"$f":"IF(AND(Registration!E22=\"SR\",COUNTBLANK(M23)=0),RANK(M23,M$3:M$101,0),\"\")","v":""},{"$f":"IF(AND(Registration!$E22=\"SR\",COUNTBLANK(N23)=0),placingpoints(N23,COUNTIF(N$3:N$101,\"=\"&N23)),\"\")","v":""},{"$f":"IF(Registration!E22=\"SR\",'Fast Catch'!F22,\"\")","v":""},{"$f":"IF(AND(Registration!E22=\"SR\",COUNTBLANK(P23)=0),RANK(P23,P$3:P$101,1),\"\")","v":""},{"$f":"IF(AND(Registration!$E22=\"SR\",COUNTBLANK(Q23)=0),placingpoints(Q23,COUNTIF(Q$3:Q$101,\"=\"&Q23)),\"\")","v":""},{"$f":"IF(Registration!E22=\"SR\",Endurance!C22,\"\")","v":""},{"$f":"IF(AND(Registration!E22=\"SR\",COUNTBLANK(S23)=0),RANK(S23,S$3:S$101,0),\"\")","v":""},{"$f":"IF(AND(Registration!$E22=\"SR\",COUNTBLANK(T23)=0),placingpoints(T23,COUNTIF(T$3:T$101,\"=\"&T23)),\"\")","v":""}]
[{"$f":"IF(Registration!E23=\"SR\",RANK(B24,$B$3:$B$101,1),\"\")","v":""},{"$f":"IF(Registration!E23=\"SR\",SUM(F24,I24,L24,O24,R24,U24),\"\")","v":""},{"$f":"IF(COUNTBLANK(Registration!B23)=1,\"\",IF(Registration!E23=\"SR\",Registration!B23,\"\"))","v":""},{"$f":"IF(Registration!E23=\"SR\",'Aussie Round'!V24,\"\")","v":""},{"$f":"IF(AND(Registration!E23=\"SR\",COUNTBLANK(D24)=0),RANK(D24,D$3:D$101,0),\"\")","v":""},{"$f":"IF(AND(Registration!$E23=\"SR\",COUNTBLANK(E24)=0),placingpoints(E24,COUNTIF(E$3:E$101,\"=\"&E24)),\"\")","v":""},{"$f":"IF(Registration!$E23=\"SR\",Accuracy!L23,\"\")","v":""},{"$f":"IF(AND(Registration!$E23=\"SR\",COUNTBLANK(G24)=0),RANK(G24,G$3:G$102,0),\"\")","v":""},{"$f":"IF(AND(Registration!$E23=\"SR\",COUNTBLANK(H24)=0),placingpoints(H24,COUNTIF(H$3:H$102,\"=\"&H24)),\"\")","v":""},{"$f":"IF(Registration!E23=\"SR\",MTA!G23,\"\")","v":""},{"$f":"IF(AND(Registration!E23=\"SR\",COUNTBLANK(J24)=0),RANK(J24,J$3:J$101,0),\"\")","v":""},{"$f":"IF(AND(Registration!$E23=\"SR\",COUNTBLANK(K24)=0),placingpoints(K24,COUNTIF(K$3:K$101,\"=\"&K24)),\"\")","v":""},{"$f":"IF(Registration!E23=\"SR\",'Trick Catch'!X24,\"\")","v":""},{"$f":"IF(AND(Registration!E23=\"SR\",COUNTBLANK(M24)=0),RANK(M24,M$3:M$101,0),\"\")","v":""},{"$f":"IF(AND(Registration!$E23=\"SR\",COUNTBLANK(N24)=0),placingpoints(N24,COUNTIF(N$3:N$101,\"=\"&N24)),\"\")","v":""},{"$f":"IF(Registration!E23=\"SR\",'Fast Catch'!F23,\"\")","v":""},{"$f":"IF(AND(Registration!E23=\"SR\",COUNTBLANK(P24)=0),RANK(P24,P$3:P$101,1),\"\")","v":""},{"$f":"IF(AND(Registration!$E23=\"SR\",COUNTBLANK(Q24)=0),placingpoints(Q24,COUNTIF(Q$3:Q$101,\"=\"&Q24)),\"\")","v":""},{"$f":"IF(Registration!E23=\"SR\",Endurance!C23,\"\")","v":""},{"$f":"IF(AND(Registration!E23=\"SR\",COUNTBLANK(S24)=0),RANK(S24,S$3:S$101,0),\"\")","v":""},{"$f":"IF(AND(Registration!$E23=\"SR\",COUNTBLANK(T24)=0),placingpoints(T24,COUNTIF(T$3:T$101,\"=\"&T24)),\"\")","v":""}]
[{"$f":"IF(Registration!E24=\"SR\",RANK(B25,$B$3:$B$101,1),\"\")","v":""},{"$f":"IF(Registration!E24=\"SR\",SUM(F25,I25,L25,O25,R25,U25),\"\")","v":""},{"$f":"IF(COUNTBLANK(Registration!B24)=1,\"\",IF(Registration!E24=\"SR\",Registration!B24,\"\"))","v":""},{"$f":"IF(Registration!E24=\"SR\",'Aussie Round'!V25,\"\")","v":""},{"$f":"IF(AND(Registration!E24=\"SR\",COUNTBLANK(D25)=0),RANK(D25,D$3:D$101,0),\"\")","v":""},{"$f":"IF(AND(Registration!$E24=\"SR\",COUNTBLANK(E25)=0),placingpoints(E25,COUNTIF(E$3:E$101,\"=\"&E25)),\"\")","v":""},{"$f":"IF(Registration!$E24=\"SR\",Accuracy!L24,\"\")","v":""},{"$f":"IF(AND(Registration!$E24=\"SR\",COUNTBLANK(G25)=0),RANK(G25,G$3:G$102,0),\"\")","v":""},{"$f":"IF(AND(Registration!$E24=\"SR\",COUNTBLANK(H25)=0),placingpoints(H25,COUNTIF(H$3:H$102,\"=\"&H25)),\"\")","v":""},{"$f":"IF(Registration!E24=\"SR\",MTA!G24,\"\")","v":""},{"$f":"IF(AND(Registration!E24=\"SR\",COUNTBLANK(J25)=0),RANK(J25,J$3:J$101,0),\"\")","v":""},{"$f":"IF(AND(Registration!$E24=\"SR\",COUNTBLANK(K25)=0),placingpoints(K25,COUNTIF(K$3:K$101,\"=\"&K25)),\"\")","v":""},{"$f":"IF(Registration!E24=\"SR\",'Trick Catch'!X25,\"\")","v":""},{"$f":"IF(AND(Registration!E24=\"SR\",COUNTBLANK(M25)=0),RANK(M25,M$3:M$101,0),\"\")","v":""},{"$f":"IF(AND(Registration!$E24=\"SR\",COUNTBLANK(N25)=0),placingpoints(N25,COUNTIF(N$3:N$101,\"=\"&N25)),\"\")","v":""},{"$f":"IF(Registration!E24=\"SR\",'Fast Catch'!F24,\"\")","v":""},{"$f":"IF(AND(Registration!E24=\"SR\",COUNTBLANK(P25)=0),RANK(P25,P$3:P$101,1),\"\")","v":""},{"$f":"IF(AND(Registration!$E24=\"SR\",COUNTBLANK(Q25)=0),placingpoints(Q25,COUNTIF(Q$3:Q$101,\"=\"&Q25)),\"\")","v":""},{"$f":"IF(Registration!E24=\"SR\",Endurance!C24,\"\")","v":""},{"$f":"IF(AND(Registration!E24=\"SR\",COUNTBLANK(S25)=0),RANK(S25,S$3:S$101,0),\"\")","v":""},{"$f":"IF(AND(Registration!$E24=\"SR\",COUNTBLANK(T25)=0),placingpoints(T25,COUNTIF(T$3:T$101,\"=\"&T25)),\"\")","v":""}]
[{"$f":"IF(Registration!E25=\"SR\",RANK(B26,$B$3:$B$101,1),\"\")","v":""},{"$f":"IF(Registration!E25=\"SR\",SUM(F26,I26,L26,O26,R26,U26),\"\")","v":""},{"$f":"IF(COUNTBLANK(Registration!B25)=1,\"\",IF(Registration!E25=\"SR\",Registration!B25,\"\"))","v":""},{"$f":"IF(Registration!E25=\"SR\",'Aussie Round'!V26,\"\")","v":""},{"$f":"IF(AND(Registration!E25=\"SR\",COUNTBLANK(D26)=0),RANK(D26,D$3:D$101,0),\"\")","v":""},{"$f":"IF(AND(Registration!$E25=\"SR\",COUNTBLANK(E26)=0),placingpoints(E26,COUNTIF(E$3:E$101,\"=\"&E26)),\"\")","v":""},{"$f":"IF(Registration!$E25=\"SR\",Accuracy!L25,\"\")","v":""},{"$f":"IF(AND(Registration!$E25=\"SR\",COUNTBLANK(G26)=0),RANK(G26,G$3:G$102,0),\"\")","v":""},{"$f":"IF(AND(Registration!$E25=\"SR\",COUNTBLANK(H26)=0),placingpoints(H26,COUNTIF(H$3:H$102,\"=\"&H26)),\"\")","v":""},{"$f":"IF(Registration!E25=\"SR\",MTA!G25,\"\")","v":""},{"$f":"IF(AND(Registration!E25=\"SR\",COUNTBLANK(J26)=0),RANK(J26,J$3:J$101,0),\"\")","v":""},{"$f":"IF(AND(Registration!$E25=\"SR\",COUNTBLANK(K26)=0),placingpoints(K26,COUNTIF(K$3:K$101,\"=\"&K26)),\"\")","v":""},{"$f":"IF(Registration!E25=\"SR\",'Trick Catch'!X26,\"\")","v":""},{"$f":"IF(AND(Registration!E25=\"SR\",COUNTBLANK(M26)=0),RANK(M26,M$3:M$101,0),\"\")","v":""},{"$f":"IF(AND(Registration!$E25=\"SR\",COUNTBLANK(N26)=0),placingpoints(N26,COUNTIF(N$3:N$101,\"=\"&N26)),\"\")","v":""},{"$f":"IF(Registration!E25=\"SR\",'Fast Catch'!F25,\"\")","v":""},{"$f":"IF(AND(Registration!E25=\"SR\",COUNTBLANK(P26)=0),RANK(P26,P$3:P$101,1),\"\")","v":""},{"$f":"IF(AND(Registration!$E25=\"SR\",COUNTBLANK(Q26)=0),placingpoints(Q26,COUNTIF(Q$3:Q$101,\"=\"&Q26)),\"\")","v":""},{"$f":"IF(Registration!E25=\"SR\",Endurance!C25,\"\")","v":""},{"$f":"IF(AND(Registration!E25=\"SR\",COUNTBLANK(S26)=0),RANK(S26,S$3:S$101,0),\"\")","v":""},{"$f":"IF(AND(Registration!$E25=\"SR\",COUNTBLANK(T26)=0),placingpoints(T26,COUNTIF(T$3:T$101,\"=\"&T26)),\"\")","v":""}]
[{"$f":"IF(Registration!E26=\"SR\",RANK(B27,$B$3:$B$101,1),\"\")","v":""},{"$f":"IF(Registration!E26=\"SR\",SUM(F27,I27,L27,O27,R27,U27),\"\")","v":""},{"$f":"IF(COUNTBLANK(Registration!B26)=1,\"\",IF(Registration!E26=\"SR\",Registration!B26,\"\"))","v":""},{"$f":"IF(Registration!E26=\"SR\",'Aussie Round'!V27,\"\")","v":""},{"$f":"IF(AND(Registration!E26=\"SR\",COUNTBLANK(D27)=0),RANK(D27,D$3:D$101,0),\"\")","v":""},{"$f":"IF(AND(Registration!$E26=\"SR\",COUNTBLANK(E27)=0),placingpoints(E27,COUNTIF(E$3:E$101,\"=\"&E27)),\"\")","v":""},{"$f":"IF(Registration!$E26=\"SR\",Accuracy!L26,\"\")","v":""},{"$f":"IF(AND(Registration!$E26=\"SR\",COUNTBLANK(G27)=0),RANK(G27,G$3:G$102,0),\"\")","v":""},{"$f":"IF(AND(Registration!$E26=\"SR\",COUNTBLANK(H27)=0),placingpoints(H27,COUNTIF(H$3:H$102,\"=\"&H27)),\"\")","v":""},{"$f":"IF(Registration!E26=\"SR\",MTA!G26,\"\")","v":""},{"$f":"IF(AND(Registration!E26=\"SR\",COUNTBLANK(J27)=0),RANK(J27,J$3:J$101,0),\"\")","v":""},{"$f":"IF(AND(Registration!$E26=\"SR\",COUNTBLANK(K27)=0),placingpoints(K27,COUNTIF(K$3:K$101,\"=\"&K27)),\"\")","v":""},{"$f":"IF(Registration!E26=\"SR\",'Trick Catch'!X27,\"\")","v":""},{"$f":"IF(AND(Registration!E26=\"SR\",COUNTBLANK(M27)=0),RANK(M27,M$3:M$101,0),\"\")","v":""},{"$f":"IF(AND(Registration!$E26=\"SR\",COUNTBLANK(N27)=0),placingpoints(N27,COUNTIF(N$3:N$101,\"=\"&N27)),\"\")","v":""},{"$f":"IF(Registration!E26=\"SR\",'Fast Catch'!F26,\"\")","v":""},{"$f":"IF(AND(Registration!E26=\"SR\",COUNTBLANK(P27)=0),RANK(P27,P$3:P$101,1),\"\")","v":""},{"$f":"IF(AND(Registration!$E26=\"SR\",COUNTBLANK(Q27)=0),placingpoints(Q27,COUNTIF(Q$3:Q$101,\"=\"&Q27)),\"\")","v":""},{"$f":"IF(Registration!E26=\"SR\",Endurance!C26,\"\")","v":""},{"$f":"IF(AND(Registration!E26=\"SR\",COUNTBLANK(S27)=0),RANK(S27,S$3:S$101,0),\"\")","v":""},{"$f":"IF(AND(Registration!$E26=\"SR\",COUNTBLANK(T27)=0),placingpoints(T27,COUNTIF(T$3:T$101,\"=\"&T27)),\"\")","v":""}]
[{"$f":"IF(Registration!E27=\"SR\",RANK(B28,$B$3:$B$101,1),\"\")","v":""},{"$f":"IF(Registration!E27=\"SR\",SUM(F28,I28,L28,O28,R28,U28),\"\")","v":""},{"$f":"IF(COUNTBLANK(Registration!B27)=1,\"\",IF(Registration!E27=\"SR\",Registration!B27,\"\"))","v":""},{"$f":"IF(Registration!E27=\"SR\",'Aussie Round'!V28,\"\")","v":""},{"$f":"IF(AND(Registration!E27=\"SR\",COUNTBLANK(D28)=0),RANK(D28,D$3:D$101,0),\"\")","v":""},{"$f":"IF(AND(Registration!$E27=\"SR\",COUNTBLANK(E28)=0),placingpoints(E28,COUNTIF(E$3:E$101,\"=\"&E28)),\"\")","v":""},{"$f":"IF(Registration!$E27=\"SR\",Accuracy!L27,\"\")","v":""},{"$f":"IF(AND(Registration!$E27=\"SR\",COUNTBLANK(G28)=0),RANK(G28,G$3:G$102,0),\"\")","v":""},{"$f":"IF(AND(Registration!$E27=\"SR\",COUNTBLANK(H28)=0),placingpoints(H28,COUNTIF(H$3:H$102,\"=\"&H28)),\"\")","v":""},{"$f":"IF(Registration!E27=\"SR\",MTA!G27,\"\")","v":""},{"$f":"IF(AND(Registration!E27=\"SR\",COUNTBLANK(J28)=0),RANK(J28,J$3:J$101,0),\"\")","v":""},{"$f":"IF(AND(Registration!$E27=\"SR\",COUNTBLANK(K28)=0),placingpoints(K28,COUNTIF(K$3:K$101,\"=\"&K28)),\"\")","v":""},{"$f":"IF(Registration!E27=\"SR\",'Trick Catch'!X28,\"\")","v":""},{"$f":"IF(AND(Registration!E27=\"SR\",COUNTBLANK(M28)=0),RANK(M28,M$3:M$101,0),\"\")","v":""},{"$f":"IF(AND(Registration!$E27=\"SR\",COUNTBLANK(N28)=0),placingpoints(N28,COUNTIF(N$3:N$101,\"=\"&N28)),\"\")","v":""},{"$f":"IF(Registration!E27=\"SR\",'Fast Catch'!F27,\"\")","v":""},{"$f":"IF(AND(Registration!E27=\"SR\",COUNTBLANK(P28)=0),RANK(P28,P$3:P$101,1),\"\")","v":""},{"$f":"IF(AND(Registration!$E27=\"SR\",COUNTBLANK(Q28)=0),placingpoints(Q28,COUNTIF(Q$3:Q$101,\"=\"&Q28)),\"\")","v":""},{"$f":"IF(Registration!E27=\"SR\",Endurance!C27,\"\")","v":""},{"$f":"IF(AND(Registration!E27=\"SR\",COUNTBLANK(S28)=0),RANK(S28,S$3:S$101,0),\"\")","v":""},{"$f":"IF(AND(Registration!$E27=\"SR\",COUNTBLANK(T28)=0),placingpoints(T28,COUNTIF(T$3:T$101,\"=\"&T28)),\"\")","v":""}]
[{"$f":"IF(Registration!E28=\"SR\",RANK(B29,$B$3:$B$101,1),\"\")","v":""},{"$f":"IF(Registration!E28=\"SR\",SUM(F29,I29,L29,O29,R29,U29),\"\")","v":""},{"$f":"IF(COUNTBLANK(Registration!B28)=1,\"\",IF(Registration!E28=\"SR\",Registration!B28,\"\"))","v":""},{"$f":"IF(Registration!E28=\"SR\",'Aussie Round'!V29,\"\")","v":""},{"$f":"IF(AND(Registration!E28=\"SR\",COUNTBLANK(D29)=0),RANK(D29,D$3:D$101,0),\"\")","v":""},{"$f":"IF(AND(Registration!$E28=\"SR\",COUNTBLANK(E29)=0),placingpoints(E29,COUNTIF(E$3:E$101,\"=\"&E29)),\"\")","v":""},{"$f":"IF(Registration!$E28=\"SR\",Accuracy!L28,\"\")","v":""},{"$f":"IF(AND(Registration!$E28=\"SR\",COUNTBLANK(G29)=0),RANK(G29,G$3:G$102,0),\"\")","v":""},{"$f":"IF(AND(Registration!$E28=\"SR\",COUNTBLANK(H29)=0),placingpoints(H29,COUNTIF(H$3:H$102,\"=\"&H29)),\"\")","v":""},{"$f":"IF(Registration!E28=\"SR\",MTA!G28,\"\")","v":""},{"$f":"IF(AND(Registration!E28=\"SR\",COUNTBLANK(J29)=0),RANK(J29,J$3:J$101,0),\"\")","v":""},{"$f":"IF(AND(Registration!$E28=\"SR\",COUNTBLANK(K29)=0),placingpoints(K29,COUNTIF(K$3:K$101,\"=\"&K29)),\"\")","v":""},{"$f":"IF(Registration!E28=\"SR\",'Trick Catch'!X29,\"\")","v":""},{"$f":"IF(AND(Registration!E28=\"SR\",COUNTBLANK(M29)=0),RANK(M29,M$3:M$101,0),\"\")","v":""},{"$f":"IF(AND(Registration!$E28=\"SR\",COUNTBLANK(N29)=0),placingpoints(N29,COUNTIF(N$3:N$101,\"=\"&N29)),\"\")","v":""},{"$f":"IF(Registration!E28=\"SR\",'Fast Catch'!F28,\"\")","v":""},{"$f":"IF(AND(Registration!E28=\"SR\",COUNTBLANK(P29)=0),RANK(P29,P$3:P$101,1),\"\")","v":""},{"$f":"IF(AND(Registration!$E28=\"SR\",COUNTBLANK(Q29)=0),placingpoints(Q29,COUNTIF(Q$3:Q$101,\"=\"&Q29)),\"\")","v":""},{"$f":"IF(Registration!E28=\"SR\",Endurance!C28,\"\")","v":""},{"$f":"IF(AND(Registration!E28=\"SR\",COUNTBLANK(S29)=0),RANK(S29,S$3:S$101,0),\"\")","v":""},{"$f":"IF(AND(Registration!$E28=\"SR\",COUNTBLANK(T29)=0),placingpoints(T29,COUNTIF(T$3:T$101,\"=\"&T29)),\"\")","v":""}]
[{"$f":"IF(Registration!E29=\"SR\",RANK(B30,$B$3:$B$101,1),\"\")","v":""},{"$f":"IF(Registration!E29=\"SR\",SUM(F30,I30,L30,O30,R30,U30),\"\")","v":""},{"$f":"IF(COUNTBLANK(Registration!B29)=1,\"\",IF(Registration!E29=\"SR\",Registration!B29,\"\"))","v":""},{"$f":"IF(Registration!E29=\"SR\",'Aussie Round'!V30,\"\")","v":""},{"$f":"IF(AND(Registration!E29=\"SR\",COUNTBLANK(D30)=0),RANK(D30,D$3:D$101,0),\"\")","v":""},{"$f":"IF(AND(Registration!$E29=\"SR\",COUNTBLANK(E30)=0),placingpoints(E30,COUNTIF(E$3:E$101,\"=\"&E30)),\"\")","v":""},{"$f":"IF(Registration!$E29=\"SR\",Accuracy!L29,\"\")","v":""},{"$f":"IF(AND(Registration!$E29=\"SR\",COUNTBLANK(G30)=0),RANK(G30,G$3:G$102,0),\"\")","v":""},{"$f":"IF(AND(Registration!$E29=\"SR\",COUNTBLANK(H30)=0),placingpoints(H30,COUNTIF(H$3:H$102,\"=\"&H30)),\"\")","v":""},{"$f":"IF(Registration!E29=\"SR\",MTA!G29,\"\")","v":""},{"$f":"IF(AND(Registration!E29=\"SR\",COUNTBLANK(J30)=0),RANK(J30,J$3:J$101,0),\"\")","v":""},{"$f":"IF(AND(Registration!$E29=\"SR\",COUNTBLANK(K30)=0),placingpoints(K30,COUNTIF(K$3:K$101,\"=\"&K30)),\"\")","v":""},{"$f":"IF(Registration!E29=\"SR\",'Trick Catch'!X30,\"\")","v":""},{"$f":"IF(AND(Registration!E29=\"SR\",COUNTBLANK(M30)=0),RANK(M30,M$3:M$101,0),\"\")","v":""},{"$f":"IF(AND(Registration!$E29=\"SR\",COUNTBLANK(N30)=0),placingpoints(N30,COUNTIF(N$3:N$101,\"=\"&N30)),\"\")","v":""},{"$f":"IF(Registration!E29=\"SR\",'Fast Catch'!F29,\"\")","v":""},{"$f":"IF(AND(Registration!E29=\"SR\",COUNTBLANK(P30)=0),RANK(P30,P$3:P$101,1),\"\")","v":""},{"$f":"IF(AND(Registration!$E29=\"SR\",COUNTBLANK(Q30)=0),placingpoints(Q30,COUNTIF(Q$3:Q$101,\"=\"&Q30)),\"\")","v":""},{"$f":"IF(Registration!E29=\"SR\",Endurance!C29,\"\")","v":""},{"$f":"IF(AND(Registration!E29=\"SR\",COUNTBLANK(S30)=0),RANK(S30,S$3:S$101,0),\"\")","v":""},{"$f":"IF(AND(Registration!$E29=\"SR\",COUNTBLANK(T30)=0),placingpoints(T30,COUNTIF(T$3:T$101,\"=\"&T30)),\"\")","v":""}]
[{"$f":"IF(Registration!E30=\"SR\",RANK(B31,$B$3:$B$101,1),\"\")","v":""},{"$f":"IF(Registration!E30=\"SR\",SUM(F31,I31,L31,O31,R31,U31),\"\")","v":""},{"$f":"IF(COUNTBLANK(Registration!B30)=1,\"\",IF(Registration!E30=\"SR\",Registration!B30,\"\"))","v":""},{"$f":"IF(Registration!E30=\"SR\",'Aussie Round'!V31,\"\")","v":""},{"$f":"IF(AND(Registration!E30=\"SR\",COUNTBLANK(D31)=0),RANK(D31,D$3:D$101,0),\"\")","v":""},{"$f":"IF(AND(Registration!$E30=\"SR\",COUNTBLANK(E31)=0),placingpoints(E31,COUNTIF(E$3:E$101,\"=\"&E31)),\"\")","v":""},{"$f":"IF(Registration!$E30=\"SR\",Accuracy!L30,\"\")","v":""},{"$f":"IF(AND(Registration!$E30=\"SR\",COUNTBLANK(G31)=0),RANK(G31,G$3:G$102,0),\"\")","v":""},{"$f":"IF(AND(Registration!$E30=\"SR\",COUNTBLANK(H31)=0),placingpoints(H31,COUNTIF(H$3:H$102,\"=\"&H31)),\"\")","v":""},{"$f":"IF(Registration!E30=\"SR\",MTA!G30,\"\")","v":""},{"$f":"IF(AND(Registration!E30=\"SR\",COUNTBLANK(J31)=0),RANK(J31,J$3:J$101,0),\"\")","v":""},{"$f":"IF(AND(Registration!$E30=\"SR\",COUNTBLANK(K31)=0),placingpoints(K31,COUNTIF(K$3:K$101,\"=\"&K31)),\"\")","v":""},{"$f":"IF(Registration!E30=\"SR\",'Trick Catch'!X31,\"\")","v":""},{"$f":"IF(AND(Registration!E30=\"SR\",COUNTBLANK(M31)=0),RANK(M31,M$3:M$101,0),\"\")","v":""},{"$f":"IF(AND(Registration!$E30=\"SR\",COUNTBLANK(N31)=0),placingpoints(N31,COUNTIF(N$3:N$101,\"=\"&N31)),\"\")","v":""},{"$f":"IF(Registration!E30=\"SR\",'Fast Catch'!F30,\"\")","v":""},{"$f":"IF(AND(Registration!E30=\"SR\",COUNTBLANK(P31)=0),RANK(P31,P$3:P$101,1),\"\")","v":""},{"$f":"IF(AND(Registration!$E30=\"SR\",COUNTBLANK(Q31)=0),placingpoints(Q31,COUNTIF(Q$3:Q$101,\"=\"&Q31)),\"\")","v":""},{"$f":"IF(Registration!E30=\"SR\",Endurance!C30,\"\")","v":""},{"$f":"IF(AND(Registration!E30=\"SR\",COUNTBLANK(S31)=0),RANK(S31,S$3:S$101,0),\"\")","v":""},{"$f":"IF(AND(Registration!$E30=\"SR\",COUNTBLANK(T31)=0),placingpoints(T31,COUNTIF(T$3:T$101,\"=\"&T31)),\"\")","v":""}]
[{"$f":"IF(Registration!E31=\"SR\",RANK(B32,$B$3:$B$101,1),\"\")","v":""},{"$f":"IF(Registration!E31=\"SR\",SUM(F32,I32,L32,O32,R32,U32),\"\")","v":""},{"$f":"IF(COUNTBLANK(Registration!B31)=1,\"\",IF(Registration!E31=\"SR\",Registration!B31,\"\"))","v":""},{"$f":"IF(Registration!E31=\"SR\",'Aussie Round'!V32,\"\")","v":""},{"$f":"IF(AND(Registration!E31=\"SR\",COUNTBLANK(D32)=0),RANK(D32,D$3:D$101,0),\"\")","v":""},{"$f":"IF(AND(Registration!$E31=\"SR\",COUNTBLANK(E32)=0),placingpoints(E32,COUNTIF(E$3:E$101,\"=\"&E32)),\"\")","v":""},{"$f":"IF(Registration!$E31=\"SR\",Accuracy!L31,\"\")","v":""},{"$f":"IF(AND(Registration!$E31=\"SR\",COUNTBLANK(G32)=0),RANK(G32,G$3:G$102,0),\"\")","v":""},{"$f":"IF(AND(Registration!$E31=\"SR\",COUNTBLANK(H32)=0),placingpoints(H32,COUNTIF(H$3:H$102,\"=\"&H32)),\"\")","v":""},{"$f":"IF(Registration!E31=\"SR\",MTA!G31,\"\")","v":""},{"$f":"IF(AND(Registration!E31=\"SR\",COUNTBLANK(J32)=0),RANK(J32,J$3:J$101,0),\"\")","v":""},{"$f":"IF(AND(Registration!$E31=\"SR\",COUNTBLANK(K32)=0),placingpoints(K32,COUNTIF(K$3:K$101,\"=\"&K32)),\"\")","v":""},{"$f":"IF(Registration!E31=\"SR\",'Trick Catch'!X32,\"\")","v":""},{"$f":"IF(AND(Registration!E31=\"SR\",COUNTBLANK(M32)=0),RANK(M32,M$3:M$101,0),\"\")","v":""},{"$f":"IF(AND(Registration!$E31=\"SR\",COUNTBLANK(N32)=0),placingpoints(N32,COUNTIF(N$3:N$101,\"=\"&N32)),\"\")","v":""},{"$f":"IF(Registration!E31=\"SR\",'Fast Catch'!F31,\"\")","v":""},{"$f":"IF(AND(Registration!E31=\"SR\",COUNTBLANK(P32)=0),RANK(P32,P$3:P$101,1),\"\")","v":""},{"$f":"IF(AND(Registration!$E31=\"SR\",COUNTBLANK(Q32)=0),placingpoints(Q32,COUNTIF(Q$3:Q$101,\"=\"&Q32)),\"\")","v":""},{"$f":"IF(Registration!E31=\"SR\",Endurance!C31,\"\")","v":""},{"$f":"IF(AND(Registration!E31=\"SR\",COUNTBLANK(S32)=0),RANK(S32,S$3:S$101,0),\"\")","v":""},{"$f":"IF(AND(Registration!$E31=\"SR\",COUNTBLANK(T32)=0),placingpoints(T32,COUNTIF(T$3:T$101,\"=\"&T32)),\"\")","v":""}]
[{"$f":"IF(Registration!E32=\"SR\",RANK(B33,$B$3:$B$101,1),\"\")","v":""},{"$f":"IF(Registration!E32=\"SR\",SUM(F33,I33,L33,O33,R33,U33),\"\")","v":""},{"$f":"IF(COUNTBLANK(Registration!B32)=1,\"\",IF(Registration!E32=\"SR\",Registration!B32,\"\"))","v":""},{"$f":"IF(Registration!E32=\"SR\",'Aussie Round'!V33,\"\")","v":""},{"$f":"IF(AND(Registration!E32=\"SR\",COUNTBLANK(D33)=0),RANK(D33,D$3:D$101,0),\"\")","v":""},{"$f":"IF(AND(Registration!$E32=\"SR\",COUNTBLANK(E33)=0),placingpoints(E33,COUNTIF(E$3:E$101,\"=\"&E33)),\"\")","v":""},{"$f":"IF(Registration!$E32=\"SR\",Accuracy!L32,\"\")","v":""},{"$f":"IF(AND(Registration!$E32=\"SR\",COUNTBLANK(G33)=0),RANK(G33,G$3:G$102,0),\"\")","v":""},{"$f":"IF(AND(Registration!$E32=\"SR\",COUNTBLANK(H33)=0),placingpoints(H33,COUNTIF(H$3:H$102,\"=\"&H33)),\"\")","v":""},{"$f":"IF(Registration!E32=\"SR\",MTA!G32,\"\")","v":""},{"$f":"IF(AND(Registration!E32=\"SR\",COUNTBLANK(J33)=0),RANK(J33,J$3:J$101,0),\"\")","v":""},{"$f":"IF(AND(Registration!$E32=\"SR\",COUNTBLANK(K33)=0),placingpoints(K33,COUNTIF(K$3:K$101,\"=\"&K33)),\"\")","v":""},{"$f":"IF(Registration!E32=\"SR\",'Trick Catch'!X33,\"\")","v":""},{"$f":"IF(AND(Registration!E32=\"SR\",COUNTBLANK(M33)=0),RANK(M33,M$3:M$101,0),\"\")","v":""},{"$f":"IF(AND(Registration!$E32=\"SR\",COUNTBLANK(N33)=0),placingpoints(N33,COUNTIF(N$3:N$101,\"=\"&N33)),\"\")","v":""},{"$f":"IF(Registration!E32=\"SR\",'Fast Catch'!F32,\"\")","v":""},{"$f":"IF(AND(Registration!E32=\"SR\",COUNTBLANK(P33)=0),RANK(P33,P$3:P$101,1),\"\")","v":""},{"$f":"IF(AND(Registration!$E32=\"SR\",COUNTBLANK(Q33)=0),placingpoints(Q33,COUNTIF(Q$3:Q$101,\"=\"&Q33)),\"\")","v":""},{"$f":"IF(Registration!E32=\"SR\",Endurance!C32,\"\")","v":""},{"$f":"IF(AND(Registration!E32=\"SR\",COUNTBLANK(S33)=0),RANK(S33,S$3:S$101,0),\"\")","v":""},{"$f":"IF(AND(Registration!$E32=\"SR\",COUNTBLANK(T33)=0),placingpoints(T33,COUNTIF(T$3:T$101,\"=\"&T33)),\"\")","v":""}]
[{"$f":"IF(Registration!E33=\"SR\",RANK(B34,$B$3:$B$101,1),\"\")","v":""},{"$f":"IF(Registration!E33=\"SR\",SUM(F34,I34,L34,O34,R34,U34),\"\")","v":""},{"$f":"IF(COUNTBLANK(Registration!B33)=1,\"\",IF(Registration!E33=\"SR\",Registration!B33,\"\"))","v":""},{"$f":"IF(Registration!E33=\"SR\",'Aussie Round'!V34,\"\")","v":""},{"$f":"IF(AND(Registration!E33=\"SR\",COUNTBLANK(D34)=0),RANK(D34,D$3:D$101,0),\"\")","v":""},{"$f":"IF(AND(Registration!$E33=\"SR\",COUNTBLANK(E34)=0),placingpoints(E34,COUNTIF(E$3:E$101,\"=\"&E34)),\"\")","v":""},{"$f":"IF(Registration!$E33=\"SR\",Accuracy!L33,\"\")","v":""},{"$f":"IF(AND(Registration!$E33=\"SR\",COUNTBLANK(G34)=0),RANK(G34,G$3:G$102,0),\"\")","v":""},{"$f":"IF(AND(Registration!$E33=\"SR\",COUNTBLANK(H34)=0),placingpoints(H34,COUNTIF(H$3:H$102,\"=\"&H34)),\"\")","v":""},{"$f":"IF(Registration!E33=\"SR\",MTA!G33,\"\")","v":""},{"$f":"IF(AND(Registration!E33=\"SR\",COUNTBLANK(J34)=0),RANK(J34,J$3:J$101,0),\"\")","v":""},{"$f":"IF(AND(Registration!$E33=\"SR\",COUNTBLANK(K34)=0),placingpoints(K34,COUNTIF(K$3:K$101,\"=\"&K34)),\"\")","v":""},{"$f":"IF(Registration!E33=\"SR\",'Trick Catch'!X34,\"\")","v":""},{"$f":"IF(AND(Registration!E33=\"SR\",COUNTBLANK(M34)=0),RANK(M34,M$3:M$101,0),\"\")","v":""},{"$f":"IF(AND(Registration!$E33=\"SR\",COUNTBLANK(N34)=0),placingpoints(N34,COUNTIF(N$3:N$101,\"=\"&N34)),\"\")","v":""},{"$f":"IF(Registration!E33=\"SR\",'Fast Catch'!F33,\"\")","v":""},{"$f":"IF(AND(Registration!E33=\"SR\",COUNTBLANK(P34)=0),RANK(P34,P$3:P$101,1),\"\")","v":""},{"$f":"IF(AND(Registration!$E33=\"SR\",COUNTBLANK(Q34)=0),placingpoints(Q34,COUNTIF(Q$3:Q$101,\"=\"&Q34)),\"\")","v":""},{"$f":"IF(Registration!E33=\"SR\",Endurance!C33,\"\")","v":""},{"$f":"IF(AND(Registration!E33=\"SR\",COUNTBLANK(S34)=0),RANK(S34,S$3:S$101,0),\"\")","v":""},{"$f":"IF(AND(Registration!$E33=\"SR\",COUNTBLANK(T34)=0),placingpoints(T34,COUNTIF(T$3:T$101,\"=\"&T34)),\"\")","v":""}]
[{"$f":"IF(Registration!E34=\"SR\",RANK(B35,$B$3:$B$101,1),\"\")","v":""},{"$f":"IF(Registration!E34=\"SR\",SUM(F35,I35,L35,O35,R35,U35),\"\")","v":""},{"$f":"IF(COUNTBLANK(Registration!B34)=1,\"\",IF(Registration!E34=\"SR\",Registration!B34,\"\"))","v":""},{"$f":"IF(Registration!E34=\"SR\",'Aussie Round'!V35,\"\")","v":""},{"$f":"IF(AND(Registration!E34=\"SR\",COUNTBLANK(D35)=0),RANK(D35,D$3:D$101,0),\"\")","v":""},{"$f":"IF(AND(Registration!$E34=\"SR\",COUNTBLANK(E35)=0),placingpoints(E35,COUNTIF(E$3:E$101,\"=\"&E35)),\"\")","v":""},{"$f":"IF(Registration!$E34=\"SR\",Accuracy!L34,\"\")","v":""},{"$f":"IF(AND(Registration!$E34=\"SR\",COUNTBLANK(G35)=0),RANK(G35,G$3:G$102,0),\"\")","v":""},{"$f":"IF(AND(Registration!$E34=\"SR\",COUNTBLANK(H35)=0),placingpoints(H35,COUNTIF(H$3:H$102,\"=\"&H35)),\"\")","v":""},{"$f":"IF(Registration!E34=\"SR\",MTA!G34,\"\")","v":""},{"$f":"IF(AND(Registration!E34=\"SR\",COUNTBLANK(J35)=0),RANK(J35,J$3:J$101,0),\"\")","v":""},{"$f":"IF(AND(Registration!$E34=\"SR\",COUNTBLANK(K35)=0),placingpoints(K35,COUNTIF(K$3:K$101,\"=\"&K35)),\"\")","v":""},{"$f":"IF(Registration!E34=\"SR\",'Trick Catch'!X35,\"\")","v":""},{"$f":"IF(AND(Registration!E34=\"SR\",COUNTBLANK(M35)=0),RANK(M35,M$3:M$101,0),\"\")","v":""},{"$f":"IF(AND(Registration!$E34=\"SR\",COUNTBLANK(N35)=0),placingpoints(N35,COUNTIF(N$3:N$101,\"=\"&N35)),\"\")","v":""},{"$f":"IF(Registration!E34=\"SR\",'Fast Catch'!F34,\"\")","v":""},{"$f":"IF(AND(Registration!E34=\"SR\",COUNTBLANK(P35)=0),RANK(P35,P$3:P$101,1),\"\")","v":""},{"$f":"IF(AND(Registration!$E34=\"SR\",COUNTBLANK(Q35)=0),placingpoints(Q35,COUNTIF(Q$3:Q$101,\"=\"&Q35)),\"\")","v":""},{"$f":"IF(Registration!E34=\"SR\",Endurance!C34,\"\")","v":""},{"$f":"IF(AND(Registration!E34=\"SR\",COUNTBLANK(S35)=0),RANK(S35,S$3:S$101,0),\"\")","v":""},{"$f":"IF(AND(Registration!$E34=\"SR\",COUNTBLANK(T35)=0),placingpoints(T35,COUNTIF(T$3:T$101,\"=\"&T35)),\"\")","v":""}]
[{"$f":"IF(Registration!E35=\"SR\",RANK(B36,$B$3:$B$101,1),\"\")","v":""},{"$f":"IF(Registration!E35=\"SR\",SUM(F36,I36,L36,O36,R36,U36),\"\")","v":""},{"$f":"IF(COUNTBLANK(Registration!B35)=1,\"\",IF(Registration!E35=\"SR\",Registration!B35,\"\"))","v":""},{"$f":"IF(Registration!E35=\"SR\",'Aussie Round'!V36,\"\")","v":""},{"$f":"IF(AND(Registration!E35=\"SR\",COUNTBLANK(D36)=0),RANK(D36,D$3:D$101,0),\"\")","v":""},{"$f":"IF(AND(Registration!$E35=\"SR\",COUNTBLANK(E36)=0),placingpoints(E36,COUNTIF(E$3:E$101,\"=\"&E36)),\"\")","v":""},{"$f":"IF(Registration!$E35=\"SR\",Accuracy!L35,\"\")","v":""},{"$f":"IF(AND(Registration!$E35=\"SR\",COUNTBLANK(G36)=0),RANK(G36,G$3:G$102,0),\"\")","v":""},{"$f":"IF(AND(Registration!$E35=\"SR\",COUNTBLANK(H36)=0),placingpoints(H36,COUNTIF(H$3:H$102,\"=\"&H36)),\"\")","v":""},{"$f":"IF(Registration!E35=\"SR\",MTA!G35,\"\")","v":""},{"$f":"IF(AND(Registration!E35=\"SR\",COUNTBLANK(J36)=0),RANK(J36,J$3:J$101,0),\"\")","v":""},{"$f":"IF(AND(Registration!$E35=\"SR\",COUNTBLANK(K36)=0),placingpoints(K36,COUNTIF(K$3:K$101,\"=\"&K36)),\"\")","v":""},{"$f":"IF(Registration!E35=\"SR\",'Trick Catch'!X36,\"\")","v":""},{"$f":"IF(AND(Registration!E35=\"SR\",COUNTBLANK(M36)=0),RANK(M36,M$3:M$101,0),\"\")","v":""},{"$f":"IF(AND(Registration!$E35=\"SR\",COUNTBLANK(N36)=0),placingpoints(N36,COUNTIF(N$3:N$101,\"=\"&N36)),\"\")","v":""},{"$f":"IF(Registration!E35=\"SR\",'Fast Catch'!F35,\"\")","v":""},{"$f":"IF(AND(Registration!E35=\"SR\",COUNTBLANK(P36)=0),RANK(P36,P$3:P$101,1),\"\")","v":""},{"$f":"IF(AND(Registration!$E35=\"SR\",COUNTBLANK(Q36)=0),placingpoints(Q36,COUNTIF(Q$3:Q$101,\"=\"&Q36)),\"\")","v":""},{"$f":"IF(Registration!E35=\"SR\",Endurance!C35,\"\")","v":""},{"$f":"IF(AND(Registration!E35=\"SR\",COUNTBLANK(S36)=0),RANK(S36,S$3:S$101,0),\"\")","v":""},{"$f":"IF(AND(Registration!$E35=\"SR\",COUNTBLANK(T36)=0),placingpoints(T36,COUNTIF(T$3:T$101,\"=\"&T36)),\"\")","v":""}]
[{"$f":"IF(Registration!E36=\"SR\",RANK(B37,$B$3:$B$101,1),\"\")","v":""},{"$f":"IF(Registration!E36=\"SR\",SUM(F37,I37,L37,O37,R37,U37),\"\")","v":""},{"$f":"IF(COUNTBLANK(Registration!B36)=1,\"\",IF(Registration!E36=\"SR\",Registration!B36,\"\"))","v":""},{"$f":"IF(Registration!E36=\"SR\",'Aussie Round'!V37,\"\")","v":""},{"$f":"IF(AND(Registration!E36=\"SR\",COUNTBLANK(D37)=0),RANK(D37,D$3:D$101,0),\"\")","v":""},{"$f":"IF(AND(Registration!$E36=\"SR\",COUNTBLANK(E37)=0),placingpoints(E37,COUNTIF(E$3:E$101,\"=\"&E37)),\"\")","v":""},{"$f":"IF(Registration!$E36=\"SR\",Accuracy!L36,\"\")","v":""},{"$f":"IF(AND(Registration!$E36=\"SR\",COUNTBLANK(G37)=0),RANK(G37,G$3:G$102,0),\"\")","v":""},{"$f":"IF(AND(Registration!$E36=\"SR\",COUNTBLANK(H37)=0),placingpoints(H37,COUNTIF(H$3:H$102,\"=\"&H37)),\"\")","v":""},{"$f":"IF(Registration!E36=\"SR\",MTA!G36,\"\")","v":""},{"$f":"IF(AND(Registration!E36=\"SR\",COUNTBLANK(J37)=0),RANK(J37,J$3:J$101,0),\"\")","v":""},{"$f":"IF(AND(Registration!$E36=\"SR\",COUNTBLANK(K37)=0),placingpoints(K37,COUNTIF(K$3:K$101,\"=\"&K37)),\"\")","v":""},{"$f":"IF(Registration!E36=\"SR\",'Trick Catch'!X37,\"\")","v":""},{"$f":"IF(AND(Registration!E36=\"SR\",COUNTBLANK(M37)=0),RANK(M37,M$3:M$101,0),\"\")","v":""},{"$f":"IF(AND(Registration!$E36=\"SR\",COUNTBLANK(N37)=0),placingpoints(N37,COUNTIF(N$3:N$101,\"=\"&N37)),\"\")","v":""},{"$f":"IF(Registration!E36=\"SR\",'Fast Catch'!F36,\"\")","v":""},{"$f":"IF(AND(Registration!E36=\"SR\",COUNTBLANK(P37)=0),RANK(P37,P$3:P$101,1),\"\")","v":""},{"$f":"IF(AND(Registration!$E36=\"SR\",COUNTBLANK(Q37)=0),placingpoints(Q37,COUNTIF(Q$3:Q$101,\"=\"&Q37)),\"\")","v":""},{"$f":"IF(Registration!E36=\"SR\",Endurance!C36,\"\")","v":""},{"$f":"IF(AND(Registration!E36=\"SR\",COUNTBLANK(S37)=0),RANK(S37,S$3:S$101,0),\"\")","v":""},{"$f":"IF(AND(Registration!$E36=\"SR\",COUNTBLANK(T37)=0),placingpoints(T37,COUNTIF(T$3:T$101,\"=\"&T37)),\"\")","v":""}]
[{"$f":"IF(Registration!E37=\"SR\",RANK(B38,$B$3:$B$101,1),\"\")","v":""},{"$f":"IF(Registration!E37=\"SR\",SUM(F38,I38,L38,O38,R38,U38),\"\")","v":""},{"$f":"IF(COUNTBLANK(Registration!B37)=1,\"\",IF(Registration!E37=\"SR\",Registration!B37,\"\"))","v":""},{"$f":"IF(Registration!E37=\"SR\",'Aussie Round'!V38,\"\")","v":""},{"$f":"IF(AND(Registration!E37=\"SR\",COUNTBLANK(D38)=0),RANK(D38,D$3:D$101,0),\"\")","v":""},{"$f":"IF(AND(Registration!$E37=\"SR\",COUNTBLANK(E38)=0),placingpoints(E38,COUNTIF(E$3:E$101,\"=\"&E38)),\"\")","v":""},{"$f":"IF(Registration!$E37=\"SR\",Accuracy!L37,\"\")","v":""},{"$f":"IF(AND(Registration!$E37=\"SR\",COUNTBLANK(G38)=0),RANK(G38,G$3:G$102,0),\"\")","v":""},{"$f":"IF(AND(Registration!$E37=\"SR\",COUNTBLANK(H38)=0),placingpoints(H38,COUNTIF(H$3:H$102,\"=\"&H38)),\"\")","v":""},{"$f":"IF(Registration!E37=\"SR\",MTA!G37,\"\")","v":""},{"$f":"IF(AND(Registration!E37=\"SR\",COUNTBLANK(J38)=0),RANK(J38,J$3:J$101,0),\"\")","v":""},{"$f":"IF(AND(Registration!$E37=\"SR\",COUNTBLANK(K38)=0),placingpoints(K38,COUNTIF(K$3:K$101,\"=\"&K38)),\"\")","v":""},{"$f":"IF(Registration!E37=\"SR\",'Trick Catch'!X38,\"\")","v":""},{"$f":"IF(AND(Registration!E37=\"SR\",COUNTBLANK(M38)=0),RANK(M38,M$3:M$101,0),\"\")","v":""},{"$f":"IF(AND(Registration!$E37=\"SR\",COUNTBLANK(N38)=0),placingpoints(N38,COUNTIF(N$3:N$101,\"=\"&N38)),\"\")","v":""},{"$f":"IF(Registration!E37=\"SR\",'Fast Catch'!F37,\"\")","v":""},{"$f":"IF(AND(Registration!E37=\"SR\",COUNTBLANK(P38)=0),RANK(P38,P$3:P$101,1),\"\")","v":""},{"$f":"IF(AND(Registration!$E37=\"SR\",COUNTBLANK(Q38)=0),placingpoints(Q38,COUNTIF(Q$3:Q$101,\"=\"&Q38)),\"\")","v":""},{"$f":"IF(Registration!E37=\"SR\",Endurance!C37,\"\")","v":""},{"$f":"IF(AND(Registration!E37=\"SR\",COUNTBLANK(S38)=0),RANK(S38,S$3:S$101,0),\"\")","v":""},{"$f":"IF(AND(Registration!$E37=\"SR\",COUNTBLANK(T38)=0),placingpoints(T38,COUNTIF(T$3:T$101,\"=\"&T38)),\"\")","v":""}]
[{"$f":"IF(Registration!E38=\"SR\",RANK(B39,$B$3:$B$101,1),\"\")","v":""},{"$f":"IF(Registration!E38=\"SR\",SUM(F39,I39,L39,O39,R39,U39),\"\")","v":""},{"$f":"IF(COUNTBLANK(Registration!B38)=1,\"\",IF(Registration!E38=\"SR\",Registration!B38,\"\"))","v":""},{"$f":"IF(Registration!E38=\"SR\",'Aussie Round'!V39,\"\")","v":""},{"$f":"IF(AND(Registration!E38=\"SR\",COUNTBLANK(D39)=0),RANK(D39,D$3:D$101,0),\"\")","v":""},{"$f":"IF(AND(Registration!$E38=\"SR\",COUNTBLANK(E39)=0),placingpoints(E39,COUNTIF(E$3:E$101,\"=\"&E39)),\"\")","v":""},{"$f":"IF(Registration!$E38=\"SR\",Accuracy!L38,\"\")","v":""},{"$f":"IF(AND(Registration!$E38=\"SR\",COUNTBLANK(G39)=0),RANK(G39,G$3:G$102,0),\"\")","v":""},{"$f":"IF(AND(Registration!$E38=\"SR\",COUNTBLANK(H39)=0),placingpoints(H39,COUNTIF(H$3:H$102,\"=\"&H39)),\"\")","v":""},{"$f":"IF(Registration!E38=\"SR\",MTA!G38,\"\")","v":""},{"$f":"IF(AND(Registration!E38=\"SR\",COUNTBLANK(J39)=0),RANK(J39,J$3:J$101,0),\"\")","v":""},{"$f":"IF(AND(Registration!$E38=\"SR\",COUNTBLANK(K39)=0),placingpoints(K39,COUNTIF(K$3:K$101,\"=\"&K39)),\"\")","v":""},{"$f":"IF(Registration!E38=\"SR\",'Trick Catch'!X39,\"\")","v":""},{"$f":"IF(AND(Registration!E38=\"SR\",COUNTBLANK(M39)=0),RANK(M39,M$3:M$101,0),\"\")","v":""},{"$f":"IF(AND(Registration!$E38=\"SR\",COUNTBLANK(N39)=0),placingpoints(N39,COUNTIF(N$3:N$101,\"=\"&N39)),\"\")","v":""},{"$f":"IF(Registration!E38=\"SR\",'Fast Catch'!F38,\"\")","v":""},{"$f":"IF(AND(Registration!E38=\"SR\",COUNTBLANK(P39)=0),RANK(P39,P$3:P$101,1),\"\")","v":""},{"$f":"IF(AND(Registration!$E38=\"SR\",COUNTBLANK(Q39)=0),placingpoints(Q39,COUNTIF(Q$3:Q$101,\"=\"&Q39)),\"\")","v":""},{"$f":"IF(Registration!E38=\"SR\",Endurance!C38,\"\")","v":""},{"$f":"IF(AND(Registration!E38=\"SR\",COUNTBLANK(S39)=0),RANK(S39,S$3:S$101,0),\"\")","v":""},{"$f":"IF(AND(Registration!$E38=\"SR\",COUNTBLANK(T39)=0),placingpoints(T39,COUNTIF(T$3:T$101,\"=\"&T39)),\"\")","v":""}]
[{"$f":"IF(Registration!E39=\"SR\",RANK(B40,$B$3:$B$101,1),\"\")","v":""},{"$f":"IF(Registration!E39=\"SR\",SUM(F40,I40,L40,O40,R40,U40),\"\")","v":""},{"$f":"IF(COUNTBLANK(Registration!B39)=1,\"\",IF(Registration!E39=\"SR\",Registration!B39,\"\"))","v":""},{"$f":"IF(Registration!E39=\"SR\",'Aussie Round'!V40,\"\")","v":""},{"$f":"IF(AND(Registration!E39=\"SR\",COUNTBLANK(D40)=0),RANK(D40,D$3:D$101,0),\"\")","v":""},{"$f":"IF(AND(Registration!$E39=\"SR\",COUNTBLANK(E40)=0),placingpoints(E40,COUNTIF(E$3:E$101,\"=\"&E40)),\"\")","v":""},{"$f":"IF(Registration!$E39=\"SR\",Accuracy!L39,\"\")","v":""},{"$f":"IF(AND(Registration!$E39=\"SR\",COUNTBLANK(G40)=0),RANK(G40,G$3:G$102,0),\"\")","v":""},{"$f":"IF(AND(Registration!$E39=\"SR\",COUNTBLANK(H40)=0),placingpoints(H40,COUNTIF(H$3:H$102,\"=\"&H40)),\"\")","v":""},{"$f":"IF(Registration!E39=\"SR\",MTA!G39,\"\")","v":""},{"$f":"IF(AND(Registration!E39=\"SR\",COUNTBLANK(J40)=0),RANK(J40,J$3:J$101,0),\"\")","v":""},{"$f":"IF(AND(Registration!$E39=\"SR\",COUNTBLANK(K40)=0),placingpoints(K40,COUNTIF(K$3:K$101,\"=\"&K40)),\"\")","v":""},{"$f":"IF(Registration!E39=\"SR\",'Trick Catch'!X40,\"\")","v":""},{"$f":"IF(AND(Registration!E39=\"SR\",COUNTBLANK(M40)=0),RANK(M40,M$3:M$101,0),\"\")","v":""},{"$f":"IF(AND(Registration!$E39=\"SR\",COUNTBLANK(N40)=0),placingpoints(N40,COUNTIF(N$3:N$101,\"=\"&N40)),\"\")","v":""},{"$f":"IF(Registration!E39=\"SR\",'Fast Catch'!F39,\"\")","v":""},{"$f":"IF(AND(Registration!E39=\"SR\",COUNTBLANK(P40)=0),RANK(P40,P$3:P$101,1),\"\")","v":""},{"$f":"IF(AND(Registration!$E39=\"SR\",COUNTBLANK(Q40)=0),placingpoints(Q40,COUNTIF(Q$3:Q$101,\"=\"&Q40)),\"\")","v":""},{"$f":"IF(Registration!E39=\"SR\",Endurance!C39,\"\")","v":""},{"$f":"IF(AND(Registration!E39=\"SR\",COUNTBLANK(S40)=0),RANK(S40,S$3:S$101,0),\"\")","v":""},{"$f":"IF(AND(Registration!$E39=\"SR\",COUNTBLANK(T40)=0),placingpoints(T40,COUNTIF(T$3:T$101,\"=\"&T40)),\"\")","v":""}]
[{"$f":"IF(Registration!E40=\"SR\",RANK(B41,$B$3:$B$101,1),\"\")","v":""},{"$f":"IF(Registration!E40=\"SR\",SUM(F41,I41,L41,O41,R41,U41),\"\")","v":""},{"$f":"IF(COUNTBLANK(Registration!B40)=1,\"\",IF(Registration!E40=\"SR\",Registration!B40,\"\"))","v":""},{"$f":"IF(Registration!E40=\"SR\",'Aussie Round'!V41,\"\")","v":""},{"$f":"IF(AND(Registration!E40=\"SR\",COUNTBLANK(D41)=0),RANK(D41,D$3:D$101,0),\"\")","v":""},{"$f":"IF(AND(Registration!$E40=\"SR\",COUNTBLANK(E41)=0),placingpoints(E41,COUNTIF(E$3:E$101,\"=\"&E41)),\"\")","v":""},{"$f":"IF(Registration!$E40=\"SR\",Accuracy!L40,\"\")","v":""},{"$f":"IF(AND(Registration!$E40=\"SR\",COUNTBLANK(G41)=0),RANK(G41,G$3:G$102,0),\"\")","v":""},{"$f":"IF(AND(Registration!$E40=\"SR\",COUNTBLANK(H41)=0),placingpoints(H41,COUNTIF(H$3:H$102,\"=\"&H41)),\"\")","v":""},{"$f":"IF(Registration!E40=\"SR\",MTA!G40,\"\")","v":""},{"$f":"IF(AND(Registration!E40=\"SR\",COUNTBLANK(J41)=0),RANK(J41,J$3:J$101,0),\"\")","v":""},{"$f":"IF(AND(Registration!$E40=\"SR\",COUNTBLANK(K41)=0),placingpoints(K41,COUNTIF(K$3:K$101,\"=\"&K41)),\"\")","v":""},{"$f":"IF(Registration!E40=\"SR\",'Trick Catch'!X41,\"\")","v":""},{"$f":"IF(AND(Registration!E40=\"SR\",COUNTBLANK(M41)=0),RANK(M41,M$3:M$101,0),\"\")","v":""},{"$f":"IF(AND(Registration!$E40=\"SR\",COUNTBLANK(N41)=0),placingpoints(N41,COUNTIF(N$3:N$101,\"=\"&N41)),\"\")","v":""},{"$f":"IF(Registration!E40=\"SR\",'Fast Catch'!F40,\"\")","v":""},{"$f":"IF(AND(Registration!E40=\"SR\",COUNTBLANK(P41)=0),RANK(P41,P$3:P$101,1),\"\")","v":""},{"$f":"IF(AND(Registration!$E40=\"SR\",COUNTBLANK(Q41)=0),placingpoints(Q41,COUNTIF(Q$3:Q$101,\"=\"&Q41)),\"\")","v":""},{"$f":"IF(Registration!E40=\"SR\",Endurance!C40,\"\")","v":""},{"$f":"IF(AND(Registration!E40=\"SR\",COUNTBLANK(S41)=0),RANK(S41,S$3:S$101,0),\"\")","v":""},{"$f":"IF(AND(Registration!$E40=\"SR\",COUNTBLANK(T41)=0),placingpoints(T41,COUNTIF(T$3:T$101,\"=\"&T41)),\"\")","v":""}]
[{"$f":"IF(Registration!E41=\"SR\",RANK(B42,$B$3:$B$101,1),\"\")","v":""},{"$f":"IF(Registration!E41=\"SR\",SUM(F42,I42,L42,O42,R42,U42),\"\")","v":""},{"$f":"IF(COUNTBLANK(Registration!B41)=1,\"\",IF(Registration!E41=\"SR\",Registration!B41,\"\"))","v":""},{"$f":"IF(Registration!E41=\"SR\",'Aussie Round'!V42,\"\")","v":""},{"$f":"IF(AND(Registration!E41=\"SR\",COUNTBLANK(D42)=0),RANK(D42,D$3:D$101,0),\"\")","v":""},{"$f":"IF(AND(Registration!$E41=\"SR\",COUNTBLANK(E42)=0),placingpoints(E42,COUNTIF(E$3:E$101,\"=\"&E42)),\"\")","v":""},{"$f":"IF(Registration!$E41=\"SR\",Accuracy!L41,\"\")","v":""},{"$f":"IF(AND(Registration!$E41=\"SR\",COUNTBLANK(G42)=0),RANK(G42,G$3:G$102,0),\"\")","v":""},{"$f":"IF(AND(Registration!$E41=\"SR\",COUNTBLANK(H42)=0),placingpoints(H42,COUNTIF(H$3:H$102,\"=\"&H42)),\"\")","v":""},{"$f":"IF(Registration!E41=\"SR\",MTA!G41,\"\")","v":""},{"$f":"IF(AND(Registration!E41=\"SR\",COUNTBLANK(J42)=0),RANK(J42,J$3:J$101,0),\"\")","v":""},{"$f":"IF(AND(Registration!$E41=\"SR\",COUNTBLANK(K42)=0),placingpoints(K42,COUNTIF(K$3:K$101,\"=\"&K42)),\"\")","v":""},{"$f":"IF(Registration!E41=\"SR\",'Trick Catch'!X42,\"\")","v":""},{"$f":"IF(AND(Registration!E41=\"SR\",COUNTBLANK(M42)=0),RANK(M42,M$3:M$101,0),\"\")","v":""},{"$f":"IF(AND(Registration!$E41=\"SR\",COUNTBLANK(N42)=0),placingpoints(N42,COUNTIF(N$3:N$101,\"=\"&N42)),\"\")","v":""},{"$f":"IF(Registration!E41=\"SR\",'Fast Catch'!F41,\"\")","v":""},{"$f":"IF(AND(Registration!E41=\"SR\",COUNTBLANK(P42)=0),RANK(P42,P$3:P$101,1),\"\")","v":""},{"$f":"IF(AND(Registration!$E41=\"SR\",COUNTBLANK(Q42)=0),placingpoints(Q42,COUNTIF(Q$3:Q$101,\"=\"&Q42)),\"\")","v":""},{"$f":"IF(Registration!E41=\"SR\",Endurance!C41,\"\")","v":""},{"$f":"IF(AND(Registration!E41=\"SR\",COUNTBLANK(S42)=0),RANK(S42,S$3:S$101,0),\"\")","v":""},{"$f":"IF(AND(Registration!$E41=\"SR\",COUNTBLANK(T42)=0),placingpoints(T42,COUNTIF(T$3:T$101,\"=\"&T42)),\"\")","v":""}]
[{"$f":"IF(Registration!E42=\"SR\",RANK(B43,$B$3:$B$101,1),\"\")","v":""},{"$f":"IF(Registration!E42=\"SR\",SUM(F43,I43,L43,O43,R43,U43),\"\")","v":""},{"$f":"IF(COUNTBLANK(Registration!B42)=1,\"\",IF(Registration!E42=\"SR\",Registration!B42,\"\"))","v":""},{"$f":"IF(Registration!E42=\"SR\",'Aussie Round'!V43,\"\")","v":""},{"$f":"IF(AND(Registration!E42=\"SR\",COUNTBLANK(D43)=0),RANK(D43,D$3:D$101,0),\"\")","v":""},{"$f":"IF(AND(Registration!$E42=\"SR\",COUNTBLANK(E43)=0),placingpoints(E43,COUNTIF(E$3:E$101,\"=\"&E43)),\"\")","v":""},{"$f":"IF(Registration!$E42=\"SR\",Accuracy!L42,\"\")","v":""},{"$f":"IF(AND(Registration!$E42=\"SR\",COUNTBLANK(G43)=0),RANK(G43,G$3:G$102,0),\"\")","v":""},{"$f":"IF(AND(Registration!$E42=\"SR\",COUNTBLANK(H43)=0),placingpoints(H43,COUNTIF(H$3:H$102,\"=\"&H43)),\"\")","v":""},{"$f":"IF(Registration!E42=\"SR\",MTA!G42,\"\")","v":""},{"$f":"IF(AND(Registration!E42=\"SR\",COUNTBLANK(J43)=0),RANK(J43,J$3:J$101,0),\"\")","v":""},{"$f":"IF(AND(Registration!$E42=\"SR\",COUNTBLANK(K43)=0),placingpoints(K43,COUNTIF(K$3:K$101,\"=\"&K43)),\"\")","v":""},{"$f":"IF(Registration!E42=\"SR\",'Trick Catch'!X43,\"\")","v":""},{"$f":"IF(AND(Registration!E42=\"SR\",COUNTBLANK(M43)=0),RANK(M43,M$3:M$101,0),\"\")","v":""},{"$f":"IF(AND(Registration!$E42=\"SR\",COUNTBLANK(N43)=0),placingpoints(N43,COUNTIF(N$3:N$101,\"=\"&N43)),\"\")","v":""},{"$f":"IF(Registration!E42=\"SR\",'Fast Catch'!F42,\"\")","v":""},{"$f":"IF(AND(Registration!E42=\"SR\",COUNTBLANK(P43)=0),RANK(P43,P$3:P$101,1),\"\")","v":""},{"$f":"IF(AND(Registration!$E42=\"SR\",COUNTBLANK(Q43)=0),placingpoints(Q43,COUNTIF(Q$3:Q$101,\"=\"&Q43)),\"\")","v":""},{"$f":"IF(Registration!E42=\"SR\",Endurance!C42,\"\")","v":""},{"$f":"IF(AND(Registration!E42=\"SR\",COUNTBLANK(S43)=0),RANK(S43,S$3:S$101,0),\"\")","v":""},{"$f":"IF(AND(Registration!$E42=\"SR\",COUNTBLANK(T43)=0),placingpoints(T43,COUNTIF(T$3:T$101,\"=\"&T43)),\"\")","v":""}]
[{"$f":"IF(Registration!E43=\"SR\",RANK(B44,$B$3:$B$101,1),\"\")","v":""},{"$f":"IF(Registration!E43=\"SR\",SUM(F44,I44,L44,O44,R44,U44),\"\")","v":""},{"$f":"IF(COUNTBLANK(Registration!B43)=1,\"\",IF(Registration!E43=\"SR\",Registration!B43,\"\"))","v":""},{"$f":"IF(Registration!E43=\"SR\",'Aussie Round'!V44,\"\")","v":""},{"$f":"IF(AND(Registration!E43=\"SR\",COUNTBLANK(D44)=0),RANK(D44,D$3:D$101,0),\"\")","v":""},{"$f":"IF(AND(Registration!$E43=\"SR\",COUNTBLANK(E44)=0),placingpoints(E44,COUNTIF(E$3:E$101,\"=\"&E44)),\"\")","v":""},{"$f":"IF(Registration!$E43=\"SR\",Accuracy!L43,\"\")","v":""},{"$f":"IF(AND(Registration!$E43=\"SR\",COUNTBLANK(G44)=0),RANK(G44,G$3:G$102,0),\"\")","v":""},{"$f":"IF(AND(Registration!$E43=\"SR\",COUNTBLANK(H44)=0),placingpoints(H44,COUNTIF(H$3:H$102,\"=\"&H44)),\"\")","v":""},{"$f":"IF(Registration!E43=\"SR\",MTA!G43,\"\")","v":""},{"$f":"IF(AND(Registration!E43=\"SR\",COUNTBLANK(J44)=0),RANK(J44,J$3:J$101,0),\"\")","v":""},{"$f":"IF(AND(Registration!$E43=\"SR\",COUNTBLANK(K44)=0),placingpoints(K44,COUNTIF(K$3:K$101,\"=\"&K44)),\"\")","v":""},{"$f":"IF(Registration!E43=\"SR\",'Trick Catch'!X44,\"\")","v":""},{"$f":"IF(AND(Registration!E43=\"SR\",COUNTBLANK(M44)=0),RANK(M44,M$3:M$101,0),\"\")","v":""},{"$f":"IF(AND(Registration!$E43=\"SR\",COUNTBLANK(N44)=0),placingpoints(N44,COUNTIF(N$3:N$101,\"=\"&N44)),\"\")","v":""},{"$f":"IF(Registration!E43=\"SR\",'Fast Catch'!F43,\"\")","v":""},{"$f":"IF(AND(Registration!E43=\"SR\",COUNTBLANK(P44)=0),RANK(P44,P$3:P$101,1),\"\")","v":""},{"$f":"IF(AND(Registration!$E43=\"SR\",COUNTBLANK(Q44)=0),placingpoints(Q44,COUNTIF(Q$3:Q$101,\"=\"&Q44)),\"\")","v":""},{"$f":"IF(Registration!E43=\"SR\",Endurance!C43,\"\")","v":""},{"$f":"IF(AND(Registration!E43=\"SR\",COUNTBLANK(S44)=0),RANK(S44,S$3:S$101,0),\"\")","v":""},{"$f":"IF(AND(Registration!$E43=\"SR\",COUNTBLANK(T44)=0),placingpoints(T44,COUNTIF(T$3:T$101,\"=\"&T44)),\"\")","v":""}]
[{"$f":"IF(Registration!E44=\"SR\",RANK(B45,$B$3:$B$101,1),\"\")","v":""},{"$f":"IF(Registration!E44=\"SR\",SUM(F45,I45,L45,O45,R45,U45),\"\")","v":""},{"$f":"IF(COUNTBLANK(Registration!B44)=1,\"\",IF(Registration!E44=\"SR\",Registration!B44,\"\"))","v":""},{"$f":"IF(Registration!E44=\"SR\",'Aussie Round'!V45,\"\")","v":""},{"$f":"IF(AND(Registration!E44=\"SR\",COUNTBLANK(D45)=0),RANK(D45,D$3:D$101,0),\"\")","v":""},{"$f":"IF(AND(Registration!$E44=\"SR\",COUNTBLANK(E45)=0),placingpoints(E45,COUNTIF(E$3:E$101,\"=\"&E45)),\"\")","v":""},{"$f":"IF(Registration!$E44=\"SR\",Accuracy!L44,\"\")","v":""},{"$f":"IF(AND(Registration!$E44=\"SR\",COUNTBLANK(G45)=0),RANK(G45,G$3:G$102,0),\"\")","v":""},{"$f":"IF(AND(Registration!$E44=\"SR\",COUNTBLANK(H45)=0),placingpoints(H45,COUNTIF(H$3:H$102,\"=\"&H45)),\"\")","v":""},{"$f":"IF(Registration!E44=\"SR\",MTA!G44,\"\")","v":""},{"$f":"IF(AND(Registration!E44=\"SR\",COUNTBLANK(J45)=0),RANK(J45,J$3:J$101,0),\"\")","v":""},{"$f":"IF(AND(Registration!$E44=\"SR\",COUNTBLANK(K45)=0),placingpoints(K45,COUNTIF(K$3:K$101,\"=\"&K45)),\"\")","v":""},{"$f":"IF(Registration!E44=\"SR\",'Trick Catch'!X45,\"\")","v":""},{"$f":"IF(AND(Registration!E44=\"SR\",COUNTBLANK(M45)=0),RANK(M45,M$3:M$101,0),\"\")","v":""},{"$f":"IF(AND(Registration!$E44=\"SR\",COUNTBLANK(N45)=0),placingpoints(N45,COUNTIF(N$3:N$101,\"=\"&N45)),\"\")","v":""},{"$f":"IF(Registration!E44=\"SR\",'Fast Catch'!F44,\"\")","v":""},{"$f":"IF(AND(Registration!E44=\"SR\",COUNTBLANK(P45)=0),RANK(P45,P$3:P$101,1),\"\")","v":""},{"$f":"IF(AND(Registration!$E44=\"SR\",COUNTBLANK(Q45)=0),placingpoints(Q45,COUNTIF(Q$3:Q$101,\"=\"&Q45)),\"\")","v":""},{"$f":"IF(Registration!E44=\"SR\",Endurance!C44,\"\")","v":""},{"$f":"IF(AND(Registration!E44=\"SR\",COUNTBLANK(S45)=0),RANK(S45,S$3:S$101,0),\"\")","v":""},{"$f":"IF(AND(Registration!$E44=\"SR\",COUNTBLANK(T45)=0),placingpoints(T45,COUNTIF(T$3:T$101,\"=\"&T45)),\"\")","v":""}]
[{"$f":"IF(Registration!E45=\"SR\",RANK(B46,$B$3:$B$101,1),\"\")","v":""},{"$f":"IF(Registration!E45=\"SR\",SUM(F46,I46,L46,O46,R46,U46),\"\")","v":""},{"$f":"IF(COUNTBLANK(Registration!B45)=1,\"\",IF(Registration!E45=\"SR\",Registration!B45,\"\"))","v":""},{"$f":"IF(Registration!E45=\"SR\",'Aussie Round'!V46,\"\")","v":""},{"$f":"IF(AND(Registration!E45=\"SR\",COUNTBLANK(D46)=0),RANK(D46,D$3:D$101,0),\"\")","v":""},{"$f":"IF(AND(Registration!$E45=\"SR\",COUNTBLANK(E46)=0),placingpoints(E46,COUNTIF(E$3:E$101,\"=\"&E46)),\"\")","v":""},{"$f":"IF(Registration!$E45=\"SR\",Accuracy!L45,\"\")","v":""},{"$f":"IF(AND(Registration!$E45=\"SR\",COUNTBLANK(G46)=0),RANK(G46,G$3:G$102,0),\"\")","v":""},{"$f":"IF(AND(Registration!$E45=\"SR\",COUNTBLANK(H46)=0),placingpoints(H46,COUNTIF(H$3:H$102,\"=\"&H46)),\"\")","v":""},{"$f":"IF(Registration!E45=\"SR\",MTA!G45,\"\")","v":""},{"$f":"IF(AND(Registration!E45=\"SR\",COUNTBLANK(J46)=0),RANK(J46,J$3:J$101,0),\"\")","v":""},{"$f":"IF(AND(Registration!$E45=\"SR\",COUNTBLANK(K46)=0),placingpoints(K46,COUNTIF(K$3:K$101,\"=\"&K46)),\"\")","v":""},{"$f":"IF(Registration!E45=\"SR\",'Trick Catch'!X46,\"\")","v":""},{"$f":"IF(AND(Registration!E45=\"SR\",COUNTBLANK(M46)=0),RANK(M46,M$3:M$101,0),\"\")","v":""},{"$f":"IF(AND(Registration!$E45=\"SR\",COUNTBLANK(N46)=0),placingpoints(N46,COUNTIF(N$3:N$101,\"=\"&N46)),\"\")","v":""},{"$f":"IF(Registration!E45=\"SR\",'Fast Catch'!F45,\"\")","v":""},{"$f":"IF(AND(Registration!E45=\"SR\",COUNTBLANK(P46)=0),RANK(P46,P$3:P$101,1),\"\")","v":""},{"$f":"IF(AND(Registration!$E45=\"SR\",COUNTBLANK(Q46)=0),placingpoints(Q46,COUNTIF(Q$3:Q$101,\"=\"&Q46)),\"\")","v":""},{"$f":"IF(Registration!E45=\"SR\",Endurance!C45,\"\")","v":""},{"$f":"IF(AND(Registration!E45=\"SR\",COUNTBLANK(S46)=0),RANK(S46,S$3:S$101,0),\"\")","v":""},{"$f":"IF(AND(Registration!$E45=\"SR\",COUNTBLANK(T46)=0),placingpoints(T46,COUNTIF(T$3:T$101,\"=\"&T46)),\"\")","v":""}]
[{"$f":"IF(Registration!E46=\"SR\",RANK(B47,$B$3:$B$101,1),\"\")","v":""},{"$f":"IF(Registration!E46=\"SR\",SUM(F47,I47,L47,O47,R47,U47),\"\")","v":""},{"$f":"IF(COUNTBLANK(Registration!B46)=1,\"\",IF(Registration!E46=\"SR\",Registration!B46,\"\"))","v":""},{"$f":"IF(Registration!E46=\"SR\",'Aussie Round'!V47,\"\")","v":""},{"$f":"IF(AND(Registration!E46=\"SR\",COUNTBLANK(D47)=0),RANK(D47,D$3:D$101,0),\"\")","v":""},{"$f":"IF(AND(Registration!$E46=\"SR\",COUNTBLANK(E47)=0),placingpoints(E47,COUNTIF(E$3:E$101,\"=\"&E47)),\"\")","v":""},{"$f":"IF(Registration!$E46=\"SR\",Accuracy!L46,\"\")","v":""},{"$f":"IF(AND(Registration!$E46=\"SR\",COUNTBLANK(G47)=0),RANK(G47,G$3:G$102,0),\"\")","v":""},{"$f":"IF(AND(Registration!$E46=\"SR\",COUNTBLANK(H47)=0),placingpoints(H47,COUNTIF(H$3:H$102,\"=\"&H47)),\"\")","v":""},{"$f":"IF(Registration!E46=\"SR\",MTA!G46,\"\")","v":""},{"$f":"IF(AND(Registration!E46=\"SR\",COUNTBLANK(J47)=0),RANK(J47,J$3:J$101,0),\"\")","v":""},{"$f":"IF(AND(Registration!$E46=\"SR\",COUNTBLANK(K47)=0),placingpoints(K47,COUNTIF(K$3:K$101,\"=\"&K47)),\"\")","v":""},{"$f":"IF(Registration!E46=\"SR\",'Trick Catch'!X47,\"\")","v":""},{"$f":"IF(AND(Registration!E46=\"SR\",COUNTBLANK(M47)=0),RANK(M47,M$3:M$101,0),\"\")","v":""},{"$f":"IF(AND(Registration!$E46=\"SR\",COUNTBLANK(N47)=0),placingpoints(N47,COUNTIF(N$3:N$101,\"=\"&N47)),\"\")","v":""},{"$f":"IF(Registration!E46=\"SR\",'Fast Catch'!F46,\"\")","v":""},{"$f":"IF(AND(Registration!E46=\"SR\",COUNTBLANK(P47)=0),RANK(P47,P$3:P$101,1),\"\")","v":""},{"$f":"IF(AND(Registration!$E46=\"SR\",COUNTBLANK(Q47)=0),placingpoints(Q47,COUNTIF(Q$3:Q$101,\"=\"&Q47)),\"\")","v":""},{"$f":"IF(Registration!E46=\"SR\",Endurance!C46,\"\")","v":""},{"$f":"IF(AND(Registration!E46=\"SR\",COUNTBLANK(S47)=0),RANK(S47,S$3:S$101,0),\"\")","v":""},{"$f":"IF(AND(Registration!$E46=\"SR\",COUNTBLANK(T47)=0),placingpoints(T47,COUNTIF(T$3:T$101,\"=\"&T47)),\"\")","v":""}]
[{"$f":"IF(Registration!E47=\"SR\",RANK(B48,$B$3:$B$101,1),\"\")","v":""},{"$f":"IF(Registration!E47=\"SR\",SUM(F48,I48,L48,O48,R48,U48),\"\")","v":""},{"$f":"IF(COUNTBLANK(Registration!B47)=1,\"\",IF(Registration!E47=\"SR\",Registration!B47,\"\"))","v":""},{"$f":"IF(Registration!E47=\"SR\",'Aussie Round'!V48,\"\")","v":""},{"$f":"IF(AND(Registration!E47=\"SR\",COUNTBLANK(D48)=0),RANK(D48,D$3:D$101,0),\"\")","v":""},{"$f":"IF(AND(Registration!$E47=\"SR\",COUNTBLANK(E48)=0),placingpoints(E48,COUNTIF(E$3:E$101,\"=\"&E48)),\"\")","v":""},{"$f":"IF(Registration!$E47=\"SR\",Accuracy!L47,\"\")","v":""},{"$f":"IF(AND(Registration!$E47=\"SR\",COUNTBLANK(G48)=0),RANK(G48,G$3:G$102,0),\"\")","v":""},{"$f":"IF(AND(Registration!$E47=\"SR\",COUNTBLANK(H48)=0),placingpoints(H48,COUNTIF(H$3:H$102,\"=\"&H48)),\"\")","v":""},{"$f":"IF(Registration!E47=\"SR\",MTA!G47,\"\")","v":""},{"$f":"IF(AND(Registration!E47=\"SR\",COUNTBLANK(J48)=0),RANK(J48,J$3:J$101,0),\"\")","v":""},{"$f":"IF(AND(Registration!$E47=\"SR\",COUNTBLANK(K48)=0),placingpoints(K48,COUNTIF(K$3:K$101,\"=\"&K48)),\"\")","v":""},{"$f":"IF(Registration!E47=\"SR\",'Trick Catch'!X48,\"\")","v":""},{"$f":"IF(AND(Registration!E47=\"SR\",COUNTBLANK(M48)=0),RANK(M48,M$3:M$101,0),\"\")","v":""},{"$f":"IF(AND(Registration!$E47=\"SR\",COUNTBLANK(N48)=0),placingpoints(N48,COUNTIF(N$3:N$101,\"=\"&N48)),\"\")","v":""},{"$f":"IF(Registration!E47=\"SR\",'Fast Catch'!F47,\"\")","v":""},{"$f":"IF(AND(Registration!E47=\"SR\",COUNTBLANK(P48)=0),RANK(P48,P$3:P$101,1),\"\")","v":""},{"$f":"IF(AND(Registration!$E47=\"SR\",COUNTBLANK(Q48)=0),placingpoints(Q48,COUNTIF(Q$3:Q$101,\"=\"&Q48)),\"\")","v":""},{"$f":"IF(Registration!E47=\"SR\",Endurance!C47,\"\")","v":""},{"$f":"IF(AND(Registration!E47=\"SR\",COUNTBLANK(S48)=0),RANK(S48,S$3:S$101,0),\"\")","v":""},{"$f":"IF(AND(Registration!$E47=\"SR\",COUNTBLANK(T48)=0),placingpoints(T48,COUNTIF(T$3:T$101,\"=\"&T48)),\"\")","v":""}]
[{"$f":"IF(Registration!E48=\"SR\",RANK(B49,$B$3:$B$101,1),\"\")","v":""},{"$f":"IF(Registration!E48=\"SR\",SUM(F49,I49,L49,O49,R49,U49),\"\")","v":""},{"$f":"IF(COUNTBLANK(Registration!B48)=1,\"\",IF(Registration!E48=\"SR\",Registration!B48,\"\"))","v":""},{"$f":"IF(Registration!E48=\"SR\",'Aussie Round'!V49,\"\")","v":""},{"$f":"IF(AND(Registration!E48=\"SR\",COUNTBLANK(D49)=0),RANK(D49,D$3:D$101,0),\"\")","v":""},{"$f":"IF(AND(Registration!$E48=\"SR\",COUNTBLANK(E49)=0),placingpoints(E49,COUNTIF(E$3:E$101,\"=\"&E49)),\"\")","v":""},{"$f":"IF(Registration!$E48=\"SR\",Accuracy!L48,\"\")","v":""},{"$f":"IF(AND(Registration!$E48=\"SR\",COUNTBLANK(G49)=0),RANK(G49,G$3:G$102,0),\"\")","v":""},{"$f":"IF(AND(Registration!$E48=\"SR\",COUNTBLANK(H49)=0),placingpoints(H49,COUNTIF(H$3:H$102,\"=\"&H49)),\"\")","v":""},{"$f":"IF(Registration!E48=\"SR\",MTA!G48,\"\")","v":""},{"$f":"IF(AND(Registration!E48=\"SR\",COUNTBLANK(J49)=0),RANK(J49,J$3:J$101,0),\"\")","v":""},{"$f":"IF(AND(Registration!$E48=\"SR\",COUNTBLANK(K49)=0),placingpoints(K49,COUNTIF(K$3:K$101,\"=\"&K49)),\"\")","v":""},{"$f":"IF(Registration!E48=\"SR\",'Trick Catch'!X49,\"\")","v":""},{"$f":"IF(AND(Registration!E48=\"SR\",COUNTBLANK(M49)=0),RANK(M49,M$3:M$101,0),\"\")","v":""},{"$f":"IF(AND(Registration!$E48=\"SR\",COUNTBLANK(N49)=0),placingpoints(N49,COUNTIF(N$3:N$101,\"=\"&N49)),\"\")","v":""},{"$f":"IF(Registration!E48=\"SR\",'Fast Catch'!F48,\"\")","v":""},{"$f":"IF(AND(Registration!E48=\"SR\",COUNTBLANK(P49)=0),RANK(P49,P$3:P$101,1),\"\")","v":""},{"$f":"IF(AND(Registration!$E48=\"SR\",COUNTBLANK(Q49)=0),placingpoints(Q49,COUNTIF(Q$3:Q$101,\"=\"&Q49)),\"\")","v":""},{"$f":"IF(Registration!E48=\"SR\",Endurance!C48,\"\")","v":""},{"$f":"IF(AND(Registration!E48=\"SR\",COUNTBLANK(S49)=0),RANK(S49,S$3:S$101,0),\"\")","v":""},{"$f":"IF(AND(Registration!$E48=\"SR\",COUNTBLANK(T49)=0),placingpoints(T49,COUNTIF(T$3:T$101,\"=\"&T49)),\"\")","v":""}]
[{"$f":"IF(Registration!E49=\"SR\",RANK(B50,$B$3:$B$101,1),\"\")","v":""},{"$f":"IF(Registration!E49=\"SR\",SUM(F50,I50,L50,O50,R50,U50),\"\")","v":""},{"$f":"IF(COUNTBLANK(Registration!B49)=1,\"\",IF(Registration!E49=\"SR\",Registration!B49,\"\"))","v":""},{"$f":"IF(Registration!E49=\"SR\",'Aussie Round'!V50,\"\")","v":""},{"$f":"IF(AND(Registration!E49=\"SR\",COUNTBLANK(D50)=0),RANK(D50,D$3:D$101,0),\"\")","v":""},{"$f":"IF(AND(Registration!$E49=\"SR\",COUNTBLANK(E50)=0),placingpoints(E50,COUNTIF(E$3:E$101,\"=\"&E50)),\"\")","v":""},{"$f":"IF(Registration!$E49=\"SR\",Accuracy!L49,\"\")","v":""},{"$f":"IF(AND(Registration!$E49=\"SR\",COUNTBLANK(G50)=0),RANK(G50,G$3:G$102,0),\"\")","v":""},{"$f":"IF(AND(Registration!$E49=\"SR\",COUNTBLANK(H50)=0),placingpoints(H50,COUNTIF(H$3:H$102,\"=\"&H50)),\"\")","v":""},{"$f":"IF(Registration!E49=\"SR\",MTA!G49,\"\")","v":""},{"$f":"IF(AND(Registration!E49=\"SR\",COUNTBLANK(J50)=0),RANK(J50,J$3:J$101,0),\"\")","v":""},{"$f":"IF(AND(Registration!$E49=\"SR\",COUNTBLANK(K50)=0),placingpoints(K50,COUNTIF(K$3:K$101,\"=\"&K50)),\"\")","v":""},{"$f":"IF(Registration!E49=\"SR\",'Trick Catch'!X50,\"\")","v":""},{"$f":"IF(AND(Registration!E49=\"SR\",COUNTBLANK(M50)=0),RANK(M50,M$3:M$101,0),\"\")","v":""},{"$f":"IF(AND(Registration!$E49=\"SR\",COUNTBLANK(N50)=0),placingpoints(N50,COUNTIF(N$3:N$101,\"=\"&N50)),\"\")","v":""},{"$f":"IF(Registration!E49=\"SR\",'Fast Catch'!F49,\"\")","v":""},{"$f":"IF(AND(Registration!E49=\"SR\",COUNTBLANK(P50)=0),RANK(P50,P$3:P$101,1),\"\")","v":""},{"$f":"IF(AND(Registration!$E49=\"SR\",COUNTBLANK(Q50)=0),placingpoints(Q50,COUNTIF(Q$3:Q$101,\"=\"&Q50)),\"\")","v":""},{"$f":"IF(Registration!E49=\"SR\",Endurance!C49,\"\")","v":""},{"$f":"IF(AND(Registration!E49=\"SR\",COUNTBLANK(S50)=0),RANK(S50,S$3:S$101,0),\"\")","v":""},{"$f":"IF(AND(Registration!$E49=\"SR\",COUNTBLANK(T50)=0),placingpoints(T50,COUNTIF(T$3:T$101,\"=\"&T50)),\"\")","v":""}]
[{"$f":"IF(Registration!E50=\"SR\",RANK(B51,$B$3:$B$101,1),\"\")","v":""},{"$f":"IF(Registration!E50=\"SR\",SUM(F51,I51,L51,O51,R51,U51),\"\")","v":""},{"$f":"IF(COUNTBLANK(Registration!B50)=1,\"\",IF(Registration!E50=\"SR\",Registration!B50,\"\"))","v":""},{"$f":"IF(Registration!E50=\"SR\",'Aussie Round'!V51,\"\")","v":""},{"$f":"IF(AND(Registration!E50=\"SR\",COUNTBLANK(D51)=0),RANK(D51,D$3:D$101,0),\"\")","v":""},{"$f":"IF(AND(Registration!$E50=\"SR\",COUNTBLANK(E51)=0),placingpoints(E51,COUNTIF(E$3:E$101,\"=\"&E51)),\"\")","v":""},{"$f":"IF(Registration!$E50=\"SR\",Accuracy!L50,\"\")","v":""},{"$f":"IF(AND(Registration!$E50=\"SR\",COUNTBLANK(G51)=0),RANK(G51,G$3:G$102,0),\"\")","v":""},{"$f":"IF(AND(Registration!$E50=\"SR\",COUNTBLANK(H51)=0),placingpoints(H51,COUNTIF(H$3:H$102,\"=\"&H51)),\"\")","v":""},{"$f":"IF(Registration!E50=\"SR\",MTA!G50,\"\")","v":""},{"$f":"IF(AND(Registration!E50=\"SR\",COUNTBLANK(J51)=0),RANK(J51,J$3:J$101,0),\"\")","v":""},{"$f":"IF(AND(Registration!$E50=\"SR\",COUNTBLANK(K51)=0),placingpoints(K51,COUNTIF(K$3:K$101,\"=\"&K51)),\"\")","v":""},{"$f":"IF(Registration!E50=\"SR\",'Trick Catch'!X51,\"\")","v":""},{"$f":"IF(AND(Registration!E50=\"SR\",COUNTBLANK(M51)=0),RANK(M51,M$3:M$101,0),\"\")","v":""},{"$f":"IF(AND(Registration!$E50=\"SR\",COUNTBLANK(N51)=0),placingpoints(N51,COUNTIF(N$3:N$101,\"=\"&N51)),\"\")","v":""},{"$f":"IF(Registration!E50=\"SR\",'Fast Catch'!F50,\"\")","v":""},{"$f":"IF(AND(Registration!E50=\"SR\",COUNTBLANK(P51)=0),RANK(P51,P$3:P$101,1),\"\")","v":""},{"$f":"IF(AND(Registration!$E50=\"SR\",COUNTBLANK(Q51)=0),placingpoints(Q51,COUNTIF(Q$3:Q$101,\"=\"&Q51)),\"\")","v":""},{"$f":"IF(Registration!E50=\"SR\",Endurance!C50,\"\")","v":""},{"$f":"IF(AND(Registration!E50=\"SR\",COUNTBLANK(S51)=0),RANK(S51,S$3:S$101,0),\"\")","v":""},{"$f":"IF(AND(Registration!$E50=\"SR\",COUNTBLANK(T51)=0),placingpoints(T51,COUNTIF(T$3:T$101,\"=\"&T51)),\"\")","v":""}]
[{"$f":"IF(Registration!E51=\"SR\",RANK(B52,$B$3:$B$101,1),\"\")","v":""},{"$f":"IF(Registration!E51=\"SR\",SUM(F52,I52,L52,O52,R52,U52),\"\")","v":""},{"$f":"IF(COUNTBLANK(Registration!B51)=1,\"\",IF(Registration!E51=\"SR\",Registration!B51,\"\"))","v":""},{"$f":"IF(Registration!E51=\"SR\",'Aussie Round'!V52,\"\")","v":""},{"$f":"IF(AND(Registration!E51=\"SR\",COUNTBLANK(D52)=0),RANK(D52,D$3:D$101,0),\"\")","v":""},{"$f":"IF(AND(Registration!$E51=\"SR\",COUNTBLANK(E52)=0),placingpoints(E52,COUNTIF(E$3:E$101,\"=\"&E52)),\"\")","v":""},{"$f":"IF(Registration!$E51=\"SR\",Accuracy!L51,\"\")","v":""},{"$f":"IF(AND(Registration!$E51=\"SR\",COUNTBLANK(G52)=0),RANK(G52,G$3:G$102,0),\"\")","v":""},{"$f":"IF(AND(Registration!$E51=\"SR\",COUNTBLANK(H52)=0),placingpoints(H52,COUNTIF(H$3:H$102,\"=\"&H52)),\"\")","v":""},{"$f":"IF(Registration!E51=\"SR\",MTA!G51,\"\")","v":""},{"$f":"IF(AND(Registration!E51=\"SR\",COUNTBLANK(J52)=0),RANK(J52,J$3:J$101,0),\"\")","v":""},{"$f":"IF(AND(Registration!$E51=\"SR\",COUNTBLANK(K52)=0),placingpoints(K52,COUNTIF(K$3:K$101,\"=\"&K52)),\"\")","v":""},{"$f":"IF(Registration!E51=\"SR\",'Trick Catch'!X52,\"\")","v":""},{"$f":"IF(AND(Registration!E51=\"SR\",COUNTBLANK(M52)=0),RANK(M52,M$3:M$101,0),\"\")","v":""},{"$f":"IF(AND(Registration!$E51=\"SR\",COUNTBLANK(N52)=0),placingpoints(N52,COUNTIF(N$3:N$101,\"=\"&N52)),\"\")","v":""},{"$f":"IF(Registration!E51=\"SR\",'Fast Catch'!F51,\"\")","v":""},{"$f":"IF(AND(Registration!E51=\"SR\",COUNTBLANK(P52)=0),RANK(P52,P$3:P$101,1),\"\")","v":""},{"$f":"IF(AND(Registration!$E51=\"SR\",COUNTBLANK(Q52)=0),placingpoints(Q52,COUNTIF(Q$3:Q$101,\"=\"&Q52)),\"\")","v":""},{"$f":"IF(Registration!E51=\"SR\",Endurance!C51,\"\")","v":""},{"$f":"IF(AND(Registration!E51=\"SR\",COUNTBLANK(S52)=0),RANK(S52,S$3:S$101,0),\"\")","v":""},{"$f":"IF(AND(Registration!$E51=\"SR\",COUNTBLANK(T52)=0),placingpoints(T52,COUNTIF(T$3:T$101,\"=\"&T52)),\"\")","v":""}]
[{"$f":"IF(Registration!E52=\"SR\",RANK(B53,$B$3:$B$101,1),\"\")","v":""},{"$f":"IF(Registration!E52=\"SR\",SUM(F53,I53,L53,O53,R53,U53),\"\")","v":""},{"$f":"IF(COUNTBLANK(Registration!B52)=1,\"\",IF(Registration!E52=\"SR\",Registration!B52,\"\"))","v":""},{"$f":"IF(Registration!E52=\"SR\",'Aussie Round'!V53,\"\")","v":""},{"$f":"IF(AND(Registration!E52=\"SR\",COUNTBLANK(D53)=0),RANK(D53,D$3:D$101,0),\"\")","v":""},{"$f":"IF(AND(Registration!$E52=\"SR\",COUNTBLANK(E53)=0),placingpoints(E53,COUNTIF(E$3:E$101,\"=\"&E53)),\"\")","v":""},{"$f":"IF(Registration!$E52=\"SR\",Accuracy!L52,\"\")","v":""},{"$f":"IF(AND(Registration!$E52=\"SR\",COUNTBLANK(G53)=0),RANK(G53,G$3:G$102,0),\"\")","v":""},{"$f":"IF(AND(Registration!$E52=\"SR\",COUNTBLANK(H53)=0),placingpoints(H53,COUNTIF(H$3:H$102,\"=\"&H53)),\"\")","v":""},{"$f":"IF(Registration!E52=\"SR\",MTA!G52,\"\")","v":""},{"$f":"IF(AND(Registration!E52=\"SR\",COUNTBLANK(J53)=0),RANK(J53,J$3:J$101,0),\"\")","v":""},{"$f":"IF(AND(Registration!$E52=\"SR\",COUNTBLANK(K53)=0),placingpoints(K53,COUNTIF(K$3:K$101,\"=\"&K53)),\"\")","v":""},{"$f":"IF(Registration!E52=\"SR\",'Trick Catch'!X53,\"\")","v":""},{"$f":"IF(AND(Registration!E52=\"SR\",COUNTBLANK(M53)=0),RANK(M53,M$3:M$101,0),\"\")","v":""},{"$f":"IF(AND(Registration!$E52=\"SR\",COUNTBLANK(N53)=0),placingpoints(N53,COUNTIF(N$3:N$101,\"=\"&N53)),\"\")","v":""},{"$f":"IF(Registration!E52=\"SR\",'Fast Catch'!F52,\"\")","v":""},{"$f":"IF(AND(Registration!E52=\"SR\",COUNTBLANK(P53)=0),RANK(P53,P$3:P$101,1),\"\")","v":""},{"$f":"IF(AND(Registration!$E52=\"SR\",COUNTBLANK(Q53)=0),placingpoints(Q53,COUNTIF(Q$3:Q$101,\"=\"&Q53)),\"\")","v":""},{"$f":"IF(Registration!E52=\"SR\",Endurance!C52,\"\")","v":""},{"$f":"IF(AND(Registration!E52=\"SR\",COUNTBLANK(S53)=0),RANK(S53,S$3:S$101,0),\"\")","v":""},{"$f":"IF(AND(Registration!$E52=\"SR\",COUNTBLANK(T53)=0),placingpoints(T53,COUNTIF(T$3:T$101,\"=\"&T53)),\"\")","v":""}]
[{"$f":"IF(Registration!E53=\"SR\",RANK(B54,$B$3:$B$101,1),\"\")","v":""},{"$f":"IF(Registration!E53=\"SR\",SUM(F54,I54,L54,O54,R54,U54),\"\")","v":""},{"$f":"IF(COUNTBLANK(Registration!B53)=1,\"\",IF(Registration!E53=\"SR\",Registration!B53,\"\"))","v":""},{"$f":"IF(Registration!E53=\"SR\",'Aussie Round'!V54,\"\")","v":""},{"$f":"IF(AND(Registration!E53=\"SR\",COUNTBLANK(D54)=0),RANK(D54,D$3:D$101,0),\"\")","v":""},{"$f":"IF(AND(Registration!$E53=\"SR\",COUNTBLANK(E54)=0),placingpoints(E54,COUNTIF(E$3:E$101,\"=\"&E54)),\"\")","v":""},{"$f":"IF(Registration!$E53=\"SR\",Accuracy!L53,\"\")","v":""},{"$f":"IF(AND(Registration!$E53=\"SR\",COUNTBLANK(G54)=0),RANK(G54,G$3:G$102,0),\"\")","v":""},{"$f":"IF(AND(Registration!$E53=\"SR\",COUNTBLANK(H54)=0),placingpoints(H54,COUNTIF(H$3:H$102,\"=\"&H54)),\"\")","v":""},{"$f":"IF(Registration!E53=\"SR\",MTA!G53,\"\")","v":""},{"$f":"IF(AND(Registration!E53=\"SR\",COUNTBLANK(J54)=0),RANK(J54,J$3:J$101,0),\"\")","v":""},{"$f":"IF(AND(Registration!$E53=\"SR\",COUNTBLANK(K54)=0),placingpoints(K54,COUNTIF(K$3:K$101,\"=\"&K54)),\"\")","v":""},{"$f":"IF(Registration!E53=\"SR\",'Trick Catch'!X54,\"\")","v":""},{"$f":"IF(AND(Registration!E53=\"SR\",COUNTBLANK(M54)=0),RANK(M54,M$3:M$101,0),\"\")","v":""},{"$f":"IF(AND(Registration!$E53=\"SR\",COUNTBLANK(N54)=0),placingpoints(N54,COUNTIF(N$3:N$101,\"=\"&N54)),\"\")","v":""},{"$f":"IF(Registration!E53=\"SR\",'Fast Catch'!F53,\"\")","v":""},{"$f":"IF(AND(Registration!E53=\"SR\",COUNTBLANK(P54)=0),RANK(P54,P$3:P$101,1),\"\")","v":""},{"$f":"IF(AND(Registration!$E53=\"SR\",COUNTBLANK(Q54)=0),placingpoints(Q54,COUNTIF(Q$3:Q$101,\"=\"&Q54)),\"\")","v":""},{"$f":"IF(Registration!E53=\"SR\",Endurance!C53,\"\")","v":""},{"$f":"IF(AND(Registration!E53=\"SR\",COUNTBLANK(S54)=0),RANK(S54,S$3:S$101,0),\"\")","v":""},{"$f":"IF(AND(Registration!$E53=\"SR\",COUNTBLANK(T54)=0),placingpoints(T54,COUNTIF(T$3:T$101,\"=\"&T54)),\"\")","v":""}]
[{"$f":"IF(Registration!E54=\"SR\",RANK(B55,$B$3:$B$101,1),\"\")","v":""},{"$f":"IF(Registration!E54=\"SR\",SUM(F55,I55,L55,O55,R55,U55),\"\")","v":""},{"$f":"IF(COUNTBLANK(Registration!B54)=1,\"\",IF(Registration!E54=\"SR\",Registration!B54,\"\"))","v":""},{"$f":"IF(Registration!E54=\"SR\",'Aussie Round'!V55,\"\")","v":""},{"$f":"IF(AND(Registration!E54=\"SR\",COUNTBLANK(D55)=0),RANK(D55,D$3:D$101,0),\"\")","v":""},{"$f":"IF(AND(Registration!$E54=\"SR\",COUNTBLANK(E55)=0),placingpoints(E55,COUNTIF(E$3:E$101,\"=\"&E55)),\"\")","v":""},{"$f":"IF(Registration!$E54=\"SR\",Accuracy!L54,\"\")","v":""},{"$f":"IF(AND(Registration!$E54=\"SR\",COUNTBLANK(G55)=0),RANK(G55,G$3:G$102,0),\"\")","v":""},{"$f":"IF(AND(Registration!$E54=\"SR\",COUNTBLANK(H55)=0),placingpoints(H55,COUNTIF(H$3:H$102,\"=\"&H55)),\"\")","v":""},{"$f":"IF(Registration!E54=\"SR\",MTA!G54,\"\")","v":""},{"$f":"IF(AND(Registration!E54=\"SR\",COUNTBLANK(J55)=0),RANK(J55,J$3:J$101,0),\"\")","v":""},{"$f":"IF(AND(Registration!$E54=\"SR\",COUNTBLANK(K55)=0),placingpoints(K55,COUNTIF(K$3:K$101,\"=\"&K55)),\"\")","v":""},{"$f":"IF(Registration!E54=\"SR\",'Trick Catch'!X55,\"\")","v":""},{"$f":"IF(AND(Registration!E54=\"SR\",COUNTBLANK(M55)=0),RANK(M55,M$3:M$101,0),\"\")","v":""},{"$f":"IF(AND(Registration!$E54=\"SR\",COUNTBLANK(N55)=0),placingpoints(N55,COUNTIF(N$3:N$101,\"=\"&N55)),\"\")","v":""},{"$f":"IF(Registration!E54=\"SR\",'Fast Catch'!F54,\"\")","v":""},{"$f":"IF(AND(Registration!E54=\"SR\",COUNTBLANK(P55)=0),RANK(P55,P$3:P$101,1),\"\")","v":""},{"$f":"IF(AND(Registration!$E54=\"SR\",COUNTBLANK(Q55)=0),placingpoints(Q55,COUNTIF(Q$3:Q$101,\"=\"&Q55)),\"\")","v":""},{"$f":"IF(Registration!E54=\"SR\",Endurance!C54,\"\")","v":""},{"$f":"IF(AND(Registration!E54=\"SR\",COUNTBLANK(S55)=0),RANK(S55,S$3:S$101,0),\"\")","v":""},{"$f":"IF(AND(Registration!$E54=\"SR\",COUNTBLANK(T55)=0),placingpoints(T55,COUNTIF(T$3:T$101,\"=\"&T55)),\"\")","v":""}]
[{"$f":"IF(Registration!E55=\"SR\",RANK(B56,$B$3:$B$101,1),\"\")","v":""},{"$f":"IF(Registration!E55=\"SR\",SUM(F56,I56,L56,O56,R56,U56),\"\")","v":""},{"$f":"IF(COUNTBLANK(Registration!B55)=1,\"\",IF(Registration!E55=\"SR\",Registration!B55,\"\"))","v":""},{"$f":"IF(Registration!E55=\"SR\",'Aussie Round'!V56,\"\")","v":""},{"$f":"IF(AND(Registration!E55=\"SR\",COUNTBLANK(D56)=0),RANK(D56,D$3:D$101,0),\"\")","v":""},{"$f":"IF(AND(Registration!$E55=\"SR\",COUNTBLANK(E56)=0),placingpoints(E56,COUNTIF(E$3:E$101,\"=\"&E56)),\"\")","v":""},{"$f":"IF(Registration!$E55=\"SR\",Accuracy!L55,\"\")","v":""},{"$f":"IF(AND(Registration!$E55=\"SR\",COUNTBLANK(G56)=0),RANK(G56,G$3:G$102,0),\"\")","v":""},{"$f":"IF(AND(Registration!$E55=\"SR\",COUNTBLANK(H56)=0),placingpoints(H56,COUNTIF(H$3:H$102,\"=\"&H56)),\"\")","v":""},{"$f":"IF(Registration!E55=\"SR\",MTA!G55,\"\")","v":""},{"$f":"IF(AND(Registration!E55=\"SR\",COUNTBLANK(J56)=0),RANK(J56,J$3:J$101,0),\"\")","v":""},{"$f":"IF(AND(Registration!$E55=\"SR\",COUNTBLANK(K56)=0),placingpoints(K56,COUNTIF(K$3:K$101,\"=\"&K56)),\"\")","v":""},{"$f":"IF(Registration!E55=\"SR\",'Trick Catch'!X56,\"\")","v":""},{"$f":"IF(AND(Registration!E55=\"SR\",COUNTBLANK(M56)=0),RANK(M56,M$3:M$101,0),\"\")","v":""},{"$f":"IF(AND(Registration!$E55=\"SR\",COUNTBLANK(N56)=0),placingpoints(N56,COUNTIF(N$3:N$101,\"=\"&N56)),\"\")","v":""},{"$f":"IF(Registration!E55=\"SR\",'Fast Catch'!F55,\"\")","v":""},{"$f":"IF(AND(Registration!E55=\"SR\",COUNTBLANK(P56)=0),RANK(P56,P$3:P$101,1),\"\")","v":""},{"$f":"IF(AND(Registration!$E55=\"SR\",COUNTBLANK(Q56)=0),placingpoints(Q56,COUNTIF(Q$3:Q$101,\"=\"&Q56)),\"\")","v":""},{"$f":"IF(Registration!E55=\"SR\",Endurance!C55,\"\")","v":""},{"$f":"IF(AND(Registration!E55=\"SR\",COUNTBLANK(S56)=0),RANK(S56,S$3:S$101,0),\"\")","v":""},{"$f":"IF(AND(Registration!$E55=\"SR\",COUNTBLANK(T56)=0),placingpoints(T56,COUNTIF(T$3:T$101,\"=\"&T56)),\"\")","v":""}]
[{"$f":"IF(Registration!E56=\"SR\",RANK(B57,$B$3:$B$101,1),\"\")","v":""},{"$f":"IF(Registration!E56=\"SR\",SUM(F57,I57,L57,O57,R57,U57),\"\")","v":""},{"$f":"IF(COUNTBLANK(Registration!B56)=1,\"\",IF(Registration!E56=\"SR\",Registration!B56,\"\"))","v":""},{"$f":"IF(Registration!E56=\"SR\",'Aussie Round'!V57,\"\")","v":""},{"$f":"IF(AND(Registration!E56=\"SR\",COUNTBLANK(D57)=0),RANK(D57,D$3:D$101,0),\"\")","v":""},{"$f":"IF(AND(Registration!$E56=\"SR\",COUNTBLANK(E57)=0),placingpoints(E57,COUNTIF(E$3:E$101,\"=\"&E57)),\"\")","v":""},{"$f":"IF(Registration!$E56=\"SR\",Accuracy!L56,\"\")","v":""},{"$f":"IF(AND(Registration!$E56=\"SR\",COUNTBLANK(G57)=0),RANK(G57,G$3:G$102,0),\"\")","v":""},{"$f":"IF(AND(Registration!$E56=\"SR\",COUNTBLANK(H57)=0),placingpoints(H57,COUNTIF(H$3:H$102,\"=\"&H57)),\"\")","v":""},{"$f":"IF(Registration!E56=\"SR\",MTA!G56,\"\")","v":""},{"$f":"IF(AND(Registration!E56=\"SR\",COUNTBLANK(J57)=0),RANK(J57,J$3:J$101,0),\"\")","v":""},{"$f":"IF(AND(Registration!$E56=\"SR\",COUNTBLANK(K57)=0),placingpoints(K57,COUNTIF(K$3:K$101,\"=\"&K57)),\"\")","v":""},{"$f":"IF(Registration!E56=\"SR\",'Trick Catch'!X57,\"\")","v":""},{"$f":"IF(AND(Registration!E56=\"SR\",COUNTBLANK(M57)=0),RANK(M57,M$3:M$101,0),\"\")","v":""},{"$f":"IF(AND(Registration!$E56=\"SR\",COUNTBLANK(N57)=0),placingpoints(N57,COUNTIF(N$3:N$101,\"=\"&N57)),\"\")","v":""},{"$f":"IF(Registration!E56=\"SR\",'Fast Catch'!F56,\"\")","v":""},{"$f":"IF(AND(Registration!E56=\"SR\",COUNTBLANK(P57)=0),RANK(P57,P$3:P$101,1),\"\")","v":""},{"$f":"IF(AND(Registration!$E56=\"SR\",COUNTBLANK(Q57)=0),placingpoints(Q57,COUNTIF(Q$3:Q$101,\"=\"&Q57)),\"\")","v":""},{"$f":"IF(Registration!E56=\"SR\",Endurance!C56,\"\")","v":""},{"$f":"IF(AND(Registration!E56=\"SR\",COUNTBLANK(S57)=0),RANK(S57,S$3:S$101,0),\"\")","v":""},{"$f":"IF(AND(Registration!$E56=\"SR\",COUNTBLANK(T57)=0),placingpoints(T57,COUNTIF(T$3:T$101,\"=\"&T57)),\"\")","v":""}]
[{"$f":"IF(Registration!E57=\"SR\",RANK(B58,$B$3:$B$101,1),\"\")","v":""},{"$f":"IF(Registration!E57=\"SR\",SUM(F58,I58,L58,O58,R58,U58),\"\")","v":""},{"$f":"IF(COUNTBLANK(Registration!B57)=1,\"\",IF(Registration!E57=\"SR\",Registration!B57,\"\"))","v":""},{"$f":"IF(Registration!E57=\"SR\",'Aussie Round'!V58,\"\")","v":""},{"$f":"IF(AND(Registration!E57=\"SR\",COUNTBLANK(D58)=0),RANK(D58,D$3:D$101,0),\"\")","v":""},{"$f":"IF(AND(Registration!$E57=\"SR\",COUNTBLANK(E58)=0),placingpoints(E58,COUNTIF(E$3:E$101,\"=\"&E58)),\"\")","v":""},{"$f":"IF(Registration!$E57=\"SR\",Accuracy!L57,\"\")","v":""},{"$f":"IF(AND(Registration!$E57=\"SR\",COUNTBLANK(G58)=0),RANK(G58,G$3:G$102,0),\"\")","v":""},{"$f":"IF(AND(Registration!$E57=\"SR\",COUNTBLANK(H58)=0),placingpoints(H58,COUNTIF(H$3:H$102,\"=\"&H58)),\"\")","v":""},{"$f":"IF(Registration!E57=\"SR\",MTA!G57,\"\")","v":""},{"$f":"IF(AND(Registration!E57=\"SR\",COUNTBLANK(J58)=0),RANK(J58,J$3:J$101,0),\"\")","v":""},{"$f":"IF(AND(Registration!$E57=\"SR\",COUNTBLANK(K58)=0),placingpoints(K58,COUNTIF(K$3:K$101,\"=\"&K58)),\"\")","v":""},{"$f":"IF(Registration!E57=\"SR\",'Trick Catch'!X58,\"\")","v":""},{"$f":"IF(AND(Registration!E57=\"SR\",COUNTBLANK(M58)=0),RANK(M58,M$3:M$101,0),\"\")","v":""},{"$f":"IF(AND(Registration!$E57=\"SR\",COUNTBLANK(N58)=0),placingpoints(N58,COUNTIF(N$3:N$101,\"=\"&N58)),\"\")","v":""},{"$f":"IF(Registration!E57=\"SR\",'Fast Catch'!F57,\"\")","v":""},{"$f":"IF(AND(Registration!E57=\"SR\",COUNTBLANK(P58)=0),RANK(P58,P$3:P$101,1),\"\")","v":""},{"$f":"IF(AND(Registration!$E57=\"SR\",COUNTBLANK(Q58)=0),placingpoints(Q58,COUNTIF(Q$3:Q$101,\"=\"&Q58)),\"\")","v":""},{"$f":"IF(Registration!E57=\"SR\",Endurance!C57,\"\")","v":""},{"$f":"IF(AND(Registration!E57=\"SR\",COUNTBLANK(S58)=0),RANK(S58,S$3:S$101,0),\"\")","v":""},{"$f":"IF(AND(Registration!$E57=\"SR\",COUNTBLANK(T58)=0),placingpoints(T58,COUNTIF(T$3:T$101,\"=\"&T58)),\"\")","v":""}]
[{"$f":"IF(Registration!E58=\"SR\",RANK(B59,$B$3:$B$101,1),\"\")","v":""},{"$f":"IF(Registration!E58=\"SR\",SUM(F59,I59,L59,O59,R59,U59),\"\")","v":""},{"$f":"IF(COUNTBLANK(Registration!B58)=1,\"\",IF(Registration!E58=\"SR\",Registration!B58,\"\"))","v":""},{"$f":"IF(Registration!E58=\"SR\",'Aussie Round'!V59,\"\")","v":""},{"$f":"IF(AND(Registration!E58=\"SR\",COUNTBLANK(D59)=0),RANK(D59,D$3:D$101,0),\"\")","v":""},{"$f":"IF(AND(Registration!$E58=\"SR\",COUNTBLANK(E59)=0),placingpoints(E59,COUNTIF(E$3:E$101,\"=\"&E59)),\"\")","v":""},{"$f":"IF(Registration!$E58=\"SR\",Accuracy!L58,\"\")","v":""},{"$f":"IF(AND(Registration!$E58=\"SR\",COUNTBLANK(G59)=0),RANK(G59,G$3:G$102,0),\"\")","v":""},{"$f":"IF(AND(Registration!$E58=\"SR\",COUNTBLANK(H59)=0),placingpoints(H59,COUNTIF(H$3:H$102,\"=\"&H59)),\"\")","v":""},{"$f":"IF(Registration!E58=\"SR\",MTA!G58,\"\")","v":""},{"$f":"IF(AND(Registration!E58=\"SR\",COUNTBLANK(J59)=0),RANK(J59,J$3:J$101,0),\"\")","v":""},{"$f":"IF(AND(Registration!$E58=\"SR\",COUNTBLANK(K59)=0),placingpoints(K59,COUNTIF(K$3:K$101,\"=\"&K59)),\"\")","v":""},{"$f":"IF(Registration!E58=\"SR\",'Trick Catch'!X59,\"\")","v":""},{"$f":"IF(AND(Registration!E58=\"SR\",COUNTBLANK(M59)=0),RANK(M59,M$3:M$101,0),\"\")","v":""},{"$f":"IF(AND(Registration!$E58=\"SR\",COUNTBLANK(N59)=0),placingpoints(N59,COUNTIF(N$3:N$101,\"=\"&N59)),\"\")","v":""},{"$f":"IF(Registration!E58=\"SR\",'Fast Catch'!F58,\"\")","v":""},{"$f":"IF(AND(Registration!E58=\"SR\",COUNTBLANK(P59)=0),RANK(P59,P$3:P$101,1),\"\")","v":""},{"$f":"IF(AND(Registration!$E58=\"SR\",COUNTBLANK(Q59)=0),placingpoints(Q59,COUNTIF(Q$3:Q$101,\"=\"&Q59)),\"\")","v":""},{"$f":"IF(Registration!E58=\"SR\",Endurance!C58,\"\")","v":""},{"$f":"IF(AND(Registration!E58=\"SR\",COUNTBLANK(S59)=0),RANK(S59,S$3:S$101,0),\"\")","v":""},{"$f":"IF(AND(Registration!$E58=\"SR\",COUNTBLANK(T59)=0),placingpoints(T59,COUNTIF(T$3:T$101,\"=\"&T59)),\"\")","v":""}]
[{"$f":"IF(Registration!E59=\"SR\",RANK(B60,$B$3:$B$101,1),\"\")","v":""},{"$f":"IF(Registration!E59=\"SR\",SUM(F60,I60,L60,O60,R60,U60),\"\")","v":""},{"$f":"IF(COUNTBLANK(Registration!B59)=1,\"\",IF(Registration!E59=\"SR\",Registration!B59,\"\"))","v":""},{"$f":"IF(Registration!E59=\"SR\",'Aussie Round'!V60,\"\")","v":""},{"$f":"IF(AND(Registration!E59=\"SR\",COUNTBLANK(D60)=0),RANK(D60,D$3:D$101,0),\"\")","v":""},{"$f":"IF(AND(Registration!$E59=\"SR\",COUNTBLANK(E60)=0),placingpoints(E60,COUNTIF(E$3:E$101,\"=\"&E60)),\"\")","v":""},{"$f":"IF(Registration!$E59=\"SR\",Accuracy!L59,\"\")","v":""},{"$f":"IF(AND(Registration!$E59=\"SR\",COUNTBLANK(G60)=0),RANK(G60,G$3:G$102,0),\"\")","v":""},{"$f":"IF(AND(Registration!$E59=\"SR\",COUNTBLANK(H60)=0),placingpoints(H60,COUNTIF(H$3:H$102,\"=\"&H60)),\"\")","v":""},{"$f":"IF(Registration!E59=\"SR\",MTA!G59,\"\")","v":""},{"$f":"IF(AND(Registration!E59=\"SR\",COUNTBLANK(J60)=0),RANK(J60,J$3:J$101,0),\"\")","v":""},{"$f":"IF(AND(Registration!$E59=\"SR\",COUNTBLANK(K60)=0),placingpoints(K60,COUNTIF(K$3:K$101,\"=\"&K60)),\"\")","v":""},{"$f":"IF(Registration!E59=\"SR\",'Trick Catch'!X60,\"\")","v":""},{"$f":"IF(AND(Registration!E59=\"SR\",COUNTBLANK(M60)=0),RANK(M60,M$3:M$101,0),\"\")","v":""},{"$f":"IF(AND(Registration!$E59=\"SR\",COUNTBLANK(N60)=0),placingpoints(N60,COUNTIF(N$3:N$101,\"=\"&N60)),\"\")","v":""},{"$f":"IF(Registration!E59=\"SR\",'Fast Catch'!F59,\"\")","v":""},{"$f":"IF(AND(Registration!E59=\"SR\",COUNTBLANK(P60)=0),RANK(P60,P$3:P$101,1),\"\")","v":""},{"$f":"IF(AND(Registration!$E59=\"SR\",COUNTBLANK(Q60)=0),placingpoints(Q60,COUNTIF(Q$3:Q$101,\"=\"&Q60)),\"\")","v":""},{"$f":"IF(Registration!E59=\"SR\",Endurance!C59,\"\")","v":""},{"$f":"IF(AND(Registration!E59=\"SR\",COUNTBLANK(S60)=0),RANK(S60,S$3:S$101,0),\"\")","v":""},{"$f":"IF(AND(Registration!$E59=\"SR\",COUNTBLANK(T60)=0),placingpoints(T60,COUNTIF(T$3:T$101,\"=\"&T60)),\"\")","v":""}]
[{"$f":"IF(Registration!E60=\"SR\",RANK(B61,$B$3:$B$101,1),\"\")","v":""},{"$f":"IF(Registration!E60=\"SR\",SUM(F61,I61,L61,O61,R61,U61),\"\")","v":""},{"$f":"IF(COUNTBLANK(Registration!B60)=1,\"\",IF(Registration!E60=\"SR\",Registration!B60,\"\"))","v":""},{"$f":"IF(Registration!E60=\"SR\",'Aussie Round'!V61,\"\")","v":""},{"$f":"IF(AND(Registration!E60=\"SR\",COUNTBLANK(D61)=0),RANK(D61,D$3:D$101,0),\"\")","v":""},{"$f":"IF(AND(Registration!$E60=\"SR\",COUNTBLANK(E61)=0),placingpoints(E61,COUNTIF(E$3:E$101,\"=\"&E61)),\"\")","v":""},{"$f":"IF(Registration!$E60=\"SR\",Accuracy!L60,\"\")","v":""},{"$f":"IF(AND(Registration!$E60=\"SR\",COUNTBLANK(G61)=0),RANK(G61,G$3:G$102,0),\"\")","v":""},{"$f":"IF(AND(Registration!$E60=\"SR\",COUNTBLANK(H61)=0),placingpoints(H61,COUNTIF(H$3:H$102,\"=\"&H61)),\"\")","v":""},{"$f":"IF(Registration!E60=\"SR\",MTA!G60,\"\")","v":""},{"$f":"IF(AND(Registration!E60=\"SR\",COUNTBLANK(J61)=0),RANK(J61,J$3:J$101,0),\"\")","v":""},{"$f":"IF(AND(Registration!$E60=\"SR\",COUNTBLANK(K61)=0),placingpoints(K61,COUNTIF(K$3:K$101,\"=\"&K61)),\"\")","v":""},{"$f":"IF(Registration!E60=\"SR\",'Trick Catch'!X61,\"\")","v":""},{"$f":"IF(AND(Registration!E60=\"SR\",COUNTBLANK(M61)=0),RANK(M61,M$3:M$101,0),\"\")","v":""},{"$f":"IF(AND(Registration!$E60=\"SR\",COUNTBLANK(N61)=0),placingpoints(N61,COUNTIF(N$3:N$101,\"=\"&N61)),\"\")","v":""},{"$f":"IF(Registration!E60=\"SR\",'Fast Catch'!F60,\"\")","v":""},{"$f":"IF(AND(Registration!E60=\"SR\",COUNTBLANK(P61)=0),RANK(P61,P$3:P$101,1),\"\")","v":""},{"$f":"IF(AND(Registration!$E60=\"SR\",COUNTBLANK(Q61)=0),placingpoints(Q61,COUNTIF(Q$3:Q$101,\"=\"&Q61)),\"\")","v":""},{"$f":"IF(Registration!E60=\"SR\",Endurance!C60,\"\")","v":""},{"$f":"IF(AND(Registration!E60=\"SR\",COUNTBLANK(S61)=0),RANK(S61,S$3:S$101,0),\"\")","v":""},{"$f":"IF(AND(Registration!$E60=\"SR\",COUNTBLANK(T61)=0),placingpoints(T61,COUNTIF(T$3:T$101,\"=\"&T61)),\"\")","v":""}]
[{"$f":"IF(Registration!E61=\"SR\",RANK(B62,$B$3:$B$101,1),\"\")","v":""},{"$f":"IF(Registration!E61=\"SR\",SUM(F62,I62,L62,O62,R62,U62),\"\")","v":""},{"$f":"IF(COUNTBLANK(Registration!B61)=1,\"\",IF(Registration!E61=\"SR\",Registration!B61,\"\"))","v":""},{"$f":"IF(Registration!E61=\"SR\",'Aussie Round'!V62,\"\")","v":""},{"$f":"IF(AND(Registration!E61=\"SR\",COUNTBLANK(D62)=0),RANK(D62,D$3:D$101,0),\"\")","v":""},{"$f":"IF(AND(Registration!$E61=\"SR\",COUNTBLANK(E62)=0),placingpoints(E62,COUNTIF(E$3:E$101,\"=\"&E62)),\"\")","v":""},{"$f":"IF(Registration!$E61=\"SR\",Accuracy!L61,\"\")","v":""},{"$f":"IF(AND(Registration!$E61=\"SR\",COUNTBLANK(G62)=0),RANK(G62,G$3:G$102,0),\"\")","v":""},{"$f":"IF(AND(Registration!$E61=\"SR\",COUNTBLANK(H62)=0),placingpoints(H62,COUNTIF(H$3:H$102,\"=\"&H62)),\"\")","v":""},{"$f":"IF(Registration!E61=\"SR\",MTA!G61,\"\")","v":""},{"$f":"IF(AND(Registration!E61=\"SR\",COUNTBLANK(J62)=0),RANK(J62,J$3:J$101,0),\"\")","v":""},{"$f":"IF(AND(Registration!$E61=\"SR\",COUNTBLANK(K62)=0),placingpoints(K62,COUNTIF(K$3:K$101,\"=\"&K62)),\"\")","v":""},{"$f":"IF(Registration!E61=\"SR\",'Trick Catch'!X62,\"\")","v":""},{"$f":"IF(AND(Registration!E61=\"SR\",COUNTBLANK(M62)=0),RANK(M62,M$3:M$101,0),\"\")","v":""},{"$f":"IF(AND(Registration!$E61=\"SR\",COUNTBLANK(N62)=0),placingpoints(N62,COUNTIF(N$3:N$101,\"=\"&N62)),\"\")","v":""},{"$f":"IF(Registration!E61=\"SR\",'Fast Catch'!F61,\"\")","v":""},{"$f":"IF(AND(Registration!E61=\"SR\",COUNTBLANK(P62)=0),RANK(P62,P$3:P$101,1),\"\")","v":""},{"$f":"IF(AND(Registration!$E61=\"SR\",COUNTBLANK(Q62)=0),placingpoints(Q62,COUNTIF(Q$3:Q$101,\"=\"&Q62)),\"\")","v":""},{"$f":"IF(Registration!E61=\"SR\",Endurance!C61,\"\")","v":""},{"$f":"IF(AND(Registration!E61=\"SR\",COUNTBLANK(S62)=0),RANK(S62,S$3:S$101,0),\"\")","v":""},{"$f":"IF(AND(Registration!$E61=\"SR\",COUNTBLANK(T62)=0),placingpoints(T62,COUNTIF(T$3:T$101,\"=\"&T62)),\"\")","v":""}]
[{"$f":"IF(Registration!E62=\"SR\",RANK(B63,$B$3:$B$101,1),\"\")","v":""},{"$f":"IF(Registration!E62=\"SR\",SUM(F63,I63,L63,O63,R63,U63),\"\")","v":""},{"$f":"IF(COUNTBLANK(Registration!B62)=1,\"\",IF(Registration!E62=\"SR\",Registration!B62,\"\"))","v":""},{"$f":"IF(Registration!E62=\"SR\",'Aussie Round'!V63,\"\")","v":""},{"$f":"IF(AND(Registration!E62=\"SR\",COUNTBLANK(D63)=0),RANK(D63,D$3:D$101,0),\"\")","v":""},{"$f":"IF(AND(Registration!$E62=\"SR\",COUNTBLANK(E63)=0),placingpoints(E63,COUNTIF(E$3:E$101,\"=\"&E63)),\"\")","v":""},{"$f":"IF(Registration!$E62=\"SR\",Accuracy!L62,\"\")","v":""},{"$f":"IF(AND(Registration!$E62=\"SR\",COUNTBLANK(G63)=0),RANK(G63,G$3:G$102,0),\"\")","v":""},{"$f":"IF(AND(Registration!$E62=\"SR\",COUNTBLANK(H63)=0),placingpoints(H63,COUNTIF(H$3:H$102,\"=\"&H63)),\"\")","v":""},{"$f":"IF(Registration!E62=\"SR\",MTA!G62,\"\")","v":""},{"$f":"IF(AND(Registration!E62=\"SR\",COUNTBLANK(J63)=0),RANK(J63,J$3:J$101,0),\"\")","v":""},{"$f":"IF(AND(Registration!$E62=\"SR\",COUNTBLANK(K63)=0),placingpoints(K63,COUNTIF(K$3:K$101,\"=\"&K63)),\"\")","v":""},{"$f":"IF(Registration!E62=\"SR\",'Trick Catch'!X63,\"\")","v":""},{"$f":"IF(AND(Registration!E62=\"SR\",COUNTBLANK(M63)=0),RANK(M63,M$3:M$101,0),\"\")","v":""},{"$f":"IF(AND(Registration!$E62=\"SR\",COUNTBLANK(N63)=0),placingpoints(N63,COUNTIF(N$3:N$101,\"=\"&N63)),\"\")","v":""},{"$f":"IF(Registration!E62=\"SR\",'Fast Catch'!F62,\"\")","v":""},{"$f":"IF(AND(Registration!E62=\"SR\",COUNTBLANK(P63)=0),RANK(P63,P$3:P$101,1),\"\")","v":""},{"$f":"IF(AND(Registration!$E62=\"SR\",COUNTBLANK(Q63)=0),placingpoints(Q63,COUNTIF(Q$3:Q$101,\"=\"&Q63)),\"\")","v":""},{"$f":"IF(Registration!E62=\"SR\",Endurance!C62,\"\")","v":""},{"$f":"IF(AND(Registration!E62=\"SR\",COUNTBLANK(S63)=0),RANK(S63,S$3:S$101,0),\"\")","v":""},{"$f":"IF(AND(Registration!$E62=\"SR\",COUNTBLANK(T63)=0),placingpoints(T63,COUNTIF(T$3:T$101,\"=\"&T63)),\"\")","v":""}]
[{"$f":"IF(Registration!E63=\"SR\",RANK(B64,$B$3:$B$101,1),\"\")","v":""},{"$f":"IF(Registration!E63=\"SR\",SUM(F64,I64,L64,O64,R64,U64),\"\")","v":""},{"$f":"IF(COUNTBLANK(Registration!B63)=1,\"\",IF(Registration!E63=\"SR\",Registration!B63,\"\"))","v":""},{"$f":"IF(Registration!E63=\"SR\",'Aussie Round'!V64,\"\")","v":""},{"$f":"IF(AND(Registration!E63=\"SR\",COUNTBLANK(D64)=0),RANK(D64,D$3:D$101,0),\"\")","v":""},{"$f":"IF(AND(Registration!$E63=\"SR\",COUNTBLANK(E64)=0),placingpoints(E64,COUNTIF(E$3:E$101,\"=\"&E64)),\"\")","v":""},{"$f":"IF(Registration!$E63=\"SR\",Accuracy!L63,\"\")","v":""},{"$f":"IF(AND(Registration!$E63=\"SR\",COUNTBLANK(G64)=0),RANK(G64,G$3:G$102,0),\"\")","v":""},{"$f":"IF(AND(Registration!$E63=\"SR\",COUNTBLANK(H64)=0),placingpoints(H64,COUNTIF(H$3:H$102,\"=\"&H64)),\"\")","v":""},{"$f":"IF(Registration!E63=\"SR\",MTA!G63,\"\")","v":""},{"$f":"IF(AND(Registration!E63=\"SR\",COUNTBLANK(J64)=0),RANK(J64,J$3:J$101,0),\"\")","v":""},{"$f":"IF(AND(Registration!$E63=\"SR\",COUNTBLANK(K64)=0),placingpoints(K64,COUNTIF(K$3:K$101,\"=\"&K64)),\"\")","v":""},{"$f":"IF(Registration!E63=\"SR\",'Trick Catch'!X64,\"\")","v":""},{"$f":"IF(AND(Registration!E63=\"SR\",COUNTBLANK(M64)=0),RANK(M64,M$3:M$101,0),\"\")","v":""},{"$f":"IF(AND(Registration!$E63=\"SR\",COUNTBLANK(N64)=0),placingpoints(N64,COUNTIF(N$3:N$101,\"=\"&N64)),\"\")","v":""},{"$f":"IF(Registration!E63=\"SR\",'Fast Catch'!F63,\"\")","v":""},{"$f":"IF(AND(Registration!E63=\"SR\",COUNTBLANK(P64)=0),RANK(P64,P$3:P$101,1),\"\")","v":""},{"$f":"IF(AND(Registration!$E63=\"SR\",COUNTBLANK(Q64)=0),placingpoints(Q64,COUNTIF(Q$3:Q$101,\"=\"&Q64)),\"\")","v":""},{"$f":"IF(Registration!E63=\"SR\",Endurance!C63,\"\")","v":""},{"$f":"IF(AND(Registration!E63=\"SR\",COUNTBLANK(S64)=0),RANK(S64,S$3:S$101,0),\"\")","v":""},{"$f":"IF(AND(Registration!$E63=\"SR\",COUNTBLANK(T64)=0),placingpoints(T64,COUNTIF(T$3:T$101,\"=\"&T64)),\"\")","v":""}]
[{"$f":"IF(Registration!E64=\"SR\",RANK(B65,$B$3:$B$101,1),\"\")","v":""},{"$f":"IF(Registration!E64=\"SR\",SUM(F65,I65,L65,O65,R65,U65),\"\")","v":""},{"$f":"IF(COUNTBLANK(Registration!B64)=1,\"\",IF(Registration!E64=\"SR\",Registration!B64,\"\"))","v":""},{"$f":"IF(Registration!E64=\"SR\",'Aussie Round'!V65,\"\")","v":""},{"$f":"IF(AND(Registration!E64=\"SR\",COUNTBLANK(D65)=0),RANK(D65,D$3:D$101,0),\"\")","v":""},{"$f":"IF(AND(Registration!$E64=\"SR\",COUNTBLANK(E65)=0),placingpoints(E65,COUNTIF(E$3:E$101,\"=\"&E65)),\"\")","v":""},{"$f":"IF(Registration!$E64=\"SR\",Accuracy!L64,\"\")","v":""},{"$f":"IF(AND(Registration!$E64=\"SR\",COUNTBLANK(G65)=0),RANK(G65,G$3:G$102,0),\"\")","v":""},{"$f":"IF(AND(Registration!$E64=\"SR\",COUNTBLANK(H65)=0),placingpoints(H65,COUNTIF(H$3:H$102,\"=\"&H65)),\"\")","v":""},{"$f":"IF(Registration!E64=\"SR\",MTA!G64,\"\")","v":""},{"$f":"IF(AND(Registration!E64=\"SR\",COUNTBLANK(J65)=0),RANK(J65,J$3:J$101,0),\"\")","v":""},{"$f":"IF(AND(Registration!$E64=\"SR\",COUNTBLANK(K65)=0),placingpoints(K65,COUNTIF(K$3:K$101,\"=\"&K65)),\"\")","v":""},{"$f":"IF(Registration!E64=\"SR\",'Trick Catch'!X65,\"\")","v":""},{"$f":"IF(AND(Registration!E64=\"SR\",COUNTBLANK(M65)=0),RANK(M65,M$3:M$101,0),\"\")","v":""},{"$f":"IF(AND(Registration!$E64=\"SR\",COUNTBLANK(N65)=0),placingpoints(N65,COUNTIF(N$3:N$101,\"=\"&N65)),\"\")","v":""},{"$f":"IF(Registration!E64=\"SR\",'Fast Catch'!F64,\"\")","v":""},{"$f":"IF(AND(Registration!E64=\"SR\",COUNTBLANK(P65)=0),RANK(P65,P$3:P$101,1),\"\")","v":""},{"$f":"IF(AND(Registration!$E64=\"SR\",COUNTBLANK(Q65)=0),placingpoints(Q65,COUNTIF(Q$3:Q$101,\"=\"&Q65)),\"\")","v":""},{"$f":"IF(Registration!E64=\"SR\",Endurance!C64,\"\")","v":""},{"$f":"IF(AND(Registration!E64=\"SR\",COUNTBLANK(S65)=0),RANK(S65,S$3:S$101,0),\"\")","v":""},{"$f":"IF(AND(Registration!$E64=\"SR\",COUNTBLANK(T65)=0),placingpoints(T65,COUNTIF(T$3:T$101,\"=\"&T65)),\"\")","v":""}]
[{"$f":"IF(Registration!E65=\"SR\",RANK(B66,$B$3:$B$101,1),\"\")","v":""},{"$f":"IF(Registration!E65=\"SR\",SUM(F66,I66,L66,O66,R66,U66),\"\")","v":""},{"$f":"IF(COUNTBLANK(Registration!B65)=1,\"\",IF(Registration!E65=\"SR\",Registration!B65,\"\"))","v":""},{"$f":"IF(Registration!E65=\"SR\",'Aussie Round'!V66,\"\")","v":""},{"$f":"IF(AND(Registration!E65=\"SR\",COUNTBLANK(D66)=0),RANK(D66,D$3:D$101,0),\"\")","v":""},{"$f":"IF(AND(Registration!$E65=\"SR\",COUNTBLANK(E66)=0),placingpoints(E66,COUNTIF(E$3:E$101,\"=\"&E66)),\"\")","v":""},{"$f":"IF(Registration!$E65=\"SR\",Accuracy!L65,\"\")","v":""},{"$f":"IF(AND(Registration!$E65=\"SR\",COUNTBLANK(G66)=0),RANK(G66,G$3:G$102,0),\"\")","v":""},{"$f":"IF(AND(Registration!$E65=\"SR\",COUNTBLANK(H66)=0),placingpoints(H66,COUNTIF(H$3:H$102,\"=\"&H66)),\"\")","v":""},{"$f":"IF(Registration!E65=\"SR\",MTA!G65,\"\")","v":""},{"$f":"IF(AND(Registration!E65=\"SR\",COUNTBLANK(J66)=0),RANK(J66,J$3:J$101,0),\"\")","v":""},{"$f":"IF(AND(Registration!$E65=\"SR\",COUNTBLANK(K66)=0),placingpoints(K66,COUNTIF(K$3:K$101,\"=\"&K66)),\"\")","v":""},{"$f":"IF(Registration!E65=\"SR\",'Trick Catch'!X66,\"\")","v":""},{"$f":"IF(AND(Registration!E65=\"SR\",COUNTBLANK(M66)=0),RANK(M66,M$3:M$101,0),\"\")","v":""},{"$f":"IF(AND(Registration!$E65=\"SR\",COUNTBLANK(N66)=0),placingpoints(N66,COUNTIF(N$3:N$101,\"=\"&N66)),\"\")","v":""},{"$f":"IF(Registration!E65=\"SR\",'Fast Catch'!F65,\"\")","v":""},{"$f":"IF(AND(Registration!E65=\"SR\",COUNTBLANK(P66)=0),RANK(P66,P$3:P$101,1),\"\")","v":""},{"$f":"IF(AND(Registration!$E65=\"SR\",COUNTBLANK(Q66)=0),placingpoints(Q66,COUNTIF(Q$3:Q$101,\"=\"&Q66)),\"\")","v":""},{"$f":"IF(Registration!E65=\"SR\",Endurance!C65,\"\")","v":""},{"$f":"IF(AND(Registration!E65=\"SR\",COUNTBLANK(S66)=0),RANK(S66,S$3:S$101,0),\"\")","v":""},{"$f":"IF(AND(Registration!$E65=\"SR\",COUNTBLANK(T66)=0),placingpoints(T66,COUNTIF(T$3:T$101,\"=\"&T66)),\"\")","v":""}]
[{"$f":"IF(Registration!E66=\"SR\",RANK(B67,$B$3:$B$101,1),\"\")","v":""},{"$f":"IF(Registration!E66=\"SR\",SUM(F67,I67,L67,O67,R67,U67),\"\")","v":""},{"$f":"IF(COUNTBLANK(Registration!B66)=1,\"\",IF(Registration!E66=\"SR\",Registration!B66,\"\"))","v":""},{"$f":"IF(Registration!E66=\"SR\",'Aussie Round'!V67,\"\")","v":""},{"$f":"IF(AND(Registration!E66=\"SR\",COUNTBLANK(D67)=0),RANK(D67,D$3:D$101,0),\"\")","v":""},{"$f":"IF(AND(Registration!$E66=\"SR\",COUNTBLANK(E67)=0),placingpoints(E67,COUNTIF(E$3:E$101,\"=\"&E67)),\"\")","v":""},{"$f":"IF(Registration!$E66=\"SR\",Accuracy!L66,\"\")","v":""},{"$f":"IF(AND(Registration!$E66=\"SR\",COUNTBLANK(G67)=0),RANK(G67,G$3:G$102,0),\"\")","v":""},{"$f":"IF(AND(Registration!$E66=\"SR\",COUNTBLANK(H67)=0),placingpoints(H67,COUNTIF(H$3:H$102,\"=\"&H67)),\"\")","v":""},{"$f":"IF(Registration!E66=\"SR\",MTA!G66,\"\")","v":""},{"$f":"IF(AND(Registration!E66=\"SR\",COUNTBLANK(J67)=0),RANK(J67,J$3:J$101,0),\"\")","v":""},{"$f":"IF(AND(Registration!$E66=\"SR\",COUNTBLANK(K67)=0),placingpoints(K67,COUNTIF(K$3:K$101,\"=\"&K67)),\"\")","v":""},{"$f":"IF(Registration!E66=\"SR\",'Trick Catch'!X67,\"\")","v":""},{"$f":"IF(AND(Registration!E66=\"SR\",COUNTBLANK(M67)=0),RANK(M67,M$3:M$101,0),\"\")","v":""},{"$f":"IF(AND(Registration!$E66=\"SR\",COUNTBLANK(N67)=0),placingpoints(N67,COUNTIF(N$3:N$101,\"=\"&N67)),\"\")","v":""},{"$f":"IF(Registration!E66=\"SR\",'Fast Catch'!F66,\"\")","v":""},{"$f":"IF(AND(Registration!E66=\"SR\",COUNTBLANK(P67)=0),RANK(P67,P$3:P$101,1),\"\")","v":""},{"$f":"IF(AND(Registration!$E66=\"SR\",COUNTBLANK(Q67)=0),placingpoints(Q67,COUNTIF(Q$3:Q$101,\"=\"&Q67)),\"\")","v":""},{"$f":"IF(Registration!E66=\"SR\",Endurance!C66,\"\")","v":""},{"$f":"IF(AND(Registration!E66=\"SR\",COUNTBLANK(S67)=0),RANK(S67,S$3:S$101,0),\"\")","v":""},{"$f":"IF(AND(Registration!$E66=\"SR\",COUNTBLANK(T67)=0),placingpoints(T67,COUNTIF(T$3:T$101,\"=\"&T67)),\"\")","v":""}]
[{"$f":"IF(Registration!E67=\"SR\",RANK(B68,$B$3:$B$101,1),\"\")","v":""},{"$f":"IF(Registration!E67=\"SR\",SUM(F68,I68,L68,O68,R68,U68),\"\")","v":""},{"$f":"IF(COUNTBLANK(Registration!B67)=1,\"\",IF(Registration!E67=\"SR\",Registration!B67,\"\"))","v":""},{"$f":"IF(Registration!E67=\"SR\",'Aussie Round'!V68,\"\")","v":""},{"$f":"IF(AND(Registration!E67=\"SR\",COUNTBLANK(D68)=0),RANK(D68,D$3:D$101,0),\"\")","v":""},{"$f":"IF(AND(Registration!$E67=\"SR\",COUNTBLANK(E68)=0),placingpoints(E68,COUNTIF(E$3:E$101,\"=\"&E68)),\"\")","v":""},{"$f":"IF(Registration!$E67=\"SR\",Accuracy!L67,\"\")","v":""},{"$f":"IF(AND(Registration!$E67=\"SR\",COUNTBLANK(G68)=0),RANK(G68,G$3:G$102,0),\"\")","v":""},{"$f":"IF(AND(Registration!$E67=\"SR\",COUNTBLANK(H68)=0),placingpoints(H68,COUNTIF(H$3:H$102,\"=\"&H68)),\"\")","v":""},{"$f":"IF(Registration!E67=\"SR\",MTA!G67,\"\")","v":""},{"$f":"IF(AND(Registration!E67=\"SR\",COUNTBLANK(J68)=0),RANK(J68,J$3:J$101,0),\"\")","v":""},{"$f":"IF(AND(Registration!$E67=\"SR\",COUNTBLANK(K68)=0),placingpoints(K68,COUNTIF(K$3:K$101,\"=\"&K68)),\"\")","v":""},{"$f":"IF(Registration!E67=\"SR\",'Trick Catch'!X68,\"\")","v":""},{"$f":"IF(AND(Registration!E67=\"SR\",COUNTBLANK(M68)=0),RANK(M68,M$3:M$101,0),\"\")","v":""},{"$f":"IF(AND(Registration!$E67=\"SR\",COUNTBLANK(N68)=0),placingpoints(N68,COUNTIF(N$3:N$101,\"=\"&N68)),\"\")","v":""},{"$f":"IF(Registration!E67=\"SR\",'Fast Catch'!F67,\"\")","v":""},{"$f":"IF(AND(Registration!E67=\"SR\",COUNTBLANK(P68)=0),RANK(P68,P$3:P$101,1),\"\")","v":""},{"$f":"IF(AND(Registration!$E67=\"SR\",COUNTBLANK(Q68)=0),placingpoints(Q68,COUNTIF(Q$3:Q$101,\"=\"&Q68)),\"\")","v":""},{"$f":"IF(Registration!E67=\"SR\",Endurance!C67,\"\")","v":""},{"$f":"IF(AND(Registration!E67=\"SR\",COUNTBLANK(S68)=0),RANK(S68,S$3:S$101,0),\"\")","v":""},{"$f":"IF(AND(Registration!$E67=\"SR\",COUNTBLANK(T68)=0),placingpoints(T68,COUNTIF(T$3:T$101,\"=\"&T68)),\"\")","v":""}]
[{"$f":"IF(Registration!E68=\"SR\",RANK(B69,$B$3:$B$101,1),\"\")","v":""},{"$f":"IF(Registration!E68=\"SR\",SUM(F69,I69,L69,O69,R69,U69),\"\")","v":""},{"$f":"IF(COUNTBLANK(Registration!B68)=1,\"\",IF(Registration!E68=\"SR\",Registration!B68,\"\"))","v":""},{"$f":"IF(Registration!E68=\"SR\",'Aussie Round'!V69,\"\")","v":""},{"$f":"IF(AND(Registration!E68=\"SR\",COUNTBLANK(D69)=0),RANK(D69,D$3:D$101,0),\"\")","v":""},{"$f":"IF(AND(Registration!$E68=\"SR\",COUNTBLANK(E69)=0),placingpoints(E69,COUNTIF(E$3:E$101,\"=\"&E69)),\"\")","v":""},{"$f":"IF(Registration!$E68=\"SR\",Accuracy!L68,\"\")","v":""},{"$f":"IF(AND(Registration!$E68=\"SR\",COUNTBLANK(G69)=0),RANK(G69,G$3:G$102,0),\"\")","v":""},{"$f":"IF(AND(Registration!$E68=\"SR\",COUNTBLANK(H69)=0),placingpoints(H69,COUNTIF(H$3:H$102,\"=\"&H69)),\"\")","v":""},{"$f":"IF(Registration!E68=\"SR\",MTA!G68,\"\")","v":""},{"$f":"IF(AND(Registration!E68=\"SR\",COUNTBLANK(J69)=0),RANK(J69,J$3:J$101,0),\"\")","v":""},{"$f":"IF(AND(Registration!$E68=\"SR\",COUNTBLANK(K69)=0),placingpoints(K69,COUNTIF(K$3:K$101,\"=\"&K69)),\"\")","v":""},{"$f":"IF(Registration!E68=\"SR\",'Trick Catch'!X69,\"\")","v":""},{"$f":"IF(AND(Registration!E68=\"SR\",COUNTBLANK(M69)=0),RANK(M69,M$3:M$101,0),\"\")","v":""},{"$f":"IF(AND(Registration!$E68=\"SR\",COUNTBLANK(N69)=0),placingpoints(N69,COUNTIF(N$3:N$101,\"=\"&N69)),\"\")","v":""},{"$f":"IF(Registration!E68=\"SR\",'Fast Catch'!F68,\"\")","v":""},{"$f":"IF(AND(Registration!E68=\"SR\",COUNTBLANK(P69)=0),RANK(P69,P$3:P$101,1),\"\")","v":""},{"$f":"IF(AND(Registration!$E68=\"SR\",COUNTBLANK(Q69)=0),placingpoints(Q69,COUNTIF(Q$3:Q$101,\"=\"&Q69)),\"\")","v":""},{"$f":"IF(Registration!E68=\"SR\",Endurance!C68,\"\")","v":""},{"$f":"IF(AND(Registration!E68=\"SR\",COUNTBLANK(S69)=0),RANK(S69,S$3:S$101,0),\"\")","v":""},{"$f":"IF(AND(Registration!$E68=\"SR\",COUNTBLANK(T69)=0),placingpoints(T69,COUNTIF(T$3:T$101,\"=\"&T69)),\"\")","v":""}]
[{"$f":"IF(Registration!E69=\"SR\",RANK(B70,$B$3:$B$101,1),\"\")","v":""},{"$f":"IF(Registration!E69=\"SR\",SUM(F70,I70,L70,O70,R70,U70),\"\")","v":""},{"$f":"IF(COUNTBLANK(Registration!B69)=1,\"\",IF(Registration!E69=\"SR\",Registration!B69,\"\"))","v":""},{"$f":"IF(Registration!E69=\"SR\",'Aussie Round'!V70,\"\")","v":""},{"$f":"IF(AND(Registration!E69=\"SR\",COUNTBLANK(D70)=0),RANK(D70,D$3:D$101,0),\"\")","v":""},{"$f":"IF(AND(Registration!$E69=\"SR\",COUNTBLANK(E70)=0),placingpoints(E70,COUNTIF(E$3:E$101,\"=\"&E70)),\"\")","v":""},{"$f":"IF(Registration!$E69=\"SR\",Accuracy!L69,\"\")","v":""},{"$f":"IF(AND(Registration!$E69=\"SR\",COUNTBLANK(G70)=0),RANK(G70,G$3:G$102,0),\"\")","v":""},{"$f":"IF(AND(Registration!$E69=\"SR\",COUNTBLANK(H70)=0),placingpoints(H70,COUNTIF(H$3:H$102,\"=\"&H70)),\"\")","v":""},{"$f":"IF(Registration!E69=\"SR\",MTA!G69,\"\")","v":""},{"$f":"IF(AND(Registration!E69=\"SR\",COUNTBLANK(J70)=0),RANK(J70,J$3:J$101,0),\"\")","v":""},{"$f":"IF(AND(Registration!$E69=\"SR\",COUNTBLANK(K70)=0),placingpoints(K70,COUNTIF(K$3:K$101,\"=\"&K70)),\"\")","v":""},{"$f":"IF(Registration!E69=\"SR\",'Trick Catch'!X70,\"\")","v":""},{"$f":"IF(AND(Registration!E69=\"SR\",COUNTBLANK(M70)=0),RANK(M70,M$3:M$101,0),\"\")","v":""},{"$f":"IF(AND(Registration!$E69=\"SR\",COUNTBLANK(N70)=0),placingpoints(N70,COUNTIF(N$3:N$101,\"=\"&N70)),\"\")","v":""},{"$f":"IF(Registration!E69=\"SR\",'Fast Catch'!F69,\"\")","v":""},{"$f":"IF(AND(Registration!E69=\"SR\",COUNTBLANK(P70)=0),RANK(P70,P$3:P$101,1),\"\")","v":""},{"$f":"IF(AND(Registration!$E69=\"SR\",COUNTBLANK(Q70)=0),placingpoints(Q70,COUNTIF(Q$3:Q$101,\"=\"&Q70)),\"\")","v":""},{"$f":"IF(Registration!E69=\"SR\",Endurance!C69,\"\")","v":""},{"$f":"IF(AND(Registration!E69=\"SR\",COUNTBLANK(S70)=0),RANK(S70,S$3:S$101,0),\"\")","v":""},{"$f":"IF(AND(Registration!$E69=\"SR\",COUNTBLANK(T70)=0),placingpoints(T70,COUNTIF(T$3:T$101,\"=\"&T70)),\"\")","v":""}]
[{"$f":"IF(Registration!E70=\"SR\",RANK(B71,$B$3:$B$101,1),\"\")","v":""},{"$f":"IF(Registration!E70=\"SR\",SUM(F71,I71,L71,O71,R71,U71),\"\")","v":""},{"$f":"IF(COUNTBLANK(Registration!B70)=1,\"\",IF(Registration!E70=\"SR\",Registration!B70,\"\"))","v":""},{"$f":"IF(Registration!E70=\"SR\",'Aussie Round'!V71,\"\")","v":""},{"$f":"IF(AND(Registration!E70=\"SR\",COUNTBLANK(D71)=0),RANK(D71,D$3:D$101,0),\"\")","v":""},{"$f":"IF(AND(Registration!$E70=\"SR\",COUNTBLANK(E71)=0),placingpoints(E71,COUNTIF(E$3:E$101,\"=\"&E71)),\"\")","v":""},{"$f":"IF(Registration!$E70=\"SR\",Accuracy!L70,\"\")","v":""},{"$f":"IF(AND(Registration!$E70=\"SR\",COUNTBLANK(G71)=0),RANK(G71,G$3:G$102,0),\"\")","v":""},{"$f":"IF(AND(Registration!$E70=\"SR\",COUNTBLANK(H71)=0),placingpoints(H71,COUNTIF(H$3:H$102,\"=\"&H71)),\"\")","v":""},{"$f":"IF(Registration!E70=\"SR\",MTA!G70,\"\")","v":""},{"$f":"IF(AND(Registration!E70=\"SR\",COUNTBLANK(J71)=0),RANK(J71,J$3:J$101,0),\"\")","v":""},{"$f":"IF(AND(Registration!$E70=\"SR\",COUNTBLANK(K71)=0),placingpoints(K71,COUNTIF(K$3:K$101,\"=\"&K71)),\"\")","v":""},{"$f":"IF(Registration!E70=\"SR\",'Trick Catch'!X71,\"\")","v":""},{"$f":"IF(AND(Registration!E70=\"SR\",COUNTBLANK(M71)=0),RANK(M71,M$3:M$101,0),\"\")","v":""},{"$f":"IF(AND(Registration!$E70=\"SR\",COUNTBLANK(N71)=0),placingpoints(N71,COUNTIF(N$3:N$101,\"=\"&N71)),\"\")","v":""},{"$f":"IF(Registration!E70=\"SR\",'Fast Catch'!F70,\"\")","v":""},{"$f":"IF(AND(Registration!E70=\"SR\",COUNTBLANK(P71)=0),RANK(P71,P$3:P$101,1),\"\")","v":""},{"$f":"IF(AND(Registration!$E70=\"SR\",COUNTBLANK(Q71)=0),placingpoints(Q71,COUNTIF(Q$3:Q$101,\"=\"&Q71)),\"\")","v":""},{"$f":"IF(Registration!E70=\"SR\",Endurance!C70,\"\")","v":""},{"$f":"IF(AND(Registration!E70=\"SR\",COUNTBLANK(S71)=0),RANK(S71,S$3:S$101,0),\"\")","v":""},{"$f":"IF(AND(Registration!$E70=\"SR\",COUNTBLANK(T71)=0),placingpoints(T71,COUNTIF(T$3:T$101,\"=\"&T71)),\"\")","v":""}]
[{"$f":"IF(Registration!E71=\"SR\",RANK(B72,$B$3:$B$101,1),\"\")","v":""},{"$f":"IF(Registration!E71=\"SR\",SUM(F72,I72,L72,O72,R72,U72),\"\")","v":""},{"$f":"IF(COUNTBLANK(Registration!B71)=1,\"\",IF(Registration!E71=\"SR\",Registration!B71,\"\"))","v":""},{"$f":"IF(Registration!E71=\"SR\",'Aussie Round'!V72,\"\")","v":""},{"$f":"IF(AND(Registration!E71=\"SR\",COUNTBLANK(D72)=0),RANK(D72,D$3:D$101,0),\"\")","v":""},{"$f":"IF(AND(Registration!$E71=\"SR\",COUNTBLANK(E72)=0),placingpoints(E72,COUNTIF(E$3:E$101,\"=\"&E72)),\"\")","v":""},{"$f":"IF(Registration!$E71=\"SR\",Accuracy!L71,\"\")","v":""},{"$f":"IF(AND(Registration!$E71=\"SR\",COUNTBLANK(G72)=0),RANK(G72,G$3:G$102,0),\"\")","v":""},{"$f":"IF(AND(Registration!$E71=\"SR\",COUNTBLANK(H72)=0),placingpoints(H72,COUNTIF(H$3:H$102,\"=\"&H72)),\"\")","v":""},{"$f":"IF(Registration!E71=\"SR\",MTA!G71,\"\")","v":""},{"$f":"IF(AND(Registration!E71=\"SR\",COUNTBLANK(J72)=0),RANK(J72,J$3:J$101,0),\"\")","v":""},{"$f":"IF(AND(Registration!$E71=\"SR\",COUNTBLANK(K72)=0),placingpoints(K72,COUNTIF(K$3:K$101,\"=\"&K72)),\"\")","v":""},{"$f":"IF(Registration!E71=\"SR\",'Trick Catch'!X72,\"\")","v":""},{"$f":"IF(AND(Registration!E71=\"SR\",COUNTBLANK(M72)=0),RANK(M72,M$3:M$101,0),\"\")","v":""},{"$f":"IF(AND(Registration!$E71=\"SR\",COUNTBLANK(N72)=0),placingpoints(N72,COUNTIF(N$3:N$101,\"=\"&N72)),\"\")","v":""},{"$f":"IF(Registration!E71=\"SR\",'Fast Catch'!F71,\"\")","v":""},{"$f":"IF(AND(Registration!E71=\"SR\",COUNTBLANK(P72)=0),RANK(P72,P$3:P$101,1),\"\")","v":""},{"$f":"IF(AND(Registration!$E71=\"SR\",COUNTBLANK(Q72)=0),placingpoints(Q72,COUNTIF(Q$3:Q$101,\"=\"&Q72)),\"\")","v":""},{"$f":"IF(Registration!E71=\"SR\",Endurance!C71,\"\")","v":""},{"$f":"IF(AND(Registration!E71=\"SR\",COUNTBLANK(S72)=0),RANK(S72,S$3:S$101,0),\"\")","v":""},{"$f":"IF(AND(Registration!$E71=\"SR\",COUNTBLANK(T72)=0),placingpoints(T72,COUNTIF(T$3:T$101,\"=\"&T72)),\"\")","v":""}]
[{"$f":"IF(Registration!E72=\"SR\",RANK(B73,$B$3:$B$101,1),\"\")","v":""},{"$f":"IF(Registration!E72=\"SR\",SUM(F73,I73,L73,O73,R73,U73),\"\")","v":""},{"$f":"IF(COUNTBLANK(Registration!B72)=1,\"\",IF(Registration!E72=\"SR\",Registration!B72,\"\"))","v":""},{"$f":"IF(Registration!E72=\"SR\",'Aussie Round'!V73,\"\")","v":""},{"$f":"IF(AND(Registration!E72=\"SR\",COUNTBLANK(D73)=0),RANK(D73,D$3:D$101,0),\"\")","v":""},{"$f":"IF(AND(Registration!$E72=\"SR\",COUNTBLANK(E73)=0),placingpoints(E73,COUNTIF(E$3:E$101,\"=\"&E73)),\"\")","v":""},{"$f":"IF(Registration!$E72=\"SR\",Accuracy!L72,\"\")","v":""},{"$f":"IF(AND(Registration!$E72=\"SR\",COUNTBLANK(G73)=0),RANK(G73,G$3:G$102,0),\"\")","v":""},{"$f":"IF(AND(Registration!$E72=\"SR\",COUNTBLANK(H73)=0),placingpoints(H73,COUNTIF(H$3:H$102,\"=\"&H73)),\"\")","v":""},{"$f":"IF(Registration!E72=\"SR\",MTA!G72,\"\")","v":""},{"$f":"IF(AND(Registration!E72=\"SR\",COUNTBLANK(J73)=0),RANK(J73,J$3:J$101,0),\"\")","v":""},{"$f":"IF(AND(Registration!$E72=\"SR\",COUNTBLANK(K73)=0),placingpoints(K73,COUNTIF(K$3:K$101,\"=\"&K73)),\"\")","v":""},{"$f":"IF(Registration!E72=\"SR\",'Trick Catch'!X73,\"\")","v":""},{"$f":"IF(AND(Registration!E72=\"SR\",COUNTBLANK(M73)=0),RANK(M73,M$3:M$101,0),\"\")","v":""},{"$f":"IF(AND(Registration!$E72=\"SR\",COUNTBLANK(N73)=0),placingpoints(N73,COUNTIF(N$3:N$101,\"=\"&N73)),\"\")","v":""},{"$f":"IF(Registration!E72=\"SR\",'Fast Catch'!F72,\"\")","v":""},{"$f":"IF(AND(Registration!E72=\"SR\",COUNTBLANK(P73)=0),RANK(P73,P$3:P$101,1),\"\")","v":""},{"$f":"IF(AND(Registration!$E72=\"SR\",COUNTBLANK(Q73)=0),placingpoints(Q73,COUNTIF(Q$3:Q$101,\"=\"&Q73)),\"\")","v":""},{"$f":"IF(Registration!E72=\"SR\",Endurance!C72,\"\")","v":""},{"$f":"IF(AND(Registration!E72=\"SR\",COUNTBLANK(S73)=0),RANK(S73,S$3:S$101,0),\"\")","v":""},{"$f":"IF(AND(Registration!$E72=\"SR\",COUNTBLANK(T73)=0),placingpoints(T73,COUNTIF(T$3:T$101,\"=\"&T73)),\"\")","v":""}]
[{"$f":"IF(Registration!E73=\"SR\",RANK(B74,$B$3:$B$101,1),\"\")","v":""},{"$f":"IF(Registration!E73=\"SR\",SUM(F74,I74,L74,O74,R74,U74),\"\")","v":""},{"$f":"IF(COUNTBLANK(Registration!B73)=1,\"\",IF(Registration!E73=\"SR\",Registration!B73,\"\"))","v":""},{"$f":"IF(Registration!E73=\"SR\",'Aussie Round'!V74,\"\")","v":""},{"$f":"IF(AND(Registration!E73=\"SR\",COUNTBLANK(D74)=0),RANK(D74,D$3:D$101,0),\"\")","v":""},{"$f":"IF(AND(Registration!$E73=\"SR\",COUNTBLANK(E74)=0),placingpoints(E74,COUNTIF(E$3:E$101,\"=\"&E74)),\"\")","v":""},{"$f":"IF(Registration!$E73=\"SR\",Accuracy!L73,\"\")","v":""},{"$f":"IF(AND(Registration!$E73=\"SR\",COUNTBLANK(G74)=0),RANK(G74,G$3:G$102,0),\"\")","v":""},{"$f":"IF(AND(Registration!$E73=\"SR\",COUNTBLANK(H74)=0),placingpoints(H74,COUNTIF(H$3:H$102,\"=\"&H74)),\"\")","v":""},{"$f":"IF(Registration!E73=\"SR\",MTA!G73,\"\")","v":""},{"$f":"IF(AND(Registration!E73=\"SR\",COUNTBLANK(J74)=0),RANK(J74,J$3:J$101,0),\"\")","v":""},{"$f":"IF(AND(Registration!$E73=\"SR\",COUNTBLANK(K74)=0),placingpoints(K74,COUNTIF(K$3:K$101,\"=\"&K74)),\"\")","v":""},{"$f":"IF(Registration!E73=\"SR\",'Trick Catch'!X74,\"\")","v":""},{"$f":"IF(AND(Registration!E73=\"SR\",COUNTBLANK(M74)=0),RANK(M74,M$3:M$101,0),\"\")","v":""},{"$f":"IF(AND(Registration!$E73=\"SR\",COUNTBLANK(N74)=0),placingpoints(N74,COUNTIF(N$3:N$101,\"=\"&N74)),\"\")","v":""},{"$f":"IF(Registration!E73=\"SR\",'Fast Catch'!F73,\"\")","v":""},{"$f":"IF(AND(Registration!E73=\"SR\",COUNTBLANK(P74)=0),RANK(P74,P$3:P$101,1),\"\")","v":""},{"$f":"IF(AND(Registration!$E73=\"SR\",COUNTBLANK(Q74)=0),placingpoints(Q74,COUNTIF(Q$3:Q$101,\"=\"&Q74)),\"\")","v":""},{"$f":"IF(Registration!E73=\"SR\",Endurance!C73,\"\")","v":""},{"$f":"IF(AND(Registration!E73=\"SR\",COUNTBLANK(S74)=0),RANK(S74,S$3:S$101,0),\"\")","v":""},{"$f":"IF(AND(Registration!$E73=\"SR\",COUNTBLANK(T74)=0),placingpoints(T74,COUNTIF(T$3:T$101,\"=\"&T74)),\"\")","v":""}]
[{"$f":"IF(Registration!E74=\"SR\",RANK(B75,$B$3:$B$101,1),\"\")","v":""},{"$f":"IF(Registration!E74=\"SR\",SUM(F75,I75,L75,O75,R75,U75),\"\")","v":""},{"$f":"IF(COUNTBLANK(Registration!B74)=1,\"\",IF(Registration!E74=\"SR\",Registration!B74,\"\"))","v":""},{"$f":"IF(Registration!E74=\"SR\",'Aussie Round'!V75,\"\")","v":""},{"$f":"IF(AND(Registration!E74=\"SR\",COUNTBLANK(D75)=0),RANK(D75,D$3:D$101,0),\"\")","v":""},{"$f":"IF(AND(Registration!$E74=\"SR\",COUNTBLANK(E75)=0),placingpoints(E75,COUNTIF(E$3:E$101,\"=\"&E75)),\"\")","v":""},{"$f":"IF(Registration!$E74=\"SR\",Accuracy!L74,\"\")","v":""},{"$f":"IF(AND(Registration!$E74=\"SR\",COUNTBLANK(G75)=0),RANK(G75,G$3:G$102,0),\"\")","v":""},{"$f":"IF(AND(Registration!$E74=\"SR\",COUNTBLANK(H75)=0),placingpoints(H75,COUNTIF(H$3:H$102,\"=\"&H75)),\"\")","v":""},{"$f":"IF(Registration!E74=\"SR\",MTA!G74,\"\")","v":""},{"$f":"IF(AND(Registration!E74=\"SR\",COUNTBLANK(J75)=0),RANK(J75,J$3:J$101,0),\"\")","v":""},{"$f":"IF(AND(Registration!$E74=\"SR\",COUNTBLANK(K75)=0),placingpoints(K75,COUNTIF(K$3:K$101,\"=\"&K75)),\"\")","v":""},{"$f":"IF(Registration!E74=\"SR\",'Trick Catch'!X75,\"\")","v":""},{"$f":"IF(AND(Registration!E74=\"SR\",COUNTBLANK(M75)=0),RANK(M75,M$3:M$101,0),\"\")","v":""},{"$f":"IF(AND(Registration!$E74=\"SR\",COUNTBLANK(N75)=0),placingpoints(N75,COUNTIF(N$3:N$101,\"=\"&N75)),\"\")","v":""},{"$f":"IF(Registration!E74=\"SR\",'Fast Catch'!F74,\"\")","v":""},{"$f":"IF(AND(Registration!E74=\"SR\",COUNTBLANK(P75)=0),RANK(P75,P$3:P$101,1),\"\")","v":""},{"$f":"IF(AND(Registration!$E74=\"SR\",COUNTBLANK(Q75)=0),placingpoints(Q75,COUNTIF(Q$3:Q$101,\"=\"&Q75)),\"\")","v":""},{"$f":"IF(Registration!E74=\"SR\",Endurance!C74,\"\")","v":""},{"$f":"IF(AND(Registration!E74=\"SR\",COUNTBLANK(S75)=0),RANK(S75,S$3:S$101,0),\"\")","v":""},{"$f":"IF(AND(Registration!$E74=\"SR\",COUNTBLANK(T75)=0),placingpoints(T75,COUNTIF(T$3:T$101,\"=\"&T75)),\"\")","v":""}]
[{"$f":"IF(Registration!E75=\"SR\",RANK(B76,$B$3:$B$101,1),\"\")","v":""},{"$f":"IF(Registration!E75=\"SR\",SUM(F76,I76,L76,O76,R76,U76),\"\")","v":""},{"$f":"IF(COUNTBLANK(Registration!B75)=1,\"\",IF(Registration!E75=\"SR\",Registration!B75,\"\"))","v":""},{"$f":"IF(Registration!E75=\"SR\",'Aussie Round'!V76,\"\")","v":""},{"$f":"IF(AND(Registration!E75=\"SR\",COUNTBLANK(D76)=0),RANK(D76,D$3:D$101,0),\"\")","v":""},{"$f":"IF(AND(Registration!$E75=\"SR\",COUNTBLANK(E76)=0),placingpoints(E76,COUNTIF(E$3:E$101,\"=\"&E76)),\"\")","v":""},{"$f":"IF(Registration!$E75=\"SR\",Accuracy!L75,\"\")","v":""},{"$f":"IF(AND(Registration!$E75=\"SR\",COUNTBLANK(G76)=0),RANK(G76,G$3:G$102,0),\"\")","v":""},{"$f":"IF(AND(Registration!$E75=\"SR\",COUNTBLANK(H76)=0),placingpoints(H76,COUNTIF(H$3:H$102,\"=\"&H76)),\"\")","v":""},{"$f":"IF(Registration!E75=\"SR\",MTA!G75,\"\")","v":""},{"$f":"IF(AND(Registration!E75=\"SR\",COUNTBLANK(J76)=0),RANK(J76,J$3:J$101,0),\"\")","v":""},{"$f":"IF(AND(Registration!$E75=\"SR\",COUNTBLANK(K76)=0),placingpoints(K76,COUNTIF(K$3:K$101,\"=\"&K76)),\"\")","v":""},{"$f":"IF(Registration!E75=\"SR\",'Trick Catch'!X76,\"\")","v":""},{"$f":"IF(AND(Registration!E75=\"SR\",COUNTBLANK(M76)=0),RANK(M76,M$3:M$101,0),\"\")","v":""},{"$f":"IF(AND(Registration!$E75=\"SR\",COUNTBLANK(N76)=0),placingpoints(N76,COUNTIF(N$3:N$101,\"=\"&N76)),\"\")","v":""},{"$f":"IF(Registration!E75=\"SR\",'Fast Catch'!F75,\"\")","v":""},{"$f":"IF(AND(Registration!E75=\"SR\",COUNTBLANK(P76)=0),RANK(P76,P$3:P$101,1),\"\")","v":""},{"$f":"IF(AND(Registration!$E75=\"SR\",COUNTBLANK(Q76)=0),placingpoints(Q76,COUNTIF(Q$3:Q$101,\"=\"&Q76)),\"\")","v":""},{"$f":"IF(Registration!E75=\"SR\",Endurance!C75,\"\")","v":""},{"$f":"IF(AND(Registration!E75=\"SR\",COUNTBLANK(S76)=0),RANK(S76,S$3:S$101,0),\"\")","v":""},{"$f":"IF(AND(Registration!$E75=\"SR\",COUNTBLANK(T76)=0),placingpoints(T76,COUNTIF(T$3:T$101,\"=\"&T76)),\"\")","v":""}]
[{"$f":"IF(Registration!E76=\"SR\",RANK(B77,$B$3:$B$101,1),\"\")","v":""},{"$f":"IF(Registration!E76=\"SR\",SUM(F77,I77,L77,O77,R77,U77),\"\")","v":""},{"$f":"IF(COUNTBLANK(Registration!B76)=1,\"\",IF(Registration!E76=\"SR\",Registration!B76,\"\"))","v":""},{"$f":"IF(Registration!E76=\"SR\",'Aussie Round'!V77,\"\")","v":""},{"$f":"IF(AND(Registration!E76=\"SR\",COUNTBLANK(D77)=0),RANK(D77,D$3:D$101,0),\"\")","v":""},{"$f":"IF(AND(Registration!$E76=\"SR\",COUNTBLANK(E77)=0),placingpoints(E77,COUNTIF(E$3:E$101,\"=\"&E77)),\"\")","v":""},{"$f":"IF(Registration!$E76=\"SR\",Accuracy!L76,\"\")","v":""},{"$f":"IF(AND(Registration!$E76=\"SR\",COUNTBLANK(G77)=0),RANK(G77,G$3:G$102,0),\"\")","v":""},{"$f":"IF(AND(Registration!$E76=\"SR\",COUNTBLANK(H77)=0),placingpoints(H77,COUNTIF(H$3:H$102,\"=\"&H77)),\"\")","v":""},{"$f":"IF(Registration!E76=\"SR\",MTA!G76,\"\")","v":""},{"$f":"IF(AND(Registration!E76=\"SR\",COUNTBLANK(J77)=0),RANK(J77,J$3:J$101,0),\"\")","v":""},{"$f":"IF(AND(Registration!$E76=\"SR\",COUNTBLANK(K77)=0),placingpoints(K77,COUNTIF(K$3:K$101,\"=\"&K77)),\"\")","v":""},{"$f":"IF(Registration!E76=\"SR\",'Trick Catch'!X77,\"\")","v":""},{"$f":"IF(AND(Registration!E76=\"SR\",COUNTBLANK(M77)=0),RANK(M77,M$3:M$101,0),\"\")","v":""},{"$f":"IF(AND(Registration!$E76=\"SR\",COUNTBLANK(N77)=0),placingpoints(N77,COUNTIF(N$3:N$101,\"=\"&N77)),\"\")","v":""},{"$f":"IF(Registration!E76=\"SR\",'Fast Catch'!F76,\"\")","v":""},{"$f":"IF(AND(Registration!E76=\"SR\",COUNTBLANK(P77)=0),RANK(P77,P$3:P$101,1),\"\")","v":""},{"$f":"IF(AND(Registration!$E76=\"SR\",COUNTBLANK(Q77)=0),placingpoints(Q77,COUNTIF(Q$3:Q$101,\"=\"&Q77)),\"\")","v":""},{"$f":"IF(Registration!E76=\"SR\",Endurance!C76,\"\")","v":""},{"$f":"IF(AND(Registration!E76=\"SR\",COUNTBLANK(S77)=0),RANK(S77,S$3:S$101,0),\"\")","v":""},{"$f":"IF(AND(Registration!$E76=\"SR\",COUNTBLANK(T77)=0),placingpoints(T77,COUNTIF(T$3:T$101,\"=\"&T77)),\"\")","v":""}]
[{"$f":"IF(Registration!E77=\"SR\",RANK(B78,$B$3:$B$101,1),\"\")","v":""},{"$f":"IF(Registration!E77=\"SR\",SUM(F78,I78,L78,O78,R78,U78),\"\")","v":""},{"$f":"IF(COUNTBLANK(Registration!B77)=1,\"\",IF(Registration!E77=\"SR\",Registration!B77,\"\"))","v":""},{"$f":"IF(Registration!E77=\"SR\",'Aussie Round'!V78,\"\")","v":""},{"$f":"IF(AND(Registration!E77=\"SR\",COUNTBLANK(D78)=0),RANK(D78,D$3:D$101,0),\"\")","v":""},{"$f":"IF(AND(Registration!$E77=\"SR\",COUNTBLANK(E78)=0),placingpoints(E78,COUNTIF(E$3:E$101,\"=\"&E78)),\"\")","v":""},{"$f":"IF(Registration!$E77=\"SR\",Accuracy!L77,\"\")","v":""},{"$f":"IF(AND(Registration!$E77=\"SR\",COUNTBLANK(G78)=0),RANK(G78,G$3:G$102,0),\"\")","v":""},{"$f":"IF(AND(Registration!$E77=\"SR\",COUNTBLANK(H78)=0),placingpoints(H78,COUNTIF(H$3:H$102,\"=\"&H78)),\"\")","v":""},{"$f":"IF(Registration!E77=\"SR\",MTA!G77,\"\")","v":""},{"$f":"IF(AND(Registration!E77=\"SR\",COUNTBLANK(J78)=0),RANK(J78,J$3:J$101,0),\"\")","v":""},{"$f":"IF(AND(Registration!$E77=\"SR\",COUNTBLANK(K78)=0),placingpoints(K78,COUNTIF(K$3:K$101,\"=\"&K78)),\"\")","v":""},{"$f":"IF(Registration!E77=\"SR\",'Trick Catch'!X78,\"\")","v":""},{"$f":"IF(AND(Registration!E77=\"SR\",COUNTBLANK(M78)=0),RANK(M78,M$3:M$101,0),\"\")","v":""},{"$f":"IF(AND(Registration!$E77=\"SR\",COUNTBLANK(N78)=0),placingpoints(N78,COUNTIF(N$3:N$101,\"=\"&N78)),\"\")","v":""},{"$f":"IF(Registration!E77=\"SR\",'Fast Catch'!F77,\"\")","v":""},{"$f":"IF(AND(Registration!E77=\"SR\",COUNTBLANK(P78)=0),RANK(P78,P$3:P$101,1),\"\")","v":""},{"$f":"IF(AND(Registration!$E77=\"SR\",COUNTBLANK(Q78)=0),placingpoints(Q78,COUNTIF(Q$3:Q$101,\"=\"&Q78)),\"\")","v":""},{"$f":"IF(Registration!E77=\"SR\",Endurance!C77,\"\")","v":""},{"$f":"IF(AND(Registration!E77=\"SR\",COUNTBLANK(S78)=0),RANK(S78,S$3:S$101,0),\"\")","v":""},{"$f":"IF(AND(Registration!$E77=\"SR\",COUNTBLANK(T78)=0),placingpoints(T78,COUNTIF(T$3:T$101,\"=\"&T78)),\"\")","v":""}]
[{"$f":"IF(Registration!E78=\"SR\",RANK(B79,$B$3:$B$101,1),\"\")","v":""},{"$f":"IF(Registration!E78=\"SR\",SUM(F79,I79,L79,O79,R79,U79),\"\")","v":""},{"$f":"IF(COUNTBLANK(Registration!B78)=1,\"\",IF(Registration!E78=\"SR\",Registration!B78,\"\"))","v":""},{"$f":"IF(Registration!E78=\"SR\",'Aussie Round'!V79,\"\")","v":""},{"$f":"IF(AND(Registration!E78=\"SR\",COUNTBLANK(D79)=0),RANK(D79,D$3:D$101,0),\"\")","v":""},{"$f":"IF(AND(Registration!$E78=\"SR\",COUNTBLANK(E79)=0),placingpoints(E79,COUNTIF(E$3:E$101,\"=\"&E79)),\"\")","v":""},{"$f":"IF(Registration!$E78=\"SR\",Accuracy!L78,\"\")","v":""},{"$f":"IF(AND(Registration!$E78=\"SR\",COUNTBLANK(G79)=0),RANK(G79,G$3:G$102,0),\"\")","v":""},{"$f":"IF(AND(Registration!$E78=\"SR\",COUNTBLANK(H79)=0),placingpoints(H79,COUNTIF(H$3:H$102,\"=\"&H79)),\"\")","v":""},{"$f":"IF(Registration!E78=\"SR\",MTA!G78,\"\")","v":""},{"$f":"IF(AND(Registration!E78=\"SR\",COUNTBLANK(J79)=0),RANK(J79,J$3:J$101,0),\"\")","v":""},{"$f":"IF(AND(Registration!$E78=\"SR\",COUNTBLANK(K79)=0),placingpoints(K79,COUNTIF(K$3:K$101,\"=\"&K79)),\"\")","v":""},{"$f":"IF(Registration!E78=\"SR\",'Trick Catch'!X79,\"\")","v":""},{"$f":"IF(AND(Registration!E78=\"SR\",COUNTBLANK(M79)=0),RANK(M79,M$3:M$101,0),\"\")","v":""},{"$f":"IF(AND(Registration!$E78=\"SR\",COUNTBLANK(N79)=0),placingpoints(N79,COUNTIF(N$3:N$101,\"=\"&N79)),\"\")","v":""},{"$f":"IF(Registration!E78=\"SR\",'Fast Catch'!F78,\"\")","v":""},{"$f":"IF(AND(Registration!E78=\"SR\",COUNTBLANK(P79)=0),RANK(P79,P$3:P$101,1),\"\")","v":""},{"$f":"IF(AND(Registration!$E78=\"SR\",COUNTBLANK(Q79)=0),placingpoints(Q79,COUNTIF(Q$3:Q$101,\"=\"&Q79)),\"\")","v":""},{"$f":"IF(Registration!E78=\"SR\",Endurance!C78,\"\")","v":""},{"$f":"IF(AND(Registration!E78=\"SR\",COUNTBLANK(S79)=0),RANK(S79,S$3:S$101,0),\"\")","v":""},{"$f":"IF(AND(Registration!$E78=\"SR\",COUNTBLANK(T79)=0),placingpoints(T79,COUNTIF(T$3:T$101,\"=\"&T79)),\"\")","v":""}]
[{"$f":"IF(Registration!E79=\"SR\",RANK(B80,$B$3:$B$101,1),\"\")","v":""},{"$f":"IF(Registration!E79=\"SR\",SUM(F80,I80,L80,O80,R80,U80),\"\")","v":""},{"$f":"IF(COUNTBLANK(Registration!B79)=1,\"\",IF(Registration!E79=\"SR\",Registration!B79,\"\"))","v":""},{"$f":"IF(Registration!E79=\"SR\",'Aussie Round'!V80,\"\")","v":""},{"$f":"IF(AND(Registration!E79=\"SR\",COUNTBLANK(D80)=0),RANK(D80,D$3:D$101,0),\"\")","v":""},{"$f":"IF(AND(Registration!$E79=\"SR\",COUNTBLANK(E80)=0),placingpoints(E80,COUNTIF(E$3:E$101,\"=\"&E80)),\"\")","v":""},{"$f":"IF(Registration!$E79=\"SR\",Accuracy!L79,\"\")","v":""},{"$f":"IF(AND(Registration!$E79=\"SR\",COUNTBLANK(G80)=0),RANK(G80,G$3:G$102,0),\"\")","v":""},{"$f":"IF(AND(Registration!$E79=\"SR\",COUNTBLANK(H80)=0),placingpoints(H80,COUNTIF(H$3:H$102,\"=\"&H80)),\"\")","v":""},{"$f":"IF(Registration!E79=\"SR\",MTA!G79,\"\")","v":""},{"$f":"IF(AND(Registration!E79=\"SR\",COUNTBLANK(J80)=0),RANK(J80,J$3:J$101,0),\"\")","v":""},{"$f":"IF(AND(Registration!$E79=\"SR\",COUNTBLANK(K80)=0),placingpoints(K80,COUNTIF(K$3:K$101,\"=\"&K80)),\"\")","v":""},{"$f":"IF(Registration!E79=\"SR\",'Trick Catch'!X80,\"\")","v":""},{"$f":"IF(AND(Registration!E79=\"SR\",COUNTBLANK(M80)=0),RANK(M80,M$3:M$101,0),\"\")","v":""},{"$f":"IF(AND(Registration!$E79=\"SR\",COUNTBLANK(N80)=0),placingpoints(N80,COUNTIF(N$3:N$101,\"=\"&N80)),\"\")","v":""},{"$f":"IF(Registration!E79=\"SR\",'Fast Catch'!F79,\"\")","v":""},{"$f":"IF(AND(Registration!E79=\"SR\",COUNTBLANK(P80)=0),RANK(P80,P$3:P$101,1),\"\")","v":""},{"$f":"IF(AND(Registration!$E79=\"SR\",COUNTBLANK(Q80)=0),placingpoints(Q80,COUNTIF(Q$3:Q$101,\"=\"&Q80)),\"\")","v":""},{"$f":"IF(Registration!E79=\"SR\",Endurance!C79,\"\")","v":""},{"$f":"IF(AND(Registration!E79=\"SR\",COUNTBLANK(S80)=0),RANK(S80,S$3:S$101,0),\"\")","v":""},{"$f":"IF(AND(Registration!$E79=\"SR\",COUNTBLANK(T80)=0),placingpoints(T80,COUNTIF(T$3:T$101,\"=\"&T80)),\"\")","v":""}]
[{"$f":"IF(Registration!E80=\"SR\",RANK(B81,$B$3:$B$101,1),\"\")","v":""},{"$f":"IF(Registration!E80=\"SR\",SUM(F81,I81,L81,O81,R81,U81),\"\")","v":""},{"$f":"IF(COUNTBLANK(Registration!B80)=1,\"\",IF(Registration!E80=\"SR\",Registration!B80,\"\"))","v":""},{"$f":"IF(Registration!E80=\"SR\",'Aussie Round'!V81,\"\")","v":""},{"$f":"IF(AND(Registration!E80=\"SR\",COUNTBLANK(D81)=0),RANK(D81,D$3:D$101,0),\"\")","v":""},{"$f":"IF(AND(Registration!$E80=\"SR\",COUNTBLANK(E81)=0),placingpoints(E81,COUNTIF(E$3:E$101,\"=\"&E81)),\"\")","v":""},{"$f":"IF(Registration!$E80=\"SR\",Accuracy!L80,\"\")","v":""},{"$f":"IF(AND(Registration!$E80=\"SR\",COUNTBLANK(G81)=0),RANK(G81,G$3:G$102,0),\"\")","v":""},{"$f":"IF(AND(Registration!$E80=\"SR\",COUNTBLANK(H81)=0),placingpoints(H81,COUNTIF(H$3:H$102,\"=\"&H81)),\"\")","v":""},{"$f":"IF(Registration!E80=\"SR\",MTA!G80,\"\")","v":""},{"$f":"IF(AND(Registration!E80=\"SR\",COUNTBLANK(J81)=0),RANK(J81,J$3:J$101,0),\"\")","v":""},{"$f":"IF(AND(Registration!$E80=\"SR\",COUNTBLANK(K81)=0),placingpoints(K81,COUNTIF(K$3:K$101,\"=\"&K81)),\"\")","v":""},{"$f":"IF(Registration!E80=\"SR\",'Trick Catch'!X81,\"\")","v":""},{"$f":"IF(AND(Registration!E80=\"SR\",COUNTBLANK(M81)=0),RANK(M81,M$3:M$101,0),\"\")","v":""},{"$f":"IF(AND(Registration!$E80=\"SR\",COUNTBLANK(N81)=0),placingpoints(N81,COUNTIF(N$3:N$101,\"=\"&N81)),\"\")","v":""},{"$f":"IF(Registration!E80=\"SR\",'Fast Catch'!F80,\"\")","v":""},{"$f":"IF(AND(Registration!E80=\"SR\",COUNTBLANK(P81)=0),RANK(P81,P$3:P$101,1),\"\")","v":""},{"$f":"IF(AND(Registration!$E80=\"SR\",COUNTBLANK(Q81)=0),placingpoints(Q81,COUNTIF(Q$3:Q$101,\"=\"&Q81)),\"\")","v":""},{"$f":"IF(Registration!E80=\"SR\",Endurance!C80,\"\")","v":""},{"$f":"IF(AND(Registration!E80=\"SR\",COUNTBLANK(S81)=0),RANK(S81,S$3:S$101,0),\"\")","v":""},{"$f":"IF(AND(Registration!$E80=\"SR\",COUNTBLANK(T81)=0),placingpoints(T81,COUNTIF(T$3:T$101,\"=\"&T81)),\"\")","v":""}]
[{"$f":"IF(Registration!E81=\"SR\",RANK(B82,$B$3:$B$101,1),\"\")","v":""},{"$f":"IF(Registration!E81=\"SR\",SUM(F82,I82,L82,O82,R82,U82),\"\")","v":""},{"$f":"IF(COUNTBLANK(Registration!B81)=1,\"\",IF(Registration!E81=\"SR\",Registration!B81,\"\"))","v":""},{"$f":"IF(Registration!E81=\"SR\",'Aussie Round'!V82,\"\")","v":""},{"$f":"IF(AND(Registration!E81=\"SR\",COUNTBLANK(D82)=0),RANK(D82,D$3:D$101,0),\"\")","v":""},{"$f":"IF(AND(Registration!$E81=\"SR\",COUNTBLANK(E82)=0),placingpoints(E82,COUNTIF(E$3:E$101,\"=\"&E82)),\"\")","v":""},{"$f":"IF(Registration!$E81=\"SR\",Accuracy!L81,\"\")","v":""},{"$f":"IF(AND(Registration!$E81=\"SR\",COUNTBLANK(G82)=0),RANK(G82,G$3:G$102,0),\"\")","v":""},{"$f":"IF(AND(Registration!$E81=\"SR\",COUNTBLANK(H82)=0),placingpoints(H82,COUNTIF(H$3:H$102,\"=\"&H82)),\"\")","v":""},{"$f":"IF(Registration!E81=\"SR\",MTA!G81,\"\")","v":""},{"$f":"IF(AND(Registration!E81=\"SR\",COUNTBLANK(J82)=0),RANK(J82,J$3:J$101,0),\"\")","v":""},{"$f":"IF(AND(Registration!$E81=\"SR\",COUNTBLANK(K82)=0),placingpoints(K82,COUNTIF(K$3:K$101,\"=\"&K82)),\"\")","v":""},{"$f":"IF(Registration!E81=\"SR\",'Trick Catch'!X82,\"\")","v":""},{"$f":"IF(AND(Registration!E81=\"SR\",COUNTBLANK(M82)=0),RANK(M82,M$3:M$101,0),\"\")","v":""},{"$f":"IF(AND(Registration!$E81=\"SR\",COUNTBLANK(N82)=0),placingpoints(N82,COUNTIF(N$3:N$101,\"=\"&N82)),\"\")","v":""},{"$f":"IF(Registration!E81=\"SR\",'Fast Catch'!F81,\"\")","v":""},{"$f":"IF(AND(Registration!E81=\"SR\",COUNTBLANK(P82)=0),RANK(P82,P$3:P$101,1),\"\")","v":""},{"$f":"IF(AND(Registration!$E81=\"SR\",COUNTBLANK(Q82)=0),placingpoints(Q82,COUNTIF(Q$3:Q$101,\"=\"&Q82)),\"\")","v":""},{"$f":"IF(Registration!E81=\"SR\",Endurance!C81,\"\")","v":""},{"$f":"IF(AND(Registration!E81=\"SR\",COUNTBLANK(S82)=0),RANK(S82,S$3:S$101,0),\"\")","v":""},{"$f":"IF(AND(Registration!$E81=\"SR\",COUNTBLANK(T82)=0),placingpoints(T82,COUNTIF(T$3:T$101,\"=\"&T82)),\"\")","v":""}]
[{"$f":"IF(Registration!E82=\"SR\",RANK(B83,$B$3:$B$101,1),\"\")","v":""},{"$f":"IF(Registration!E82=\"SR\",SUM(F83,I83,L83,O83,R83,U83),\"\")","v":""},{"$f":"IF(COUNTBLANK(Registration!B82)=1,\"\",IF(Registration!E82=\"SR\",Registration!B82,\"\"))","v":""},{"$f":"IF(Registration!E82=\"SR\",'Aussie Round'!V83,\"\")","v":""},{"$f":"IF(AND(Registration!E82=\"SR\",COUNTBLANK(D83)=0),RANK(D83,D$3:D$101,0),\"\")","v":""},{"$f":"IF(AND(Registration!$E82=\"SR\",COUNTBLANK(E83)=0),placingpoints(E83,COUNTIF(E$3:E$101,\"=\"&E83)),\"\")","v":""},{"$f":"IF(Registration!$E82=\"SR\",Accuracy!L82,\"\")","v":""},{"$f":"IF(AND(Registration!$E82=\"SR\",COUNTBLANK(G83)=0),RANK(G83,G$3:G$102,0),\"\")","v":""},{"$f":"IF(AND(Registration!$E82=\"SR\",COUNTBLANK(H83)=0),placingpoints(H83,COUNTIF(H$3:H$102,\"=\"&H83)),\"\")","v":""},{"$f":"IF(Registration!E82=\"SR\",MTA!G82,\"\")","v":""},{"$f":"IF(AND(Registration!E82=\"SR\",COUNTBLANK(J83)=0),RANK(J83,J$3:J$101,0),\"\")","v":""},{"$f":"IF(AND(Registration!$E82=\"SR\",COUNTBLANK(K83)=0),placingpoints(K83,COUNTIF(K$3:K$101,\"=\"&K83)),\"\")","v":""},{"$f":"IF(Registration!E82=\"SR\",'Trick Catch'!X83,\"\")","v":""},{"$f":"IF(AND(Registration!E82=\"SR\",COUNTBLANK(M83)=0),RANK(M83,M$3:M$101,0),\"\")","v":""},{"$f":"IF(AND(Registration!$E82=\"SR\",COUNTBLANK(N83)=0),placingpoints(N83,COUNTIF(N$3:N$101,\"=\"&N83)),\"\")","v":""},{"$f":"IF(Registration!E82=\"SR\",'Fast Catch'!F82,\"\")","v":""},{"$f":"IF(AND(Registration!E82=\"SR\",COUNTBLANK(P83)=0),RANK(P83,P$3:P$101,1),\"\")","v":""},{"$f":"IF(AND(Registration!$E82=\"SR\",COUNTBLANK(Q83)=0),placingpoints(Q83,COUNTIF(Q$3:Q$101,\"=\"&Q83)),\"\")","v":""},{"$f":"IF(Registration!E82=\"SR\",Endurance!C82,\"\")","v":""},{"$f":"IF(AND(Registration!E82=\"SR\",COUNTBLANK(S83)=0),RANK(S83,S$3:S$101,0),\"\")","v":""},{"$f":"IF(AND(Registration!$E82=\"SR\",COUNTBLANK(T83)=0),placingpoints(T83,COUNTIF(T$3:T$101,\"=\"&T83)),\"\")","v":""}]
[{"$f":"IF(Registration!E83=\"SR\",RANK(B84,$B$3:$B$101,1),\"\")","v":""},{"$f":"IF(Registration!E83=\"SR\",SUM(F84,I84,L84,O84,R84,U84),\"\")","v":""},{"$f":"IF(COUNTBLANK(Registration!B83)=1,\"\",IF(Registration!E83=\"SR\",Registration!B83,\"\"))","v":""},{"$f":"IF(Registration!E83=\"SR\",'Aussie Round'!V84,\"\")","v":""},{"$f":"IF(AND(Registration!E83=\"SR\",COUNTBLANK(D84)=0),RANK(D84,D$3:D$101,0),\"\")","v":""},{"$f":"IF(AND(Registration!$E83=\"SR\",COUNTBLANK(E84)=0),placingpoints(E84,COUNTIF(E$3:E$101,\"=\"&E84)),\"\")","v":""},{"$f":"IF(Registration!$E83=\"SR\",Accuracy!L83,\"\")","v":""},{"$f":"IF(AND(Registration!$E83=\"SR\",COUNTBLANK(G84)=0),RANK(G84,G$3:G$102,0),\"\")","v":""},{"$f":"IF(AND(Registration!$E83=\"SR\",COUNTBLANK(H84)=0),placingpoints(H84,COUNTIF(H$3:H$102,\"=\"&H84)),\"\")","v":""},{"$f":"IF(Registration!E83=\"SR\",MTA!G83,\"\")","v":""},{"$f":"IF(AND(Registration!E83=\"SR\",COUNTBLANK(J84)=0),RANK(J84,J$3:J$101,0),\"\")","v":""},{"$f":"IF(AND(Registration!$E83=\"SR\",COUNTBLANK(K84)=0),placingpoints(K84,COUNTIF(K$3:K$101,\"=\"&K84)),\"\")","v":""},{"$f":"IF(Registration!E83=\"SR\",'Trick Catch'!X84,\"\")","v":""},{"$f":"IF(AND(Registration!E83=\"SR\",COUNTBLANK(M84)=0),RANK(M84,M$3:M$101,0),\"\")","v":""},{"$f":"IF(AND(Registration!$E83=\"SR\",COUNTBLANK(N84)=0),placingpoints(N84,COUNTIF(N$3:N$101,\"=\"&N84)),\"\")","v":""},{"$f":"IF(Registration!E83=\"SR\",'Fast Catch'!F83,\"\")","v":""},{"$f":"IF(AND(Registration!E83=\"SR\",COUNTBLANK(P84)=0),RANK(P84,P$3:P$101,1),\"\")","v":""},{"$f":"IF(AND(Registration!$E83=\"SR\",COUNTBLANK(Q84)=0),placingpoints(Q84,COUNTIF(Q$3:Q$101,\"=\"&Q84)),\"\")","v":""},{"$f":"IF(Registration!E83=\"SR\",Endurance!C83,\"\")","v":""},{"$f":"IF(AND(Registration!E83=\"SR\",COUNTBLANK(S84)=0),RANK(S84,S$3:S$101,0),\"\")","v":""},{"$f":"IF(AND(Registration!$E83=\"SR\",COUNTBLANK(T84)=0),placingpoints(T84,COUNTIF(T$3:T$101,\"=\"&T84)),\"\")","v":""}]
[{"$f":"IF(Registration!E84=\"SR\",RANK(B85,$B$3:$B$101,1),\"\")","v":""},{"$f":"IF(Registration!E84=\"SR\",SUM(F85,I85,L85,O85,R85,U85),\"\")","v":""},{"$f":"IF(COUNTBLANK(Registration!B84)=1,\"\",IF(Registration!E84=\"SR\",Registration!B84,\"\"))","v":""},{"$f":"IF(Registration!E84=\"SR\",'Aussie Round'!V85,\"\")","v":""},{"$f":"IF(AND(Registration!E84=\"SR\",COUNTBLANK(D85)=0),RANK(D85,D$3:D$101,0),\"\")","v":""},{"$f":"IF(AND(Registration!$E84=\"SR\",COUNTBLANK(E85)=0),placingpoints(E85,COUNTIF(E$3:E$101,\"=\"&E85)),\"\")","v":""},{"$f":"IF(Registration!$E84=\"SR\",Accuracy!L84,\"\")","v":""},{"$f":"IF(AND(Registration!$E84=\"SR\",COUNTBLANK(G85)=0),RANK(G85,G$3:G$102,0),\"\")","v":""},{"$f":"IF(AND(Registration!$E84=\"SR\",COUNTBLANK(H85)=0),placingpoints(H85,COUNTIF(H$3:H$102,\"=\"&H85)),\"\")","v":""},{"$f":"IF(Registration!E84=\"SR\",MTA!G84,\"\")","v":""},{"$f":"IF(AND(Registration!E84=\"SR\",COUNTBLANK(J85)=0),RANK(J85,J$3:J$101,0),\"\")","v":""},{"$f":"IF(AND(Registration!$E84=\"SR\",COUNTBLANK(K85)=0),placingpoints(K85,COUNTIF(K$3:K$101,\"=\"&K85)),\"\")","v":""},{"$f":"IF(Registration!E84=\"SR\",'Trick Catch'!X85,\"\")","v":""},{"$f":"IF(AND(Registration!E84=\"SR\",COUNTBLANK(M85)=0),RANK(M85,M$3:M$101,0),\"\")","v":""},{"$f":"IF(AND(Registration!$E84=\"SR\",COUNTBLANK(N85)=0),placingpoints(N85,COUNTIF(N$3:N$101,\"=\"&N85)),\"\")","v":""},{"$f":"IF(Registration!E84=\"SR\",'Fast Catch'!F84,\"\")","v":""},{"$f":"IF(AND(Registration!E84=\"SR\",COUNTBLANK(P85)=0),RANK(P85,P$3:P$101,1),\"\")","v":""},{"$f":"IF(AND(Registration!$E84=\"SR\",COUNTBLANK(Q85)=0),placingpoints(Q85,COUNTIF(Q$3:Q$101,\"=\"&Q85)),\"\")","v":""},{"$f":"IF(Registration!E84=\"SR\",Endurance!C84,\"\")","v":""},{"$f":"IF(AND(Registration!E84=\"SR\",COUNTBLANK(S85)=0),RANK(S85,S$3:S$101,0),\"\")","v":""},{"$f":"IF(AND(Registration!$E84=\"SR\",COUNTBLANK(T85)=0),placingpoints(T85,COUNTIF(T$3:T$101,\"=\"&T85)),\"\")","v":""}]
[{"$f":"IF(Registration!E85=\"SR\",RANK(B86,$B$3:$B$101,1),\"\")","v":""},{"$f":"IF(Registration!E85=\"SR\",SUM(F86,I86,L86,O86,R86,U86),\"\")","v":""},{"$f":"IF(COUNTBLANK(Registration!B85)=1,\"\",IF(Registration!E85=\"SR\",Registration!B85,\"\"))","v":""},{"$f":"IF(Registration!E85=\"SR\",'Aussie Round'!V86,\"\")","v":""},{"$f":"IF(AND(Registration!E85=\"SR\",COUNTBLANK(D86)=0),RANK(D86,D$3:D$101,0),\"\")","v":""},{"$f":"IF(AND(Registration!$E85=\"SR\",COUNTBLANK(E86)=0),placingpoints(E86,COUNTIF(E$3:E$101,\"=\"&E86)),\"\")","v":""},{"$f":"IF(Registration!$E85=\"SR\",Accuracy!L85,\"\")","v":""},{"$f":"IF(AND(Registration!$E85=\"SR\",COUNTBLANK(G86)=0),RANK(G86,G$3:G$102,0),\"\")","v":""},{"$f":"IF(AND(Registration!$E85=\"SR\",COUNTBLANK(H86)=0),placingpoints(H86,COUNTIF(H$3:H$102,\"=\"&H86)),\"\")","v":""},{"$f":"IF(Registration!E85=\"SR\",MTA!G85,\"\")","v":""},{"$f":"IF(AND(Registration!E85=\"SR\",COUNTBLANK(J86)=0),RANK(J86,J$3:J$101,0),\"\")","v":""},{"$f":"IF(AND(Registration!$E85=\"SR\",COUNTBLANK(K86)=0),placingpoints(K86,COUNTIF(K$3:K$101,\"=\"&K86)),\"\")","v":""},{"$f":"IF(Registration!E85=\"SR\",'Trick Catch'!X86,\"\")","v":""},{"$f":"IF(AND(Registration!E85=\"SR\",COUNTBLANK(M86)=0),RANK(M86,M$3:M$101,0),\"\")","v":""},{"$f":"IF(AND(Registration!$E85=\"SR\",COUNTBLANK(N86)=0),placingpoints(N86,COUNTIF(N$3:N$101,\"=\"&N86)),\"\")","v":""},{"$f":"IF(Registration!E85=\"SR\",'Fast Catch'!F85,\"\")","v":""},{"$f":"IF(AND(Registration!E85=\"SR\",COUNTBLANK(P86)=0),RANK(P86,P$3:P$101,1),\"\")","v":""},{"$f":"IF(AND(Registration!$E85=\"SR\",COUNTBLANK(Q86)=0),placingpoints(Q86,COUNTIF(Q$3:Q$101,\"=\"&Q86)),\"\")","v":""},{"$f":"IF(Registration!E85=\"SR\",Endurance!C85,\"\")","v":""},{"$f":"IF(AND(Registration!E85=\"SR\",COUNTBLANK(S86)=0),RANK(S86,S$3:S$101,0),\"\")","v":""},{"$f":"IF(AND(Registration!$E85=\"SR\",COUNTBLANK(T86)=0),placingpoints(T86,COUNTIF(T$3:T$101,\"=\"&T86)),\"\")","v":""}]
[{"$f":"IF(Registration!E86=\"SR\",RANK(B87,$B$3:$B$101,1),\"\")","v":""},{"$f":"IF(Registration!E86=\"SR\",SUM(F87,I87,L87,O87,R87,U87),\"\")","v":""},{"$f":"IF(COUNTBLANK(Registration!B86)=1,\"\",IF(Registration!E86=\"SR\",Registration!B86,\"\"))","v":""},{"$f":"IF(Registration!E86=\"SR\",'Aussie Round'!V87,\"\")","v":""},{"$f":"IF(AND(Registration!E86=\"SR\",COUNTBLANK(D87)=0),RANK(D87,D$3:D$101,0),\"\")","v":""},{"$f":"IF(AND(Registration!$E86=\"SR\",COUNTBLANK(E87)=0),placingpoints(E87,COUNTIF(E$3:E$101,\"=\"&E87)),\"\")","v":""},{"$f":"IF(Registration!$E86=\"SR\",Accuracy!L86,\"\")","v":""},{"$f":"IF(AND(Registration!$E86=\"SR\",COUNTBLANK(G87)=0),RANK(G87,G$3:G$102,0),\"\")","v":""},{"$f":"IF(AND(Registration!$E86=\"SR\",COUNTBLANK(H87)=0),placingpoints(H87,COUNTIF(H$3:H$102,\"=\"&H87)),\"\")","v":""},{"$f":"IF(Registration!E86=\"SR\",MTA!G86,\"\")","v":""},{"$f":"IF(AND(Registration!E86=\"SR\",COUNTBLANK(J87)=0),RANK(J87,J$3:J$101,0),\"\")","v":""},{"$f":"IF(AND(Registration!$E86=\"SR\",COUNTBLANK(K87)=0),placingpoints(K87,COUNTIF(K$3:K$101,\"=\"&K87)),\"\")","v":""},{"$f":"IF(Registration!E86=\"SR\",'Trick Catch'!X87,\"\")","v":""},{"$f":"IF(AND(Registration!E86=\"SR\",COUNTBLANK(M87)=0),RANK(M87,M$3:M$101,0),\"\")","v":""},{"$f":"IF(AND(Registration!$E86=\"SR\",COUNTBLANK(N87)=0),placingpoints(N87,COUNTIF(N$3:N$101,\"=\"&N87)),\"\")","v":""},{"$f":"IF(Registration!E86=\"SR\",'Fast Catch'!F86,\"\")","v":""},{"$f":"IF(AND(Registration!E86=\"SR\",COUNTBLANK(P87)=0),RANK(P87,P$3:P$101,1),\"\")","v":""},{"$f":"IF(AND(Registration!$E86=\"SR\",COUNTBLANK(Q87)=0),placingpoints(Q87,COUNTIF(Q$3:Q$101,\"=\"&Q87)),\"\")","v":""},{"$f":"IF(Registration!E86=\"SR\",Endurance!C86,\"\")","v":""},{"$f":"IF(AND(Registration!E86=\"SR\",COUNTBLANK(S87)=0),RANK(S87,S$3:S$101,0),\"\")","v":""},{"$f":"IF(AND(Registration!$E86=\"SR\",COUNTBLANK(T87)=0),placingpoints(T87,COUNTIF(T$3:T$101,\"=\"&T87)),\"\")","v":""}]
[{"$f":"IF(Registration!E87=\"SR\",RANK(B88,$B$3:$B$101,1),\"\")","v":""},{"$f":"IF(Registration!E87=\"SR\",SUM(F88,I88,L88,O88,R88,U88),\"\")","v":""},{"$f":"IF(COUNTBLANK(Registration!B87)=1,\"\",IF(Registration!E87=\"SR\",Registration!B87,\"\"))","v":""},{"$f":"IF(Registration!E87=\"SR\",'Aussie Round'!V88,\"\")","v":""},{"$f":"IF(AND(Registration!E87=\"SR\",COUNTBLANK(D88)=0),RANK(D88,D$3:D$101,0),\"\")","v":""},{"$f":"IF(AND(Registration!$E87=\"SR\",COUNTBLANK(E88)=0),placingpoints(E88,COUNTIF(E$3:E$101,\"=\"&E88)),\"\")","v":""},{"$f":"IF(Registration!$E87=\"SR\",Accuracy!L87,\"\")","v":""},{"$f":"IF(AND(Registration!$E87=\"SR\",COUNTBLANK(G88)=0),RANK(G88,G$3:G$102,0),\"\")","v":""},{"$f":"IF(AND(Registration!$E87=\"SR\",COUNTBLANK(H88)=0),placingpoints(H88,COUNTIF(H$3:H$102,\"=\"&H88)),\"\")","v":""},{"$f":"IF(Registration!E87=\"SR\",MTA!G87,\"\")","v":""},{"$f":"IF(AND(Registration!E87=\"SR\",COUNTBLANK(J88)=0),RANK(J88,J$3:J$101,0),\"\")","v":""},{"$f":"IF(AND(Registration!$E87=\"SR\",COUNTBLANK(K88)=0),placingpoints(K88,COUNTIF(K$3:K$101,\"=\"&K88)),\"\")","v":""},{"$f":"IF(Registration!E87=\"SR\",'Trick Catch'!X88,\"\")","v":""},{"$f":"IF(AND(Registration!E87=\"SR\",COUNTBLANK(M88)=0),RANK(M88,M$3:M$101,0),\"\")","v":""},{"$f":"IF(AND(Registration!$E87=\"SR\",COUNTBLANK(N88)=0),placingpoints(N88,COUNTIF(N$3:N$101,\"=\"&N88)),\"\")","v":""},{"$f":"IF(Registration!E87=\"SR\",'Fast Catch'!F87,\"\")","v":""},{"$f":"IF(AND(Registration!E87=\"SR\",COUNTBLANK(P88)=0),RANK(P88,P$3:P$101,1),\"\")","v":""},{"$f":"IF(AND(Registration!$E87=\"SR\",COUNTBLANK(Q88)=0),placingpoints(Q88,COUNTIF(Q$3:Q$101,\"=\"&Q88)),\"\")","v":""},{"$f":"IF(Registration!E87=\"SR\",Endurance!C87,\"\")","v":""},{"$f":"IF(AND(Registration!E87=\"SR\",COUNTBLANK(S88)=0),RANK(S88,S$3:S$101,0),\"\")","v":""},{"$f":"IF(AND(Registration!$E87=\"SR\",COUNTBLANK(T88)=0),placingpoints(T88,COUNTIF(T$3:T$101,\"=\"&T88)),\"\")","v":""}]
[{"$f":"IF(Registration!E88=\"SR\",RANK(B89,$B$3:$B$101,1),\"\")","v":""},{"$f":"IF(Registration!E88=\"SR\",SUM(F89,I89,L89,O89,R89,U89),\"\")","v":""},{"$f":"IF(COUNTBLANK(Registration!B88)=1,\"\",IF(Registration!E88=\"SR\",Registration!B88,\"\"))","v":""},{"$f":"IF(Registration!E88=\"SR\",'Aussie Round'!V89,\"\")","v":""},{"$f":"IF(AND(Registration!E88=\"SR\",COUNTBLANK(D89)=0),RANK(D89,D$3:D$101,0),\"\")","v":""},{"$f":"IF(AND(Registration!$E88=\"SR\",COUNTBLANK(E89)=0),placingpoints(E89,COUNTIF(E$3:E$101,\"=\"&E89)),\"\")","v":""},{"$f":"IF(Registration!$E88=\"SR\",Accuracy!L88,\"\")","v":""},{"$f":"IF(AND(Registration!$E88=\"SR\",COUNTBLANK(G89)=0),RANK(G89,G$3:G$102,0),\"\")","v":""},{"$f":"IF(AND(Registration!$E88=\"SR\",COUNTBLANK(H89)=0),placingpoints(H89,COUNTIF(H$3:H$102,\"=\"&H89)),\"\")","v":""},{"$f":"IF(Registration!E88=\"SR\",MTA!G88,\"\")","v":""},{"$f":"IF(AND(Registration!E88=\"SR\",COUNTBLANK(J89)=0),RANK(J89,J$3:J$101,0),\"\")","v":""},{"$f":"IF(AND(Registration!$E88=\"SR\",COUNTBLANK(K89)=0),placingpoints(K89,COUNTIF(K$3:K$101,\"=\"&K89)),\"\")","v":""},{"$f":"IF(Registration!E88=\"SR\",'Trick Catch'!X89,\"\")","v":""},{"$f":"IF(AND(Registration!E88=\"SR\",COUNTBLANK(M89)=0),RANK(M89,M$3:M$101,0),\"\")","v":""},{"$f":"IF(AND(Registration!$E88=\"SR\",COUNTBLANK(N89)=0),placingpoints(N89,COUNTIF(N$3:N$101,\"=\"&N89)),\"\")","v":""},{"$f":"IF(Registration!E88=\"SR\",'Fast Catch'!F88,\"\")","v":""},{"$f":"IF(AND(Registration!E88=\"SR\",COUNTBLANK(P89)=0),RANK(P89,P$3:P$101,1),\"\")","v":""},{"$f":"IF(AND(Registration!$E88=\"SR\",COUNTBLANK(Q89)=0),placingpoints(Q89,COUNTIF(Q$3:Q$101,\"=\"&Q89)),\"\")","v":""},{"$f":"IF(Registration!E88=\"SR\",Endurance!C88,\"\")","v":""},{"$f":"IF(AND(Registration!E88=\"SR\",COUNTBLANK(S89)=0),RANK(S89,S$3:S$101,0),\"\")","v":""},{"$f":"IF(AND(Registration!$E88=\"SR\",COUNTBLANK(T89)=0),placingpoints(T89,COUNTIF(T$3:T$101,\"=\"&T89)),\"\")","v":""}]
[{"$f":"IF(Registration!E89=\"SR\",RANK(B90,$B$3:$B$101,1),\"\")","v":""},{"$f":"IF(Registration!E89=\"SR\",SUM(F90,I90,L90,O90,R90,U90),\"\")","v":""},{"$f":"IF(COUNTBLANK(Registration!B89)=1,\"\",IF(Registration!E89=\"SR\",Registration!B89,\"\"))","v":""},{"$f":"IF(Registration!E89=\"SR\",'Aussie Round'!V90,\"\")","v":""},{"$f":"IF(AND(Registration!E89=\"SR\",COUNTBLANK(D90)=0),RANK(D90,D$3:D$101,0),\"\")","v":""},{"$f":"IF(AND(Registration!$E89=\"SR\",COUNTBLANK(E90)=0),placingpoints(E90,COUNTIF(E$3:E$101,\"=\"&E90)),\"\")","v":""},{"$f":"IF(Registration!$E89=\"SR\",Accuracy!L89,\"\")","v":""},{"$f":"IF(AND(Registration!$E89=\"SR\",COUNTBLANK(G90)=0),RANK(G90,G$3:G$102,0),\"\")","v":""},{"$f":"IF(AND(Registration!$E89=\"SR\",COUNTBLANK(H90)=0),placingpoints(H90,COUNTIF(H$3:H$102,\"=\"&H90)),\"\")","v":""},{"$f":"IF(Registration!E89=\"SR\",MTA!G89,\"\")","v":""},{"$f":"IF(AND(Registration!E89=\"SR\",COUNTBLANK(J90)=0),RANK(J90,J$3:J$101,0),\"\")","v":""},{"$f":"IF(AND(Registration!$E89=\"SR\",COUNTBLANK(K90)=0),placingpoints(K90,COUNTIF(K$3:K$101,\"=\"&K90)),\"\")","v":""},{"$f":"IF(Registration!E89=\"SR\",'Trick Catch'!X90,\"\")","v":""},{"$f":"IF(AND(Registration!E89=\"SR\",COUNTBLANK(M90)=0),RANK(M90,M$3:M$101,0),\"\")","v":""},{"$f":"IF(AND(Registration!$E89=\"SR\",COUNTBLANK(N90)=0),placingpoints(N90,COUNTIF(N$3:N$101,\"=\"&N90)),\"\")","v":""},{"$f":"IF(Registration!E89=\"SR\",'Fast Catch'!F89,\"\")","v":""},{"$f":"IF(AND(Registration!E89=\"SR\",COUNTBLANK(P90)=0),RANK(P90,P$3:P$101,1),\"\")","v":""},{"$f":"IF(AND(Registration!$E89=\"SR\",COUNTBLANK(Q90)=0),placingpoints(Q90,COUNTIF(Q$3:Q$101,\"=\"&Q90)),\"\")","v":""},{"$f":"IF(Registration!E89=\"SR\",Endurance!C89,\"\")","v":""},{"$f":"IF(AND(Registration!E89=\"SR\",COUNTBLANK(S90)=0),RANK(S90,S$3:S$101,0),\"\")","v":""},{"$f":"IF(AND(Registration!$E89=\"SR\",COUNTBLANK(T90)=0),placingpoints(T90,COUNTIF(T$3:T$101,\"=\"&T90)),\"\")","v":""}]
[{"$f":"IF(Registration!E90=\"SR\",RANK(B91,$B$3:$B$101,1),\"\")","v":""},{"$f":"IF(Registration!E90=\"SR\",SUM(F91,I91,L91,O91,R91,U91),\"\")","v":""},{"$f":"IF(COUNTBLANK(Registration!B90)=1,\"\",IF(Registration!E90=\"SR\",Registration!B90,\"\"))","v":""},{"$f":"IF(Registration!E90=\"SR\",'Aussie Round'!V91,\"\")","v":""},{"$f":"IF(AND(Registration!E90=\"SR\",COUNTBLANK(D91)=0),RANK(D91,D$3:D$101,0),\"\")","v":""},{"$f":"IF(AND(Registration!$E90=\"SR\",COUNTBLANK(E91)=0),placingpoints(E91,COUNTIF(E$3:E$101,\"=\"&E91)),\"\")","v":""},{"$f":"IF(Registration!$E90=\"SR\",Accuracy!L90,\"\")","v":""},{"$f":"IF(AND(Registration!$E90=\"SR\",COUNTBLANK(G91)=0),RANK(G91,G$3:G$102,0),\"\")","v":""},{"$f":"IF(AND(Registration!$E90=\"SR\",COUNTBLANK(H91)=0),placingpoints(H91,COUNTIF(H$3:H$102,\"=\"&H91)),\"\")","v":""},{"$f":"IF(Registration!E90=\"SR\",MTA!G90,\"\")","v":""},{"$f":"IF(AND(Registration!E90=\"SR\",COUNTBLANK(J91)=0),RANK(J91,J$3:J$101,0),\"\")","v":""},{"$f":"IF(AND(Registration!$E90=\"SR\",COUNTBLANK(K91)=0),placingpoints(K91,COUNTIF(K$3:K$101,\"=\"&K91)),\"\")","v":""},{"$f":"IF(Registration!E90=\"SR\",'Trick Catch'!X91,\"\")","v":""},{"$f":"IF(AND(Registration!E90=\"SR\",COUNTBLANK(M91)=0),RANK(M91,M$3:M$101,0),\"\")","v":""},{"$f":"IF(AND(Registration!$E90=\"SR\",COUNTBLANK(N91)=0),placingpoints(N91,COUNTIF(N$3:N$101,\"=\"&N91)),\"\")","v":""},{"$f":"IF(Registration!E90=\"SR\",'Fast Catch'!F90,\"\")","v":""},{"$f":"IF(AND(Registration!E90=\"SR\",COUNTBLANK(P91)=0),RANK(P91,P$3:P$101,1),\"\")","v":""},{"$f":"IF(AND(Registration!$E90=\"SR\",COUNTBLANK(Q91)=0),placingpoints(Q91,COUNTIF(Q$3:Q$101,\"=\"&Q91)),\"\")","v":""},{"$f":"IF(Registration!E90=\"SR\",Endurance!C90,\"\")","v":""},{"$f":"IF(AND(Registration!E90=\"SR\",COUNTBLANK(S91)=0),RANK(S91,S$3:S$101,0),\"\")","v":""},{"$f":"IF(AND(Registration!$E90=\"SR\",COUNTBLANK(T91)=0),placingpoints(T91,COUNTIF(T$3:T$101,\"=\"&T91)),\"\")","v":""}]
[{"$f":"IF(Registration!E91=\"SR\",RANK(B92,$B$3:$B$101,1),\"\")","v":""},{"$f":"IF(Registration!E91=\"SR\",SUM(F92,I92,L92,O92,R92,U92),\"\")","v":""},{"$f":"IF(COUNTBLANK(Registration!B91)=1,\"\",IF(Registration!E91=\"SR\",Registration!B91,\"\"))","v":""},{"$f":"IF(Registration!E91=\"SR\",'Aussie Round'!V92,\"\")","v":""},{"$f":"IF(AND(Registration!E91=\"SR\",COUNTBLANK(D92)=0),RANK(D92,D$3:D$101,0),\"\")","v":""},{"$f":"IF(AND(Registration!$E91=\"SR\",COUNTBLANK(E92)=0),placingpoints(E92,COUNTIF(E$3:E$101,\"=\"&E92)),\"\")","v":""},{"$f":"IF(Registration!$E91=\"SR\",Accuracy!L91,\"\")","v":""},{"$f":"IF(AND(Registration!$E91=\"SR\",COUNTBLANK(G92)=0),RANK(G92,G$3:G$102,0),\"\")","v":""},{"$f":"IF(AND(Registration!$E91=\"SR\",COUNTBLANK(H92)=0),placingpoints(H92,COUNTIF(H$3:H$102,\"=\"&H92)),\"\")","v":""},{"$f":"IF(Registration!E91=\"SR\",MTA!G91,\"\")","v":""},{"$f":"IF(AND(Registration!E91=\"SR\",COUNTBLANK(J92)=0),RANK(J92,J$3:J$101,0),\"\")","v":""},{"$f":"IF(AND(Registration!$E91=\"SR\",COUNTBLANK(K92)=0),placingpoints(K92,COUNTIF(K$3:K$101,\"=\"&K92)),\"\")","v":""},{"$f":"IF(Registration!E91=\"SR\",'Trick Catch'!X92,\"\")","v":""},{"$f":"IF(AND(Registration!E91=\"SR\",COUNTBLANK(M92)=0),RANK(M92,M$3:M$101,0),\"\")","v":""},{"$f":"IF(AND(Registration!$E91=\"SR\",COUNTBLANK(N92)=0),placingpoints(N92,COUNTIF(N$3:N$101,\"=\"&N92)),\"\")","v":""},{"$f":"IF(Registration!E91=\"SR\",'Fast Catch'!F91,\"\")","v":""},{"$f":"IF(AND(Registration!E91=\"SR\",COUNTBLANK(P92)=0),RANK(P92,P$3:P$101,1),\"\")","v":""},{"$f":"IF(AND(Registration!$E91=\"SR\",COUNTBLANK(Q92)=0),placingpoints(Q92,COUNTIF(Q$3:Q$101,\"=\"&Q92)),\"\")","v":""},{"$f":"IF(Registration!E91=\"SR\",Endurance!C91,\"\")","v":""},{"$f":"IF(AND(Registration!E91=\"SR\",COUNTBLANK(S92)=0),RANK(S92,S$3:S$101,0),\"\")","v":""},{"$f":"IF(AND(Registration!$E91=\"SR\",COUNTBLANK(T92)=0),placingpoints(T92,COUNTIF(T$3:T$101,\"=\"&T92)),\"\")","v":""}]
[{"$f":"IF(Registration!E92=\"SR\",RANK(B93,$B$3:$B$101,1),\"\")","v":""},{"$f":"IF(Registration!E92=\"SR\",SUM(F93,I93,L93,O93,R93,U93),\"\")","v":""},{"$f":"IF(COUNTBLANK(Registration!B92)=1,\"\",IF(Registration!E92=\"SR\",Registration!B92,\"\"))","v":""},{"$f":"IF(Registration!E92=\"SR\",'Aussie Round'!V93,\"\")","v":""},{"$f":"IF(AND(Registration!E92=\"SR\",COUNTBLANK(D93)=0),RANK(D93,D$3:D$101,0),\"\")","v":""},{"$f":"IF(AND(Registration!$E92=\"SR\",COUNTBLANK(E93)=0),placingpoints(E93,COUNTIF(E$3:E$101,\"=\"&E93)),\"\")","v":""},{"$f":"IF(Registration!$E92=\"SR\",Accuracy!L92,\"\")","v":""},{"$f":"IF(AND(Registration!$E92=\"SR\",COUNTBLANK(G93)=0),RANK(G93,G$3:G$102,0),\"\")","v":""},{"$f":"IF(AND(Registration!$E92=\"SR\",COUNTBLANK(H93)=0),placingpoints(H93,COUNTIF(H$3:H$102,\"=\"&H93)),\"\")","v":""},{"$f":"IF(Registration!E92=\"SR\",MTA!G92,\"\")","v":""},{"$f":"IF(AND(Registration!E92=\"SR\",COUNTBLANK(J93)=0),RANK(J93,J$3:J$101,0),\"\")","v":""},{"$f":"IF(AND(Registration!$E92=\"SR\",COUNTBLANK(K93)=0),placingpoints(K93,COUNTIF(K$3:K$101,\"=\"&K93)),\"\")","v":""},{"$f":"IF(Registration!E92=\"SR\",'Trick Catch'!X93,\"\")","v":""},{"$f":"IF(AND(Registration!E92=\"SR\",COUNTBLANK(M93)=0),RANK(M93,M$3:M$101,0),\"\")","v":""},{"$f":"IF(AND(Registration!$E92=\"SR\",COUNTBLANK(N93)=0),placingpoints(N93,COUNTIF(N$3:N$101,\"=\"&N93)),\"\")","v":""},{"$f":"IF(Registration!E92=\"SR\",'Fast Catch'!F92,\"\")","v":""},{"$f":"IF(AND(Registration!E92=\"SR\",COUNTBLANK(P93)=0),RANK(P93,P$3:P$101,1),\"\")","v":""},{"$f":"IF(AND(Registration!$E92=\"SR\",COUNTBLANK(Q93)=0),placingpoints(Q93,COUNTIF(Q$3:Q$101,\"=\"&Q93)),\"\")","v":""},{"$f":"IF(Registration!E92=\"SR\",Endurance!C92,\"\")","v":""},{"$f":"IF(AND(Registration!E92=\"SR\",COUNTBLANK(S93)=0),RANK(S93,S$3:S$101,0),\"\")","v":""},{"$f":"IF(AND(Registration!$E92=\"SR\",COUNTBLANK(T93)=0),placingpoints(T93,COUNTIF(T$3:T$101,\"=\"&T93)),\"\")","v":""}]
[{"$f":"IF(Registration!E93=\"SR\",RANK(B94,$B$3:$B$101,1),\"\")","v":""},{"$f":"IF(Registration!E93=\"SR\",SUM(F94,I94,L94,O94,R94,U94),\"\")","v":""},{"$f":"IF(COUNTBLANK(Registration!B93)=1,\"\",IF(Registration!E93=\"SR\",Registration!B93,\"\"))","v":""},{"$f":"IF(Registration!E93=\"SR\",'Aussie Round'!V94,\"\")","v":""},{"$f":"IF(AND(Registration!E93=\"SR\",COUNTBLANK(D94)=0),RANK(D94,D$3:D$101,0),\"\")","v":""},{"$f":"IF(AND(Registration!$E93=\"SR\",COUNTBLANK(E94)=0),placingpoints(E94,COUNTIF(E$3:E$101,\"=\"&E94)),\"\")","v":""},{"$f":"IF(Registration!$E93=\"SR\",Accuracy!L93,\"\")","v":""},{"$f":"IF(AND(Registration!$E93=\"SR\",COUNTBLANK(G94)=0),RANK(G94,G$3:G$102,0),\"\")","v":""},{"$f":"IF(AND(Registration!$E93=\"SR\",COUNTBLANK(H94)=0),placingpoints(H94,COUNTIF(H$3:H$102,\"=\"&H94)),\"\")","v":""},{"$f":"IF(Registration!E93=\"SR\",MTA!G93,\"\")","v":""},{"$f":"IF(AND(Registration!E93=\"SR\",COUNTBLANK(J94)=0),RANK(J94,J$3:J$101,0),\"\")","v":""},{"$f":"IF(AND(Registration!$E93=\"SR\",COUNTBLANK(K94)=0),placingpoints(K94,COUNTIF(K$3:K$101,\"=\"&K94)),\"\")","v":""},{"$f":"IF(Registration!E93=\"SR\",'Trick Catch'!X94,\"\")","v":""},{"$f":"IF(AND(Registration!E93=\"SR\",COUNTBLANK(M94)=0),RANK(M94,M$3:M$101,0),\"\")","v":""},{"$f":"IF(AND(Registration!$E93=\"SR\",COUNTBLANK(N94)=0),placingpoints(N94,COUNTIF(N$3:N$101,\"=\"&N94)),\"\")","v":""},{"$f":"IF(Registration!E93=\"SR\",'Fast Catch'!F93,\"\")","v":""},{"$f":"IF(AND(Registration!E93=\"SR\",COUNTBLANK(P94)=0),RANK(P94,P$3:P$101,1),\"\")","v":""},{"$f":"IF(AND(Registration!$E93=\"SR\",COUNTBLANK(Q94)=0),placingpoints(Q94,COUNTIF(Q$3:Q$101,\"=\"&Q94)),\"\")","v":""},{"$f":"IF(Registration!E93=\"SR\",Endurance!C93,\"\")","v":""},{"$f":"IF(AND(Registration!E93=\"SR\",COUNTBLANK(S94)=0),RANK(S94,S$3:S$101,0),\"\")","v":""},{"$f":"IF(AND(Registration!$E93=\"SR\",COUNTBLANK(T94)=0),placingpoints(T94,COUNTIF(T$3:T$101,\"=\"&T94)),\"\")","v":""}]
[{"$f":"IF(Registration!E94=\"SR\",RANK(B95,$B$3:$B$101,1),\"\")","v":""},{"$f":"IF(Registration!E94=\"SR\",SUM(F95,I95,L95,O95,R95,U95),\"\")","v":""},{"$f":"IF(COUNTBLANK(Registration!B94)=1,\"\",IF(Registration!E94=\"SR\",Registration!B94,\"\"))","v":""},{"$f":"IF(Registration!E94=\"SR\",'Aussie Round'!V95,\"\")","v":""},{"$f":"IF(AND(Registration!E94=\"SR\",COUNTBLANK(D95)=0),RANK(D95,D$3:D$101,0),\"\")","v":""},{"$f":"IF(AND(Registration!$E94=\"SR\",COUNTBLANK(E95)=0),placingpoints(E95,COUNTIF(E$3:E$101,\"=\"&E95)),\"\")","v":""},{"$f":"IF(Registration!$E94=\"SR\",Accuracy!L94,\"\")","v":""},{"$f":"IF(AND(Registration!$E94=\"SR\",COUNTBLANK(G95)=0),RANK(G95,G$3:G$102,0),\"\")","v":""},{"$f":"IF(AND(Registration!$E94=\"SR\",COUNTBLANK(H95)=0),placingpoints(H95,COUNTIF(H$3:H$102,\"=\"&H95)),\"\")","v":""},{"$f":"IF(Registration!E94=\"SR\",MTA!G94,\"\")","v":""},{"$f":"IF(AND(Registration!E94=\"SR\",COUNTBLANK(J95)=0),RANK(J95,J$3:J$101,0),\"\")","v":""},{"$f":"IF(AND(Registration!$E94=\"SR\",COUNTBLANK(K95)=0),placingpoints(K95,COUNTIF(K$3:K$101,\"=\"&K95)),\"\")","v":""},{"$f":"IF(Registration!E94=\"SR\",'Trick Catch'!X95,\"\")","v":""},{"$f":"IF(AND(Registration!E94=\"SR\",COUNTBLANK(M95)=0),RANK(M95,M$3:M$101,0),\"\")","v":""},{"$f":"IF(AND(Registration!$E94=\"SR\",COUNTBLANK(N95)=0),placingpoints(N95,COUNTIF(N$3:N$101,\"=\"&N95)),\"\")","v":""},{"$f":"IF(Registration!E94=\"SR\",'Fast Catch'!F94,\"\")","v":""},{"$f":"IF(AND(Registration!E94=\"SR\",COUNTBLANK(P95)=0),RANK(P95,P$3:P$101,1),\"\")","v":""},{"$f":"IF(AND(Registration!$E94=\"SR\",COUNTBLANK(Q95)=0),placingpoints(Q95,COUNTIF(Q$3:Q$101,\"=\"&Q95)),\"\")","v":""},{"$f":"IF(Registration!E94=\"SR\",Endurance!C94,\"\")","v":""},{"$f":"IF(AND(Registration!E94=\"SR\",COUNTBLANK(S95)=0),RANK(S95,S$3:S$101,0),\"\")","v":""},{"$f":"IF(AND(Registration!$E94=\"SR\",COUNTBLANK(T95)=0),placingpoints(T95,COUNTIF(T$3:T$101,\"=\"&T95)),\"\")","v":""}]
[{"$f":"IF(Registration!E95=\"SR\",RANK(B96,$B$3:$B$101,1),\"\")","v":""},{"$f":"IF(Registration!E95=\"SR\",SUM(F96,I96,L96,O96,R96,U96),\"\")","v":""},{"$f":"IF(COUNTBLANK(Registration!B95)=1,\"\",IF(Registration!E95=\"SR\",Registration!B95,\"\"))","v":""},{"$f":"IF(Registration!E95=\"SR\",'Aussie Round'!V96,\"\")","v":""},{"$f":"IF(AND(Registration!E95=\"SR\",COUNTBLANK(D96)=0),RANK(D96,D$3:D$101,0),\"\")","v":""},{"$f":"IF(AND(Registration!$E95=\"SR\",COUNTBLANK(E96)=0),placingpoints(E96,COUNTIF(E$3:E$101,\"=\"&E96)),\"\")","v":""},{"$f":"IF(Registration!$E95=\"SR\",Accuracy!L95,\"\")","v":""},{"$f":"IF(AND(Registration!$E95=\"SR\",COUNTBLANK(G96)=0),RANK(G96,G$3:G$102,0),\"\")","v":""},{"$f":"IF(AND(Registration!$E95=\"SR\",COUNTBLANK(H96)=0),placingpoints(H96,COUNTIF(H$3:H$102,\"=\"&H96)),\"\")","v":""},{"$f":"IF(Registration!E95=\"SR\",MTA!G95,\"\")","v":""},{"$f":"IF(AND(Registration!E95=\"SR\",COUNTBLANK(J96)=0),RANK(J96,J$3:J$101,0),\"\")","v":""},{"$f":"IF(AND(Registration!$E95=\"SR\",COUNTBLANK(K96)=0),placingpoints(K96,COUNTIF(K$3:K$101,\"=\"&K96)),\"\")","v":""},{"$f":"IF(Registration!E95=\"SR\",'Trick Catch'!X96,\"\")","v":""},{"$f":"IF(AND(Registration!E95=\"SR\",COUNTBLANK(M96)=0),RANK(M96,M$3:M$101,0),\"\")","v":""},{"$f":"IF(AND(Registration!$E95=\"SR\",COUNTBLANK(N96)=0),placingpoints(N96,COUNTIF(N$3:N$101,\"=\"&N96)),\"\")","v":""},{"$f":"IF(Registration!E95=\"SR\",'Fast Catch'!F95,\"\")","v":""},{"$f":"IF(AND(Registration!E95=\"SR\",COUNTBLANK(P96)=0),RANK(P96,P$3:P$101,1),\"\")","v":""},{"$f":"IF(AND(Registration!$E95=\"SR\",COUNTBLANK(Q96)=0),placingpoints(Q96,COUNTIF(Q$3:Q$101,\"=\"&Q96)),\"\")","v":""},{"$f":"IF(Registration!E95=\"SR\",Endurance!C95,\"\")","v":""},{"$f":"IF(AND(Registration!E95=\"SR\",COUNTBLANK(S96)=0),RANK(S96,S$3:S$101,0),\"\")","v":""},{"$f":"IF(AND(Registration!$E95=\"SR\",COUNTBLANK(T96)=0),placingpoints(T96,COUNTIF(T$3:T$101,\"=\"&T96)),\"\")","v":""}]
[{"$f":"IF(Registration!E96=\"SR\",RANK(B97,$B$3:$B$101,1),\"\")","v":""},{"$f":"IF(Registration!E96=\"SR\",SUM(F97,I97,L97,O97,R97,U97),\"\")","v":""},{"$f":"IF(COUNTBLANK(Registration!B96)=1,\"\",IF(Registration!E96=\"SR\",Registration!B96,\"\"))","v":""},{"$f":"IF(Registration!E96=\"SR\",'Aussie Round'!V97,\"\")","v":""},{"$f":"IF(AND(Registration!E96=\"SR\",COUNTBLANK(D97)=0),RANK(D97,D$3:D$101,0),\"\")","v":""},{"$f":"IF(AND(Registration!$E96=\"SR\",COUNTBLANK(E97)=0),placingpoints(E97,COUNTIF(E$3:E$101,\"=\"&E97)),\"\")","v":""},{"$f":"IF(Registration!$E96=\"SR\",Accuracy!L96,\"\")","v":""},{"$f":"IF(AND(Registration!$E96=\"SR\",COUNTBLANK(G97)=0),RANK(G97,G$3:G$102,0),\"\")","v":""},{"$f":"IF(AND(Registration!$E96=\"SR\",COUNTBLANK(H97)=0),placingpoints(H97,COUNTIF(H$3:H$102,\"=\"&H97)),\"\")","v":""},{"$f":"IF(Registration!E96=\"SR\",MTA!G96,\"\")","v":""},{"$f":"IF(AND(Registration!E96=\"SR\",COUNTBLANK(J97)=0),RANK(J97,J$3:J$101,0),\"\")","v":""},{"$f":"IF(AND(Registration!$E96=\"SR\",COUNTBLANK(K97)=0),placingpoints(K97,COUNTIF(K$3:K$101,\"=\"&K97)),\"\")","v":""},{"$f":"IF(Registration!E96=\"SR\",'Trick Catch'!X97,\"\")","v":""},{"$f":"IF(AND(Registration!E96=\"SR\",COUNTBLANK(M97)=0),RANK(M97,M$3:M$101,0),\"\")","v":""},{"$f":"IF(AND(Registration!$E96=\"SR\",COUNTBLANK(N97)=0),placingpoints(N97,COUNTIF(N$3:N$101,\"=\"&N97)),\"\")","v":""},{"$f":"IF(Registration!E96=\"SR\",'Fast Catch'!F96,\"\")","v":""},{"$f":"IF(AND(Registration!E96=\"SR\",COUNTBLANK(P97)=0),RANK(P97,P$3:P$101,1),\"\")","v":""},{"$f":"IF(AND(Registration!$E96=\"SR\",COUNTBLANK(Q97)=0),placingpoints(Q97,COUNTIF(Q$3:Q$101,\"=\"&Q97)),\"\")","v":""},{"$f":"IF(Registration!E96=\"SR\",Endurance!C96,\"\")","v":""},{"$f":"IF(AND(Registration!E96=\"SR\",COUNTBLANK(S97)=0),RANK(S97,S$3:S$101,0),\"\")","v":""},{"$f":"IF(AND(Registration!$E96=\"SR\",COUNTBLANK(T97)=0),placingpoints(T97,COUNTIF(T$3:T$101,\"=\"&T97)),\"\")","v":""}]
[{"$f":"IF(Registration!E97=\"SR\",RANK(B98,$B$3:$B$101,1),\"\")","v":""},{"$f":"IF(Registration!E97=\"SR\",SUM(F98,I98,L98,O98,R98,U98),\"\")","v":""},{"$f":"IF(COUNTBLANK(Registration!B97)=1,\"\",IF(Registration!E97=\"SR\",Registration!B97,\"\"))","v":""},{"$f":"IF(Registration!E97=\"SR\",'Aussie Round'!V98,\"\")","v":""},{"$f":"IF(AND(Registration!E97=\"SR\",COUNTBLANK(D98)=0),RANK(D98,D$3:D$101,0),\"\")","v":""},{"$f":"IF(AND(Registration!$E97=\"SR\",COUNTBLANK(E98)=0),placingpoints(E98,COUNTIF(E$3:E$101,\"=\"&E98)),\"\")","v":""},{"$f":"IF(Registration!$E97=\"SR\",Accuracy!L97,\"\")","v":""},{"$f":"IF(AND(Registration!$E97=\"SR\",COUNTBLANK(G98)=0),RANK(G98,G$3:G$102,0),\"\")","v":""},{"$f":"IF(AND(Registration!$E97=\"SR\",COUNTBLANK(H98)=0),placingpoints(H98,COUNTIF(H$3:H$102,\"=\"&H98)),\"\")","v":""},{"$f":"IF(Registration!E97=\"SR\",MTA!G97,\"\")","v":""},{"$f":"IF(AND(Registration!E97=\"SR\",COUNTBLANK(J98)=0),RANK(J98,J$3:J$101,0),\"\")","v":""},{"$f":"IF(AND(Registration!$E97=\"SR\",COUNTBLANK(K98)=0),placingpoints(K98,COUNTIF(K$3:K$101,\"=\"&K98)),\"\")","v":""},{"$f":"IF(Registration!E97=\"SR\",'Trick Catch'!X98,\"\")","v":""},{"$f":"IF(AND(Registration!E97=\"SR\",COUNTBLANK(M98)=0),RANK(M98,M$3:M$101,0),\"\")","v":""},{"$f":"IF(AND(Registration!$E97=\"SR\",COUNTBLANK(N98)=0),placingpoints(N98,COUNTIF(N$3:N$101,\"=\"&N98)),\"\")","v":""},{"$f":"IF(Registration!E97=\"SR\",'Fast Catch'!F97,\"\")","v":""},{"$f":"IF(AND(Registration!E97=\"SR\",COUNTBLANK(P98)=0),RANK(P98,P$3:P$101,1),\"\")","v":""},{"$f":"IF(AND(Registration!$E97=\"SR\",COUNTBLANK(Q98)=0),placingpoints(Q98,COUNTIF(Q$3:Q$101,\"=\"&Q98)),\"\")","v":""},{"$f":"IF(Registration!E97=\"SR\",Endurance!C97,\"\")","v":""},{"$f":"IF(AND(Registration!E97=\"SR\",COUNTBLANK(S98)=0),RANK(S98,S$3:S$101,0),\"\")","v":""},{"$f":"IF(AND(Registration!$E97=\"SR\",COUNTBLANK(T98)=0),placingpoints(T98,COUNTIF(T$3:T$101,\"=\"&T98)),\"\")","v":""}]
[{"$f":"IF(Registration!E98=\"SR\",RANK(B99,$B$3:$B$101,1),\"\")","v":""},{"$f":"IF(Registration!E98=\"SR\",SUM(F99,I99,L99,O99,R99,U99),\"\")","v":""},{"$f":"IF(COUNTBLANK(Registration!B98)=1,\"\",IF(Registration!E98=\"SR\",Registration!B98,\"\"))","v":""},{"$f":"IF(Registration!E98=\"SR\",'Aussie Round'!V99,\"\")","v":""},{"$f":"IF(AND(Registration!E98=\"SR\",COUNTBLANK(D99)=0),RANK(D99,D$3:D$101,0),\"\")","v":""},{"$f":"IF(AND(Registration!$E98=\"SR\",COUNTBLANK(E99)=0),placingpoints(E99,COUNTIF(E$3:E$101,\"=\"&E99)),\"\")","v":""},{"$f":"IF(Registration!$E98=\"SR\",Accuracy!L98,\"\")","v":""},{"$f":"IF(AND(Registration!$E98=\"SR\",COUNTBLANK(G99)=0),RANK(G99,G$3:G$102,0),\"\")","v":""},{"$f":"IF(AND(Registration!$E98=\"SR\",COUNTBLANK(H99)=0),placingpoints(H99,COUNTIF(H$3:H$102,\"=\"&H99)),\"\")","v":""},{"$f":"IF(Registration!E98=\"SR\",MTA!G98,\"\")","v":""},{"$f":"IF(AND(Registration!E98=\"SR\",COUNTBLANK(J99)=0),RANK(J99,J$3:J$101,0),\"\")","v":""},{"$f":"IF(AND(Registration!$E98=\"SR\",COUNTBLANK(K99)=0),placingpoints(K99,COUNTIF(K$3:K$101,\"=\"&K99)),\"\")","v":""},{"$f":"IF(Registration!E98=\"SR\",'Trick Catch'!X99,\"\")","v":""},{"$f":"IF(AND(Registration!E98=\"SR\",COUNTBLANK(M99)=0),RANK(M99,M$3:M$101,0),\"\")","v":""},{"$f":"IF(AND(Registration!$E98=\"SR\",COUNTBLANK(N99)=0),placingpoints(N99,COUNTIF(N$3:N$101,\"=\"&N99)),\"\")","v":""},{"$f":"IF(Registration!E98=\"SR\",'Fast Catch'!F98,\"\")","v":""},{"$f":"IF(AND(Registration!E98=\"SR\",COUNTBLANK(P99)=0),RANK(P99,P$3:P$101,1),\"\")","v":""},{"$f":"IF(AND(Registration!$E98=\"SR\",COUNTBLANK(Q99)=0),placingpoints(Q99,COUNTIF(Q$3:Q$101,\"=\"&Q99)),\"\")","v":""},{"$f":"IF(Registration!E98=\"SR\",Endurance!C98,\"\")","v":""},{"$f":"IF(AND(Registration!E98=\"SR\",COUNTBLANK(S99)=0),RANK(S99,S$3:S$101,0),\"\")","v":""},{"$f":"IF(AND(Registration!$E98=\"SR\",COUNTBLANK(T99)=0),placingpoints(T99,COUNTIF(T$3:T$101,\"=\"&T99)),\"\")","v":""}]
[{"$f":"IF(Registration!E99=\"SR\",RANK(B100,$B$3:$B$101,1),\"\")","v":""},{"$f":"IF(Registration!E99=\"SR\",SUM(F100,I100,L100,O100,R100,U100),\"\")","v":""},{"$f":"IF(COUNTBLANK(Registration!B99)=1,\"\",IF(Registration!E99=\"SR\",Registration!B99,\"\"))","v":""},{"$f":"IF(Registration!E99=\"SR\",'Aussie Round'!V101,\"\")","v":""},{"$f":"IF(AND(Registration!E99=\"SR\",COUNTBLANK(D100)=0),RANK(D100,D$3:D$101,0),\"\")","v":""},{"$f":"IF(AND(Registration!$E99=\"SR\",COUNTBLANK(E100)=0),placingpoints(E100,COUNTIF(E$3:E$101,\"=\"&E100)),\"\")","v":""},{"$f":"IF(Registration!$E99=\"SR\",Accuracy!L99,\"\")","v":""},{"$f":"IF(AND(Registration!$E99=\"SR\",COUNTBLANK(G100)=0),RANK(G100,G$3:G$102,0),\"\")","v":""},{"$f":"IF(AND(Registration!$E99=\"SR\",COUNTBLANK(H100)=0),placingpoints(H100,COUNTIF(H$3:H$102,\"=\"&H100)),\"\")","v":""},{"$f":"IF(Registration!E99=\"SR\",MTA!G99,\"\")","v":""},{"$f":"IF(AND(Registration!E99=\"SR\",COUNTBLANK(J100)=0),RANK(J100,J$3:J$101,0),\"\")","v":""},{"$f":"IF(AND(Registration!$E99=\"SR\",COUNTBLANK(K100)=0),placingpoints(K100,COUNTIF(K$3:K$101,\"=\"&K100)),\"\")","v":""},{"$f":"IF(Registration!E99=\"SR\",'Trick Catch'!X100,\"\")","v":""},{"$f":"IF(AND(Registration!E99=\"SR\",COUNTBLANK(M100)=0),RANK(M100,M$3:M$101,0),\"\")","v":""},{"$f":"IF(AND(Registration!$E99=\"SR\",COUNTBLANK(N100)=0),placingpoints(N100,COUNTIF(N$3:N$101,\"=\"&N100)),\"\")","v":""},{"$f":"IF(Registration!E99=\"SR\",'Fast Catch'!F99,\"\")","v":""},{"$f":"IF(AND(Registration!E99=\"SR\",COUNTBLANK(P100)=0),RANK(P100,P$3:P$101,1),\"\")","v":""},{"$f":"IF(AND(Registration!$E99=\"SR\",COUNTBLANK(Q100)=0),placingpoints(Q100,COUNTIF(Q$3:Q$101,\"=\"&Q100)),\"\")","v":""},{"$f":"IF(Registration!E99=\"SR\",Endurance!C99,\"\")","v":""},{"$f":"IF(AND(Registration!E99=\"SR\",COUNTBLANK(S100)=0),RANK(S100,S$3:S$101,0),\"\")","v":""},{"$f":"IF(AND(Registration!$E99=\"SR\",COUNTBLANK(T100)=0),placingpoints(T100,COUNTIF(T$3:T$101,\"=\"&T100)),\"\")","v":""}]
[{"$f":"IF(Registration!E100=\"SR\",RANK(B101,$B$3:$B$101,1),\"\")","v":""},{"$f":"IF(Registration!E100=\"SR\",SUM(F101,I101,L101,O101,R101,U101),\"\")","v":""},{"$f":"IF(COUNTBLANK(Registration!B100)=1,\"\",IF(Registration!E100=\"SR\",Registration!B100,\"\"))","v":""},{"$f":"IF(Registration!E100=\"SR\",'Aussie Round'!V102,\"\")","v":""},{"$f":"IF(AND(Registration!E100=\"SR\",COUNTBLANK(D101)=0),RANK(D101,D$3:D$101,0),\"\")","v":""},{"$f":"IF(AND(Registration!$E100=\"SR\",COUNTBLANK(E101)=0),placingpoints(E101,COUNTIF(E$3:E$101,\"=\"&E101)),\"\")","v":""},{"$f":"IF(Registration!$E100=\"SR\",Accuracy!L100,\"\")","v":""},{"$f":"IF(AND(Registration!$E100=\"SR\",COUNTBLANK(G101)=0),RANK(G101,G$3:G$102,0),\"\")","v":""},{"$f":"IF(AND(Registration!$E100=\"SR\",COUNTBLANK(H101)=0),placingpoints(H101,COUNTIF(H$3:H$102,\"=\"&H101)),\"\")","v":""},{"$f":"IF(Registration!E100=\"SR\",MTA!G100,\"\")","v":""},{"$f":"IF(AND(Registration!E100=\"SR\",COUNTBLANK(J101)=0),RANK(J101,J$3:J$101,0),\"\")","v":""},{"$f":"IF(AND(Registration!$E100=\"SR\",COUNTBLANK(K101)=0),placingpoints(K101,COUNTIF(K$3:K$101,\"=\"&K101)),\"\")","v":""},{"$f":"IF(Registration!E100=\"SR\",'Trick Catch'!X101,\"\")","v":""},{"$f":"IF(AND(Registration!E100=\"SR\",COUNTBLANK(M101)=0),RANK(M101,M$3:M$101,0),\"\")","v":""},{"$f":"IF(AND(Registration!$E100=\"SR\",COUNTBLANK(N101)=0),placingpoints(N101,COUNTIF(N$3:N$101,\"=\"&N101)),\"\")","v":""},{"$f":"IF(Registration!E100=\"SR\",'Fast Catch'!F100,\"\")","v":""},{"$f":"IF(AND(Registration!E100=\"SR\",COUNTBLANK(P101)=0),RANK(P101,P$3:P$101,1),\"\")","v":""},{"$f":"IF(AND(Registration!$E100=\"SR\",COUNTBLANK(Q101)=0),placingpoints(Q101,COUNTIF(Q$3:Q$101,\"=\"&Q101)),\"\")","v":""},{"$f":"IF(Registration!E100=\"SR\",Endurance!C100,\"\")","v":""},{"$f":"IF(AND(Registration!E100=\"SR\",COUNTBLANK(S101)=0),RANK(S101,S$3:S$101,0),\"\")","v":""},{"$f":"IF(AND(Registration!$E100=\"SR\",COUNTBLANK(T101)=0),placingpoints(T101,COUNTIF(T$3:T$101,\"=\"&T101)),\"\")","v":""}]

{"sheet":"Junior Score Sheet","index":12,"n_rows":101,"n_cols":21,"rows_kept":101,"cut":false,"hidden":false,"merged":[[0,0,0,1],[0,15,0,17],[0,18,0,20],[0,3,0,5],[0,9,0,11],[0,12,0,14],[0,6,0,8]]}
["Final",null,{"$f":"Registration!B1","v":"Name"},"Aussie Round",null,null,"Accuracy",null,null,"MTA",null,null,"Trick Catch",null,null,"Fast Catch",null,null,"Endurance"]
["Place","Score",null,"Score","Place","Points","Score","Place","Points","Score","Place","Points","Score","Place","Points","Score","Place","Points","Score","Place","Points"]
[{"$f":"IF(Registration!D2=\"J\",RANK(B3,$B$3:$B$101,1),\"\")","v":""},{"$f":"IF(Registration!D2=\"J\",SUM(F3,I3,L3,O3,R3,U3),\"\")","v":""},{"$f":"IF(COUNTBLANK(Registration!B2)=1,\"\",IF(Registration!D2=\"J\",Registration!B2,\"\"))","v":""},{"$f":"IF(Registration!D2=\"J\",'Aussie Round'!V3,\"\")","v":""},{"$f":"IF(AND(Registration!D2=\"J\",COUNTBLANK(D3)=0),RANK(D3,D$3:D$101,0),\"\")","v":""},{"$f":"IF(AND(Registration!$D2=\"J\",COUNTBLANK(E3)=0),placingpoints(E3,COUNTIF(E$3:E$101,\"=\"&E3)),\"\")","v":""},{"$f":"IF(Registration!$D2=\"J\",Accuracy!L2,\"\")","v":""},{"$f":"IF(AND(Registration!$D2=\"J\",COUNTBLANK(G3)=0),RANK(G3,G$3:G$102,0),\"\")","v":""},{"$f":"IF(AND(Registration!$D2=\"J\",COUNTBLANK(H3)=0),placingpoints(H3,COUNTIF(H$3:H$102,\"=\"&H3)),\"\")","v":""},{"$f":"IF(Registration!D2=\"J\",MTA!G2,\"\")","v":""},{"$f":"IF(AND(Registration!D2=\"J\",COUNTBLANK(J3)=0),RANK(J3,J$3:J$101,0),\"\")","v":""},{"$f":"IF(AND(Registration!$D2=\"J\",COUNTBLANK(K3)=0),placingpoints(K3,COUNTIF(K$3:K$101,\"=\"&K3)),\"\")","v":""},{"$f":"IF(Registration!D2=\"J\",'Trick Catch'!X3,\"\")","v":""},{"$f":"IF(AND(Registration!D2=\"J\",COUNTBLANK(M3)=0),RANK(M3,M$3:M$101,0),\"\")","v":""},{"$f":"IF(AND(Registration!$D2=\"J\",COUNTBLANK(N3)=0),placingpoints(N3,COUNTIF(N$3:N$101,\"=\"&N3)),\"\")","v":""},{"$f":"IF(Registration!D2=\"J\",'Fast Catch'!F2,\"\")","v":""},{"$f":"IF(AND(Registration!D2=\"J\",COUNTBLANK(P3)=0),RANK(P3,P$3:P$101,1),\"\")","v":""},{"$f":"IF(AND(Registration!$D2=\"J\",COUNTBLANK(Q3)=0),placingpoints(Q3,COUNTIF(Q$3:Q$101,\"=\"&Q3)),\"\")","v":""},{"$f":"IF(Registration!D2=\"J\",Endurance!C2,\"\")","v":""},{"$f":"IF(AND(Registration!D2=\"J\",COUNTBLANK(S3)=0),RANK(S3,S$3:S$101,0),\"\")","v":""},{"$f":"IF(AND(Registration!$D2=\"J\",COUNTBLANK(T3)=0),placingpoints(T3,COUNTIF(T$3:T$101,\"=\"&T3)),\"\")","v":""}]
[{"$f":"IF(Registration!D3=\"J\",RANK(B4,$B$3:$B$101,1),\"\")","v":""},{"$f":"IF(Registration!D3=\"J\",SUM(F4,I4,L4,O4,R4,U4),\"\")","v":""},{"$f":"IF(COUNTBLANK(Registration!B3)=1,\"\",IF(Registration!D3=\"J\",Registration!B3,\"\"))","v":""},{"$f":"IF(Registration!D3=\"J\",'Aussie Round'!V4,\"\")","v":""},{"$f":"IF(AND(Registration!D3=\"J\",COUNTBLANK(D4)=0),RANK(D4,D$3:D$101,0),\"\")","v":""},{"$f":"IF(AND(Registration!$D3=\"J\",COUNTBLANK(E4)=0),placingpoints(E4,COUNTIF(E$3:E$101,\"=\"&E4)),\"\")","v":""},{"$f":"IF(Registration!$D3=\"J\",Accuracy!L3,\"\")","v":""},{"$f":"IF(AND(Registration!$D3=\"J\",COUNTBLANK(G4)=0),RANK(G4,G$3:G$102,0),\"\")","v":""},{"$f":"IF(AND(Registration!$D3=\"J\",COUNTBLANK(H4)=0),placingpoints(H4,COUNTIF(H$3:H$102,\"=\"&H4)),\"\")","v":""},{"$f":"IF(Registration!D3=\"J\",MTA!G3,\"\")","v":""},{"$f":"IF(AND(Registration!D3=\"J\",COUNTBLANK(J4)=0),RANK(J4,J$3:J$101,0),\"\")","v":""},{"$f":"IF(AND(Registration!$D3=\"J\",COUNTBLANK(K4)=0),placingpoints(K4,COUNTIF(K$3:K$101,\"=\"&K4)),\"\")","v":""},{"$f":"IF(Registration!D3=\"J\",'Trick Catch'!X4,\"\")","v":""},{"$f":"IF(AND(Registration!D3=\"J\",COUNTBLANK(M4)=0),RANK(M4,M$3:M$101,0),\"\")","v":""},{"$f":"IF(AND(Registration!$D3=\"J\",COUNTBLANK(N4)=0),placingpoints(N4,COUNTIF(N$3:N$101,\"=\"&N4)),\"\")","v":""},{"$f":"IF(Registration!D3=\"J\",'Fast Catch'!F3,\"\")","v":""},{"$f":"IF(AND(Registration!D3=\"J\",COUNTBLANK(P4)=0),RANK(P4,P$3:P$101,1),\"\")","v":""},{"$f":"IF(AND(Registration!$D3=\"J\",COUNTBLANK(Q4)=0),placingpoints(Q4,COUNTIF(Q$3:Q$101,\"=\"&Q4)),\"\")","v":""},{"$f":"IF(Registration!D3=\"J\",Endurance!C3,\"\")","v":""},{"$f":"IF(AND(Registration!D3=\"J\",COUNTBLANK(S4)=0),RANK(S4,S$3:S$101,0),\"\")","v":""},{"$f":"IF(AND(Registration!$D3=\"J\",COUNTBLANK(T4)=0),placingpoints(T4,COUNTIF(T$3:T$101,\"=\"&T4)),\"\")","v":""}]
[{"$f":"IF(Registration!D4=\"J\",RANK(B5,$B$3:$B$101,1),\"\")","v":""},{"$f":"IF(Registration!D4=\"J\",SUM(F5,I5,L5,O5,R5,U5),\"\")","v":""},{"$f":"IF(COUNTBLANK(Registration!B4)=1,\"\",IF(Registration!D4=\"J\",Registration!B4,\"\"))","v":""},{"$f":"IF(Registration!D4=\"J\",'Aussie Round'!V5,\"\")","v":""},{"$f":"IF(AND(Registration!D4=\"J\",COUNTBLANK(D5)=0),RANK(D5,D$3:D$101,0),\"\")","v":""},{"$f":"IF(AND(Registration!$D4=\"J\",COUNTBLANK(E5)=0),placingpoints(E5,COUNTIF(E$3:E$101,\"=\"&E5)),\"\")","v":""},{"$f":"IF(Registration!$D4=\"J\",Accuracy!L4,\"\")","v":""},{"$f":"IF(AND(Registration!$D4=\"J\",COUNTBLANK(G5)=0),RANK(G5,G$3:G$102,0),\"\")","v":""},{"$f":"IF(AND(Registration!$D4=\"J\",COUNTBLANK(H5)=0),placingpoints(H5,COUNTIF(H$3:H$102,\"=\"&H5)),\"\")","v":""},{"$f":"IF(Registration!D4=\"J\",MTA!G4,\"\")","v":""},{"$f":"IF(AND(Registration!D4=\"J\",COUNTBLANK(J5)=0),RANK(J5,J$3:J$101,0),\"\")","v":""},{"$f":"IF(AND(Registration!$D4=\"J\",COUNTBLANK(K5)=0),placingpoints(K5,COUNTIF(K$3:K$101,\"=\"&K5)),\"\")","v":""},{"$f":"IF(Registration!D4=\"J\",'Trick Catch'!X5,\"\")","v":""},{"$f":"IF(AND(Registration!D4=\"J\",COUNTBLANK(M5)=0),RANK(M5,M$3:M$101,0),\"\")","v":""},{"$f":"IF(AND(Registration!$D4=\"J\",COUNTBLANK(N5)=0),placingpoints(N5,COUNTIF(N$3:N$101,\"=\"&N5)),\"\")","v":""},{"$f":"IF(Registration!D4=\"J\",'Fast Catch'!F4,\"\")","v":""},{"$f":"IF(AND(Registration!D4=\"J\",COUNTBLANK(P5)=0),RANK(P5,P$3:P$101,1),\"\")","v":""},{"$f":"IF(AND(Registration!$D4=\"J\",COUNTBLANK(Q5)=0),placingpoints(Q5,COUNTIF(Q$3:Q$101,\"=\"&Q5)),\"\")","v":""},{"$f":"IF(Registration!D4=\"J\",Endurance!C4,\"\")","v":""},{"$f":"IF(AND(Registration!D4=\"J\",COUNTBLANK(S5)=0),RANK(S5,S$3:S$101,0),\"\")","v":""},{"$f":"IF(AND(Registration!$D4=\"J\",COUNTBLANK(T5)=0),placingpoints(T5,COUNTIF(T$3:T$101,\"=\"&T5)),\"\")","v":""}]
[{"$f":"IF(Registration!D5=\"J\",RANK(B6,$B$3:$B$101,1),\"\")","v":""},{"$f":"IF(Registration!D5=\"J\",SUM(F6,I6,L6,O6,R6,U6),\"\")","v":""},{"$f":"IF(COUNTBLANK(Registration!B5)=1,\"\",IF(Registration!D5=\"J\",Registration!B5,\"\"))","v":""},{"$f":"IF(Registration!D5=\"J\",'Aussie Round'!V6,\"\")","v":""},{"$f":"IF(AND(Registration!D5=\"J\",COUNTBLANK(D6)=0),RANK(D6,D$3:D$101,0),\"\")","v":""},{"$f":"IF(AND(Registration!$D5=\"J\",COUNTBLANK(E6)=0),placingpoints(E6,COUNTIF(E$3:E$101,\"=\"&E6)),\"\")","v":""},{"$f":"IF(Registration!$D5=\"J\",Accuracy!L5,\"\")","v":""},{"$f":"IF(AND(Registration!$D5=\"J\",COUNTBLANK(G6)=0),RANK(G6,G$3:G$102,0),\"\")","v":""},{"$f":"IF(AND(Registration!$D5=\"J\",COUNTBLANK(H6)=0),placingpoints(H6,COUNTIF(H$3:H$102,\"=\"&H6)),\"\")","v":""},{"$f":"IF(Registration!D5=\"J\",MTA!G5,\"\")","v":""},{"$f":"IF(AND(Registration!D5=\"J\",COUNTBLANK(J6)=0),RANK(J6,J$3:J$101,0),\"\")","v":""},{"$f":"IF(AND(Registration!$D5=\"J\",COUNTBLANK(K6)=0),placingpoints(K6,COUNTIF(K$3:K$101,\"=\"&K6)),\"\")","v":""},{"$f":"IF(Registration!D5=\"J\",'Trick Catch'!X6,\"\")","v":""},{"$f":"IF(AND(Registration!D5=\"J\",COUNTBLANK(M6)=0),RANK(M6,M$3:M$101,0),\"\")","v":""},{"$f":"IF(AND(Registration!$D5=\"J\",COUNTBLANK(N6)=0),placingpoints(N6,COUNTIF(N$3:N$101,\"=\"&N6)),\"\")","v":""},{"$f":"IF(Registration!D5=\"J\",'Fast Catch'!F5,\"\")","v":""},{"$f":"IF(AND(Registration!D5=\"J\",COUNTBLANK(P6)=0),RANK(P6,P$3:P$101,1),\"\")","v":""},{"$f":"IF(AND(Registration!$D5=\"J\",COUNTBLANK(Q6)=0),placingpoints(Q6,COUNTIF(Q$3:Q$101,\"=\"&Q6)),\"\")","v":""},{"$f":"IF(Registration!D5=\"J\",Endurance!C5,\"\")","v":""},{"$f":"IF(AND(Registration!D5=\"J\",COUNTBLANK(S6)=0),RANK(S6,S$3:S$101,0),\"\")","v":""},{"$f":"IF(AND(Registration!$D5=\"J\",COUNTBLANK(T6)=0),placingpoints(T6,COUNTIF(T$3:T$101,\"=\"&T6)),\"\")","v":""}]
[{"$f":"IF(Registration!D6=\"J\",RANK(B7,$B$3:$B$101,1),\"\")","v":""},{"$f":"IF(Registration!D6=\"J\",SUM(F7,I7,L7,O7,R7,U7),\"\")","v":""},{"$f":"IF(COUNTBLANK(Registration!B6)=1,\"\",IF(Registration!D6=\"J\",Registration!B6,\"\"))","v":""},{"$f":"IF(Registration!D6=\"J\",'Aussie Round'!V7,\"\")","v":""},{"$f":"IF(AND(Registration!D6=\"J\",COUNTBLANK(D7)=0),RANK(D7,D$3:D$101,0),\"\")","v":""},{"$f":"IF(AND(Registration!$D6=\"J\",COUNTBLANK(E7)=0),placingpoints(E7,COUNTIF(E$3:E$101,\"=\"&E7)),\"\")","v":""},{"$f":"IF(Registration!$D6=\"J\",Accuracy!L6,\"\")","v":""},{"$f":"IF(AND(Registration!$D6=\"J\",COUNTBLANK(G7)=0),RANK(G7,G$3:G$102,0),\"\")","v":""},{"$f":"IF(AND(Registration!$D6=\"J\",COUNTBLANK(H7)=0),placingpoints(H7,COUNTIF(H$3:H$102,\"=\"&H7)),\"\")","v":""},{"$f":"IF(Registration!D6=\"J\",MTA!G6,\"\")","v":""},{"$f":"IF(AND(Registration!D6=\"J\",COUNTBLANK(J7)=0),RANK(J7,J$3:J$101,0),\"\")","v":""},{"$f":"IF(AND(Registration!$D6=\"J\",COUNTBLANK(K7)=0),placingpoints(K7,COUNTIF(K$3:K$101,\"=\"&K7)),\"\")","v":""},{"$f":"IF(Registration!D6=\"J\",'Trick Catch'!X7,\"\")","v":""},{"$f":"IF(AND(Registration!D6=\"J\",COUNTBLANK(M7)=0),RANK(M7,M$3:M$101,0),\"\")","v":""},{"$f":"IF(AND(Registration!$D6=\"J\",COUNTBLANK(N7)=0),placingpoints(N7,COUNTIF(N$3:N$101,\"=\"&N7)),\"\")","v":""},{"$f":"IF(Registration!D6=\"J\",'Fast Catch'!F6,\"\")","v":""},{"$f":"IF(AND(Registration!D6=\"J\",COUNTBLANK(P7)=0),RANK(P7,P$3:P$101,1),\"\")","v":""},{"$f":"IF(AND(Registration!$D6=\"J\",COUNTBLANK(Q7)=0),placingpoints(Q7,COUNTIF(Q$3:Q$101,\"=\"&Q7)),\"\")","v":""},{"$f":"IF(Registration!D6=\"J\",Endurance!C6,\"\")","v":""},{"$f":"IF(AND(Registration!D6=\"J\",COUNTBLANK(S7)=0),RANK(S7,S$3:S$101,0),\"\")","v":""},{"$f":"IF(AND(Registration!$D6=\"J\",COUNTBLANK(T7)=0),placingpoints(T7,COUNTIF(T$3:T$101,\"=\"&T7)),\"\")","v":""}]
[{"$f":"IF(Registration!D7=\"J\",RANK(B8,$B$3:$B$101,1),\"\")","v":""},{"$f":"IF(Registration!D7=\"J\",SUM(F8,I8,L8,O8,R8,U8),\"\")","v":""},{"$f":"IF(COUNTBLANK(Registration!B7)=1,\"\",IF(Registration!D7=\"J\",Registration!B7,\"\"))","v":""},{"$f":"IF(Registration!D7=\"J\",'Aussie Round'!V8,\"\")","v":""},{"$f":"IF(AND(Registration!D7=\"J\",COUNTBLANK(D8)=0),RANK(D8,D$3:D$101,0),\"\")","v":""},{"$f":"IF(AND(Registration!$D7=\"J\",COUNTBLANK(E8)=0),placingpoints(E8,COUNTIF(E$3:E$101,\"=\"&E8)),\"\")","v":""},{"$f":"IF(Registration!$D7=\"J\",Accuracy!L7,\"\")","v":""},{"$f":"IF(AND(Registration!$D7=\"J\",COUNTBLANK(G8)=0),RANK(G8,G$3:G$102,0),\"\")","v":""},{"$f":"IF(AND(Registration!$D7=\"J\",COUNTBLANK(H8)=0),placingpoints(H8,COUNTIF(H$3:H$102,\"=\"&H8)),\"\")","v":""},{"$f":"IF(Registration!D7=\"J\",MTA!G7,\"\")","v":""},{"$f":"IF(AND(Registration!D7=\"J\",COUNTBLANK(J8)=0),RANK(J8,J$3:J$101,0),\"\")","v":""},{"$f":"IF(AND(Registration!$D7=\"J\",COUNTBLANK(K8)=0),placingpoints(K8,COUNTIF(K$3:K$101,\"=\"&K8)),\"\")","v":""},{"$f":"IF(Registration!D7=\"J\",'Trick Catch'!X8,\"\")","v":""},{"$f":"IF(AND(Registration!D7=\"J\",COUNTBLANK(M8)=0),RANK(M8,M$3:M$101,0),\"\")","v":""},{"$f":"IF(AND(Registration!$D7=\"J\",COUNTBLANK(N8)=0),placingpoints(N8,COUNTIF(N$3:N$101,\"=\"&N8)),\"\")","v":""},{"$f":"IF(Registration!D7=\"J\",'Fast Catch'!F7,\"\")","v":""},{"$f":"IF(AND(Registration!D7=\"J\",COUNTBLANK(P8)=0),RANK(P8,P$3:P$101,1),\"\")","v":""},{"$f":"IF(AND(Registration!$D7=\"J\",COUNTBLANK(Q8)=0),placingpoints(Q8,COUNTIF(Q$3:Q$101,\"=\"&Q8)),\"\")","v":""},{"$f":"IF(Registration!D7=\"J\",Endurance!C7,\"\")","v":""},{"$f":"IF(AND(Registration!D7=\"J\",COUNTBLANK(S8)=0),RANK(S8,S$3:S$101,0),\"\")","v":""},{"$f":"IF(AND(Registration!$D7=\"J\",COUNTBLANK(T8)=0),placingpoints(T8,COUNTIF(T$3:T$101,\"=\"&T8)),\"\")","v":""}]
[{"$f":"IF(Registration!D8=\"J\",RANK(B9,$B$3:$B$101,1),\"\")","v":""},{"$f":"IF(Registration!D8=\"J\",SUM(F9,I9,L9,O9,R9,U9),\"\")","v":""},{"$f":"IF(COUNTBLANK(Registration!B8)=1,\"\",IF(Registration!D8=\"J\",Registration!B8,\"\"))","v":""},{"$f":"IF(Registration!D8=\"J\",'Aussie Round'!V9,\"\")","v":""},{"$f":"IF(AND(Registration!D8=\"J\",COUNTBLANK(D9)=0),RANK(D9,D$3:D$101,0),\"\")","v":""},{"$f":"IF(AND(Registration!$D8=\"J\",COUNTBLANK(E9)=0),placingpoints(E9,COUNTIF(E$3:E$101,\"=\"&E9)),\"\")","v":""},{"$f":"IF(Registration!$D8=\"J\",Accuracy!L8,\"\")","v":""},{"$f":"IF(AND(Registration!$D8=\"J\",COUNTBLANK(G9)=0),RANK(G9,G$3:G$102,0),\"\")","v":""},{"$f":"IF(AND(Registration!$D8=\"J\",COUNTBLANK(H9)=0),placingpoints(H9,COUNTIF(H$3:H$102,\"=\"&H9)),\"\")","v":""},{"$f":"IF(Registration!D8=\"J\",MTA!G8,\"\")","v":""},{"$f":"IF(AND(Registration!D8=\"J\",COUNTBLANK(J9)=0),RANK(J9,J$3:J$101,0),\"\")","v":""},{"$f":"IF(AND(Registration!$D8=\"J\",COUNTBLANK(K9)=0),placingpoints(K9,COUNTIF(K$3:K$101,\"=\"&K9)),\"\")","v":""},{"$f":"IF(Registration!D8=\"J\",'Trick Catch'!X9,\"\")","v":""},{"$f":"IF(AND(Registration!D8=\"J\",COUNTBLANK(M9)=0),RANK(M9,M$3:M$101,0),\"\")","v":""},{"$f":"IF(AND(Registration!$D8=\"J\",COUNTBLANK(N9)=0),placingpoints(N9,COUNTIF(N$3:N$101,\"=\"&N9)),\"\")","v":""},{"$f":"IF(Registration!D8=\"J\",'Fast Catch'!F8,\"\")","v":""},{"$f":"IF(AND(Registration!D8=\"J\",COUNTBLANK(P9)=0),RANK(P9,P$3:P$101,1),\"\")","v":""},{"$f":"IF(AND(Registration!$D8=\"J\",COUNTBLANK(Q9)=0),placingpoints(Q9,COUNTIF(Q$3:Q$101,\"=\"&Q9)),\"\")","v":""},{"$f":"IF(Registration!D8=\"J\",Endurance!C8,\"\")","v":""},{"$f":"IF(AND(Registration!D8=\"J\",COUNTBLANK(S9)=0),RANK(S9,S$3:S$101,0),\"\")","v":""},{"$f":"IF(AND(Registration!$D8=\"J\",COUNTBLANK(T9)=0),placingpoints(T9,COUNTIF(T$3:T$101,\"=\"&T9)),\"\")","v":""}]
[{"$f":"IF(Registration!D9=\"J\",RANK(B10,$B$3:$B$101,1),\"\")","v":""},{"$f":"IF(Registration!D9=\"J\",SUM(F10,I10,L10,O10,R10,U10),\"\")","v":""},{"$f":"IF(COUNTBLANK(Registration!B9)=1,\"\",IF(Registration!D9=\"J\",Registration!B9,\"\"))","v":""},{"$f":"IF(Registration!D9=\"J\",'Aussie Round'!V10,\"\")","v":""},{"$f":"IF(AND(Registration!D9=\"J\",COUNTBLANK(D10)=0),RANK(D10,D$3:D$101,0),\"\")","v":""},{"$f":"IF(AND(Registration!$D9=\"J\",COUNTBLANK(E10)=0),placingpoints(E10,COUNTIF(E$3:E$101,\"=\"&E10)),\"\")","v":""},{"$f":"IF(Registration!$D9=\"J\",Accuracy!L9,\"\")","v":""},{"$f":"IF(AND(Registration!$D9=\"J\",COUNTBLANK(G10)=0),RANK(G10,G$3:G$102,0),\"\")","v":""},{"$f":"IF(AND(Registration!$D9=\"J\",COUNTBLANK(H10)=0),placingpoints(H10,COUNTIF(H$3:H$102,\"=\"&H10)),\"\")","v":""},{"$f":"IF(Registration!D9=\"J\",MTA!G9,\"\")","v":""},{"$f":"IF(AND(Registration!D9=\"J\",COUNTBLANK(J10)=0),RANK(J10,J$3:J$101,0),\"\")","v":""},{"$f":"IF(AND(Registration!$D9=\"J\",COUNTBLANK(K10)=0),placingpoints(K10,COUNTIF(K$3:K$101,\"=\"&K10)),\"\")","v":""},{"$f":"IF(Registration!D9=\"J\",'Trick Catch'!X10,\"\")","v":""},{"$f":"IF(AND(Registration!D9=\"J\",COUNTBLANK(M10)=0),RANK(M10,M$3:M$101,0),\"\")","v":""},{"$f":"IF(AND(Registration!$D9=\"J\",COUNTBLANK(N10)=0),placingpoints(N10,COUNTIF(N$3:N$101,\"=\"&N10)),\"\")","v":""},{"$f":"IF(Registration!D9=\"J\",'Fast Catch'!F9,\"\")","v":""},{"$f":"IF(AND(Registration!D9=\"J\",COUNTBLANK(P10)=0),RANK(P10,P$3:P$101,1),\"\")","v":""},{"$f":"IF(AND(Registration!$D9=\"J\",COUNTBLANK(Q10)=0),placingpoints(Q10,COUNTIF(Q$3:Q$101,\"=\"&Q10)),\"\")","v":""},{"$f":"IF(Registration!D9=\"J\",Endurance!C9,\"\")","v":""},{"$f":"IF(AND(Registration!D9=\"J\",COUNTBLANK(S10)=0),RANK(S10,S$3:S$101,0),\"\")","v":""},{"$f":"IF(AND(Registration!$D9=\"J\",COUNTBLANK(T10)=0),placingpoints(T10,COUNTIF(T$3:T$101,\"=\"&T10)),\"\")","v":""}]
[{"$f":"IF(Registration!D10=\"J\",RANK(B11,$B$3:$B$101,1),\"\")","v":""},{"$f":"IF(Registration!D10=\"J\",SUM(F11,I11,L11,O11,R11,U11),\"\")","v":""},{"$f":"IF(COUNTBLANK(Registration!B10)=1,\"\",IF(Registration!D10=\"J\",Registration!B10,\"\"))","v":""},{"$f":"IF(Registration!D10=\"J\",'Aussie Round'!V11,\"\")","v":""},{"$f":"IF(AND(Registration!D10=\"J\",COUNTBLANK(D11)=0),RANK(D11,D$3:D$101,0),\"\")","v":""},{"$f":"IF(AND(Registration!$D10=\"J\",COUNTBLANK(E11)=0),placingpoints(E11,COUNTIF(E$3:E$101,\"=\"&E11)),\"\")","v":""},{"$f":"IF(Registration!$D10=\"J\",Accuracy!L10,\"\")","v":""},{"$f":"IF(AND(Registration!$D10=\"J\",COUNTBLANK(G11)=0),RANK(G11,G$3:G$102,0),\"\")","v":""},{"$f":"IF(AND(Registration!$D10=\"J\",COUNTBLANK(H11)=0),placingpoints(H11,COUNTIF(H$3:H$102,\"=\"&H11)),\"\")","v":""},{"$f":"IF(Registration!D10=\"J\",MTA!G10,\"\")","v":""},{"$f":"IF(AND(Registration!D10=\"J\",COUNTBLANK(J11)=0),RANK(J11,J$3:J$101,0),\"\")","v":""},{"$f":"IF(AND(Registration!$D10=\"J\",COUNTBLANK(K11)=0),placingpoints(K11,COUNTIF(K$3:K$101,\"=\"&K11)),\"\")","v":""},{"$f":"IF(Registration!D10=\"J\",'Trick Catch'!X11,\"\")","v":""},{"$f":"IF(AND(Registration!D10=\"J\",COUNTBLANK(M11)=0),RANK(M11,M$3:M$101,0),\"\")","v":""},{"$f":"IF(AND(Registration!$D10=\"J\",COUNTBLANK(N11)=0),placingpoints(N11,COUNTIF(N$3:N$101,\"=\"&N11)),\"\")","v":""},{"$f":"IF(Registration!D10=\"J\",'Fast Catch'!F10,\"\")","v":""},{"$f":"IF(AND(Registration!D10=\"J\",COUNTBLANK(P11)=0),RANK(P11,P$3:P$101,1),\"\")","v":""},{"$f":"IF(AND(Registration!$D10=\"J\",COUNTBLANK(Q11)=0),placingpoints(Q11,COUNTIF(Q$3:Q$101,\"=\"&Q11)),\"\")","v":""},{"$f":"IF(Registration!D10=\"J\",Endurance!C10,\"\")","v":""},{"$f":"IF(AND(Registration!D10=\"J\",COUNTBLANK(S11)=0),RANK(S11,S$3:S$101,0),\"\")","v":""},{"$f":"IF(AND(Registration!$D10=\"J\",COUNTBLANK(T11)=0),placingpoints(T11,COUNTIF(T$3:T$101,\"=\"&T11)),\"\")","v":""}]
[{"$f":"IF(Registration!D11=\"J\",RANK(B12,$B$3:$B$101,1),\"\")","v":""},{"$f":"IF(Registration!D11=\"J\",SUM(F12,I12,L12,O12,R12,U12),\"\")","v":""},{"$f":"IF(COUNTBLANK(Registration!B11)=1,\"\",IF(Registration!D11=\"J\",Registration!B11,\"\"))","v":""},{"$f":"IF(Registration!D11=\"J\",'Aussie Round'!V12,\"\")","v":""},{"$f":"IF(AND(Registration!D11=\"J\",COUNTBLANK(D12)=0),RANK(D12,D$3:D$101,0),\"\")","v":""},{"$f":"IF(AND(Registration!$D11=\"J\",COUNTBLANK(E12)=0),placingpoints(E12,COUNTIF(E$3:E$101,\"=\"&E12)),\"\")","v":""},{"$f":"IF(Registration!$D11=\"J\",Accuracy!L11,\"\")","v":""},{"$f":"IF(AND(Registration!$D11=\"J\",COUNTBLANK(G12)=0),RANK(G12,G$3:G$102,0),\"\")","v":""},{"$f":"IF(AND(Registration!$D11=\"J\",COUNTBLANK(H12)=0),placingpoints(H12,COUNTIF(H$3:H$102,\"=\"&H12)),\"\")","v":""},{"$f":"IF(Registration!D11=\"J\",MTA!G11,\"\")","v":""},{"$f":"IF(AND(Registration!D11=\"J\",COUNTBLANK(J12)=0),RANK(J12,J$3:J$101,0),\"\")","v":""},{"$f":"IF(AND(Registration!$D11=\"J\",COUNTBLANK(K12)=0),placingpoints(K12,COUNTIF(K$3:K$101,\"=\"&K12)),\"\")","v":""},{"$f":"IF(Registration!D11=\"J\",'Trick Catch'!X12,\"\")","v":""},{"$f":"IF(AND(Registration!D11=\"J\",COUNTBLANK(M12)=0),RANK(M12,M$3:M$101,0),\"\")","v":""},{"$f":"IF(AND(Registration!$D11=\"J\",COUNTBLANK(N12)=0),placingpoints(N12,COUNTIF(N$3:N$101,\"=\"&N12)),\"\")","v":""},{"$f":"IF(Registration!D11=\"J\",'Fast Catch'!F11,\"\")","v":""},{"$f":"IF(AND(Registration!D11=\"J\",COUNTBLANK(P12)=0),RANK(P12,P$3:P$101,1),\"\")","v":""},{"$f":"IF(AND(Registration!$D11=\"J\",COUNTBLANK(Q12)=0),placingpoints(Q12,COUNTIF(Q$3:Q$101,\"=\"&Q12)),\"\")","v":""},{"$f":"IF(Registration!D11=\"J\",Endurance!C11,\"\")","v":""},{"$f":"IF(AND(Registration!D11=\"J\",COUNTBLANK(S12)=0),RANK(S12,S$3:S$101,0),\"\")","v":""},{"$f":"IF(AND(Registration!$D11=\"J\",COUNTBLANK(T12)=0),placingpoints(T12,COUNTIF(T$3:T$101,\"=\"&T12)),\"\")","v":""}]
[{"$f":"IF(Registration!D12=\"J\",RANK(B13,$B$3:$B$101,1),\"\")","v":""},{"$f":"IF(Registration!D12=\"J\",SUM(F13,I13,L13,O13,R13,U13),\"\")","v":""},{"$f":"IF(COUNTBLANK(Registration!B12)=1,\"\",IF(Registration!D12=\"J\",Registration!B12,\"\"))","v":""},{"$f":"IF(Registration!D12=\"J\",'Aussie Round'!V13,\"\")","v":""},{"$f":"IF(AND(Registration!D12=\"J\",COUNTBLANK(D13)=0),RANK(D13,D$3:D$101,0),\"\")","v":""},{"$f":"IF(AND(Registration!$D12=\"J\",COUNTBLANK(E13)=0),placingpoints(E13,COUNTIF(E$3:E$101,\"=\"&E13)),\"\")","v":""},{"$f":"IF(Registration!$D12=\"J\",Accuracy!L12,\"\")","v":""},{"$f":"IF(AND(Registration!$D12=\"J\",COUNTBLANK(G13)=0),RANK(G13,G$3:G$102,0),\"\")","v":""},{"$f":"IF(AND(Registration!$D12=\"J\",COUNTBLANK(H13)=0),placingpoints(H13,COUNTIF(H$3:H$102,\"=\"&H13)),\"\")","v":""},{"$f":"IF(Registration!D12=\"J\",MTA!G12,\"\")","v":""},{"$f":"IF(AND(Registration!D12=\"J\",COUNTBLANK(J13)=0),RANK(J13,J$3:J$101,0),\"\")","v":""},{"$f":"IF(AND(Registration!$D12=\"J\",COUNTBLANK(K13)=0),placingpoints(K13,COUNTIF(K$3:K$101,\"=\"&K13)),\"\")","v":""},{"$f":"IF(Registration!D12=\"J\",'Trick Catch'!X13,\"\")","v":""},{"$f":"IF(AND(Registration!D12=\"J\",COUNTBLANK(M13)=0),RANK(M13,M$3:M$101,0),\"\")","v":""},{"$f":"IF(AND(Registration!$D12=\"J\",COUNTBLANK(N13)=0),placingpoints(N13,COUNTIF(N$3:N$101,\"=\"&N13)),\"\")","v":""},{"$f":"IF(Registration!D12=\"J\",'Fast Catch'!F12,\"\")","v":""},{"$f":"IF(AND(Registration!D12=\"J\",COUNTBLANK(P13)=0),RANK(P13,P$3:P$101,1),\"\")","v":""},{"$f":"IF(AND(Registration!$D12=\"J\",COUNTBLANK(Q13)=0),placingpoints(Q13,COUNTIF(Q$3:Q$101,\"=\"&Q13)),\"\")","v":""},{"$f":"IF(Registration!D12=\"J\",Endurance!C12,\"\")","v":""},{"$f":"IF(AND(Registration!D12=\"J\",COUNTBLANK(S13)=0),RANK(S13,S$3:S$101,0),\"\")","v":""},{"$f":"IF(AND(Registration!$D12=\"J\",COUNTBLANK(T13)=0),placingpoints(T13,COUNTIF(T$3:T$101,\"=\"&T13)),\"\")","v":""}]
[{"$f":"IF(Registration!D13=\"J\",RANK(B14,$B$3:$B$101,1),\"\")","v":""},{"$f":"IF(Registration!D13=\"J\",SUM(F14,I14,L14,O14,R14,U14),\"\")","v":""},{"$f":"IF(COUNTBLANK(Registration!B13)=1,\"\",IF(Registration!D13=\"J\",Registration!B13,\"\"))","v":""},{"$f":"IF(Registration!D13=\"J\",'Aussie Round'!V14,\"\")","v":""},{"$f":"IF(AND(Registration!D13=\"J\",COUNTBLANK(D14)=0),RANK(D14,D$3:D$101,0),\"\")","v":""},{"$f":"IF(AND(Registration!$D13=\"J\",COUNTBLANK(E14)=0),placingpoints(E14,COUNTIF(E$3:E$101,\"=\"&E14)),\"\")","v":""},{"$f":"IF(Registration!$D13=\"J\",Accuracy!L13,\"\")","v":""},{"$f":"IF(AND(Registration!$D13=\"J\",COUNTBLANK(G14)=0),RANK(G14,G$3:G$102,0),\"\")","v":""},{"$f":"IF(AND(Registration!$D13=\"J\",COUNTBLANK(H14)=0),placingpoints(H14,COUNTIF(H$3:H$102,\"=\"&H14)),\"\")","v":""},{"$f":"IF(Registration!D13=\"J\",MTA!G13,\"\")","v":""},{"$f":"IF(AND(Registration!D13=\"J\",COUNTBLANK(J14)=0),RANK(J14,J$3:J$101,0),\"\")","v":""},{"$f":"IF(AND(Registration!$D13=\"J\",COUNTBLANK(K14)=0),placingpoints(K14,COUNTIF(K$3:K$101,\"=\"&K14)),\"\")","v":""},{"$f":"IF(Registration!D13=\"J\",'Trick Catch'!X14,\"\")","v":""},{"$f":"IF(AND(Registration!D13=\"J\",COUNTBLANK(M14)=0),RANK(M14,M$3:M$101,0),\"\")","v":""},{"$f":"IF(AND(Registration!$D13=\"J\",COUNTBLANK(N14)=0),placingpoints(N14,COUNTIF(N$3:N$101,\"=\"&N14)),\"\")","v":""},{"$f":"IF(Registration!D13=\"J\",'Fast Catch'!F13,\"\")","v":""},{"$f":"IF(AND(Registration!D13=\"J\",COUNTBLANK(P14)=0),RANK(P14,P$3:P$101,1),\"\")","v":""},{"$f":"IF(AND(Registration!$D13=\"J\",COUNTBLANK(Q14)=0),placingpoints(Q14,COUNTIF(Q$3:Q$101,\"=\"&Q14)),\"\")","v":""},{"$f":"IF(Registration!D13=\"J\",Endurance!C13,\"\")","v":""},{"$f":"IF(AND(Registration!D13=\"J\",COUNTBLANK(S14)=0),RANK(S14,S$3:S$101,0),\"\")","v":""},{"$f":"IF(AND(Registration!$D13=\"J\",COUNTBLANK(T14)=0),placingpoints(T14,COUNTIF(T$3:T$101,\"=\"&T14)),\"\")","v":""}]
[{"$f":"IF(Registration!D14=\"J\",RANK(B15,$B$3:$B$101,1),\"\")","v":""},{"$f":"IF(Registration!D14=\"J\",SUM(F15,I15,L15,O15,R15,U15),\"\")","v":""},{"$f":"IF(COUNTBLANK(Registration!B14)=1,\"\",IF(Registration!D14=\"J\",Registration!B14,\"\"))","v":""},{"$f":"IF(Registration!D14=\"J\",'Aussie Round'!V15,\"\")","v":""},{"$f":"IF(AND(Registration!D14=\"J\",COUNTBLANK(D15)=0),RANK(D15,D$3:D$101,0),\"\")","v":""},{"$f":"IF(AND(Registration!$D14=\"J\",COUNTBLANK(E15)=0),placingpoints(E15,COUNTIF(E$3:E$101,\"=\"&E15)),\"\")","v":""},{"$f":"IF(Registration!$D14=\"J\",Accuracy!L14,\"\")","v":""},{"$f":"IF(AND(Registration!$D14=\"J\",COUNTBLANK(G15)=0),RANK(G15,G$3:G$102,0),\"\")","v":""},{"$f":"IF(AND(Registration!$D14=\"J\",COUNTBLANK(H15)=0),placingpoints(H15,COUNTIF(H$3:H$102,\"=\"&H15)),\"\")","v":""},{"$f":"IF(Registration!D14=\"J\",MTA!G14,\"\")","v":""},{"$f":"IF(AND(Registration!D14=\"J\",COUNTBLANK(J15)=0),RANK(J15,J$3:J$101,0),\"\")","v":""},{"$f":"IF(AND(Registration!$D14=\"J\",COUNTBLANK(K15)=0),placingpoints(K15,COUNTIF(K$3:K$101,\"=\"&K15)),\"\")","v":""},{"$f":"IF(Registration!D14=\"J\",'Trick Catch'!X15,\"\")","v":""},{"$f":"IF(AND(Registration!D14=\"J\",COUNTBLANK(M15)=0),RANK(M15,M$3:M$101,0),\"\")","v":""},{"$f":"IF(AND(Registration!$D14=\"J\",COUNTBLANK(N15)=0),placingpoints(N15,COUNTIF(N$3:N$101,\"=\"&N15)),\"\")","v":""},{"$f":"IF(Registration!D14=\"J\",'Fast Catch'!F14,\"\")","v":""},{"$f":"IF(AND(Registration!D14=\"J\",COUNTBLANK(P15)=0),RANK(P15,P$3:P$101,1),\"\")","v":""},{"$f":"IF(AND(Registration!$D14=\"J\",COUNTBLANK(Q15)=0),placingpoints(Q15,COUNTIF(Q$3:Q$101,\"=\"&Q15)),\"\")","v":""},{"$f":"IF(Registration!D14=\"J\",Endurance!C14,\"\")","v":""},{"$f":"IF(AND(Registration!D14=\"J\",COUNTBLANK(S15)=0),RANK(S15,S$3:S$101,0),\"\")","v":""},{"$f":"IF(AND(Registration!$D14=\"J\",COUNTBLANK(T15)=0),placingpoints(T15,COUNTIF(T$3:T$101,\"=\"&T15)),\"\")","v":""}]
[{"$f":"IF(Registration!D15=\"J\",RANK(B16,$B$3:$B$101,1),\"\")","v":""},{"$f":"IF(Registration!D15=\"J\",SUM(F16,I16,L16,O16,R16,U16),\"\")","v":""},{"$f":"IF(COUNTBLANK(Registration!B15)=1,\"\",IF(Registration!D15=\"J\",Registration!B15,\"\"))","v":""},{"$f":"IF(Registration!D15=\"J\",'Aussie Round'!V16,\"\")","v":""},{"$f":"IF(AND(Registration!D15=\"J\",COUNTBLANK(D16)=0),RANK(D16,D$3:D$101,0),\"\")","v":""},{"$f":"IF(AND(Registration!$D15=\"J\",COUNTBLANK(E16)=0),placingpoints(E16,COUNTIF(E$3:E$101,\"=\"&E16)),\"\")","v":""},{"$f":"IF(Registration!$D15=\"J\",Accuracy!L15,\"\")","v":""},{"$f":"IF(AND(Registration!$D15=\"J\",COUNTBLANK(G16)=0),RANK(G16,G$3:G$102,0),\"\")","v":""},{"$f":"IF(AND(Registration!$D15=\"J\",COUNTBLANK(H16)=0),placingpoints(H16,COUNTIF(H$3:H$102,\"=\"&H16)),\"\")","v":""},{"$f":"IF(Registration!D15=\"J\",MTA!G15,\"\")","v":""},{"$f":"IF(AND(Registration!D15=\"J\",COUNTBLANK(J16)=0),RANK(J16,J$3:J$101,0),\"\")","v":""},{"$f":"IF(AND(Registration!$D15=\"J\",COUNTBLANK(K16)=0),placingpoints(K16,COUNTIF(K$3:K$101,\"=\"&K16)),\"\")","v":""},{"$f":"IF(Registration!D15=\"J\",'Trick Catch'!X16,\"\")","v":""},{"$f":"IF(AND(Registration!D15=\"J\",COUNTBLANK(M16)=0),RANK(M16,M$3:M$101,0),\"\")","v":""},{"$f":"IF(AND(Registration!$D15=\"J\",COUNTBLANK(N16)=0),placingpoints(N16,COUNTIF(N$3:N$101,\"=\"&N16)),\"\")","v":""},{"$f":"IF(Registration!D15=\"J\",'Fast Catch'!F15,\"\")","v":""},{"$f":"IF(AND(Registration!D15=\"J\",COUNTBLANK(P16)=0),RANK(P16,P$3:P$101,1),\"\")","v":""},{"$f":"IF(AND(Registration!$D15=\"J\",COUNTBLANK(Q16)=0),placingpoints(Q16,COUNTIF(Q$3:Q$101,\"=\"&Q16)),\"\")","v":""},{"$f":"IF(Registration!D15=\"J\",Endurance!C15,\"\")","v":""},{"$f":"IF(AND(Registration!D15=\"J\",COUNTBLANK(S16)=0),RANK(S16,S$3:S$101,0),\"\")","v":""},{"$f":"IF(AND(Registration!$D15=\"J\",COUNTBLANK(T16)=0),placingpoints(T16,COUNTIF(T$3:T$101,\"=\"&T16)),\"\")","v":""}]
[{"$f":"IF(Registration!D16=\"J\",RANK(B17,$B$3:$B$101,1),\"\")","v":""},{"$f":"IF(Registration!D16=\"J\",SUM(F17,I17,L17,O17,R17,U17),\"\")","v":""},{"$f":"IF(COUNTBLANK(Registration!B16)=1,\"\",IF(Registration!D16=\"J\",Registration!B16,\"\"))","v":""},{"$f":"IF(Registration!D16=\"J\",'Aussie Round'!V17,\"\")","v":""},{"$f":"IF(AND(Registration!D16=\"J\",COUNTBLANK(D17)=0),RANK(D17,D$3:D$101,0),\"\")","v":""},{"$f":"IF(AND(Registration!$D16=\"J\",COUNTBLANK(E17)=0),placingpoints(E17,COUNTIF(E$3:E$101,\"=\"&E17)),\"\")","v":""},{"$f":"IF(Registration!$D16=\"J\",Accuracy!L16,\"\")","v":""},{"$f":"IF(AND(Registration!$D16=\"J\",COUNTBLANK(G17)=0),RANK(G17,G$3:G$102,0),\"\")","v":""},{"$f":"IF(AND(Registration!$D16=\"J\",COUNTBLANK(H17)=0),placingpoints(H17,COUNTIF(H$3:H$102,\"=\"&H17)),\"\")","v":""},{"$f":"IF(Registration!D16=\"J\",MTA!G16,\"\")","v":""},{"$f":"IF(AND(Registration!D16=\"J\",COUNTBLANK(J17)=0),RANK(J17,J$3:J$101,0),\"\")","v":""},{"$f":"IF(AND(Registration!$D16=\"J\",COUNTBLANK(K17)=0),placingpoints(K17,COUNTIF(K$3:K$101,\"=\"&K17)),\"\")","v":""},{"$f":"IF(Registration!D16=\"J\",'Trick Catch'!X17,\"\")","v":""},{"$f":"IF(AND(Registration!D16=\"J\",COUNTBLANK(M17)=0),RANK(M17,M$3:M$101,0),\"\")","v":""},{"$f":"IF(AND(Registration!$D16=\"J\",COUNTBLANK(N17)=0),placingpoints(N17,COUNTIF(N$3:N$101,\"=\"&N17)),\"\")","v":""},{"$f":"IF(Registration!D16=\"J\",'Fast Catch'!F16,\"\")","v":""},{"$f":"IF(AND(Registration!D16=\"J\",COUNTBLANK(P17)=0),RANK(P17,P$3:P$101,1),\"\")","v":""},{"$f":"IF(AND(Registration!$D16=\"J\",COUNTBLANK(Q17)=0),placingpoints(Q17,COUNTIF(Q$3:Q$101,\"=\"&Q17)),\"\")","v":""},{"$f":"IF(Registration!D16=\"J\",Endurance!C16,\"\")","v":""},{"$f":"IF(AND(Registration!D16=\"J\",COUNTBLANK(S17)=0),RANK(S17,S$3:S$101,0),\"\")","v":""},{"$f":"IF(AND(Registration!$D16=\"J\",COUNTBLANK(T17)=0),placingpoints(T17,COUNTIF(T$3:T$101,\"=\"&T17)),\"\")","v":""}]
[{"$f":"IF(Registration!D17=\"J\",RANK(B18,$B$3:$B$101,1),\"\")","v":""},{"$f":"IF(Registration!D17=\"J\",SUM(F18,I18,L18,O18,R18,U18),\"\")","v":""},{"$f":"IF(COUNTBLANK(Registration!B17)=1,\"\",IF(Registration!D17=\"J\",Registration!B17,\"\"))","v":""},{"$f":"IF(Registration!D17=\"J\",'Aussie Round'!V18,\"\")","v":""},{"$f":"IF(AND(Registration!D17=\"J\",COUNTBLANK(D18)=0),RANK(D18,D$3:D$101,0),\"\")","v":""},{"$f":"IF(AND(Registration!$D17=\"J\",COUNTBLANK(E18)=0),placingpoints(E18,COUNTIF(E$3:E$101,\"=\"&E18)),\"\")","v":""},{"$f":"IF(Registration!$D17=\"J\",Accuracy!L17,\"\")","v":""},{"$f":"IF(AND(Registration!$D17=\"J\",COUNTBLANK(G18)=0),RANK(G18,G$3:G$102,0),\"\")","v":""},{"$f":"IF(AND(Registration!$D17=\"J\",COUNTBLANK(H18)=0),placingpoints(H18,COUNTIF(H$3:H$102,\"=\"&H18)),\"\")","v":""},{"$f":"IF(Registration!D17=\"J\",MTA!G17,\"\")","v":""},{"$f":"IF(AND(Registration!D17=\"J\",COUNTBLANK(J18)=0),RANK(J18,J$3:J$101,0),\"\")","v":""},{"$f":"IF(AND(Registration!$D17=\"J\",COUNTBLANK(K18)=0),placingpoints(K18,COUNTIF(K$3:K$101,\"=\"&K18)),\"\")","v":""},{"$f":"IF(Registration!D17=\"J\",'Trick Catch'!X18,\"\")","v":""},{"$f":"IF(AND(Registration!D17=\"J\",COUNTBLANK(M18)=0),RANK(M18,M$3:M$101,0),\"\")","v":""},{"$f":"IF(AND(Registration!$D17=\"J\",COUNTBLANK(N18)=0),placingpoints(N18,COUNTIF(N$3:N$101,\"=\"&N18)),\"\")","v":""},{"$f":"IF(Registration!D17=\"J\",'Fast Catch'!F17,\"\")","v":""},{"$f":"IF(AND(Registration!D17=\"J\",COUNTBLANK(P18)=0),RANK(P18,P$3:P$101,1),\"\")","v":""},{"$f":"IF(AND(Registration!$D17=\"J\",COUNTBLANK(Q18)=0),placingpoints(Q18,COUNTIF(Q$3:Q$101,\"=\"&Q18)),\"\")","v":""},{"$f":"IF(Registration!D17=\"J\",Endurance!C17,\"\")","v":""},{"$f":"IF(AND(Registration!D17=\"J\",COUNTBLANK(S18)=0),RANK(S18,S$3:S$101,0),\"\")","v":""},{"$f":"IF(AND(Registration!$D17=\"J\",COUNTBLANK(T18)=0),placingpoints(T18,COUNTIF(T$3:T$101,\"=\"&T18)),\"\")","v":""}]
[{"$f":"IF(Registration!D18=\"J\",RANK(B19,$B$3:$B$101,1),\"\")","v":""},{"$f":"IF(Registration!D18=\"J\",SUM(F19,I19,L19,O19,R19,U19),\"\")","v":""},{"$f":"IF(COUNTBLANK(Registration!B18)=1,\"\",IF(Registration!D18=\"J\",Registration!B18,\"\"))","v":""},{"$f":"IF(Registration!D18=\"J\",'Aussie Round'!V19,\"\")","v":""},{"$f":"IF(AND(Registration!D18=\"J\",COUNTBLANK(D19)=0),RANK(D19,D$3:D$101,0),\"\")","v":""},{"$f":"IF(AND(Registration!$D18=\"J\",COUNTBLANK(E19)=0),placingpoints(E19,COUNTIF(E$3:E$101,\"=\"&E19)),\"\")","v":""},{"$f":"IF(Registration!$D18=\"J\",Accuracy!L18,\"\")","v":""},{"$f":"IF(AND(Registration!$D18=\"J\",COUNTBLANK(G19)=0),RANK(G19,G$3:G$102,0),\"\")","v":""},{"$f":"IF(AND(Registration!$D18=\"J\",COUNTBLANK(H19)=0),placingpoints(H19,COUNTIF(H$3:H$102,\"=\"&H19)),\"\")","v":""},{"$f":"IF(Registration!D18=\"J\",MTA!G18,\"\")","v":""},{"$f":"IF(AND(Registration!D18=\"J\",COUNTBLANK(J19)=0),RANK(J19,J$3:J$101,0),\"\")","v":""},{"$f":"IF(AND(Registration!$D18=\"J\",COUNTBLANK(K19)=0),placingpoints(K19,COUNTIF(K$3:K$101,\"=\"&K19)),\"\")","v":""},{"$f":"IF(Registration!D18=\"J\",'Trick Catch'!X19,\"\")","v":""},{"$f":"IF(AND(Registration!D18=\"J\",COUNTBLANK(M19)=0),RANK(M19,M$3:M$101,0),\"\")","v":""},{"$f":"IF(AND(Registration!$D18=\"J\",COUNTBLANK(N19)=0),placingpoints(N19,COUNTIF(N$3:N$101,\"=\"&N19)),\"\")","v":""},{"$f":"IF(Registration!D18=\"J\",'Fast Catch'!F18,\"\")","v":""},{"$f":"IF(AND(Registration!D18=\"J\",COUNTBLANK(P19)=0),RANK(P19,P$3:P$101,1),\"\")","v":""},{"$f":"IF(AND(Registration!$D18=\"J\",COUNTBLANK(Q19)=0),placingpoints(Q19,COUNTIF(Q$3:Q$101,\"=\"&Q19)),\"\")","v":""},{"$f":"IF(Registration!D18=\"J\",Endurance!C18,\"\")","v":""},{"$f":"IF(AND(Registration!D18=\"J\",COUNTBLANK(S19)=0),RANK(S19,S$3:S$101,0),\"\")","v":""},{"$f":"IF(AND(Registration!$D18=\"J\",COUNTBLANK(T19)=0),placingpoints(T19,COUNTIF(T$3:T$101,\"=\"&T19)),\"\")","v":""}]
[{"$f":"IF(Registration!D19=\"J\",RANK(B20,$B$3:$B$101,1),\"\")","v":""},{"$f":"IF(Registration!D19=\"J\",SUM(F20,I20,L20,O20,R20,U20),\"\")","v":""},{"$f":"IF(COUNTBLANK(Registration!B19)=1,\"\",IF(Registration!D19=\"J\",Registration!B19,\"\"))","v":""},{"$f":"IF(Registration!D19=\"J\",'Aussie Round'!V20,\"\")","v":""},{"$f":"IF(AND(Registration!D19=\"J\",COUNTBLANK(D20)=0),RANK(D20,D$3:D$101,0),\"\")","v":""},{"$f":"IF(AND(Registration!$D19=\"J\",COUNTBLANK(E20)=0),placingpoints(E20,COUNTIF(E$3:E$101,\"=\"&E20)),\"\")","v":""},{"$f":"IF(Registration!$D19=\"J\",Accuracy!L19,\"\")","v":""},{"$f":"IF(AND(Registration!$D19=\"J\",COUNTBLANK(G20)=0),RANK(G20,G$3:G$102,0),\"\")","v":""},{"$f":"IF(AND(Registration!$D19=\"J\",COUNTBLANK(H20)=0),placingpoints(H20,COUNTIF(H$3:H$102,\"=\"&H20)),\"\")","v":""},{"$f":"IF(Registration!D19=\"J\",MTA!G19,\"\")","v":""},{"$f":"IF(AND(Registration!D19=\"J\",COUNTBLANK(J20)=0),RANK(J20,J$3:J$101,0),\"\")","v":""},{"$f":"IF(AND(Registration!$D19=\"J\",COUNTBLANK(K20)=0),placingpoints(K20,COUNTIF(K$3:K$101,\"=\"&K20)),\"\")","v":""},{"$f":"IF(Registration!D19=\"J\",'Trick Catch'!X20,\"\")","v":""},{"$f":"IF(AND(Registration!D19=\"J\",COUNTBLANK(M20)=0),RANK(M20,M$3:M$101,0),\"\")","v":""},{"$f":"IF(AND(Registration!$D19=\"J\",COUNTBLANK(N20)=0),placingpoints(N20,COUNTIF(N$3:N$101,\"=\"&N20)),\"\")","v":""},{"$f":"IF(Registration!D19=\"J\",'Fast Catch'!F19,\"\")","v":""},{"$f":"IF(AND(Registration!D19=\"J\",COUNTBLANK(P20)=0),RANK(P20,P$3:P$101,1),\"\")","v":""},{"$f":"IF(AND(Registration!$D19=\"J\",COUNTBLANK(Q20)=0),placingpoints(Q20,COUNTIF(Q$3:Q$101,\"=\"&Q20)),\"\")","v":""},{"$f":"IF(Registration!D19=\"J\",Endurance!C19,\"\")","v":""},{"$f":"IF(AND(Registration!D19=\"J\",COUNTBLANK(S20)=0),RANK(S20,S$3:S$101,0),\"\")","v":""},{"$f":"IF(AND(Registration!$D19=\"J\",COUNTBLANK(T20)=0),placingpoints(T20,COUNTIF(T$3:T$101,\"=\"&T20)),\"\")","v":""}]
[{"$f":"IF(Registration!D20=\"J\",RANK(B21,$B$3:$B$101,1),\"\")","v":""},{"$f":"IF(Registration!D20=\"J\",SUM(F21,I21,L21,O21,R21,U21),\"\")","v":""},{"$f":"IF(COUNTBLANK(Registration!B20)=1,\"\",IF(Registration!D20=\"J\",Registration!B20,\"\"))","v":""},{"$f":"IF(Registration!D20=\"J\",'Aussie Round'!V21,\"\")","v":""},{"$f":"IF(AND(Registration!D20=\"J\",COUNTBLANK(D21)=0),RANK(D21,D$3:D$101,0),\"\")","v":""},{"$f":"IF(AND(Registration!$D20=\"J\",COUNTBLANK(E21)=0),placingpoints(E21,COUNTIF(E$3:E$101,\"=\"&E21)),\"\")","v":""},{"$f":"IF(Registration!$D20=\"J\",Accuracy!L20,\"\")","v":""},{"$f":"IF(AND(Registration!$D20=\"J\",COUNTBLANK(G21)=0),RANK(G21,G$3:G$102,0),\"\")","v":""},{"$f":"IF(AND(Registration!$D20=\"J\",COUNTBLANK(H21)=0),placingpoints(H21,COUNTIF(H$3:H$102,\"=\"&H21)),\"\")","v":""},{"$f":"IF(Registration!D20=\"J\",MTA!G20,\"\")","v":""},{"$f":"IF(AND(Registration!D20=\"J\",COUNTBLANK(J21)=0),RANK(J21,J$3:J$101,0),\"\")","v":""},{"$f":"IF(AND(Registration!$D20=\"J\",COUNTBLANK(K21)=0),placingpoints(K21,COUNTIF(K$3:K$101,\"=\"&K21)),\"\")","v":""},{"$f":"IF(Registration!D20=\"J\",'Trick Catch'!X21,\"\")","v":""},{"$f":"IF(AND(Registration!D20=\"J\",COUNTBLANK(M21)=0),RANK(M21,M$3:M$101,0),\"\")","v":""},{"$f":"IF(AND(Registration!$D20=\"J\",COUNTBLANK(N21)=0),placingpoints(N21,COUNTIF(N$3:N$101,\"=\"&N21)),\"\")","v":""},{"$f":"IF(Registration!D20=\"J\",'Fast Catch'!F20,\"\")","v":""},{"$f":"IF(AND(Registration!D20=\"J\",COUNTBLANK(P21)=0),RANK(P21,P$3:P$101,1),\"\")","v":""},{"$f":"IF(AND(Registration!$D20=\"J\",COUNTBLANK(Q21)=0),placingpoints(Q21,COUNTIF(Q$3:Q$101,\"=\"&Q21)),\"\")","v":""},{"$f":"IF(Registration!D20=\"J\",Endurance!C20,\"\")","v":""},{"$f":"IF(AND(Registration!D20=\"J\",COUNTBLANK(S21)=0),RANK(S21,S$3:S$101,0),\"\")","v":""},{"$f":"IF(AND(Registration!$D20=\"J\",COUNTBLANK(T21)=0),placingpoints(T21,COUNTIF(T$3:T$101,\"=\"&T21)),\"\")","v":""}]
[{"$f":"IF(Registration!D21=\"J\",RANK(B22,$B$3:$B$101,1),\"\")","v":""},{"$f":"IF(Registration!D21=\"J\",SUM(F22,I22,L22,O22,R22,U22),\"\")","v":""},{"$f":"IF(COUNTBLANK(Registration!B21)=1,\"\",IF(Registration!D21=\"J\",Registration!B21,\"\"))","v":""},{"$f":"IF(Registration!D21=\"J\",'Aussie Round'!V22,\"\")","v":""},{"$f":"IF(AND(Registration!D21=\"J\",COUNTBLANK(D22)=0),RANK(D22,D$3:D$101,0),\"\")","v":""},{"$f":"IF(AND(Registration!$D21=\"J\",COUNTBLANK(E22)=0),placingpoints(E22,COUNTIF(E$3:E$101,\"=\"&E22)),\"\")","v":""},{"$f":"IF(Registration!$D21=\"J\",Accuracy!L21,\"\")","v":""},{"$f":"IF(AND(Registration!$D21=\"J\",COUNTBLANK(G22)=0),RANK(G22,G$3:G$102,0),\"\")","v":""},{"$f":"IF(AND(Registration!$D21=\"J\",COUNTBLANK(H22)=0),placingpoints(H22,COUNTIF(H$3:H$102,\"=\"&H22)),\"\")","v":""},{"$f":"IF(Registration!D21=\"J\",MTA!G21,\"\")","v":""},{"$f":"IF(AND(Registration!D21=\"J\",COUNTBLANK(J22)=0),RANK(J22,J$3:J$101,0),\"\")","v":""},{"$f":"IF(AND(Registration!$D21=\"J\",COUNTBLANK(K22)=0),placingpoints(K22,COUNTIF(K$3:K$101,\"=\"&K22)),\"\")","v":""},{"$f":"IF(Registration!D21=\"J\",'Trick Catch'!X22,\"\")","v":""},{"$f":"IF(AND(Registration!D21=\"J\",COUNTBLANK(M22)=0),RANK(M22,M$3:M$101,0),\"\")","v":""},{"$f":"IF(AND(Registration!$D21=\"J\",COUNTBLANK(N22)=0),placingpoints(N22,COUNTIF(N$3:N$101,\"=\"&N22)),\"\")","v":""},{"$f":"IF(Registration!D21=\"J\",'Fast Catch'!F21,\"\")","v":""},{"$f":"IF(AND(Registration!D21=\"J\",COUNTBLANK(P22)=0),RANK(P22,P$3:P$101,1),\"\")","v":""},{"$f":"IF(AND(Registration!$D21=\"J\",COUNTBLANK(Q22)=0),placingpoints(Q22,COUNTIF(Q$3:Q$101,\"=\"&Q22)),\"\")","v":""},{"$f":"IF(Registration!D21=\"J\",Endurance!C21,\"\")","v":""},{"$f":"IF(AND(Registration!D21=\"J\",COUNTBLANK(S22)=0),RANK(S22,S$3:S$101,0),\"\")","v":""},{"$f":"IF(AND(Registration!$D21=\"J\",COUNTBLANK(T22)=0),placingpoints(T22,COUNTIF(T$3:T$101,\"=\"&T22)),\"\")","v":""}]
[{"$f":"IF(Registration!D22=\"J\",RANK(B23,$B$3:$B$101,1),\"\")","v":""},{"$f":"IF(Registration!D22=\"J\",SUM(F23,I23,L23,O23,R23,U23),\"\")","v":""},{"$f":"IF(COUNTBLANK(Registration!B22)=1,\"\",IF(Registration!D22=\"J\",Registration!B22,\"\"))","v":""},{"$f":"IF(Registration!D22=\"J\",'Aussie Round'!V23,\"\")","v":""},{"$f":"IF(AND(Registration!D22=\"J\",COUNTBLANK(D23)=0),RANK(D23,D$3:D$101,0),\"\")","v":""},{"$f":"IF(AND(Registration!$D22=\"J\",COUNTBLANK(E23)=0),placingpoints(E23,COUNTIF(E$3:E$101,\"=\"&E23)),\"\")","v":""},{"$f":"IF(Registration!$D22=\"J\",Accuracy!L22,\"\")","v":""},{"$f":"IF(AND(Registration!$D22=\"J\",COUNTBLANK(G23)=0),RANK(G23,G$3:G$102,0),\"\")","v":""},{"$f":"IF(AND(Registration!$D22=\"J\",COUNTBLANK(H23)=0),placingpoints(H23,COUNTIF(H$3:H$102,\"=\"&H23)),\"\")","v":""},{"$f":"IF(Registration!D22=\"J\",MTA!G22,\"\")","v":""},{"$f":"IF(AND(Registration!D22=\"J\",COUNTBLANK(J23)=0),RANK(J23,J$3:J$101,0),\"\")","v":""},{"$f":"IF(AND(Registration!$D22=\"J\",COUNTBLANK(K23)=0),placingpoints(K23,COUNTIF(K$3:K$101,\"=\"&K23)),\"\")","v":""},{"$f":"IF(Registration!D22=\"J\",'Trick Catch'!X23,\"\")","v":""},{"$f":"IF(AND(Registration!D22=\"J\",COUNTBLANK(M23)=0),RANK(M23,M$3:M$101,0),\"\")","v":""},{"$f":"IF(AND(Registration!$D22=\"J\",COUNTBLANK(N23)=0),placingpoints(N23,COUNTIF(N$3:N$101,\"=\"&N23)),\"\")","v":""},{"$f":"IF(Registration!D22=\"J\",'Fast Catch'!F22,\"\")","v":""},{"$f":"IF(AND(Registration!D22=\"J\",COUNTBLANK(P23)=0),RANK(P23,P$3:P$101,1),\"\")","v":""},{"$f":"IF(AND(Registration!$D22=\"J\",COUNTBLANK(Q23)=0),placingpoints(Q23,COUNTIF(Q$3:Q$101,\"=\"&Q23)),\"\")","v":""},{"$f":"IF(Registration!D22=\"J\",Endurance!C22,\"\")","v":""},{"$f":"IF(AND(Registration!D22=\"J\",COUNTBLANK(S23)=0),RANK(S23,S$3:S$101,0),\"\")","v":""},{"$f":"IF(AND(Registration!$D22=\"J\",COUNTBLANK(T23)=0),placingpoints(T23,COUNTIF(T$3:T$101,\"=\"&T23)),\"\")","v":""}]
[{"$f":"IF(Registration!D23=\"J\",RANK(B24,$B$3:$B$101,1),\"\")","v":""},{"$f":"IF(Registration!D23=\"J\",SUM(F24,I24,L24,O24,R24,U24),\"\")","v":""},{"$f":"IF(COUNTBLANK(Registration!B23)=1,\"\",IF(Registration!D23=\"J\",Registration!B23,\"\"))","v":""},{"$f":"IF(Registration!D23=\"J\",'Aussie Round'!V24,\"\")","v":""},{"$f":"IF(AND(Registration!D23=\"J\",COUNTBLANK(D24)=0),RANK(D24,D$3:D$101,0),\"\")","v":""},{"$f":"IF(AND(Registration!$D23=\"J\",COUNTBLANK(E24)=0),placingpoints(E24,COUNTIF(E$3:E$101,\"=\"&E24)),\"\")","v":""},{"$f":"IF(Registration!$D23=\"J\",Accuracy!L23,\"\")","v":""},{"$f":"IF(AND(Registration!$D23=\"J\",COUNTBLANK(G24)=0),RANK(G24,G$3:G$102,0),\"\")","v":""},{"$f":"IF(AND(Registration!$D23=\"J\",COUNTBLANK(H24)=0),placingpoints(H24,COUNTIF(H$3:H$102,\"=\"&H24)),\"\")","v":""},{"$f":"IF(Registration!D23=\"J\",MTA!G23,\"\")","v":""},{"$f":"IF(AND(Registration!D23=\"J\",COUNTBLANK(J24)=0),RANK(J24,J$3:J$101,0),\"\")","v":""},{"$f":"IF(AND(Registration!$D23=\"J\",COUNTBLANK(K24)=0),placingpoints(K24,COUNTIF(K$3:K$101,\"=\"&K24)),\"\")","v":""},{"$f":"IF(Registration!D23=\"J\",'Trick Catch'!X24,\"\")","v":""},{"$f":"IF(AND(Registration!D23=\"J\",COUNTBLANK(M24)=0),RANK(M24,M$3:M$101,0),\"\")","v":""},{"$f":"IF(AND(Registration!$D23=\"J\",COUNTBLANK(N24)=0),placingpoints(N24,COUNTIF(N$3:N$101,\"=\"&N24)),\"\")","v":""},{"$f":"IF(Registration!D23=\"J\",'Fast Catch'!F23,\"\")","v":""},{"$f":"IF(AND(Registration!D23=\"J\",COUNTBLANK(P24)=0),RANK(P24,P$3:P$101,1),\"\")","v":""},{"$f":"IF(AND(Registration!$D23=\"J\",COUNTBLANK(Q24)=0),placingpoints(Q24,COUNTIF(Q$3:Q$101,\"=\"&Q24)),\"\")","v":""},{"$f":"IF(Registration!D23=\"J\",Endurance!C23,\"\")","v":""},{"$f":"IF(AND(Registration!D23=\"J\",COUNTBLANK(S24)=0),RANK(S24,S$3:S$101,0),\"\")","v":""},{"$f":"IF(AND(Registration!$D23=\"J\",COUNTBLANK(T24)=0),placingpoints(T24,COUNTIF(T$3:T$101,\"=\"&T24)),\"\")","v":""}]
[{"$f":"IF(Registration!D24=\"J\",RANK(B25,$B$3:$B$101,1),\"\")","v":""},{"$f":"IF(Registration!D24=\"J\",SUM(F25,I25,L25,O25,R25,U25),\"\")","v":""},{"$f":"IF(COUNTBLANK(Registration!B24)=1,\"\",IF(Registration!D24=\"J\",Registration!B24,\"\"))","v":""},{"$f":"IF(Registration!D24=\"J\",'Aussie Round'!V25,\"\")","v":""},{"$f":"IF(AND(Registration!D24=\"J\",COUNTBLANK(D25)=0),RANK(D25,D$3:D$101,0),\"\")","v":""},{"$f":"IF(AND(Registration!$D24=\"J\",COUNTBLANK(E25)=0),placingpoints(E25,COUNTIF(E$3:E$101,\"=\"&E25)),\"\")","v":""},{"$f":"IF(Registration!$D24=\"J\",Accuracy!L24,\"\")","v":""},{"$f":"IF(AND(Registration!$D24=\"J\",COUNTBLANK(G25)=0),RANK(G25,G$3:G$102,0),\"\")","v":""},{"$f":"IF(AND(Registration!$D24=\"J\",COUNTBLANK(H25)=0),placingpoints(H25,COUNTIF(H$3:H$102,\"=\"&H25)),\"\")","v":""},{"$f":"IF(Registration!D24=\"J\",MTA!G24,\"\")","v":""},{"$f":"IF(AND(Registration!D24=\"J\",COUNTBLANK(J25)=0),RANK(J25,J$3:J$101,0),\"\")","v":""},{"$f":"IF(AND(Registration!$D24=\"J\",COUNTBLANK(K25)=0),placingpoints(K25,COUNTIF(K$3:K$101,\"=\"&K25)),\"\")","v":""},{"$f":"IF(Registration!D24=\"J\",'Trick Catch'!X25,\"\")","v":""},{"$f":"IF(AND(Registration!D24=\"J\",COUNTBLANK(M25)=0),RANK(M25,M$3:M$101,0),\"\")","v":""},{"$f":"IF(AND(Registration!$D24=\"J\",COUNTBLANK(N25)=0),placingpoints(N25,COUNTIF(N$3:N$101,\"=\"&N25)),\"\")","v":""},{"$f":"IF(Registration!D24=\"J\",'Fast Catch'!F24,\"\")","v":""},{"$f":"IF(AND(Registration!D24=\"J\",COUNTBLANK(P25)=0),RANK(P25,P$3:P$101,1),\"\")","v":""},{"$f":"IF(AND(Registration!$D24=\"J\",COUNTBLANK(Q25)=0),placingpoints(Q25,COUNTIF(Q$3:Q$101,\"=\"&Q25)),\"\")","v":""},{"$f":"IF(Registration!D24=\"J\",Endurance!C24,\"\")","v":""},{"$f":"IF(AND(Registration!D24=\"J\",COUNTBLANK(S25)=0),RANK(S25,S$3:S$101,0),\"\")","v":""},{"$f":"IF(AND(Registration!$D24=\"J\",COUNTBLANK(T25)=0),placingpoints(T25,COUNTIF(T$3:T$101,\"=\"&T25)),\"\")","v":""}]
[{"$f":"IF(Registration!D25=\"J\",RANK(B26,$B$3:$B$101,1),\"\")","v":""},{"$f":"IF(Registration!D25=\"J\",SUM(F26,I26,L26,O26,R26,U26),\"\")","v":""},{"$f":"IF(COUNTBLANK(Registration!B25)=1,\"\",IF(Registration!D25=\"J\",Registration!B25,\"\"))","v":""},{"$f":"IF(Registration!D25=\"J\",'Aussie Round'!V26,\"\")","v":""},{"$f":"IF(AND(Registration!D25=\"J\",COUNTBLANK(D26)=0),RANK(D26,D$3:D$101,0),\"\")","v":""},{"$f":"IF(AND(Registration!$D25=\"J\",COUNTBLANK(E26)=0),placingpoints(E26,COUNTIF(E$3:E$101,\"=\"&E26)),\"\")","v":""},{"$f":"IF(Registration!$D25=\"J\",Accuracy!L25,\"\")","v":""},{"$f":"IF(AND(Registration!$D25=\"J\",COUNTBLANK(G26)=0),RANK(G26,G$3:G$102,0),\"\")","v":""},{"$f":"IF(AND(Registration!$D25=\"J\",COUNTBLANK(H26)=0),placingpoints(H26,COUNTIF(H$3:H$102,\"=\"&H26)),\"\")","v":""},{"$f":"IF(Registration!D25=\"J\",MTA!G25,\"\")","v":""},{"$f":"IF(AND(Registration!D25=\"J\",COUNTBLANK(J26)=0),RANK(J26,J$3:J$101,0),\"\")","v":""},{"$f":"IF(AND(Registration!$D25=\"J\",COUNTBLANK(K26)=0),placingpoints(K26,COUNTIF(K$3:K$101,\"=\"&K26)),\"\")","v":""},{"$f":"IF(Registration!D25=\"J\",'Trick Catch'!X26,\"\")","v":""},{"$f":"IF(AND(Registration!D25=\"J\",COUNTBLANK(M26)=0),RANK(M26,M$3:M$101,0),\"\")","v":""},{"$f":"IF(AND(Registration!$D25=\"J\",COUNTBLANK(N26)=0),placingpoints(N26,COUNTIF(N$3:N$101,\"=\"&N26)),\"\")","v":""},{"$f":"IF(Registration!D25=\"J\",'Fast Catch'!F25,\"\")","v":""},{"$f":"IF(AND(Registration!D25=\"J\",COUNTBLANK(P26)=0),RANK(P26,P$3:P$101,1),\"\")","v":""},{"$f":"IF(AND(Registration!$D25=\"J\",COUNTBLANK(Q26)=0),placingpoints(Q26,COUNTIF(Q$3:Q$101,\"=\"&Q26)),\"\")","v":""},{"$f":"IF(Registration!D25=\"J\",Endurance!C25,\"\")","v":""},{"$f":"IF(AND(Registration!D25=\"J\",COUNTBLANK(S26)=0),RANK(S26,S$3:S$101,0),\"\")","v":""},{"$f":"IF(AND(Registration!$D25=\"J\",COUNTBLANK(T26)=0),placingpoints(T26,COUNTIF(T$3:T$101,\"=\"&T26)),\"\")","v":""}]
[{"$f":"IF(Registration!D26=\"J\",RANK(B27,$B$3:$B$101,1),\"\")","v":""},{"$f":"IF(Registration!D26=\"J\",SUM(F27,I27,L27,O27,R27,U27),\"\")","v":""},{"$f":"IF(COUNTBLANK(Registration!B26)=1,\"\",IF(Registration!D26=\"J\",Registration!B26,\"\"))","v":""},{"$f":"IF(Registration!D26=\"J\",'Aussie Round'!V27,\"\")","v":""},{"$f":"IF(AND(Registration!D26=\"J\",COUNTBLANK(D27)=0),RANK(D27,D$3:D$101,0),\"\")","v":""},{"$f":"IF(AND(Registration!$D26=\"J\",COUNTBLANK(E27)=0),placingpoints(E27,COUNTIF(E$3:E$101,\"=\"&E27)),\"\")","v":""},{"$f":"IF(Registration!$D26=\"J\",Accuracy!L26,\"\")","v":""},{"$f":"IF(AND(Registration!$D26=\"J\",COUNTBLANK(G27)=0),RANK(G27,G$3:G$102,0),\"\")","v":""},{"$f":"IF(AND(Registration!$D26=\"J\",COUNTBLANK(H27)=0),placingpoints(H27,COUNTIF(H$3:H$102,\"=\"&H27)),\"\")","v":""},{"$f":"IF(Registration!D26=\"J\",MTA!G26,\"\")","v":""},{"$f":"IF(AND(Registration!D26=\"J\",COUNTBLANK(J27)=0),RANK(J27,J$3:J$101,0),\"\")","v":""},{"$f":"IF(AND(Registration!$D26=\"J\",COUNTBLANK(K27)=0),placingpoints(K27,COUNTIF(K$3:K$101,\"=\"&K27)),\"\")","v":""},{"$f":"IF(Registration!D26=\"J\",'Trick Catch'!X27,\"\")","v":""},{"$f":"IF(AND(Registration!D26=\"J\",COUNTBLANK(M27)=0),RANK(M27,M$3:M$101,0),\"\")","v":""},{"$f":"IF(AND(Registration!$D26=\"J\",COUNTBLANK(N27)=0),placingpoints(N27,COUNTIF(N$3:N$101,\"=\"&N27)),\"\")","v":""},{"$f":"IF(Registration!D26=\"J\",'Fast Catch'!F26,\"\")","v":""},{"$f":"IF(AND(Registration!D26=\"J\",COUNTBLANK(P27)=0),RANK(P27,P$3:P$101,1),\"\")","v":""},{"$f":"IF(AND(Registration!$D26=\"J\",COUNTBLANK(Q27)=0),placingpoints(Q27,COUNTIF(Q$3:Q$101,\"=\"&Q27)),\"\")","v":""},{"$f":"IF(Registration!D26=\"J\",Endurance!C26,\"\")","v":""},{"$f":"IF(AND(Registration!D26=\"J\",COUNTBLANK(S27)=0),RANK(S27,S$3:S$101,0),\"\")","v":""},{"$f":"IF(AND(Registration!$D26=\"J\",COUNTBLANK(T27)=0),placingpoints(T27,COUNTIF(T$3:T$101,\"=\"&T27)),\"\")","v":""}]
[{"$f":"IF(Registration!D27=\"J\",RANK(B28,$B$3:$B$101,1),\"\")","v":""},{"$f":"IF(Registration!D27=\"J\",SUM(F28,I28,L28,O28,R28,U28),\"\")","v":""},{"$f":"IF(COUNTBLANK(Registration!B27)=1,\"\",IF(Registration!D27=\"J\",Registration!B27,\"\"))","v":""},{"$f":"IF(Registration!D27=\"J\",'Aussie Round'!V28,\"\")","v":""},{"$f":"IF(AND(Registration!D27=\"J\",COUNTBLANK(D28)=0),RANK(D28,D$3:D$101,0),\"\")","v":""},{"$f":"IF(AND(Registration!$D27=\"J\",COUNTBLANK(E28)=0),placingpoints(E28,COUNTIF(E$3:E$101,\"=\"&E28)),\"\")","v":""},{"$f":"IF(Registration!$D27=\"J\",Accuracy!L27,\"\")","v":""},{"$f":"IF(AND(Registration!$D27=\"J\",COUNTBLANK(G28)=0),RANK(G28,G$3:G$102,0),\"\")","v":""},{"$f":"IF(AND(Registration!$D27=\"J\",COUNTBLANK(H28)=0),placingpoints(H28,COUNTIF(H$3:H$102,\"=\"&H28)),\"\")","v":""},{"$f":"IF(Registration!D27=\"J\",MTA!G27,\"\")","v":""},{"$f":"IF(AND(Registration!D27=\"J\",COUNTBLANK(J28)=0),RANK(J28,J$3:J$101,0),\"\")","v":""},{"$f":"IF(AND(Registration!$D27=\"J\",COUNTBLANK(K28)=0),placingpoints(K28,COUNTIF(K$3:K$101,\"=\"&K28)),\"\")","v":""},{"$f":"IF(Registration!D27=\"J\",'Trick Catch'!X28,\"\")","v":""},{"$f":"IF(AND(Registration!D27=\"J\",COUNTBLANK(M28)=0),RANK(M28,M$3:M$101,0),\"\")","v":""},{"$f":"IF(AND(Registration!$D27=\"J\",COUNTBLANK(N28)=0),placingpoints(N28,COUNTIF(N$3:N$101,\"=\"&N28)),\"\")","v":""},{"$f":"IF(Registration!D27=\"J\",'Fast Catch'!F27,\"\")","v":""},{"$f":"IF(AND(Registration!D27=\"J\",COUNTBLANK(P28)=0),RANK(P28,P$3:P$101,1),\"\")","v":""},{"$f":"IF(AND(Registration!$D27=\"J\",COUNTBLANK(Q28)=0),placingpoints(Q28,COUNTIF(Q$3:Q$101,\"=\"&Q28)),\"\")","v":""},{"$f":"IF(Registration!D27=\"J\",Endurance!C27,\"\")","v":""},{"$f":"IF(AND(Registration!D27=\"J\",COUNTBLANK(S28)=0),RANK(S28,S$3:S$101,0),\"\")","v":""},{"$f":"IF(AND(Registration!$D27=\"J\",COUNTBLANK(T28)=0),placingpoints(T28,COUNTIF(T$3:T$101,\"=\"&T28)),\"\")","v":""}]
[{"$f":"IF(Registration!D28=\"J\",RANK(B29,$B$3:$B$101,1),\"\")","v":""},{"$f":"IF(Registration!D28=\"J\",SUM(F29,I29,L29,O29,R29,U29),\"\")","v":""},{"$f":"IF(COUNTBLANK(Registration!B28)=1,\"\",IF(Registration!D28=\"J\",Registration!B28,\"\"))","v":""},{"$f":"IF(Registration!D28=\"J\",'Aussie Round'!V29,\"\")","v":""},{"$f":"IF(AND(Registration!D28=\"J\",COUNTBLANK(D29)=0),RANK(D29,D$3:D$101,0),\"\")","v":""},{"$f":"IF(AND(Registration!$D28=\"J\",COUNTBLANK(E29)=0),placingpoints(E29,COUNTIF(E$3:E$101,\"=\"&E29)),\"\")","v":""},{"$f":"IF(Registration!$D28=\"J\",Accuracy!L28,\"\")","v":""},{"$f":"IF(AND(Registration!$D28=\"J\",COUNTBLANK(G29)=0),RANK(G29,G$3:G$102,0),\"\")","v":""},{"$f":"IF(AND(Registration!$D28=\"J\",COUNTBLANK(H29)=0),placingpoints(H29,COUNTIF(H$3:H$102,\"=\"&H29)),\"\")","v":""},{"$f":"IF(Registration!D28=\"J\",MTA!G28,\"\")","v":""},{"$f":"IF(AND(Registration!D28=\"J\",COUNTBLANK(J29)=0),RANK(J29,J$3:J$101,0),\"\")","v":""},{"$f":"IF(AND(Registration!$D28=\"J\",COUNTBLANK(K29)=0),placingpoints(K29,COUNTIF(K$3:K$101,\"=\"&K29)),\"\")","v":""},{"$f":"IF(Registration!D28=\"J\",'Trick Catch'!X29,\"\")","v":""},{"$f":"IF(AND(Registration!D28=\"J\",COUNTBLANK(M29)=0),RANK(M29,M$3:M$101,0),\"\")","v":""},{"$f":"IF(AND(Registration!$D28=\"J\",COUNTBLANK(N29)=0),placingpoints(N29,COUNTIF(N$3:N$101,\"=\"&N29)),\"\")","v":""},{"$f":"IF(Registration!D28=\"J\",'Fast Catch'!F28,\"\")","v":""},{"$f":"IF(AND(Registration!D28=\"J\",COUNTBLANK(P29)=0),RANK(P29,P$3:P$101,1),\"\")","v":""},{"$f":"IF(AND(Registration!$D28=\"J\",COUNTBLANK(Q29)=0),placingpoints(Q29,COUNTIF(Q$3:Q$101,\"=\"&Q29)),\"\")","v":""},{"$f":"IF(Registration!D28=\"J\",Endurance!C28,\"\")","v":""},{"$f":"IF(AND(Registration!D28=\"J\",COUNTBLANK(S29)=0),RANK(S29,S$3:S$101,0),\"\")","v":""},{"$f":"IF(AND(Registration!$D28=\"J\",COUNTBLANK(T29)=0),placingpoints(T29,COUNTIF(T$3:T$101,\"=\"&T29)),\"\")","v":""}]
[{"$f":"IF(Registration!D29=\"J\",RANK(B30,$B$3:$B$101,1),\"\")","v":""},{"$f":"IF(Registration!D29=\"J\",SUM(F30,I30,L30,O30,R30,U30),\"\")","v":""},{"$f":"IF(COUNTBLANK(Registration!B29)=1,\"\",IF(Registration!D29=\"J\",Registration!B29,\"\"))","v":""},{"$f":"IF(Registration!D29=\"J\",'Aussie Round'!V30,\"\")","v":""},{"$f":"IF(AND(Registration!D29=\"J\",COUNTBLANK(D30)=0),RANK(D30,D$3:D$101,0),\"\")","v":""},{"$f":"IF(AND(Registration!$D29=\"J\",COUNTBLANK(E30)=0),placingpoints(E30,COUNTIF(E$3:E$101,\"=\"&E30)),\"\")","v":""},{"$f":"IF(Registration!$D29=\"J\",Accuracy!L29,\"\")","v":""},{"$f":"IF(AND(Registration!$D29=\"J\",COUNTBLANK(G30)=0),RANK(G30,G$3:G$102,0),\"\")","v":""},{"$f":"IF(AND(Registration!$D29=\"J\",COUNTBLANK(H30)=0),placingpoints(H30,COUNTIF(H$3:H$102,\"=\"&H30)),\"\")","v":""},{"$f":"IF(Registration!D29=\"J\",MTA!G29,\"\")","v":""},{"$f":"IF(AND(Registration!D29=\"J\",COUNTBLANK(J30)=0),RANK(J30,J$3:J$101,0),\"\")","v":""},{"$f":"IF(AND(Registration!$D29=\"J\",COUNTBLANK(K30)=0),placingpoints(K30,COUNTIF(K$3:K$101,\"=\"&K30)),\"\")","v":""},{"$f":"IF(Registration!D29=\"J\",'Trick Catch'!X30,\"\")","v":""},{"$f":"IF(AND(Registration!D29=\"J\",COUNTBLANK(M30)=0),RANK(M30,M$3:M$101,0),\"\")","v":""},{"$f":"IF(AND(Registration!$D29=\"J\",COUNTBLANK(N30)=0),placingpoints(N30,COUNTIF(N$3:N$101,\"=\"&N30)),\"\")","v":""},{"$f":"IF(Registration!D29=\"J\",'Fast Catch'!F29,\"\")","v":""},{"$f":"IF(AND(Registration!D29=\"J\",COUNTBLANK(P30)=0),RANK(P30,P$3:P$101,1),\"\")","v":""},{"$f":"IF(AND(Registration!$D29=\"J\",COUNTBLANK(Q30)=0),placingpoints(Q30,COUNTIF(Q$3:Q$101,\"=\"&Q30)),\"\")","v":""},{"$f":"IF(Registration!D29=\"J\",Endurance!C29,\"\")","v":""},{"$f":"IF(AND(Registration!D29=\"J\",COUNTBLANK(S30)=0),RANK(S30,S$3:S$101,0),\"\")","v":""},{"$f":"IF(AND(Registration!$D29=\"J\",COUNTBLANK(T30)=0),placingpoints(T30,COUNTIF(T$3:T$101,\"=\"&T30)),\"\")","v":""}]
[{"$f":"IF(Registration!D30=\"J\",RANK(B31,$B$3:$B$101,1),\"\")","v":""},{"$f":"IF(Registration!D30=\"J\",SUM(F31,I31,L31,O31,R31,U31),\"\")","v":""},{"$f":"IF(COUNTBLANK(Registration!B30)=1,\"\",IF(Registration!D30=\"J\",Registration!B30,\"\"))","v":""},{"$f":"IF(Registration!D30=\"J\",'Aussie Round'!V31,\"\")","v":""},{"$f":"IF(AND(Registration!D30=\"J\",COUNTBLANK(D31)=0),RANK(D31,D$3:D$101,0),\"\")","v":""},{"$f":"IF(AND(Registration!$D30=\"J\",COUNTBLANK(E31)=0),placingpoints(E31,COUNTIF(E$3:E$101,\"=\"&E31)),\"\")","v":""},{"$f":"IF(Registration!$D30=\"J\",Accuracy!L30,\"\")","v":""},{"$f":"IF(AND(Registration!$D30=\"J\",COUNTBLANK(G31)=0),RANK(G31,G$3:G$102,0),\"\")","v":""},{"$f":"IF(AND(Registration!$D30=\"J\",COUNTBLANK(H31)=0),placingpoints(H31,COUNTIF(H$3:H$102,\"=\"&H31)),\"\")","v":""},{"$f":"IF(Registration!D30=\"J\",MTA!G30,\"\")","v":""},{"$f":"IF(AND(Registration!D30=\"J\",COUNTBLANK(J31)=0),RANK(J31,J$3:J$101,0),\"\")","v":""},{"$f":"IF(AND(Registration!$D30=\"J\",COUNTBLANK(K31)=0),placingpoints(K31,COUNTIF(K$3:K$101,\"=\"&K31)),\"\")","v":""},{"$f":"IF(Registration!D30=\"J\",'Trick Catch'!X31,\"\")","v":""},{"$f":"IF(AND(Registration!D30=\"J\",COUNTBLANK(M31)=0),RANK(M31,M$3:M$101,0),\"\")","v":""},{"$f":"IF(AND(Registration!$D30=\"J\",COUNTBLANK(N31)=0),placingpoints(N31,COUNTIF(N$3:N$101,\"=\"&N31)),\"\")","v":""},{"$f":"IF(Registration!D30=\"J\",'Fast Catch'!F30,\"\")","v":""},{"$f":"IF(AND(Registration!D30=\"J\",COUNTBLANK(P31)=0),RANK(P31,P$3:P$101,1),\"\")","v":""},{"$f":"IF(AND(Registration!$D30=\"J\",COUNTBLANK(Q31)=0),placingpoints(Q31,COUNTIF(Q$3:Q$101,\"=\"&Q31)),\"\")","v":""},{"$f":"IF(Registration!D30=\"J\",Endurance!C30,\"\")","v":""},{"$f":"IF(AND(Registration!D30=\"J\",COUNTBLANK(S31)=0),RANK(S31,S$3:S$101,0),\"\")","v":""},{"$f":"IF(AND(Registration!$D30=\"J\",COUNTBLANK(T31)=0),placingpoints(T31,COUNTIF(T$3:T$101,\"=\"&T31)),\"\")","v":""}]
[{"$f":"IF(Registration!D31=\"J\",RANK(B32,$B$3:$B$101,1),\"\")","v":""},{"$f":"IF(Registration!D31=\"J\",SUM(F32,I32,L32,O32,R32,U32),\"\")","v":""},{"$f":"IF(COUNTBLANK(Registration!B31)=1,\"\",IF(Registration!D31=\"J\",Registration!B31,\"\"))","v":""},{"$f":"IF(Registration!D31=\"J\",'Aussie Round'!V32,\"\")","v":""},{"$f":"IF(AND(Registration!D31=\"J\",COUNTBLANK(D32)=0),RANK(D32,D$3:D$101,0),\"\")","v":""},{"$f":"IF(AND(Registration!$D31=\"J\",COUNTBLANK(E32)=0),placingpoints(E32,COUNTIF(E$3:E$101,\"=\"&E32)),\"\")","v":""},{"$f":"IF(Registration!$D31=\"J\",Accuracy!L31,\"\")","v":""},{"$f":"IF(AND(Registration!$D31=\"J\",COUNTBLANK(G32)=0),RANK(G32,G$3:G$102,0),\"\")","v":""},{"$f":"IF(AND(Registration!$D31=\"J\",COUNTBLANK(H32)=0),placingpoints(H32,COUNTIF(H$3:H$102,\"=\"&H32)),\"\")","v":""},{"$f":"IF(Registration!D31=\"J\",MTA!G31,\"\")","v":""},{"$f":"IF(AND(Registration!D31=\"J\",COUNTBLANK(J32)=0),RANK(J32,J$3:J$101,0),\"\")","v":""},{"$f":"IF(AND(Registration!$D31=\"J\",COUNTBLANK(K32)=0),placingpoints(K32,COUNTIF(K$3:K$101,\"=\"&K32)),\"\")","v":""},{"$f":"IF(Registration!D31=\"J\",'Trick Catch'!X32,\"\")","v":""},{"$f":"IF(AND(Registration!D31=\"J\",COUNTBLANK(M32)=0),RANK(M32,M$3:M$101,0),\"\")","v":""},{"$f":"IF(AND(Registration!$D31=\"J\",COUNTBLANK(N32)=0),placingpoints(N32,COUNTIF(N$3:N$101,\"=\"&N32)),\"\")","v":""},{"$f":"IF(Registration!D31=\"J\",'Fast Catch'!F31,\"\")","v":""},{"$f":"IF(AND(Registration!D31=\"J\",COUNTBLANK(P32)=0),RANK(P32,P$3:P$101,1),\"\")","v":""},{"$f":"IF(AND(Registration!$D31=\"J\",COUNTBLANK(Q32)=0),placingpoints(Q32,COUNTIF(Q$3:Q$101,\"=\"&Q32)),\"\")","v":""},{"$f":"IF(Registration!D31=\"J\",Endurance!C31,\"\")","v":""},{"$f":"IF(AND(Registration!D31=\"J\",COUNTBLANK(S32)=0),RANK(S32,S$3:S$101,0),\"\")","v":""},{"$f":"IF(AND(Registration!$D31=\"J\",COUNTBLANK(T32)=0),placingpoints(T32,COUNTIF(T$3:T$101,\"=\"&T32)),\"\")","v":""}]
[{"$f":"IF(Registration!D32=\"J\",RANK(B33,$B$3:$B$101,1),\"\")","v":""},{"$f":"IF(Registration!D32=\"J\",SUM(F33,I33,L33,O33,R33,U33),\"\")","v":""},{"$f":"IF(COUNTBLANK(Registration!B32)=1,\"\",IF(Registration!D32=\"J\",Registration!B32,\"\"))","v":""},{"$f":"IF(Registration!D32=\"J\",'Aussie Round'!V33,\"\")","v":""},{"$f":"IF(AND(Registration!D32=\"J\",COUNTBLANK(D33)=0),RANK(D33,D$3:D$101,0),\"\")","v":""},{"$f":"IF(AND(Registration!$D32=\"J\",COUNTBLANK(E33)=0),placingpoints(E33,COUNTIF(E$3:E$101,\"=\"&E33)),\"\")","v":""},{"$f":"IF(Registration!$D32=\"J\",Accuracy!L32,\"\")","v":""},{"$f":"IF(AND(Registration!$D32=\"J\",COUNTBLANK(G33)=0),RANK(G33,G$3:G$102,0),\"\")","v":""},{"$f":"IF(AND(Registration!$D32=\"J\",COUNTBLANK(H33)=0),placingpoints(H33,COUNTIF(H$3:H$102,\"=\"&H33)),\"\")","v":""},{"$f":"IF(Registration!D32=\"J\",MTA!G32,\"\")","v":""},{"$f":"IF(AND(Registration!D32=\"J\",COUNTBLANK(J33)=0),RANK(J33,J$3:J$101,0),\"\")","v":""},{"$f":"IF(AND(Registration!$D32=\"J\",COUNTBLANK(K33)=0),placingpoints(K33,COUNTIF(K$3:K$101,\"=\"&K33)),\"\")","v":""},{"$f":"IF(Registration!D32=\"J\",'Trick Catch'!X33,\"\")","v":""},{"$f":"IF(AND(Registration!D32=\"J\",COUNTBLANK(M33)=0),RANK(M33,M$3:M$101,0),\"\")","v":""},{"$f":"IF(AND(Registration!$D32=\"J\",COUNTBLANK(N33)=0),placingpoints(N33,COUNTIF(N$3:N$101,\"=\"&N33)),\"\")","v":""},{"$f":"IF(Registration!D32=\"J\",'Fast Catch'!F32,\"\")","v":""},{"$f":"IF(AND(Registration!D32=\"J\",COUNTBLANK(P33)=0),RANK(P33,P$3:P$101,1),\"\")","v":""},{"$f":"IF(AND(Registration!$D32=\"J\",COUNTBLANK(Q33)=0),placingpoints(Q33,COUNTIF(Q$3:Q$101,\"=\"&Q33)),\"\")","v":""},{"$f":"IF(Registration!D32=\"J\",Endurance!C32,\"\")","v":""},{"$f":"IF(AND(Registration!D32=\"J\",COUNTBLANK(S33)=0),RANK(S33,S$3:S$101,0),\"\")","v":""},{"$f":"IF(AND(Registration!$D32=\"J\",COUNTBLANK(T33)=0),placingpoints(T33,COUNTIF(T$3:T$101,\"=\"&T33)),\"\")","v":""}]
[{"$f":"IF(Registration!D33=\"J\",RANK(B34,$B$3:$B$101,1),\"\")","v":""},{"$f":"IF(Registration!D33=\"J\",SUM(F34,I34,L34,O34,R34,U34),\"\")","v":""},{"$f":"IF(COUNTBLANK(Registration!B33)=1,\"\",IF(Registration!D33=\"J\",Registration!B33,\"\"))","v":""},{"$f":"IF(Registration!D33=\"J\",'Aussie Round'!V34,\"\")","v":""},{"$f":"IF(AND(Registration!D33=\"J\",COUNTBLANK(D34)=0),RANK(D34,D$3:D$101,0),\"\")","v":""},{"$f":"IF(AND(Registration!$D33=\"J\",COUNTBLANK(E34)=0),placingpoints(E34,COUNTIF(E$3:E$101,\"=\"&E34)),\"\")","v":""},{"$f":"IF(Registration!$D33=\"J\",Accuracy!L33,\"\")","v":""},{"$f":"IF(AND(Registration!$D33=\"J\",COUNTBLANK(G34)=0),RANK(G34,G$3:G$102,0),\"\")","v":""},{"$f":"IF(AND(Registration!$D33=\"J\",COUNTBLANK(H34)=0),placingpoints(H34,COUNTIF(H$3:H$102,\"=\"&H34)),\"\")","v":""},{"$f":"IF(Registration!D33=\"J\",MTA!G33,\"\")","v":""},{"$f":"IF(AND(Registration!D33=\"J\",COUNTBLANK(J34)=0),RANK(J34,J$3:J$101,0),\"\")","v":""},{"$f":"IF(AND(Registration!$D33=\"J\",COUNTBLANK(K34)=0),placingpoints(K34,COUNTIF(K$3:K$101,\"=\"&K34)),\"\")","v":""},{"$f":"IF(Registration!D33=\"J\",'Trick Catch'!X34,\"\")","v":""},{"$f":"IF(AND(Registration!D33=\"J\",COUNTBLANK(M34)=0),RANK(M34,M$3:M$101,0),\"\")","v":""},{"$f":"IF(AND(Registration!$D33=\"J\",COUNTBLANK(N34)=0),placingpoints(N34,COUNTIF(N$3:N$101,\"=\"&N34)),\"\")","v":""},{"$f":"IF(Registration!D33=\"J\",'Fast Catch'!F33,\"\")","v":""},{"$f":"IF(AND(Registration!D33=\"J\",COUNTBLANK(P34)=0),RANK(P34,P$3:P$101,1),\"\")","v":""},{"$f":"IF(AND(Registration!$D33=\"J\",COUNTBLANK(Q34)=0),placingpoints(Q34,COUNTIF(Q$3:Q$101,\"=\"&Q34)),\"\")","v":""},{"$f":"IF(Registration!D33=\"J\",Endurance!C33,\"\")","v":""},{"$f":"IF(AND(Registration!D33=\"J\",COUNTBLANK(S34)=0),RANK(S34,S$3:S$101,0),\"\")","v":""},{"$f":"IF(AND(Registration!$D33=\"J\",COUNTBLANK(T34)=0),placingpoints(T34,COUNTIF(T$3:T$101,\"=\"&T34)),\"\")","v":""}]
[{"$f":"IF(Registration!D34=\"J\",RANK(B35,$B$3:$B$101,1),\"\")","v":""},{"$f":"IF(Registration!D34=\"J\",SUM(F35,I35,L35,O35,R35,U35),\"\")","v":""},{"$f":"IF(COUNTBLANK(Registration!B34)=1,\"\",IF(Registration!D34=\"J\",Registration!B34,\"\"))","v":""},{"$f":"IF(Registration!D34=\"J\",'Aussie Round'!V35,\"\")","v":""},{"$f":"IF(AND(Registration!D34=\"J\",COUNTBLANK(D35)=0),RANK(D35,D$3:D$101,0),\"\")","v":""},{"$f":"IF(AND(Registration!$D34=\"J\",COUNTBLANK(E35)=0),placingpoints(E35,COUNTIF(E$3:E$101,\"=\"&E35)),\"\")","v":""},{"$f":"IF(Registration!$D34=\"J\",Accuracy!L34,\"\")","v":""},{"$f":"IF(AND(Registration!$D34=\"J\",COUNTBLANK(G35)=0),RANK(G35,G$3:G$102,0),\"\")","v":""},{"$f":"IF(AND(Registration!$D34=\"J\",COUNTBLANK(H35)=0),placingpoints(H35,COUNTIF(H$3:H$102,\"=\"&H35)),\"\")","v":""},{"$f":"IF(Registration!D34=\"J\",MTA!G34,\"\")","v":""},{"$f":"IF(AND(Registration!D34=\"J\",COUNTBLANK(J35)=0),RANK(J35,J$3:J$101,0),\"\")","v":""},{"$f":"IF(AND(Registration!$D34=\"J\",COUNTBLANK(K35)=0),placingpoints(K35,COUNTIF(K$3:K$101,\"=\"&K35)),\"\")","v":""},{"$f":"IF(Registration!D34=\"J\",'Trick Catch'!X35,\"\")","v":""},{"$f":"IF(AND(Registration!D34=\"J\",COUNTBLANK(M35)=0),RANK(M35,M$3:M$101,0),\"\")","v":""},{"$f":"IF(AND(Registration!$D34=\"J\",COUNTBLANK(N35)=0),placingpoints(N35,COUNTIF(N$3:N$101,\"=\"&N35)),\"\")","v":""},{"$f":"IF(Registration!D34=\"J\",'Fast Catch'!F34,\"\")","v":""},{"$f":"IF(AND(Registration!D34=\"J\",COUNTBLANK(P35)=0),RANK(P35,P$3:P$101,1),\"\")","v":""},{"$f":"IF(AND(Registration!$D34=\"J\",COUNTBLANK(Q35)=0),placingpoints(Q35,COUNTIF(Q$3:Q$101,\"=\"&Q35)),\"\")","v":""},{"$f":"IF(Registration!D34=\"J\",Endurance!C34,\"\")","v":""},{"$f":"IF(AND(Registration!D34=\"J\",COUNTBLANK(S35)=0),RANK(S35,S$3:S$101,0),\"\")","v":""},{"$f":"IF(AND(Registration!$D34=\"J\",COUNTBLANK(T35)=0),placingpoints(T35,COUNTIF(T$3:T$101,\"=\"&T35)),\"\")","v":""}]
[{"$f":"IF(Registration!D35=\"J\",RANK(B36,$B$3:$B$101,1),\"\")","v":""},{"$f":"IF(Registration!D35=\"J\",SUM(F36,I36,L36,O36,R36,U36),\"\")","v":""},{"$f":"IF(COUNTBLANK(Registration!B35)=1,\"\",IF(Registration!D35=\"J\",Registration!B35,\"\"))","v":""},{"$f":"IF(Registration!D35=\"J\",'Aussie Round'!V36,\"\")","v":""},{"$f":"IF(AND(Registration!D35=\"J\",COUNTBLANK(D36)=0),RANK(D36,D$3:D$101,0),\"\")","v":""},{"$f":"IF(AND(Registration!$D35=\"J\",COUNTBLANK(E36)=0),placingpoints(E36,COUNTIF(E$3:E$101,\"=\"&E36)),\"\")","v":""},{"$f":"IF(Registration!$D35=\"J\",Accuracy!L35,\"\")","v":""},{"$f":"IF(AND(Registration!$D35=\"J\",COUNTBLANK(G36)=0),RANK(G36,G$3:G$102,0),\"\")","v":""},{"$f":"IF(AND(Registration!$D35=\"J\",COUNTBLANK(H36)=0),placingpoints(H36,COUNTIF(H$3:H$102,\"=\"&H36)),\"\")","v":""},{"$f":"IF(Registration!D35=\"J\",MTA!G35,\"\")","v":""},{"$f":"IF(AND(Registration!D35=\"J\",COUNTBLANK(J36)=0),RANK(J36,J$3:J$101,0),\"\")","v":""},{"$f":"IF(AND(Registration!$D35=\"J\",COUNTBLANK(K36)=0),placingpoints(K36,COUNTIF(K$3:K$101,\"=\"&K36)),\"\")","v":""},{"$f":"IF(Registration!D35=\"J\",'Trick Catch'!X36,\"\")","v":""},{"$f":"IF(AND(Registration!D35=\"J\",COUNTBLANK(M36)=0),RANK(M36,M$3:M$101,0),\"\")","v":""},{"$f":"IF(AND(Registration!$D35=\"J\",COUNTBLANK(N36)=0),placingpoints(N36,COUNTIF(N$3:N$101,\"=\"&N36)),\"\")","v":""},{"$f":"IF(Registration!D35=\"J\",'Fast Catch'!F35,\"\")","v":""},{"$f":"IF(AND(Registration!D35=\"J\",COUNTBLANK(P36)=0),RANK(P36,P$3:P$101,1),\"\")","v":""},{"$f":"IF(AND(Registration!$D35=\"J\",COUNTBLANK(Q36)=0),placingpoints(Q36,COUNTIF(Q$3:Q$101,\"=\"&Q36)),\"\")","v":""},{"$f":"IF(Registration!D35=\"J\",Endurance!C35,\"\")","v":""},{"$f":"IF(AND(Registration!D35=\"J\",COUNTBLANK(S36)=0),RANK(S36,S$3:S$101,0),\"\")","v":""},{"$f":"IF(AND(Registration!$D35=\"J\",COUNTBLANK(T36)=0),placingpoints(T36,COUNTIF(T$3:T$101,\"=\"&T36)),\"\")","v":""}]
[{"$f":"IF(Registration!D36=\"J\",RANK(B37,$B$3:$B$101,1),\"\")","v":""},{"$f":"IF(Registration!D36=\"J\",SUM(F37,I37,L37,O37,R37,U37),\"\")","v":""},{"$f":"IF(COUNTBLANK(Registration!B36)=1,\"\",IF(Registration!D36=\"J\",Registration!B36,\"\"))","v":""},{"$f":"IF(Registration!D36=\"J\",'Aussie Round'!V37,\"\")","v":""},{"$f":"IF(AND(Registration!D36=\"J\",COUNTBLANK(D37)=0),RANK(D37,D$3:D$101,0),\"\")","v":""},{"$f":"IF(AND(Registration!$D36=\"J\",COUNTBLANK(E37)=0),placingpoints(E37,COUNTIF(E$3:E$101,\"=\"&E37)),\"\")","v":""},{"$f":"IF(Registration!$D36=\"J\",Accuracy!L36,\"\")","v":""},{"$f":"IF(AND(Registration!$D36=\"J\",COUNTBLANK(G37)=0),RANK(G37,G$3:G$102,0),\"\")","v":""},{"$f":"IF(AND(Registration!$D36=\"J\",COUNTBLANK(H37)=0),placingpoints(H37,COUNTIF(H$3:H$102,\"=\"&H37)),\"\")","v":""},{"$f":"IF(Registration!D36=\"J\",MTA!G36,\"\")","v":""},{"$f":"IF(AND(Registration!D36=\"J\",COUNTBLANK(J37)=0),RANK(J37,J$3:J$101,0),\"\")","v":""},{"$f":"IF(AND(Registration!$D36=\"J\",COUNTBLANK(K37)=0),placingpoints(K37,COUNTIF(K$3:K$101,\"=\"&K37)),\"\")","v":""},{"$f":"IF(Registration!D36=\"J\",'Trick Catch'!X37,\"\")","v":""},{"$f":"IF(AND(Registration!D36=\"J\",COUNTBLANK(M37)=0),RANK(M37,M$3:M$101,0),\"\")","v":""},{"$f":"IF(AND(Registration!$D36=\"J\",COUNTBLANK(N37)=0),placingpoints(N37,COUNTIF(N$3:N$101,\"=\"&N37)),\"\")","v":""},{"$f":"IF(Registration!D36=\"J\",'Fast Catch'!F36,\"\")","v":""},{"$f":"IF(AND(Registration!D36=\"J\",COUNTBLANK(P37)=0),RANK(P37,P$3:P$101,1),\"\")","v":""},{"$f":"IF(AND(Registration!$D36=\"J\",COUNTBLANK(Q37)=0),placingpoints(Q37,COUNTIF(Q$3:Q$101,\"=\"&Q37)),\"\")","v":""},{"$f":"IF(Registration!D36=\"J\",Endurance!C36,\"\")","v":""},{"$f":"IF(AND(Registration!D36=\"J\",COUNTBLANK(S37)=0),RANK(S37,S$3:S$101,0),\"\")","v":""},{"$f":"IF(AND(Registration!$D36=\"J\",COUNTBLANK(T37)=0),placingpoints(T37,COUNTIF(T$3:T$101,\"=\"&T37)),\"\")","v":""}]
[{"$f":"IF(Registration!D37=\"J\",RANK(B38,$B$3:$B$101,1),\"\")","v":""},{"$f":"IF(Registration!D37=\"J\",SUM(F38,I38,L38,O38,R38,U38),\"\")","v":""},{"$f":"IF(COUNTBLANK(Registration!B37)=1,\"\",IF(Registration!D37=\"J\",Registration!B37,\"\"))","v":""},{"$f":"IF(Registration!D37=\"J\",'Aussie Round'!V38,\"\")","v":""},{"$f":"IF(AND(Registration!D37=\"J\",COUNTBLANK(D38)=0),RANK(D38,D$3:D$101,0),\"\")","v":""},{"$f":"IF(AND(Registration!$D37=\"J\",COUNTBLANK(E38)=0),placingpoints(E38,COUNTIF(E$3:E$101,\"=\"&E38)),\"\")","v":""},{"$f":"IF(Registration!$D37=\"J\",Accuracy!L37,\"\")","v":""},{"$f":"IF(AND(Registration!$D37=\"J\",COUNTBLANK(G38)=0),RANK(G38,G$3:G$102,0),\"\")","v":""},{"$f":"IF(AND(Registration!$D37=\"J\",COUNTBLANK(H38)=0),placingpoints(H38,COUNTIF(H$3:H$102,\"=\"&H38)),\"\")","v":""},{"$f":"IF(Registration!D37=\"J\",MTA!G37,\"\")","v":""},{"$f":"IF(AND(Registration!D37=\"J\",COUNTBLANK(J38)=0),RANK(J38,J$3:J$101,0),\"\")","v":""},{"$f":"IF(AND(Registration!$D37=\"J\",COUNTBLANK(K38)=0),placingpoints(K38,COUNTIF(K$3:K$101,\"=\"&K38)),\"\")","v":""},{"$f":"IF(Registration!D37=\"J\",'Trick Catch'!X38,\"\")","v":""},{"$f":"IF(AND(Registration!D37=\"J\",COUNTBLANK(M38)=0),RANK(M38,M$3:M$101,0),\"\")","v":""},{"$f":"IF(AND(Registration!$D37=\"J\",COUNTBLANK(N38)=0),placingpoints(N38,COUNTIF(N$3:N$101,\"=\"&N38)),\"\")","v":""},{"$f":"IF(Registration!D37=\"J\",'Fast Catch'!F37,\"\")","v":""},{"$f":"IF(AND(Registration!D37=\"J\",COUNTBLANK(P38)=0),RANK(P38,P$3:P$101,1),\"\")","v":""},{"$f":"IF(AND(Registration!$D37=\"J\",COUNTBLANK(Q38)=0),placingpoints(Q38,COUNTIF(Q$3:Q$101,\"=\"&Q38)),\"\")","v":""},{"$f":"IF(Registration!D37=\"J\",Endurance!C37,\"\")","v":""},{"$f":"IF(AND(Registration!D37=\"J\",COUNTBLANK(S38)=0),RANK(S38,S$3:S$101,0),\"\")","v":""},{"$f":"IF(AND(Registration!$D37=\"J\",COUNTBLANK(T38)=0),placingpoints(T38,COUNTIF(T$3:T$101,\"=\"&T38)),\"\")","v":""}]
[{"$f":"IF(Registration!D38=\"J\",RANK(B39,$B$3:$B$101,1),\"\")","v":""},{"$f":"IF(Registration!D38=\"J\",SUM(F39,I39,L39,O39,R39,U39),\"\")","v":""},{"$f":"IF(COUNTBLANK(Registration!B38)=1,\"\",IF(Registration!D38=\"J\",Registration!B38,\"\"))","v":""},{"$f":"IF(Registration!D38=\"J\",'Aussie Round'!V39,\"\")","v":""},{"$f":"IF(AND(Registration!D38=\"J\",COUNTBLANK(D39)=0),RANK(D39,D$3:D$101,0),\"\")","v":""},{"$f":"IF(AND(Registration!$D38=\"J\",COUNTBLANK(E39)=0),placingpoints(E39,COUNTIF(E$3:E$101,\"=\"&E39)),\"\")","v":""},{"$f":"IF(Registration!$D38=\"J\",Accuracy!L38,\"\")","v":""},{"$f":"IF(AND(Registration!$D38=\"J\",COUNTBLANK(G39)=0),RANK(G39,G$3:G$102,0),\"\")","v":""},{"$f":"IF(AND(Registration!$D38=\"J\",COUNTBLANK(H39)=0),placingpoints(H39,COUNTIF(H$3:H$102,\"=\"&H39)),\"\")","v":""},{"$f":"IF(Registration!D38=\"J\",MTA!G38,\"\")","v":""},{"$f":"IF(AND(Registration!D38=\"J\",COUNTBLANK(J39)=0),RANK(J39,J$3:J$101,0),\"\")","v":""},{"$f":"IF(AND(Registration!$D38=\"J\",COUNTBLANK(K39)=0),placingpoints(K39,COUNTIF(K$3:K$101,\"=\"&K39)),\"\")","v":""},{"$f":"IF(Registration!D38=\"J\",'Trick Catch'!X39,\"\")","v":""},{"$f":"IF(AND(Registration!D38=\"J\",COUNTBLANK(M39)=0),RANK(M39,M$3:M$101,0),\"\")","v":""},{"$f":"IF(AND(Registration!$D38=\"J\",COUNTBLANK(N39)=0),placingpoints(N39,COUNTIF(N$3:N$101,\"=\"&N39)),\"\")","v":""},{"$f":"IF(Registration!D38=\"J\",'Fast Catch'!F38,\"\")","v":""},{"$f":"IF(AND(Registration!D38=\"J\",COUNTBLANK(P39)=0),RANK(P39,P$3:P$101,1),\"\")","v":""},{"$f":"IF(AND(Registration!$D38=\"J\",COUNTBLANK(Q39)=0),placingpoints(Q39,COUNTIF(Q$3:Q$101,\"=\"&Q39)),\"\")","v":""},{"$f":"IF(Registration!D38=\"J\",Endurance!C38,\"\")","v":""},{"$f":"IF(AND(Registration!D38=\"J\",COUNTBLANK(S39)=0),RANK(S39,S$3:S$101,0),\"\")","v":""},{"$f":"IF(AND(Registration!$D38=\"J\",COUNTBLANK(T39)=0),placingpoints(T39,COUNTIF(T$3:T$101,\"=\"&T39)),\"\")","v":""}]
[{"$f":"IF(Registration!D39=\"J\",RANK(B40,$B$3:$B$101,1),\"\")","v":""},{"$f":"IF(Registration!D39=\"J\",SUM(F40,I40,L40,O40,R40,U40),\"\")","v":""},{"$f":"IF(COUNTBLANK(Registration!B39)=1,\"\",IF(Registration!D39=\"J\",Registration!B39,\"\"))","v":""},{"$f":"IF(Registration!D39=\"J\",'Aussie Round'!V40,\"\")","v":""},{"$f":"IF(AND(Registration!D39=\"J\",COUNTBLANK(D40)=0),RANK(D40,D$3:D$101,0),\"\")","v":""},{"$f":"IF(AND(Registration!$D39=\"J\",COUNTBLANK(E40)=0),placingpoints(E40,COUNTIF(E$3:E$101,\"=\"&E40)),\"\")","v":""},{"$f":"IF(Registration!$D39=\"J\",Accuracy!L39,\"\")","v":""},{"$f":"IF(AND(Registration!$D39=\"J\",COUNTBLANK(G40)=0),RANK(G40,G$3:G$102,0),\"\")","v":""},{"$f":"IF(AND(Registration!$D39=\"J\",COUNTBLANK(H40)=0),placingpoints(H40,COUNTIF(H$3:H$102,\"=\"&H40)),\"\")","v":""},{"$f":"IF(Registration!D39=\"J\",MTA!G39,\"\")","v":""},{"$f":"IF(AND(Registration!D39=\"J\",COUNTBLANK(J40)=0),RANK(J40,J$3:J$101,0),\"\")","v":""},{"$f":"IF(AND(Registration!$D39=\"J\",COUNTBLANK(K40)=0),placingpoints(K40,COUNTIF(K$3:K$101,\"=\"&K40)),\"\")","v":""},{"$f":"IF(Registration!D39=\"J\",'Trick Catch'!X40,\"\")","v":""},{"$f":"IF(AND(Registration!D39=\"J\",COUNTBLANK(M40)=0),RANK(M40,M$3:M$101,0),\"\")","v":""},{"$f":"IF(AND(Registration!$D39=\"J\",COUNTBLANK(N40)=0),placingpoints(N40,COUNTIF(N$3:N$101,\"=\"&N40)),\"\")","v":""},{"$f":"IF(Registration!D39=\"J\",'Fast Catch'!F39,\"\")","v":""},{"$f":"IF(AND(Registration!D39=\"J\",COUNTBLANK(P40)=0),RANK(P40,P$3:P$101,1),\"\")","v":""},{"$f":"IF(AND(Registration!$D39=\"J\",COUNTBLANK(Q40)=0),placingpoints(Q40,COUNTIF(Q$3:Q$101,\"=\"&Q40)),\"\")","v":""},{"$f":"IF(Registration!D39=\"J\",Endurance!C39,\"\")","v":""},{"$f":"IF(AND(Registration!D39=\"J\",COUNTBLANK(S40)=0),RANK(S40,S$3:S$101,0),\"\")","v":""},{"$f":"IF(AND(Registration!$D39=\"J\",COUNTBLANK(T40)=0),placingpoints(T40,COUNTIF(T$3:T$101,\"=\"&T40)),\"\")","v":""}]
[{"$f":"IF(Registration!D40=\"J\",RANK(B41,$B$3:$B$101,1),\"\")","v":""},{"$f":"IF(Registration!D40=\"J\",SUM(F41,I41,L41,O41,R41,U41),\"\")","v":""},{"$f":"IF(COUNTBLANK(Registration!B40)=1,\"\",IF(Registration!D40=\"J\",Registration!B40,\"\"))","v":""},{"$f":"IF(Registration!D40=\"J\",'Aussie Round'!V41,\"\")","v":""},{"$f":"IF(AND(Registration!D40=\"J\",COUNTBLANK(D41)=0),RANK(D41,D$3:D$101,0),\"\")","v":""},{"$f":"IF(AND(Registration!$D40=\"J\",COUNTBLANK(E41)=0),placingpoints(E41,COUNTIF(E$3:E$101,\"=\"&E41)),\"\")","v":""},{"$f":"IF(Registration!$D40=\"J\",Accuracy!L40,\"\")","v":""},{"$f":"IF(AND(Registration!$D40=\"J\",COUNTBLANK(G41)=0),RANK(G41,G$3:G$102,0),\"\")","v":""},{"$f":"IF(AND(Registration!$D40=\"J\",COUNTBLANK(H41)=0),placingpoints(H41,COUNTIF(H$3:H$102,\"=\"&H41)),\"\")","v":""},{"$f":"IF(Registration!D40=\"J\",MTA!G40,\"\")","v":""},{"$f":"IF(AND(Registration!D40=\"J\",COUNTBLANK(J41)=0),RANK(J41,J$3:J$101,0),\"\")","v":""},{"$f":"IF(AND(Registration!$D40=\"J\",COUNTBLANK(K41)=0),placingpoints(K41,COUNTIF(K$3:K$101,\"=\"&K41)),\"\")","v":""},{"$f":"IF(Registration!D40=\"J\",'Trick Catch'!X41,\"\")","v":""},{"$f":"IF(AND(Registration!D40=\"J\",COUNTBLANK(M41)=0),RANK(M41,M$3:M$101,0),\"\")","v":""},{"$f":"IF(AND(Registration!$D40=\"J\",COUNTBLANK(N41)=0),placingpoints(N41,COUNTIF(N$3:N$101,\"=\"&N41)),\"\")","v":""},{"$f":"IF(Registration!D40=\"J\",'Fast Catch'!F40,\"\")","v":""},{"$f":"IF(AND(Registration!D40=\"J\",COUNTBLANK(P41)=0),RANK(P41,P$3:P$101,1),\"\")","v":""},{"$f":"IF(AND(Registration!$D40=\"J\",COUNTBLANK(Q41)=0),placingpoints(Q41,COUNTIF(Q$3:Q$101,\"=\"&Q41)),\"\")","v":""},{"$f":"IF(Registration!D40=\"J\",Endurance!C40,\"\")","v":""},{"$f":"IF(AND(Registration!D40=\"J\",COUNTBLANK(S41)=0),RANK(S41,S$3:S$101,0),\"\")","v":""},{"$f":"IF(AND(Registration!$D40=\"J\",COUNTBLANK(T41)=0),placingpoints(T41,COUNTIF(T$3:T$101,\"=\"&T41)),\"\")","v":""}]
[{"$f":"IF(Registration!D41=\"J\",RANK(B42,$B$3:$B$101,1),\"\")","v":""},{"$f":"IF(Registration!D41=\"J\",SUM(F42,I42,L42,O42,R42,U42),\"\")","v":""},{"$f":"IF(COUNTBLANK(Registration!B41)=1,\"\",IF(Registration!D41=\"J\",Registration!B41,\"\"))","v":""},{"$f":"IF(Registration!D41=\"J\",'Aussie Round'!V42,\"\")","v":""},{"$f":"IF(AND(Registration!D41=\"J\",COUNTBLANK(D42)=0),RANK(D42,D$3:D$101,0),\"\")","v":""},{"$f":"IF(AND(Registration!$D41=\"J\",COUNTBLANK(E42)=0),placingpoints(E42,COUNTIF(E$3:E$101,\"=\"&E42)),\"\")","v":""},{"$f":"IF(Registration!$D41=\"J\",Accuracy!L41,\"\")","v":""},{"$f":"IF(AND(Registration!$D41=\"J\",COUNTBLANK(G42)=0),RANK(G42,G$3:G$102,0),\"\")","v":""},{"$f":"IF(AND(Registration!$D41=\"J\",COUNTBLANK(H42)=0),placingpoints(H42,COUNTIF(H$3:H$102,\"=\"&H42)),\"\")","v":""},{"$f":"IF(Registration!D41=\"J\",MTA!G41,\"\")","v":""},{"$f":"IF(AND(Registration!D41=\"J\",COUNTBLANK(J42)=0),RANK(J42,J$3:J$101,0),\"\")","v":""},{"$f":"IF(AND(Registration!$D41=\"J\",COUNTBLANK(K42)=0),placingpoints(K42,COUNTIF(K$3:K$101,\"=\"&K42)),\"\")","v":""},{"$f":"IF(Registration!D41=\"J\",'Trick Catch'!X42,\"\")","v":""},{"$f":"IF(AND(Registration!D41=\"J\",COUNTBLANK(M42)=0),RANK(M42,M$3:M$101,0),\"\")","v":""},{"$f":"IF(AND(Registration!$D41=\"J\",COUNTBLANK(N42)=0),placingpoints(N42,COUNTIF(N$3:N$101,\"=\"&N42)),\"\")","v":""},{"$f":"IF(Registration!D41=\"J\",'Fast Catch'!F41,\"\")","v":""},{"$f":"IF(AND(Registration!D41=\"J\",COUNTBLANK(P42)=0),RANK(P42,P$3:P$101,1),\"\")","v":""},{"$f":"IF(AND(Registration!$D41=\"J\",COUNTBLANK(Q42)=0),placingpoints(Q42,COUNTIF(Q$3:Q$101,\"=\"&Q42)),\"\")","v":""},{"$f":"IF(Registration!D41=\"J\",Endurance!C41,\"\")","v":""},{"$f":"IF(AND(Registration!D41=\"J\",COUNTBLANK(S42)=0),RANK(S42,S$3:S$101,0),\"\")","v":""},{"$f":"IF(AND(Registration!$D41=\"J\",COUNTBLANK(T42)=0),placingpoints(T42,COUNTIF(T$3:T$101,\"=\"&T42)),\"\")","v":""}]
[{"$f":"IF(Registration!D42=\"J\",RANK(B43,$B$3:$B$101,1),\"\")","v":""},{"$f":"IF(Registration!D42=\"J\",SUM(F43,I43,L43,O43,R43,U43),\"\")","v":""},{"$f":"IF(COUNTBLANK(Registration!B42)=1,\"\",IF(Registration!D42=\"J\",Registration!B42,\"\"))","v":""},{"$f":"IF(Registration!D42=\"J\",'Aussie Round'!V43,\"\")","v":""},{"$f":"IF(AND(Registration!D42=\"J\",COUNTBLANK(D43)=0),RANK(D43,D$3:D$101,0),\"\")","v":""},{"$f":"IF(AND(Registration!$D42=\"J\",COUNTBLANK(E43)=0),placingpoints(E43,COUNTIF(E$3:E$101,\"=\"&E43)),\"\")","v":""},{"$f":"IF(Registration!$D42=\"J\",Accuracy!L42,\"\")","v":""},{"$f":"IF(AND(Registration!$D42=\"J\",COUNTBLANK(G43)=0),RANK(G43,G$3:G$102,0),\"\")","v":""},{"$f":"IF(AND(Registration!$D42=\"J\",COUNTBLANK(H43)=0),placingpoints(H43,COUNTIF(H$3:H$102,\"=\"&H43)),\"\")","v":""},{"$f":"IF(Registration!D42=\"J\",MTA!G42,\"\")","v":""},{"$f":"IF(AND(Registration!D42=\"J\",COUNTBLANK(J43)=0),RANK(J43,J$3:J$101,0),\"\")","v":""},{"$f":"IF(AND(Registration!$D42=\"J\",COUNTBLANK(K43)=0),placingpoints(K43,COUNTIF(K$3:K$101,\"=\"&K43)),\"\")","v":""},{"$f":"IF(Registration!D42=\"J\",'Trick Catch'!X43,\"\")","v":""},{"$f":"IF(AND(Registration!D42=\"J\",COUNTBLANK(M43)=0),RANK(M43,M$3:M$101,0),\"\")","v":""},{"$f":"IF(AND(Registration!$D42=\"J\",COUNTBLANK(N43)=0),placingpoints(N43,COUNTIF(N$3:N$101,\"=\"&N43)),\"\")","v":""},{"$f":"IF(Registration!D42=\"J\",'Fast Catch'!F42,\"\")","v":""},{"$f":"IF(AND(Registration!D42=\"J\",COUNTBLANK(P43)=0),RANK(P43,P$3:P$101,1),\"\")","v":""},{"$f":"IF(AND(Registration!$D42=\"J\",COUNTBLANK(Q43)=0),placingpoints(Q43,COUNTIF(Q$3:Q$101,\"=\"&Q43)),\"\")","v":""},{"$f":"IF(Registration!D42=\"J\",Endurance!C42,\"\")","v":""},{"$f":"IF(AND(Registration!D42=\"J\",COUNTBLANK(S43)=0),RANK(S43,S$3:S$101,0),\"\")","v":""},{"$f":"IF(AND(Registration!$D42=\"J\",COUNTBLANK(T43)=0),placingpoints(T43,COUNTIF(T$3:T$101,\"=\"&T43)),\"\")","v":""}]
[{"$f":"IF(Registration!D43=\"J\",RANK(B44,$B$3:$B$101,1),\"\")","v":""},{"$f":"IF(Registration!D43=\"J\",SUM(F44,I44,L44,O44,R44,U44),\"\")","v":""},{"$f":"IF(COUNTBLANK(Registration!B43)=1,\"\",IF(Registration!D43=\"J\",Registration!B43,\"\"))","v":""},{"$f":"IF(Registration!D43=\"J\",'Aussie Round'!V44,\"\")","v":""},{"$f":"IF(AND(Registration!D43=\"J\",COUNTBLANK(D44)=0),RANK(D44,D$3:D$101,0),\"\")","v":""},{"$f":"IF(AND(Registration!$D43=\"J\",COUNTBLANK(E44)=0),placingpoints(E44,COUNTIF(E$3:E$101,\"=\"&E44)),\"\")","v":""},{"$f":"IF(Registration!$D43=\"J\",Accuracy!L43,\"\")","v":""},{"$f":"IF(AND(Registration!$D43=\"J\",COUNTBLANK(G44)=0),RANK(G44,G$3:G$102,0),\"\")","v":""},{"$f":"IF(AND(Registration!$D43=\"J\",COUNTBLANK(H44)=0),placingpoints(H44,COUNTIF(H$3:H$102,\"=\"&H44)),\"\")","v":""},{"$f":"IF(Registration!D43=\"J\",MTA!G43,\"\")","v":""},{"$f":"IF(AND(Registration!D43=\"J\",COUNTBLANK(J44)=0),RANK(J44,J$3:J$101,0),\"\")","v":""},{"$f":"IF(AND(Registration!$D43=\"J\",COUNTBLANK(K44)=0),placingpoints(K44,COUNTIF(K$3:K$101,\"=\"&K44)),\"\")","v":""},{"$f":"IF(Registration!D43=\"J\",'Trick Catch'!X44,\"\")","v":""},{"$f":"IF(AND(Registration!D43=\"J\",COUNTBLANK(M44)=0),RANK(M44,M$3:M$101,0),\"\")","v":""},{"$f":"IF(AND(Registration!$D43=\"J\",COUNTBLANK(N44)=0),placingpoints(N44,COUNTIF(N$3:N$101,\"=\"&N44)),\"\")","v":""},{"$f":"IF(Registration!D43=\"J\",'Fast Catch'!F43,\"\")","v":""},{"$f":"IF(AND(Registration!D43=\"J\",COUNTBLANK(P44)=0),RANK(P44,P$3:P$101,1),\"\")","v":""},{"$f":"IF(AND(Registration!$D43=\"J\",COUNTBLANK(Q44)=0),placingpoints(Q44,COUNTIF(Q$3:Q$101,\"=\"&Q44)),\"\")","v":""},{"$f":"IF(Registration!D43=\"J\",Endurance!C43,\"\")","v":""},{"$f":"IF(AND(Registration!D43=\"J\",COUNTBLANK(S44)=0),RANK(S44,S$3:S$101,0),\"\")","v":""},{"$f":"IF(AND(Registration!$D43=\"J\",COUNTBLANK(T44)=0),placingpoints(T44,COUNTIF(T$3:T$101,\"=\"&T44)),\"\")","v":""}]
[{"$f":"IF(Registration!D44=\"J\",RANK(B45,$B$3:$B$101,1),\"\")","v":""},{"$f":"IF(Registration!D44=\"J\",SUM(F45,I45,L45,O45,R45,U45),\"\")","v":""},{"$f":"IF(COUNTBLANK(Registration!B44)=1,\"\",IF(Registration!D44=\"J\",Registration!B44,\"\"))","v":""},{"$f":"IF(Registration!D44=\"J\",'Aussie Round'!V45,\"\")","v":""},{"$f":"IF(AND(Registration!D44=\"J\",COUNTBLANK(D45)=0),RANK(D45,D$3:D$101,0),\"\")","v":""},{"$f":"IF(AND(Registration!$D44=\"J\",COUNTBLANK(E45)=0),placingpoints(E45,COUNTIF(E$3:E$101,\"=\"&E45)),\"\")","v":""},{"$f":"IF(Registration!$D44=\"J\",Accuracy!L44,\"\")","v":""},{"$f":"IF(AND(Registration!$D44=\"J\",COUNTBLANK(G45)=0),RANK(G45,G$3:G$102,0),\"\")","v":""},{"$f":"IF(AND(Registration!$D44=\"J\",COUNTBLANK(H45)=0),placingpoints(H45,COUNTIF(H$3:H$102,\"=\"&H45)),\"\")","v":""},{"$f":"IF(Registration!D44=\"J\",MTA!G44,\"\")","v":""},{"$f":"IF(AND(Registration!D44=\"J\",COUNTBLANK(J45)=0),RANK(J45,J$3:J$101,0),\"\")","v":""},{"$f":"IF(AND(Registration!$D44=\"J\",COUNTBLANK(K45)=0),placingpoints(K45,COUNTIF(K$3:K$101,\"=\"&K45)),\"\")","v":""},{"$f":"IF(Registration!D44=\"J\",'Trick Catch'!X45,\"\")","v":""},{"$f":"IF(AND(Registration!D44=\"J\",COUNTBLANK(M45)=0),RANK(M45,M$3:M$101,0),\"\")","v":""},{"$f":"IF(AND(Registration!$D44=\"J\",COUNTBLANK(N45)=0),placingpoints(N45,COUNTIF(N$3:N$101,\"=\"&N45)),\"\")","v":""},{"$f":"IF(Registration!D44=\"J\",'Fast Catch'!F44,\"\")","v":""},{"$f":"IF(AND(Registration!D44=\"J\",COUNTBLANK(P45)=0),RANK(P45,P$3:P$101,1),\"\")","v":""},{"$f":"IF(AND(Registration!$D44=\"J\",COUNTBLANK(Q45)=0),placingpoints(Q45,COUNTIF(Q$3:Q$101,\"=\"&Q45)),\"\")","v":""},{"$f":"IF(Registration!D44=\"J\",Endurance!C44,\"\")","v":""},{"$f":"IF(AND(Registration!D44=\"J\",COUNTBLANK(S45)=0),RANK(S45,S$3:S$101,0),\"\")","v":""},{"$f":"IF(AND(Registration!$D44=\"J\",COUNTBLANK(T45)=0),placingpoints(T45,COUNTIF(T$3:T$101,\"=\"&T45)),\"\")","v":""}]
[{"$f":"IF(Registration!D45=\"J\",RANK(B46,$B$3:$B$101,1),\"\")","v":""},{"$f":"IF(Registration!D45=\"J\",SUM(F46,I46,L46,O46,R46,U46),\"\")","v":""},{"$f":"IF(COUNTBLANK(Registration!B45)=1,\"\",IF(Registration!D45=\"J\",Registration!B45,\"\"))","v":""},{"$f":"IF(Registration!D45=\"J\",'Aussie Round'!V46,\"\")","v":""},{"$f":"IF(AND(Registration!D45=\"J\",COUNTBLANK(D46)=0),RANK(D46,D$3:D$101,0),\"\")","v":""},{"$f":"IF(AND(Registration!$D45=\"J\",COUNTBLANK(E46)=0),placingpoints(E46,COUNTIF(E$3:E$101,\"=\"&E46)),\"\")","v":""},{"$f":"IF(Registration!$D45=\"J\",Accuracy!L45,\"\")","v":""},{"$f":"IF(AND(Registration!$D45=\"J\",COUNTBLANK(G46)=0),RANK(G46,G$3:G$102,0),\"\")","v":""},{"$f":"IF(AND(Registration!$D45=\"J\",COUNTBLANK(H46)=0),placingpoints(H46,COUNTIF(H$3:H$102,\"=\"&H46)),\"\")","v":""},{"$f":"IF(Registration!D45=\"J\",MTA!G45,\"\")","v":""},{"$f":"IF(AND(Registration!D45=\"J\",COUNTBLANK(J46)=0),RANK(J46,J$3:J$101,0),\"\")","v":""},{"$f":"IF(AND(Registration!$D45=\"J\",COUNTBLANK(K46)=0),placingpoints(K46,COUNTIF(K$3:K$101,\"=\"&K46)),\"\")","v":""},{"$f":"IF(Registration!D45=\"J\",'Trick Catch'!X46,\"\")","v":""},{"$f":"IF(AND(Registration!D45=\"J\",COUNTBLANK(M46)=0),RANK(M46,M$3:M$101,0),\"\")","v":""},{"$f":"IF(AND(Registration!$D45=\"J\",COUNTBLANK(N46)=0),placingpoints(N46,COUNTIF(N$3:N$101,\"=\"&N46)),\"\")","v":""},{"$f":"IF(Registration!D45=\"J\",'Fast Catch'!F45,\"\")","v":""},{"$f":"IF(AND(Registration!D45=\"J\",COUNTBLANK(P46)=0),RANK(P46,P$3:P$101,1),\"\")","v":""},{"$f":"IF(AND(Registration!$D45=\"J\",COUNTBLANK(Q46)=0),placingpoints(Q46,COUNTIF(Q$3:Q$101,\"=\"&Q46)),\"\")","v":""},{"$f":"IF(Registration!D45=\"J\",Endurance!C45,\"\")","v":""},{"$f":"IF(AND(Registration!D45=\"J\",COUNTBLANK(S46)=0),RANK(S46,S$3:S$101,0),\"\")","v":""},{"$f":"IF(AND(Registration!$D45=\"J\",COUNTBLANK(T46)=0),placingpoints(T46,COUNTIF(T$3:T$101,\"=\"&T46)),\"\")","v":""}]
[{"$f":"IF(Registration!D46=\"J\",RANK(B47,$B$3:$B$101,1),\"\")","v":""},{"$f":"IF(Registration!D46=\"J\",SUM(F47,I47,L47,O47,R47,U47),\"\")","v":""},{"$f":"IF(COUNTBLANK(Registration!B46)=1,\"\",IF(Registration!D46=\"J\",Registration!B46,\"\"))","v":""},{"$f":"IF(Registration!D46=\"J\",'Aussie Round'!V47,\"\")","v":""},{"$f":"IF(AND(Registration!D46=\"J\",COUNTBLANK(D47)=0),RANK(D47,D$3:D$101,0),\"\")","v":""},{"$f":"IF(AND(Registration!$D46=\"J\",COUNTBLANK(E47)=0),placingpoints(E47,COUNTIF(E$3:E$101,\"=\"&E47)),\"\")","v":""},{"$f":"IF(Registration!$D46=\"J\",Accuracy!L46,\"\")","v":""},{"$f":"IF(AND(Registration!$D46=\"J\",COUNTBLANK(G47)=0),RANK(G47,G$3:G$102,0),\"\")","v":""},{"$f":"IF(AND(Registration!$D46=\"J\",COUNTBLANK(H47)=0),placingpoints(H47,COUNTIF(H$3:H$102,\"=\"&H47)),\"\")","v":""},{"$f":"IF(Registration!D46=\"J\",MTA!G46,\"\")","v":""},{"$f":"IF(AND(Registration!D46=\"J\",COUNTBLANK(J47)=0),RANK(J47,J$3:J$101,0),\"\")","v":""},{"$f":"IF(AND(Registration!$D46=\"J\",COUNTBLANK(K47)=0),placingpoints(K47,COUNTIF(K$3:K$101,\"=\"&K47)),\"\")","v":""},{"$f":"IF(Registration!D46=\"J\",'Trick Catch'!X47,\"\")","v":""},{"$f":"IF(AND(Registration!D46=\"J\",COUNTBLANK(M47)=0),RANK(M47,M$3:M$101,0),\"\")","v":""},{"$f":"IF(AND(Registration!$D46=\"J\",COUNTBLANK(N47)=0),placingpoints(N47,COUNTIF(N$3:N$101,\"=\"&N47)),\"\")","v":""},{"$f":"IF(Registration!D46=\"J\",'Fast Catch'!F46,\"\")","v":""},{"$f":"IF(AND(Registration!D46=\"J\",COUNTBLANK(P47)=0),RANK(P47,P$3:P$101,1),\"\")","v":""},{"$f":"IF(AND(Registration!$D46=\"J\",COUNTBLANK(Q47)=0),placingpoints(Q47,COUNTIF(Q$3:Q$101,\"=\"&Q47)),\"\")","v":""},{"$f":"IF(Registration!D46=\"J\",Endurance!C46,\"\")","v":""},{"$f":"IF(AND(Registration!D46=\"J\",COUNTBLANK(S47)=0),RANK(S47,S$3:S$101,0),\"\")","v":""},{"$f":"IF(AND(Registration!$D46=\"J\",COUNTBLANK(T47)=0),placingpoints(T47,COUNTIF(T$3:T$101,\"=\"&T47)),\"\")","v":""}]
[{"$f":"IF(Registration!D47=\"J\",RANK(B48,$B$3:$B$101,1),\"\")","v":""},{"$f":"IF(Registration!D47=\"J\",SUM(F48,I48,L48,O48,R48,U48),\"\")","v":""},{"$f":"IF(COUNTBLANK(Registration!B47)=1,\"\",IF(Registration!D47=\"J\",Registration!B47,\"\"))","v":""},{"$f":"IF(Registration!D47=\"J\",'Aussie Round'!V48,\"\")","v":""},{"$f":"IF(AND(Registration!D47=\"J\",COUNTBLANK(D48)=0),RANK(D48,D$3:D$101,0),\"\")","v":""},{"$f":"IF(AND(Registration!$D47=\"J\",COUNTBLANK(E48)=0),placingpoints(E48,COUNTIF(E$3:E$101,\"=\"&E48)),\"\")","v":""},{"$f":"IF(Registration!$D47=\"J\",Accuracy!L47,\"\")","v":""},{"$f":"IF(AND(Registration!$D47=\"J\",COUNTBLANK(G48)=0),RANK(G48,G$3:G$102,0),\"\")","v":""},{"$f":"IF(AND(Registration!$D47=\"J\",COUNTBLANK(H48)=0),placingpoints(H48,COUNTIF(H$3:H$102,\"=\"&H48)),\"\")","v":""},{"$f":"IF(Registration!D47=\"J\",MTA!G47,\"\")","v":""},{"$f":"IF(AND(Registration!D47=\"J\",COUNTBLANK(J48)=0),RANK(J48,J$3:J$101,0),\"\")","v":""},{"$f":"IF(AND(Registration!$D47=\"J\",COUNTBLANK(K48)=0),placingpoints(K48,COUNTIF(K$3:K$101,\"=\"&K48)),\"\")","v":""},{"$f":"IF(Registration!D47=\"J\",'Trick Catch'!X48,\"\")","v":""},{"$f":"IF(AND(Registration!D47=\"J\",COUNTBLANK(M48)=0),RANK(M48,M$3:M$101,0),\"\")","v":""},{"$f":"IF(AND(Registration!$D47=\"J\",COUNTBLANK(N48)=0),placingpoints(N48,COUNTIF(N$3:N$101,\"=\"&N48)),\"\")","v":""},{"$f":"IF(Registration!D47=\"J\",'Fast Catch'!F47,\"\")","v":""},{"$f":"IF(AND(Registration!D47=\"J\",COUNTBLANK(P48)=0),RANK(P48,P$3:P$101,1),\"\")","v":""},{"$f":"IF(AND(Registration!$D47=\"J\",COUNTBLANK(Q48)=0),placingpoints(Q48,COUNTIF(Q$3:Q$101,\"=\"&Q48)),\"\")","v":""},{"$f":"IF(Registration!D47=\"J\",Endurance!C47,\"\")","v":""},{"$f":"IF(AND(Registration!D47=\"J\",COUNTBLANK(S48)=0),RANK(S48,S$3:S$101,0),\"\")","v":""},{"$f":"IF(AND(Registration!$D47=\"J\",COUNTBLANK(T48)=0),placingpoints(T48,COUNTIF(T$3:T$101,\"=\"&T48)),\"\")","v":""}]
[{"$f":"IF(Registration!D48=\"J\",RANK(B49,$B$3:$B$101,1),\"\")","v":""},{"$f":"IF(Registration!D48=\"J\",SUM(F49,I49,L49,O49,R49,U49),\"\")","v":""},{"$f":"IF(COUNTBLANK(Registration!B48)=1,\"\",IF(Registration!D48=\"J\",Registration!B48,\"\"))","v":""},{"$f":"IF(Registration!D48=\"J\",'Aussie Round'!V49,\"\")","v":""},{"$f":"IF(AND(Registration!D48=\"J\",COUNTBLANK(D49)=0),RANK(D49,D$3:D$101,0),\"\")","v":""},{"$f":"IF(AND(Registration!$D48=\"J\",COUNTBLANK(E49)=0),placingpoints(E49,COUNTIF(E$3:E$101,\"=\"&E49)),\"\")","v":""},{"$f":"IF(Registration!$D48=\"J\",Accuracy!L48,\"\")","v":""},{"$f":"IF(AND(Registration!$D48=\"J\",COUNTBLANK(G49)=0),RANK(G49,G$3:G$102,0),\"\")","v":""},{"$f":"IF(AND(Registration!$D48=\"J\",COUNTBLANK(H49)=0),placingpoints(H49,COUNTIF(H$3:H$102,\"=\"&H49)),\"\")","v":""},{"$f":"IF(Registration!D48=\"J\",MTA!G48,\"\")","v":""},{"$f":"IF(AND(Registration!D48=\"J\",COUNTBLANK(J49)=0),RANK(J49,J$3:J$101,0),\"\")","v":""},{"$f":"IF(AND(Registration!$D48=\"J\",COUNTBLANK(K49)=0),placingpoints(K49,COUNTIF(K$3:K$101,\"=\"&K49)),\"\")","v":""},{"$f":"IF(Registration!D48=\"J\",'Trick Catch'!X49,\"\")","v":""},{"$f":"IF(AND(Registration!D48=\"J\",COUNTBLANK(M49)=0),RANK(M49,M$3:M$101,0),\"\")","v":""},{"$f":"IF(AND(Registration!$D48=\"J\",COUNTBLANK(N49)=0),placingpoints(N49,COUNTIF(N$3:N$101,\"=\"&N49)),\"\")","v":""},{"$f":"IF(Registration!D48=\"J\",'Fast Catch'!F48,\"\")","v":""},{"$f":"IF(AND(Registration!D48=\"J\",COUNTBLANK(P49)=0),RANK(P49,P$3:P$101,1),\"\")","v":""},{"$f":"IF(AND(Registration!$D48=\"J\",COUNTBLANK(Q49)=0),placingpoints(Q49,COUNTIF(Q$3:Q$101,\"=\"&Q49)),\"\")","v":""},{"$f":"IF(Registration!D48=\"J\",Endurance!C48,\"\")","v":""},{"$f":"IF(AND(Registration!D48=\"J\",COUNTBLANK(S49)=0),RANK(S49,S$3:S$101,0),\"\")","v":""},{"$f":"IF(AND(Registration!$D48=\"J\",COUNTBLANK(T49)=0),placingpoints(T49,COUNTIF(T$3:T$101,\"=\"&T49)),\"\")","v":""}]
[{"$f":"IF(Registration!D49=\"J\",RANK(B50,$B$3:$B$101,1),\"\")","v":""},{"$f":"IF(Registration!D49=\"J\",SUM(F50,I50,L50,O50,R50,U50),\"\")","v":""},{"$f":"IF(COUNTBLANK(Registration!B49)=1,\"\",IF(Registration!D49=\"J\",Registration!B49,\"\"))","v":""},{"$f":"IF(Registration!D49=\"J\",'Aussie Round'!V50,\"\")","v":""},{"$f":"IF(AND(Registration!D49=\"J\",COUNTBLANK(D50)=0),RANK(D50,D$3:D$101,0),\"\")","v":""},{"$f":"IF(AND(Registration!$D49=\"J\",COUNTBLANK(E50)=0),placingpoints(E50,COUNTIF(E$3:E$101,\"=\"&E50)),\"\")","v":""},{"$f":"IF(Registration!$D49=\"J\",Accuracy!L49,\"\")","v":""},{"$f":"IF(AND(Registration!$D49=\"J\",COUNTBLANK(G50)=0),RANK(G50,G$3:G$102,0),\"\")","v":""},{"$f":"IF(AND(Registration!$D49=\"J\",COUNTBLANK(H50)=0),placingpoints(H50,COUNTIF(H$3:H$102,\"=\"&H50)),\"\")","v":""},{"$f":"IF(Registration!D49=\"J\",MTA!G49,\"\")","v":""},{"$f":"IF(AND(Registration!D49=\"J\",COUNTBLANK(J50)=0),RANK(J50,J$3:J$101,0),\"\")","v":""},{"$f":"IF(AND(Registration!$D49=\"J\",COUNTBLANK(K50)=0),placingpoints(K50,COUNTIF(K$3:K$101,\"=\"&K50)),\"\")","v":""},{"$f":"IF(Registration!D49=\"J\",'Trick Catch'!X50,\"\")","v":""},{"$f":"IF(AND(Registration!D49=\"J\",COUNTBLANK(M50)=0),RANK(M50,M$3:M$101,0),\"\")","v":""},{"$f":"IF(AND(Registration!$D49=\"J\",COUNTBLANK(N50)=0),placingpoints(N50,COUNTIF(N$3:N$101,\"=\"&N50)),\"\")","v":""},{"$f":"IF(Registration!D49=\"J\",'Fast Catch'!F49,\"\")","v":""},{"$f":"IF(AND(Registration!D49=\"J\",COUNTBLANK(P50)=0),RANK(P50,P$3:P$101,1),\"\")","v":""},{"$f":"IF(AND(Registration!$D49=\"J\",COUNTBLANK(Q50)=0),placingpoints(Q50,COUNTIF(Q$3:Q$101,\"=\"&Q50)),\"\")","v":""},{"$f":"IF(Registration!D49=\"J\",Endurance!C49,\"\")","v":""},{"$f":"IF(AND(Registration!D49=\"J\",COUNTBLANK(S50)=0),RANK(S50,S$3:S$101,0),\"\")","v":""},{"$f":"IF(AND(Registration!$D49=\"J\",COUNTBLANK(T50)=0),placingpoints(T50,COUNTIF(T$3:T$101,\"=\"&T50)),\"\")","v":""}]
[{"$f":"IF(Registration!D50=\"J\",RANK(B51,$B$3:$B$101,1),\"\")","v":""},{"$f":"IF(Registration!D50=\"J\",SUM(F51,I51,L51,O51,R51,U51),\"\")","v":""},{"$f":"IF(COUNTBLANK(Registration!B50)=1,\"\",IF(Registration!D50=\"J\",Registration!B50,\"\"))","v":""},{"$f":"IF(Registration!D50=\"J\",'Aussie Round'!V51,\"\")","v":""},{"$f":"IF(AND(Registration!D50=\"J\",COUNTBLANK(D51)=0),RANK(D51,D$3:D$101,0),\"\")","v":""},{"$f":"IF(AND(Registration!$D50=\"J\",COUNTBLANK(E51)=0),placingpoints(E51,COUNTIF(E$3:E$101,\"=\"&E51)),\"\")","v":""},{"$f":"IF(Registration!$D50=\"J\",Accuracy!L50,\"\")","v":""},{"$f":"IF(AND(Registration!$D50=\"J\",COUNTBLANK(G51)=0),RANK(G51,G$3:G$102,0),\"\")","v":""},{"$f":"IF(AND(Registration!$D50=\"J\",COUNTBLANK(H51)=0),placingpoints(H51,COUNTIF(H$3:H$102,\"=\"&H51)),\"\")","v":""},{"$f":"IF(Registration!D50=\"J\",MTA!G50,\"\")","v":""},{"$f":"IF(AND(Registration!D50=\"J\",COUNTBLANK(J51)=0),RANK(J51,J$3:J$101,0),\"\")","v":""},{"$f":"IF(AND(Registration!$D50=\"J\",COUNTBLANK(K51)=0),placingpoints(K51,COUNTIF(K$3:K$101,\"=\"&K51)),\"\")","v":""},{"$f":"IF(Registration!D50=\"J\",'Trick Catch'!X51,\"\")","v":""},{"$f":"IF(AND(Registration!D50=\"J\",COUNTBLANK(M51)=0),RANK(M51,M$3:M$101,0),\"\")","v":""},{"$f":"IF(AND(Registration!$D50=\"J\",COUNTBLANK(N51)=0),placingpoints(N51,COUNTIF(N$3:N$101,\"=\"&N51)),\"\")","v":""},{"$f":"IF(Registration!D50=\"J\",'Fast Catch'!F50,\"\")","v":""},{"$f":"IF(AND(Registration!D50=\"J\",COUNTBLANK(P51)=0),RANK(P51,P$3:P$101,1),\"\")","v":""},{"$f":"IF(AND(Registration!$D50=\"J\",COUNTBLANK(Q51)=0),placingpoints(Q51,COUNTIF(Q$3:Q$101,\"=\"&Q51)),\"\")","v":""},{"$f":"IF(Registration!D50=\"J\",Endurance!C50,\"\")","v":""},{"$f":"IF(AND(Registration!D50=\"J\",COUNTBLANK(S51)=0),RANK(S51,S$3:S$101,0),\"\")","v":""},{"$f":"IF(AND(Registration!$D50=\"J\",COUNTBLANK(T51)=0),placingpoints(T51,COUNTIF(T$3:T$101,\"=\"&T51)),\"\")","v":""}]
[{"$f":"IF(Registration!D51=\"J\",RANK(B52,$B$3:$B$101,1),\"\")","v":""},{"$f":"IF(Registration!D51=\"J\",SUM(F52,I52,L52,O52,R52,U52),\"\")","v":""},{"$f":"IF(COUNTBLANK(Registration!B51)=1,\"\",IF(Registration!D51=\"J\",Registration!B51,\"\"))","v":""},{"$f":"IF(Registration!D51=\"J\",'Aussie Round'!V52,\"\")","v":""},{"$f":"IF(AND(Registration!D51=\"J\",COUNTBLANK(D52)=0),RANK(D52,D$3:D$101,0),\"\")","v":""},{"$f":"IF(AND(Registration!$D51=\"J\",COUNTBLANK(E52)=0),placingpoints(E52,COUNTIF(E$3:E$101,\"=\"&E52)),\"\")","v":""},{"$f":"IF(Registration!$D51=\"J\",Accuracy!L51,\"\")","v":""},{"$f":"IF(AND(Registration!$D51=\"J\",COUNTBLANK(G52)=0),RANK(G52,G$3:G$102,0),\"\")","v":""},{"$f":"IF(AND(Registration!$D51=\"J\",COUNTBLANK(H52)=0),placingpoints(H52,COUNTIF(H$3:H$102,\"=\"&H52)),\"\")","v":""},{"$f":"IF(Registration!D51=\"J\",MTA!G51,\"\")","v":""},{"$f":"IF(AND(Registration!D51=\"J\",COUNTBLANK(J52)=0),RANK(J52,J$3:J$101,0),\"\")","v":""},{"$f":"IF(AND(Registration!$D51=\"J\",COUNTBLANK(K52)=0),placingpoints(K52,COUNTIF(K$3:K$101,\"=\"&K52)),\"\")","v":""},{"$f":"IF(Registration!D51=\"J\",'Trick Catch'!X52,\"\")","v":""},{"$f":"IF(AND(Registration!D51=\"J\",COUNTBLANK(M52)=0),RANK(M52,M$3:M$101,0),\"\")","v":""},{"$f":"IF(AND(Registration!$D51=\"J\",COUNTBLANK(N52)=0),placingpoints(N52,COUNTIF(N$3:N$101,\"=\"&N52)),\"\")","v":""},{"$f":"IF(Registration!D51=\"J\",'Fast Catch'!F51,\"\")","v":""},{"$f":"IF(AND(Registration!D51=\"J\",COUNTBLANK(P52)=0),RANK(P52,P$3:P$101,1),\"\")","v":""},{"$f":"IF(AND(Registration!$D51=\"J\",COUNTBLANK(Q52)=0),placingpoints(Q52,COUNTIF(Q$3:Q$101,\"=\"&Q52)),\"\")","v":""},{"$f":"IF(Registration!D51=\"J\",Endurance!C51,\"\")","v":""},{"$f":"IF(AND(Registration!D51=\"J\",COUNTBLANK(S52)=0),RANK(S52,S$3:S$101,0),\"\")","v":""},{"$f":"IF(AND(Registration!$D51=\"J\",COUNTBLANK(T52)=0),placingpoints(T52,COUNTIF(T$3:T$101,\"=\"&T52)),\"\")","v":""}]
[{"$f":"IF(Registration!D52=\"J\",RANK(B53,$B$3:$B$101,1),\"\")","v":""},{"$f":"IF(Registration!D52=\"J\",SUM(F53,I53,L53,O53,R53,U53),\"\")","v":""},{"$f":"IF(COUNTBLANK(Registration!B52)=1,\"\",IF(Registration!D52=\"J\",Registration!B52,\"\"))","v":""},{"$f":"IF(Registration!D52=\"J\",'Aussie Round'!V53,\"\")","v":""},{"$f":"IF(AND(Registration!D52=\"J\",COUNTBLANK(D53)=0),RANK(D53,D$3:D$101,0),\"\")","v":""},{"$f":"IF(AND(Registration!$D52=\"J\",COUNTBLANK(E53)=0),placingpoints(E53,COUNTIF(E$3:E$101,\"=\"&E53)),\"\")","v":""},{"$f":"IF(Registration!$D52=\"J\",Accuracy!L52,\"\")","v":""},{"$f":"IF(AND(Registration!$D52=\"J\",COUNTBLANK(G53)=0),RANK(G53,G$3:G$102,0),\"\")","v":""},{"$f":"IF(AND(Registration!$D52=\"J\",COUNTBLANK(H53)=0),placingpoints(H53,COUNTIF(H$3:H$102,\"=\"&H53)),\"\")","v":""},{"$f":"IF(Registration!D52=\"J\",MTA!G52,\"\")","v":""},{"$f":"IF(AND(Registration!D52=\"J\",COUNTBLANK(J53)=0),RANK(J53,J$3:J$101,0),\"\")","v":""},{"$f":"IF(AND(Registration!$D52=\"J\",COUNTBLANK(K53)=0),placingpoints(K53,COUNTIF(K$3:K$101,\"=\"&K53)),\"\")","v":""},{"$f":"IF(Registration!D52=\"J\",'Trick Catch'!X53,\"\")","v":""},{"$f":"IF(AND(Registration!D52=\"J\",COUNTBLANK(M53)=0),RANK(M53,M$3:M$101,0),\"\")","v":""},{"$f":"IF(AND(Registration!$D52=\"J\",COUNTBLANK(N53)=0),placingpoints(N53,COUNTIF(N$3:N$101,\"=\"&N53)),\"\")","v":""},{"$f":"IF(Registration!D52=\"J\",'Fast Catch'!F52,\"\")","v":""},{"$f":"IF(AND(Registration!D52=\"J\",COUNTBLANK(P53)=0),RANK(P53,P$3:P$101,1),\"\")","v":""},{"$f":"IF(AND(Registration!$D52=\"J\",COUNTBLANK(Q53)=0),placingpoints(Q53,COUNTIF(Q$3:Q$101,\"=\"&Q53)),\"\")","v":""},{"$f":"IF(Registration!D52=\"J\",Endurance!C52,\"\")","v":""},{"$f":"IF(AND(Registration!D52=\"J\",COUNTBLANK(S53)=0),RANK(S53,S$3:S$101,0),\"\")","v":""},{"$f":"IF(AND(Registration!$D52=\"J\",COUNTBLANK(T53)=0),placingpoints(T53,COUNTIF(T$3:T$101,\"=\"&T53)),\"\")","v":""}]
[{"$f":"IF(Registration!D53=\"J\",RANK(B54,$B$3:$B$101,1),\"\")","v":""},{"$f":"IF(Registration!D53=\"J\",SUM(F54,I54,L54,O54,R54,U54),\"\")","v":""},{"$f":"IF(COUNTBLANK(Registration!B53)=1,\"\",IF(Registration!D53=\"J\",Registration!B53,\"\"))","v":""},{"$f":"IF(Registration!D53=\"J\",'Aussie Round'!V54,\"\")","v":""},{"$f":"IF(AND(Registration!D53=\"J\",COUNTBLANK(D54)=0),RANK(D54,D$3:D$101,0),\"\")","v":""},{"$f":"IF(AND(Registration!$D53=\"J\",COUNTBLANK(E54)=0),placingpoints(E54,COUNTIF(E$3:E$101,\"=\"&E54)),\"\")","v":""},{"$f":"IF(Registration!$D53=\"J\",Accuracy!L53,\"\")","v":""},{"$f":"IF(AND(Registration!$D53=\"J\",COUNTBLANK(G54)=0),RANK(G54,G$3:G$102,0),\"\")","v":""},{"$f":"IF(AND(Registration!$D53=\"J\",COUNTBLANK(H54)=0),placingpoints(H54,COUNTIF(H$3:H$102,\"=\"&H54)),\"\")","v":""},{"$f":"IF(Registration!D53=\"J\",MTA!G53,\"\")","v":""},{"$f":"IF(AND(Registration!D53=\"J\",COUNTBLANK(J54)=0),RANK(J54,J$3:J$101,0),\"\")","v":""},{"$f":"IF(AND(Registration!$D53=\"J\",COUNTBLANK(K54)=0),placingpoints(K54,COUNTIF(K$3:K$101,\"=\"&K54)),\"\")","v":""},{"$f":"IF(Registration!D53=\"J\",'Trick Catch'!X54,\"\")","v":""},{"$f":"IF(AND(Registration!D53=\"J\",COUNTBLANK(M54)=0),RANK(M54,M$3:M$101,0),\"\")","v":""},{"$f":"IF(AND(Registration!$D53=\"J\",COUNTBLANK(N54)=0),placingpoints(N54,COUNTIF(N$3:N$101,\"=\"&N54)),\"\")","v":""},{"$f":"IF(Registration!D53=\"J\",'Fast Catch'!F53,\"\")","v":""},{"$f":"IF(AND(Registration!D53=\"J\",COUNTBLANK(P54)=0),RANK(P54,P$3:P$101,1),\"\")","v":""},{"$f":"IF(AND(Registration!$D53=\"J\",COUNTBLANK(Q54)=0),placingpoints(Q54,COUNTIF(Q$3:Q$101,\"=\"&Q54)),\"\")","v":""},{"$f":"IF(Registration!D53=\"J\",Endurance!C53,\"\")","v":""},{"$f":"IF(AND(Registration!D53=\"J\",COUNTBLANK(S54)=0),RANK(S54,S$3:S$101,0),\"\")","v":""},{"$f":"IF(AND(Registration!$D53=\"J\",COUNTBLANK(T54)=0),placingpoints(T54,COUNTIF(T$3:T$101,\"=\"&T54)),\"\")","v":""}]
[{"$f":"IF(Registration!D54=\"J\",RANK(B55,$B$3:$B$101,1),\"\")","v":""},{"$f":"IF(Registration!D54=\"J\",SUM(F55,I55,L55,O55,R55,U55),\"\")","v":""},{"$f":"IF(COUNTBLANK(Registration!B54)=1,\"\",IF(Registration!D54=\"J\",Registration!B54,\"\"))","v":""},{"$f":"IF(Registration!D54=\"J\",'Aussie Round'!V55,\"\")","v":""},{"$f":"IF(AND(Registration!D54=\"J\",COUNTBLANK(D55)=0),RANK(D55,D$3:D$101,0),\"\")","v":""},{"$f":"IF(AND(Registration!$D54=\"J\",COUNTBLANK(E55)=0),placingpoints(E55,COUNTIF(E$3:E$101,\"=\"&E55)),\"\")","v":""},{"$f":"IF(Registration!$D54=\"J\",Accuracy!L54,\"\")","v":""},{"$f":"IF(AND(Registration!$D54=\"J\",COUNTBLANK(G55)=0),RANK(G55,G$3:G$102,0),\"\")","v":""},{"$f":"IF(AND(Registration!$D54=\"J\",COUNTBLANK(H55)=0),placingpoints(H55,COUNTIF(H$3:H$102,\"=\"&H55)),\"\")","v":""},{"$f":"IF(Registration!D54=\"J\",MTA!G54,\"\")","v":""},{"$f":"IF(AND(Registration!D54=\"J\",COUNTBLANK(J55)=0),RANK(J55,J$3:J$101,0),\"\")","v":""},{"$f":"IF(AND(Registration!$D54=\"J\",COUNTBLANK(K55)=0),placingpoints(K55,COUNTIF(K$3:K$101,\"=\"&K55)),\"\")","v":""},{"$f":"IF(Registration!D54=\"J\",'Trick Catch'!X55,\"\")","v":""},{"$f":"IF(AND(Registration!D54=\"J\",COUNTBLANK(M55)=0),RANK(M55,M$3:M$101,0),\"\")","v":""},{"$f":"IF(AND(Registration!$D54=\"J\",COUNTBLANK(N55)=0),placingpoints(N55,COUNTIF(N$3:N$101,\"=\"&N55)),\"\")","v":""},{"$f":"IF(Registration!D54=\"J\",'Fast Catch'!F54,\"\")","v":""},{"$f":"IF(AND(Registration!D54=\"J\",COUNTBLANK(P55)=0),RANK(P55,P$3:P$101,1),\"\")","v":""},{"$f":"IF(AND(Registration!$D54=\"J\",COUNTBLANK(Q55)=0),placingpoints(Q55,COUNTIF(Q$3:Q$101,\"=\"&Q55)),\"\")","v":""},{"$f":"IF(Registration!D54=\"J\",Endurance!C54,\"\")","v":""},{"$f":"IF(AND(Registration!D54=\"J\",COUNTBLANK(S55)=0),RANK(S55,S$3:S$101,0),\"\")","v":""},{"$f":"IF(AND(Registration!$D54=\"J\",COUNTBLANK(T55)=0),placingpoints(T55,COUNTIF(T$3:T$101,\"=\"&T55)),\"\")","v":""}]
[{"$f":"IF(Registration!D55=\"J\",RANK(B56,$B$3:$B$101,1),\"\")","v":""},{"$f":"IF(Registration!D55=\"J\",SUM(F56,I56,L56,O56,R56,U56),\"\")","v":""},{"$f":"IF(COUNTBLANK(Registration!B55)=1,\"\",IF(Registration!D55=\"J\",Registration!B55,\"\"))","v":""},{"$f":"IF(Registration!D55=\"J\",'Aussie Round'!V56,\"\")","v":""},{"$f":"IF(AND(Registration!D55=\"J\",COUNTBLANK(D56)=0),RANK(D56,D$3:D$101,0),\"\")","v":""},{"$f":"IF(AND(Registration!$D55=\"J\",COUNTBLANK(E56)=0),placingpoints(E56,COUNTIF(E$3:E$101,\"=\"&E56)),\"\")","v":""},{"$f":"IF(Registration!$D55=\"J\",Accuracy!L55,\"\")","v":""},{"$f":"IF(AND(Registration!$D55=\"J\",COUNTBLANK(G56)=0),RANK(G56,G$3:G$102,0),\"\")","v":""},{"$f":"IF(AND(Registration!$D55=\"J\",COUNTBLANK(H56)=0),placingpoints(H56,COUNTIF(H$3:H$102,\"=\"&H56)),\"\")","v":""},{"$f":"IF(Registration!D55=\"J\",MTA!G55,\"\")","v":""},{"$f":"IF(AND(Registration!D55=\"J\",COUNTBLANK(J56)=0),RANK(J56,J$3:J$101,0),\"\")","v":""},{"$f":"IF(AND(Registration!$D55=\"J\",COUNTBLANK(K56)=0),placingpoints(K56,COUNTIF(K$3:K$101,\"=\"&K56)),\"\")","v":""},{"$f":"IF(Registration!D55=\"J\",'Trick Catch'!X56,\"\")","v":""},{"$f":"IF(AND(Registration!D55=\"J\",COUNTBLANK(M56)=0),RANK(M56,M$3:M$101,0),\"\")","v":""},{"$f":"IF(AND(Registration!$D55=\"J\",COUNTBLANK(N56)=0),placingpoints(N56,COUNTIF(N$3:N$101,\"=\"&N56)),\"\")","v":""},{"$f":"IF(Registration!D55=\"J\",'Fast Catch'!F55,\"\")","v":""},{"$f":"IF(AND(Registration!D55=\"J\",COUNTBLANK(P56)=0),RANK(P56,P$3:P$101,1),\"\")","v":""},{"$f":"IF(AND(Registration!$D55=\"J\",COUNTBLANK(Q56)=0),placingpoints(Q56,COUNTIF(Q$3:Q$101,\"=\"&Q56)),\"\")","v":""},{"$f":"IF(Registration!D55=\"J\",Endurance!C55,\"\")","v":""},{"$f":"IF(AND(Registration!D55=\"J\",COUNTBLANK(S56)=0),RANK(S56,S$3:S$101,0),\"\")","v":""},{"$f":"IF(AND(Registration!$D55=\"J\",COUNTBLANK(T56)=0),placingpoints(T56,COUNTIF(T$3:T$101,\"=\"&T56)),\"\")","v":""}]
[{"$f":"IF(Registration!D56=\"J\",RANK(B57,$B$3:$B$101,1),\"\")","v":""},{"$f":"IF(Registration!D56=\"J\",SUM(F57,I57,L57,O57,R57,U57),\"\")","v":""},{"$f":"IF(COUNTBLANK(Registration!B56)=1,\"\",IF(Registration!D56=\"J\",Registration!B56,\"\"))","v":""},{"$f":"IF(Registration!D56=\"J\",'Aussie Round'!V57,\"\")","v":""},{"$f":"IF(AND(Registration!D56=\"J\",COUNTBLANK(D57)=0),RANK(D57,D$3:D$101,0),\"\")","v":""},{"$f":"IF(AND(Registration!$D56=\"J\",COUNTBLANK(E57)=0),placingpoints(E57,COUNTIF(E$3:E$101,\"=\"&E57)),\"\")","v":""},{"$f":"IF(Registration!$D56=\"J\",Accuracy!L56,\"\")","v":""},{"$f":"IF(AND(Registration!$D56=\"J\",COUNTBLANK(G57)=0),RANK(G57,G$3:G$102,0),\"\")","v":""},{"$f":"IF(AND(Registration!$D56=\"J\",COUNTBLANK(H57)=0),placingpoints(H57,COUNTIF(H$3:H$102,\"=\"&H57)),\"\")","v":""},{"$f":"IF(Registration!D56=\"J\",MTA!G56,\"\")","v":""},{"$f":"IF(AND(Registration!D56=\"J\",COUNTBLANK(J57)=0),RANK(J57,J$3:J$101,0),\"\")","v":""},{"$f":"IF(AND(Registration!$D56=\"J\",COUNTBLANK(K57)=0),placingpoints(K57,COUNTIF(K$3:K$101,\"=\"&K57)),\"\")","v":""},{"$f":"IF(Registration!D56=\"J\",'Trick Catch'!X57,\"\")","v":""},{"$f":"IF(AND(Registration!D56=\"J\",COUNTBLANK(M57)=0),RANK(M57,M$3:M$101,0),\"\")","v":""},{"$f":"IF(AND(Registration!$D56=\"J\",COUNTBLANK(N57)=0),placingpoints(N57,COUNTIF(N$3:N$101,\"=\"&N57)),\"\")","v":""},{"$f":"IF(Registration!D56=\"J\",'Fast Catch'!F56,\"\")","v":""},{"$f":"IF(AND(Registration!D56=\"J\",COUNTBLANK(P57)=0),RANK(P57,P$3:P$101,1),\"\")","v":""},{"$f":"IF(AND(Registration!$D56=\"J\",COUNTBLANK(Q57)=0),placingpoints(Q57,COUNTIF(Q$3:Q$101,\"=\"&Q57)),\"\")","v":""},{"$f":"IF(Registration!D56=\"J\",Endurance!C56,\"\")","v":""},{"$f":"IF(AND(Registration!D56=\"J\",COUNTBLANK(S57)=0),RANK(S57,S$3:S$101,0),\"\")","v":""},{"$f":"IF(AND(Registration!$D56=\"J\",COUNTBLANK(T57)=0),placingpoints(T57,COUNTIF(T$3:T$101,\"=\"&T57)),\"\")","v":""}]
[{"$f":"IF(Registration!D57=\"J\",RANK(B58,$B$3:$B$101,1),\"\")","v":""},{"$f":"IF(Registration!D57=\"J\",SUM(F58,I58,L58,O58,R58,U58),\"\")","v":""},{"$f":"IF(COUNTBLANK(Registration!B57)=1,\"\",IF(Registration!D57=\"J\",Registration!B57,\"\"))","v":""},{"$f":"IF(Registration!D57=\"J\",'Aussie Round'!V58,\"\")","v":""},{"$f":"IF(AND(Registration!D57=\"J\",COUNTBLANK(D58)=0),RANK(D58,D$3:D$101,0),\"\")","v":""},{"$f":"IF(AND(Registration!$D57=\"J\",COUNTBLANK(E58)=0),placingpoints(E58,COUNTIF(E$3:E$101,\"=\"&E58)),\"\")","v":""},{"$f":"IF(Registration!$D57=\"J\",Accuracy!L57,\"\")","v":""},{"$f":"IF(AND(Registration!$D57=\"J\",COUNTBLANK(G58)=0),RANK(G58,G$3:G$102,0),\"\")","v":""},{"$f":"IF(AND(Registration!$D57=\"J\",COUNTBLANK(H58)=0),placingpoints(H58,COUNTIF(H$3:H$102,\"=\"&H58)),\"\")","v":""},{"$f":"IF(Registration!D57=\"J\",MTA!G57,\"\")","v":""},{"$f":"IF(AND(Registration!D57=\"J\",COUNTBLANK(J58)=0),RANK(J58,J$3:J$101,0),\"\")","v":""},{"$f":"IF(AND(Registration!$D57=\"J\",COUNTBLANK(K58)=0),placingpoints(K58,COUNTIF(K$3:K$101,\"=\"&K58)),\"\")","v":""},{"$f":"IF(Registration!D57=\"J\",'Trick Catch'!X58,\"\")","v":""},{"$f":"IF(AND(Registration!D57=\"J\",COUNTBLANK(M58)=0),RANK(M58,M$3:M$101,0),\"\")","v":""},{"$f":"IF(AND(Registration!$D57=\"J\",COUNTBLANK(N58)=0),placingpoints(N58,COUNTIF(N$3:N$101,\"=\"&N58)),\"\")","v":""},{"$f":"IF(Registration!D57=\"J\",'Fast Catch'!F57,\"\")","v":""},{"$f":"IF(AND(Registration!D57=\"J\",COUNTBLANK(P58)=0),RANK(P58,P$3:P$101,1),\"\")","v":""},{"$f":"IF(AND(Registration!$D57=\"J\",COUNTBLANK(Q58)=0),placingpoints(Q58,COUNTIF(Q$3:Q$101,\"=\"&Q58)),\"\")","v":""},{"$f":"IF(Registration!D57=\"J\",Endurance!C57,\"\")","v":""},{"$f":"IF(AND(Registration!D57=\"J\",COUNTBLANK(S58)=0),RANK(S58,S$3:S$101,0),\"\")","v":""},{"$f":"IF(AND(Registration!$D57=\"J\",COUNTBLANK(T58)=0),placingpoints(T58,COUNTIF(T$3:T$101,\"=\"&T58)),\"\")","v":""}]
[{"$f":"IF(Registration!D58=\"J\",RANK(B59,$B$3:$B$101,1),\"\")","v":""},{"$f":"IF(Registration!D58=\"J\",SUM(F59,I59,L59,O59,R59,U59),\"\")","v":""},{"$f":"IF(COUNTBLANK(Registration!B58)=1,\"\",IF(Registration!D58=\"J\",Registration!B58,\"\"))","v":""},{"$f":"IF(Registration!D58=\"J\",'Aussie Round'!V59,\"\")","v":""},{"$f":"IF(AND(Registration!D58=\"J\",COUNTBLANK(D59)=0),RANK(D59,D$3:D$101,0),\"\")","v":""},{"$f":"IF(AND(Registration!$D58=\"J\",COUNTBLANK(E59)=0),placingpoints(E59,COUNTIF(E$3:E$101,\"=\"&E59)),\"\")","v":""},{"$f":"IF(Registration!$D58=\"J\",Accuracy!L58,\"\")","v":""},{"$f":"IF(AND(Registration!$D58=\"J\",COUNTBLANK(G59)=0),RANK(G59,G$3:G$102,0),\"\")","v":""},{"$f":"IF(AND(Registration!$D58=\"J\",COUNTBLANK(H59)=0),placingpoints(H59,COUNTIF(H$3:H$102,\"=\"&H59)),\"\")","v":""},{"$f":"IF(Registration!D58=\"J\",MTA!G58,\"\")","v":""},{"$f":"IF(AND(Registration!D58=\"J\",COUNTBLANK(J59)=0),RANK(J59,J$3:J$101,0),\"\")","v":""},{"$f":"IF(AND(Registration!$D58=\"J\",COUNTBLANK(K59)=0),placingpoints(K59,COUNTIF(K$3:K$101,\"=\"&K59)),\"\")","v":""},{"$f":"IF(Registration!D58=\"J\",'Trick Catch'!X59,\"\")","v":""},{"$f":"IF(AND(Registration!D58=\"J\",COUNTBLANK(M59)=0),RANK(M59,M$3:M$101,0),\"\")","v":""},{"$f":"IF(AND(Registration!$D58=\"J\",COUNTBLANK(N59)=0),placingpoints(N59,COUNTIF(N$3:N$101,\"=\"&N59)),\"\")","v":""},{"$f":"IF(Registration!D58=\"J\",'Fast Catch'!F58,\"\")","v":""},{"$f":"IF(AND(Registration!D58=\"J\",COUNTBLANK(P59)=0),RANK(P59,P$3:P$101,1),\"\")","v":""},{"$f":"IF(AND(Registration!$D58=\"J\",COUNTBLANK(Q59)=0),placingpoints(Q59,COUNTIF(Q$3:Q$101,\"=\"&Q59)),\"\")","v":""},{"$f":"IF(Registration!D58=\"J\",Endurance!C58,\"\")","v":""},{"$f":"IF(AND(Registration!D58=\"J\",COUNTBLANK(S59)=0),RANK(S59,S$3:S$101,0),\"\")","v":""},{"$f":"IF(AND(Registration!$D58=\"J\",COUNTBLANK(T59)=0),placingpoints(T59,COUNTIF(T$3:T$101,\"=\"&T59)),\"\")","v":""}]
[{"$f":"IF(Registration!D59=\"J\",RANK(B60,$B$3:$B$101,1),\"\")","v":""},{"$f":"IF(Registration!D59=\"J\",SUM(F60,I60,L60,O60,R60,U60),\"\")","v":""},{"$f":"IF(COUNTBLANK(Registration!B59)=1,\"\",IF(Registration!D59=\"J\",Registration!B59,\"\"))","v":""},{"$f":"IF(Registration!D59=\"J\",'Aussie Round'!V60,\"\")","v":""},{"$f":"IF(AND(Registration!D59=\"J\",COUNTBLANK(D60)=0),RANK(D60,D$3:D$101,0),\"\")","v":""},{"$f":"IF(AND(Registration!$D59=\"J\",COUNTBLANK(E60)=0),placingpoints(E60,COUNTIF(E$3:E$101,\"=\"&E60)),\"\")","v":""},{"$f":"IF(Registration!$D59=\"J\",Accuracy!L59,\"\")","v":""},{"$f":"IF(AND(Registration!$D59=\"J\",COUNTBLANK(G60)=0),RANK(G60,G$3:G$102,0),\"\")","v":""},{"$f":"IF(AND(Registration!$D59=\"J\",COUNTBLANK(H60)=0),placingpoints(H60,COUNTIF(H$3:H$102,\"=\"&H60)),\"\")","v":""},{"$f":"IF(Registration!D59=\"J\",MTA!G59,\"\")","v":""},{"$f":"IF(AND(Registration!D59=\"J\",COUNTBLANK(J60)=0),RANK(J60,J$3:J$101,0),\"\")","v":""},{"$f":"IF(AND(Registration!$D59=\"J\",COUNTBLANK(K60)=0),placingpoints(K60,COUNTIF(K$3:K$101,\"=\"&K60)),\"\")","v":""},{"$f":"IF(Registration!D59=\"J\",'Trick Catch'!X60,\"\")","v":""},{"$f":"IF(AND(Registration!D59=\"J\",COUNTBLANK(M60)=0),RANK(M60,M$3:M$101,0),\"\")","v":""},{"$f":"IF(AND(Registration!$D59=\"J\",COUNTBLANK(N60)=0),placingpoints(N60,COUNTIF(N$3:N$101,\"=\"&N60)),\"\")","v":""},{"$f":"IF(Registration!D59=\"J\",'Fast Catch'!F59,\"\")","v":""},{"$f":"IF(AND(Registration!D59=\"J\",COUNTBLANK(P60)=0),RANK(P60,P$3:P$101,1),\"\")","v":""},{"$f":"IF(AND(Registration!$D59=\"J\",COUNTBLANK(Q60)=0),placingpoints(Q60,COUNTIF(Q$3:Q$101,\"=\"&Q60)),\"\")","v":""},{"$f":"IF(Registration!D59=\"J\",Endurance!C59,\"\")","v":""},{"$f":"IF(AND(Registration!D59=\"J\",COUNTBLANK(S60)=0),RANK(S60,S$3:S$101,0),\"\")","v":""},{"$f":"IF(AND(Registration!$D59=\"J\",COUNTBLANK(T60)=0),placingpoints(T60,COUNTIF(T$3:T$101,\"=\"&T60)),\"\")","v":""}]
[{"$f":"IF(Registration!D60=\"J\",RANK(B61,$B$3:$B$101,1),\"\")","v":""},{"$f":"IF(Registration!D60=\"J\",SUM(F61,I61,L61,O61,R61,U61),\"\")","v":""},{"$f":"IF(COUNTBLANK(Registration!B60)=1,\"\",IF(Registration!D60=\"J\",Registration!B60,\"\"))","v":""},{"$f":"IF(Registration!D60=\"J\",'Aussie Round'!V61,\"\")","v":""},{"$f":"IF(AND(Registration!D60=\"J\",COUNTBLANK(D61)=0),RANK(D61,D$3:D$101,0),\"\")","v":""},{"$f":"IF(AND(Registration!$D60=\"J\",COUNTBLANK(E61)=0),placingpoints(E61,COUNTIF(E$3:E$101,\"=\"&E61)),\"\")","v":""},{"$f":"IF(Registration!$D60=\"J\",Accuracy!L60,\"\")","v":""},{"$f":"IF(AND(Registration!$D60=\"J\",COUNTBLANK(G61)=0),RANK(G61,G$3:G$102,0),\"\")","v":""},{"$f":"IF(AND(Registration!$D60=\"J\",COUNTBLANK(H61)=0),placingpoints(H61,COUNTIF(H$3:H$102,\"=\"&H61)),\"\")","v":""},{"$f":"IF(Registration!D60=\"J\",MTA!G60,\"\")","v":""},{"$f":"IF(AND(Registration!D60=\"J\",COUNTBLANK(J61)=0),RANK(J61,J$3:J$101,0),\"\")","v":""},{"$f":"IF(AND(Registration!$D60=\"J\",COUNTBLANK(K61)=0),placingpoints(K61,COUNTIF(K$3:K$101,\"=\"&K61)),\"\")","v":""},{"$f":"IF(Registration!D60=\"J\",'Trick Catch'!X61,\"\")","v":""},{"$f":"IF(AND(Registration!D60=\"J\",COUNTBLANK(M61)=0),RANK(M61,M$3:M$101,0),\"\")","v":""},{"$f":"IF(AND(Registration!$D60=\"J\",COUNTBLANK(N61)=0),placingpoints(N61,COUNTIF(N$3:N$101,\"=\"&N61)),\"\")","v":""},{"$f":"IF(Registration!D60=\"J\",'Fast Catch'!F60,\"\")","v":""},{"$f":"IF(AND(Registration!D60=\"J\",COUNTBLANK(P61)=0),RANK(P61,P$3:P$101,1),\"\")","v":""},{"$f":"IF(AND(Registration!$D60=\"J\",COUNTBLANK(Q61)=0),placingpoints(Q61,COUNTIF(Q$3:Q$101,\"=\"&Q61)),\"\")","v":""},{"$f":"IF(Registration!D60=\"J\",Endurance!C60,\"\")","v":""},{"$f":"IF(AND(Registration!D60=\"J\",COUNTBLANK(S61)=0),RANK(S61,S$3:S$101,0),\"\")","v":""},{"$f":"IF(AND(Registration!$D60=\"J\",COUNTBLANK(T61)=0),placingpoints(T61,COUNTIF(T$3:T$101,\"=\"&T61)),\"\")","v":""}]
[{"$f":"IF(Registration!D61=\"J\",RANK(B62,$B$3:$B$101,1),\"\")","v":""},{"$f":"IF(Registration!D61=\"J\",SUM(F62,I62,L62,O62,R62,U62),\"\")","v":""},{"$f":"IF(COUNTBLANK(Registration!B61)=1,\"\",IF(Registration!D61=\"J\",Registration!B61,\"\"))","v":""},{"$f":"IF(Registration!D61=\"J\",'Aussie Round'!V62,\"\")","v":""},{"$f":"IF(AND(Registration!D61=\"J\",COUNTBLANK(D62)=0),RANK(D62,D$3:D$101,0),\"\")","v":""},{"$f":"IF(AND(Registration!$D61=\"J\",COUNTBLANK(E62)=0),placingpoints(E62,COUNTIF(E$3:E$101,\"=\"&E62)),\"\")","v":""},{"$f":"IF(Registration!$D61=\"J\",Accuracy!L61,\"\")","v":""},{"$f":"IF(AND(Registration!$D61=\"J\",COUNTBLANK(G62)=0),RANK(G62,G$3:G$102,0),\"\")","v":""},{"$f":"IF(AND(Registration!$D61=\"J\",COUNTBLANK(H62)=0),placingpoints(H62,COUNTIF(H$3:H$102,\"=\"&H62)),\"\")","v":""},{"$f":"IF(Registration!D61=\"J\",MTA!G61,\"\")","v":""},{"$f":"IF(AND(Registration!D61=\"J\",COUNTBLANK(J62)=0),RANK(J62,J$3:J$101,0),\"\")","v":""},{"$f":"IF(AND(Registration!$D61=\"J\",COUNTBLANK(K62)=0),placingpoints(K62,COUNTIF(K$3:K$101,\"=\"&K62)),\"\")","v":""},{"$f":"IF(Registration!D61=\"J\",'Trick Catch'!X62,\"\")","v":""},{"$f":"IF(AND(Registration!D61=\"J\",COUNTBLANK(M62)=0),RANK(M62,M$3:M$101,0),\"\")","v":""},{"$f":"IF(AND(Registration!$D61=\"J\",COUNTBLANK(N62)=0),placingpoints(N62,COUNTIF(N$3:N$101,\"=\"&N62)),\"\")","v":""},{"$f":"IF(Registration!D61=\"J\",'Fast Catch'!F61,\"\")","v":""},{"$f":"IF(AND(Registration!D61=\"J\",COUNTBLANK(P62)=0),RANK(P62,P$3:P$101,1),\"\")","v":""},{"$f":"IF(AND(Registration!$D61=\"J\",COUNTBLANK(Q62)=0),placingpoints(Q62,COUNTIF(Q$3:Q$101,\"=\"&Q62)),\"\")","v":""},{"$f":"IF(Registration!D61=\"J\",Endurance!C61,\"\")","v":""},{"$f":"IF(AND(Registration!D61=\"J\",COUNTBLANK(S62)=0),RANK(S62,S$3:S$101,0),\"\")","v":""},{"$f":"IF(AND(Registration!$D61=\"J\",COUNTBLANK(T62)=0),placingpoints(T62,COUNTIF(T$3:T$101,\"=\"&T62)),\"\")","v":""}]
[{"$f":"IF(Registration!D62=\"J\",RANK(B63,$B$3:$B$101,1),\"\")","v":""},{"$f":"IF(Registration!D62=\"J\",SUM(F63,I63,L63,O63,R63,U63),\"\")","v":""},{"$f":"IF(COUNTBLANK(Registration!B62)=1,\"\",IF(Registration!D62=\"J\",Registration!B62,\"\"))","v":""},{"$f":"IF(Registration!D62=\"J\",'Aussie Round'!V63,\"\")","v":""},{"$f":"IF(AND(Registration!D62=\"J\",COUNTBLANK(D63)=0),RANK(D63,D$3:D$101,0),\"\")","v":""},{"$f":"IF(AND(Registration!$D62=\"J\",COUNTBLANK(E63)=0),placingpoints(E63,COUNTIF(E$3:E$101,\"=\"&E63)),\"\")","v":""},{"$f":"IF(Registration!$D62=\"J\",Accuracy!L62,\"\")","v":""},{"$f":"IF(AND(Registration!$D62=\"J\",COUNTBLANK(G63)=0),RANK(G63,G$3:G$102,0),\"\")","v":""},{"$f":"IF(AND(Registration!$D62=\"J\",COUNTBLANK(H63)=0),placingpoints(H63,COUNTIF(H$3:H$102,\"=\"&H63)),\"\")","v":""},{"$f":"IF(Registration!D62=\"J\",MTA!G62,\"\")","v":""},{"$f":"IF(AND(Registration!D62=\"J\",COUNTBLANK(J63)=0),RANK(J63,J$3:J$101,0),\"\")","v":""},{"$f":"IF(AND(Registration!$D62=\"J\",COUNTBLANK(K63)=0),placingpoints(K63,COUNTIF(K$3:K$101,\"=\"&K63)),\"\")","v":""},{"$f":"IF(Registration!D62=\"J\",'Trick Catch'!X63,\"\")","v":""},{"$f":"IF(AND(Registration!D62=\"J\",COUNTBLANK(M63)=0),RANK(M63,M$3:M$101,0),\"\")","v":""},{"$f":"IF(AND(Registration!$D62=\"J\",COUNTBLANK(N63)=0),placingpoints(N63,COUNTIF(N$3:N$101,\"=\"&N63)),\"\")","v":""},{"$f":"IF(Registration!D62=\"J\",'Fast Catch'!F62,\"\")","v":""},{"$f":"IF(AND(Registration!D62=\"J\",COUNTBLANK(P63)=0),RANK(P63,P$3:P$101,1),\"\")","v":""},{"$f":"IF(AND(Registration!$D62=\"J\",COUNTBLANK(Q63)=0),placingpoints(Q63,COUNTIF(Q$3:Q$101,\"=\"&Q63)),\"\")","v":""},{"$f":"IF(Registration!D62=\"J\",Endurance!C62,\"\")","v":""},{"$f":"IF(AND(Registration!D62=\"J\",COUNTBLANK(S63)=0),RANK(S63,S$3:S$101,0),\"\")","v":""},{"$f":"IF(AND(Registration!$D62=\"J\",COUNTBLANK(T63)=0),placingpoints(T63,COUNTIF(T$3:T$101,\"=\"&T63)),\"\")","v":""}]
[{"$f":"IF(Registration!D63=\"J\",RANK(B64,$B$3:$B$101,1),\"\")","v":""},{"$f":"IF(Registration!D63=\"J\",SUM(F64,I64,L64,O64,R64,U64),\"\")","v":""},{"$f":"IF(COUNTBLANK(Registration!B63)=1,\"\",IF(Registration!D63=\"J\",Registration!B63,\"\"))","v":""},{"$f":"IF(Registration!D63=\"J\",'Aussie Round'!V64,\"\")","v":""},{"$f":"IF(AND(Registration!D63=\"J\",COUNTBLANK(D64)=0),RANK(D64,D$3:D$101,0),\"\")","v":""},{"$f":"IF(AND(Registration!$D63=\"J\",COUNTBLANK(E64)=0),placingpoints(E64,COUNTIF(E$3:E$101,\"=\"&E64)),\"\")","v":""},{"$f":"IF(Registration!$D63=\"J\",Accuracy!L63,\"\")","v":""},{"$f":"IF(AND(Registration!$D63=\"J\",COUNTBLANK(G64)=0),RANK(G64,G$3:G$102,0),\"\")","v":""},{"$f":"IF(AND(Registration!$D63=\"J\",COUNTBLANK(H64)=0),placingpoints(H64,COUNTIF(H$3:H$102,\"=\"&H64)),\"\")","v":""},{"$f":"IF(Registration!D63=\"J\",MTA!G63,\"\")","v":""},{"$f":"IF(AND(Registration!D63=\"J\",COUNTBLANK(J64)=0),RANK(J64,J$3:J$101,0),\"\")","v":""},{"$f":"IF(AND(Registration!$D63=\"J\",COUNTBLANK(K64)=0),placingpoints(K64,COUNTIF(K$3:K$101,\"=\"&K64)),\"\")","v":""},{"$f":"IF(Registration!D63=\"J\",'Trick Catch'!X64,\"\")","v":""},{"$f":"IF(AND(Registration!D63=\"J\",COUNTBLANK(M64)=0),RANK(M64,M$3:M$101,0),\"\")","v":""},{"$f":"IF(AND(Registration!$D63=\"J\",COUNTBLANK(N64)=0),placingpoints(N64,COUNTIF(N$3:N$101,\"=\"&N64)),\"\")","v":""},{"$f":"IF(Registration!D63=\"J\",'Fast Catch'!F63,\"\")","v":""},{"$f":"IF(AND(Registration!D63=\"J\",COUNTBLANK(P64)=0),RANK(P64,P$3:P$101,1),\"\")","v":""},{"$f":"IF(AND(Registration!$D63=\"J\",COUNTBLANK(Q64)=0),placingpoints(Q64,COUNTIF(Q$3:Q$101,\"=\"&Q64)),\"\")","v":""},{"$f":"IF(Registration!D63=\"J\",Endurance!C63,\"\")","v":""},{"$f":"IF(AND(Registration!D63=\"J\",COUNTBLANK(S64)=0),RANK(S64,S$3:S$101,0),\"\")","v":""},{"$f":"IF(AND(Registration!$D63=\"J\",COUNTBLANK(T64)=0),placingpoints(T64,COUNTIF(T$3:T$101,\"=\"&T64)),\"\")","v":""}]
[{"$f":"IF(Registration!D64=\"J\",RANK(B65,$B$3:$B$101,1),\"\")","v":""},{"$f":"IF(Registration!D64=\"J\",SUM(F65,I65,L65,O65,R65,U65),\"\")","v":""},{"$f":"IF(COUNTBLANK(Registration!B64)=1,\"\",IF(Registration!D64=\"J\",Registration!B64,\"\"))","v":""},{"$f":"IF(Registration!D64=\"J\",'Aussie Round'!V65,\"\")","v":""},{"$f":"IF(AND(Registration!D64=\"J\",COUNTBLANK(D65)=0),RANK(D65,D$3:D$101,0),\"\")","v":""},{"$f":"IF(AND(Registration!$D64=\"J\",COUNTBLANK(E65)=0),placingpoints(E65,COUNTIF(E$3:E$101,\"=\"&E65)),\"\")","v":""},{"$f":"IF(Registration!$D64=\"J\",Accuracy!L64,\"\")","v":""},{"$f":"IF(AND(Registration!$D64=\"J\",COUNTBLANK(G65)=0),RANK(G65,G$3:G$102,0),\"\")","v":""},{"$f":"IF(AND(Registration!$D64=\"J\",COUNTBLANK(H65)=0),placingpoints(H65,COUNTIF(H$3:H$102,\"=\"&H65)),\"\")","v":""},{"$f":"IF(Registration!D64=\"J\",MTA!G64,\"\")","v":""},{"$f":"IF(AND(Registration!D64=\"J\",COUNTBLANK(J65)=0),RANK(J65,J$3:J$101,0),\"\")","v":""},{"$f":"IF(AND(Registration!$D64=\"J\",COUNTBLANK(K65)=0),placingpoints(K65,COUNTIF(K$3:K$101,\"=\"&K65)),\"\")","v":""},{"$f":"IF(Registration!D64=\"J\",'Trick Catch'!X65,\"\")","v":""},{"$f":"IF(AND(Registration!D64=\"J\",COUNTBLANK(M65)=0),RANK(M65,M$3:M$101,0),\"\")","v":""},{"$f":"IF(AND(Registration!$D64=\"J\",COUNTBLANK(N65)=0),placingpoints(N65,COUNTIF(N$3:N$101,\"=\"&N65)),\"\")","v":""},{"$f":"IF(Registration!D64=\"J\",'Fast Catch'!F64,\"\")","v":""},{"$f":"IF(AND(Registration!D64=\"J\",COUNTBLANK(P65)=0),RANK(P65,P$3:P$101,1),\"\")","v":""},{"$f":"IF(AND(Registration!$D64=\"J\",COUNTBLANK(Q65)=0),placingpoints(Q65,COUNTIF(Q$3:Q$101,\"=\"&Q65)),\"\")","v":""},{"$f":"IF(Registration!D64=\"J\",Endurance!C64,\"\")","v":""},{"$f":"IF(AND(Registration!D64=\"J\",COUNTBLANK(S65)=0),RANK(S65,S$3:S$101,0),\"\")","v":""},{"$f":"IF(AND(Registration!$D64=\"J\",COUNTBLANK(T65)=0),placingpoints(T65,COUNTIF(T$3:T$101,\"=\"&T65)),\"\")","v":""}]
[{"$f":"IF(Registration!D65=\"J\",RANK(B66,$B$3:$B$101,1),\"\")","v":""},{"$f":"IF(Registration!D65=\"J\",SUM(F66,I66,L66,O66,R66,U66),\"\")","v":""},{"$f":"IF(COUNTBLANK(Registration!B65)=1,\"\",IF(Registration!D65=\"J\",Registration!B65,\"\"))","v":""},{"$f":"IF(Registration!D65=\"J\",'Aussie Round'!V66,\"\")","v":""},{"$f":"IF(AND(Registration!D65=\"J\",COUNTBLANK(D66)=0),RANK(D66,D$3:D$101,0),\"\")","v":""},{"$f":"IF(AND(Registration!$D65=\"J\",COUNTBLANK(E66)=0),placingpoints(E66,COUNTIF(E$3:E$101,\"=\"&E66)),\"\")","v":""},{"$f":"IF(Registration!$D65=\"J\",Accuracy!L65,\"\")","v":""},{"$f":"IF(AND(Registration!$D65=\"J\",COUNTBLANK(G66)=0),RANK(G66,G$3:G$102,0),\"\")","v":""},{"$f":"IF(AND(Registration!$D65=\"J\",COUNTBLANK(H66)=0),placingpoints(H66,COUNTIF(H$3:H$102,\"=\"&H66)),\"\")","v":""},{"$f":"IF(Registration!D65=\"J\",MTA!G65,\"\")","v":""},{"$f":"IF(AND(Registration!D65=\"J\",COUNTBLANK(J66)=0),RANK(J66,J$3:J$101,0),\"\")","v":""},{"$f":"IF(AND(Registration!$D65=\"J\",COUNTBLANK(K66)=0),placingpoints(K66,COUNTIF(K$3:K$101,\"=\"&K66)),\"\")","v":""},{"$f":"IF(Registration!D65=\"J\",'Trick Catch'!X66,\"\")","v":""},{"$f":"IF(AND(Registration!D65=\"J\",COUNTBLANK(M66)=0),RANK(M66,M$3:M$101,0),\"\")","v":""},{"$f":"IF(AND(Registration!$D65=\"J\",COUNTBLANK(N66)=0),placingpoints(N66,COUNTIF(N$3:N$101,\"=\"&N66)),\"\")","v":""},{"$f":"IF(Registration!D65=\"J\",'Fast Catch'!F65,\"\")","v":""},{"$f":"IF(AND(Registration!D65=\"J\",COUNTBLANK(P66)=0),RANK(P66,P$3:P$101,1),\"\")","v":""},{"$f":"IF(AND(Registration!$D65=\"J\",COUNTBLANK(Q66)=0),placingpoints(Q66,COUNTIF(Q$3:Q$101,\"=\"&Q66)),\"\")","v":""},{"$f":"IF(Registration!D65=\"J\",Endurance!C65,\"\")","v":""},{"$f":"IF(AND(Registration!D65=\"J\",COUNTBLANK(S66)=0),RANK(S66,S$3:S$101,0),\"\")","v":""},{"$f":"IF(AND(Registration!$D65=\"J\",COUNTBLANK(T66)=0),placingpoints(T66,COUNTIF(T$3:T$101,\"=\"&T66)),\"\")","v":""}]
[{"$f":"IF(Registration!D66=\"J\",RANK(B67,$B$3:$B$101,1),\"\")","v":""},{"$f":"IF(Registration!D66=\"J\",SUM(F67,I67,L67,O67,R67,U67),\"\")","v":""},{"$f":"IF(COUNTBLANK(Registration!B66)=1,\"\",IF(Registration!D66=\"J\",Registration!B66,\"\"))","v":""},{"$f":"IF(Registration!D66=\"J\",'Aussie Round'!V67,\"\")","v":""},{"$f":"IF(AND(Registration!D66=\"J\",COUNTBLANK(D67)=0),RANK(D67,D$3:D$101,0),\"\")","v":""},{"$f":"IF(AND(Registration!$D66=\"J\",COUNTBLANK(E67)=0),placingpoints(E67,COUNTIF(E$3:E$101,\"=\"&E67)),\"\")","v":""},{"$f":"IF(Registration!$D66=\"J\",Accuracy!L66,\"\")","v":""},{"$f":"IF(AND(Registration!$D66=\"J\",COUNTBLANK(G67)=0),RANK(G67,G$3:G$102,0),\"\")","v":""},{"$f":"IF(AND(Registration!$D66=\"J\",COUNTBLANK(H67)=0),placingpoints(H67,COUNTIF(H$3:H$102,\"=\"&H67)),\"\")","v":""},{"$f":"IF(Registration!D66=\"J\",MTA!G66,\"\")","v":""},{"$f":"IF(AND(Registration!D66=\"J\",COUNTBLANK(J67)=0),RANK(J67,J$3:J$101,0),\"\")","v":""},{"$f":"IF(AND(Registration!$D66=\"J\",COUNTBLANK(K67)=0),placingpoints(K67,COUNTIF(K$3:K$101,\"=\"&K67)),\"\")","v":""},{"$f":"IF(Registration!D66=\"J\",'Trick Catch'!X67,\"\")","v":""},{"$f":"IF(AND(Registration!D66=\"J\",COUNTBLANK(M67)=0),RANK(M67,M$3:M$101,0),\"\")","v":""},{"$f":"IF(AND(Registration!$D66=\"J\",COUNTBLANK(N67)=0),placingpoints(N67,COUNTIF(N$3:N$101,\"=\"&N67)),\"\")","v":""},{"$f":"IF(Registration!D66=\"J\",'Fast Catch'!F66,\"\")","v":""},{"$f":"IF(AND(Registration!D66=\"J\",COUNTBLANK(P67)=0),RANK(P67,P$3:P$101,1),\"\")","v":""},{"$f":"IF(AND(Registration!$D66=\"J\",COUNTBLANK(Q67)=0),placingpoints(Q67,COUNTIF(Q$3:Q$101,\"=\"&Q67)),\"\")","v":""},{"$f":"IF(Registration!D66=\"J\",Endurance!C66,\"\")","v":""},{"$f":"IF(AND(Registration!D66=\"J\",COUNTBLANK(S67)=0),RANK(S67,S$3:S$101,0),\"\")","v":""},{"$f":"IF(AND(Registration!$D66=\"J\",COUNTBLANK(T67)=0),placingpoints(T67,COUNTIF(T$3:T$101,\"=\"&T67)),\"\")","v":""}]
[{"$f":"IF(Registration!D67=\"J\",RANK(B68,$B$3:$B$101,1),\"\")","v":""},{"$f":"IF(Registration!D67=\"J\",SUM(F68,I68,L68,O68,R68,U68),\"\")","v":""},{"$f":"IF(COUNTBLANK(Registration!B67)=1,\"\",IF(Registration!D67=\"J\",Registration!B67,\"\"))","v":""},{"$f":"IF(Registration!D67=\"J\",'Aussie Round'!V68,\"\")","v":""},{"$f":"IF(AND(Registration!D67=\"J\",COUNTBLANK(D68)=0),RANK(D68,D$3:D$101,0),\"\")","v":""},{"$f":"IF(AND(Registration!$D67=\"J\",COUNTBLANK(E68)=0),placingpoints(E68,COUNTIF(E$3:E$101,\"=\"&E68)),\"\")","v":""},{"$f":"IF(Registration!$D67=\"J\",Accuracy!L67,\"\")","v":""},{"$f":"IF(AND(Registration!$D67=\"J\",COUNTBLANK(G68)=0),RANK(G68,G$3:G$102,0),\"\")","v":""},{"$f":"IF(AND(Registration!$D67=\"J\",COUNTBLANK(H68)=0),placingpoints(H68,COUNTIF(H$3:H$102,\"=\"&H68)),\"\")","v":""},{"$f":"IF(Registration!D67=\"J\",MTA!G67,\"\")","v":""},{"$f":"IF(AND(Registration!D67=\"J\",COUNTBLANK(J68)=0),RANK(J68,J$3:J$101,0),\"\")","v":""},{"$f":"IF(AND(Registration!$D67=\"J\",COUNTBLANK(K68)=0),placingpoints(K68,COUNTIF(K$3:K$101,\"=\"&K68)),\"\")","v":""},{"$f":"IF(Registration!D67=\"J\",'Trick Catch'!X68,\"\")","v":""},{"$f":"IF(AND(Registration!D67=\"J\",COUNTBLANK(M68)=0),RANK(M68,M$3:M$101,0),\"\")","v":""},{"$f":"IF(AND(Registration!$D67=\"J\",COUNTBLANK(N68)=0),placingpoints(N68,COUNTIF(N$3:N$101,\"=\"&N68)),\"\")","v":""},{"$f":"IF(Registration!D67=\"J\",'Fast Catch'!F67,\"\")","v":""},{"$f":"IF(AND(Registration!D67=\"J\",COUNTBLANK(P68)=0),RANK(P68,P$3:P$101,1),\"\")","v":""},{"$f":"IF(AND(Registration!$D67=\"J\",COUNTBLANK(Q68)=0),placingpoints(Q68,COUNTIF(Q$3:Q$101,\"=\"&Q68)),\"\")","v":""},{"$f":"IF(Registration!D67=\"J\",Endurance!C67,\"\")","v":""},{"$f":"IF(AND(Registration!D67=\"J\",COUNTBLANK(S68)=0),RANK(S68,S$3:S$101,0),\"\")","v":""},{"$f":"IF(AND(Registration!$D67=\"J\",COUNTBLANK(T68)=0),placingpoints(T68,COUNTIF(T$3:T$101,\"=\"&T68)),\"\")","v":""}]
[{"$f":"IF(Registration!D68=\"J\",RANK(B69,$B$3:$B$101,1),\"\")","v":""},{"$f":"IF(Registration!D68=\"J\",SUM(F69,I69,L69,O69,R69,U69),\"\")","v":""},{"$f":"IF(COUNTBLANK(Registration!B68)=1,\"\",IF(Registration!D68=\"J\",Registration!B68,\"\"))","v":""},{"$f":"IF(Registration!D68=\"J\",'Aussie Round'!V69,\"\")","v":""},{"$f":"IF(AND(Registration!D68=\"J\",COUNTBLANK(D69)=0),RANK(D69,D$3:D$101,0),\"\")","v":""},{"$f":"IF(AND(Registration!$D68=\"J\",COUNTBLANK(E69)=0),placingpoints(E69,COUNTIF(E$3:E$101,\"=\"&E69)),\"\")","v":""},{"$f":"IF(Registration!$D68=\"J\",Accuracy!L68,\"\")","v":""},{"$f":"IF(AND(Registration!$D68=\"J\",COUNTBLANK(G69)=0),RANK(G69,G$3:G$102,0),\"\")","v":""},{"$f":"IF(AND(Registration!$D68=\"J\",COUNTBLANK(H69)=0),placingpoints(H69,COUNTIF(H$3:H$102,\"=\"&H69)),\"\")","v":""},{"$f":"IF(Registration!D68=\"J\",MTA!G68,\"\")","v":""},{"$f":"IF(AND(Registration!D68=\"J\",COUNTBLANK(J69)=0),RANK(J69,J$3:J$101,0),\"\")","v":""},{"$f":"IF(AND(Registration!$D68=\"J\",COUNTBLANK(K69)=0),placingpoints(K69,COUNTIF(K$3:K$101,\"=\"&K69)),\"\")","v":""},{"$f":"IF(Registration!D68=\"J\",'Trick Catch'!X69,\"\")","v":""},{"$f":"IF(AND(Registration!D68=\"J\",COUNTBLANK(M69)=0),RANK(M69,M$3:M$101,0),\"\")","v":""},{"$f":"IF(AND(Registration!$D68=\"J\",COUNTBLANK(N69)=0),placingpoints(N69,COUNTIF(N$3:N$101,\"=\"&N69)),\"\")","v":""},{"$f":"IF(Registration!D68=\"J\",'Fast Catch'!F68,\"\")","v":""},{"$f":"IF(AND(Registration!D68=\"J\",COUNTBLANK(P69)=0),RANK(P69,P$3:P$101,1),\"\")","v":""},{"$f":"IF(AND(Registration!$D68=\"J\",COUNTBLANK(Q69)=0),placingpoints(Q69,COUNTIF(Q$3:Q$101,\"=\"&Q69)),\"\")","v":""},{"$f":"IF(Registration!D68=\"J\",Endurance!C68,\"\")","v":""},{"$f":"IF(AND(Registration!D68=\"J\",COUNTBLANK(S69)=0),RANK(S69,S$3:S$101,0),\"\")","v":""},{"$f":"IF(AND(Registration!$D68=\"J\",COUNTBLANK(T69)=0),placingpoints(T69,COUNTIF(T$3:T$101,\"=\"&T69)),\"\")","v":""}]
[{"$f":"IF(Registration!D69=\"J\",RANK(B70,$B$3:$B$101,1),\"\")","v":""},{"$f":"IF(Registration!D69=\"J\",SUM(F70,I70,L70,O70,R70,U70),\"\")","v":""},{"$f":"IF(COUNTBLANK(Registration!B69)=1,\"\",IF(Registration!D69=\"J\",Registration!B69,\"\"))","v":""},{"$f":"IF(Registration!D69=\"J\",'Aussie Round'!V70,\"\")","v":""},{"$f":"IF(AND(Registration!D69=\"J\",COUNTBLANK(D70)=0),RANK(D70,D$3:D$101,0),\"\")","v":""},{"$f":"IF(AND(Registration!$D69=\"J\",COUNTBLANK(E70)=0),placingpoints(E70,COUNTIF(E$3:E$101,\"=\"&E70)),\"\")","v":""},{"$f":"IF(Registration!$D69=\"J\",Accuracy!L69,\"\")","v":""},{"$f":"IF(AND(Registration!$D69=\"J\",COUNTBLANK(G70)=0),RANK(G70,G$3:G$102,0),\"\")","v":""},{"$f":"IF(AND(Registration!$D69=\"J\",COUNTBLANK(H70)=0),placingpoints(H70,COUNTIF(H$3:H$102,\"=\"&H70)),\"\")","v":""},{"$f":"IF(Registration!D69=\"J\",MTA!G69,\"\")","v":""},{"$f":"IF(AND(Registration!D69=\"J\",COUNTBLANK(J70)=0),RANK(J70,J$3:J$101,0),\"\")","v":""},{"$f":"IF(AND(Registration!$D69=\"J\",COUNTBLANK(K70)=0),placingpoints(K70,COUNTIF(K$3:K$101,\"=\"&K70)),\"\")","v":""},{"$f":"IF(Registration!D69=\"J\",'Trick Catch'!X70,\"\")","v":""},{"$f":"IF(AND(Registration!D69=\"J\",COUNTBLANK(M70)=0),RANK(M70,M$3:M$101,0),\"\")","v":""},{"$f":"IF(AND(Registration!$D69=\"J\",COUNTBLANK(N70)=0),placingpoints(N70,COUNTIF(N$3:N$101,\"=\"&N70)),\"\")","v":""},{"$f":"IF(Registration!D69=\"J\",'Fast Catch'!F69,\"\")","v":""},{"$f":"IF(AND(Registration!D69=\"J\",COUNTBLANK(P70)=0),RANK(P70,P$3:P$101,1),\"\")","v":""},{"$f":"IF(AND(Registration!$D69=\"J\",COUNTBLANK(Q70)=0),placingpoints(Q70,COUNTIF(Q$3:Q$101,\"=\"&Q70)),\"\")","v":""},{"$f":"IF(Registration!D69=\"J\",Endurance!C69,\"\")","v":""},{"$f":"IF(AND(Registration!D69=\"J\",COUNTBLANK(S70)=0),RANK(S70,S$3:S$101,0),\"\")","v":""},{"$f":"IF(AND(Registration!$D69=\"J\",COUNTBLANK(T70)=0),placingpoints(T70,COUNTIF(T$3:T$101,\"=\"&T70)),\"\")","v":""}]
[{"$f":"IF(Registration!D70=\"J\",RANK(B71,$B$3:$B$101,1),\"\")","v":""},{"$f":"IF(Registration!D70=\"J\",SUM(F71,I71,L71,O71,R71,U71),\"\")","v":""},{"$f":"IF(COUNTBLANK(Registration!B70)=1,\"\",IF(Registration!D70=\"J\",Registration!B70,\"\"))","v":""},{"$f":"IF(Registration!D70=\"J\",'Aussie Round'!V71,\"\")","v":""},{"$f":"IF(AND(Registration!D70=\"J\",COUNTBLANK(D71)=0),RANK(D71,D$3:D$101,0),\"\")","v":""},{"$f":"IF(AND(Registration!$D70=\"J\",COUNTBLANK(E71)=0),placingpoints(E71,COUNTIF(E$3:E$101,\"=\"&E71)),\"\")","v":""},{"$f":"IF(Registration!$D70=\"J\",Accuracy!L70,\"\")","v":""},{"$f":"IF(AND(Registration!$D70=\"J\",COUNTBLANK(G71)=0),RANK(G71,G$3:G$102,0),\"\")","v":""},{"$f":"IF(AND(Registration!$D70=\"J\",COUNTBLANK(H71)=0),placingpoints(H71,COUNTIF(H$3:H$102,\"=\"&H71)),\"\")","v":""},{"$f":"IF(Registration!D70=\"J\",MTA!G70,\"\")","v":""},{"$f":"IF(AND(Registration!D70=\"J\",COUNTBLANK(J71)=0),RANK(J71,J$3:J$101,0),\"\")","v":""},{"$f":"IF(AND(Registration!$D70=\"J\",COUNTBLANK(K71)=0),placingpoints(K71,COUNTIF(K$3:K$101,\"=\"&K71)),\"\")","v":""},{"$f":"IF(Registration!D70=\"J\",'Trick Catch'!X71,\"\")","v":""},{"$f":"IF(AND(Registration!D70=\"J\",COUNTBLANK(M71)=0),RANK(M71,M$3:M$101,0),\"\")","v":""},{"$f":"IF(AND(Registration!$D70=\"J\",COUNTBLANK(N71)=0),placingpoints(N71,COUNTIF(N$3:N$101,\"=\"&N71)),\"\")","v":""},{"$f":"IF(Registration!D70=\"J\",'Fast Catch'!F70,\"\")","v":""},{"$f":"IF(AND(Registration!D70=\"J\",COUNTBLANK(P71)=0),RANK(P71,P$3:P$101,1),\"\")","v":""},{"$f":"IF(AND(Registration!$D70=\"J\",COUNTBLANK(Q71)=0),placingpoints(Q71,COUNTIF(Q$3:Q$101,\"=\"&Q71)),\"\")","v":""},{"$f":"IF(Registration!D70=\"J\",Endurance!C70,\"\")","v":""},{"$f":"IF(AND(Registration!D70=\"J\",COUNTBLANK(S71)=0),RANK(S71,S$3:S$101,0),\"\")","v":""},{"$f":"IF(AND(Registration!$D70=\"J\",COUNTBLANK(T71)=0),placingpoints(T71,COUNTIF(T$3:T$101,\"=\"&T71)),\"\")","v":""}]
[{"$f":"IF(Registration!D71=\"J\",RANK(B72,$B$3:$B$101,1),\"\")","v":""},{"$f":"IF(Registration!D71=\"J\",SUM(F72,I72,L72,O72,R72,U72),\"\")","v":""},{"$f":"IF(COUNTBLANK(Registration!B71)=1,\"\",IF(Registration!D71=\"J\",Registration!B71,\"\"))","v":""},{"$f":"IF(Registration!D71=\"J\",'Aussie Round'!V72,\"\")","v":""},{"$f":"IF(AND(Registration!D71=\"J\",COUNTBLANK(D72)=0),RANK(D72,D$3:D$101,0),\"\")","v":""},{"$f":"IF(AND(Registration!$D71=\"J\",COUNTBLANK(E72)=0),placingpoints(E72,COUNTIF(E$3:E$101,\"=\"&E72)),\"\")","v":""},{"$f":"IF(Registration!$D71=\"J\",Accuracy!L71,\"\")","v":""},{"$f":"IF(AND(Registration!$D71=\"J\",COUNTBLANK(G72)=0),RANK(G72,G$3:G$102,0),\"\")","v":""},{"$f":"IF(AND(Registration!$D71=\"J\",COUNTBLANK(H72)=0),placingpoints(H72,COUNTIF(H$3:H$102,\"=\"&H72)),\"\")","v":""},{"$f":"IF(Registration!D71=\"J\",MTA!G71,\"\")","v":""},{"$f":"IF(AND(Registration!D71=\"J\",COUNTBLANK(J72)=0),RANK(J72,J$3:J$101,0),\"\")","v":""},{"$f":"IF(AND(Registration!$D71=\"J\",COUNTBLANK(K72)=0),placingpoints(K72,COUNTIF(K$3:K$101,\"=\"&K72)),\"\")","v":""},{"$f":"IF(Registration!D71=\"J\",'Trick Catch'!X72,\"\")","v":""},{"$f":"IF(AND(Registration!D71=\"J\",COUNTBLANK(M72)=0),RANK(M72,M$3:M$101,0),\"\")","v":""},{"$f":"IF(AND(Registration!$D71=\"J\",COUNTBLANK(N72)=0),placingpoints(N72,COUNTIF(N$3:N$101,\"=\"&N72)),\"\")","v":""},{"$f":"IF(Registration!D71=\"J\",'Fast Catch'!F71,\"\")","v":""},{"$f":"IF(AND(Registration!D71=\"J\",COUNTBLANK(P72)=0),RANK(P72,P$3:P$101,1),\"\")","v":""},{"$f":"IF(AND(Registration!$D71=\"J\",COUNTBLANK(Q72)=0),placingpoints(Q72,COUNTIF(Q$3:Q$101,\"=\"&Q72)),\"\")","v":""},{"$f":"IF(Registration!D71=\"J\",Endurance!C71,\"\")","v":""},{"$f":"IF(AND(Registration!D71=\"J\",COUNTBLANK(S72)=0),RANK(S72,S$3:S$101,0),\"\")","v":""},{"$f":"IF(AND(Registration!$D71=\"J\",COUNTBLANK(T72)=0),placingpoints(T72,COUNTIF(T$3:T$101,\"=\"&T72)),\"\")","v":""}]
[{"$f":"IF(Registration!D72=\"J\",RANK(B73,$B$3:$B$101,1),\"\")","v":""},{"$f":"IF(Registration!D72=\"J\",SUM(F73,I73,L73,O73,R73,U73),\"\")","v":""},{"$f":"IF(COUNTBLANK(Registration!B72)=1,\"\",IF(Registration!D72=\"J\",Registration!B72,\"\"))","v":""},{"$f":"IF(Registration!D72=\"J\",'Aussie Round'!V73,\"\")","v":""},{"$f":"IF(AND(Registration!D72=\"J\",COUNTBLANK(D73)=0),RANK(D73,D$3:D$101,0),\"\")","v":""},{"$f":"IF(AND(Registration!$D72=\"J\",COUNTBLANK(E73)=0),placingpoints(E73,COUNTIF(E$3:E$101,\"=\"&E73)),\"\")","v":""},{"$f":"IF(Registration!$D72=\"J\",Accuracy!L72,\"\")","v":""},{"$f":"IF(AND(Registration!$D72=\"J\",COUNTBLANK(G73)=0),RANK(G73,G$3:G$102,0),\"\")","v":""},{"$f":"IF(AND(Registration!$D72=\"J\",COUNTBLANK(H73)=0),placingpoints(H73,COUNTIF(H$3:H$102,\"=\"&H73)),\"\")","v":""},{"$f":"IF(Registration!D72=\"J\",MTA!G72,\"\")","v":""},{"$f":"IF(AND(Registration!D72=\"J\",COUNTBLANK(J73)=0),RANK(J73,J$3:J$101,0),\"\")","v":""},{"$f":"IF(AND(Registration!$D72=\"J\",COUNTBLANK(K73)=0),placingpoints(K73,COUNTIF(K$3:K$101,\"=\"&K73)),\"\")","v":""},{"$f":"IF(Registration!D72=\"J\",'Trick Catch'!X73,\"\")","v":""},{"$f":"IF(AND(Registration!D72=\"J\",COUNTBLANK(M73)=0),RANK(M73,M$3:M$101,0),\"\")","v":""},{"$f":"IF(AND(Registration!$D72=\"J\",COUNTBLANK(N73)=0),placingpoints(N73,COUNTIF(N$3:N$101,\"=\"&N73)),\"\")","v":""},{"$f":"IF(Registration!D72=\"J\",'Fast Catch'!F72,\"\")","v":""},{"$f":"IF(AND(Registration!D72=\"J\",COUNTBLANK(P73)=0),RANK(P73,P$3:P$101,1),\"\")","v":""},{"$f":"IF(AND(Registration!$D72=\"J\",COUNTBLANK(Q73)=0),placingpoints(Q73,COUNTIF(Q$3:Q$101,\"=\"&Q73)),\"\")","v":""},{"$f":"IF(Registration!D72=\"J\",Endurance!C72,\"\")","v":""},{"$f":"IF(AND(Registration!D72=\"J\",COUNTBLANK(S73)=0),RANK(S73,S$3:S$101,0),\"\")","v":""},{"$f":"IF(AND(Registration!$D72=\"J\",COUNTBLANK(T73)=0),placingpoints(T73,COUNTIF(T$3:T$101,\"=\"&T73)),\"\")","v":""}]
[{"$f":"IF(Registration!D73=\"J\",RANK(B74,$B$3:$B$101,1),\"\")","v":""},{"$f":"IF(Registration!D73=\"J\",SUM(F74,I74,L74,O74,R74,U74),\"\")","v":""},{"$f":"IF(COUNTBLANK(Registration!B73)=1,\"\",IF(Registration!D73=\"J\",Registration!B73,\"\"))","v":""},{"$f":"IF(Registration!D73=\"J\",'Aussie Round'!V74,\"\")","v":""},{"$f":"IF(AND(Registration!D73=\"J\",COUNTBLANK(D74)=0),RANK(D74,D$3:D$101,0),\"\")","v":""},{"$f":"IF(AND(Registration!$D73=\"J\",COUNTBLANK(E74)=0),placingpoints(E74,COUNTIF(E$3:E$101,\"=\"&E74)),\"\")","v":""},{"$f":"IF(Registration!$D73=\"J\",Accuracy!L73,\"\")","v":""},{"$f":"IF(AND(Registration!$D73=\"J\",COUNTBLANK(G74)=0),RANK(G74,G$3:G$102,0),\"\")","v":""},{"$f":"IF(AND(Registration!$D73=\"J\",COUNTBLANK(H74)=0),placingpoints(H74,COUNTIF(H$3:H$102,\"=\"&H74)),\"\")","v":""},{"$f":"IF(Registration!D73=\"J\",MTA!G73,\"\")","v":""},{"$f":"IF(AND(Registration!D73=\"J\",COUNTBLANK(J74)=0),RANK(J74,J$3:J$101,0),\"\")","v":""},{"$f":"IF(AND(Registration!$D73=\"J\",COUNTBLANK(K74)=0),placingpoints(K74,COUNTIF(K$3:K$101,\"=\"&K74)),\"\")","v":""},{"$f":"IF(Registration!D73=\"J\",'Trick Catch'!X74,\"\")","v":""},{"$f":"IF(AND(Registration!D73=\"J\",COUNTBLANK(M74)=0),RANK(M74,M$3:M$101,0),\"\")","v":""},{"$f":"IF(AND(Registration!$D73=\"J\",COUNTBLANK(N74)=0),placingpoints(N74,COUNTIF(N$3:N$101,\"=\"&N74)),\"\")","v":""},{"$f":"IF(Registration!D73=\"J\",'Fast Catch'!F73,\"\")","v":""},{"$f":"IF(AND(Registration!D73=\"J\",COUNTBLANK(P74)=0),RANK(P74,P$3:P$101,1),\"\")","v":""},{"$f":"IF(AND(Registration!$D73=\"J\",COUNTBLANK(Q74)=0),placingpoints(Q74,COUNTIF(Q$3:Q$101,\"=\"&Q74)),\"\")","v":""},{"$f":"IF(Registration!D73=\"J\",Endurance!C73,\"\")","v":""},{"$f":"IF(AND(Registration!D73=\"J\",COUNTBLANK(S74)=0),RANK(S74,S$3:S$101,0),\"\")","v":""},{"$f":"IF(AND(Registration!$D73=\"J\",COUNTBLANK(T74)=0),placingpoints(T74,COUNTIF(T$3:T$101,\"=\"&T74)),\"\")","v":""}]
[{"$f":"IF(Registration!D74=\"J\",RANK(B75,$B$3:$B$101,1),\"\")","v":""},{"$f":"IF(Registration!D74=\"J\",SUM(F75,I75,L75,O75,R75,U75),\"\")","v":""},{"$f":"IF(COUNTBLANK(Registration!B74)=1,\"\",IF(Registration!D74=\"J\",Registration!B74,\"\"))","v":""},{"$f":"IF(Registration!D74=\"J\",'Aussie Round'!V75,\"\")","v":""},{"$f":"IF(AND(Registration!D74=\"J\",COUNTBLANK(D75)=0),RANK(D75,D$3:D$101,0),\"\")","v":""},{"$f":"IF(AND(Registration!$D74=\"J\",COUNTBLANK(E75)=0),placingpoints(E75,COUNTIF(E$3:E$101,\"=\"&E75)),\"\")","v":""},{"$f":"IF(Registration!$D74=\"J\",Accuracy!L74,\"\")","v":""},{"$f":"IF(AND(Registration!$D74=\"J\",COUNTBLANK(G75)=0),RANK(G75,G$3:G$102,0),\"\")","v":""},{"$f":"IF(AND(Registration!$D74=\"J\",COUNTBLANK(H75)=0),placingpoints(H75,COUNTIF(H$3:H$102,\"=\"&H75)),\"\")","v":""},{"$f":"IF(Registration!D74=\"J\",MTA!G74,\"\")","v":""},{"$f":"IF(AND(Registration!D74=\"J\",COUNTBLANK(J75)=0),RANK(J75,J$3:J$101,0),\"\")","v":""},{"$f":"IF(AND(Registration!$D74=\"J\",COUNTBLANK(K75)=0),placingpoints(K75,COUNTIF(K$3:K$101,\"=\"&K75)),\"\")","v":""},{"$f":"IF(Registration!D74=\"J\",'Trick Catch'!X75,\"\")","v":""},{"$f":"IF(AND(Registration!D74=\"J\",COUNTBLANK(M75)=0),RANK(M75,M$3:M$101,0),\"\")","v":""},{"$f":"IF(AND(Registration!$D74=\"J\",COUNTBLANK(N75)=0),placingpoints(N75,COUNTIF(N$3:N$101,\"=\"&N75)),\"\")","v":""},{"$f":"IF(Registration!D74=\"J\",'Fast Catch'!F74,\"\")","v":""},{"$f":"IF(AND(Registration!D74=\"J\",COUNTBLANK(P75)=0),RANK(P75,P$3:P$101,1),\"\")","v":""},{"$f":"IF(AND(Registration!$D74=\"J\",COUNTBLANK(Q75)=0),placingpoints(Q75,COUNTIF(Q$3:Q$101,\"=\"&Q75)),\"\")","v":""},{"$f":"IF(Registration!D74=\"J\",Endurance!C74,\"\")","v":""},{"$f":"IF(AND(Registration!D74=\"J\",COUNTBLANK(S75)=0),RANK(S75,S$3:S$101,0),\"\")","v":""},{"$f":"IF(AND(Registration!$D74=\"J\",COUNTBLANK(T75)=0),placingpoints(T75,COUNTIF(T$3:T$101,\"=\"&T75)),\"\")","v":""}]
[{"$f":"IF(Registration!D75=\"J\",RANK(B76,$B$3:$B$101,1),\"\")","v":""},{"$f":"IF(Registration!D75=\"J\",SUM(F76,I76,L76,O76,R76,U76),\"\")","v":""},{"$f":"IF(COUNTBLANK(Registration!B75)=1,\"\",IF(Registration!D75=\"J\",Registration!B75,\"\"))","v":""},{"$f":"IF(Registration!D75=\"J\",'Aussie Round'!V76,\"\")","v":""},{"$f":"IF(AND(Registration!D75=\"J\",COUNTBLANK(D76)=0),RANK(D76,D$3:D$101,0),\"\")","v":""},{"$f":"IF(AND(Registration!$D75=\"J\",COUNTBLANK(E76)=0),placingpoints(E76,COUNTIF(E$3:E$101,\"=\"&E76)),\"\")","v":""},{"$f":"IF(Registration!$D75=\"J\",Accuracy!L75,\"\")","v":""},{"$f":"IF(AND(Registration!$D75=\"J\",COUNTBLANK(G76)=0),RANK(G76,G$3:G$102,0),\"\")","v":""},{"$f":"IF(AND(Registration!$D75=\"J\",COUNTBLANK(H76)=0),placingpoints(H76,COUNTIF(H$3:H$102,\"=\"&H76)),\"\")","v":""},{"$f":"IF(Registration!D75=\"J\",MTA!G75,\"\")","v":""},{"$f":"IF(AND(Registration!D75=\"J\",COUNTBLANK(J76)=0),RANK(J76,J$3:J$101,0),\"\")","v":""},{"$f":"IF(AND(Registration!$D75=\"J\",COUNTBLANK(K76)=0),placingpoints(K76,COUNTIF(K$3:K$101,\"=\"&K76)),\"\")","v":""},{"$f":"IF(Registration!D75=\"J\",'Trick Catch'!X76,\"\")","v":""},{"$f":"IF(AND(Registration!D75=\"J\",COUNTBLANK(M76)=0),RANK(M76,M$3:M$101,0),\"\")","v":""},{"$f":"IF(AND(Registration!$D75=\"J\",COUNTBLANK(N76)=0),placingpoints(N76,COUNTIF(N$3:N$101,\"=\"&N76)),\"\")","v":""},{"$f":"IF(Registration!D75=\"J\",'Fast Catch'!F75,\"\")","v":""},{"$f":"IF(AND(Registration!D75=\"J\",COUNTBLANK(P76)=0),RANK(P76,P$3:P$101,1),\"\")","v":""},{"$f":"IF(AND(Registration!$D75=\"J\",COUNTBLANK(Q76)=0),placingpoints(Q76,COUNTIF(Q$3:Q$101,\"=\"&Q76)),\"\")","v":""},{"$f":"IF(Registration!D75=\"J\",Endurance!C75,\"\")","v":""},{"$f":"IF(AND(Registration!D75=\"J\",COUNTBLANK(S76)=0),RANK(S76,S$3:S$101,0),\"\")","v":""},{"$f":"IF(AND(Registration!$D75=\"J\",COUNTBLANK(T76)=0),placingpoints(T76,COUNTIF(T$3:T$101,\"=\"&T76)),\"\")","v":""}]
[{"$f":"IF(Registration!D76=\"J\",RANK(B77,$B$3:$B$101,1),\"\")","v":""},{"$f":"IF(Registration!D76=\"J\",SUM(F77,I77,L77,O77,R77,U77),\"\")","v":""},{"$f":"IF(COUNTBLANK(Registration!B76)=1,\"\",IF(Registration!D76=\"J\",Registration!B76,\"\"))","v":""},{"$f":"IF(Registration!D76=\"J\",'Aussie Round'!V77,\"\")","v":""},{"$f":"IF(AND(Registration!D76=\"J\",COUNTBLANK(D77)=0),RANK(D77,D$3:D$101,0),\"\")","v":""},{"$f":"IF(AND(Registration!$D76=\"J\",COUNTBLANK(E77)=0),placingpoints(E77,COUNTIF(E$3:E$101,\"=\"&E77)),\"\")","v":""},{"$f":"IF(Registration!$D76=\"J\",Accuracy!L76,\"\")","v":""},{"$f":"IF(AND(Registration!$D76=\"J\",COUNTBLANK(G77)=0),RANK(G77,G$3:G$102,0),\"\")","v":""},{"$f":"IF(AND(Registration!$D76=\"J\",COUNTBLANK(H77)=0),placingpoints(H77,COUNTIF(H$3:H$102,\"=\"&H77)),\"\")","v":""},{"$f":"IF(Registration!D76=\"J\",MTA!G76,\"\")","v":""},{"$f":"IF(AND(Registration!D76=\"J\",COUNTBLANK(J77)=0),RANK(J77,J$3:J$101,0),\"\")","v":""},{"$f":"IF(AND(Registration!$D76=\"J\",COUNTBLANK(K77)=0),placingpoints(K77,COUNTIF(K$3:K$101,\"=\"&K77)),\"\")","v":""},{"$f":"IF(Registration!D76=\"J\",'Trick Catch'!X77,\"\")","v":""},{"$f":"IF(AND(Registration!D76=\"J\",COUNTBLANK(M77)=0),RANK(M77,M$3:M$101,0),\"\")","v":""},{"$f":"IF(AND(Registration!$D76=\"J\",COUNTBLANK(N77)=0),placingpoints(N77,COUNTIF(N$3:N$101,\"=\"&N77)),\"\")","v":""},{"$f":"IF(Registration!D76=\"J\",'Fast Catch'!F76,\"\")","v":""},{"$f":"IF(AND(Registration!D76=\"J\",COUNTBLANK(P77)=0),RANK(P77,P$3:P$101,1),\"\")","v":""},{"$f":"IF(AND(Registration!$D76=\"J\",COUNTBLANK(Q77)=0),placingpoints(Q77,COUNTIF(Q$3:Q$101,\"=\"&Q77)),\"\")","v":""},{"$f":"IF(Registration!D76=\"J\",Endurance!C76,\"\")","v":""},{"$f":"IF(AND(Registration!D76=\"J\",COUNTBLANK(S77)=0),RANK(S77,S$3:S$101,0),\"\")","v":""},{"$f":"IF(AND(Registration!$D76=\"J\",COUNTBLANK(T77)=0),placingpoints(T77,COUNTIF(T$3:T$101,\"=\"&T77)),\"\")","v":""}]
[{"$f":"IF(Registration!D77=\"J\",RANK(B78,$B$3:$B$101,1),\"\")","v":""},{"$f":"IF(Registration!D77=\"J\",SUM(F78,I78,L78,O78,R78,U78),\"\")","v":""},{"$f":"IF(COUNTBLANK(Registration!B77)=1,\"\",IF(Registration!D77=\"J\",Registration!B77,\"\"))","v":""},{"$f":"IF(Registration!D77=\"J\",'Aussie Round'!V78,\"\")","v":""},{"$f":"IF(AND(Registration!D77=\"J\",COUNTBLANK(D78)=0),RANK(D78,D$3:D$101,0),\"\")","v":""},{"$f":"IF(AND(Registration!$D77=\"J\",COUNTBLANK(E78)=0),placingpoints(E78,COUNTIF(E$3:E$101,\"=\"&E78)),\"\")","v":""},{"$f":"IF(Registration!$D77=\"J\",Accuracy!L77,\"\")","v":""},{"$f":"IF(AND(Registration!$D77=\"J\",COUNTBLANK(G78)=0),RANK(G78,G$3:G$102,0),\"\")","v":""},{"$f":"IF(AND(Registration!$D77=\"J\",COUNTBLANK(H78)=0),placingpoints(H78,COUNTIF(H$3:H$102,\"=\"&H78)),\"\")","v":""},{"$f":"IF(Registration!D77=\"J\",MTA!G77,\"\")","v":""},{"$f":"IF(AND(Registration!D77=\"J\",COUNTBLANK(J78)=0),RANK(J78,J$3:J$101,0),\"\")","v":""},{"$f":"IF(AND(Registration!$D77=\"J\",COUNTBLANK(K78)=0),placingpoints(K78,COUNTIF(K$3:K$101,\"=\"&K78)),\"\")","v":""},{"$f":"IF(Registration!D77=\"J\",'Trick Catch'!X78,\"\")","v":""},{"$f":"IF(AND(Registration!D77=\"J\",COUNTBLANK(M78)=0),RANK(M78,M$3:M$101,0),\"\")","v":""},{"$f":"IF(AND(Registration!$D77=\"J\",COUNTBLANK(N78)=0),placingpoints(N78,COUNTIF(N$3:N$101,\"=\"&N78)),\"\")","v":""},{"$f":"IF(Registration!D77=\"J\",'Fast Catch'!F77,\"\")","v":""},{"$f":"IF(AND(Registration!D77=\"J\",COUNTBLANK(P78)=0),RANK(P78,P$3:P$101,1),\"\")","v":""},{"$f":"IF(AND(Registration!$D77=\"J\",COUNTBLANK(Q78)=0),placingpoints(Q78,COUNTIF(Q$3:Q$101,\"=\"&Q78)),\"\")","v":""},{"$f":"IF(Registration!D77=\"J\",Endurance!C77,\"\")","v":""},{"$f":"IF(AND(Registration!D77=\"J\",COUNTBLANK(S78)=0),RANK(S78,S$3:S$101,0),\"\")","v":""},{"$f":"IF(AND(Registration!$D77=\"J\",COUNTBLANK(T78)=0),placingpoints(T78,COUNTIF(T$3:T$101,\"=\"&T78)),\"\")","v":""}]
[{"$f":"IF(Registration!D78=\"J\",RANK(B79,$B$3:$B$101,1),\"\")","v":""},{"$f":"IF(Registration!D78=\"J\",SUM(F79,I79,L79,O79,R79,U79),\"\")","v":""},{"$f":"IF(COUNTBLANK(Registration!B78)=1,\"\",IF(Registration!D78=\"J\",Registration!B78,\"\"))","v":""},{"$f":"IF(Registration!D78=\"J\",'Aussie Round'!V79,\"\")","v":""},{"$f":"IF(AND(Registration!D78=\"J\",COUNTBLANK(D79)=0),RANK(D79,D$3:D$101,0),\"\")","v":""},{"$f":"IF(AND(Registration!$D78=\"J\",COUNTBLANK(E79)=0),placingpoints(E79,COUNTIF(E$3:E$101,\"=\"&E79)),\"\")","v":""},{"$f":"IF(Registration!$D78=\"J\",Accuracy!L78,\"\")","v":""},{"$f":"IF(AND(Registration!$D78=\"J\",COUNTBLANK(G79)=0),RANK(G79,G$3:G$102,0),\"\")","v":""},{"$f":"IF(AND(Registration!$D78=\"J\",COUNTBLANK(H79)=0),placingpoints(H79,COUNTIF(H$3:H$102,\"=\"&H79)),\"\")","v":""},{"$f":"IF(Registration!D78=\"J\",MTA!G78,\"\")","v":""},{"$f":"IF(AND(Registration!D78=\"J\",COUNTBLANK(J79)=0),RANK(J79,J$3:J$101,0),\"\")","v":""},{"$f":"IF(AND(Registration!$D78=\"J\",COUNTBLANK(K79)=0),placingpoints(K79,COUNTIF(K$3:K$101,\"=\"&K79)),\"\")","v":""},{"$f":"IF(Registration!D78=\"J\",'Trick Catch'!X79,\"\")","v":""},{"$f":"IF(AND(Registration!D78=\"J\",COUNTBLANK(M79)=0),RANK(M79,M$3:M$101,0),\"\")","v":""},{"$f":"IF(AND(Registration!$D78=\"J\",COUNTBLANK(N79)=0),placingpoints(N79,COUNTIF(N$3:N$101,\"=\"&N79)),\"\")","v":""},{"$f":"IF(Registration!D78=\"J\",'Fast Catch'!F78,\"\")","v":""},{"$f":"IF(AND(Registration!D78=\"J\",COUNTBLANK(P79)=0),RANK(P79,P$3:P$101,1),\"\")","v":""},{"$f":"IF(AND(Registration!$D78=\"J\",COUNTBLANK(Q79)=0),placingpoints(Q79,COUNTIF(Q$3:Q$101,\"=\"&Q79)),\"\")","v":""},{"$f":"IF(Registration!D78=\"J\",Endurance!C78,\"\")","v":""},{"$f":"IF(AND(Registration!D78=\"J\",COUNTBLANK(S79)=0),RANK(S79,S$3:S$101,0),\"\")","v":""},{"$f":"IF(AND(Registration!$D78=\"J\",COUNTBLANK(T79)=0),placingpoints(T79,COUNTIF(T$3:T$101,\"=\"&T79)),\"\")","v":""}]
[{"$f":"IF(Registration!D79=\"J\",RANK(B80,$B$3:$B$101,1),\"\")","v":""},{"$f":"IF(Registration!D79=\"J\",SUM(F80,I80,L80,O80,R80,U80),\"\")","v":""},{"$f":"IF(COUNTBLANK(Registration!B79)=1,\"\",IF(Registration!D79=\"J\",Registration!B79,\"\"))","v":""},{"$f":"IF(Registration!D79=\"J\",'Aussie Round'!V80,\"\")","v":""},{"$f":"IF(AND(Registration!D79=\"J\",COUNTBLANK(D80)=0),RANK(D80,D$3:D$101,0),\"\")","v":""},{"$f":"IF(AND(Registration!$D79=\"J\",COUNTBLANK(E80)=0),placingpoints(E80,COUNTIF(E$3:E$101,\"=\"&E80)),\"\")","v":""},{"$f":"IF(Registration!$D79=\"J\",Accuracy!L79,\"\")","v":""},{"$f":"IF(AND(Registration!$D79=\"J\",COUNTBLANK(G80)=0),RANK(G80,G$3:G$102,0),\"\")","v":""},{"$f":"IF(AND(Registration!$D79=\"J\",COUNTBLANK(H80)=0),placingpoints(H80,COUNTIF(H$3:H$102,\"=\"&H80)),\"\")","v":""},{"$f":"IF(Registration!D79=\"J\",MTA!G79,\"\")","v":""},{"$f":"IF(AND(Registration!D79=\"J\",COUNTBLANK(J80)=0),RANK(J80,J$3:J$101,0),\"\")","v":""},{"$f":"IF(AND(Registration!$D79=\"J\",COUNTBLANK(K80)=0),placingpoints(K80,COUNTIF(K$3:K$101,\"=\"&K80)),\"\")","v":""},{"$f":"IF(Registration!D79=\"J\",'Trick Catch'!X80,\"\")","v":""},{"$f":"IF(AND(Registration!D79=\"J\",COUNTBLANK(M80)=0),RANK(M80,M$3:M$101,0),\"\")","v":""},{"$f":"IF(AND(Registration!$D79=\"J\",COUNTBLANK(N80)=0),placingpoints(N80,COUNTIF(N$3:N$101,\"=\"&N80)),\"\")","v":""},{"$f":"IF(Registration!D79=\"J\",'Fast Catch'!F79,\"\")","v":""},{"$f":"IF(AND(Registration!D79=\"J\",COUNTBLANK(P80)=0),RANK(P80,P$3:P$101,1),\"\")","v":""},{"$f":"IF(AND(Registration!$D79=\"J\",COUNTBLANK(Q80)=0),placingpoints(Q80,COUNTIF(Q$3:Q$101,\"=\"&Q80)),\"\")","v":""},{"$f":"IF(Registration!D79=\"J\",Endurance!C79,\"\")","v":""},{"$f":"IF(AND(Registration!D79=\"J\",COUNTBLANK(S80)=0),RANK(S80,S$3:S$101,0),\"\")","v":""},{"$f":"IF(AND(Registration!$D79=\"J\",COUNTBLANK(T80)=0),placingpoints(T80,COUNTIF(T$3:T$101,\"=\"&T80)),\"\")","v":""}]
[{"$f":"IF(Registration!D80=\"J\",RANK(B81,$B$3:$B$101,1),\"\")","v":""},{"$f":"IF(Registration!D80=\"J\",SUM(F81,I81,L81,O81,R81,U81),\"\")","v":""},{"$f":"IF(COUNTBLANK(Registration!B80)=1,\"\",IF(Registration!D80=\"J\",Registration!B80,\"\"))","v":""},{"$f":"IF(Registration!D80=\"J\",'Aussie Round'!V81,\"\")","v":""},{"$f":"IF(AND(Registration!D80=\"J\",COUNTBLANK(D81)=0),RANK(D81,D$3:D$101,0),\"\")","v":""},{"$f":"IF(AND(Registration!$D80=\"J\",COUNTBLANK(E81)=0),placingpoints(E81,COUNTIF(E$3:E$101,\"=\"&E81)),\"\")","v":""},{"$f":"IF(Registration!$D80=\"J\",Accuracy!L80,\"\")","v":""},{"$f":"IF(AND(Registration!$D80=\"J\",COUNTBLANK(G81)=0),RANK(G81,G$3:G$102,0),\"\")","v":""},{"$f":"IF(AND(Registration!$D80=\"J\",COUNTBLANK(H81)=0),placingpoints(H81,COUNTIF(H$3:H$102,\"=\"&H81)),\"\")","v":""},{"$f":"IF(Registration!D80=\"J\",MTA!G80,\"\")","v":""},{"$f":"IF(AND(Registration!D80=\"J\",COUNTBLANK(J81)=0),RANK(J81,J$3:J$101,0),\"\")","v":""},{"$f":"IF(AND(Registration!$D80=\"J\",COUNTBLANK(K81)=0),placingpoints(K81,COUNTIF(K$3:K$101,\"=\"&K81)),\"\")","v":""},{"$f":"IF(Registration!D80=\"J\",'Trick Catch'!X81,\"\")","v":""},{"$f":"IF(AND(Registration!D80=\"J\",COUNTBLANK(M81)=0),RANK(M81,M$3:M$101,0),\"\")","v":""},{"$f":"IF(AND(Registration!$D80=\"J\",COUNTBLANK(N81)=0),placingpoints(N81,COUNTIF(N$3:N$101,\"=\"&N81)),\"\")","v":""},{"$f":"IF(Registration!D80=\"J\",'Fast Catch'!F80,\"\")","v":""},{"$f":"IF(AND(Registration!D80=\"J\",COUNTBLANK(P81)=0),RANK(P81,P$3:P$101,1),\"\")","v":""},{"$f":"IF(AND(Registration!$D80=\"J\",COUNTBLANK(Q81)=0),placingpoints(Q81,COUNTIF(Q$3:Q$101,\"=\"&Q81)),\"\")","v":""},{"$f":"IF(Registration!D80=\"J\",Endurance!C80,\"\")","v":""},{"$f":"IF(AND(Registration!D80=\"J\",COUNTBLANK(S81)=0),RANK(S81,S$3:S$101,0),\"\")","v":""},{"$f":"IF(AND(Registration!$D80=\"J\",COUNTBLANK(T81)=0),placingpoints(T81,COUNTIF(T$3:T$101,\"=\"&T81)),\"\")","v":""}]
[{"$f":"IF(Registration!D81=\"J\",RANK(B82,$B$3:$B$101,1),\"\")","v":""},{"$f":"IF(Registration!D81=\"J\",SUM(F82,I82,L82,O82,R82,U82),\"\")","v":""},{"$f":"IF(COUNTBLANK(Registration!B81)=1,\"\",IF(Registration!D81=\"J\",Registration!B81,\"\"))","v":""},{"$f":"IF(Registration!D81=\"J\",'Aussie Round'!V82,\"\")","v":""},{"$f":"IF(AND(Registration!D81=\"J\",COUNTBLANK(D82)=0),RANK(D82,D$3:D$101,0),\"\")","v":""},{"$f":"IF(AND(Registration!$D81=\"J\",COUNTBLANK(E82)=0),placingpoints(E82,COUNTIF(E$3:E$101,\"=\"&E82)),\"\")","v":""},{"$f":"IF(Registration!$D81=\"J\",Accuracy!L81,\"\")","v":""},{"$f":"IF(AND(Registration!$D81=\"J\",COUNTBLANK(G82)=0),RANK(G82,G$3:G$102,0),\"\")","v":""},{"$f":"IF(AND(Registration!$D81=\"J\",COUNTBLANK(H82)=0),placingpoints(H82,COUNTIF(H$3:H$102,\"=\"&H82)),\"\")","v":""},{"$f":"IF(Registration!D81=\"J\",MTA!G81,\"\")","v":""},{"$f":"IF(AND(Registration!D81=\"J\",COUNTBLANK(J82)=0),RANK(J82,J$3:J$101,0),\"\")","v":""},{"$f":"IF(AND(Registration!$D81=\"J\",COUNTBLANK(K82)=0),placingpoints(K82,COUNTIF(K$3:K$101,\"=\"&K82)),\"\")","v":""},{"$f":"IF(Registration!D81=\"J\",'Trick Catch'!X82,\"\")","v":""},{"$f":"IF(AND(Registration!D81=\"J\",COUNTBLANK(M82)=0),RANK(M82,M$3:M$101,0),\"\")","v":""},{"$f":"IF(AND(Registration!$D81=\"J\",COUNTBLANK(N82)=0),placingpoints(N82,COUNTIF(N$3:N$101,\"=\"&N82)),\"\")","v":""},{"$f":"IF(Registration!D81=\"J\",'Fast Catch'!F81,\"\")","v":""},{"$f":"IF(AND(Registration!D81=\"J\",COUNTBLANK(P82)=0),RANK(P82,P$3:P$101,1),\"\")","v":""},{"$f":"IF(AND(Registration!$D81=\"J\",COUNTBLANK(Q82)=0),placingpoints(Q82,COUNTIF(Q$3:Q$101,\"=\"&Q82)),\"\")","v":""},{"$f":"IF(Registration!D81=\"J\",Endurance!C81,\"\")","v":""},{"$f":"IF(AND(Registration!D81=\"J\",COUNTBLANK(S82)=0),RANK(S82,S$3:S$101,0),\"\")","v":""},{"$f":"IF(AND(Registration!$D81=\"J\",COUNTBLANK(T82)=0),placingpoints(T82,COUNTIF(T$3:T$101,\"=\"&T82)),\"\")","v":""}]
[{"$f":"IF(Registration!D82=\"J\",RANK(B83,$B$3:$B$101,1),\"\")","v":""},{"$f":"IF(Registration!D82=\"J\",SUM(F83,I83,L83,O83,R83,U83),\"\")","v":""},{"$f":"IF(COUNTBLANK(Registration!B82)=1,\"\",IF(Registration!D82=\"J\",Registration!B82,\"\"))","v":""},{"$f":"IF(Registration!D82=\"J\",'Aussie Round'!V83,\"\")","v":""},{"$f":"IF(AND(Registration!D82=\"J\",COUNTBLANK(D83)=0),RANK(D83,D$3:D$101,0),\"\")","v":""},{"$f":"IF(AND(Registration!$D82=\"J\",COUNTBLANK(E83)=0),placingpoints(E83,COUNTIF(E$3:E$101,\"=\"&E83)),\"\")","v":""},{"$f":"IF(Registration!$D82=\"J\",Accuracy!L82,\"\")","v":""},{"$f":"IF(AND(Registration!$D82=\"J\",COUNTBLANK(G83)=0),RANK(G83,G$3:G$102,0),\"\")","v":""},{"$f":"IF(AND(Registration!$D82=\"J\",COUNTBLANK(H83)=0),placingpoints(H83,COUNTIF(H$3:H$102,\"=\"&H83)),\"\")","v":""},{"$f":"IF(Registration!D82=\"J\",MTA!G82,\"\")","v":""},{"$f":"IF(AND(Registration!D82=\"J\",COUNTBLANK(J83)=0),RANK(J83,J$3:J$101,0),\"\")","v":""},{"$f":"IF(AND(Registration!$D82=\"J\",COUNTBLANK(K83)=0),placingpoints(K83,COUNTIF(K$3:K$101,\"=\"&K83)),\"\")","v":""},{"$f":"IF(Registration!D82=\"J\",'Trick Catch'!X83,\"\")","v":""},{"$f":"IF(AND(Registration!D82=\"J\",COUNTBLANK(M83)=0),RANK(M83,M$3:M$101,0),\"\")","v":""},{"$f":"IF(AND(Registration!$D82=\"J\",COUNTBLANK(N83)=0),placingpoints(N83,COUNTIF(N$3:N$101,\"=\"&N83)),\"\")","v":""},{"$f":"IF(Registration!D82=\"J\",'Fast Catch'!F82,\"\")","v":""},{"$f":"IF(AND(Registration!D82=\"J\",COUNTBLANK(P83)=0),RANK(P83,P$3:P$101,1),\"\")","v":""},{"$f":"IF(AND(Registration!$D82=\"J\",COUNTBLANK(Q83)=0),placingpoints(Q83,COUNTIF(Q$3:Q$101,\"=\"&Q83)),\"\")","v":""},{"$f":"IF(Registration!D82=\"J\",Endurance!C82,\"\")","v":""},{"$f":"IF(AND(Registration!D82=\"J\",COUNTBLANK(S83)=0),RANK(S83,S$3:S$101,0),\"\")","v":""},{"$f":"IF(AND(Registration!$D82=\"J\",COUNTBLANK(T83)=0),placingpoints(T83,COUNTIF(T$3:T$101,\"=\"&T83)),\"\")","v":""}]
[{"$f":"IF(Registration!D83=\"J\",RANK(B84,$B$3:$B$101,1),\"\")","v":""},{"$f":"IF(Registration!D83=\"J\",SUM(F84,I84,L84,O84,R84,U84),\"\")","v":""},{"$f":"IF(COUNTBLANK(Registration!B83)=1,\"\",IF(Registration!D83=\"J\",Registration!B83,\"\"))","v":""},{"$f":"IF(Registration!D83=\"J\",'Aussie Round'!V84,\"\")","v":""},{"$f":"IF(AND(Registration!D83=\"J\",COUNTBLANK(D84)=0),RANK(D84,D$3:D$101,0),\"\")","v":""},{"$f":"IF(AND(Registration!$D83=\"J\",COUNTBLANK(E84)=0),placingpoints(E84,COUNTIF(E$3:E$101,\"=\"&E84)),\"\")","v":""},{"$f":"IF(Registration!$D83=\"J\",Accuracy!L83,\"\")","v":""},{"$f":"IF(AND(Registration!$D83=\"J\",COUNTBLANK(G84)=0),RANK(G84,G$3:G$102,0),\"\")","v":""},{"$f":"IF(AND(Registration!$D83=\"J\",COUNTBLANK(H84)=0),placingpoints(H84,COUNTIF(H$3:H$102,\"=\"&H84)),\"\")","v":""},{"$f":"IF(Registration!D83=\"J\",MTA!G83,\"\")","v":""},{"$f":"IF(AND(Registration!D83=\"J\",COUNTBLANK(J84)=0),RANK(J84,J$3:J$101,0),\"\")","v":""},{"$f":"IF(AND(Registration!$D83=\"J\",COUNTBLANK(K84)=0),placingpoints(K84,COUNTIF(K$3:K$101,\"=\"&K84)),\"\")","v":""},{"$f":"IF(Registration!D83=\"J\",'Trick Catch'!X84,\"\")","v":""},{"$f":"IF(AND(Registration!D83=\"J\",COUNTBLANK(M84)=0),RANK(M84,M$3:M$101,0),\"\")","v":""},{"$f":"IF(AND(Registration!$D83=\"J\",COUNTBLANK(N84)=0),placingpoints(N84,COUNTIF(N$3:N$101,\"=\"&N84)),\"\")","v":""},{"$f":"IF(Registration!D83=\"J\",'Fast Catch'!F83,\"\")","v":""},{"$f":"IF(AND(Registration!D83=\"J\",COUNTBLANK(P84)=0),RANK(P84,P$3:P$101,1),\"\")","v":""},{"$f":"IF(AND(Registration!$D83=\"J\",COUNTBLANK(Q84)=0),placingpoints(Q84,COUNTIF(Q$3:Q$101,\"=\"&Q84)),\"\")","v":""},{"$f":"IF(Registration!D83=\"J\",Endurance!C83,\"\")","v":""},{"$f":"IF(AND(Registration!D83=\"J\",COUNTBLANK(S84)=0),RANK(S84,S$3:S$101,0),\"\")","v":""},{"$f":"IF(AND(Registration!$D83=\"J\",COUNTBLANK(T84)=0),placingpoints(T84,COUNTIF(T$3:T$101,\"=\"&T84)),\"\")","v":""}]
[{"$f":"IF(Registration!D84=\"J\",RANK(B85,$B$3:$B$101,1),\"\")","v":""},{"$f":"IF(Registration!D84=\"J\",SUM(F85,I85,L85,O85,R85,U85),\"\")","v":""},{"$f":"IF(COUNTBLANK(Registration!B84)=1,\"\",IF(Registration!D84=\"J\",Registration!B84,\"\"))","v":""},{"$f":"IF(Registration!D84=\"J\",'Aussie Round'!V85,\"\")","v":""},{"$f":"IF(AND(Registration!D84=\"J\",COUNTBLANK(D85)=0),RANK(D85,D$3:D$101,0),\"\")","v":""},{"$f":"IF(AND(Registration!$D84=\"J\",COUNTBLANK(E85)=0),placingpoints(E85,COUNTIF(E$3:E$101,\"=\"&E85)),\"\")","v":""},{"$f":"IF(Registration!$D84=\"J\",Accuracy!L84,\"\")","v":""},{"$f":"IF(AND(Registration!$D84=\"J\",COUNTBLANK(G85)=0),RANK(G85,G$3:G$102,0),\"\")","v":""},{"$f":"IF(AND(Registration!$D84=\"J\",COUNTBLANK(H85)=0),placingpoints(H85,COUNTIF(H$3:H$102,\"=\"&H85)),\"\")","v":""},{"$f":"IF(Registration!D84=\"J\",MTA!G84,\"\")","v":""},{"$f":"IF(AND(Registration!D84=\"J\",COUNTBLANK(J85)=0),RANK(J85,J$3:J$101,0),\"\")","v":""},{"$f":"IF(AND(Registration!$D84=\"J\",COUNTBLANK(K85)=0),placingpoints(K85,COUNTIF(K$3:K$101,\"=\"&K85)),\"\")","v":""},{"$f":"IF(Registration!D84=\"J\",'Trick Catch'!X85,\"\")","v":""},{"$f":"IF(AND(Registration!D84=\"J\",COUNTBLANK(M85)=0),RANK(M85,M$3:M$101,0),\"\")","v":""},{"$f":"IF(AND(Registration!$D84=\"J\",COUNTBLANK(N85)=0),placingpoints(N85,COUNTIF(N$3:N$101,\"=\"&N85)),\"\")","v":""},{"$f":"IF(Registration!D84=\"J\",'Fast Catch'!F84,\"\")","v":""},{"$f":"IF(AND(Registration!D84=\"J\",COUNTBLANK(P85)=0),RANK(P85,P$3:P$101,1),\"\")","v":""},{"$f":"IF(AND(Registration!$D84=\"J\",COUNTBLANK(Q85)=0),placingpoints(Q85,COUNTIF(Q$3:Q$101,\"=\"&Q85)),\"\")","v":""},{"$f":"IF(Registration!D84=\"J\",Endurance!C84,\"\")","v":""},{"$f":"IF(AND(Registration!D84=\"J\",COUNTBLANK(S85)=0),RANK(S85,S$3:S$101,0),\"\")","v":""},{"$f":"IF(AND(Registration!$D84=\"J\",COUNTBLANK(T85)=0),placingpoints(T85,COUNTIF(T$3:T$101,\"=\"&T85)),\"\")","v":""}]
[{"$f":"IF(Registration!D85=\"J\",RANK(B86,$B$3:$B$101,1),\"\")","v":""},{"$f":"IF(Registration!D85=\"J\",SUM(F86,I86,L86,O86,R86,U86),\"\")","v":""},{"$f":"IF(COUNTBLANK(Registration!B85)=1,\"\",IF(Registration!D85=\"J\",Registration!B85,\"\"))","v":""},{"$f":"IF(Registration!D85=\"J\",'Aussie Round'!V86,\"\")","v":""},{"$f":"IF(AND(Registration!D85=\"J\",COUNTBLANK(D86)=0),RANK(D86,D$3:D$101,0),\"\")","v":""},{"$f":"IF(AND(Registration!$D85=\"J\",COUNTBLANK(E86)=0),placingpoints(E86,COUNTIF(E$3:E$101,\"=\"&E86)),\"\")","v":""},{"$f":"IF(Registration!$D85=\"J\",Accuracy!L85,\"\")","v":""},{"$f":"IF(AND(Registration!$D85=\"J\",COUNTBLANK(G86)=0),RANK(G86,G$3:G$102,0),\"\")","v":""},{"$f":"IF(AND(Registration!$D85=\"J\",COUNTBLANK(H86)=0),placingpoints(H86,COUNTIF(H$3:H$102,\"=\"&H86)),\"\")","v":""},{"$f":"IF(Registration!D85=\"J\",MTA!G85,\"\")","v":""},{"$f":"IF(AND(Registration!D85=\"J\",COUNTBLANK(J86)=0),RANK(J86,J$3:J$101,0),\"\")","v":""},{"$f":"IF(AND(Registration!$D85=\"J\",COUNTBLANK(K86)=0),placingpoints(K86,COUNTIF(K$3:K$101,\"=\"&K86)),\"\")","v":""},{"$f":"IF(Registration!D85=\"J\",'Trick Catch'!X86,\"\")","v":""},{"$f":"IF(AND(Registration!D85=\"J\",COUNTBLANK(M86)=0),RANK(M86,M$3:M$101,0),\"\")","v":""},{"$f":"IF(AND(Registration!$D85=\"J\",COUNTBLANK(N86)=0),placingpoints(N86,COUNTIF(N$3:N$101,\"=\"&N86)),\"\")","v":""},{"$f":"IF(Registration!D85=\"J\",'Fast Catch'!F85,\"\")","v":""},{"$f":"IF(AND(Registration!D85=\"J\",COUNTBLANK(P86)=0),RANK(P86,P$3:P$101,1),\"\")","v":""},{"$f":"IF(AND(Registration!$D85=\"J\",COUNTBLANK(Q86)=0),placingpoints(Q86,COUNTIF(Q$3:Q$101,\"=\"&Q86)),\"\")","v":""},{"$f":"IF(Registration!D85=\"J\",Endurance!C85,\"\")","v":""},{"$f":"IF(AND(Registration!D85=\"J\",COUNTBLANK(S86)=0),RANK(S86,S$3:S$101,0),\"\")","v":""},{"$f":"IF(AND(Registration!$D85=\"J\",COUNTBLANK(T86)=0),placingpoints(T86,COUNTIF(T$3:T$101,\"=\"&T86)),\"\")","v":""}]
[{"$f":"IF(Registration!D86=\"J\",RANK(B87,$B$3:$B$101,1),\"\")","v":""},{"$f":"IF(Registration!D86=\"J\",SUM(F87,I87,L87,O87,R87,U87),\"\")","v":""},{"$f":"IF(COUNTBLANK(Registration!B86)=1,\"\",IF(Registration!D86=\"J\",Registration!B86,\"\"))","v":""},{"$f":"IF(Registration!D86=\"J\",'Aussie Round'!V87,\"\")","v":""},{"$f":"IF(AND(Registration!D86=\"J\",COUNTBLANK(D87)=0),RANK(D87,D$3:D$101,0),\"\")","v":""},{"$f":"IF(AND(Registration!$D86=\"J\",COUNTBLANK(E87)=0),placingpoints(E87,COUNTIF(E$3:E$101,\"=\"&E87)),\"\")","v":""},{"$f":"IF(Registration!$D86=\"J\",Accuracy!L86,\"\")","v":""},{"$f":"IF(AND(Registration!$D86=\"J\",COUNTBLANK(G87)=0),RANK(G87,G$3:G$102,0),\"\")","v":""},{"$f":"IF(AND(Registration!$D86=\"J\",COUNTBLANK(H87)=0),placingpoints(H87,COUNTIF(H$3:H$102,\"=\"&H87)),\"\")","v":""},{"$f":"IF(Registration!D86=\"J\",MTA!G86,\"\")","v":""},{"$f":"IF(AND(Registration!D86=\"J\",COUNTBLANK(J87)=0),RANK(J87,J$3:J$101,0),\"\")","v":""},{"$f":"IF(AND(Registration!$D86=\"J\",COUNTBLANK(K87)=0),placingpoints(K87,COUNTIF(K$3:K$101,\"=\"&K87)),\"\")","v":""},{"$f":"IF(Registration!D86=\"J\",'Trick Catch'!X87,\"\")","v":""},{"$f":"IF(AND(Registration!D86=\"J\",COUNTBLANK(M87)=0),RANK(M87,M$3:M$101,0),\"\")","v":""},{"$f":"IF(AND(Registration!$D86=\"J\",COUNTBLANK(N87)=0),placingpoints(N87,COUNTIF(N$3:N$101,\"=\"&N87)),\"\")","v":""},{"$f":"IF(Registration!D86=\"J\",'Fast Catch'!F86,\"\")","v":""},{"$f":"IF(AND(Registration!D86=\"J\",COUNTBLANK(P87)=0),RANK(P87,P$3:P$101,1),\"\")","v":""},{"$f":"IF(AND(Registration!$D86=\"J\",COUNTBLANK(Q87)=0),placingpoints(Q87,COUNTIF(Q$3:Q$101,\"=\"&Q87)),\"\")","v":""},{"$f":"IF(Registration!D86=\"J\",Endurance!C86,\"\")","v":""},{"$f":"IF(AND(Registration!D86=\"J\",COUNTBLANK(S87)=0),RANK(S87,S$3:S$101,0),\"\")","v":""},{"$f":"IF(AND(Registration!$D86=\"J\",COUNTBLANK(T87)=0),placingpoints(T87,COUNTIF(T$3:T$101,\"=\"&T87)),\"\")","v":""}]
[{"$f":"IF(Registration!D87=\"J\",RANK(B88,$B$3:$B$101,1),\"\")","v":""},{"$f":"IF(Registration!D87=\"J\",SUM(F88,I88,L88,O88,R88,U88),\"\")","v":""},{"$f":"IF(COUNTBLANK(Registration!B87)=1,\"\",IF(Registration!D87=\"J\",Registration!B87,\"\"))","v":""},{"$f":"IF(Registration!D87=\"J\",'Aussie Round'!V88,\"\")","v":""},{"$f":"IF(AND(Registration!D87=\"J\",COUNTBLANK(D88)=0),RANK(D88,D$3:D$101,0),\"\")","v":""},{"$f":"IF(AND(Registration!$D87=\"J\",COUNTBLANK(E88)=0),placingpoints(E88,COUNTIF(E$3:E$101,\"=\"&E88)),\"\")","v":""},{"$f":"IF(Registration!$D87=\"J\",Accuracy!L87,\"\")","v":""},{"$f":"IF(AND(Registration!$D87=\"J\",COUNTBLANK(G88)=0),RANK(G88,G$3:G$102,0),\"\")","v":""},{"$f":"IF(AND(Registration!$D87=\"J\",COUNTBLANK(H88)=0),placingpoints(H88,COUNTIF(H$3:H$102,\"=\"&H88)),\"\")","v":""},{"$f":"IF(Registration!D87=\"J\",MTA!G87,\"\")","v":""},{"$f":"IF(AND(Registration!D87=\"J\",COUNTBLANK(J88)=0),RANK(J88,J$3:J$101,0),\"\")","v":""},{"$f":"IF(AND(Registration!$D87=\"J\",COUNTBLANK(K88)=0),placingpoints(K88,COUNTIF(K$3:K$101,\"=\"&K88)),\"\")","v":""},{"$f":"IF(Registration!D87=\"J\",'Trick Catch'!X88,\"\")","v":""},{"$f":"IF(AND(Registration!D87=\"J\",COUNTBLANK(M88)=0),RANK(M88,M$3:M$101,0),\"\")","v":""},{"$f":"IF(AND(Registration!$D87=\"J\",COUNTBLANK(N88)=0),placingpoints(N88,COUNTIF(N$3:N$101,\"=\"&N88)),\"\")","v":""},{"$f":"IF(Registration!D87=\"J\",'Fast Catch'!F87,\"\")","v":""},{"$f":"IF(AND(Registration!D87=\"J\",COUNTBLANK(P88)=0),RANK(P88,P$3:P$101,1),\"\")","v":""},{"$f":"IF(AND(Registration!$D87=\"J\",COUNTBLANK(Q88)=0),placingpoints(Q88,COUNTIF(Q$3:Q$101,\"=\"&Q88)),\"\")","v":""},{"$f":"IF(Registration!D87=\"J\",Endurance!C87,\"\")","v":""},{"$f":"IF(AND(Registration!D87=\"J\",COUNTBLANK(S88)=0),RANK(S88,S$3:S$101,0),\"\")","v":""},{"$f":"IF(AND(Registration!$D87=\"J\",COUNTBLANK(T88)=0),placingpoints(T88,COUNTIF(T$3:T$101,\"=\"&T88)),\"\")","v":""}]
[{"$f":"IF(Registration!D88=\"J\",RANK(B89,$B$3:$B$101,1),\"\")","v":""},{"$f":"IF(Registration!D88=\"J\",SUM(F89,I89,L89,O89,R89,U89),\"\")","v":""},{"$f":"IF(COUNTBLANK(Registration!B88)=1,\"\",IF(Registration!D88=\"J\",Registration!B88,\"\"))","v":""},{"$f":"IF(Registration!D88=\"J\",'Aussie Round'!V89,\"\")","v":""},{"$f":"IF(AND(Registration!D88=\"J\",COUNTBLANK(D89)=0),RANK(D89,D$3:D$101,0),\"\")","v":""},{"$f":"IF(AND(Registration!$D88=\"J\",COUNTBLANK(E89)=0),placingpoints(E89,COUNTIF(E$3:E$101,\"=\"&E89)),\"\")","v":""},{"$f":"IF(Registration!$D88=\"J\",Accuracy!L88,\"\")","v":""},{"$f":"IF(AND(Registration!$D88=\"J\",COUNTBLANK(G89)=0),RANK(G89,G$3:G$102,0),\"\")","v":""},{"$f":"IF(AND(Registration!$D88=\"J\",COUNTBLANK(H89)=0),placingpoints(H89,COUNTIF(H$3:H$102,\"=\"&H89)),\"\")","v":""},{"$f":"IF(Registration!D88=\"J\",MTA!G88,\"\")","v":""},{"$f":"IF(AND(Registration!D88=\"J\",COUNTBLANK(J89)=0),RANK(J89,J$3:J$101,0),\"\")","v":""},{"$f":"IF(AND(Registration!$D88=\"J\",COUNTBLANK(K89)=0),placingpoints(K89,COUNTIF(K$3:K$101,\"=\"&K89)),\"\")","v":""},{"$f":"IF(Registration!D88=\"J\",'Trick Catch'!X89,\"\")","v":""},{"$f":"IF(AND(Registration!D88=\"J\",COUNTBLANK(M89)=0),RANK(M89,M$3:M$101,0),\"\")","v":""},{"$f":"IF(AND(Registration!$D88=\"J\",COUNTBLANK(N89)=0),placingpoints(N89,COUNTIF(N$3:N$101,\"=\"&N89)),\"\")","v":""},{"$f":"IF(Registration!D88=\"J\",'Fast Catch'!F88,\"\")","v":""},{"$f":"IF(AND(Registration!D88=\"J\",COUNTBLANK(P89)=0),RANK(P89,P$3:P$101,1),\"\")","v":""},{"$f":"IF(AND(Registration!$D88=\"J\",COUNTBLANK(Q89)=0),placingpoints(Q89,COUNTIF(Q$3:Q$101,\"=\"&Q89)),\"\")","v":""},{"$f":"IF(Registration!D88=\"J\",Endurance!C88,\"\")","v":""},{"$f":"IF(AND(Registration!D88=\"J\",COUNTBLANK(S89)=0),RANK(S89,S$3:S$101,0),\"\")","v":""},{"$f":"IF(AND(Registration!$D88=\"J\",COUNTBLANK(T89)=0),placingpoints(T89,COUNTIF(T$3:T$101,\"=\"&T89)),\"\")","v":""}]
[{"$f":"IF(Registration!D89=\"J\",RANK(B90,$B$3:$B$101,1),\"\")","v":""},{"$f":"IF(Registration!D89=\"J\",SUM(F90,I90,L90,O90,R90,U90),\"\")","v":""},{"$f":"IF(COUNTBLANK(Registration!B89)=1,\"\",IF(Registration!D89=\"J\",Registration!B89,\"\"))","v":""},{"$f":"IF(Registration!D89=\"J\",'Aussie Round'!V90,\"\")","v":""},{"$f":"IF(AND(Registration!D89=\"J\",COUNTBLANK(D90)=0),RANK(D90,D$3:D$101,0),\"\")","v":""},{"$f":"IF(AND(Registration!$D89=\"J\",COUNTBLANK(E90)=0),placingpoints(E90,COUNTIF(E$3:E$101,\"=\"&E90)),\"\")","v":""},{"$f":"IF(Registration!$D89=\"J\",Accuracy!L89,\"\")","v":""},{"$f":"IF(AND(Registration!$D89=\"J\",COUNTBLANK(G90)=0),RANK(G90,G$3:G$102,0),\"\")","v":""},{"$f":"IF(AND(Registration!$D89=\"J\",COUNTBLANK(H90)=0),placingpoints(H90,COUNTIF(H$3:H$102,\"=\"&H90)),\"\")","v":""},{"$f":"IF(Registration!D89=\"J\",MTA!G89,\"\")","v":""},{"$f":"IF(AND(Registration!D89=\"J\",COUNTBLANK(J90)=0),RANK(J90,J$3:J$101,0),\"\")","v":""},{"$f":"IF(AND(Registration!$D89=\"J\",COUNTBLANK(K90)=0),placingpoints(K90,COUNTIF(K$3:K$101,\"=\"&K90)),\"\")","v":""},{"$f":"IF(Registration!D89=\"J\",'Trick Catch'!X90,\"\")","v":""},{"$f":"IF(AND(Registration!D89=\"J\",COUNTBLANK(M90)=0),RANK(M90,M$3:M$101,0),\"\")","v":""},{"$f":"IF(AND(Registration!$D89=\"J\",COUNTBLANK(N90)=0),placingpoints(N90,COUNTIF(N$3:N$101,\"=\"&N90)),\"\")","v":""},{"$f":"IF(Registration!D89=\"J\",'Fast Catch'!F89,\"\")","v":""},{"$f":"IF(AND(Registration!D89=\"J\",COUNTBLANK(P90)=0),RANK(P90,P$3:P$101,1),\"\")","v":""},{"$f":"IF(AND(Registration!$D89=\"J\",COUNTBLANK(Q90)=0),placingpoints(Q90,COUNTIF(Q$3:Q$101,\"=\"&Q90)),\"\")","v":""},{"$f":"IF(Registration!D89=\"J\",Endurance!C89,\"\")","v":""},{"$f":"IF(AND(Registration!D89=\"J\",COUNTBLANK(S90)=0),RANK(S90,S$3:S$101,0),\"\")","v":""},{"$f":"IF(AND(Registration!$D89=\"J\",COUNTBLANK(T90)=0),placingpoints(T90,COUNTIF(T$3:T$101,\"=\"&T90)),\"\")","v":""}]
[{"$f":"IF(Registration!D90=\"J\",RANK(B91,$B$3:$B$101,1),\"\")","v":""},{"$f":"IF(Registration!D90=\"J\",SUM(F91,I91,L91,O91,R91,U91),\"\")","v":""},{"$f":"IF(COUNTBLANK(Registration!B90)=1,\"\",IF(Registration!D90=\"J\",Registration!B90,\"\"))","v":""},{"$f":"IF(Registration!D90=\"J\",'Aussie Round'!V91,\"\")","v":""},{"$f":"IF(AND(Registration!D90=\"J\",COUNTBLANK(D91)=0),RANK(D91,D$3:D$101,0),\"\")","v":""},{"$f":"IF(AND(Registration!$D90=\"J\",COUNTBLANK(E91)=0),placingpoints(E91,COUNTIF(E$3:E$101,\"=\"&E91)),\"\")","v":""},{"$f":"IF(Registration!$D90=\"J\",Accuracy!L90,\"\")","v":""},{"$f":"IF(AND(Registration!$D90=\"J\",COUNTBLANK(G91)=0),RANK(G91,G$3:G$102,0),\"\")","v":""},{"$f":"IF(AND(Registration!$D90=\"J\",COUNTBLANK(H91)=0),placingpoints(H91,COUNTIF(H$3:H$102,\"=\"&H91)),\"\")","v":""},{"$f":"IF(Registration!D90=\"J\",MTA!G90,\"\")","v":""},{"$f":"IF(AND(Registration!D90=\"J\",COUNTBLANK(J91)=0),RANK(J91,J$3:J$101,0),\"\")","v":""},{"$f":"IF(AND(Registration!$D90=\"J\",COUNTBLANK(K91)=0),placingpoints(K91,COUNTIF(K$3:K$101,\"=\"&K91)),\"\")","v":""},{"$f":"IF(Registration!D90=\"J\",'Trick Catch'!X91,\"\")","v":""},{"$f":"IF(AND(Registration!D90=\"J\",COUNTBLANK(M91)=0),RANK(M91,M$3:M$101,0),\"\")","v":""},{"$f":"IF(AND(Registration!$D90=\"J\",COUNTBLANK(N91)=0),placingpoints(N91,COUNTIF(N$3:N$101,\"=\"&N91)),\"\")","v":""},{"$f":"IF(Registration!D90=\"J\",'Fast Catch'!F90,\"\")","v":""},{"$f":"IF(AND(Registration!D90=\"J\",COUNTBLANK(P91)=0),RANK(P91,P$3:P$101,1),\"\")","v":""},{"$f":"IF(AND(Registration!$D90=\"J\",COUNTBLANK(Q91)=0),placingpoints(Q91,COUNTIF(Q$3:Q$101,\"=\"&Q91)),\"\")","v":""},{"$f":"IF(Registration!D90=\"J\",Endurance!C90,\"\")","v":""},{"$f":"IF(AND(Registration!D90=\"J\",COUNTBLANK(S91)=0),RANK(S91,S$3:S$101,0),\"\")","v":""},{"$f":"IF(AND(Registration!$D90=\"J\",COUNTBLANK(T91)=0),placingpoints(T91,COUNTIF(T$3:T$101,\"=\"&T91)),\"\")","v":""}]
[{"$f":"IF(Registration!D91=\"J\",RANK(B92,$B$3:$B$101,1),\"\")","v":""},{"$f":"IF(Registration!D91=\"J\",SUM(F92,I92,L92,O92,R92,U92),\"\")","v":""},{"$f":"IF(COUNTBLANK(Registration!B91)=1,\"\",IF(Registration!D91=\"J\",Registration!B91,\"\"))","v":""},{"$f":"IF(Registration!D91=\"J\",'Aussie Round'!V92,\"\")","v":""},{"$f":"IF(AND(Registration!D91=\"J\",COUNTBLANK(D92)=0),RANK(D92,D$3:D$101,0),\"\")","v":""},{"$f":"IF(AND(Registration!$D91=\"J\",COUNTBLANK(E92)=0),placingpoints(E92,COUNTIF(E$3:E$101,\"=\"&E92)),\"\")","v":""},{"$f":"IF(Registration!$D91=\"J\",Accuracy!L91,\"\")","v":""},{"$f":"IF(AND(Registration!$D91=\"J\",COUNTBLANK(G92)=0),RANK(G92,G$3:G$102,0),\"\")","v":""},{"$f":"IF(AND(Registration!$D91=\"J\",COUNTBLANK(H92)=0),placingpoints(H92,COUNTIF(H$3:H$102,\"=\"&H92)),\"\")","v":""},{"$f":"IF(Registration!D91=\"J\",MTA!G91,\"\")","v":""},{"$f":"IF(AND(Registration!D91=\"J\",COUNTBLANK(J92)=0),RANK(J92,J$3:J$101,0),\"\")","v":""},{"$f":"IF(AND(Registration!$D91=\"J\",COUNTBLANK(K92)=0),placingpoints(K92,COUNTIF(K$3:K$101,\"=\"&K92)),\"\")","v":""},{"$f":"IF(Registration!D91=\"J\",'Trick Catch'!X92,\"\")","v":""},{"$f":"IF(AND(Registration!D91=\"J\",COUNTBLANK(M92)=0),RANK(M92,M$3:M$101,0),\"\")","v":""},{"$f":"IF(AND(Registration!$D91=\"J\",COUNTBLANK(N92)=0),placingpoints(N92,COUNTIF(N$3:N$101,\"=\"&N92)),\"\")","v":""},{"$f":"IF(Registration!D91=\"J\",'Fast Catch'!F91,\"\")","v":""},{"$f":"IF(AND(Registration!D91=\"J\",COUNTBLANK(P92)=0),RANK(P92,P$3:P$101,1),\"\")","v":""},{"$f":"IF(AND(Registration!$D91=\"J\",COUNTBLANK(Q92)=0),placingpoints(Q92,COUNTIF(Q$3:Q$101,\"=\"&Q92)),\"\")","v":""},{"$f":"IF(Registration!D91=\"J\",Endurance!C91,\"\")","v":""},{"$f":"IF(AND(Registration!D91=\"J\",COUNTBLANK(S92)=0),RANK(S92,S$3:S$101,0),\"\")","v":""},{"$f":"IF(AND(Registration!$D91=\"J\",COUNTBLANK(T92)=0),placingpoints(T92,COUNTIF(T$3:T$101,\"=\"&T92)),\"\")","v":""}]
[{"$f":"IF(Registration!D92=\"J\",RANK(B93,$B$3:$B$101,1),\"\")","v":""},{"$f":"IF(Registration!D92=\"J\",SUM(F93,I93,L93,O93,R93,U93),\"\")","v":""},{"$f":"IF(COUNTBLANK(Registration!B92)=1,\"\",IF(Registration!D92=\"J\",Registration!B92,\"\"))","v":""},{"$f":"IF(Registration!D92=\"J\",'Aussie Round'!V93,\"\")","v":""},{"$f":"IF(AND(Registration!D92=\"J\",COUNTBLANK(D93)=0),RANK(D93,D$3:D$101,0),\"\")","v":""},{"$f":"IF(AND(Registration!$D92=\"J\",COUNTBLANK(E93)=0),placingpoints(E93,COUNTIF(E$3:E$101,\"=\"&E93)),\"\")","v":""},{"$f":"IF(Registration!$D92=\"J\",Accuracy!L92,\"\")","v":""},{"$f":"IF(AND(Registration!$D92=\"J\",COUNTBLANK(G93)=0),RANK(G93,G$3:G$102,0),\"\")","v":""},{"$f":"IF(AND(Registration!$D92=\"J\",COUNTBLANK(H93)=0),placingpoints(H93,COUNTIF(H$3:H$102,\"=\"&H93)),\"\")","v":""},{"$f":"IF(Registration!D92=\"J\",MTA!G92,\"\")","v":""},{"$f":"IF(AND(Registration!D92=\"J\",COUNTBLANK(J93)=0),RANK(J93,J$3:J$101,0),\"\")","v":""},{"$f":"IF(AND(Registration!$D92=\"J\",COUNTBLANK(K93)=0),placingpoints(K93,COUNTIF(K$3:K$101,\"=\"&K93)),\"\")","v":""},{"$f":"IF(Registration!D92=\"J\",'Trick Catch'!X93,\"\")","v":""},{"$f":"IF(AND(Registration!D92=\"J\",COUNTBLANK(M93)=0),RANK(M93,M$3:M$101,0),\"\")","v":""},{"$f":"IF(AND(Registration!$D92=\"J\",COUNTBLANK(N93)=0),placingpoints(N93,COUNTIF(N$3:N$101,\"=\"&N93)),\"\")","v":""},{"$f":"IF(Registration!D92=\"J\",'Fast Catch'!F92,\"\")","v":""},{"$f":"IF(AND(Registration!D92=\"J\",COUNTBLANK(P93)=0),RANK(P93,P$3:P$101,1),\"\")","v":""},{"$f":"IF(AND(Registration!$D92=\"J\",COUNTBLANK(Q93)=0),placingpoints(Q93,COUNTIF(Q$3:Q$101,\"=\"&Q93)),\"\")","v":""},{"$f":"IF(Registration!D92=\"J\",Endurance!C92,\"\")","v":""},{"$f":"IF(AND(Registration!D92=\"J\",COUNTBLANK(S93)=0),RANK(S93,S$3:S$101,0),\"\")","v":""},{"$f":"IF(AND(Registration!$D92=\"J\",COUNTBLANK(T93)=0),placingpoints(T93,COUNTIF(T$3:T$101,\"=\"&T93)),\"\")","v":""}]
[{"$f":"IF(Registration!D93=\"J\",RANK(B94,$B$3:$B$101,1),\"\")","v":""},{"$f":"IF(Registration!D93=\"J\",SUM(F94,I94,L94,O94,R94,U94),\"\")","v":""},{"$f":"IF(COUNTBLANK(Registration!B93)=1,\"\",IF(Registration!D93=\"J\",Registration!B93,\"\"))","v":""},{"$f":"IF(Registration!D93=\"J\",'Aussie Round'!V94,\"\")","v":""},{"$f":"IF(AND(Registration!D93=\"J\",COUNTBLANK(D94)=0),RANK(D94,D$3:D$101,0),\"\")","v":""},{"$f":"IF(AND(Registration!$D93=\"J\",COUNTBLANK(E94)=0),placingpoints(E94,COUNTIF(E$3:E$101,\"=\"&E94)),\"\")","v":""},{"$f":"IF(Registration!$D93=\"J\",Accuracy!L93,\"\")","v":""},{"$f":"IF(AND(Registration!$D93=\"J\",COUNTBLANK(G94)=0),RANK(G94,G$3:G$102,0),\"\")","v":""},{"$f":"IF(AND(Registration!$D93=\"J\",COUNTBLANK(H94)=0),placingpoints(H94,COUNTIF(H$3:H$102,\"=\"&H94)),\"\")","v":""},{"$f":"IF(Registration!D93=\"J\",MTA!G93,\"\")","v":""},{"$f":"IF(AND(Registration!D93=\"J\",COUNTBLANK(J94)=0),RANK(J94,J$3:J$101,0),\"\")","v":""},{"$f":"IF(AND(Registration!$D93=\"J\",COUNTBLANK(K94)=0),placingpoints(K94,COUNTIF(K$3:K$101,\"=\"&K94)),\"\")","v":""},{"$f":"IF(Registration!D93=\"J\",'Trick Catch'!X94,\"\")","v":""},{"$f":"IF(AND(Registration!D93=\"J\",COUNTBLANK(M94)=0),RANK(M94,M$3:M$101,0),\"\")","v":""},{"$f":"IF(AND(Registration!$D93=\"J\",COUNTBLANK(N94)=0),placingpoints(N94,COUNTIF(N$3:N$101,\"=\"&N94)),\"\")","v":""},{"$f":"IF(Registration!D93=\"J\",'Fast Catch'!F93,\"\")","v":""},{"$f":"IF(AND(Registration!D93=\"J\",COUNTBLANK(P94)=0),RANK(P94,P$3:P$101,1),\"\")","v":""},{"$f":"IF(AND(Registration!$D93=\"J\",COUNTBLANK(Q94)=0),placingpoints(Q94,COUNTIF(Q$3:Q$101,\"=\"&Q94)),\"\")","v":""},{"$f":"IF(Registration!D93=\"J\",Endurance!C93,\"\")","v":""},{"$f":"IF(AND(Registration!D93=\"J\",COUNTBLANK(S94)=0),RANK(S94,S$3:S$101,0),\"\")","v":""},{"$f":"IF(AND(Registration!$D93=\"J\",COUNTBLANK(T94)=0),placingpoints(T94,COUNTIF(T$3:T$101,\"=\"&T94)),\"\")","v":""}]
[{"$f":"IF(Registration!D94=\"J\",RANK(B95,$B$3:$B$101,1),\"\")","v":""},{"$f":"IF(Registration!D94=\"J\",SUM(F95,I95,L95,O95,R95,U95),\"\")","v":""},{"$f":"IF(COUNTBLANK(Registration!B94)=1,\"\",IF(Registration!D94=\"J\",Registration!B94,\"\"))","v":""},{"$f":"IF(Registration!D94=\"J\",'Aussie Round'!V95,\"\")","v":""},{"$f":"IF(AND(Registration!D94=\"J\",COUNTBLANK(D95)=0),RANK(D95,D$3:D$101,0),\"\")","v":""},{"$f":"IF(AND(Registration!$D94=\"J\",COUNTBLANK(E95)=0),placingpoints(E95,COUNTIF(E$3:E$101,\"=\"&E95)),\"\")","v":""},{"$f":"IF(Registration!$D94=\"J\",Accuracy!L94,\"\")","v":""},{"$f":"IF(AND(Registration!$D94=\"J\",COUNTBLANK(G95)=0),RANK(G95,G$3:G$102,0),\"\")","v":""},{"$f":"IF(AND(Registration!$D94=\"J\",COUNTBLANK(H95)=0),placingpoints(H95,COUNTIF(H$3:H$102,\"=\"&H95)),\"\")","v":""},{"$f":"IF(Registration!D94=\"J\",MTA!G94,\"\")","v":""},{"$f":"IF(AND(Registration!D94=\"J\",COUNTBLANK(J95)=0),RANK(J95,J$3:J$101,0),\"\")","v":""},{"$f":"IF(AND(Registration!$D94=\"J\",COUNTBLANK(K95)=0),placingpoints(K95,COUNTIF(K$3:K$101,\"=\"&K95)),\"\")","v":""},{"$f":"IF(Registration!D94=\"J\",'Trick Catch'!X95,\"\")","v":""},{"$f":"IF(AND(Registration!D94=\"J\",COUNTBLANK(M95)=0),RANK(M95,M$3:M$101,0),\"\")","v":""},{"$f":"IF(AND(Registration!$D94=\"J\",COUNTBLANK(N95)=0),placingpoints(N95,COUNTIF(N$3:N$101,\"=\"&N95)),\"\")","v":""},{"$f":"IF(Registration!D94=\"J\",'Fast Catch'!F94,\"\")","v":""},{"$f":"IF(AND(Registration!D94=\"J\",COUNTBLANK(P95)=0),RANK(P95,P$3:P$101,1),\"\")","v":""},{"$f":"IF(AND(Registration!$D94=\"J\",COUNTBLANK(Q95)=0),placingpoints(Q95,COUNTIF(Q$3:Q$101,\"=\"&Q95)),\"\")","v":""},{"$f":"IF(Registration!D94=\"J\",Endurance!C94,\"\")","v":""},{"$f":"IF(AND(Registration!D94=\"J\",COUNTBLANK(S95)=0),RANK(S95,S$3:S$101,0),\"\")","v":""},{"$f":"IF(AND(Registration!$D94=\"J\",COUNTBLANK(T95)=0),placingpoints(T95,COUNTIF(T$3:T$101,\"=\"&T95)),\"\")","v":""}]
[{"$f":"IF(Registration!D95=\"J\",RANK(B96,$B$3:$B$101,1),\"\")","v":""},{"$f":"IF(Registration!D95=\"J\",SUM(F96,I96,L96,O96,R96,U96),\"\")","v":""},{"$f":"IF(COUNTBLANK(Registration!B95)=1,\"\",IF(Registration!D95=\"J\",Registration!B95,\"\"))","v":""},{"$f":"IF(Registration!D95=\"J\",'Aussie Round'!V96,\"\")","v":""},{"$f":"IF(AND(Registration!D95=\"J\",COUNTBLANK(D96)=0),RANK(D96,D$3:D$101,0),\"\")","v":""},{"$f":"IF(AND(Registration!$D95=\"J\",COUNTBLANK(E96)=0),placingpoints(E96,COUNTIF(E$3:E$101,\"=\"&E96)),\"\")","v":""},{"$f":"IF(Registration!$D95=\"J\",Accuracy!L95,\"\")","v":""},{"$f":"IF(AND(Registration!$D95=\"J\",COUNTBLANK(G96)=0),RANK(G96,G$3:G$102,0),\"\")","v":""},{"$f":"IF(AND(Registration!$D95=\"J\",COUNTBLANK(H96)=0),placingpoints(H96,COUNTIF(H$3:H$102,\"=\"&H96)),\"\")","v":""},{"$f":"IF(Registration!D95=\"J\",MTA!G95,\"\")","v":""},{"$f":"IF(AND(Registration!D95=\"J\",COUNTBLANK(J96)=0),RANK(J96,J$3:J$101,0),\"\")","v":""},{"$f":"IF(AND(Registration!$D95=\"J\",COUNTBLANK(K96)=0),placingpoints(K96,COUNTIF(K$3:K$101,\"=\"&K96)),\"\")","v":""},{"$f":"IF(Registration!D95=\"J\",'Trick Catch'!X96,\"\")","v":""},{"$f":"IF(AND(Registration!D95=\"J\",COUNTBLANK(M96)=0),RANK(M96,M$3:M$101,0),\"\")","v":""},{"$f":"IF(AND(Registration!$D95=\"J\",COUNTBLANK(N96)=0),placingpoints(N96,COUNTIF(N$3:N$101,\"=\"&N96)),\"\")","v":""},{"$f":"IF(Registration!D95=\"J\",'Fast Catch'!F95,\"\")","v":""},{"$f":"IF(AND(Registration!D95=\"J\",COUNTBLANK(P96)=0),RANK(P96,P$3:P$101,1),\"\")","v":""},{"$f":"IF(AND(Registration!$D95=\"J\",COUNTBLANK(Q96)=0),placingpoints(Q96,COUNTIF(Q$3:Q$101,\"=\"&Q96)),\"\")","v":""},{"$f":"IF(Registration!D95=\"J\",Endurance!C95,\"\")","v":""},{"$f":"IF(AND(Registration!D95=\"J\",COUNTBLANK(S96)=0),RANK(S96,S$3:S$101,0),\"\")","v":""},{"$f":"IF(AND(Registration!$D95=\"J\",COUNTBLANK(T96)=0),placingpoints(T96,COUNTIF(T$3:T$101,\"=\"&T96)),\"\")","v":""}]
[{"$f":"IF(Registration!D96=\"J\",RANK(B97,$B$3:$B$101,1),\"\")","v":""},{"$f":"IF(Registration!D96=\"J\",SUM(F97,I97,L97,O97,R97,U97),\"\")","v":""},{"$f":"IF(COUNTBLANK(Registration!B96)=1,\"\",IF(Registration!D96=\"J\",Registration!B96,\"\"))","v":""},{"$f":"IF(Registration!D96=\"J\",'Aussie Round'!V97,\"\")","v":""},{"$f":"IF(AND(Registration!D96=\"J\",COUNTBLANK(D97)=0),RANK(D97,D$3:D$101,0),\"\")","v":""},{"$f":"IF(AND(Registration!$D96=\"J\",COUNTBLANK(E97)=0),placingpoints(E97,COUNTIF(E$3:E$101,\"=\"&E97)),\"\")","v":""},{"$f":"IF(Registration!$D96=\"J\",Accuracy!L96,\"\")","v":""},{"$f":"IF(AND(Registration!$D96=\"J\",COUNTBLANK(G97)=0),RANK(G97,G$3:G$102,0),\"\")","v":""},{"$f":"IF(AND(Registration!$D96=\"J\",COUNTBLANK(H97)=0),placingpoints(H97,COUNTIF(H$3:H$102,\"=\"&H97)),\"\")","v":""},{"$f":"IF(Registration!D96=\"J\",MTA!G96,\"\")","v":""},{"$f":"IF(AND(Registration!D96=\"J\",COUNTBLANK(J97)=0),RANK(J97,J$3:J$101,0),\"\")","v":""},{"$f":"IF(AND(Registration!$D96=\"J\",COUNTBLANK(K97)=0),placingpoints(K97,COUNTIF(K$3:K$101,\"=\"&K97)),\"\")","v":""},{"$f":"IF(Registration!D96=\"J\",'Trick Catch'!X97,\"\")","v":""},{"$f":"IF(AND(Registration!D96=\"J\",COUNTBLANK(M97)=0),RANK(M97,M$3:M$101,0),\"\")","v":""},{"$f":"IF(AND(Registration!$D96=\"J\",COUNTBLANK(N97)=0),placingpoints(N97,COUNTIF(N$3:N$101,\"=\"&N97)),\"\")","v":""},{"$f":"IF(Registration!D96=\"J\",'Fast Catch'!F96,\"\")","v":""},{"$f":"IF(AND(Registration!D96=\"J\",COUNTBLANK(P97)=0),RANK(P97,P$3:P$101,1),\"\")","v":""},{"$f":"IF(AND(Registration!$D96=\"J\",COUNTBLANK(Q97)=0),placingpoints(Q97,COUNTIF(Q$3:Q$101,\"=\"&Q97)),\"\")","v":""},{"$f":"IF(Registration!D96=\"J\",Endurance!C96,\"\")","v":""},{"$f":"IF(AND(Registration!D96=\"J\",COUNTBLANK(S97)=0),RANK(S97,S$3:S$101,0),\"\")","v":""},{"$f":"IF(AND(Registration!$D96=\"J\",COUNTBLANK(T97)=0),placingpoints(T97,COUNTIF(T$3:T$101,\"=\"&T97)),\"\")","v":""}]
[{"$f":"IF(Registration!D97=\"J\",RANK(B98,$B$3:$B$101,1),\"\")","v":""},{"$f":"IF(Registration!D97=\"J\",SUM(F98,I98,L98,O98,R98,U98),\"\")","v":""},{"$f":"IF(COUNTBLANK(Registration!B97)=1,\"\",IF(Registration!D97=\"J\",Registration!B97,\"\"))","v":""},{"$f":"IF(Registration!D97=\"J\",'Aussie Round'!V98,\"\")","v":""},{"$f":"IF(AND(Registration!D97=\"J\",COUNTBLANK(D98)=0),RANK(D98,D$3:D$101,0),\"\")","v":""},{"$f":"IF(AND(Registration!$D97=\"J\",COUNTBLANK(E98)=0),placingpoints(E98,COUNTIF(E$3:E$101,\"=\"&E98)),\"\")","v":""},{"$f":"IF(Registration!$D97=\"J\",Accuracy!L97,\"\")","v":""},{"$f":"IF(AND(Registration!$D97=\"J\",COUNTBLANK(G98)=0),RANK(G98,G$3:G$102,0),\"\")","v":""},{"$f":"IF(AND(Registration!$D97=\"J\",COUNTBLANK(H98)=0),placingpoints(H98,COUNTIF(H$3:H$102,\"=\"&H98)),\"\")","v":""},{"$f":"IF(Registration!D97=\"J\",MTA!G97,\"\")","v":""},{"$f":"IF(AND(Registration!D97=\"J\",COUNTBLANK(J98)=0),RANK(J98,J$3:J$101,0),\"\")","v":""},{"$f":"IF(AND(Registration!$D97=\"J\",COUNTBLANK(K98)=0),placingpoints(K98,COUNTIF(K$3:K$101,\"=\"&K98)),\"\")","v":""},{"$f":"IF(Registration!D97=\"J\",'Trick Catch'!X98,\"\")","v":""},{"$f":"IF(AND(Registration!D97=\"J\",COUNTBLANK(M98)=0),RANK(M98,M$3:M$101,0),\"\")","v":""},{"$f":"IF(AND(Registration!$D97=\"J\",COUNTBLANK(N98)=0),placingpoints(N98,COUNTIF(N$3:N$101,\"=\"&N98)),\"\")","v":""},{"$f":"IF(Registration!D97=\"J\",'Fast Catch'!F97,\"\")","v":""},{"$f":"IF(AND(Registration!D97=\"J\",COUNTBLANK(P98)=0),RANK(P98,P$3:P$101,1),\"\")","v":""},{"$f":"IF(AND(Registration!$D97=\"J\",COUNTBLANK(Q98)=0),placingpoints(Q98,COUNTIF(Q$3:Q$101,\"=\"&Q98)),\"\")","v":""},{"$f":"IF(Registration!D97=\"J\",Endurance!C97,\"\")","v":""},{"$f":"IF(AND(Registration!D97=\"J\",COUNTBLANK(S98)=0),RANK(S98,S$3:S$101,0),\"\")","v":""},{"$f":"IF(AND(Registration!$D97=\"J\",COUNTBLANK(T98)=0),placingpoints(T98,COUNTIF(T$3:T$101,\"=\"&T98)),\"\")","v":""}]
[{"$f":"IF(Registration!D98=\"J\",RANK(B99,$B$3:$B$101,1),\"\")","v":""},{"$f":"IF(Registration!D98=\"J\",SUM(F99,I99,L99,O99,R99,U99),\"\")","v":""},{"$f":"IF(COUNTBLANK(Registration!B98)=1,\"\",IF(Registration!D98=\"J\",Registration!B98,\"\"))","v":""},{"$f":"IF(Registration!D98=\"J\",'Aussie Round'!V99,\"\")","v":""},{"$f":"IF(AND(Registration!D98=\"J\",COUNTBLANK(D99)=0),RANK(D99,D$3:D$101,0),\"\")","v":""},{"$f":"IF(AND(Registration!$D98=\"J\",COUNTBLANK(E99)=0),placingpoints(E99,COUNTIF(E$3:E$101,\"=\"&E99)),\"\")","v":""},{"$f":"IF(Registration!$D98=\"J\",Accuracy!L98,\"\")","v":""},{"$f":"IF(AND(Registration!$D98=\"J\",COUNTBLANK(G99)=0),RANK(G99,G$3:G$102,0),\"\")","v":""},{"$f":"IF(AND(Registration!$D98=\"J\",COUNTBLANK(H99)=0),placingpoints(H99,COUNTIF(H$3:H$102,\"=\"&H99)),\"\")","v":""},{"$f":"IF(Registration!D98=\"J\",MTA!G98,\"\")","v":""},{"$f":"IF(AND(Registration!D98=\"J\",COUNTBLANK(J99)=0),RANK(J99,J$3:J$101,0),\"\")","v":""},{"$f":"IF(AND(Registration!$D98=\"J\",COUNTBLANK(K99)=0),placingpoints(K99,COUNTIF(K$3:K$101,\"=\"&K99)),\"\")","v":""},{"$f":"IF(Registration!D98=\"J\",'Trick Catch'!X99,\"\")","v":""},{"$f":"IF(AND(Registration!D98=\"J\",COUNTBLANK(M99)=0),RANK(M99,M$3:M$101,0),\"\")","v":""},{"$f":"IF(AND(Registration!$D98=\"J\",COUNTBLANK(N99)=0),placingpoints(N99,COUNTIF(N$3:N$101,\"=\"&N99)),\"\")","v":""},{"$f":"IF(Registration!D98=\"J\",'Fast Catch'!F98,\"\")","v":""},{"$f":"IF(AND(Registration!D98=\"J\",COUNTBLANK(P99)=0),RANK(P99,P$3:P$101,1),\"\")","v":""},{"$f":"IF(AND(Registration!$D98=\"J\",COUNTBLANK(Q99)=0),placingpoints(Q99,COUNTIF(Q$3:Q$101,\"=\"&Q99)),\"\")","v":""},{"$f":"IF(Registration!D98=\"J\",Endurance!C98,\"\")","v":""},{"$f":"IF(AND(Registration!D98=\"J\",COUNTBLANK(S99)=0),RANK(S99,S$3:S$101,0),\"\")","v":""},{"$f":"IF(AND(Registration!$D98=\"J\",COUNTBLANK(T99)=0),placingpoints(T99,COUNTIF(T$3:T$101,\"=\"&T99)),\"\")","v":""}]
[{"$f":"IF(Registration!D99=\"J\",RANK(B100,$B$3:$B$101,1),\"\")","v":""},{"$f":"IF(Registration!D99=\"J\",SUM(F100,I100,L100,O100,R100,U100),\"\")","v":""},{"$f":"IF(COUNTBLANK(Registration!B99)=1,\"\",IF(Registration!D99=\"J\",Registration!B99,\"\"))","v":""},{"$f":"IF(Registration!D99=\"J\",'Aussie Round'!V101,\"\")","v":""},{"$f":"IF(AND(Registration!D99=\"J\",COUNTBLANK(D100)=0),RANK(D100,D$3:D$101,0),\"\")","v":""},{"$f":"IF(AND(Registration!$D99=\"J\",COUNTBLANK(E100)=0),placingpoints(E100,COUNTIF(E$3:E$101,\"=\"&E100)),\"\")","v":""},{"$f":"IF(Registration!$D99=\"J\",Accuracy!L99,\"\")","v":""},{"$f":"IF(AND(Registration!$D99=\"J\",COUNTBLANK(G100)=0),RANK(G100,G$3:G$102,0),\"\")","v":""},{"$f":"IF(AND(Registration!$D99=\"J\",COUNTBLANK(H100)=0),placingpoints(H100,COUNTIF(H$3:H$102,\"=\"&H100)),\"\")","v":""},{"$f":"IF(Registration!D99=\"J\",MTA!G99,\"\")","v":""},{"$f":"IF(AND(Registration!D99=\"J\",COUNTBLANK(J100)=0),RANK(J100,J$3:J$101,0),\"\")","v":""},{"$f":"IF(AND(Registration!$D99=\"J\",COUNTBLANK(K100)=0),placingpoints(K100,COUNTIF(K$3:K$101,\"=\"&K100)),\"\")","v":""},{"$f":"IF(Registration!D99=\"J\",'Trick Catch'!X100,\"\")","v":""},{"$f":"IF(AND(Registration!D99=\"J\",COUNTBLANK(M100)=0),RANK(M100,M$3:M$101,0),\"\")","v":""},{"$f":"IF(AND(Registration!$D99=\"J\",COUNTBLANK(N100)=0),placingpoints(N100,COUNTIF(N$3:N$101,\"=\"&N100)),\"\")","v":""},{"$f":"IF(Registration!D99=\"J\",'Fast Catch'!F99,\"\")","v":""},{"$f":"IF(AND(Registration!D99=\"J\",COUNTBLANK(P100)=0),RANK(P100,P$3:P$101,1),\"\")","v":""},{"$f":"IF(AND(Registration!$D99=\"J\",COUNTBLANK(Q100)=0),placingpoints(Q100,COUNTIF(Q$3:Q$101,\"=\"&Q100)),\"\")","v":""},{"$f":"IF(Registration!D99=\"J\",Endurance!C99,\"\")","v":""},{"$f":"IF(AND(Registration!D99=\"J\",COUNTBLANK(S100)=0),RANK(S100,S$3:S$101,0),\"\")","v":""},{"$f":"IF(AND(Registration!$D99=\"J\",COUNTBLANK(T100)=0),placingpoints(T100,COUNTIF(T$3:T$101,\"=\"&T100)),\"\")","v":""}]
[{"$f":"IF(Registration!D100=\"J\",RANK(B101,$B$3:$B$101,1),\"\")","v":""},{"$f":"IF(Registration!D100=\"J\",SUM(F101,I101,L101,O101,R101,U101),\"\")","v":""},{"$f":"IF(COUNTBLANK(Registration!B100)=1,\"\",IF(Registration!D100=\"J\",Registration!B100,\"\"))","v":""},{"$f":"IF(Registration!D100=\"J\",'Aussie Round'!V102,\"\")","v":""},{"$f":"IF(AND(Registration!D100=\"J\",COUNTBLANK(D101)=0),RANK(D101,D$3:D$101,0),\"\")","v":""},{"$f":"IF(AND(Registration!$D100=\"J\",COUNTBLANK(E101)=0),placingpoints(E101,COUNTIF(E$3:E$101,\"=\"&E101)),\"\")","v":""},{"$f":"IF(Registration!$D100=\"J\",Accuracy!L100,\"\")","v":""},{"$f":"IF(AND(Registration!$D100=\"J\",COUNTBLANK(G101)=0),RANK(G101,G$3:G$102,0),\"\")","v":""},{"$f":"IF(AND(Registration!$D100=\"J\",COUNTBLANK(H101)=0),placingpoints(H101,COUNTIF(H$3:H$102,\"=\"&H101)),\"\")","v":""},{"$f":"IF(Registration!D100=\"J\",MTA!G100,\"\")","v":""},{"$f":"IF(AND(Registration!D100=\"J\",COUNTBLANK(J101)=0),RANK(J101,J$3:J$101,0),\"\")","v":""},{"$f":"IF(AND(Registration!$D100=\"J\",COUNTBLANK(K101)=0),placingpoints(K101,COUNTIF(K$3:K$101,\"=\"&K101)),\"\")","v":""},{"$f":"IF(Registration!D100=\"J\",'Trick Catch'!X101,\"\")","v":""},{"$f":"IF(AND(Registration!D100=\"J\",COUNTBLANK(M101)=0),RANK(M101,M$3:M$101,0),\"\")","v":""},{"$f":"IF(AND(Registration!$D100=\"J\",COUNTBLANK(N101)=0),placingpoints(N101,COUNTIF(N$3:N$101,\"=\"&N101)),\"\")","v":""},{"$f":"IF(Registration!D100=\"J\",'Fast Catch'!F100,\"\")","v":""},{"$f":"IF(AND(Registration!D100=\"J\",COUNTBLANK(P101)=0),RANK(P101,P$3:P$101,1),\"\")","v":""},{"$f":"IF(AND(Registration!$D100=\"J\",COUNTBLANK(Q101)=0),placingpoints(Q101,COUNTIF(Q$3:Q$101,\"=\"&Q101)),\"\")","v":""},{"$f":"IF(Registration!D100=\"J\",Endurance!C100,\"\")","v":""},{"$f":"IF(AND(Registration!D100=\"J\",COUNTBLANK(S101)=0),RANK(S101,S$3:S$101,0),\"\")","v":""},{"$f":"IF(AND(Registration!$D100=\"J\",COUNTBLANK(T101)=0),placingpoints(T101,COUNTIF(T$3:T$101,\"=\"&T101)),\"\")","v":""}]